Workbook
Name boharim: siot!$N$5:$N$1887
Name date_update: siot!$O$1
Name date_update: rosh!$M$1
Name ishuv: siot!$D$5:$D$1887
Name netunim_rosh: rosh!$B$3:$L$711
Name netunim_rosh_rashut: rosh!$B$3:$N$711
Name netunim_siot: siot!$B$4:$O$1887
Name S_Yeshuv: rosh!$C$4
Name S_Yeshuv: siot!$C$4
Name תוצאות_בחירות: siot!$B$3:$AB$1887

Sheet ריכוז נתונים
G1: מאפייני ישוב
B2: שם הישוב | C2: מספר מושבים | D2: אוכלוסיה באלפים | E2: אחוז החסימה | F2: מספר נשים במועצה | G2: רוב לא יהודי | H2: קו ירוק | I2: חרדי
B3: אבו גוש | C3: 9 | D3: 7 | F3: =SUMIF(DataSheet!$A$2:$A$20014,'ריכוז נתונים'!B3,DataSheet!$K$2:$K$20014) -> 0 | G3: 1
B4: אבו סנאן | C4: 11 | D4: 12 | F4: =SUMIF(DataSheet!$A$2:$A$20014,'ריכוז נתונים'!B4,DataSheet!$K$2:$K$20014) -> 0 | G4: 1
B5: אבן יהודה | C5: 11 | D5: 12 | F5: =SUMIF(DataSheet!$A$2:$A$20014,'ריכוז נתונים'!B5,DataSheet!$K$2:$K$20014) -> 3
B6: אום אל-פחם | C6: 17 | D6: 50 | F6: =SUMIF(DataSheet!$A$2:$A$20014,'ריכוז נתונים'!B6,DataSheet!$K$2:$K$20014) -> 0 | G6: 1
B7: אופקים | C7: 15 | D7: 27 | F7: =SUMIF(DataSheet!$A$2:$A$20014,'ריכוז נתונים'!B7,DataSheet!$K$2:$K$20014) -> 0
B8: אור יהודה | C8: 15 | D8: 36 | F8: =SUMIF(DataSheet!$A$2:$A$20014,'ריכוז נתונים'!B8,DataSheet!$K$2:$K$20014) -> 6
B9: אור עקיבא | C9: 13 | D9: 19 | F9: =SUMIF(DataSheet!$A$2:$A$20014,'ריכוז נתונים'!B9,DataSheet!$K$2:$K$20014) -> 1
B10: אורנית | C10: 9 | D10: 8 | F10: =SUMIF(DataSheet!$A$2:$A$20014,'ריכוז נתונים'!B10,DataSheet!$K$2:$K$20014) -> 0 | H10: 1
B11: אזור | C11: 11 | D11: 12 | F11: =SUMIF(DataSheet!$A$2:$A$20014,'ריכוז נתונים'!B11,DataSheet!$K$2:$K$20014) -> 2
B12: אילת | C12: 17 | D12: 61 | F12: =SUMIF(DataSheet!$A$2:$A$20014,'ריכוז נתונים'!B12,DataSheet!$K$2:$K$20014) -> 3
B13: אכסאל | C13: 11 | D13: 13 | F13: =SUMIF(DataSheet!$A$2:$A$20014,'ריכוז נתונים'!B13,DataSheet!$K$2:$K$20014) -> 0 | G13: 1
B14: אליכין | C14: 9 | D14: 3 | F14: =SUMIF(DataSheet!$A$2:$A$20014,'ריכוז נתונים'!B14,DataSheet!$K$2:$K$20014) -> 2 | H14: 1
B15: אלעד | C15: 15 | D15: 41 | F15: =SUMIF(DataSheet!$A$2:$A$20014,'ריכוז נתונים'!B15,DataSheet!$K$2:$K$20014) -> 0 | I15: 1
B16: אלפי מנשה | C16: 9 | D16: 8 | F16: =SUMIF(DataSheet!$A$2:$A$20014,'ריכוז נתונים'!B16,DataSheet!$K$2:$K$20014) -> 2
B17: אלקנה | C17: 9 | D17: 4 | F17: =SUMIF(DataSheet!$A$2:$A$20014,'ריכוז נתונים'!B17,DataSheet!$K$2:$K$20014) -> 1 | H17: 1
B18: אפרתה | C18: 9 | D18: 9 | F18: =SUMIF(DataSheet!$A$2:$A$20014,'ריכוז נתונים'!B18,DataSheet!$K$2:$K$20014) -> 3 | H18: 1
B19: אריאל | C19: 13 | D19: 18.5 | F19: =SUMIF(DataSheet!$A$2:$A$20014,'ריכוז נתונים'!B19,DataSheet!$K$2:$K$20014) -> 4 | H19: 1
B20: אשדוד | C20: 27 | D20: 240 | F20: =SUMIF(DataSheet!$A$2:$A$20014,'ריכוז נתונים'!B20,DataSheet!$K$2:$K$20014) -> 3
B21: אשקלון | C21: 23 | D21: 132 | F21: =SUMIF(DataSheet!$A$2:$A$20014,'ריכוז נתונים'!B21,DataSheet!$K$2:$K$20014) -> 4
B22: באר יעקב | C22: 11 | D22: 14 | F22: =SUMIF(DataSheet!$A$2:$A$20014,'ריכוז נתונים'!B22,DataSheet!$K$2:$K$20014) -> 2
B23: באר שבע | C23: 27 | D23: 209 | F23: =SUMIF(DataSheet!$A$2:$A$20014,'ריכוז נתונים'!B23,DataSheet!$K$2:$K$20014) -> 9
B24: בועיינה-נוג'ידאת | C24: 9 | D24: 8.8 | F24: =SUMIF(DataSheet!$A$2:$A$20014,'ריכוז נתונים'!B24,DataSheet!$K$2:$K$20014) -> 0 | G24: 1
B25: ביר אל-מכסור | C25: 9 | D25: 8.8 | F25: =SUMIF(DataSheet!$A$2:$A$20014,'ריכוז נתונים'!B25,DataSheet!$K$2:$K$20014) -> 0 | G25: 1
B26: בית אל | C26: 9 | D26: 6 | F26: =SUMIF(DataSheet!$A$2:$A$20014,'ריכוז נתונים'!B26,DataSheet!$K$2:$K$20014) -> 0 | H26: 1
B27: בית אריה | C27: 9 | D27: 4.3 | F27: =SUMIF(DataSheet!$A$2:$A$20014,'ריכוז נתונים'!B27,DataSheet!$K$2:$K$20014) -> 2 | H27: 1
B28: בית ג'ן | C28: 11 | D28: 11 | F28: =SUMIF(DataSheet!$A$2:$A$20014,'ריכוז נתונים'!B28,DataSheet!$K$2:$K$20014) -> 0 | G28: 1
B29: בית דגן | C29: 9 | D29: 6.8 | F29: =SUMIF(DataSheet!$A$2:$A$20014,'ריכוז נתונים'!B29,DataSheet!$K$2:$K$20014) -> 2
B30: בית שאן | C30: 13 | D30: 19 | F30: =SUMIF(DataSheet!$A$2:$A$20014,'ריכוז נתונים'!B30,DataSheet!$K$2:$K$20014) -> 1
B31: בית שמש | C31: 19 | D31: 97 | F31: =SUMIF(DataSheet!$A$2:$A$20014,'ריכוז נתונים'!B31,DataSheet!$K$2:$K$20014) -> 2
B32: ביתר עלית | C32: 15 | D32: 46 | F32: =SUMIF(DataSheet!$A$2:$A$20014,'ריכוז נתונים'!B32,DataSheet!$K$2:$K$20014) -> 0 | H32: 1 | I32: 1
B33: בני ברק | C33: 25 | D33: 180 | F33: =SUMIF(DataSheet!$A$2:$A$20014,'ריכוז נתונים'!B33,DataSheet!$K$2:$K$20014) -> 0 | I33: 1
B34: בני עי"ש | C34: 9 | D34: 7.5 | F34: =SUMIF(DataSheet!$A$2:$A$20014,'ריכוז נתונים'!B34,DataSheet!$K$2:$K$20014) -> 2
B35: בנימינה-גבעת עדה | C35: 11 | D35: 13.8 | F35: =SUMIF(DataSheet!$A$2:$A$20014,'ריכוז נתונים'!B35,DataSheet!$K$2:$K$20014) -> 4
B36: בסמ"ה | C36: 9 | D36: 9 | F36: =SUMIF(DataSheet!$A$2:$A$20014,'ריכוז נתונים'!B36,DataSheet!$K$2:$K$20014) -> 0 | G36: 1
B37: בסמת טבעון | C37: 9 | D37: 7 | F37: =SUMIF(DataSheet!$A$2:$A$20014,'ריכוז נתונים'!B37,DataSheet!$K$2:$K$20014) -> 0 | G37: 1
B38: בענה | C38: 9 | D38: 7.7 | F38: =SUMIF(DataSheet!$A$2:$A$20014,'ריכוז נתונים'!B38,DataSheet!$K$2:$K$20014) -> 0 | G38: 1
B39: בת ים | C39: 25 | D39: 157 | F39: =SUMIF(DataSheet!$A$2:$A$20014,'ריכוז נתונים'!B39,DataSheet!$K$2:$K$20014) -> 6
B40: ג'דיידה-מכר | C40: 13 | D40: 19 | F40: =SUMIF(DataSheet!$A$2:$A$20014,'ריכוז נתונים'!B40,DataSheet!$K$2:$K$20014) -> 0 | G40: 1
...

Sheet DataSheet
A1: שם ישוב | B1: אותיות | D1: כינוי | E1: מועמד לר.רשות | F1: מס' סידורי | G1: מספר מושבים במועצה | H1: נכנס למועצה? | I1: תפקיד | J1: שם | K1: גבר או 1?
A2: אבו גוש | B2: א | D2: אבו גוש המאוחדת | E2: כ
A3: אבו גוש | B3: א | C3: =B3&" "&A3 -> א אבו גוש | D3: אבו גוש המאוחדת | E3: מועמד לראש רשות | F3: 1 | G3: =INDEX(תוצאות_בחירות,MATCH(C3,siot!$F$3:$F$1887,0),27) -> 3 | H3: =IF(OR(F3<G3,G3=F3),TRUE,FALSE) -> TRUE | I3: מועמד למועצה | J3: איברהים עזמי
A4: אבו גוש | B4: א | C4: =B4&" "&A4 -> א אבו גוש | D4: אבו גוש המאוחדת | F4: 2 | G4: =INDEX(תוצאות_בחירות,MATCH(C4,siot!$F$3:$F$1887,0),27) -> 3 | H4: =IF(OR(F4<G4,G4=F4),TRUE,FALSE) -> TRUE | I4: מועמד למועצה | J4: איברהים יוסף
A5: אבו גוש | B5: א | C5: =B5&" "&A5 -> א אבו גוש | D5: אבו גוש המאוחדת | F5: 3 | G5: =INDEX(תוצאות_בחירות,MATCH(C5,siot!$F$3:$F$1887,0),27) -> 3 | H5: =IF(OR(F5<G5,G5=F5),TRUE,FALSE) -> TRUE | I5: מועמד למועצה | J5: איברהים ראד
A6: אבו גוש | B6: א | C6: =B6&" "&A6 -> א אבו גוש | D6: אבו גוש המאוחדת | F6: 4 | G6: =INDEX(תוצאות_בחירות,MATCH(C6,siot!$F$3:$F$1887,0),27) -> 3 | H6: =IF(OR(F6<G6,G6=F6),TRUE,FALSE) -> FALSE | I6: מועמד למועצה | J6: איבראהים פוזי
A7: אבו גוש | B7: א | C7: =B7&" "&A7 -> א אבו גוש | D7: אבו גוש המאוחדת | F7: 5 | G7: =INDEX(תוצאות_בחירות,MATCH(C7,siot!$F$3:$F$1887,0),27) -> 3 | H7: =IF(OR(F7<G7,G7=F7),TRUE,FALSE) -> FALSE | I7: מועמד למועצה | J7: איבראהים חאתם
A8: אבו גוש | B8: א | C8: =B8&" "&A8 -> א אבו גוש | D8: אבו גוש המאוחדת | F8: 6 | G8: =INDEX(תוצאות_בחירות,MATCH(C8,siot!$F$3:$F$1887,0),27) -> 3 | H8: =IF(OR(F8<G8,G8=F8),TRUE,FALSE) -> FALSE | I8: מועמד למועצה | J8: אבראהים אישביב
A9: אבו גוש | B9: א | C9: =B9&" "&A9 -> א אבו גוש | D9: אבו גוש המאוחדת | F9: 7 | G9: =INDEX(תוצאות_בחירות,MATCH(C9,siot!$F$3:$F$1887,0),27) -> 3 | H9: =IF(OR(F9<G9,G9=F9),TRUE,FALSE) -> FALSE | I9: מועמד למועצה | J9: איברהים גואדט
A10: אבו גוש | B10: א | C10: =B10&" "&A10 -> א אבו גוש | D10: אבו גוש המאוחדת | F10: 8 | G10: =INDEX(תוצאות_בחירות,MATCH(C10,siot!$F$3:$F$1887,0),27) -> 3 | H10: =IF(OR(F10<G10,G10=F10),TRUE,FALSE) -> FALSE | I10: מועמד למועצה | J10: אברהים עזיז
A11: אבו גוש | B11: א | C11: =B11&" "&A11 -> א אבו גוש | D11: אבו גוש המאוחדת | F11: 9 | G11: =INDEX(תוצאות_בחירות,MATCH(C11,siot!$F$3:$F$1887,0),27) -> 3 | H11: =IF(OR(F11<G11,G11=F11),TRUE,FALSE) -> FALSE | I11: מועמד למועצה | J11: איברהים תאופיק
A12: אבו גוש | B12: ה | C12: =B12&" "&A12 -> ה אבו גוש | D12: אלפרג' | E12: כ | G12: =INDEX(תוצאות_בחירות,MATCH(C12,siot!$F$3:$F$1887,0),27) -> 3 | H12: =IF(OR(F12<G12,G12=F12),TRUE,FALSE) -> FALSE
A13: אבו גוש | B13: ה | C13: =B13&" "&A13 -> ה אבו גוש | D13: אלפרג' | E13: מועמד לראש רשות | F13: 1 | G13: =INDEX(תוצאות_בחירות,MATCH(C13,siot!$F$3:$F$1887,0),27) -> 3 | H13: =IF(OR(F13<G13,G13=F13),TRUE,FALSE) -> TRUE | I13: מועמד למועצה | J13: עבדאל רחמן ערסן
A14: אבו גוש | B14: ה | C14: =B14&" "&A14 -> ה אבו גוש | D14: אלפרג' | F14: 2 | G14: =INDEX(תוצאות_בחירות,MATCH(C14,siot!$F$3:$F$1887,0),27) -> 3 | H14: =IF(OR(F14<G14,G14=F14),TRUE,FALSE) -> TRUE | I14: מועמד למועצה | J14: עותמן אוסמה
A15: אבו גוש | B15: ה | C15: =B15&" "&A15 -> ה אבו גוש | D15: אלפרג' | F15: 3 | G15: =INDEX(תוצאות_בחירות,MATCH(C15,siot!$F$3:$F$1887,0),27) -> 3 | H15: =IF(OR(F15<G15,G15=F15),TRUE,FALSE) -> TRUE | I15: מועמד למועצה | J15: עבדאל רחמן שוקי
A16: אבו גוש | B16: ה | C16: =B16&" "&A16 -> ה אבו גוש | D16: אלפרג' | F16: 4 | G16: =INDEX(תוצאות_בחירות,MATCH(C16,siot!$F$3:$F$1887,0),27) -> 3 | H16: =IF(OR(F16<G16,G16=F16),TRUE,FALSE) -> FALSE | I16: מועמד למועצה | J16: אבו קטיש אנוור
A17: אבו גוש | B17: ה | C17: =B17&" "&A17 -> ה אבו גוש | D17: אלפרג' | F17: 5 | G17: =INDEX(תוצאות_בחירות,MATCH(C17,siot!$F$3:$F$1887,0),27) -> 3 | H17: =IF(OR(F17<G17,G17=F17),TRUE,FALSE) -> FALSE | I17: מועמד למועצה | J17: אבו גוש איהאב
A18: אבו גוש | B18: ה | C18: =B18&" "&A18 -> ה אבו גוש | D18: אלפרג' | F18: 6 | G18: =INDEX(תוצאות_בחירות,MATCH(C18,siot!$F$3:$F$1887,0),27) -> 3 | H18: =IF(OR(F18<G18,G18=F18),TRUE,FALSE) -> FALSE | I18: מועמד למועצה | J18: עותמאן סלאח
A19: אבו גוש | B19: ה | C19: =B19&" "&A19 -> ה אבו גוש | D19: אלפרג' | F19: 7 | G19: =INDEX(תוצאות_בחירות,MATCH(C19,siot!$F$3:$F$1887,0),27) -> 3 | H19: =IF(OR(F19<G19,G19=F19),TRUE,FALSE) -> FALSE | I19: מועמד למועצה | J19: עבד אלרחמאן ריפעאת
A20: אבו גוש | B20: למ | C20: =B20&" "&A20 -> למ אבו גוש | D20: הפיתוח והשוויון | E20: כ | G20: =INDEX(תוצאות_בחירות,MATCH(C20,siot!$F$3:$F$1887,0),27) -> 4 | H20: =IF(OR(F20<G20,G20=F20),TRUE,FALSE) -> FALSE
A21: אבו גוש | B21: למ | C21: =B21&" "&A21 -> למ אבו גוש | D21: הפיתוח והשוויון | E21: מועמד לראש רשות | F21: 1 | G21: =INDEX(תוצאות_בחירות,MATCH(C21,siot!$F$3:$F$1887,0),27) -> 4 | H21: =IF(OR(F21<G21,G21=F21),TRUE,FALSE) -> TRUE | I21: מועמד למועצה | J21: גבר עיסא
A22: אבו גוש | B22: למ | C22: =B22&" "&A22 -> למ אבו גוש | D22: הפיתוח והשוויון | F22: 2 | G22: =INDEX(תוצאות_בחירות,MATCH(C22,siot!$F$3:$F$1887,0),27) -> 4 | H22: =IF(OR(F22<G22,G22=F22),TRUE,FALSE) -> TRUE | I22: מועמד למועצה | J22: ג'בר חוסין
A23: אבו גוש | B23: למ | C23: =B23&" "&A23 -> למ אבו גוש | D23: הפיתוח והשוויון | F23: 3 | G23: =INDEX(תוצאות_בחירות,MATCH(C23,siot!$F$3:$F$1887,0),27) -> 4 | H23: =IF(OR(F23<G23,G23=F23),TRUE,FALSE) -> TRUE | I23: מועמד למועצה | J23: אבו גוש גוואד
A24: אבו גוש | B24: למ | C24: =B24&" "&A24 -> למ אבו גוש | D24: הפיתוח והשוויון | F24: 4 | G24: =INDEX(תוצאות_בחירות,MATCH(C24,siot!$F$3:$F$1887,0),27) -> 4 | H24: =IF(OR(F24<G24,G24=F24),TRUE,FALSE) -> TRUE | I24: מועמד למועצה | J24: ג'בר פאדי
A25: אבו גוש | B25: למ | C25: =B25&" "&A25 -> למ אבו גוש | D25: הפיתוח והשוויון | F25: 5 | G25: =INDEX(תוצאות_בחירות,MATCH(C25,siot!$F$3:$F$1887,0),27) -> 4 | H25: =IF(OR(F25<G25,G25=F25),TRUE,FALSE) -> FALSE | I25: מועמד למועצה | J25: עבד אל רחמן ראאד
A26: אבו גוש | B26: למ | C26: =B26&" "&A26 -> למ אבו גוש | D26: הפיתוח והשוויון | F26: 6 | G26: =INDEX(תוצאות_בחירות,MATCH(C26,siot!$F$3:$F$1887,0),27) -> 4 | H26: =IF(OR(F26<G26,G26=F26),TRUE,FALSE) -> FALSE | I26: מועמד למועצה | J26: ג'בר פארס
A27: אבו גוש | B27: למ | C27: =B27&" "&A27 -> למ אבו גוש | D27: הפיתוח והשוויון | F27: 7 | G27: =INDEX(תוצאות_בחירות,MATCH(C27,siot!$F$3:$F$1887,0),27) -> 4 | H27: =IF(OR(F27<G27,G27=F27),TRUE,FALSE) -> FALSE | I27: מועמד למועצה | J27: ג'בר מוהנד
A28: אבו גוש | B28: למ | C28: =B28&" "&A28 -> למ אבו גוש | D28: הפיתוח והשוויון | F28: 8 | G28: =INDEX(תוצאות_בחירות,MATCH(C28,siot!$F$3:$F$1887,0),27) -> 4 | H28: =IF(OR(F28<G28,G28=F28),TRUE,FALSE) -> FALSE | I28: מועמד למועצה | J28: ג'בר יוסף
A29: אבו גוש | B29: ע | C29: =B29&" "&A29 -> ע אבו גוש | D29: צדק חברתי | E29: ל | G29: =INDEX(תוצאות_בחירות,MATCH(C29,siot!$F$3:$F$1887,0),27) -> 0 | H29: =IF(OR(F29<G29,G29=F29),TRUE,FALSE) -> FALSE
A30: אבו גוש | B30: ע | C30: =B30&" "&A30 -> ע אבו גוש | D30: צדק חברתי | F30: 1 | G30: =INDEX(תוצאות_בחירות,MATCH(C30,siot!$F$3:$F$1887,0),27) -> 0 | H30: =IF(OR(F30<G30,G30=F30),TRUE,FALSE) -> FALSE | I30: מועמד למועצה | J30: עותמאן אבראהים
A31: אבו גוש | B31: ע | C31: =B31&" "&A31 -> ע אבו גוש | D31: צדק חברתי | F31: 2 | G31: =INDEX(תוצאות_בחירות,MATCH(C31,siot!$F$3:$F$1887,0),27) -> 0 | H31: =IF(OR(F31<G31,G31=F31),TRUE,FALSE) -> FALSE | I31: מועמד למועצה | J31: עבדאל רחמן פאויזי
A32: אבו גוש | B32: ע | C32: =B32&" "&A32 -> ע אבו גוש | D32: צדק חברתי | F32: 3 | G32: =INDEX(תוצאות_בחירות,MATCH(C32,siot!$F$3:$F$1887,0),27) -> 0 | H32: =IF(OR(F32<G32,G32=F32),TRUE,FALSE) -> FALSE | I32: מועמד למועצה | J32: עבדאל רחמן פראס
A33: אבו גוש | B33: ע | C33: =B33&" "&A33 -> ע אבו גוש | D33: צדק חברתי | F33: 4 | G33: =INDEX(תוצאות_בחירות,MATCH(C33,siot!$F$3:$F$1887,0),27) -> 0 | H33: =IF(OR(F33<G33,G33=F33),TRUE,FALSE) -> FALSE | I33: מועמד למועצה | J33: סאלח מוחמד
A34: אבו גוש | B34: ע | C34: =B34&" "&A34 -> ע אבו גוש | D34: צדק חברתי | F34: 5 | G34: =INDEX(תוצאות_בחירות,MATCH(C34,siot!$F$3:$F$1887,0),27) -> 0 | H34: =IF(OR(F34<G34,G34=F34),TRUE,FALSE) -> FALSE | I34: מועמד למועצה | J34: עבד אל רחמן מוסטפה
A35: אבו גוש | B35: ץ | C35: =B35&" "&A35 -> ץ אבו גוש | D35: רפורמה ובינוי | E35: ל | G35: =INDEX(תוצאות_בחירות,MATCH(C35,siot!$F$3:$F$1887,0),27) -> 0 | H35: =IF(OR(F35<G35,G35=F35),TRUE,FALSE) -> FALSE
A36: אבו גוש | B36: ץ | C36: =B36&" "&A36 -> ץ אבו גוש | D36: רפורמה ובינוי | F36: 1 | G36: =INDEX(תוצאות_בחירות,MATCH(C36,siot!$F$3:$F$1887,0),27) -> 0 | H36: =IF(OR(F36<G36,G36=F36),TRUE,FALSE) -> FALSE | I36: מועמד למועצה | J36: עבדול רחמן סאלח
A37: אבו גוש | B37: ץ | C37: =B37&" "&A37 -> ץ אבו גוש | D37: רפורמה ובינוי | F37: 2 | G37: =INDEX(תוצאות_בחירות,MATCH(C37,siot!$F$3:$F$1887,0),27) -> 0 | H37: =IF(OR(F37<G37,G37=F37),TRUE,FALSE) -> FALSE | I37: מועמד למועצה | J37: עבד אל רחמן אלכס
A38: אבו גוש | B38: ץ | C38: =B38&" "&A38 -> ץ אבו גוש | D38: רפורמה ובינוי | F38: 3 | G38: =INDEX(תוצאות_בחירות,MATCH(C38,siot!$F$3:$F$1887,0),27) -> 0 | H38: =IF(OR(F38<G38,G38=F38),TRUE,FALSE) -> FALSE | I38: מועמד למועצה | J38: עבדאל רחמן רדוואן
A39: אבו גוש | B39: ץ | C39: =B39&" "&A39 -> ץ אבו גוש | D39: רפורמה ובינוי | F39: 4 | G39: =INDEX(תוצאות_בחירות,MATCH(C39,siot!$F$3:$F$1887,0),27) -> 0 | H39: =IF(OR(F39<G39,G39=F39),TRUE,FALSE) -> FALSE | I39: מועמד למועצה | J39: עבדול רחמן עאדל
A40: אבו גוש | B40: ץ | C40: =B40&" "&A40 -> ץ אבו גוש | D40: רפורמה ובינוי | F40: 5 | G40: =INDEX(תוצאות_בחירות,MATCH(C40,siot!$F$3:$F$1887,0),27) -> 0 | H40: =IF(OR(F40<G40,G40=F40),TRUE,FALSE) -> FALSE | I40: מועמד למועצה | J40: עבד אלרחמן פאדי
...

Sheet siot
L1: עודכן ב: | O1: 23/10/2013 14:42:47
B3: סמל ישוב | C3: שם ישוב | D3: בז"ב | E3: אותיות | G3: שם | H3: שם מועמד לראש רשות | J3: סך קולות כשרים מדווח | K3: סה"כ קולות כשרים | L3: % קולות לרשימה | M3: קולות כשרים לרשימה | N3: % מחושב | O3: בוחרים מחושב | P3: מספר המושבים | Q3: האם עבר את אחוז החסימה | R3: מספר מושבים | V3: תוספת ראש העיר
B4: 472 | C4: אבו גוש | D4: 4617 | E4: למ | F4: =E4&" "&C4 -> למ אבו גוש | G4: הפיתוח והשוויון | H4: גבר עיסא | I4: =C4&" "&H4 -> אבו גוש גבר עיסא | J4: 3836 | K4: 3836 | L4: 0.60631939 | M4: 1420 | N4: 0.60631939 | O4: 1420 | P4: =VLOOKUP(C4,'ריכוז נתונים'!$B$3:$C$189,2) -> 9 | Q4: =IF(M4>K4/P4*0.75,TRUE,FALSE) -> TRUE | R4: =IF(Q4=TRUE,ROUND(P4*M4/K4,1),0) -> 3.3 | S4: =ROUND(K4/P4,0) -> 426 | T4: =SUMIF($C$4:$C$1887,C4,$R$4:$R$1887) -> 7.7 | U4: =IF(T4<>P4,"Gap","") -> Gap | V4: =IF(ISERROR(IF(INDEX(rosh!$O$4:$P$710,MATCH(I4,rosh!$O$4:$O$710,0),2)="Mayor",1,)),0,IF(INDEX(rosh!$O$4:$P$710,MATCH(I4,rosh!$O$4:$O$710,0),2)="Mayor",1,)) -> 1 | W4: =Q4&" "&C4 -> TRUE אבו גוש | X4: =SUMIF($W$4:$W$1887,W4,$M$4:$M$41887) -> 3265 | Y4: =IF(Q4=TRUE,ROUND(P4*M4/X4,0),) -> 4 | Z4: =SUMIF($C$4:$C$1887,C4,$Y$4:$Y$1887) -> 10 | AA4: =IF(Z4<>P4,"Gap","") -> Gap | AB4: =IF(AND(V4=1,OR(Z4=P4,Z4<P4)),Y4+1,Y4) -> 4
B5: 472 | C5: אבו גוש | D5: 4617 | E5: א | F5: =E5&" "&C5 -> א אבו גוש | G5: אבו גוש המאוחדת | H5: איברהים עזמי | I5: =C5&" "&H5 -> אבו גוש איברהים עזמי | J5: 3836 | K5: 3836 | L5: 0.3941076 | M5: 923 | N5: 0.3941076 | O5: 923 | P5: =VLOOKUP(C5,'ריכוז נתונים'!$B$3:$C$189,2) -> 9 | Q5: =IF(M5>K5/P5*0.75,TRUE,FALSE) -> TRUE | R5: =IF(Q5=TRUE,ROUND(P5*M5/K5,1),0) -> 2.2 | S5: =ROUND(K5/P5,0) -> 426 | T5: =SUMIF($C$4:$C$1887,C5,$R$4:$R$1887) -> 7.7 | U5: =IF(T5<>P5,"Gap","") -> Gap | V5: =IF(ISERROR(IF(INDEX(rosh!$O$4:$P$710,MATCH(I5,rosh!$O$4:$O$710,0),2)="Mayor",1,)),0,IF(INDEX(rosh!$O$4:$P$710,MATCH(I5,rosh!$O$4:$O$710,0),2)="Mayor",1,)) -> 0 | W5: =Q5&" "&C5 -> TRUE אבו גוש | X5: =SUMIF($W$4:$W$1887,W5,$M$4:$M$41887) -> 3265 | Y5: =IF(Q5=TRUE,ROUND(P5*M5/X5,0),) -> 3 | Z5: =SUMIF($C$4:$C$1887,C5,$Y$4:$Y$1887) -> 10 | AA5: =IF(Z5<>P5,"Gap","") -> Gap | AB5: =IF(AND(V5=1,OR(Z5=P5,Z5<P5)),Y5+1,Y5) -> 3
B6: 472 | C6: אבו גוש | D6: 4617 | E6: ה | F6: =E6&" "&C6 -> ה אבו גוש | G6: אלפרג' | H6: עבדאל רחמן ערסן | I6: =C6&" "&H6 -> אבו גוש עבדאל רחמן ערסן | J6: 3836 | K6: 3836 | L6: 0.39368061 | M6: 922 | N6: 0.39368061 | O6: 922 | P6: =VLOOKUP(C6,'ריכוז נתונים'!$B$3:$C$189,2) -> 9 | Q6: =IF(M6>K6/P6*0.75,TRUE,FALSE) -> TRUE | R6: =IF(Q6=TRUE,ROUND(P6*M6/K6,1),0) -> 2.2 | S6: =ROUND(K6/P6,0) -> 426 | T6: =SUMIF($C$4:$C$1887,C6,$R$4:$R$1887) -> 7.7 | U6: =IF(T6<>P6,"Gap","") -> Gap | V6: =IF(ISERROR(IF(INDEX(rosh!$O$4:$P$710,MATCH(I6,rosh!$O$4:$O$710,0),2)="Mayor",1,)),0,IF(INDEX(rosh!$O$4:$P$710,MATCH(I6,rosh!$O$4:$O$710,0),2)="Mayor",1,)) -> 0 | W6: =Q6&" "&C6 -> TRUE אבו גוש | X6: =SUMIF($W$4:$W$1887,W6,$M$4:$M$41887) -> 3265 | Y6: =IF(Q6=TRUE,ROUND(P6*M6/X6,0),) -> 3 | Z6: =SUMIF($C$4:$C$1887,C6,$Y$4:$Y$1887) -> 10 | AA6: =IF(Z6<>P6,"Gap","") -> Gap | AB6: =IF(AND(V6=1,OR(Z6=P6,Z6<P6)),Y6+1,Y6) -> 3
B7: 472 | C7: אבו גוש | D7: 4617 | E7: ץ | F7: =E7&" "&C7 -> ץ אבו גוש | G7: רפורמה ובינוי | I7: =C7&" "&H7 -> אבו גוש | J7: 3836 | K7: 3836 | L7: 0.12596072 | M7: 295 | N7: 0.12596072 | O7: 295 | P7: =VLOOKUP(C7,'ריכוז נתונים'!$B$3:$C$189,2) -> 9 | Q7: =IF(M7>K7/P7*0.75,TRUE,FALSE) -> FALSE | R7: =IF(Q7=TRUE,ROUND(P7*M7/K7,1),0) -> 0 | S7: =ROUND(K7/P7,0) -> 426 | T7: =SUMIF($C$4:$C$1887,C7,$R$4:$R$1887) -> 7.7 | U7: =IF(T7<>P7,"Gap","") -> Gap | V7: =IF(ISERROR(IF(INDEX(rosh!$O$4:$P$710,MATCH(I7,rosh!$O$4:$O$710,0),2)="Mayor",1,)),0,IF(INDEX(rosh!$O$4:$P$710,MATCH(I7,rosh!$O$4:$O$710,0),2)="Mayor",1,)) -> 0 | W7: =Q7&" "&C7 -> FALSE אבו גוש | X7: =SUMIF($W$4:$W$1887,W7,$M$4:$M$41887) -> 571 | Y7: =IF(Q7=TRUE,ROUND(P7*M7/X7,0),) -> 0 | Z7: =SUMIF($C$4:$C$1887,C7,$Y$4:$Y$1887) -> 10 | AA7: =IF(Z7<>P7,"Gap","") -> Gap | AB7: =IF(AND(V7=1,OR(Z7=P7,Z7<P7)),Y7+1,Y7) -> 0
B8: 472 | C8: אבו גוש | D8: 4617 | E8: ע | F8: =E8&" "&C8 -> ע אבו גוש | G8: צדק חברתי | I8: =C8&" "&H8 -> אבו גוש | J8: 3836 | K8: 3836 | L8: 0.11784799 | M8: 276 | N8: 0.11784799 | O8: 276 | P8: =VLOOKUP(C8,'ריכוז נתונים'!$B$3:$C$189,2) -> 9 | Q8: =IF(M8>K8/P8*0.75,TRUE,FALSE) -> FALSE | R8: =IF(Q8=TRUE,ROUND(P8*M8/K8,1),0) -> 0 | S8: =ROUND(K8/P8,0) -> 426 | T8: =SUMIF($C$4:$C$1887,C8,$R$4:$R$1887) -> 7.7 | U8: =IF(T8<>P8,"Gap","") -> Gap | V8: =IF(ISERROR(IF(INDEX(rosh!$O$4:$P$710,MATCH(I8,rosh!$O$4:$O$710,0),2)="Mayor",1,)),0,IF(INDEX(rosh!$O$4:$P$710,MATCH(I8,rosh!$O$4:$O$710,0),2)="Mayor",1,)) -> 0 | W8: =Q8&" "&C8 -> FALSE אבו גוש | X8: =SUMIF($W$4:$W$1887,W8,$M$4:$M$41887) -> 571 | Y8: =IF(Q8=TRUE,ROUND(P8*M8/X8,0),) -> 0 | Z8: =SUMIF($C$4:$C$1887,C8,$Y$4:$Y$1887) -> 10 | AA8: =IF(Z8<>P8,"Gap","") -> Gap | AB8: =IF(AND(V8=1,OR(Z8=P8,Z8<P8)),Y8+1,Y8) -> 0
B9: 473 | C9: אבו סנאן | D9: 8354 | E9: ו | F9: =E9&" "&C9 -> ו אבו סנאן | G9: חד"ש | I9: =C9&" "&H9 -> אבו סנאן | J9: 6989 | K9: 6989 | L9: 0.21734154 | M9: 1519 | N9: 0.21734154 | O9: 1519 | P9: =VLOOKUP(C9,'ריכוז נתונים'!$B$3:$C$189,2) -> 11 | Q9: =IF(M9>K9/P9*0.75,TRUE,FALSE) -> TRUE | R9: =IF(Q9=TRUE,ROUND(P9*M9/K9,1),0) -> 2.4 | S9: =ROUND(K9/P9,0) -> 635 | T9: =SUMIF($C$4:$C$1887,C9,$R$4:$R$1887) -> 10.3 | U9: =IF(T9<>P9,"Gap","") -> Gap | V9: =IF(ISERROR(IF(INDEX(rosh!$O$4:$P$710,MATCH(I9,rosh!$O$4:$O$710,0),2)="Mayor",1,)),0,IF(INDEX(rosh!$O$4:$P$710,MATCH(I9,rosh!$O$4:$O$710,0),2)="Mayor",1,)) -> 0 | W9: =Q9&" "&C9 -> TRUE אבו סנאן | X9: =SUMIF($W$4:$W$1887,W9,$M$4:$M$41887) -> 6542 | Y9: =IF(Q9=TRUE,ROUND(P9*M9/X9,0),) -> 3 | Z9: =SUMIF($C$4:$C$1887,C9,$Y$4:$Y$1887) -> 11 | AA9: =IF(Z9<>P9,"Gap","") | AB9: =IF(AND(V9=1,OR(Z9=P9,Z9<P9)),Y9+1,Y9) -> 3
B10: 473 | C10: אבו סנאן | D10: 8354 | E10: מ | F10: =E10&" "&C10 -> מ אבו סנאן | G10: אמנאר | I10: =C10&" "&H10 -> אבו סנאן | J10: 6989 | K10: 6989 | L10: 0.15080841 | M10: 1054 | N10: 0.15080841 | O10: 1054 | P10: =VLOOKUP(C10,'ריכוז נתונים'!$B$3:$C$189,2) -> 11 | Q10: =IF(M10>K10/P10*0.75,TRUE,FALSE) -> TRUE | R10: =IF(Q10=TRUE,ROUND(P10*M10/K10,1),0) -> 1.7 | S10: =ROUND(K10/P10,0) -> 635 | T10: =SUMIF($C$4:$C$1887,C10,$R$4:$R$1887) -> 10.3 | U10: =IF(T10<>P10,"Gap","") -> Gap | V10: =IF(ISERROR(IF(INDEX(rosh!$O$4:$P$710,MATCH(I10,rosh!$O$4:$O$710,0),2)="Mayor",1,)),0,IF(INDEX(rosh!$O$4:$P$710,MATCH(I10,rosh!$O$4:$O$710,0),2)="Mayor",1,)) -> 0 | W10: =Q10&" "&C10 -> TRUE אבו סנאן | X10: =SUMIF($W$4:$W$1887,W10,$M$4:$M$41887) -> 6542 | Y10: =IF(Q10=TRUE,ROUND(P10*M10/X10,0),) -> 2 | Z10: =SUMIF($C$4:$C$1887,C10,$Y$4:$Y$1887) -> 11 | AA10: =IF(Z10<>P10,"Gap","") | AB10: =IF(AND(V10=1,OR(Z10=P10,Z10<P10)),Y10+1,Y10) -> 2
B11: 473 | C11: אבו סנאן | D11: 8354 | E11: אד | F11: =E11&" "&C11 -> אד אבו סנאן | G11: הדרוזית המאוחדת | I11: =C11&" "&H11 -> אבו סנאן | J11: 6989 | K11: 6989 | L11: 0.14680212 | M11: 1026 | N11: 0.14680212 | O11: 1026 | P11: =VLOOKUP(C11,'ריכוז נתונים'!$B$3:$C$189,2) -> 11 | Q11: =IF(M11>K11/P11*0.75,TRUE,FALSE) -> TRUE | R11: =IF(Q11=TRUE,ROUND(P11*M11/K11,1),0) -> 1.6 | S11: =ROUND(K11/P11,0) -> 635 | T11: =SUMIF($C$4:$C$1887,C11,$R$4:$R$1887) -> 10.3 | U11: =IF(T11<>P11,"Gap","") -> Gap | V11: =IF(ISERROR(IF(INDEX(rosh!$O$4:$P$710,MATCH(I11,rosh!$O$4:$O$710,0),2)="Mayor",1,)),0,IF(INDEX(rosh!$O$4:$P$710,MATCH(I11,rosh!$O$4:$O$710,0),2)="Mayor",1,)) -> 0 | W11: =Q11&" "&C11 -> TRUE אבו סנאן | X11: =SUMIF($W$4:$W$1887,W11,$M$4:$M$41887) -> 6542 | Y11: =IF(Q11=TRUE,ROUND(P11*M11/X11,0),) -> 2 | Z11: =SUMIF($C$4:$C$1887,C11,$Y$4:$Y$1887) -> 11 | AA11: =IF(Z11<>P11,"Gap","") | AB11: =IF(AND(V11=1,OR(Z11=P11,Z11<P11)),Y11+1,Y11) -> 2
B12: 473 | C12: אבו סנאן | D12: 8354 | E12: נה | F12: =E12&" "&C12 -> נה אבו סנאן | G12: אלנזאהה | I12: =C12&" "&H12 -> אבו סנאן | J12: 6989 | K12: 6989 | L12: 0.11718415 | M12: 819 | N12: 0.11718415 | O12: 819 | P12: =VLOOKUP(C12,'ריכוז נתונים'!$B$3:$C$189,2) -> 11 | Q12: =IF(M12>K12/P12*0.75,TRUE,FALSE) -> TRUE | R12: =IF(Q12=TRUE,ROUND(P12*M12/K12,1),0) -> 1.3 | S12: =ROUND(K12/P12,0) -> 635 | T12: =SUMIF($C$4:$C$1887,C12,$R$4:$R$1887) -> 10.3 | U12: =IF(T12<>P12,"Gap","") -> Gap | V12: =IF(ISERROR(IF(INDEX(rosh!$O$4:$P$710,MATCH(I12,rosh!$O$4:$O$710,0),2)="Mayor",1,)),0,IF(INDEX(rosh!$O$4:$P$710,MATCH(I12,rosh!$O$4:$O$710,0),2)="Mayor",1,)) -> 0 | W12: =Q12&" "&C12 -> TRUE אבו סנאן | X12: =SUMIF($W$4:$W$1887,W12,$M$4:$M$41887) -> 6542 | Y12: =IF(Q12=TRUE,ROUND(P12*M12/X12,0),) -> 1 | Z12: =SUMIF($C$4:$C$1887,C12,$Y$4:$Y$1887) -> 11 | AA12: =IF(Z12<>P12,"Gap","") | AB12: =IF(AND(V12=1,OR(Z12=P12,Z12<P12)),Y12+1,Y12) -> 1
B13: 473 | C13: אבו סנאן | D13: 8354 | E13: עם | F13: =E13&" "&C13 -> עם אבו סנאן | G13: הערבית המאוחדת | I13: =C13&" "&H13 -> אבו סנאן | J13: 6989 | K13: 6989 | L13: 0.11160395 | M13: 780 | N13: 0.11160395 | O13: 780 | P13: =VLOOKUP(C13,'ריכוז נתונים'!$B$3:$C$189,2) -> 11 | Q13: =IF(M13>K13/P13*0.75,TRUE,FALSE) -> TRUE | R13: =IF(Q13=TRUE,ROUND(P13*M13/K13,1),0) -> 1.2 | S13: =ROUND(K13/P13,0) -> 635 | T13: =SUMIF($C$4:$C$1887,C13,$R$4:$R$1887) -> 10.3 | U13: =IF(T13<>P13,"Gap","") -> Gap | V13: =IF(ISERROR(IF(INDEX(rosh!$O$4:$P$710,MATCH(I13,rosh!$O$4:$O$710,0),2)="Mayor",1,)),0,IF(INDEX(rosh!$O$4:$P$710,MATCH(I13,rosh!$O$4:$O$710,0),2)="Mayor",1,)) -> 0 | W13: =Q13&" "&C13 -> TRUE אבו סנאן | X13: =SUMIF($W$4:$W$1887,W13,$M$4:$M$41887) -> 6542 | Y13: =IF(Q13=TRUE,ROUND(P13*M13/X13,0),) -> 1 | Z13: =SUMIF($C$4:$C$1887,C13,$Y$4:$Y$1887) -> 11 | AA13: =IF(Z13<>P13,"Gap","") | AB13: =IF(AND(V13=1,OR(Z13=P13,Z13<P13)),Y13+1,Y13) -> 1
B14: 473 | C14: אבו סנאן | D14: 8354 | E14: יק | F14: =E14&" "&C14 -> יק אבו סנאן | G14: אלרסאלה | I14: =C14&" "&H14 -> אבו סנאן | J14: 6989 | K14: 6989 | L14: 0.10831306 | M14: 757 | N14: 0.10831306 | O14: 757 | P14: =VLOOKUP(C14,'ריכוז נתונים'!$B$3:$C$189,2) -> 11 | Q14: =IF(M14>K14/P14*0.75,TRUE,FALSE) -> TRUE | R14: =IF(Q14=TRUE,ROUND(P14*M14/K14,1),0) -> 1.2 | S14: =ROUND(K14/P14,0) -> 635 | T14: =SUMIF($C$4:$C$1887,C14,$R$4:$R$1887) -> 10.3 | U14: =IF(T14<>P14,"Gap","") -> Gap | V14: =IF(ISERROR(IF(INDEX(rosh!$O$4:$P$710,MATCH(I14,rosh!$O$4:$O$710,0),2)="Mayor",1,)),0,IF(INDEX(rosh!$O$4:$P$710,MATCH(I14,rosh!$O$4:$O$710,0),2)="Mayor",1,)) -> 0 | W14: =Q14&" "&C14 -> TRUE אבו סנאן | X14: =SUMIF($W$4:$W$1887,W14,$M$4:$M$41887) -> 6542 | Y14: =IF(Q14=TRUE,ROUND(P14*M14/X14,0),) -> 1 | Z14: =SUMIF($C$4:$C$1887,C14,$Y$4:$Y$1887) -> 11 | AA14: =IF(Z14<>P14,"Gap","") | AB14: =IF(AND(V14=1,OR(Z14=P14,Z14<P14)),Y14+1,Y14) -> 1
B15: 473 | C15: אבו סנאן | D15: 8354 | E15: ר | F15: =E15&" "&C15 -> ר אבו סנאן | G15: האמונה לשינוי | I15: =C15&" "&H15 -> אבו סנאן | J15: 6989 | K15: 6989 | L15: 0.083989126 | M15: 587 | N15: 0.083989126 | O15: 587 | P15: =VLOOKUP(C15,'ריכוז נתונים'!$B$3:$C$189,2) -> 11 | Q15: =IF(M15>K15/P15*0.75,TRUE,FALSE) -> TRUE | R15: =IF(Q15=TRUE,ROUND(P15*M15/K15,1),0) -> 0.9 | S15: =ROUND(K15/P15,0) -> 635 | T15: =SUMIF($C$4:$C$1887,C15,$R$4:$R$1887) -> 10.3 | U15: =IF(T15<>P15,"Gap","") -> Gap | V15: =IF(ISERROR(IF(INDEX(rosh!$O$4:$P$710,MATCH(I15,rosh!$O$4:$O$710,0),2)="Mayor",1,)),0,IF(INDEX(rosh!$O$4:$P$710,MATCH(I15,rosh!$O$4:$O$710,0),2)="Mayor",1,)) -> 0 | W15: =Q15&" "&C15 -> TRUE אבו סנאן | X15: =SUMIF($W$4:$W$1887,W15,$M$4:$M$41887) -> 6542 | Y15: =IF(Q15=TRUE,ROUND(P15*M15/X15,0),) -> 1 | Z15: =SUMIF($C$4:$C$1887,C15,$Y$4:$Y$1887) -> 11 | AA15: =IF(Z15<>P15,"Gap","") | AB15: =IF(AND(V15=1,OR(Z15=P15,Z15<P15)),Y15+1,Y15) -> 1
B16: 473 | C16: אבו סנאן | D16: 8354 | E16: ס | F16: =E16&" "&C16 -> ס אבו סנאן | G16: אלנור ואלהודה | I16: =C16&" "&H16 -> אבו סנאן | J16: 6989 | K16: 6989 | L16: 0.059951352 | M16: 419 | N16: 0.059951352 | O16: 419 | P16: =VLOOKUP(C16,'ריכוז נתונים'!$B$3:$C$189,2) -> 11 | Q16: =IF(M16>K16/P16*0.75,TRUE,FALSE) -> FALSE | R16: =IF(Q16=TRUE,ROUND(P16*M16/K16,1),0) -> 0 | S16: =ROUND(K16/P16,0) -> 635 | T16: =SUMIF($C$4:$C$1887,C16,$R$4:$R$1887) -> 10.3 | U16: =IF(T16<>P16,"Gap","") -> Gap | V16: =IF(ISERROR(IF(INDEX(rosh!$O$4:$P$710,MATCH(I16,rosh!$O$4:$O$710,0),2)="Mayor",1,)),0,IF(INDEX(rosh!$O$4:$P$710,MATCH(I16,rosh!$O$4:$O$710,0),2)="Mayor",1,)) -> 0 | W16: =Q16&" "&C16 -> FALSE אבו סנאן | X16: =SUMIF($W$4:$W$1887,W16,$M$4:$M$41887) -> 447 | Y16: =IF(Q16=TRUE,ROUND(P16*M16/X16,0),) -> 0 | Z16: =SUMIF($C$4:$C$1887,C16,$Y$4:$Y$1887) -> 11 | AA16: =IF(Z16<>P16,"Gap","") | AB16: =IF(AND(V16=1,OR(Z16=P16,Z16<P16)),Y16+1,Y16) -> 0
B17: 473 | C17: אבו סנאן | D17: 8354 | E17: ך | F17: =E17&" "&C17 -> ך אבו סנאן | G17: גיל חדש | H17: ביתם גסאן | I17: =C17&" "&H17 -> אבו סנאן ביתם גסאן | J17: 6989 | K17: 6989 | L17: 0.0014308199 | M17: 10 | N17: 0.0014308199 | O17: 10 | P17: =VLOOKUP(C17,'ריכוז נתונים'!$B$3:$C$189,2) -> 11 | Q17: =IF(M17>K17/P17*0.75,TRUE,FALSE) -> FALSE | R17: =IF(Q17=TRUE,ROUND(P17*M17/K17,1),0) -> 0 | S17: =ROUND(K17/P17,0) -> 635 | T17: =SUMIF($C$4:$C$1887,C17,$R$4:$R$1887) -> 10.3 | U17: =IF(T17<>P17,"Gap","") -> Gap | V17: =IF(ISERROR(IF(INDEX(rosh!$O$4:$P$710,MATCH(I17,rosh!$O$4:$O$710,0),2)="Mayor",1,)),0,IF(INDEX(rosh!$O$4:$P$710,MATCH(I17,rosh!$O$4:$O$710,0),2)="Mayor",1,)) -> 0 | W17: =Q17&" "&C17 -> FALSE אבו סנאן | X17: =SUMIF($W$4:$W$1887,W17,$M$4:$M$41887) -> 447 | Y17: =IF(Q17=TRUE,ROUND(P17*M17/X17,0),) -> 0 | Z17: =SUMIF($C$4:$C$1887,C17,$Y$4:$Y$1887) -> 11 | AA17: =IF(Z17<>P17,"Gap","") | AB17: =IF(AND(V17=1,OR(Z17=P17,Z17<P17)),Y17+1,Y17) -> 0
B18: 473 | C18: אבו סנאן | D18: 8354 | E18: נ | F18: =E18&" "&C18 -> נ אבו סנאן | G18: אלבלד | H18: מושלב האני | I18: =C18&" "&H18 -> אבו סנאן מושלב האני | J18: 6989 | K18: 6989 | L18: 0.0012877379 | M18: 9 | N18: 0.0012877379 | O18: 9 | P18: =VLOOKUP(C18,'ריכוז נתונים'!$B$3:$C$189,2) -> 11 | Q18: =IF(M18>K18/P18*0.75,TRUE,FALSE) -> FALSE | R18: =IF(Q18=TRUE,ROUND(P18*M18/K18,1),0) -> 0 | S18: =ROUND(K18/P18,0) -> 635 | T18: =SUMIF($C$4:$C$1887,C18,$R$4:$R$1887) -> 10.3 | U18: =IF(T18<>P18,"Gap","") -> Gap | V18: =IF(ISERROR(IF(INDEX(rosh!$O$4:$P$710,MATCH(I18,rosh!$O$4:$O$710,0),2)="Mayor",1,)),0,IF(INDEX(rosh!$O$4:$P$710,MATCH(I18,rosh!$O$4:$O$710,0),2)="Mayor",1,)) -> 0 | W18: =Q18&" "&C18 -> FALSE אבו סנאן | X18: =SUMIF($W$4:$W$1887,W18,$M$4:$M$41887) -> 447 | Y18: =IF(Q18=TRUE,ROUND(P18*M18/X18,0),) -> 0 | Z18: =SUMIF($C$4:$C$1887,C18,$Y$4:$Y$1887) -> 11 | AA18: =IF(Z18<>P18,"Gap","") | AB18: =IF(AND(V18=1,OR(Z18=P18,Z18<P18)),Y18+1,Y18) -> 0
B19: 473 | C19: אבו סנאן | D19: 8354 | E19: א | F19: =E19&" "&C19 -> א אבו סנאן | G19: אחווה ושוויון | H19: עזאם קופטאן | I19: =C19&" "&H19 -> אבו סנאן עזאם קופטאן | J19: 6989 | K19: 6989 | L19: 0.00042924596 | M19: 3 | N19: 0.00042924596 | O19: 3 | P19: =VLOOKUP(C19,'ריכוז נתונים'!$B$3:$C$189,2) -> 11 | Q19: =IF(M19>K19/P19*0.75,TRUE,FALSE) -> FALSE | R19: =IF(Q19=TRUE,ROUND(P19*M19/K19,1),0) -> 0 | S19: =ROUND(K19/P19,0) -> 635 | T19: =SUMIF($C$4:$C$1887,C19,$R$4:$R$1887) -> 10.3 | U19: =IF(T19<>P19,"Gap","") -> Gap | V19: =IF(ISERROR(IF(INDEX(rosh!$O$4:$P$710,MATCH(I19,rosh!$O$4:$O$710,0),2)="Mayor",1,)),0,IF(INDEX(rosh!$O$4:$P$710,MATCH(I19,rosh!$O$4:$O$710,0),2)="Mayor",1,)) -> 0 | W19: =Q19&" "&C19 -> FALSE אבו סנאן | X19: =SUMIF($W$4:$W$1887,W19,$M$4:$M$41887) -> 447 | Y19: =IF(Q19=TRUE,ROUND(P19*M19/X19,0),) -> 0 | Z19: =SUMIF($C$4:$C$1887,C19,$Y$4:$Y$1887) -> 11 | AA19: =IF(Z19<>P19,"Gap","") | AB19: =IF(AND(V19=1,OR(Z19=P19,Z19<P19)),Y19+1,Y19) -> 0
B20: 473 | C20: אבו סנאן | D20: 8354 | E20: ז | F20: =E20&" "&C20 -> ז אבו סנאן | G20: המתקדמת | H20: משלב נוהאד | I20: =C20&" "&H20 -> אבו סנאן משלב נוהאד | J20: 6989 | K20: 6989 | L20: 0.00028616397 | M20: 2 | N20: 0.00028616397 | O20: 2 | P20: =VLOOKUP(C20,'ריכוז נתונים'!$B$3:$C$189,2) -> 11 | Q20: =IF(M20>K20/P20*0.75,TRUE,FALSE) -> FALSE | R20: =IF(Q20=TRUE,ROUND(P20*M20/K20,1),0) -> 0 | S20: =ROUND(K20/P20,0) -> 635 | T20: =SUMIF($C$4:$C$1887,C20,$R$4:$R$1887) -> 10.3 | U20: =IF(T20<>P20,"Gap","") -> Gap | V20: =IF(ISERROR(IF(INDEX(rosh!$O$4:$P$710,MATCH(I20,rosh!$O$4:$O$710,0),2)="Mayor",1,)),0,IF(INDEX(rosh!$O$4:$P$710,MATCH(I20,rosh!$O$4:$O$710,0),2)="Mayor",1,)) -> 0 | W20: =Q20&" "&C20 -> FALSE אבו סנאן | X20: =SUMIF($W$4:$W$1887,W20,$M$4:$M$41887) -> 447 | Y20: =IF(Q20=TRUE,ROUND(P20*M20/X20,0),) -> 0 | Z20: =SUMIF($C$4:$C$1887,C20,$Y$4:$Y$1887) -> 11 | AA20: =IF(Z20<>P20,"Gap","") | AB20: =IF(AND(V20=1,OR(Z20=P20,Z20<P20)),Y20+1,Y20) -> 0
B21: 473 | C21: אבו סנאן | D21: 8354 | E21: ף | F21: =E21&" "&C21 -> ף אבו סנאן | G21: אבו סנאן לכולנו | H21: מוסא נעים | I21: =C21&" "&H21 -> אבו סנאן מוסא נעים | J21: 6989 | K21: 6989 | L21: 0.00028616397 | M21: 2 | N21: 0.00028616397 | O21: 2 | P21: =VLOOKUP(C21,'ריכוז נתונים'!$B$3:$C$189,2) -> 11 | Q21: =IF(M21>K21/P21*0.75,TRUE,FALSE) -> FALSE | R21: =IF(Q21=TRUE,ROUND(P21*M21/K21,1),0) -> 0 | S21: =ROUND(K21/P21,0) -> 635 | T21: =SUMIF($C$4:$C$1887,C21,$R$4:$R$1887) -> 10.3 | U21: =IF(T21<>P21,"Gap","") -> Gap | V21: =IF(ISERROR(IF(INDEX(rosh!$O$4:$P$710,MATCH(I21,rosh!$O$4:$O$710,0),2)="Mayor",1,)),0,IF(INDEX(rosh!$O$4:$P$710,MATCH(I21,rosh!$O$4:$O$710,0),2)="Mayor",1,)) -> 0 | W21: =Q21&" "&C21 -> FALSE אבו סנאן | X21: =SUMIF($W$4:$W$1887,W21,$M$4:$M$41887) -> 447 | Y21: =IF(Q21=TRUE,ROUND(P21*M21/X21,0),) -> 0 | Z21: =SUMIF($C$4:$C$1887,C21,$Y$4:$Y$1887) -> 11 | AA21: =IF(Z21<>P21,"Gap","") | AB21: =IF(AND(V21=1,OR(Z21=P21,Z21<P21)),Y21+1,Y21) -> 0
B22: 473 | C22: אבו סנאן | D22: 8354 | E22: ץ | F22: =E22&" "&C22 -> ץ אבו סנאן | G22: אלאסתקאמה | H22: סעב גאזי | I22: =C22&" "&H22 -> אבו סנאן סעב גאזי | J22: 6989 | K22: 6989 | L22: 0.00028616397 | M22: 2 | N22: 0.00028616397 | O22: 2 | P22: =VLOOKUP(C22,'ריכוז נתונים'!$B$3:$C$189,2) -> 11 | Q22: =IF(M22>K22/P22*0.75,TRUE,FALSE) -> FALSE | R22: =IF(Q22=TRUE,ROUND(P22*M22/K22,1),0) -> 0 | S22: =ROUND(K22/P22,0) -> 635 | T22: =SUMIF($C$4:$C$1887,C22,$R$4:$R$1887) -> 10.3 | U22: =IF(T22<>P22,"Gap","") -> Gap | V22: =IF(ISERROR(IF(INDEX(rosh!$O$4:$P$710,MATCH(I22,rosh!$O$4:$O$710,0),2)="Mayor",1,)),0,IF(INDEX(rosh!$O$4:$P$710,MATCH(I22,rosh!$O$4:$O$710,0),2)="Mayor",1,)) -> 0 | W22: =Q22&" "&C22 -> FALSE אבו סנאן | X22: =SUMIF($W$4:$W$1887,W22,$M$4:$M$41887) -> 447 | Y22: =IF(Q22=TRUE,ROUND(P22*M22/X22,0),) -> 0 | Z22: =SUMIF($C$4:$C$1887,C22,$Y$4:$Y$1887) -> 11 | AA22: =IF(Z22<>P22,"Gap","") | AB22: =IF(AND(V22=1,OR(Z22=P22,Z22<P22)),Y22+1,Y22) -> 0
B23: 182 | C23: אבן יהודה | D23: 9172 | E23: לי | F23: =E23&" "&C23 -> לי אבן יהודה | G23: יותר בראשות אברהם הררי | H23: הררי אברהם | I23: =C23&" "&H23 -> אבן יהודה הררי אברהם | J23: 5229 | K23: 5229 | L23: 0.42073054 | M23: 2200 | N23: 0.42073054 | O23: 2200 | P23: =VLOOKUP(C23,'ריכוז נתונים'!$B$3:$C$189,2) -> 11 | Q23: =IF(M23>K23/P23*0.75,TRUE,FALSE) -> TRUE | R23: =IF(Q23=TRUE,ROUND(P23*M23/K23,1),0) -> 4.6 | S23: =ROUND(K23/P23,0) -> 475 | T23: =SUMIF($C$4:$C$1887,C23,$R$4:$R$1887) -> 9.9 | U23: =IF(T23<>P23,"Gap","") -> Gap | V23: =IF(ISERROR(IF(INDEX(rosh!$O$4:$P$710,MATCH(I23,rosh!$O$4:$O$710,0),2)="Mayor",1,)),0,IF(INDEX(rosh!$O$4:$P$710,MATCH(I23,rosh!$O$4:$O$710,0),2)="Mayor",1,)) -> 1 | W23: =Q23&" "&C23 -> TRUE אבן יהודה | X23: =SUMIF($W$4:$W$1887,W23,$M$4:$M$41887) -> 4739 | Y23: =IF(Q23=TRUE,ROUND(P23*M23/X23,0),) -> 5 | Z23: =SUMIF($C$4:$C$1887,C23,$Y$4:$Y$1887) -> 11 | AA23: =IF(Z23<>P23,"Gap","") | AB23: =IF(AND(V23=1,OR(Z23=P23,Z23<P23)),Y23+1,Y23) -> 6
B24: 182 | C24: אבן יהודה | D24: 9172 | E24: א | F24: =E24&" "&C24 -> א אבן יהודה | G24: המושבה שלנו | H24: אליאס ערן | I24: =C24&" "&H24 -> אבן יהודה אליאס ערן | J24: 5229 | K24: 5229 | L24: 0.3471027 | M24: 1815 | N24: 0.3471027 | O24: 1815 | P24: =VLOOKUP(C24,'ריכוז נתונים'!$B$3:$C$189,2) -> 11 | Q24: =IF(M24>K24/P24*0.75,TRUE,FALSE) -> TRUE | R24: =IF(Q24=TRUE,ROUND(P24*M24/K24,1),0) -> 3.8 | S24: =ROUND(K24/P24,0) -> 475 | T24: =SUMIF($C$4:$C$1887,C24,$R$4:$R$1887) -> 9.9 | U24: =IF(T24<>P24,"Gap","") -> Gap | V24: =IF(ISERROR(IF(INDEX(rosh!$O$4:$P$710,MATCH(I24,rosh!$O$4:$O$710,0),2)="Mayor",1,)),0,IF(INDEX(rosh!$O$4:$P$710,MATCH(I24,rosh!$O$4:$O$710,0),2)="Mayor",1,)) -> 0 | W24: =Q24&" "&C24 -> TRUE אבן יהודה | X24: =SUMIF($W$4:$W$1887,W24,$M$4:$M$41887) -> 4739 | Y24: =IF(Q24=TRUE,ROUND(P24*M24/X24,0),) -> 4 | Z24: =SUMIF($C$4:$C$1887,C24,$Y$4:$Y$1887) -> 11 | AA24: =IF(Z24<>P24,"Gap","") | AB24: =IF(AND(V24=1,OR(Z24=P24,Z24<P24)),Y24+1,Y24) -> 4
B25: 182 | C25: אבן יהודה | D25: 9172 | E25: פה | F25: =E25&" "&C25 -> פה אבן יהודה | G25: סיעת הצעירים בראשות עמרי פלד | I25: =C25&" "&H25 -> אבן יהודה | J25: 5229 | K25: 5229 | L25: 0.1384586 | M25: 724 | N25: 0.1384586 | O25: 724 | P25: =VLOOKUP(C25,'ריכוז נתונים'!$B$3:$C$189,2) -> 11 | Q25: =IF(M25>K25/P25*0.75,TRUE,FALSE) -> TRUE | R25: =IF(Q25=TRUE,ROUND(P25*M25/K25,1),0) -> 1.5 | S25: =ROUND(K25/P25,0) -> 475 | T25: =SUMIF($C$4:$C$1887,C25,$R$4:$R$1887) -> 9.9 | U25: =IF(T25<>P25,"Gap","") -> Gap | V25: =IF(ISERROR(IF(INDEX(rosh!$O$4:$P$710,MATCH(I25,rosh!$O$4:$O$710,0),2)="Mayor",1,)),0,IF(INDEX(rosh!$O$4:$P$710,MATCH(I25,rosh!$O$4:$O$710,0),2)="Mayor",1,)) -> 0 | W25: =Q25&" "&C25 -> TRUE אבן יהודה | X25: =SUMIF($W$4:$W$1887,W25,$M$4:$M$41887) -> 4739 | Y25: =IF(Q25=TRUE,ROUND(P25*M25/X25,0),) -> 2 | Z25: =SUMIF($C$4:$C$1887,C25,$Y$4:$Y$1887) -> 11 | AA25: =IF(Z25<>P25,"Gap","") | AB25: =IF(AND(V25=1,OR(Z25=P25,Z25<P25)),Y25+1,Y25) -> 2
B26: 182 | C26: אבן יהודה | D26: 9172 | E26: שס | F26: =E26&" "&C26 -> שס אבן יהודה | G26: התאחדות הספרדים העולמית שומרי תורה | I26: =C26&" "&H26 -> אבן יהודה | J26: 5229 | K26: 5229 | L26: 0.054503729 | M26: 285 | N26: 0.054503729 | O26: 285 | P26: =VLOOKUP(C26,'ריכוז נתונים'!$B$3:$C$189,2) -> 11 | Q26: =IF(M26>K26/P26*0.75,TRUE,FALSE) -> FALSE | R26: =IF(Q26=TRUE,ROUND(P26*M26/K26,1),0) -> 0 | S26: =ROUND(K26/P26,0) -> 475 | T26: =SUMIF($C$4:$C$1887,C26,$R$4:$R$1887) -> 9.9 | U26: =IF(T26<>P26,"Gap","") -> Gap | V26: =IF(ISERROR(IF(INDEX(rosh!$O$4:$P$710,MATCH(I26,rosh!$O$4:$O$710,0),2)="Mayor",1,)),0,IF(INDEX(rosh!$O$4:$P$710,MATCH(I26,rosh!$O$4:$O$710,0),2)="Mayor",1,)) -> 0 | W26: =Q26&" "&C26 -> FALSE אבן יהודה | X26: =SUMIF($W$4:$W$1887,W26,$M$4:$M$41887) -> 490 | Y26: =IF(Q26=TRUE,ROUND(P26*M26/X26,0),) -> 0 | Z26: =SUMIF($C$4:$C$1887,C26,$Y$4:$Y$1887) -> 11 | AA26: =IF(Z26<>P26,"Gap","") | AB26: =IF(AND(V26=1,OR(Z26=P26,Z26<P26)),Y26+1,Y26) -> 0
B27: 182 | C27: אבן יהודה | D27: 9172 | E27: טב | F27: =E27&" "&C27 -> טב אבן יהודה | G27: הבית היהודי בראשות משומר לוי | H27: לוי משומר | I27: =C27&" "&H27 -> אבן יהודה לוי משומר | J27: 5229 | K27: 5229 | L27: 0.039204437 | M27: 205 | N27: 0.039204437 | O27: 205 | P27: =VLOOKUP(C27,'ריכוז נתונים'!$B$3:$C$189,2) -> 11 | Q27: =IF(M27>K27/P27*0.75,TRUE,FALSE) -> FALSE | R27: =IF(Q27=TRUE,ROUND(P27*M27/K27,1),0) -> 0 | S27: =ROUND(K27/P27,0) -> 475 | T27: =SUMIF($C$4:$C$1887,C27,$R$4:$R$1887) -> 9.9 | U27: =IF(T27<>P27,"Gap","") -> Gap | V27: =IF(ISERROR(IF(INDEX(rosh!$O$4:$P$710,MATCH(I27,rosh!$O$4:$O$710,0),2)="Mayor",1,)),0,IF(INDEX(rosh!$O$4:$P$710,MATCH(I27,rosh!$O$4:$O$710,0),2)="Mayor",1,)) -> 0 | W27: =Q27&" "&C27 -> FALSE אבן יהודה | X27: =SUMIF($W$4:$W$1887,W27,$M$4:$M$41887) -> 490 | Y27: =IF(Q27=TRUE,ROUND(P27*M27/X27,0),) -> 0 | Z27: =SUMIF($C$4:$C$1887,C27,$Y$4:$Y$1887) -> 11 | AA27: =IF(Z27<>P27,"Gap","") | AB27: =IF(AND(V27=1,OR(Z27=P27,Z27<P27)),Y27+1,Y27) -> 0
B28: 2710 | C28: אום אל-פחם | D28: 30305 | E28: מ | F28: =E28&" "&C28 -> מ אום אל-פחם | G28: נור אלמוסתקבל | I28: =C28&" "&H28 -> אום אל-פחם | J28: 19197 | K28: 19197 | L28: 0.43053602 | M28: 8265 | N28: 0.43053602 | O28: 8265 | P28: =VLOOKUP(C28,'ריכוז נתונים'!$B$3:$C$189,2) -> 17 | Q28: =IF(M28>K28/P28*0.75,TRUE,FALSE) -> TRUE | R28: =IF(Q28=TRUE,ROUND(P28*M28/K28,1),0) -> 7.3 | S28: =ROUND(K28/P28,0) -> 1129 | T28: =SUMIF($C$4:$C$1887,C28,$R$4:$R$1887) -> 16.8 | U28: =IF(T28<>P28,"Gap","") -> Gap | V28: =IF(ISERROR(IF(INDEX(rosh!$O$4:$P$710,MATCH(I28,rosh!$O$4:$O$710,0),2)="Mayor",1,)),0,IF(INDEX(rosh!$O$4:$P$710,MATCH(I28,rosh!$O$4:$O$710,0),2)="Mayor",1,)) -> 0 | W28: =Q28&" "&C28 -> TRUE אום אל-פחם | X28: =SUMIF($W$4:$W$1887,W28,$M$4:$M$41887) -> 18997 | Y28: =IF(Q28=TRUE,ROUND(P28*M28/X28,0),) -> 7 | Z28: =SUMIF($C$4:$C$1887,C28,$Y$4:$Y$1887) -> 17 | AA28: =IF(Z28<>P28,"Gap","") | AB28: =IF(AND(V28=1,OR(Z28=P28,Z28<P28)),Y28+1,Y28) -> 7
B29: 2710 | C29: אום אל-פחם | D29: 30305 | E29: קפ | F29: =E29&" "&C29 -> קפ אום אל-פחם | G29: קאאמת אלופאק אלבלדי | I29: =C29&" "&H29 -> אום אל-פחם | J29: 19197 | K29: 19197 | L29: 0.16231703 | M29: 3116 | N29: 0.16231703 | O29: 3116 | P29: =VLOOKUP(C29,'ריכוז נתונים'!$B$3:$C$189,2) -> 17 | Q29: =IF(M29>K29/P29*0.75,TRUE,FALSE) -> TRUE | R29: =IF(Q29=TRUE,ROUND(P29*M29/K29,1),0) -> 2.8 | S29: =ROUND(K29/P29,0) -> 1129 | T29: =SUMIF($C$4:$C$1887,C29,$R$4:$R$1887) -> 16.8 | U29: =IF(T29<>P29,"Gap","") -> Gap | V29: =IF(ISERROR(IF(INDEX(rosh!$O$4:$P$710,MATCH(I29,rosh!$O$4:$O$710,0),2)="Mayor",1,)),0,IF(INDEX(rosh!$O$4:$P$710,MATCH(I29,rosh!$O$4:$O$710,0),2)="Mayor",1,)) -> 0 | W29: =Q29&" "&C29 -> TRUE אום אל-פחם | X29: =SUMIF($W$4:$W$1887,W29,$M$4:$M$41887) -> 18997 | Y29: =IF(Q29=TRUE,ROUND(P29*M29/X29,0),) -> 3 | Z29: =SUMIF($C$4:$C$1887,C29,$Y$4:$Y$1887) -> 17 | AA29: =IF(Z29<>P29,"Gap","") | AB29: =IF(AND(V29=1,OR(Z29=P29,Z29<P29)),Y29+1,Y29) -> 3
B30: 2710 | C30: אום אל-פחם | D30: 30305 | E30: ךי | F30: =E30&" "&C30 -> ךי אום אל-פחם | G30: אלתווחיד | I30: =C30&" "&H30 -> אום אל-פחם | J30: 19197 | K30: 19197 | L30: 0.12804084 | M30: 2458 | N30: 0.12804084 | O30: 2458 | P30: =VLOOKUP(C30,'ריכוז נתונים'!$B$3:$C$189,2) -> 17 | Q30: =IF(M30>K30/P30*0.75,TRUE,FALSE) -> TRUE | R30: =IF(Q30=TRUE,ROUND(P30*M30/K30,1),0) -> 2.2 | S30: =ROUND(K30/P30,0) -> 1129 | T30: =SUMIF($C$4:$C$1887,C30,$R$4:$R$1887) -> 16.8 | U30: =IF(T30<>P30,"Gap","") -> Gap | V30: =IF(ISERROR(IF(INDEX(rosh!$O$4:$P$710,MATCH(I30,rosh!$O$4:$O$710,0),2)="Mayor",1,)),0,IF(INDEX(rosh!$O$4:$P$710,MATCH(I30,rosh!$O$4:$O$710,0),2)="Mayor",1,)) -> 0 | W30: =Q30&" "&C30 -> TRUE אום אל-פחם | X30: =SUMIF($W$4:$W$1887,W30,$M$4:$M$41887) -> 18997 | Y30: =IF(Q30=TRUE,ROUND(P30*M30/X30,0),) -> 2 | Z30: =SUMIF($C$4:$C$1887,C30,$Y$4:$Y$1887) -> 17 | AA30: =IF(Z30<>P30,"Gap","") | AB30: =IF(AND(V30=1,OR(Z30=P30,Z30<P30)),Y30+1,Y30) -> 2
B31: 2710 | C31: אום אל-פחם | D31: 30305 | E31: א | F31: =E31&" "&C31 -> א אום אל-פחם | G31: אום אלפחם אלמוחדה | I31: =C31&" "&H31 -> אום אל-פחם | J31: 19197 | K31: 19197 | L31: 0.12517581 | M31: 2403 | N31: 0.12517581 | O31: 2403 | P31: =VLOOKUP(C31,'ריכוז נתונים'!$B$3:$C$189,2) -> 17 | Q31: =IF(M31>K31/P31*0.75,TRUE,FALSE) -> TRUE | R31: =IF(Q31=TRUE,ROUND(P31*M31/K31,1),0) -> 2.1 | S31: =ROUND(K31/P31,0) -> 1129 | T31: =SUMIF($C$4:$C$1887,C31,$R$4:$R$1887) -> 16.8 | U31: =IF(T31<>P31,"Gap","") -> Gap | V31: =IF(ISERROR(IF(INDEX(rosh!$O$4:$P$710,MATCH(I31,rosh!$O$4:$O$710,0),2)="Mayor",1,)),0,IF(INDEX(rosh!$O$4:$P$710,MATCH(I31,rosh!$O$4:$O$710,0),2)="Mayor",1,)) -> 0 | W31: =Q31&" "&C31 -> TRUE אום אל-פחם | X31: =SUMIF($W$4:$W$1887,W31,$M$4:$M$41887) -> 18997 | Y31: =IF(Q31=TRUE,ROUND(P31*M31/X31,0),) -> 2 | Z31: =SUMIF($C$4:$C$1887,C31,$Y$4:$Y$1887) -> 17 | AA31: =IF(Z31<>P31,"Gap","") | AB31: =IF(AND(V31=1,OR(Z31=P31,Z31<P31)),Y31+1,Y31) -> 2
B32: 2710 | C32: אום אל-פחם | D32: 30305 | E32: נ | F32: =E32&" "&C32 -> נ אום אל-פחם | G32: אלתחאלף אלבלדי | I32: =C32&" "&H32 -> אום אל-פחם | J32: 19197 | K32: 19197 | L32: 0.088399229 | M32: 1697 | N32: 0.088399229 | O32: 1697 | P32: =VLOOKUP(C32,'ריכוז נתונים'!$B$3:$C$189,2) -> 17 | Q32: =IF(M32>K32/P32*0.75,TRUE,FALSE) -> TRUE | R32: =IF(Q32=TRUE,ROUND(P32*M32/K32,1),0) -> 1.5 | S32: =ROUND(K32/P32,0) -> 1129 | T32: =SUMIF($C$4:$C$1887,C32,$R$4:$R$1887) -> 16.8 | U32: =IF(T32<>P32,"Gap","") -> Gap | V32: =IF(ISERROR(IF(INDEX(rosh!$O$4:$P$710,MATCH(I32,rosh!$O$4:$O$710,0),2)="Mayor",1,)),0,IF(INDEX(rosh!$O$4:$P$710,MATCH(I32,rosh!$O$4:$O$710,0),2)="Mayor",1,)) -> 0 | W32: =Q32&" "&C32 -> TRUE אום אל-פחם | X32: =SUMIF($W$4:$W$1887,W32,$M$4:$M$41887) -> 18997 | Y32: =IF(Q32=TRUE,ROUND(P32*M32/X32,0),) -> 2 | Z32: =SUMIF($C$4:$C$1887,C32,$Y$4:$Y$1887) -> 17 | AA32: =IF(Z32<>P32,"Gap","") | AB32: =IF(AND(V32=1,OR(Z32=P32,Z32<P32)),Y32+1,Y32) -> 2
B33: 2710 | C33: אום אל-פחם | D33: 30305 | E33: הז | F33: =E33&" "&C33 -> הז אום אל-פחם | G33: אלאהראם | I33: =C33&" "&H33 -> אום אל-פחם | J33: 19197 | K33: 19197 | L33: 0.055112778 | M33: 1058 | N33: 0.055112778 | O33: 1058 | P33: =VLOOKUP(C33,'ריכוז נתונים'!$B$3:$C$189,2) -> 17 | Q33: =IF(M33>K33/P33*0.75,TRUE,FALSE) -> TRUE | R33: =IF(Q33=TRUE,ROUND(P33*M33/K33,1),0) -> 0.9 | S33: =ROUND(K33/P33,0) -> 1129 | T33: =SUMIF($C$4:$C$1887,C33,$R$4:$R$1887) -> 16.8 | U33: =IF(T33<>P33,"Gap","") -> Gap | V33: =IF(ISERROR(IF(INDEX(rosh!$O$4:$P$710,MATCH(I33,rosh!$O$4:$O$710,0),2)="Mayor",1,)),0,IF(INDEX(rosh!$O$4:$P$710,MATCH(I33,rosh!$O$4:$O$710,0),2)="Mayor",1,)) -> 0 | W33: =Q33&" "&C33 -> TRUE אום אל-פחם | X33: =SUMIF($W$4:$W$1887,W33,$M$4:$M$41887) -> 18997 | Y33: =IF(Q33=TRUE,ROUND(P33*M33/X33,0),) -> 1 | Z33: =SUMIF($C$4:$C$1887,C33,$Y$4:$Y$1887) -> 17 | AA33: =IF(Z33<>P33,"Gap","") | AB33: =IF(AND(V33=1,OR(Z33=P33,Z33<P33)),Y33+1,Y33) -> 1
B34: 2710 | C34: אום אל-פחם | D34: 30305 | E34: ו | F34: =E34&" "&C34 -> ו אום אל-פחם | G34: אום אלפחם אלג'דידה | H34: אגבאריה רג'א | I34: =C34&" "&H34 -> אום אל-פחם אגבאריה רג'א | J34: 19197 | K34: 19197 | L34: 0.0075532635 | M34: 145 | N34: 0.0075532635 | O34: 145 | P34: =VLOOKUP(C34,'ריכוז נתונים'!$B$3:$C$189,2) -> 17 | Q34: =IF(M34>K34/P34*0.75,TRUE,FALSE) -> FALSE | R34: =IF(Q34=TRUE,ROUND(P34*M34/K34,1),0) -> 0 | S34: =ROUND(K34/P34,0) -> 1129 | T34: =SUMIF($C$4:$C$1887,C34,$R$4:$R$1887) -> 16.8 | U34: =IF(T34<>P34,"Gap","") -> Gap | V34: =IF(ISERROR(IF(INDEX(rosh!$O$4:$P$710,MATCH(I34,rosh!$O$4:$O$710,0),2)="Mayor",1,)),0,IF(INDEX(rosh!$O$4:$P$710,MATCH(I34,rosh!$O$4:$O$710,0),2)="Mayor",1,)) -> 0 | W34: =Q34&" "&C34 -> FALSE אום אל-פחם | X34: =SUMIF($W$4:$W$1887,W34,$M$4:$M$41887) -> 200 | Y34: =IF(Q34=TRUE,ROUND(P34*M34/X34,0),) -> 0 | Z34: =SUMIF($C$4:$C$1887,C34,$Y$4:$Y$1887) -> 17 | AA34: =IF(Z34<>P34,"Gap","") | AB34: =IF(AND(V34=1,OR(Z34=P34,Z34<P34)),Y34+1,Y34) -> 0
B35: 2710 | C35: אום אל-פחם | D35: 30305 | E35: י | F35: =E35&" "&C35 -> י אום אל-פחם | G35: קאאמת אלנג'אח | H35: מחאג'נה יוסף | I35: =C35&" "&H35 -> אום אל-פחם מחאג'נה יוסף | J35: 19197 | K35: 19197 | L35: 0.0015627442 | M35: 30 | N35: 0.0015627442 | O35: 30 | P35: =VLOOKUP(C35,'ריכוז נתונים'!$B$3:$C$189,2) -> 17 | Q35: =IF(M35>K35/P35*0.75,TRUE,FALSE) -> FALSE | R35: =IF(Q35=TRUE,ROUND(P35*M35/K35,1),0) -> 0 | S35: =ROUND(K35/P35,0) -> 1129 | T35: =SUMIF($C$4:$C$1887,C35,$R$4:$R$1887) -> 16.8 | U35: =IF(T35<>P35,"Gap","") -> Gap | V35: =IF(ISERROR(IF(INDEX(rosh!$O$4:$P$710,MATCH(I35,rosh!$O$4:$O$710,0),2)="Mayor",1,)),0,IF(INDEX(rosh!$O$4:$P$710,MATCH(I35,rosh!$O$4:$O$710,0),2)="Mayor",1,)) -> 0 | W35: =Q35&" "&C35 -> FALSE אום אל-פחם | X35: =SUMIF($W$4:$W$1887,W35,$M$4:$M$41887) -> 200 | Y35: =IF(Q35=TRUE,ROUND(P35*M35/X35,0),) -> 0 | Z35: =SUMIF($C$4:$C$1887,C35,$Y$4:$Y$1887) -> 17 | AA35: =IF(Z35<>P35,"Gap","") | AB35: =IF(AND(V35=1,OR(Z35=P35,Z35<P35)),Y35+1,Y35) -> 0
B36: 2710 | C36: אום אל-פחם | D36: 30305 | E36: ץ | F36: =E36&" "&C36 -> ץ אום אל-פחם | G36: אלעהד | H36: אגבאריה ח'אלד | I36: =C36&" "&H36 -> אום אל-פחם אגבאריה ח'אלד | J36: 19197 | K36: 19197 | L36: 0.0013022868 | M36: 25 | N36: 0.0013022868 | O36: 25 | P36: =VLOOKUP(C36,'ריכוז נתונים'!$B$3:$C$189,2) -> 17 | Q36: =IF(M36>K36/P36*0.75,TRUE,FALSE) -> FALSE | R36: =IF(Q36=TRUE,ROUND(P36*M36/K36,1),0) -> 0 | S36: =ROUND(K36/P36,0) -> 1129 | T36: =SUMIF($C$4:$C$1887,C36,$R$4:$R$1887) -> 16.8 | U36: =IF(T36<>P36,"Gap","") -> Gap | V36: =IF(ISERROR(IF(INDEX(rosh!$O$4:$P$710,MATCH(I36,rosh!$O$4:$O$710,0),2)="Mayor",1,)),0,IF(INDEX(rosh!$O$4:$P$710,MATCH(I36,rosh!$O$4:$O$710,0),2)="Mayor",1,)) -> 1 | W36: =Q36&" "&C36 -> FALSE אום אל-פחם | X36: =SUMIF($W$4:$W$1887,W36,$M$4:$M$41887) -> 200 | Y36: =IF(Q36=TRUE,ROUND(P36*M36/X36,0),) -> 0 | Z36: =SUMIF($C$4:$C$1887,C36,$Y$4:$Y$1887) -> 17 | AA36: =IF(Z36<>P36,"Gap","") | AB36: =IF(AND(V36=1,OR(Z36=P36,Z36<P36)),Y36+1,Y36) -> 1
B37: 31 | C37: אופקים | D37: 19226 | E37: שס | F37: =E37&" "&C37 -> שס אופקים | G37: התאחדות הספרדים העולמית שומרי תורה | I37: =C37&" "&H37 -> אופקים | J37: 12046 | K37: 12046 | L37: 0.18611987 | M37: 2242 | N37: 0.18611987 | O37: 2242 | P37: =VLOOKUP(C37,'ריכוז נתונים'!$B$3:$C$189,2) -> 15 | Q37: =IF(M37>K37/P37*0.75,TRUE,FALSE) -> TRUE | R37: =IF(Q37=TRUE,ROUND(P37*M37/K37,1),0) -> 2.8 | S37: =ROUND(K37/P37,0) -> 803 | T37: =SUMIF($C$4:$C$1887,C37,$R$4:$R$1887) -> 14.2 | U37: =IF(T37<>P37,"Gap","") -> Gap | V37: =IF(ISERROR(IF(INDEX(rosh!$O$4:$P$710,MATCH(I37,rosh!$O$4:$O$710,0),2)="Mayor",1,)),0,IF(INDEX(rosh!$O$4:$P$710,MATCH(I37,rosh!$O$4:$O$710,0),2)="Mayor",1,)) -> 0 | W37: =Q37&" "&C37 -> TRUE אופקים | X37: =SUMIF($W$4:$W$1887,W37,$M$4:$M$41887) -> 11463 | Y37: =IF(Q37=TRUE,ROUND(P37*M37/X37,0),) -> 3 | Z37: =SUMIF($C$4:$C$1887,C37,$Y$4:$Y$1887) -> 15 | AA37: =IF(Z37<>P37,"Gap","") | AB37: =IF(AND(V37=1,OR(Z37=P37,Z37<P37)),Y37+1,Y37) -> 3
B38: 31 | C38: אופקים | D38: 19226 | E38: חי | F38: =E38&" "&C38 -> חי אופקים | G38: תנופה לאופקים בראשות יאיר חזן | H38: חזן יאיר | I38: =C38&" "&H38 -> אופקים חזן יאיר | J38: 12046 | K38: 12046 | L38: 0.17989374 | M38: 2167 | N38: 0.17989374 | O38: 2167 | P38: =VLOOKUP(C38,'ריכוז נתונים'!$B$3:$C$189,2) -> 15 | Q38: =IF(M38>K38/P38*0.75,TRUE,FALSE) -> TRUE | R38: =IF(Q38=TRUE,ROUND(P38*M38/K38,1),0) -> 2.7 | S38: =ROUND(K38/P38,0) -> 803 | T38: =SUMIF($C$4:$C$1887,C38,$R$4:$R$1887) -> 14.2 | U38: =IF(T38<>P38,"Gap","") -> Gap | V38: =IF(ISERROR(IF(INDEX(rosh!$O$4:$P$710,MATCH(I38,rosh!$O$4:$O$710,0),2)="Mayor",1,)),0,IF(INDEX(rosh!$O$4:$P$710,MATCH(I38,rosh!$O$4:$O$710,0),2)="Mayor",1,)) -> 0 | W38: =Q38&" "&C38 -> TRUE אופקים | X38: =SUMIF($W$4:$W$1887,W38,$M$4:$M$41887) -> 11463 | Y38: =IF(Q38=TRUE,ROUND(P38*M38/X38,0),) -> 3 | Z38: =SUMIF($C$4:$C$1887,C38,$Y$4:$Y$1887) -> 15 | AA38: =IF(Z38<>P38,"Gap","") | AB38: =IF(AND(V38=1,OR(Z38=P38,Z38<P38)),Y38+1,Y38) -> 3
B39: 31 | C39: אופקים | D39: 19226 | E39: דת | F39: =E39&" "&C39 -> דת אופקים | G39: הקהילה התורנית אופקים | I39: =C39&" "&H39 -> אופקים | J39: 12046 | K39: 12046 | L39: 0.16461896 | M39: 1983 | N39: 0.16461896 | O39: 1983 | P39: =VLOOKUP(C39,'ריכוז נתונים'!$B$3:$C$189,2) -> 15 | Q39: =IF(M39>K39/P39*0.75,TRUE,FALSE) -> TRUE | R39: =IF(Q39=TRUE,ROUND(P39*M39/K39,1),0) -> 2.5 | S39: =ROUND(K39/P39,0) -> 803 | T39: =SUMIF($C$4:$C$1887,C39,$R$4:$R$1887) -> 14.2 | U39: =IF(T39<>P39,"Gap","") -> Gap | V39: =IF(ISERROR(IF(INDEX(rosh!$O$4:$P$710,MATCH(I39,rosh!$O$4:$O$710,0),2)="Mayor",1,)),0,IF(INDEX(rosh!$O$4:$P$710,MATCH(I39,rosh!$O$4:$O$710,0),2)="Mayor",1,)) -> 0 | W39: =Q39&" "&C39 -> TRUE אופקים | X39: =SUMIF($W$4:$W$1887,W39,$M$4:$M$41887) -> 11463 | Y39: =IF(Q39=TRUE,ROUND(P39*M39/X39,0),) -> 3 | Z39: =SUMIF($C$4:$C$1887,C39,$Y$4:$Y$1887) -> 15 | AA39: =IF(Z39<>P39,"Gap","") | AB39: =IF(AND(V39=1,OR(Z39=P39,Z39<P39)),Y39+1,Y39) -> 3
B40: 31 | C40: אופקים | D40: 19226 | E40: מחל | F40: =E40&" "&C40 -> מחל אופקים | G40: הליכוד בראשות איציק דנינו | H40: דנינו יצחק איציק | I40: =C40&" "&H40 -> אופקים דנינו יצחק איציק | J40: 12046 | K40: 12046 | L40: 0.15532127 | M40: 1871 | N40: 0.15532127 | O40: 1871 | P40: =VLOOKUP(C40,'ריכוז נתונים'!$B$3:$C$189,2) -> 15 | Q40: =IF(M40>K40/P40*0.75,TRUE,FALSE) -> TRUE | R40: =IF(Q40=TRUE,ROUND(P40*M40/K40,1),0) -> 2.3 | S40: =ROUND(K40/P40,0) -> 803 | T40: =SUMIF($C$4:$C$1887,C40,$R$4:$R$1887) -> 14.2 | U40: =IF(T40<>P40,"Gap","") -> Gap | V40: =IF(ISERROR(IF(INDEX(rosh!$O$4:$P$710,MATCH(I40,rosh!$O$4:$O$710,0),2)="Mayor",1,)),0,IF(INDEX(rosh!$O$4:$P$710,MATCH(I40,rosh!$O$4:$O$710,0),2)="Mayor",1,)) -> 1 | W40: =Q40&" "&C40 -> TRUE אופקים | X40: =SUMIF($W$4:$W$1887,W40,$M$4:$M$41887) -> 11463 | Y40: =IF(Q40=TRUE,ROUND(P40*M40/X40,0),) -> 2 | Z40: =SUMIF($C$4:$C$1887,C40,$Y$4:$Y$1887) -> 15 | AA40: =IF(Z40<>P40,"Gap","") | AB40: =IF(AND(V40=1,OR(Z40=P40,Z40<P40)),Y40+1,Y40) -> 3
B41: 31 | C41: אופקים | D41: 19226 | E41: כן | F41: =E41&" "&C41 -> כן אופקים | G41: יש תקוה בראשות אלי סעדה | I41: =C41&" "&H41 -> אופקים | J41: 12046 | K41: 12046 | L41: 0.083181139 | M41: 1002 | N41: 0.083181139 | O41: 1002 | P41: =VLOOKUP(C41,'ריכוז נתונים'!$B$3:$C$189,2) -> 15 | Q41: =IF(M41>K41/P41*0.75,TRUE,FALSE) -> TRUE | R41: =IF(Q41=TRUE,ROUND(P41*M41/K41,1),0) -> 1.2 | S41: =ROUND(K41/P41,0) -> 803 | T41: =SUMIF($C$4:$C$1887,C41,$R$4:$R$1887) -> 14.2 | U41: =IF(T41<>P41,"Gap","") -> Gap | V41: =IF(ISERROR(IF(INDEX(rosh!$O$4:$P$710,MATCH(I41,rosh!$O$4:$O$710,0),2)="Mayor",1,)),0,IF(INDEX(rosh!$O$4:$P$710,MATCH(I41,rosh!$O$4:$O$710,0),2)="Mayor",1,)) -> 0 | W41: =Q41&" "&C41 -> TRUE אופקים | X41: =SUMIF($W$4:$W$1887,W41,$M$4:$M$41887) -> 11463 | Y41: =IF(Q41=TRUE,ROUND(P41*M41/X41,0),) -> 1 | Z41: =SUMIF($C$4:$C$1887,C41,$Y$4:$Y$1887) -> 15 | AA41: =IF(Z41<>P41,"Gap","") | AB41: =IF(AND(V41=1,OR(Z41=P41,Z41<P41)),Y41+1,Y41) -> 1
...

Sheet rosh
L1: עודכן ב | M1: 23/10/2013 13:40:29
B3: סמל | C3: שם ישוב | D3: מועמד | E3: בז"ב | F3: דיווח סך קולות כשרים | G3: מחוז | H3: נפה | I3: סך קולות כשרים מחושב | J3: % למועמד | K3: קולות כשרים למועמד | L3: % מחושב | M3: בוחרים מחושב | N3: תקינות
B4: 472 | C4: אבו גוש | D4: גבר עיסא | E4: 4617 | F4: 3846 | I4: 3846 | J4: 0.40197608 | K4: 1546 | L4: 0.40197608 | M4: 1546 | N4: מועמד נבחר | O4: =C4&" "&D4 -> אבו גוש גבר עיסא | P4: =IF(OR(J4>0.5,AND(J4>0.4,J4>J5)),"Mayor",) -> Mayor
B5: 472 | C5: אבו גוש | D5: איברהים עזמי | E5: 4617 | F5: 3846 | I5: 3846 | J5: 0.3023921 | K5: 1163 | L5: 0.3023921 | M5: 1163 | N5: מועמד נבחר | O5: =C5&" "&D5 -> אבו גוש איברהים עזמי | P5: =IF(OR(J5>0.5,AND(J5>0.4,J5>J6,J5>J4)),"Mayor",) -> 0
B6: 472 | C6: אבו גוש | D6: עבדאל רחמן ערסן | E6: 4617 | F6: 3846 | I6: 3846 | J6: 0.29563183 | K6: 1137 | L6: 0.29563183 | M6: 1137 | N6: מועמד נבחר | O6: =C6&" "&D6 -> אבו גוש עבדאל רחמן ערסן | P6: =IF(OR(J6>0.5,AND(J6>0.4,J6>J7,J6>J5)),"Mayor",) -> 0
B7: 473 | C7: אבו סנאן | D7: משלב נוהאד | E7: 8354 | F7: 7059 | I7: 7059 | J7: 0.32497521 | K7: 2294 | L7: 0.32497521 | M7: 2294 | N7: סבב שני | O7: =C7&" "&D7 -> אבו סנאן משלב נוהאד | P7: =IF(OR(J7>0.5,AND(J7>0.4,J7>J8,J7>J6)),"Mayor",) -> 0
B8: 473 | C8: אבו סנאן | D8: ביתם גסאן | E8: 8354 | F8: 7059 | I8: 7059 | J8: 0.24054399 | K8: 1698 | L8: 0.24054399 | M8: 1698 | N8: סבב שני | O8: =C8&" "&D8 -> אבו סנאן ביתם גסאן | P8: =IF(OR(J8>0.5,AND(J8>0.4,J8>J9,J8>J7)),"Mayor",) -> 0
B9: 473 | C9: אבו סנאן | D9: מוסא נעים | E9: 8354 | F9: 7059 | I9: 7059 | J9: 0.21093639 | K9: 1489 | L9: 0.21093639 | M9: 1489 | N9: סבב שני | O9: =C9&" "&D9 -> אבו סנאן מוסא נעים | P9: =IF(OR(J9>0.5,AND(J9>0.4,J9>J10,J9>J8)),"Mayor",) -> 0
B10: 473 | C10: אבו סנאן | D10: סעב גאזי | E10: 8354 | F10: 7059 | I10: 7059 | J10: 0.19167021 | K10: 1353 | L10: 0.19167021 | M10: 1353 | N10: סבב שני | O10: =C10&" "&D10 -> אבו סנאן סעב גאזי | P10: =IF(OR(J10>0.5,AND(J10>0.4,J10>J11,J10>J9)),"Mayor",) -> 0
B11: 473 | C11: אבו סנאן | D11: עזאם קופטאן | E11: 8354 | F11: 7059 | I11: 7059 | J11: 0.018841196 | K11: 133 | L11: 0.018841196 | M11: 133 | N11: סבב שני | O11: =C11&" "&D11 -> אבו סנאן עזאם קופטאן | P11: =IF(OR(J11>0.5,AND(J11>0.4,J11>J12,J11>J10)),"Mayor",) -> 0
B12: 473 | C12: אבו סנאן | D12: מושלב האני | E12: 8354 | F12: 7059 | I12: 7059 | J12: 0.013033008 | K12: 92 | L12: 0.013033008 | M12: 92 | N12: סבב שני | O12: =C12&" "&D12 -> אבו סנאן מושלב האני | P12: =IF(OR(J12>0.5,AND(J12>0.4,J12>J13,J12>J11)),"Mayor",) -> 0
B13: 182 | C13: אבן יהודה | D13: הררי אברהם | E13: 9172 | F13: 5204 | I13: 5204 | J13: 0.55495772 | K13: 2888 | L13: 0.55495772 | M13: 2888 | N13: מועמד נבחר | O13: =C13&" "&D13 -> אבן יהודה הררי אברהם | P13: =IF(OR(J13>0.5,AND(J13>0.4,J13>J14,J13>J12)),"Mayor",) -> Mayor
B14: 182 | C14: אבן יהודה | D14: אליאס ערן | E14: 9172 | F14: 5204 | I14: 5204 | J14: 0.41986933 | K14: 2185 | L14: 0.41986933 | M14: 2185 | N14: מועמד נבחר | O14: =C14&" "&D14 -> אבן יהודה אליאס ערן | P14: =IF(OR(J14>0.5,AND(J14>0.4,J14>J15,J14>J13)),"Mayor",) -> 0
B15: 182 | C15: אבן יהודה | D15: לוי משומר | E15: 9172 | F15: 5204 | I15: 5204 | J15: 0.025172944 | K15: 131 | L15: 0.025172944 | M15: 131 | N15: מועמד נבחר | O15: =C15&" "&D15 -> אבן יהודה לוי משומר | P15: =IF(OR(J15>0.5,AND(J15>0.4,J15>J16,J15>J14)),"Mayor",) -> 0
B16: 2710 | C16: אום אל-פחם | D16: אגבאריה ח'אלד | E16: 30305 | F16: 18921 | I16: 18921 | J16: 0.58538132 | K16: 11076 | L16: 0.58538132 | M16: 11076 | N16: מועמד נבחר | O16: =C16&" "&D16 -> אום אל-פחם אגבאריה ח'אלד | P16: =IF(OR(J16>0.5,AND(J16>0.4,J16>J17,J16>J15)),"Mayor",) -> Mayor
... B20: 31 | C20: אופקים | D20: חזן יאיר | E20: 19226 | F20: 10460 | I20: 10460 | J20: 0.38183556 | K20: 3994 | L20: 0.38183556 | M20: 3994 | N20: מועמד נבחר | O20: =C20&" "&D20 -> אופקים חזן יאיר | P20: =IF(OR(J20>0.5,AND(J20>0.4,J20>J21,J20>J19)),"Mayor",) -> 0
B21: 31 | C21: אופקים | D21: אביטן אליעזר | E21: 19226 | F21: 10460 | I21: 10460 | J21: 0 | L21: 0 | M21: 0 | N21: מועמד נבחר | O21: =C21&" "&D21 -> אופקים אביטן אליעזר | P21: =IF(OR(J21>0.5,AND(J21>0.4,J21>J22,J21>J20)),"Mayor",) -> 0
B22: 31 | C22: אופקים | D22: אוחיון משה | E22: 19226 | F22: 10460 | I22: 10460 | J22: 0 | L22: 0 | M22: 0 | N22: מועמד נבחר | O22: =C22&" "&D22 -> אופקים אוחיון משה | P22: =IF(OR(J22>0.5,AND(J22>0.4,J22>J23,J22>J21)),"Mayor",) -> 0
B23: 2400 | C23: אור יהודה | D23: יוסף דוד | E23: 26759 | F23: 14382 | I23: 14382 | J23: 0.57954387 | K23: 8335 | L23: 0.57954387 | M23: 8335 | N23: מועמד נבחר | O23: =C23&" "&D23 -> אור יהודה יוסף דוד | P23: =IF(OR(J23>0.5,AND(J23>0.4,J23>J24,J23>J22)),"Mayor",) -> Mayor
B24: 2400 | C24: אור יהודה | D24: אהרן עוזי | E24: 26759 | F24: 14382 | I24: 14382 | J24: 0.23633709 | K24: 3399 | L24: 0.23633709 | M24: 3399 | N24: מועמד נבחר | O24: =C24&" "&D24 -> אור יהודה אהרן עוזי | P24: =IF(OR(J24>0.5,AND(J24>0.4,J24>J25,J24>J23)),"Mayor",) -> 0
B25: 2400 | C25: אור יהודה | D25: חן ננה | E25: 26759 | F25: 14382 | I25: 14382 | J25: 0.07829231 | K25: 1126 | L25: 0.07829231 | M25: 1126 | N25: מועמד נבחר | O25: =C25&" "&D25 -> אור יהודה חן ננה | P25: =IF(OR(J25>0.5,AND(J25>0.4,J25>J26,J25>J24)),"Mayor",) -> 0
B26: 2400 | C26: אור יהודה | D26: גוטמן אפרים צבי | E26: 26759 | F26: 14382 | I26: 14382 | J26: 0.063899319 | K26: 919 | L26: 0.063899319 | M26: 919 | N26: מועמד נבחר | O26: =C26&" "&D26 -> אור יהודה גוטמן אפרים צבי | P26: =IF(OR(J26>0.5,AND(J26>0.4,J26>J27,J26>J25)),"Mayor",) -> 0
B27: 2400 | C27: אור יהודה | D27: בנימינוב חנניה | E27: 26759 | F27: 14382 | I27: 14382 | J27: 0.041927409 | K27: 603 | L27: 0.041927409 | M27: 603 | N27: מועמד נבחר | O27: =C27&" "&D27 -> אור יהודה בנימינוב חנניה | P27: =IF(OR(J27>0.5,AND(J27>0.4,J27>J28,J27>J26)),"Mayor",) -> 0
B28: 1020 | C28: אור עקיבא | D28: אדרי יעקב | E28: 14677 | F28: 9169 | I28: 9169 | J28: 0.52437561 | K28: 4808 | L28: 0.52437561 | M28: 4808 | N28: מועמד נבחר | O28: =C28&" "&D28 -> אור עקיבא אדרי יעקב | P28: =IF(OR(J28>0.5,AND(J28>0.4,J28>J29,J28>J27)),"Mayor",) -> Mayor
B29: 1020 | C29: אור עקיבא | D29: יוסיפוב שמחה | E29: 14677 | F29: 9169 | I29: 9169 | J29: 0.47562439 | K29: 4361 | L29: 0.47562439 | M29: 4361 | N29: מועמד נבחר | O29: =C29&" "&D29 -> אור עקיבא יוסיפוב שמחה | P29: =IF(OR(J29>0.5,AND(J29>0.4,J29>J30,J29>J28)),"Mayor",) -> 0
B30: 3760 | C30: אורנית | D30: לנגר שלומי | E30: 5442 | F30: 2939 | I30: 2939 | J30: 0.72031303 | K30: 2117 | L30: 0.72031303 | M30: 2117 | N30: מועמד נבחר | O30: =C30&" "&D30 -> אורנית לנגר שלומי | P30: =IF(OR(J30>0.5,AND(J30>0.4,J30>J31,J30>J29)),"Mayor",) -> Mayor
B31: 3760 | C31: אורנית | D31: גפני-בוחניק קרן רחל | E31: 5442 | F31: 2939 | I31: 2939 | J31: 0.27968697 | K31: 822 | L31: 0.27968697 | M31: 822 | N31: מועמד נבחר | O31: =C31&" "&D31 -> אורנית גפני-בוחניק קרן רחל | P31: =IF(OR(J31>0.5,AND(J31>0.4,J31>J32,J31>J30)),"Mayor",) -> 0
B32: 565 | C32: אזור | D32: פכטר אריה | E32: 9553 | F32: 4946 | I32: 4946 | J32: 0.72725435 | K32: 3597 | L32: 0.72725435 | M32: 3597 | N32: מועמד נבחר | O32: =C32&" "&D32 -> אזור פכטר אריה | P32: =IF(OR(J32>0.5,AND(J32>0.4,J32>J33,J32>J31)),"Mayor",) -> Mayor
B33: 565 | C33: אזור | D33: תנעמי אוריאל | E33: 9553 | F33: 4946 | I33: 4946 | J33: 0.27274565 | K33: 1349 | L33: 0.27274565 | M33: 1349 | N33: מועמד נבחר | O33: =C33&" "&D33 -> אזור תנעמי אוריאל | P33: =IF(OR(J33>0.5,AND(J33>0.4,J33>J34,J33>J32)),"Mayor",) -> 0
B34: 2600 | C34: אילת | D34: יצחק הלוי מאיר | E34: 48242 | F34: 20006 | I34: 20006 | J34: 0.56463061 | K34: 11296 | L34: 0.56463061 | M34: 11296 | N34: מועמד נבחר | O34: =C34&" "&D34 -> אילת יצחק הלוי מאיר | P34: =IF(OR(J34>0.5,AND(J34>0.4,J34>J35,J34>J33)),"Mayor",) -> Mayor
... B67: 2530 | C67: באר יעקב | D67: פרנקו מוטי | E67: 10449 | F67: 6547 | I67: 6547 | J67: 0.42416374 | K67: 2777 | L67: 0.42416374 | M67: 2777 | N67: מועמד נבחר | O67: =C67&" "&D67 -> באר יעקב פרנקו מוטי | P67: =IF(OR(J67>0.5,AND(J67>0.4,J67>J68,J67>J66)),"Mayor",) -> 0
B68: 2530 | C68: באר יעקב | D68: גורין יעיש | E68: 10449 | F68: 6547 | I68: 6547 | J68: 0 | L68: 0 | M68: 0 | N68: מועמד נבחר | O68: =C68&" "&D68 -> באר יעקב גורין יעיש | P68: =IF(OR(J68>0.5,AND(J68>0.4,J68>J69,J68>J67)),"Mayor",) -> 0
B69: 2530 | C69: באר יעקב | D69: רפאל יואב | E69: 10449 | F69: 6547 | I69: 6547 | J69: 0 | L69: 0 | M69: 0 | N69: מועמד נבחר | O69: =C69&" "&D69 -> באר יעקב רפאל יואב | P69: =IF(OR(J69>0.5,AND(J69>0.4,J69>J70,J69>J68)),"Mayor",) -> 0
B70: 9000 | C70: באר שבע | D70: דנילוביץ' רוביק | E70: 159762 | F70: 60574 | I70: 60574 | J70: 0.92209529 | K70: 55855 | L70: 0.92209529 | M70: 55855 | N70: מועמד נבחר | O70: =C70&" "&D70 -> באר שבע דנילוביץ' רוביק | P70: =IF(OR(J70>0.5,AND(J70>0.4,J70>J71,J70>J69)),"Mayor",) -> Mayor
