Workbook
Name boharim: siot!$N$5:$N$1887
Name date_update: siot!$O$1
Name date_update: rosh!$M$1
Name ishuv: siot!$D$5:$D$1887
Name netunim_rosh: rosh!$B$3:$L$711
Name netunim_rosh_rashut: rosh!$B$3:$N$711
Name netunim_siot: siot!$B$4:$O$1887
Name S_Yeshuv: rosh!$C$4
Name S_Yeshuv: siot!$C$4
Name תוצאות_בחירות: siot!$B$3:$AB$1887

Sheet ריכוז נתונים
G1: מאפייני ישוב
B2: שם הישוב | C2: מספר מושבים | D2: אוכלוסיה באלפים | E2: אחוז החסימה | F2: מספר נשים במועצה | G2: רוב לא יהודי | H2: קו ירוק | I2: חרדי
B3: אבו גוש | C3: 9 | D3: 7 | F3: =SUMIF(DataSheet!$A$2:$A$20014,'ריכוז נתונים'!B3,DataSheet!$K$2:$K$20014) -> 0 | G3: 1
B4: אבו סנאן | C4: 11 | D4: 12 | F4: =SUMIF(DataSheet!$A$2:$A$20014,'ריכוז נתונים'!B4,DataSheet!$K$2:$K$20014) -> 0 | G4: 1
B5: אבן יהודה | C5: 11 | D5: 12 | F5: =SUMIF(DataSheet!$A$2:$A$20014,'ריכוז נתונים'!B5,DataSheet!$K$2:$K$20014) -> 3
B6: אום אל-פחם | C6: 17 | D6: 50 | F6: =SUMIF(DataSheet!$A$2:$A$20014,'ריכוז נתונים'!B6,DataSheet!$K$2:$K$20014) -> 0 | G6: 1
B7: אופקים | C7: 15 | D7: 27 | F7: =SUMIF(DataSheet!$A$2:$A$20014,'ריכוז נתונים'!B7,DataSheet!$K$2:$K$20014) -> 0
B8: אור יהודה | C8: 15 | D8: 36 | F8: =SUMIF(DataSheet!$A$2:$A$20014,'ריכוז נתונים'!B8,DataSheet!$K$2:$K$20014) -> 6
B9: אור עקיבא | C9: 13 | D9: 19 | F9: =SUMIF(DataSheet!$A$2:$A$20014,'ריכוז נתונים'!B9,DataSheet!$K$2:$K$20014) -> 1
B10: אורנית | C10: 9 | D10: 8 | F10: =SUMIF(DataSheet!$A$2:$A$20014,'ריכוז נתונים'!B10,DataSheet!$K$2:$K$20014) -> 0 | H10: 1
B11: אזור | C11: 11 | D11: 12 | F11: =SUMIF(DataSheet!$A$2:$A$20014,'ריכוז נתונים'!B11,DataSheet!$K$2:$K$20014) -> 2
B12: אילת | C12: 17 | D12: 61 | F12: =SUMIF(DataSheet!$A$2:$A$20014,'ריכוז נתונים'!B12,DataSheet!$K$2:$K$20014) -> 3
B13: אכסאל | C13: 11 | D13: 13 | F13: =SUMIF(DataSheet!$A$2:$A$20014,'ריכוז נתונים'!B13,DataSheet!$K$2:$K$20014) -> 0 | G13: 1
B14: אליכין | C14: 9 | D14: 3 | F14: =SUMIF(DataSheet!$A$2:$A$20014,'ריכוז נתונים'!B14,DataSheet!$K$2:$K$20014) -> 2 | H14: 1
B15: אלעד | C15: 15 | D15: 41 | F15: =SUMIF(DataSheet!$A$2:$A$20014,'ריכוז נתונים'!B15,DataSheet!$K$2:$K$20014) -> 0 | I15: 1
B16: אלפי מנשה | C16: 9 | D16: 8 | F16: =SUMIF(DataSheet!$A$2:$A$20014,'ריכוז נתונים'!B16,DataSheet!$K$2:$K$20014) -> 2
B17: אלקנה | C17: 9 | D17: 4 | F17: =SUMIF(DataSheet!$A$2:$A$20014,'ריכוז נתונים'!B17,DataSheet!$K$2:$K$20014) -> 1 | H17: 1
B18: אפרתה | C18: 9 | D18: 9 | F18: =SUMIF(DataSheet!$A$2:$A$20014,'ריכוז נתונים'!B18,DataSheet!$K$2:$K$20014) -> 3 | H18: 1
B19: אריאל | C19: 13 | D19: 18.5 | F19: =SUMIF(DataSheet!$A$2:$A$20014,'ריכוז נתונים'!B19,DataSheet!$K$2:$K$20014) -> 4 | H19: 1
B20: אשדוד | C20: 27 | D20: 240 | F20: =SUMIF(DataSheet!$A$2:$A$20014,'ריכוז נתונים'!B20,DataSheet!$K$2:$K$20014) -> 3
B21: אשקלון | C21: 23 | D21: 132 | F21: =SUMIF(DataSheet!$A$2:$A$20014,'ריכוז נתונים'!B21,DataSheet!$K$2:$K$20014) -> 4
B22: באר יעקב | C22: 11 | D22: 14 | F22: =SUMIF(DataSheet!$A$2:$A$20014,'ריכוז נתונים'!B22,DataSheet!$K$2:$K$20014) -> 2
B23: באר שבע | C23: 27 | D23: 209 | F23: =SUMIF(DataSheet!$A$2:$A$20014,'ריכוז נתונים'!B23,DataSheet!$K$2:$K$20014) -> 9
B24: בועיינה-נוג'ידאת | C24: 9 | D24: 8.8 | F24: =SUMIF(DataSheet!$A$2:$A$20014,'ריכוז נתונים'!B24,DataSheet!$K$2:$K$20014) -> 0 | G24: 1
B25: ביר אל-מכסור | C25: 9 | D25: 8.8 | F25: =SUMIF(DataSheet!$A$2:$A$20014,'ריכוז נתונים'!B25,DataSheet!$K$2:$K$20014) -> 0 | G25: 1
B26: בית אל | C26: 9 | D26: 6 | F26: =SUMIF(DataSheet!$A$2:$A$20014,'ריכוז נתונים'!B26,DataSheet!$K$2:$K$20014) -> 0 | H26: 1
B27: בית אריה | C27: 9 | D27: 4.3 | F27: =SUMIF(DataSheet!$A$2:$A$20014,'ריכוז נתונים'!B27,DataSheet!$K$2:$K$20014) -> 2 | H27: 1
B28: בית ג'ן | C28: 11 | D28: 11 | F28: =SUMIF(DataSheet!$A$2:$A$20014,'ריכוז נתונים'!B28,DataSheet!$K$2:$K$20014) -> 0 | G28: 1
B29: בית דגן | C29: 9 | D29: 6.8 | F29: =SUMIF(DataSheet!$A$2:$A$20014,'ריכוז נתונים'!B29,DataSheet!$K$2:$K$20014) -> 2
B30: בית שאן | C30: 13 | D30: 19 | F30: =SUMIF(DataSheet!$A$2:$A$20014,'ריכוז נתונים'!B30,DataSheet!$K$2:$K$20014) -> 1
B31: בית שמש | C31: 19 | D31: 97 | F31: =SUMIF(DataSheet!$A$2:$A$20014,'ריכוז נתונים'!B31,DataSheet!$K$2:$K$20014) -> 2
B32: ביתר עלית | C32: 15 | D32: 46 | F32: =SUMIF(DataSheet!$A$2:$A$20014,'ריכוז נתונים'!B32,DataSheet!$K$2:$K$20014) -> 0 | H32: 1 | I32: 1
B33: בני ברק | C33: 25 | D33: 180 | F33: =SUMIF(DataSheet!$A$2:$A$20014,'ריכוז נתונים'!B33,DataSheet!$K$2:$K$20014) -> 0 | I33: 1
B34: בני עי"ש | C34: 9 | D34: 7.5 | F34: =SUMIF(DataSheet!$A$2:$A$20014,'ריכוז נתונים'!B34,DataSheet!$K$2:$K$20014) -> 2
B35: בנימינה-גבעת עדה | C35: 11 | D35: 13.8 | F35: =SUMIF(DataSheet!$A$2:$A$20014,'ריכוז נתונים'!B35,DataSheet!$K$2:$K$20014) -> 4
B36: בסמ"ה | C36: 9 | D36: 9 | F36: =SUMIF(DataSheet!$A$2:$A$20014,'ריכוז נתונים'!B36,DataSheet!$K$2:$K$20014) -> 0 | G36: 1
B37: בסמת טבעון | C37: 9 | D37: 7 | F37: =SUMIF(DataSheet!$A$2:$A$20014,'ריכוז נתונים'!B37,DataSheet!$K$2:$K$20014) -> 0 | G37: 1
B38: בענה | C38: 9 | D38: 7.7 | F38: =SUMIF(DataSheet!$A$2:$A$20014,'ריכוז נתונים'!B38,DataSheet!$K$2:$K$20014) -> 0 | G38: 1
B39: בת ים | C39: 25 | D39: 157 | F39: =SUMIF(DataSheet!$A$2:$A$20014,'ריכוז נתונים'!B39,DataSheet!$K$2:$K$20014) -> 6
B40: ג'דיידה-מכר | C40: 13 | D40: 19 | F40: =SUMIF(DataSheet!$A$2:$A$20014,'ריכוז נתונים'!B40,DataSheet!$K$2:$K$20014) -> 0 | G40: 1
B41: ג'ולס | C41: 9 | D41: 6 | F41: =SUMIF(DataSheet!$A$2:$A$20014,'ריכוז נתונים'!B41,DataSheet!$K$2:$K$20014) -> 0 | G41: 1
B42: ג'לג'וליה | C42: 9 | D42: 9 | F42: =SUMIF(DataSheet!$A$2:$A$20014,'ריכוז נתונים'!B42,DataSheet!$K$2:$K$20014) -> 0 | G42: 1
B43: ג'סר א-זרקא | C43: 11 | D43: 13 | F43: =SUMIF(DataSheet!$A$2:$A$20014,'ריכוז נתונים'!B43,DataSheet!$K$2:$K$20014) -> 0 | G43: 1
B44: ג'ש (גוש חלב) | C44: 9 | D44: 3 | F44: =SUMIF(DataSheet!$A$2:$A$20014,'ריכוז נתונים'!B44,DataSheet!$K$2:$K$20014) -> 0 | G44: 1
B45: גבעת זאב | C45: 11 | D45: 15 | F45: =SUMIF(DataSheet!$A$2:$A$20014,'ריכוז נתונים'!B45,DataSheet!$K$2:$K$20014) -> 3 | H45: 1
B46: גבעת שמואל | C46: 13 | D46: 24 | F46: =SUMIF(DataSheet!$A$2:$A$20014,'ריכוז נתונים'!B46,DataSheet!$K$2:$K$20014) -> 4
B47: גבעתיים | C47: 17 | D47: 58 | F47: =SUMIF(DataSheet!$A$2:$A$20014,'ריכוז נתונים'!B47,DataSheet!$K$2:$K$20014) -> 8
B48: גדרה | C48: 13 | D48: 23 | F48: =SUMIF(DataSheet!$A$2:$A$20014,'ריכוז נתונים'!B48,DataSheet!$K$2:$K$20014) -> 4
B49: גן יבנה | C49: 13 | D49: 21 | F49: =SUMIF(DataSheet!$A$2:$A$20014,'ריכוז נתונים'!B49,DataSheet!$K$2:$K$20014) -> 4
B50: גני תקווה | C50: 13 | D50: 15 | F50: =SUMIF(DataSheet!$A$2:$A$20014,'ריכוז נתונים'!B50,DataSheet!$K$2:$K$20014) -> 4
B51: דאלית אל-כרמל | C51: 13 | D51: 16 | F51: =SUMIF(DataSheet!$A$2:$A$20014,'ריכוז נתונים'!B51,DataSheet!$K$2:$K$20014) -> 0 | G51: 1
B52: דבוריה | C52: 9 | D52: 9 | F52: =SUMIF(DataSheet!$A$2:$A$20014,'ריכוז נתונים'!B52,DataSheet!$K$2:$K$20014) -> 0 | G52: 1
B53: דייר אל-אסד | C53: 11 | D53: 11 | F53: =SUMIF(DataSheet!$A$2:$A$20014,'ריכוז נתונים'!B53,DataSheet!$K$2:$K$20014) -> 0 | G53: 1
B54: דייר חנא | C54: 9 | D54: 9.7 | F54: =SUMIF(DataSheet!$A$2:$A$20014,'ריכוז נתונים'!B54,DataSheet!$K$2:$K$20014) -> 0 | G54: 1
B55: דימונה | C55: 15 | D55: 38 | F55: =SUMIF(DataSheet!$A$2:$A$20014,'ריכוז נתונים'!B55,DataSheet!$K$2:$K$20014) -> 3
B56: הוד השרון | C56: 17 | D56: 53 | F56: =SUMIF(DataSheet!$A$2:$A$20014,'ריכוז נתונים'!B56,DataSheet!$K$2:$K$20014) -> 6
B57: הר אדר | C57: 9 | D57: 4 | F57: =SUMIF(DataSheet!$A$2:$A$20014,'ריכוז נתונים'!B57,DataSheet!$K$2:$K$20014) -> 4 | H57: 1
B58: הרצליה | C58: 19 | D58: 99.6 | F58: =SUMIF(DataSheet!$A$2:$A$20014,'ריכוז נתונים'!B58,DataSheet!$K$2:$K$20014) -> 4
B59: זכרון יעקב | C59: 13 | D59: 21.8 | F59: =SUMIF(DataSheet!$A$2:$A$20014,'ריכוז נתונים'!B59,DataSheet!$K$2:$K$20014) -> 4
B60: זמר | C60: 9 | D60: 6 | F60: =SUMIF(DataSheet!$A$2:$A$20014,'ריכוז נתונים'!B60,DataSheet!$K$2:$K$20014) -> 0
B61: זרזיר | C61: 9 | D61: 7 | F61: =SUMIF(DataSheet!$A$2:$A$20014,'ריכוז נתונים'!B61,DataSheet!$K$2:$K$20014) -> 0 | G61: 1
B62: חדרה | C62: 19 | D62: 91 | F62: =SUMIF(DataSheet!$A$2:$A$20014,'ריכוז נתונים'!B62,DataSheet!$K$2:$K$20014) -> 3
B63: חולון | C63: 27 | D63: 203 | F63: =SUMIF(DataSheet!$A$2:$A$20014,'ריכוז נתונים'!B63,DataSheet!$K$2:$K$20014) -> 3
B64: חורה | C64: 11 | D64: 13 | F64: =SUMIF(DataSheet!$A$2:$A$20014,'ריכוז נתונים'!B64,DataSheet!$K$2:$K$20014) -> 0 | G64: 1
B65: חורפיש | C65: 9 | D65: 6 | F65: =SUMIF(DataSheet!$A$2:$A$20014,'ריכוז נתונים'!B65,DataSheet!$K$2:$K$20014) -> 0 | G65: 1
B66: חיפה | C66: 31 | D66: 310 | F66: =SUMIF(DataSheet!$A$2:$A$20014,'ריכוז נתונים'!B66,DataSheet!$K$2:$K$20014) -> 6
B67: חצור הגלילית | C67: 9 | D67: 9.9 | F67: =SUMIF(DataSheet!$A$2:$A$20014,'ריכוז נתונים'!B67,DataSheet!$K$2:$K$20014) -> 1
B68: חריש | C68: 7 | D68: 10 | F68: =SUMIF(DataSheet!$A$2:$A$20014,'ריכוז נתונים'!B68,DataSheet!$K$2:$K$20014) -> 3
B69: טבריה | C69: 15 | D69: 46 | F69: =SUMIF(DataSheet!$A$2:$A$20014,'ריכוז נתונים'!B69,DataSheet!$K$2:$K$20014) -> 0
B70: טובא-זנגריה | C70: 9 | D70: 6 | F70: =SUMIF(DataSheet!$A$2:$A$20014,'ריכוז נתונים'!B70,DataSheet!$K$2:$K$20014) -> 0 | G70: 1
B71: טורעאן | C71: 11 | D71: 13 | F71: =SUMIF(DataSheet!$A$2:$A$20014,'ריכוז נתונים'!B71,DataSheet!$K$2:$K$20014) -> 0 | G71: 1
B72: טירה | C72: 11 | D72: 24.4 | F72: =SUMIF(DataSheet!$A$2:$A$20014,'ריכוז נתונים'!B72,DataSheet!$K$2:$K$20014) -> 0 | G72: 1
B73: טירת כרמל | C73: 13 | D73: 21 | F73: =SUMIF(DataSheet!$A$2:$A$20014,'ריכוז נתונים'!B73,DataSheet!$K$2:$K$20014) -> 1
B74: טמרה | C74: 15 | D74: 31 | F74: =SUMIF(DataSheet!$A$2:$A$20014,'ריכוז נתונים'!B74,DataSheet!$K$2:$K$20014) -> 0 | G74: 1
B75: יאנוח-ג'ת | C75: 9 | D75: 6 | F75: =SUMIF(DataSheet!$A$2:$A$20014,'ריכוז נתונים'!B75,DataSheet!$K$2:$K$20014) -> 0 | G75: 1
B76: יבנאל | C76: 9 | D76: 4 | F76: =SUMIF(DataSheet!$A$2:$A$20014,'ריכוז נתונים'!B76,DataSheet!$K$2:$K$20014) -> 1
B77: יבנה | C77: 15 | D77: 37 | F77: =SUMIF(DataSheet!$A$2:$A$20014,'ריכוז נתונים'!B77,DataSheet!$K$2:$K$20014) -> 1
B78: יהוד-מונוסון | C78: 15 | D78: 29.9 | F78: =SUMIF(DataSheet!$A$2:$A$20014,'ריכוז נתונים'!B78,DataSheet!$K$2:$K$20014) -> 3
B79: יסוד המעלה | C79: 7 | D79: 1.5 | F79: =SUMIF(DataSheet!$A$2:$A$20014,'ריכוז נתונים'!B79,DataSheet!$K$2:$K$20014) -> 2
B80: יפיע | C80: 13 | D80: 18 | F80: =SUMIF(DataSheet!$A$2:$A$20014,'ריכוז נתונים'!B80,DataSheet!$K$2:$K$20014) -> 0 | G80: 1
B81: יקנעם עילית | C81: 13 | D81: 21.5 | F81: =SUMIF(DataSheet!$A$2:$A$20014,'ריכוז נתונים'!B81,DataSheet!$K$2:$K$20014) -> 2
B82: ירושלים | C82: 31 | D82: 980 | F82: =SUMIF(DataSheet!$A$2:$A$20014,'ריכוז נתונים'!B82,DataSheet!$K$2:$K$20014) -> 4
B83: ירכא | C83: 11 | D83: 14.3 | F83: =SUMIF(DataSheet!$A$2:$A$20014,'ריכוז נתונים'!B83,DataSheet!$K$2:$K$20014) -> 0 | G83: 1
B84: כאבול | C84: 11 | D84: 11 | F84: =SUMIF(DataSheet!$A$2:$A$20014,'ריכוז נתונים'!B84,DataSheet!$K$2:$K$20014) -> 0 | G84: 1
B85: כאוכב אבו אל-היג'א | C85: 9 | D85: 3 | F85: =SUMIF(DataSheet!$A$2:$A$20014,'ריכוז נתונים'!B85,DataSheet!$K$2:$K$20014) -> 0 | G85: 1
B86: כוכב יאיר | C86: 11 | D86: 10 | F86: =SUMIF(DataSheet!$A$2:$A$20014,'ריכוז נתונים'!B86,DataSheet!$K$2:$K$20014) -> 5
B87: כסיפה | C87: 11 | D87: 14 | F87: =SUMIF(DataSheet!$A$2:$A$20014,'ריכוז נתונים'!B87,DataSheet!$K$2:$K$20014) -> 0 | G87: 1
B88: כסרא-סמיע | C88: 9 | D88: 7 | F88: =SUMIF(DataSheet!$A$2:$A$20014,'ריכוז נתונים'!B88,DataSheet!$K$2:$K$20014) -> 0 | G88: 1
B89: כעביה-טבאש-חג'אג'רה | C89: 9 | D89: 5 | F89: =SUMIF(DataSheet!$A$2:$A$20014,'ריכוז נתונים'!B89,DataSheet!$K$2:$K$20014) -> 0 | G89: 1
B90: כפר ברא | C90: 9 | D90: 3.3 | F90: =SUMIF(DataSheet!$A$2:$A$20014,'ריכוז נתונים'!B90,DataSheet!$K$2:$K$20014) -> 0 | G90: 1
B91: כפר ורדים | C91: 9 | D91: 6.2 | F91: =SUMIF(DataSheet!$A$2:$A$20014,'ריכוז נתונים'!B91,DataSheet!$K$2:$K$20014) -> 5
B92: כפר יאסיף | C92: 9 | D92: 9.9 | F92: =SUMIF(DataSheet!$A$2:$A$20014,'ריכוז נתונים'!B92,DataSheet!$K$2:$K$20014) -> 0
B93: כפר יונה | C93: 13 | D93: 19.7 | F93: =SUMIF(DataSheet!$A$2:$A$20014,'ריכוז נתונים'!B93,DataSheet!$K$2:$K$20014) -> 3
B94: כפר כמא | C94: 9 | D94: 3.2 | F94: =SUMIF(DataSheet!$A$2:$A$20014,'ריכוז נתונים'!B94,DataSheet!$K$2:$K$20014) -> 0
B95: כפר כנא | C95: 13 | D95: 20.4 | F95: =SUMIF(DataSheet!$A$2:$A$20014,'ריכוז נתונים'!B95,DataSheet!$K$2:$K$20014) -> 0 | G95: 1
B96: כפר מנדא | C96: 13 | D96: 17.5 | F96: =SUMIF(DataSheet!$A$2:$A$20014,'ריכוז נתונים'!B96,DataSheet!$K$2:$K$20014) -> 0 | G96: 1
B97: כפר סבא | C97: 19 | D97: 98.1 | F97: =SUMIF(DataSheet!$A$2:$A$20014,'ריכוז נתונים'!B97,DataSheet!$K$2:$K$20014) -> 5
B98: כפר קאסם | C98: 13 | D98: 21 | F98: =SUMIF(DataSheet!$A$2:$A$20014,'ריכוז נתונים'!B98,DataSheet!$K$2:$K$20014) -> 0 | G98: 1
B99: כפר קרע | C99: 13 | D99: 17 | F99: =SUMIF(DataSheet!$A$2:$A$20014,'ריכוז נתונים'!B99,DataSheet!$K$2:$K$20014) -> 0 | G99: 1
B100: כפר תבור | C100: 9 | D100: 3.5 | F100: =SUMIF(DataSheet!$A$2:$A$20014,'ריכוז נתונים'!B100,DataSheet!$K$2:$K$20014) -> 0
...

Sheet DataSheet
A1: שם ישוב | B1: אותיות | D1: כינוי | E1: מועמד לר.רשות | F1: מס' סידורי | G1: מספר מושבים במועצה | H1: נכנס למועצה? | I1: תפקיד | J1: שם | K1: גבר או 1?
A2: אבו גוש | B2: א | D2: אבו גוש המאוחדת | E2: כ
A3: אבו גוש | B3: א | C3: =B3&" "&A3 -> א אבו גוש | D3: אבו גוש המאוחדת | E3: מועמד לראש רשות | F3: 1 | G3: =INDEX(תוצאות_בחירות,MATCH(C3,siot!$F$3:$F$1887,0),27) -> 3 | H3: =IF(OR(F3<G3,G3=F3),TRUE,FALSE) -> TRUE | I3: מועמד למועצה | J3: איברהים עזמי
A4: אבו גוש | B4: א | C4: =B4&" "&A4 -> א אבו גוש | D4: אבו גוש המאוחדת | F4: 2 | G4: =INDEX(תוצאות_בחירות,MATCH(C4,siot!$F$3:$F$1887,0),27) -> 3 | H4: =IF(OR(F4<G4,G4=F4),TRUE,FALSE) -> TRUE | I4: מועמד למועצה | J4: איברהים יוסף
A5: אבו גוש | B5: א | C5: =B5&" "&A5 -> א אבו גוש | D5: אבו גוש המאוחדת | F5: 3 | G5: =INDEX(תוצאות_בחירות,MATCH(C5,siot!$F$3:$F$1887,0),27) -> 3 | H5: =IF(OR(F5<G5,G5=F5),TRUE,FALSE) -> TRUE | I5: מועמד למועצה | J5: איברהים ראד
A6: אבו גוש | B6: א | C6: =B6&" "&A6 -> א אבו גוש | D6: אבו גוש המאוחדת | F6: 4 | G6: =INDEX(תוצאות_בחירות,MATCH(C6,siot!$F$3:$F$1887,0),27) -> 3 | H6: =IF(OR(F6<G6,G6=F6),TRUE,FALSE) -> FALSE | I6: מועמד למועצה | J6: איבראהים פוזי
A7: אבו גוש | B7: א | C7: =B7&" "&A7 -> א אבו גוש | D7: אבו גוש המאוחדת | F7: 5 | G7: =INDEX(תוצאות_בחירות,MATCH(C7,siot!$F$3:$F$1887,0),27) -> 3 | H7: =IF(OR(F7<G7,G7=F7),TRUE,FALSE) -> FALSE | I7: מועמד למועצה | J7: איבראהים חאתם
A8: אבו גוש | B8: א | C8: =B8&" "&A8 -> א אבו גוש | D8: אבו גוש המאוחדת | F8: 6 | G8: =INDEX(תוצאות_בחירות,MATCH(C8,siot!$F$3:$F$1887,0),27) -> 3 | H8: =IF(OR(F8<G8,G8=F8),TRUE,FALSE) -> FALSE | I8: מועמד למועצה | J8: אבראהים אישביב
A9: אבו גוש | B9: א | C9: =B9&" "&A9 -> א אבו גוש | D9: אבו גוש המאוחדת | F9: 7 | G9: =INDEX(תוצאות_בחירות,MATCH(C9,siot!$F$3:$F$1887,0),27) -> 3 | H9: =IF(OR(F9<G9,G9=F9),TRUE,FALSE) -> FALSE | I9: מועמד למועצה | J9: איברהים גואדט
A10: אבו גוש | B10: א | C10: =B10&" "&A10 -> א אבו גוש | D10: אבו גוש המאוחדת | F10: 8 | G10: =INDEX(תוצאות_בחירות,MATCH(C10,siot!$F$3:$F$1887,0),27) -> 3 | H10: =IF(OR(F10<G10,G10=F10),TRUE,FALSE) -> FALSE | I10: מועמד למועצה | J10: אברהים עזיז
A11: אבו גוש | B11: א | C11: =B11&" "&A11 -> א אבו גוש | D11: אבו גוש המאוחדת | F11: 9 | G11: =INDEX(תוצאות_בחירות,MATCH(C11,siot!$F$3:$F$1887,0),27) -> 3 | H11: =IF(OR(F11<G11,G11=F11),TRUE,FALSE) -> FALSE | I11: מועמד למועצה | J11: איברהים תאופיק
A12: אבו גוש | B12: ה | C12: =B12&" "&A12 -> ה אבו גוש | D12: אלפרג' | E12: כ | G12: =INDEX(תוצאות_בחירות,MATCH(C12,siot!$F$3:$F$1887,0),27) -> 3 | H12: =IF(OR(F12<G12,G12=F12),TRUE,FALSE) -> FALSE
A13: אבו גוש | B13: ה | C13: =B13&" "&A13 -> ה אבו גוש | D13: אלפרג' | E13: מועמד לראש רשות | F13: 1 | G13: =INDEX(תוצאות_בחירות,MATCH(C13,siot!$F$3:$F$1887,0),27) -> 3 | H13: =IF(OR(F13<G13,G13=F13),TRUE,FALSE) -> TRUE | I13: מועמד למועצה | J13: עבדאל רחמן ערסן
A14: אבו גוש | B14: ה | C14: =B14&" "&A14 -> ה אבו גוש | D14: אלפרג' | F14: 2 | G14: =INDEX(תוצאות_בחירות,MATCH(C14,siot!$F$3:$F$1887,0),27) -> 3 | H14: =IF(OR(F14<G14,G14=F14),TRUE,FALSE) -> TRUE | I14: מועמד למועצה | J14: עותמן אוסמה
A15: אבו גוש | B15: ה | C15: =B15&" "&A15 -> ה אבו גוש | D15: אלפרג' | F15: 3 | G15: =INDEX(תוצאות_בחירות,MATCH(C15,siot!$F$3:$F$1887,0),27) -> 3 | H15: =IF(OR(F15<G15,G15=F15),TRUE,FALSE) -> TRUE | I15: מועמד למועצה | J15: עבדאל רחמן שוקי
A16: אבו גוש | B16: ה | C16: =B16&" "&A16 -> ה אבו גוש | D16: אלפרג' | F16: 4 | G16: =INDEX(תוצאות_בחירות,MATCH(C16,siot!$F$3:$F$1887,0),27) -> 3 | H16: =IF(OR(F16<G16,G16=F16),TRUE,FALSE) -> FALSE | I16: מועמד למועצה | J16: אבו קטיש אנוור
A17: אבו גוש | B17: ה | C17: =B17&" "&A17 -> ה אבו גוש | D17: אלפרג' | F17: 5 | G17: =INDEX(תוצאות_בחירות,MATCH(C17,siot!$F$3:$F$1887,0),27) -> 3 | H17: =IF(OR(F17<G17,G17=F17),TRUE,FALSE) -> FALSE | I17: מועמד למועצה | J17: אבו גוש איהאב
A18: אבו גוש | B18: ה | C18: =B18&" "&A18 -> ה אבו גוש | D18: אלפרג' | F18: 6 | G18: =INDEX(תוצאות_בחירות,MATCH(C18,siot!$F$3:$F$1887,0),27) -> 3 | H18: =IF(OR(F18<G18,G18=F18),TRUE,FALSE) -> FALSE | I18: מועמד למועצה | J18: עותמאן סלאח
A19: אבו גוש | B19: ה | C19: =B19&" "&A19 -> ה אבו גוש | D19: אלפרג' | F19: 7 | G19: =INDEX(תוצאות_בחירות,MATCH(C19,siot!$F$3:$F$1887,0),27) -> 3 | H19: =IF(OR(F19<G19,G19=F19),TRUE,FALSE) -> FALSE | I19: מועמד למועצה | J19: עבד אלרחמאן ריפעאת
A20: אבו גוש | B20: למ | C20: =B20&" "&A20 -> למ אבו גוש | D20: הפיתוח והשוויון | E20: כ | G20: =INDEX(תוצאות_בחירות,MATCH(C20,siot!$F$3:$F$1887,0),27) -> 4 | H20: =IF(OR(F20<G20,G20=F20),TRUE,FALSE) -> FALSE
A21: אבו גוש | B21: למ | C21: =B21&" "&A21 -> למ אבו גוש | D21: הפיתוח והשוויון | E21: מועמד לראש רשות | F21: 1 | G21: =INDEX(תוצאות_בחירות,MATCH(C21,siot!$F$3:$F$1887,0),27) -> 4 | H21: =IF(OR(F21<G21,G21=F21),TRUE,FALSE) -> TRUE | I21: מועמד למועצה | J21: גבר עיסא
A22: אבו גוש | B22: למ | C22: =B22&" "&A22 -> למ אבו גוש | D22: הפיתוח והשוויון | F22: 2 | G22: =INDEX(תוצאות_בחירות,MATCH(C22,siot!$F$3:$F$1887,0),27) -> 4 | H22: =IF(OR(F22<G22,G22=F22),TRUE,FALSE) -> TRUE | I22: מועמד למועצה | J22: ג'בר חוסין
A23: אבו גוש | B23: למ | C23: =B23&" "&A23 -> למ אבו גוש | D23: הפיתוח והשוויון | F23: 3 | G23: =INDEX(תוצאות_בחירות,MATCH(C23,siot!$F$3:$F$1887,0),27) -> 4 | H23: =IF(OR(F23<G23,G23=F23),TRUE,FALSE) -> TRUE | I23: מועמד למועצה | J23: אבו גוש גוואד
A24: אבו גוש | B24: למ | C24: =B24&" "&A24 -> למ אבו גוש | D24: הפיתוח והשוויון | F24: 4 | G24: =INDEX(תוצאות_בחירות,MATCH(C24,siot!$F$3:$F$1887,0),27) -> 4 | H24: =IF(OR(F24<G24,G24=F24),TRUE,FALSE) -> TRUE | I24: מועמד למועצה | J24: ג'בר פאדי
A25: אבו גוש | B25: למ | C25: =B25&" "&A25 -> למ אבו גוש | D25: הפיתוח והשוויון | F25: 5 | G25: =INDEX(תוצאות_בחירות,MATCH(C25,siot!$F$3:$F$1887,0),27) -> 4 | H25: =IF(OR(F25<G25,G25=F25),TRUE,FALSE) -> FALSE | I25: מועמד למועצה | J25: עבד אל רחמן ראאד
A26: אבו גוש | B26: למ | C26: =B26&" "&A26 -> למ אבו גוש | D26: הפיתוח והשוויון | F26: 6 | G26: =INDEX(תוצאות_בחירות,MATCH(C26,siot!$F$3:$F$1887,0),27) -> 4 | H26: =IF(OR(F26<G26,G26=F26),TRUE,FALSE) -> FALSE | I26: מועמד למועצה | J26: ג'בר פארס
A27: אבו גוש | B27: למ | C27: =B27&" "&A27 -> למ אבו גוש | D27: הפיתוח והשוויון | F27: 7 | G27: =INDEX(תוצאות_בחירות,MATCH(C27,siot!$F$3:$F$1887,0),27) -> 4 | H27: =IF(OR(F27<G27,G27=F27),TRUE,FALSE) -> FALSE | I27: מועמד למועצה | J27: ג'בר מוהנד
A28: אבו גוש | B28: למ | C28: =B28&" "&A28 -> למ אבו גוש | D28: הפיתוח והשוויון | F28: 8 | G28: =INDEX(תוצאות_בחירות,MATCH(C28,siot!$F$3:$F$1887,0),27) -> 4 | H28: =IF(OR(F28<G28,G28=F28),TRUE,FALSE) -> FALSE | I28: מועמד למועצה | J28: ג'בר יוסף
A29: אבו גוש | B29: ע | C29: =B29&" "&A29 -> ע אבו גוש | D29: צדק חברתי | E29: ל | G29: =INDEX(תוצאות_בחירות,MATCH(C29,siot!$F$3:$F$1887,0),27) -> 0 | H29: =IF(OR(F29<G29,G29=F29),TRUE,FALSE) -> FALSE
A30: אבו גוש | B30: ע | C30: =B30&" "&A30 -> ע אבו גוש | D30: צדק חברתי | F30: 1 | G30: =INDEX(תוצאות_בחירות,MATCH(C30,siot!$F$3:$F$1887,0),27) -> 0 | H30: =IF(OR(F30<G30,G30=F30),TRUE,FALSE) -> FALSE | I30: מועמד למועצה | J30: עותמאן אבראהים
A31: אבו גוש | B31: ע | C31: =B31&" "&A31 -> ע אבו גוש | D31: צדק חברתי | F31: 2 | G31: =INDEX(תוצאות_בחירות,MATCH(C31,siot!$F$3:$F$1887,0),27) -> 0 | H31: =IF(OR(F31<G31,G31=F31),TRUE,FALSE) -> FALSE | I31: מועמד למועצה | J31: עבדאל רחמן פאויזי
A32: אבו גוש | B32: ע | C32: =B32&" "&A32 -> ע אבו גוש | D32: צדק חברתי | F32: 3 | G32: =INDEX(תוצאות_בחירות,MATCH(C32,siot!$F$3:$F$1887,0),27) -> 0 | H32: =IF(OR(F32<G32,G32=F32),TRUE,FALSE) -> FALSE | I32: מועמד למועצה | J32: עבדאל רחמן פראס
A33: אבו גוש | B33: ע | C33: =B33&" "&A33 -> ע אבו גוש | D33: צדק חברתי | F33: 4 | G33: =INDEX(תוצאות_בחירות,MATCH(C33,siot!$F$3:$F$1887,0),27) -> 0 | H33: =IF(OR(F33<G33,G33=F33),TRUE,FALSE) -> FALSE | I33: מועמד למועצה | J33: סאלח מוחמד
A34: אבו גוש | B34: ע | C34: =B34&" "&A34 -> ע אבו גוש | D34: צדק חברתי | F34: 5 | G34: =INDEX(תוצאות_בחירות,MATCH(C34,siot!$F$3:$F$1887,0),27) -> 0 | H34: =IF(OR(F34<G34,G34=F34),TRUE,FALSE) -> FALSE | I34: מועמד למועצה | J34: עבד אל רחמן מוסטפה
A35: אבו גוש | B35: ץ | C35: =B35&" "&A35 -> ץ אבו גוש | D35: רפורמה ובינוי | E35: ל | G35: =INDEX(תוצאות_בחירות,MATCH(C35,siot!$F$3:$F$1887,0),27) -> 0 | H35: =IF(OR(F35<G35,G35=F35),TRUE,FALSE) -> FALSE
A36: אבו גוש | B36: ץ | C36: =B36&" "&A36 -> ץ אבו גוש | D36: רפורמה ובינוי | F36: 1 | G36: =INDEX(תוצאות_בחירות,MATCH(C36,siot!$F$3:$F$1887,0),27) -> 0 | H36: =IF(OR(F36<G36,G36=F36),TRUE,FALSE) -> FALSE | I36: מועמד למועצה | J36: עבדול רחמן סאלח
A37: אבו גוש | B37: ץ | C37: =B37&" "&A37 -> ץ אבו גוש | D37: רפורמה ובינוי | F37: 2 | G37: =INDEX(תוצאות_בחירות,MATCH(C37,siot!$F$3:$F$1887,0),27) -> 0 | H37: =IF(OR(F37<G37,G37=F37),TRUE,FALSE) -> FALSE | I37: מועמד למועצה | J37: עבד אל רחמן אלכס
A38: אבו גוש | B38: ץ | C38: =B38&" "&A38 -> ץ אבו גוש | D38: רפורמה ובינוי | F38: 3 | G38: =INDEX(תוצאות_בחירות,MATCH(C38,siot!$F$3:$F$1887,0),27) -> 0 | H38: =IF(OR(F38<G38,G38=F38),TRUE,FALSE) -> FALSE | I38: מועמד למועצה | J38: עבדאל רחמן רדוואן
A39: אבו גוש | B39: ץ | C39: =B39&" "&A39 -> ץ אבו גוש | D39: רפורמה ובינוי | F39: 4 | G39: =INDEX(תוצאות_בחירות,MATCH(C39,siot!$F$3:$F$1887,0),27) -> 0 | H39: =IF(OR(F39<G39,G39=F39),TRUE,FALSE) -> FALSE | I39: מועמד למועצה | J39: עבדול רחמן עאדל
A40: אבו גוש | B40: ץ | C40: =B40&" "&A40 -> ץ אבו גוש | D40: רפורמה ובינוי | F40: 5 | G40: =INDEX(תוצאות_בחירות,MATCH(C40,siot!$F$3:$F$1887,0),27) -> 0 | H40: =IF(OR(F40<G40,G40=F40),TRUE,FALSE) -> FALSE | I40: מועמד למועצה | J40: עבד אלרחמן פאדי
A41: אבו סנאן | B41: א | C41: =B41&" "&A41 -> א אבו סנאן | D41: אחווה ושוויון | E41: כ | G41: =INDEX(תוצאות_בחירות,MATCH(C41,siot!$F$3:$F$1887,0),27) -> 0 | H41: =IF(OR(F41<G41,G41=F41),TRUE,FALSE) -> FALSE
A42: אבו סנאן | B42: א | C42: =B42&" "&A42 -> א אבו סנאן | D42: אחווה ושוויון | E42: מועמד לראש רשות | F42: 1 | G42: =INDEX(תוצאות_בחירות,MATCH(C42,siot!$F$3:$F$1887,0),27) -> 0 | H42: =IF(OR(F42<G42,G42=F42),TRUE,FALSE) -> FALSE | I42: מועמד למועצה | J42: עזאם קופטאן
A43: אבו סנאן | B43: א | C43: =B43&" "&A43 -> א אבו סנאן | D43: אחווה ושוויון | F43: 2 | G43: =INDEX(תוצאות_בחירות,MATCH(C43,siot!$F$3:$F$1887,0),27) -> 0 | H43: =IF(OR(F43<G43,G43=F43),TRUE,FALSE) -> FALSE | I43: מועמד למועצה | J43: עזאם מהדי
A44: אבו סנאן | B44: א | C44: =B44&" "&A44 -> א אבו סנאן | D44: אחווה ושוויון | F44: 3 | G44: =INDEX(תוצאות_בחירות,MATCH(C44,siot!$F$3:$F$1887,0),27) -> 0 | H44: =IF(OR(F44<G44,G44=F44),TRUE,FALSE) -> FALSE | I44: מועמד למועצה | J44: הזימה כמאל
A45: אבו סנאן | B45: א | C45: =B45&" "&A45 -> א אבו סנאן | D45: אחווה ושוויון | F45: 4 | G45: =INDEX(תוצאות_בחירות,MATCH(C45,siot!$F$3:$F$1887,0),27) -> 0 | H45: =IF(OR(F45<G45,G45=F45),TRUE,FALSE) -> FALSE | I45: מועמד למועצה | J45: עזאם מגדי
A46: אבו סנאן | B46: אד | C46: =B46&" "&A46 -> אד אבו סנאן | D46: הדרוזית המאוחדת | E46: ל | G46: =INDEX(תוצאות_בחירות,MATCH(C46,siot!$F$3:$F$1887,0),27) -> 2 | H46: =IF(OR(F46<G46,G46=F46),TRUE,FALSE) -> FALSE
A47: אבו סנאן | B47: אד | C47: =B47&" "&A47 -> אד אבו סנאן | D47: הדרוזית המאוחדת | F47: 1 | G47: =INDEX(תוצאות_בחירות,MATCH(C47,siot!$F$3:$F$1887,0),27) -> 2 | H47: =IF(OR(F47<G47,G47=F47),TRUE,FALSE) -> TRUE | I47: מועמד למועצה | J47: זיאדה אמל
A48: אבו סנאן | B48: אד | C48: =B48&" "&A48 -> אד אבו סנאן | D48: הדרוזית המאוחדת | F48: 2 | G48: =INDEX(תוצאות_בחירות,MATCH(C48,siot!$F$3:$F$1887,0),27) -> 2 | H48: =IF(OR(F48<G48,G48=F48),TRUE,FALSE) -> TRUE | I48: מועמד למועצה | J48: מרזוק האני
A49: אבו סנאן | B49: אד | C49: =B49&" "&A49 -> אד אבו סנאן | D49: הדרוזית המאוחדת | F49: 3 | G49: =INDEX(תוצאות_בחירות,MATCH(C49,siot!$F$3:$F$1887,0),27) -> 2 | H49: =IF(OR(F49<G49,G49=F49),TRUE,FALSE) -> FALSE | I49: מועמד למועצה | J49: קיס חסן
A50: אבו סנאן | B50: אד | C50: =B50&" "&A50 -> אד אבו סנאן | D50: הדרוזית המאוחדת | F50: 4 | G50: =INDEX(תוצאות_בחירות,MATCH(C50,siot!$F$3:$F$1887,0),27) -> 2 | H50: =IF(OR(F50<G50,G50=F50),TRUE,FALSE) -> FALSE | I50: מועמד למועצה | J50: ספדי סעיד
A51: אבו סנאן | B51: אד | C51: =B51&" "&A51 -> אד אבו סנאן | D51: הדרוזית המאוחדת | F51: 5 | G51: =INDEX(תוצאות_בחירות,MATCH(C51,siot!$F$3:$F$1887,0),27) -> 2 | H51: =IF(OR(F51<G51,G51=F51),TRUE,FALSE) -> FALSE | I51: מועמד למועצה | J51: הזימה סלמאן
A52: אבו סנאן | B52: אד | C52: =B52&" "&A52 -> אד אבו סנאן | D52: הדרוזית המאוחדת | F52: 6 | G52: =INDEX(תוצאות_בחירות,MATCH(C52,siot!$F$3:$F$1887,0),27) -> 2 | H52: =IF(OR(F52<G52,G52=F52),TRUE,FALSE) -> FALSE | I52: מועמד למועצה | J52: עסאף ראיד
A53: אבו סנאן | B53: אד | C53: =B53&" "&A53 -> אד אבו סנאן | D53: הדרוזית המאוחדת | F53: 7 | G53: =INDEX(תוצאות_בחירות,MATCH(C53,siot!$F$3:$F$1887,0),27) -> 2 | H53: =IF(OR(F53<G53,G53=F53),TRUE,FALSE) -> FALSE | I53: מועמד למועצה | J53: ח'יר ג'מאל
A54: אבו סנאן | B54: אד | C54: =B54&" "&A54 -> אד אבו סנאן | D54: הדרוזית המאוחדת | F54: 8 | G54: =INDEX(תוצאות_בחירות,MATCH(C54,siot!$F$3:$F$1887,0),27) -> 2 | H54: =IF(OR(F54<G54,G54=F54),TRUE,FALSE) -> FALSE | I54: מועמד למועצה | J54: מרזוק גדעאן
A55: אבו סנאן | B55: ו | C55: =B55&" "&A55 -> ו אבו סנאן | D55: חד"ש | E55: ל | G55: =INDEX(תוצאות_בחירות,MATCH(C55,siot!$F$3:$F$1887,0),27) -> 3 | H55: =IF(OR(F55<G55,G55=F55),TRUE,FALSE) -> FALSE
A56: אבו סנאן | B56: ו | C56: =B56&" "&A56 -> ו אבו סנאן | D56: חד"ש | F56: 1 | G56: =INDEX(תוצאות_בחירות,MATCH(C56,siot!$F$3:$F$1887,0),27) -> 3 | H56: =IF(OR(F56<G56,G56=F56),TRUE,FALSE) -> TRUE | I56: מועמד למועצה | J56: מיח'איל נדים
A57: אבו סנאן | B57: ו | C57: =B57&" "&A57 -> ו אבו סנאן | D57: חד"ש | F57: 2 | G57: =INDEX(תוצאות_בחירות,MATCH(C57,siot!$F$3:$F$1887,0),27) -> 3 | H57: =IF(OR(F57<G57,G57=F57),TRUE,FALSE) -> TRUE | I57: מועמד למועצה | J57: נסרה אדיב
A58: אבו סנאן | B58: ו | C58: =B58&" "&A58 -> ו אבו סנאן | D58: חד"ש | F58: 3 | G58: =INDEX(תוצאות_בחירות,MATCH(C58,siot!$F$3:$F$1887,0),27) -> 3 | H58: =IF(OR(F58<G58,G58=F58),TRUE,FALSE) -> TRUE | I58: מועמד למועצה | J58: ח'ורי מיכאיל
A59: אבו סנאן | B59: ו | C59: =B59&" "&A59 -> ו אבו סנאן | D59: חד"ש | F59: 4 | G59: =INDEX(תוצאות_בחירות,MATCH(C59,siot!$F$3:$F$1887,0),27) -> 3 | H59: =IF(OR(F59<G59,G59=F59),TRUE,FALSE) -> FALSE | I59: מועמד למועצה | J59: עזאם סלמאן
A60: אבו סנאן | B60: ו | C60: =B60&" "&A60 -> ו אבו סנאן | D60: חד"ש | F60: 5 | G60: =INDEX(תוצאות_בחירות,MATCH(C60,siot!$F$3:$F$1887,0),27) -> 3 | H60: =IF(OR(F60<G60,G60=F60),TRUE,FALSE) -> FALSE | I60: מועמד למועצה | J60: אבריק ואם
A61: אבו סנאן | B61: ו | C61: =B61&" "&A61 -> ו אבו סנאן | D61: חד"ש | F61: 6 | G61: =INDEX(תוצאות_בחירות,MATCH(C61,siot!$F$3:$F$1887,0),27) -> 3 | H61: =IF(OR(F61<G61,G61=F61),TRUE,FALSE) -> FALSE | I61: מועמד למועצה | J61: חזאן חאתם
A62: אבו סנאן | B62: ו | C62: =B62&" "&A62 -> ו אבו סנאן | D62: חד"ש | F62: 7 | G62: =INDEX(תוצאות_בחירות,MATCH(C62,siot!$F$3:$F$1887,0),27) -> 3 | H62: =IF(OR(F62<G62,G62=F62),TRUE,FALSE) -> FALSE | I62: מועמד למועצה | J62: דבאג'ה בסאם
A63: אבו סנאן | B63: ו | C63: =B63&" "&A63 -> ו אבו סנאן | D63: חד"ש | F63: 8 | G63: =INDEX(תוצאות_בחירות,MATCH(C63,siot!$F$3:$F$1887,0),27) -> 3 | H63: =IF(OR(F63<G63,G63=F63),TRUE,FALSE) -> FALSE | I63: מועמד למועצה | J63: נאסר שאדיה
A64: אבו סנאן | B64: ו | C64: =B64&" "&A64 -> ו אבו סנאן | D64: חד"ש | F64: 9 | G64: =INDEX(תוצאות_בחירות,MATCH(C64,siot!$F$3:$F$1887,0),27) -> 3 | H64: =IF(OR(F64<G64,G64=F64),TRUE,FALSE) -> FALSE | I64: מועמד למועצה | J64: מוסא נאיף
A65: אבו סנאן | B65: ו | C65: =B65&" "&A65 -> ו אבו סנאן | D65: חד"ש | F65: 10 | G65: =INDEX(תוצאות_בחירות,MATCH(C65,siot!$F$3:$F$1887,0),27) -> 3 | H65: =IF(OR(F65<G65,G65=F65),TRUE,FALSE) -> FALSE | I65: מועמד למועצה | J65: ג'הג'אה ודיע
A66: אבו סנאן | B66: ו | C66: =B66&" "&A66 -> ו אבו סנאן | D66: חד"ש | F66: 11 | G66: =INDEX(תוצאות_בחירות,MATCH(C66,siot!$F$3:$F$1887,0),27) -> 3 | H66: =IF(OR(F66<G66,G66=F66),TRUE,FALSE) -> FALSE | I66: מועמד למועצה | J66: הזימה שריף
A67: אבו סנאן | B67: ו | C67: =B67&" "&A67 -> ו אבו סנאן | D67: חד"ש | F67: 12 | G67: =INDEX(תוצאות_בחירות,MATCH(C67,siot!$F$3:$F$1887,0),27) -> 3 | H67: =IF(OR(F67<G67,G67=F67),TRUE,FALSE) -> FALSE | I67: מועמד למועצה | J67: סנונו עותמאן
... A77: אבו סנאן | B77: ו | C77: =B77&" "&A77 -> ו אבו סנאן | D77: חד"ש | F77: 22 | G77: =INDEX(תוצאות_בחירות,MATCH(C77,siot!$F$3:$F$1887,0),27) -> 3 | H77: =IF(OR(F77<G77,G77=F77),TRUE,FALSE) -> FALSE | I77: מועמד למועצה | J77: נסרה רפיק
A78: אבו סנאן | B78: ז | C78: =B78&" "&A78 -> ז אבו סנאן | D78: המתקדמת | E78: כ | G78: =INDEX(תוצאות_בחירות,MATCH(C78,siot!$F$3:$F$1887,0),27) -> 0 | H78: =IF(OR(F78<G78,G78=F78),TRUE,FALSE) -> FALSE
A79: אבו סנאן | B79: ז | C79: =B79&" "&A79 -> ז אבו סנאן | D79: המתקדמת | E79: מועמד לראש רשות | F79: 1 | G79: =INDEX(תוצאות_בחירות,MATCH(C79,siot!$F$3:$F$1887,0),27) -> 0 | H79: =IF(OR(F79<G79,G79=F79),TRUE,FALSE) -> FALSE | I79: מועמד למועצה | J79: משלב נוהאד
A80: אבו סנאן | B80: ז | C80: =B80&" "&A80 -> ז אבו סנאן | D80: המתקדמת | F80: 2 | G80: =INDEX(תוצאות_בחירות,MATCH(C80,siot!$F$3:$F$1887,0),27) -> 0 | H80: =IF(OR(F80<G80,G80=F80),TRUE,FALSE) -> FALSE | I80: מועמד למועצה | J80: משלב מוחמד
A81: אבו סנאן | B81: ז | C81: =B81&" "&A81 -> ז אבו סנאן | D81: המתקדמת | F81: 3 | G81: =INDEX(תוצאות_בחירות,MATCH(C81,siot!$F$3:$F$1887,0),27) -> 0 | H81: =IF(OR(F81<G81,G81=F81),TRUE,FALSE) -> FALSE | I81: מועמד למועצה | J81: משלב חוסאם
A82: אבו סנאן | B82: ז | C82: =B82&" "&A82 -> ז אבו סנאן | D82: המתקדמת | F82: 4 | G82: =INDEX(תוצאות_בחירות,MATCH(C82,siot!$F$3:$F$1887,0),27) -> 0 | H82: =IF(OR(F82<G82,G82=F82),TRUE,FALSE) -> FALSE | I82: מועמד למועצה | J82: מושלב האדי
A83: אבו סנאן | B83: ז | C83: =B83&" "&A83 -> ז אבו סנאן | D83: המתקדמת | F83: 5 | G83: =INDEX(תוצאות_בחירות,MATCH(C83,siot!$F$3:$F$1887,0),27) -> 0 | H83: =IF(OR(F83<G83,G83=F83),TRUE,FALSE) -> FALSE | I83: מועמד למועצה | J83: משלב ח'ולה
A84: אבו סנאן | B84: יק | C84: =B84&" "&A84 -> יק אבו סנאן | D84: אלרסאלה | E84: ל | G84: =INDEX(תוצאות_בחירות,MATCH(C84,siot!$F$3:$F$1887,0),27) -> 1 | H84: =IF(OR(F84<G84,G84=F84),TRUE,FALSE) -> FALSE
A85: אבו סנאן | B85: יק | C85: =B85&" "&A85 -> יק אבו סנאן | D85: אלרסאלה | F85: 1 | G85: =INDEX(תוצאות_בחירות,MATCH(C85,siot!$F$3:$F$1887,0),27) -> 1 | H85: =IF(OR(F85<G85,G85=F85),TRUE,FALSE) -> TRUE | I85: מועמד למועצה | J85: אחמד כמאל
A86: אבו סנאן | B86: יק | C86: =B86&" "&A86 -> יק אבו סנאן | D86: אלרסאלה | F86: 2 | G86: =INDEX(תוצאות_בחירות,MATCH(C86,siot!$F$3:$F$1887,0),27) -> 1 | H86: =IF(OR(F86<G86,G86=F86),TRUE,FALSE) -> FALSE | I86: מועמד למועצה | J86: נעים עיד
A87: אבו סנאן | B87: יק | C87: =B87&" "&A87 -> יק אבו סנאן | D87: אלרסאלה | F87: 3 | G87: =INDEX(תוצאות_בחירות,MATCH(C87,siot!$F$3:$F$1887,0),27) -> 1 | H87: =IF(OR(F87<G87,G87=F87),TRUE,FALSE) -> FALSE | I87: מועמד למועצה | J87: סויטאת גאזי
A88: אבו סנאן | B88: יק | C88: =B88&" "&A88 -> יק אבו סנאן | D88: אלרסאלה | F88: 4 | G88: =INDEX(תוצאות_בחירות,MATCH(C88,siot!$F$3:$F$1887,0),27) -> 1 | H88: =IF(OR(F88<G88,G88=F88),TRUE,FALSE) -> FALSE | I88: מועמד למועצה | J88: מג'דוב מופלח
A89: אבו סנאן | B89: יק | C89: =B89&" "&A89 -> יק אבו סנאן | D89: אלרסאלה | F89: 5 | G89: =INDEX(תוצאות_בחירות,MATCH(C89,siot!$F$3:$F$1887,0),27) -> 1 | H89: =IF(OR(F89<G89,G89=F89),TRUE,FALSE) -> FALSE | I89: מועמד למועצה | J89: סואעד עלי
A90: אבו סנאן | B90: יק | C90: =B90&" "&A90 -> יק אבו סנאן | D90: אלרסאלה | F90: 6 | G90: =INDEX(תוצאות_בחירות,MATCH(C90,siot!$F$3:$F$1887,0),27) -> 1 | H90: =IF(OR(F90<G90,G90=F90),TRUE,FALSE) -> FALSE | I90: מועמד למועצה | J90: נעים עבד אל רחמאן
A91: אבו סנאן | B91: יק | C91: =B91&" "&A91 -> יק אבו סנאן | D91: אלרסאלה | F91: 7 | G91: =INDEX(תוצאות_בחירות,MATCH(C91,siot!$F$3:$F$1887,0),27) -> 1 | H91: =IF(OR(F91<G91,G91=F91),TRUE,FALSE) -> FALSE | I91: מועמד למועצה | J91: מוסלח מוחמד
A92: אבו סנאן | B92: יק | C92: =B92&" "&A92 -> יק אבו סנאן | D92: אלרסאלה | F92: 8 | G92: =INDEX(תוצאות_בחירות,MATCH(C92,siot!$F$3:$F$1887,0),27) -> 1 | H92: =IF(OR(F92<G92,G92=F92),TRUE,FALSE) -> FALSE | I92: מועמד למועצה | J92: אחמד חסן
A93: אבו סנאן | B93: יק | C93: =B93&" "&A93 -> יק אבו סנאן | D93: אלרסאלה | F93: 9 | G93: =INDEX(תוצאות_בחירות,MATCH(C93,siot!$F$3:$F$1887,0),27) -> 1 | H93: =IF(OR(F93<G93,G93=F93),TRUE,FALSE) -> FALSE | I93: מועמד למועצה | J93: נג'אר פארס
A94: אבו סנאן | B94: ך | C94: =B94&" "&A94 -> ך אבו סנאן | D94: גיל חדש | E94: כ | G94: =INDEX(תוצאות_בחירות,MATCH(C94,siot!$F$3:$F$1887,0),27) -> 0 | H94: =IF(OR(F94<G94,G94=F94),TRUE,FALSE) -> FALSE
A95: אבו סנאן | B95: ך | C95: =B95&" "&A95 -> ך אבו סנאן | D95: גיל חדש | E95: מועמד לראש רשות | F95: 1 | G95: =INDEX(תוצאות_בחירות,MATCH(C95,siot!$F$3:$F$1887,0),27) -> 0 | H95: =IF(OR(F95<G95,G95=F95),TRUE,FALSE) -> FALSE | I95: מועמד למועצה | J95: ביתם גסאן
A96: אבו סנאן | B96: ך | C96: =B96&" "&A96 -> ך אבו סנאן | D96: גיל חדש | F96: 2 | G96: =INDEX(תוצאות_בחירות,MATCH(C96,siot!$F$3:$F$1887,0),27) -> 0 | H96: =IF(OR(F96<G96,G96=F96),TRUE,FALSE) -> FALSE | I96: מועמד למועצה | J96: ביתם ריאד
A97: אבו סנאן | B97: ך | C97: =B97&" "&A97 -> ך אבו סנאן | D97: גיל חדש | F97: 3 | G97: =INDEX(תוצאות_בחירות,MATCH(C97,siot!$F$3:$F$1887,0),27) -> 0 | H97: =IF(OR(F97<G97,G97=F97),TRUE,FALSE) -> FALSE | I97: מועמד למועצה | J97: ביתם וופא
A98: אבו סנאן | B98: ך | C98: =B98&" "&A98 -> ך אבו סנאן | D98: גיל חדש | F98: 4 | G98: =INDEX(תוצאות_בחירות,MATCH(C98,siot!$F$3:$F$1887,0),27) -> 0 | H98: =IF(OR(F98<G98,G98=F98),TRUE,FALSE) -> FALSE | I98: מועמד למועצה | J98: ביתם יאסר
A99: אבו סנאן | B99: ך | C99: =B99&" "&A99 -> ך אבו סנאן | D99: גיל חדש | F99: 5 | G99: =INDEX(תוצאות_בחירות,MATCH(C99,siot!$F$3:$F$1887,0),27) -> 0 | H99: =IF(OR(F99<G99,G99=F99),TRUE,FALSE) -> FALSE | I99: מועמד למועצה | J99: מג'דוב מוחמד
A100: אבו סנאן | B100: ך | C100: =B100&" "&A100 -> ך אבו סנאן | D100: גיל חדש | F100: 6 | G100: =INDEX(תוצאות_בחירות,MATCH(C100,siot!$F$3:$F$1887,0),27) -> 0 | H100: =IF(OR(F100<G100,G100=F100),TRUE,FALSE) -> FALSE | I100: מועמד למועצה | J100: ביתם מגד
A101: אבו סנאן | B101: מ | C101: =B101&" "&A101 -> מ אבו סנאן | D101: אמנאר | E101: ל | G101: =INDEX(תוצאות_בחירות,MATCH(C101,siot!$F$3:$F$1887,0),27) -> 2 | H101: =IF(OR(F101<G101,G101=F101),TRUE,FALSE) -> FALSE
A102: אבו סנאן | B102: מ | C102: =B102&" "&A102 -> מ אבו סנאן | D102: אמנאר | F102: 1 | G102: =INDEX(תוצאות_בחירות,MATCH(C102,siot!$F$3:$F$1887,0),27) -> 2 | H102: =IF(OR(F102<G102,G102=F102),TRUE,FALSE) -> TRUE | I102: מועמד למועצה | J102: גדבאן מאזן
A103: אבו סנאן | B103: מ | C103: =B103&" "&A103 -> מ אבו סנאן | D103: אמנאר | F103: 2 | G103: =INDEX(תוצאות_בחירות,MATCH(C103,siot!$F$3:$F$1887,0),27) -> 2 | H103: =IF(OR(F103<G103,G103=F103),TRUE,FALSE) -> TRUE | I103: מועמד למועצה | J103: מוסא שחאדה
A104: אבו סנאן | B104: מ | C104: =B104&" "&A104 -> מ אבו סנאן | D104: אמנאר | F104: 3 | G104: =INDEX(תוצאות_בחירות,MATCH(C104,siot!$F$3:$F$1887,0),27) -> 2 | H104: =IF(OR(F104<G104,G104=F104),TRUE,FALSE) -> FALSE | I104: מועמד למועצה | J104: מסאלחה תורכי
A105: אבו סנאן | B105: מ | C105: =B105&" "&A105 -> מ אבו סנאן | D105: אמנאר | F105: 4 | G105: =INDEX(תוצאות_בחירות,MATCH(C105,siot!$F$3:$F$1887,0),27) -> 2 | H105: =IF(OR(F105<G105,G105=F105),TRUE,FALSE) -> FALSE | I105: מועמד למועצה | J105: מוסא שפיק
A106: אבו סנאן | B106: מ | C106: =B106&" "&A106 -> מ אבו סנאן | D106: אמנאר | F106: 5 | G106: =INDEX(תוצאות_בחירות,MATCH(C106,siot!$F$3:$F$1887,0),27) -> 2 | H106: =IF(OR(F106<G106,G106=F106),TRUE,FALSE) -> FALSE | I106: מועמד למועצה | J106: נאטור ח'ליל
A107: אבו סנאן | B107: מ | C107: =B107&" "&A107 -> מ אבו סנאן | D107: אמנאר | F107: 6 | G107: =INDEX(תוצאות_בחירות,MATCH(C107,siot!$F$3:$F$1887,0),27) -> 2 | H107: =IF(OR(F107<G107,G107=F107),TRUE,FALSE) -> FALSE | I107: מועמד למועצה | J107: רזוק ג'יהאד
A108: אבו סנאן | B108: מ | C108: =B108&" "&A108 -> מ אבו סנאן | D108: אמנאר | F108: 7 | G108: =INDEX(תוצאות_בחירות,MATCH(C108,siot!$F$3:$F$1887,0),27) -> 2 | H108: =IF(OR(F108<G108,G108=F108),TRUE,FALSE) -> FALSE | I108: מועמד למועצה | J108: חסן חוסין
A109: אבו סנאן | B109: נ | C109: =B109&" "&A109 -> נ אבו סנאן | D109: אלבלד | E109: כ | G109: =INDEX(תוצאות_בחירות,MATCH(C109,siot!$F$3:$F$1887,0),27) -> 0 | H109: =IF(OR(F109<G109,G109=F109),TRUE,FALSE) -> FALSE
...

Sheet siot
L1: עודכן ב: | O1: 23/10/2013 14:42:47
B3: סמל ישוב | C3: שם ישוב | D3: בז"ב | E3: אותיות | G3: שם | H3: שם מועמד לראש רשות | J3: סך קולות כשרים מדווח | K3: סה"כ קולות כשרים | L3: % קולות לרשימה | M3: קולות כשרים לרשימה | N3: % מחושב | O3: בוחרים מחושב | P3: מספר המושבים | Q3: האם עבר את אחוז החסימה | R3: מספר מושבים | V3: תוספת ראש העיר
B4: 472 | C4: אבו גוש | D4: 4617 | E4: למ | F4: =E4&" "&C4 -> למ אבו גוש | G4: הפיתוח והשוויון | H4: גבר עיסא | I4: =C4&" "&H4 -> אבו גוש גבר עיסא | J4: 3836 | K4: 3836 | L4: 0.60631939 | M4: 1420 | N4: 0.60631939 | O4: 1420 | P4: =VLOOKUP(C4,'ריכוז נתונים'!$B$3:$C$189,2) -> 9 | Q4: =IF(M4>K4/P4*0.75,TRUE,FALSE) -> TRUE | R4: =IF(Q4=TRUE,ROUND(P4*M4/K4,1),0) -> 3.3 | S4: =ROUND(K4/P4,0) -> 426 | T4: =SUMIF($C$4:$C$1887,C4,$R$4:$R$1887) -> 7.7 | U4: =IF(T4<>P4,"Gap","") -> Gap | V4: =IF(ISERROR(IF(INDEX(rosh!$O$4:$P$710,MATCH(I4,rosh!$O$4:$O$710,0),2)="Mayor",1,)),0,IF(INDEX(rosh!$O$4:$P$710,MATCH(I4,rosh!$O$4:$O$710,0),2)="Mayor",1,)) -> 1 | W4: =Q4&" "&C4 -> TRUE אבו גוש | X4: =SUMIF($W$4:$W$1887,W4,$M$4:$M$41887) -> 3265 | Y4: =IF(Q4=TRUE,ROUND(P4*M4/X4,0),) -> 4 | Z4: =SUMIF($C$4:$C$1887,C4,$Y$4:$Y$1887) -> 10 | AA4: =IF(Z4<>P4,"Gap","") -> Gap | AB4: =IF(AND(V4=1,OR(Z4=P4,Z4<P4)),Y4+1,Y4) -> 4
B5: 472 | C5: אבו גוש | D5: 4617 | E5: א | F5: =E5&" "&C5 -> א אבו גוש | G5: אבו גוש המאוחדת | H5: איברהים עזמי | I5: =C5&" "&H5 -> אבו גוש איברהים עזמי | J5: 3836 | K5: 3836 | L5: 0.3941076 | M5: 923 | N5: 0.3941076 | O5: 923 | P5: =VLOOKUP(C5,'ריכוז נתונים'!$B$3:$C$189,2) -> 9 | Q5: =IF(M5>K5/P5*0.75,TRUE,FALSE) -> TRUE | R5: =IF(Q5=TRUE,ROUND(P5*M5/K5,1),0) -> 2.2 | S5: =ROUND(K5/P5,0) -> 426 | T5: =SUMIF($C$4:$C$1887,C5,$R$4:$R$1887) -> 7.7 | U5: =IF(T5<>P5,"Gap","") -> Gap | V5: =IF(ISERROR(IF(INDEX(rosh!$O$4:$P$710,MATCH(I5,rosh!$O$4:$O$710,0),2)="Mayor",1,)),0,IF(INDEX(rosh!$O$4:$P$710,MATCH(I5,rosh!$O$4:$O$710,0),2)="Mayor",1,)) -> 0 | W5: =Q5&" "&C5 -> TRUE אבו גוש | X5: =SUMIF($W$4:$W$1887,W5,$M$4:$M$41887) -> 3265 | Y5: =IF(Q5=TRUE,ROUND(P5*M5/X5,0),) -> 3 | Z5: =SUMIF($C$4:$C$1887,C5,$Y$4:$Y$1887) -> 10 | AA5: =IF(Z5<>P5,"Gap","") -> Gap | AB5: =IF(AND(V5=1,OR(Z5=P5,Z5<P5)),Y5+1,Y5) -> 3
B6: 472 | C6: אבו גוש | D6: 4617 | E6: ה | F6: =E6&" "&C6 -> ה אבו גוש | G6: אלפרג' | H6: עבדאל רחמן ערסן | I6: =C6&" "&H6 -> אבו גוש עבדאל רחמן ערסן | J6: 3836 | K6: 3836 | L6: 0.39368061 | M6: 922 | N6: 0.39368061 | O6: 922 | P6: =VLOOKUP(C6,'ריכוז נתונים'!$B$3:$C$189,2) -> 9 | Q6: =IF(M6>K6/P6*0.75,TRUE,FALSE) -> TRUE | R6: =IF(Q6=TRUE,ROUND(P6*M6/K6,1),0) -> 2.2 | S6: =ROUND(K6/P6,0) -> 426 | T6: =SUMIF($C$4:$C$1887,C6,$R$4:$R$1887) -> 7.7 | U6: =IF(T6<>P6,"Gap","") -> Gap | V6: =IF(ISERROR(IF(INDEX(rosh!$O$4:$P$710,MATCH(I6,rosh!$O$4:$O$710,0),2)="Mayor",1,)),0,IF(INDEX(rosh!$O$4:$P$710,MATCH(I6,rosh!$O$4:$O$710,0),2)="Mayor",1,)) -> 0 | W6: =Q6&" "&C6 -> TRUE אבו גוש | X6: =SUMIF($W$4:$W$1887,W6,$M$4:$M$41887) -> 3265 | Y6: =IF(Q6=TRUE,ROUND(P6*M6/X6,0),) -> 3 | Z6: =SUMIF($C$4:$C$1887,C6,$Y$4:$Y$1887) -> 10 | AA6: =IF(Z6<>P6,"Gap","") -> Gap | AB6: =IF(AND(V6=1,OR(Z6=P6,Z6<P6)),Y6+1,Y6) -> 3
B7: 472 | C7: אבו גוש | D7: 4617 | E7: ץ | F7: =E7&" "&C7 -> ץ אבו גוש | G7: רפורמה ובינוי | I7: =C7&" "&H7 -> אבו גוש | J7: 3836 | K7: 3836 | L7: 0.12596072 | M7: 295 | N7: 0.12596072 | O7: 295 | P7: =VLOOKUP(C7,'ריכוז נתונים'!$B$3:$C$189,2) -> 9 | Q7: =IF(M7>K7/P7*0.75,TRUE,FALSE) -> FALSE | R7: =IF(Q7=TRUE,ROUND(P7*M7/K7,1),0) -> 0 | S7: =ROUND(K7/P7,0) -> 426 | T7: =SUMIF($C$4:$C$1887,C7,$R$4:$R$1887) -> 7.7 | U7: =IF(T7<>P7,"Gap","") -> Gap | V7: =IF(ISERROR(IF(INDEX(rosh!$O$4:$P$710,MATCH(I7,rosh!$O$4:$O$710,0),2)="Mayor",1,)),0,IF(INDEX(rosh!$O$4:$P$710,MATCH(I7,rosh!$O$4:$O$710,0),2)="Mayor",1,)) -> 0 | W7: =Q7&" "&C7 -> FALSE אבו גוש | X7: =SUMIF($W$4:$W$1887,W7,$M$4:$M$41887) -> 571 | Y7: =IF(Q7=TRUE,ROUND(P7*M7/X7,0),) -> 0 | Z7: =SUMIF($C$4:$C$1887,C7,$Y$4:$Y$1887) -> 10 | AA7: =IF(Z7<>P7,"Gap","") -> Gap | AB7: =IF(AND(V7=1,OR(Z7=P7,Z7<P7)),Y7+1,Y7) -> 0
B8: 472 | C8: אבו גוש | D8: 4617 | E8: ע | F8: =E8&" "&C8 -> ע אבו גוש | G8: צדק חברתי | I8: =C8&" "&H8 -> אבו גוש | J8: 3836 | K8: 3836 | L8: 0.11784799 | M8: 276 | N8: 0.11784799 | O8: 276 | P8: =VLOOKUP(C8,'ריכוז נתונים'!$B$3:$C$189,2) -> 9 | Q8: =IF(M8>K8/P8*0.75,TRUE,FALSE) -> FALSE | R8: =IF(Q8=TRUE,ROUND(P8*M8/K8,1),0) -> 0 | S8: =ROUND(K8/P8,0) -> 426 | T8: =SUMIF($C$4:$C$1887,C8,$R$4:$R$1887) -> 7.7 | U8: =IF(T8<>P8,"Gap","") -> Gap | V8: =IF(ISERROR(IF(INDEX(rosh!$O$4:$P$710,MATCH(I8,rosh!$O$4:$O$710,0),2)="Mayor",1,)),0,IF(INDEX(rosh!$O$4:$P$710,MATCH(I8,rosh!$O$4:$O$710,0),2)="Mayor",1,)) -> 0 | W8: =Q8&" "&C8 -> FALSE אבו גוש | X8: =SUMIF($W$4:$W$1887,W8,$M$4:$M$41887) -> 571 | Y8: =IF(Q8=TRUE,ROUND(P8*M8/X8,0),) -> 0 | Z8: =SUMIF($C$4:$C$1887,C8,$Y$4:$Y$1887) -> 10 | AA8: =IF(Z8<>P8,"Gap","") -> Gap | AB8: =IF(AND(V8=1,OR(Z8=P8,Z8<P8)),Y8+1,Y8) -> 0
B9: 473 | C9: אבו סנאן | D9: 8354 | E9: ו | F9: =E9&" "&C9 -> ו אבו סנאן | G9: חד"ש | I9: =C9&" "&H9 -> אבו סנאן | J9: 6989 | K9: 6989 | L9: 0.21734154 | M9: 1519 | N9: 0.21734154 | O9: 1519 | P9: =VLOOKUP(C9,'ריכוז נתונים'!$B$3:$C$189,2) -> 11 | Q9: =IF(M9>K9/P9*0.75,TRUE,FALSE) -> TRUE | R9: =IF(Q9=TRUE,ROUND(P9*M9/K9,1),0) -> 2.4 | S9: =ROUND(K9/P9,0) -> 635 | T9: =SUMIF($C$4:$C$1887,C9,$R$4:$R$1887) -> 10.3 | U9: =IF(T9<>P9,"Gap","") -> Gap | V9: =IF(ISERROR(IF(INDEX(rosh!$O$4:$P$710,MATCH(I9,rosh!$O$4:$O$710,0),2)="Mayor",1,)),0,IF(INDEX(rosh!$O$4:$P$710,MATCH(I9,rosh!$O$4:$O$710,0),2)="Mayor",1,)) -> 0 | W9: =Q9&" "&C9 -> TRUE אבו סנאן | X9: =SUMIF($W$4:$W$1887,W9,$M$4:$M$41887) -> 6542 | Y9: =IF(Q9=TRUE,ROUND(P9*M9/X9,0),) -> 3 | Z9: =SUMIF($C$4:$C$1887,C9,$Y$4:$Y$1887) -> 11 | AA9: =IF(Z9<>P9,"Gap","") | AB9: =IF(AND(V9=1,OR(Z9=P9,Z9<P9)),Y9+1,Y9) -> 3
B10: 473 | C10: אבו סנאן | D10: 8354 | E10: מ | F10: =E10&" "&C10 -> מ אבו סנאן | G10: אמנאר | I10: =C10&" "&H10 -> אבו סנאן | J10: 6989 | K10: 6989 | L10: 0.15080841 | M10: 1054 | N10: 0.15080841 | O10: 1054 | P10: =VLOOKUP(C10,'ריכוז נתונים'!$B$3:$C$189,2) -> 11 | Q10: =IF(M10>K10/P10*0.75,TRUE,FALSE) -> TRUE | R10: =IF(Q10=TRUE,ROUND(P10*M10/K10,1),0) -> 1.7 | S10: =ROUND(K10/P10,0) -> 635 | T10: =SUMIF($C$4:$C$1887,C10,$R$4:$R$1887) -> 10.3 | U10: =IF(T10<>P10,"Gap","") -> Gap | V10: =IF(ISERROR(IF(INDEX(rosh!$O$4:$P$710,MATCH(I10,rosh!$O$4:$O$710,0),2)="Mayor",1,)),0,IF(INDEX(rosh!$O$4:$P$710,MATCH(I10,rosh!$O$4:$O$710,0),2)="Mayor",1,)) -> 0 | W10: =Q10&" "&C10 -> TRUE אבו סנאן | X10: =SUMIF($W$4:$W$1887,W10,$M$4:$M$41887) -> 6542 | Y10: =IF(Q10=TRUE,ROUND(P10*M10/X10,0),) -> 2 | Z10: =SUMIF($C$4:$C$1887,C10,$Y$4:$Y$1887) -> 11 | AA10: =IF(Z10<>P10,"Gap","") | AB10: =IF(AND(V10=1,OR(Z10=P10,Z10<P10)),Y10+1,Y10) -> 2
B11: 473 | C11: אבו סנאן | D11: 8354 | E11: אד | F11: =E11&" "&C11 -> אד אבו סנאן | G11: הדרוזית המאוחדת | I11: =C11&" "&H11 -> אבו סנאן | J11: 6989 | K11: 6989 | L11: 0.14680212 | M11: 1026 | N11: 0.14680212 | O11: 1026 | P11: =VLOOKUP(C11,'ריכוז נתונים'!$B$3:$C$189,2) -> 11 | Q11: =IF(M11>K11/P11*0.75,TRUE,FALSE) -> TRUE | R11: =IF(Q11=TRUE,ROUND(P11*M11/K11,1),0) -> 1.6 | S11: =ROUND(K11/P11,0) -> 635 | T11: =SUMIF($C$4:$C$1887,C11,$R$4:$R$1887) -> 10.3 | U11: =IF(T11<>P11,"Gap","") -> Gap | V11: =IF(ISERROR(IF(INDEX(rosh!$O$4:$P$710,MATCH(I11,rosh!$O$4:$O$710,0),2)="Mayor",1,)),0,IF(INDEX(rosh!$O$4:$P$710,MATCH(I11,rosh!$O$4:$O$710,0),2)="Mayor",1,)) -> 0 | W11: =Q11&" "&C11 -> TRUE אבו סנאן | X11: =SUMIF($W$4:$W$1887,W11,$M$4:$M$41887) -> 6542 | Y11: =IF(Q11=TRUE,ROUND(P11*M11/X11,0),) -> 2 | Z11: =SUMIF($C$4:$C$1887,C11,$Y$4:$Y$1887) -> 11 | AA11: =IF(Z11<>P11,"Gap","") | AB11: =IF(AND(V11=1,OR(Z11=P11,Z11<P11)),Y11+1,Y11) -> 2
B12: 473 | C12: אבו סנאן | D12: 8354 | E12: נה | F12: =E12&" "&C12 -> נה אבו סנאן | G12: אלנזאהה | I12: =C12&" "&H12 -> אבו סנאן | J12: 6989 | K12: 6989 | L12: 0.11718415 | M12: 819 | N12: 0.11718415 | O12: 819 | P12: =VLOOKUP(C12,'ריכוז נתונים'!$B$3:$C$189,2) -> 11 | Q12: =IF(M12>K12/P12*0.75,TRUE,FALSE) -> TRUE | R12: =IF(Q12=TRUE,ROUND(P12*M12/K12,1),0) -> 1.3 | S12: =ROUND(K12/P12,0) -> 635 | T12: =SUMIF($C$4:$C$1887,C12,$R$4:$R$1887) -> 10.3 | U12: =IF(T12<>P12,"Gap","") -> Gap | V12: =IF(ISERROR(IF(INDEX(rosh!$O$4:$P$710,MATCH(I12,rosh!$O$4:$O$710,0),2)="Mayor",1,)),0,IF(INDEX(rosh!$O$4:$P$710,MATCH(I12,rosh!$O$4:$O$710,0),2)="Mayor",1,)) -> 0 | W12: =Q12&" "&C12 -> TRUE אבו סנאן | X12: =SUMIF($W$4:$W$1887,W12,$M$4:$M$41887) -> 6542 | Y12: =IF(Q12=TRUE,ROUND(P12*M12/X12,0),) -> 1 | Z12: =SUMIF($C$4:$C$1887,C12,$Y$4:$Y$1887) -> 11 | AA12: =IF(Z12<>P12,"Gap","") | AB12: =IF(AND(V12=1,OR(Z12=P12,Z12<P12)),Y12+1,Y12) -> 1
B13: 473 | C13: אבו סנאן | D13: 8354 | E13: עם | F13: =E13&" "&C13 -> עם אבו סנאן | G13: הערבית המאוחדת | I13: =C13&" "&H13 -> אבו סנאן | J13: 6989 | K13: 6989 | L13: 0.11160395 | M13: 780 | N13: 0.11160395 | O13: 780 | P13: =VLOOKUP(C13,'ריכוז נתונים'!$B$3:$C$189,2) -> 11 | Q13: =IF(M13>K13/P13*0.75,TRUE,FALSE) -> TRUE | R13: =IF(Q13=TRUE,ROUND(P13*M13/K13,1),0) -> 1.2 | S13: =ROUND(K13/P13,0) -> 635 | T13: =SUMIF($C$4:$C$1887,C13,$R$4:$R$1887) -> 10.3 | U13: =IF(T13<>P13,"Gap","") -> Gap | V13: =IF(ISERROR(IF(INDEX(rosh!$O$4:$P$710,MATCH(I13,rosh!$O$4:$O$710,0),2)="Mayor",1,)),0,IF(INDEX(rosh!$O$4:$P$710,MATCH(I13,rosh!$O$4:$O$710,0),2)="Mayor",1,)) -> 0 | W13: =Q13&" "&C13 -> TRUE אבו סנאן | X13: =SUMIF($W$4:$W$1887,W13,$M$4:$M$41887) -> 6542 | Y13: =IF(Q13=TRUE,ROUND(P13*M13/X13,0),) -> 1 | Z13: =SUMIF($C$4:$C$1887,C13,$Y$4:$Y$1887) -> 11 | AA13: =IF(Z13<>P13,"Gap","") | AB13: =IF(AND(V13=1,OR(Z13=P13,Z13<P13)),Y13+1,Y13) -> 1
B14: 473 | C14: אבו סנאן | D14: 8354 | E14: יק | F14: =E14&" "&C14 -> יק אבו סנאן | G14: אלרסאלה | I14: =C14&" "&H14 -> אבו סנאן | J14: 6989 | K14: 6989 | L14: 0.10831306 | M14: 757 | N14: 0.10831306 | O14: 757 | P14: =VLOOKUP(C14,'ריכוז נתונים'!$B$3:$C$189,2) -> 11 | Q14: =IF(M14>K14/P14*0.75,TRUE,FALSE) -> TRUE | R14: =IF(Q14=TRUE,ROUND(P14*M14/K14,1),0) -> 1.2 | S14: =ROUND(K14/P14,0) -> 635 | T14: =SUMIF($C$4:$C$1887,C14,$R$4:$R$1887) -> 10.3 | U14: =IF(T14<>P14,"Gap","") -> Gap | V14: =IF(ISERROR(IF(INDEX(rosh!$O$4:$P$710,MATCH(I14,rosh!$O$4:$O$710,0),2)="Mayor",1,)),0,IF(INDEX(rosh!$O$4:$P$710,MATCH(I14,rosh!$O$4:$O$710,0),2)="Mayor",1,)) -> 0 | W14: =Q14&" "&C14 -> TRUE אבו סנאן | X14: =SUMIF($W$4:$W$1887,W14,$M$4:$M$41887) -> 6542 | Y14: =IF(Q14=TRUE,ROUND(P14*M14/X14,0),) -> 1 | Z14: =SUMIF($C$4:$C$1887,C14,$Y$4:$Y$1887) -> 11 | AA14: =IF(Z14<>P14,"Gap","") | AB14: =IF(AND(V14=1,OR(Z14=P14,Z14<P14)),Y14+1,Y14) -> 1
B15: 473 | C15: אבו סנאן | D15: 8354 | E15: ר | F15: =E15&" "&C15 -> ר אבו סנאן | G15: האמונה לשינוי | I15: =C15&" "&H15 -> אבו סנאן | J15: 6989 | K15: 6989 | L15: 0.083989126 | M15: 587 | N15: 0.083989126 | O15: 587 | P15: =VLOOKUP(C15,'ריכוז נתונים'!$B$3:$C$189,2) -> 11 | Q15: =IF(M15>K15/P15*0.75,TRUE,FALSE) -> TRUE | R15: =IF(Q15=TRUE,ROUND(P15*M15/K15,1),0) -> 0.9 | S15: =ROUND(K15/P15,0) -> 635 | T15: =SUMIF($C$4:$C$1887,C15,$R$4:$R$1887) -> 10.3 | U15: =IF(T15<>P15,"Gap","") -> Gap | V15: =IF(ISERROR(IF(INDEX(rosh!$O$4:$P$710,MATCH(I15,rosh!$O$4:$O$710,0),2)="Mayor",1,)),0,IF(INDEX(rosh!$O$4:$P$710,MATCH(I15,rosh!$O$4:$O$710,0),2)="Mayor",1,)) -> 0 | W15: =Q15&" "&C15 -> TRUE אבו סנאן | X15: =SUMIF($W$4:$W$1887,W15,$M$4:$M$41887) -> 6542 | Y15: =IF(Q15=TRUE,ROUND(P15*M15/X15,0),) -> 1 | Z15: =SUMIF($C$4:$C$1887,C15,$Y$4:$Y$1887) -> 11 | AA15: =IF(Z15<>P15,"Gap","") | AB15: =IF(AND(V15=1,OR(Z15=P15,Z15<P15)),Y15+1,Y15) -> 1
B16: 473 | C16: אבו סנאן | D16: 8354 | E16: ס | F16: =E16&" "&C16 -> ס אבו סנאן | G16: אלנור ואלהודה | I16: =C16&" "&H16 -> אבו סנאן | J16: 6989 | K16: 6989 | L16: 0.059951352 | M16: 419 | N16: 0.059951352 | O16: 419 | P16: =VLOOKUP(C16,'ריכוז נתונים'!$B$3:$C$189,2) -> 11 | Q16: =IF(M16>K16/P16*0.75,TRUE,FALSE) -> FALSE | R16: =IF(Q16=TRUE,ROUND(P16*M16/K16,1),0) -> 0 | S16: =ROUND(K16/P16,0) -> 635 | T16: =SUMIF($C$4:$C$1887,C16,$R$4:$R$1887) -> 10.3 | U16: =IF(T16<>P16,"Gap","") -> Gap | V16: =IF(ISERROR(IF(INDEX(rosh!$O$4:$P$710,MATCH(I16,rosh!$O$4:$O$710,0),2)="Mayor",1,)),0,IF(INDEX(rosh!$O$4:$P$710,MATCH(I16,rosh!$O$4:$O$710,0),2)="Mayor",1,)) -> 0 | W16: =Q16&" "&C16 -> FALSE אבו סנאן | X16: =SUMIF($W$4:$W$1887,W16,$M$4:$M$41887) -> 447 | Y16: =IF(Q16=TRUE,ROUND(P16*M16/X16,0),) -> 0 | Z16: =SUMIF($C$4:$C$1887,C16,$Y$4:$Y$1887) -> 11 | AA16: =IF(Z16<>P16,"Gap","") | AB16: =IF(AND(V16=1,OR(Z16=P16,Z16<P16)),Y16+1,Y16) -> 0
B17: 473 | C17: אבו סנאן | D17: 8354 | E17: ך | F17: =E17&" "&C17 -> ך אבו סנאן | G17: גיל חדש | H17: ביתם גסאן | I17: =C17&" "&H17 -> אבו סנאן ביתם גסאן | J17: 6989 | K17: 6989 | L17: 0.0014308199 | M17: 10 | N17: 0.0014308199 | O17: 10 | P17: =VLOOKUP(C17,'ריכוז נתונים'!$B$3:$C$189,2) -> 11 | Q17: =IF(M17>K17/P17*0.75,TRUE,FALSE) -> FALSE | R17: =IF(Q17=TRUE,ROUND(P17*M17/K17,1),0) -> 0 | S17: =ROUND(K17/P17,0) -> 635 | T17: =SUMIF($C$4:$C$1887,C17,$R$4:$R$1887) -> 10.3 | U17: =IF(T17<>P17,"Gap","") -> Gap | V17: =IF(ISERROR(IF(INDEX(rosh!$O$4:$P$710,MATCH(I17,rosh!$O$4:$O$710,0),2)="Mayor",1,)),0,IF(INDEX(rosh!$O$4:$P$710,MATCH(I17,rosh!$O$4:$O$710,0),2)="Mayor",1,)) -> 0 | W17: =Q17&" "&C17 -> FALSE אבו סנאן | X17: =SUMIF($W$4:$W$1887,W17,$M$4:$M$41887) -> 447 | Y17: =IF(Q17=TRUE,ROUND(P17*M17/X17,0),) -> 0 | Z17: =SUMIF($C$4:$C$1887,C17,$Y$4:$Y$1887) -> 11 | AA17: =IF(Z17<>P17,"Gap","") | AB17: =IF(AND(V17=1,OR(Z17=P17,Z17<P17)),Y17+1,Y17) -> 0
B18: 473 | C18: אבו סנאן | D18: 8354 | E18: נ | F18: =E18&" "&C18 -> נ אבו סנאן | G18: אלבלד | H18: מושלב האני | I18: =C18&" "&H18 -> אבו סנאן מושלב האני | J18: 6989 | K18: 6989 | L18: 0.0012877379 | M18: 9 | N18: 0.0012877379 | O18: 9 | P18: =VLOOKUP(C18,'ריכוז נתונים'!$B$3:$C$189,2) -> 11 | Q18: =IF(M18>K18/P18*0.75,TRUE,FALSE) -> FALSE | R18: =IF(Q18=TRUE,ROUND(P18*M18/K18,1),0) -> 0 | S18: =ROUND(K18/P18,0) -> 635 | T18: =SUMIF($C$4:$C$1887,C18,$R$4:$R$1887) -> 10.3 | U18: =IF(T18<>P18,"Gap","") -> Gap | V18: =IF(ISERROR(IF(INDEX(rosh!$O$4:$P$710,MATCH(I18,rosh!$O$4:$O$710,0),2)="Mayor",1,)),0,IF(INDEX(rosh!$O$4:$P$710,MATCH(I18,rosh!$O$4:$O$710,0),2)="Mayor",1,)) -> 0 | W18: =Q18&" "&C18 -> FALSE אבו סנאן | X18: =SUMIF($W$4:$W$1887,W18,$M$4:$M$41887) -> 447 | Y18: =IF(Q18=TRUE,ROUND(P18*M18/X18,0),) -> 0 | Z18: =SUMIF($C$4:$C$1887,C18,$Y$4:$Y$1887) -> 11 | AA18: =IF(Z18<>P18,"Gap","") | AB18: =IF(AND(V18=1,OR(Z18=P18,Z18<P18)),Y18+1,Y18) -> 0
B19: 473 | C19: אבו סנאן | D19: 8354 | E19: א | F19: =E19&" "&C19 -> א אבו סנאן | G19: אחווה ושוויון | H19: עזאם קופטאן | I19: =C19&" "&H19 -> אבו סנאן עזאם קופטאן | J19: 6989 | K19: 6989 | L19: 0.00042924596 | M19: 3 | N19: 0.00042924596 | O19: 3 | P19: =VLOOKUP(C19,'ריכוז נתונים'!$B$3:$C$189,2) -> 11 | Q19: =IF(M19>K19/P19*0.75,TRUE,FALSE) -> FALSE | R19: =IF(Q19=TRUE,ROUND(P19*M19/K19,1),0) -> 0 | S19: =ROUND(K19/P19,0) -> 635 | T19: =SUMIF($C$4:$C$1887,C19,$R$4:$R$1887) -> 10.3 | U19: =IF(T19<>P19,"Gap","") -> Gap | V19: =IF(ISERROR(IF(INDEX(rosh!$O$4:$P$710,MATCH(I19,rosh!$O$4:$O$710,0),2)="Mayor",1,)),0,IF(INDEX(rosh!$O$4:$P$710,MATCH(I19,rosh!$O$4:$O$710,0),2)="Mayor",1,)) -> 0 | W19: =Q19&" "&C19 -> FALSE אבו סנאן | X19: =SUMIF($W$4:$W$1887,W19,$M$4:$M$41887) -> 447 | Y19: =IF(Q19=TRUE,ROUND(P19*M19/X19,0),) -> 0 | Z19: =SUMIF($C$4:$C$1887,C19,$Y$4:$Y$1887) -> 11 | AA19: =IF(Z19<>P19,"Gap","") | AB19: =IF(AND(V19=1,OR(Z19=P19,Z19<P19)),Y19+1,Y19) -> 0
B20: 473 | C20: אבו סנאן | D20: 8354 | E20: ז | F20: =E20&" "&C20 -> ז אבו סנאן | G20: המתקדמת | H20: משלב נוהאד | I20: =C20&" "&H20 -> אבו סנאן משלב נוהאד | J20: 6989 | K20: 6989 | L20: 0.00028616397 | M20: 2 | N20: 0.00028616397 | O20: 2 | P20: =VLOOKUP(C20,'ריכוז נתונים'!$B$3:$C$189,2) -> 11 | Q20: =IF(M20>K20/P20*0.75,TRUE,FALSE) -> FALSE | R20: =IF(Q20=TRUE,ROUND(P20*M20/K20,1),0) -> 0 | S20: =ROUND(K20/P20,0) -> 635 | T20: =SUMIF($C$4:$C$1887,C20,$R$4:$R$1887) -> 10.3 | U20: =IF(T20<>P20,"Gap","") -> Gap | V20: =IF(ISERROR(IF(INDEX(rosh!$O$4:$P$710,MATCH(I20,rosh!$O$4:$O$710,0),2)="Mayor",1,)),0,IF(INDEX(rosh!$O$4:$P$710,MATCH(I20,rosh!$O$4:$O$710,0),2)="Mayor",1,)) -> 0 | W20: =Q20&" "&C20 -> FALSE אבו סנאן | X20: =SUMIF($W$4:$W$1887,W20,$M$4:$M$41887) -> 447 | Y20: =IF(Q20=TRUE,ROUND(P20*M20/X20,0),) -> 0 | Z20: =SUMIF($C$4:$C$1887,C20,$Y$4:$Y$1887) -> 11 | AA20: =IF(Z20<>P20,"Gap","") | AB20: =IF(AND(V20=1,OR(Z20=P20,Z20<P20)),Y20+1,Y20) -> 0
B21: 473 | C21: אבו סנאן | D21: 8354 | E21: ף | F21: =E21&" "&C21 -> ף אבו סנאן | G21: אבו סנאן לכולנו | H21: מוסא נעים | I21: =C21&" "&H21 -> אבו סנאן מוסא נעים | J21: 6989 | K21: 6989 | L21: 0.00028616397 | M21: 2 | N21: 0.00028616397 | O21: 2 | P21: =VLOOKUP(C21,'ריכוז נתונים'!$B$3:$C$189,2) -> 11 | Q21: =IF(M21>K21/P21*0.75,TRUE,FALSE) -> FALSE | R21: =IF(Q21=TRUE,ROUND(P21*M21/K21,1),0) -> 0 | S21: =ROUND(K21/P21,0) -> 635 | T21: =SUMIF($C$4:$C$1887,C21,$R$4:$R$1887) -> 10.3 | U21: =IF(T21<>P21,"Gap","") -> Gap | V21: =IF(ISERROR(IF(INDEX(rosh!$O$4:$P$710,MATCH(I21,rosh!$O$4:$O$710,0),2)="Mayor",1,)),0,IF(INDEX(rosh!$O$4:$P$710,MATCH(I21,rosh!$O$4:$O$710,0),2)="Mayor",1,)) -> 0 | W21: =Q21&" "&C21 -> FALSE אבו סנאן | X21: =SUMIF($W$4:$W$1887,W21,$M$4:$M$41887) -> 447 | Y21: =IF(Q21=TRUE,ROUND(P21*M21/X21,0),) -> 0 | Z21: =SUMIF($C$4:$C$1887,C21,$Y$4:$Y$1887) -> 11 | AA21: =IF(Z21<>P21,"Gap","") | AB21: =IF(AND(V21=1,OR(Z21=P21,Z21<P21)),Y21+1,Y21) -> 0
B22: 473 | C22: אבו סנאן | D22: 8354 | E22: ץ | F22: =E22&" "&C22 -> ץ אבו סנאן | G22: אלאסתקאמה | H22: סעב גאזי | I22: =C22&" "&H22 -> אבו סנאן סעב גאזי | J22: 6989 | K22: 6989 | L22: 0.00028616397 | M22: 2 | N22: 0.00028616397 | O22: 2 | P22: =VLOOKUP(C22,'ריכוז נתונים'!$B$3:$C$189,2) -> 11 | Q22: =IF(M22>K22/P22*0.75,TRUE,FALSE) -> FALSE | R22: =IF(Q22=TRUE,ROUND(P22*M22/K22,1),0) -> 0 | S22: =ROUND(K22/P22,0) -> 635 | T22: =SUMIF($C$4:$C$1887,C22,$R$4:$R$1887) -> 10.3 | U22: =IF(T22<>P22,"Gap","") -> Gap | V22: =IF(ISERROR(IF(INDEX(rosh!$O$4:$P$710,MATCH(I22,rosh!$O$4:$O$710,0),2)="Mayor",1,)),0,IF(INDEX(rosh!$O$4:$P$710,MATCH(I22,rosh!$O$4:$O$710,0),2)="Mayor",1,)) -> 0 | W22: =Q22&" "&C22 -> FALSE אבו סנאן | X22: =SUMIF($W$4:$W$1887,W22,$M$4:$M$41887) -> 447 | Y22: =IF(Q22=TRUE,ROUND(P22*M22/X22,0),) -> 0 | Z22: =SUMIF($C$4:$C$1887,C22,$Y$4:$Y$1887) -> 11 | AA22: =IF(Z22<>P22,"Gap","") | AB22: =IF(AND(V22=1,OR(Z22=P22,Z22<P22)),Y22+1,Y22) -> 0
B23: 182 | C23: אבן יהודה | D23: 9172 | E23: לי | F23: =E23&" "&C23 -> לי אבן יהודה | G23: יותר בראשות אברהם הררי | H23: הררי אברהם | I23: =C23&" "&H23 -> אבן יהודה הררי אברהם | J23: 5229 | K23: 5229 | L23: 0.42073054 | M23: 2200 | N23: 0.42073054 | O23: 2200 | P23: =VLOOKUP(C23,'ריכוז נתונים'!$B$3:$C$189,2) -> 11 | Q23: =IF(M23>K23/P23*0.75,TRUE,FALSE) -> TRUE | R23: =IF(Q23=TRUE,ROUND(P23*M23/K23,1),0) -> 4.6 | S23: =ROUND(K23/P23,0) -> 475 | T23: =SUMIF($C$4:$C$1887,C23,$R$4:$R$1887) -> 9.9 | U23: =IF(T23<>P23,"Gap","") -> Gap | V23: =IF(ISERROR(IF(INDEX(rosh!$O$4:$P$710,MATCH(I23,rosh!$O$4:$O$710,0),2)="Mayor",1,)),0,IF(INDEX(rosh!$O$4:$P$710,MATCH(I23,rosh!$O$4:$O$710,0),2)="Mayor",1,)) -> 1 | W23: =Q23&" "&C23 -> TRUE אבן יהודה | X23: =SUMIF($W$4:$W$1887,W23,$M$4:$M$41887) -> 4739 | Y23: =IF(Q23=TRUE,ROUND(P23*M23/X23,0),) -> 5 | Z23: =SUMIF($C$4:$C$1887,C23,$Y$4:$Y$1887) -> 11 | AA23: =IF(Z23<>P23,"Gap","") | AB23: =IF(AND(V23=1,OR(Z23=P23,Z23<P23)),Y23+1,Y23) -> 6
B24: 182 | C24: אבן יהודה | D24: 9172 | E24: א | F24: =E24&" "&C24 -> א אבן יהודה | G24: המושבה שלנו | H24: אליאס ערן | I24: =C24&" "&H24 -> אבן יהודה אליאס ערן | J24: 5229 | K24: 5229 | L24: 0.3471027 | M24: 1815 | N24: 0.3471027 | O24: 1815 | P24: =VLOOKUP(C24,'ריכוז נתונים'!$B$3:$C$189,2) -> 11 | Q24: =IF(M24>K24/P24*0.75,TRUE,FALSE) -> TRUE | R24: =IF(Q24=TRUE,ROUND(P24*M24/K24,1),0) -> 3.8 | S24: =ROUND(K24/P24,0) -> 475 | T24: =SUMIF($C$4:$C$1887,C24,$R$4:$R$1887) -> 9.9 | U24: =IF(T24<>P24,"Gap","") -> Gap | V24: =IF(ISERROR(IF(INDEX(rosh!$O$4:$P$710,MATCH(I24,rosh!$O$4:$O$710,0),2)="Mayor",1,)),0,IF(INDEX(rosh!$O$4:$P$710,MATCH(I24,rosh!$O$4:$O$710,0),2)="Mayor",1,)) -> 0 | W24: =Q24&" "&C24 -> TRUE אבן יהודה | X24: =SUMIF($W$4:$W$1887,W24,$M$4:$M$41887) -> 4739 | Y24: =IF(Q24=TRUE,ROUND(P24*M24/X24,0),) -> 4 | Z24: =SUMIF($C$4:$C$1887,C24,$Y$4:$Y$1887) -> 11 | AA24: =IF(Z24<>P24,"Gap","") | AB24: =IF(AND(V24=1,OR(Z24=P24,Z24<P24)),Y24+1,Y24) -> 4
B25: 182 | C25: אבן יהודה | D25: 9172 | E25: פה | F25: =E25&" "&C25 -> פה אבן יהודה | G25: סיעת הצעירים בראשות עמרי פלד | I25: =C25&" "&H25 -> אבן יהודה | J25: 5229 | K25: 5229 | L25: 0.1384586 | M25: 724 | N25: 0.1384586 | O25: 724 | P25: =VLOOKUP(C25,'ריכוז נתונים'!$B$3:$C$189,2) -> 11 | Q25: =IF(M25>K25/P25*0.75,TRUE,FALSE) -> TRUE | R25: =IF(Q25=TRUE,ROUND(P25*M25/K25,1),0) -> 1.5 | S25: =ROUND(K25/P25,0) -> 475 | T25: =SUMIF($C$4:$C$1887,C25,$R$4:$R$1887) -> 9.9 | U25: =IF(T25<>P25,"Gap","") -> Gap | V25: =IF(ISERROR(IF(INDEX(rosh!$O$4:$P$710,MATCH(I25,rosh!$O$4:$O$710,0),2)="Mayor",1,)),0,IF(INDEX(rosh!$O$4:$P$710,MATCH(I25,rosh!$O$4:$O$710,0),2)="Mayor",1,)) -> 0 | W25: =Q25&" "&C25 -> TRUE אבן יהודה | X25: =SUMIF($W$4:$W$1887,W25,$M$4:$M$41887) -> 4739 | Y25: =IF(Q25=TRUE,ROUND(P25*M25/X25,0),) -> 2 | Z25: =SUMIF($C$4:$C$1887,C25,$Y$4:$Y$1887) -> 11 | AA25: =IF(Z25<>P25,"Gap","") | AB25: =IF(AND(V25=1,OR(Z25=P25,Z25<P25)),Y25+1,Y25) -> 2
B26: 182 | C26: אבן יהודה | D26: 9172 | E26: שס | F26: =E26&" "&C26 -> שס אבן יהודה | G26: התאחדות הספרדים העולמית שומרי תורה | I26: =C26&" "&H26 -> אבן יהודה | J26: 5229 | K26: 5229 | L26: 0.054503729 | M26: 285 | N26: 0.054503729 | O26: 285 | P26: =VLOOKUP(C26,'ריכוז נתונים'!$B$3:$C$189,2) -> 11 | Q26: =IF(M26>K26/P26*0.75,TRUE,FALSE) -> FALSE | R26: =IF(Q26=TRUE,ROUND(P26*M26/K26,1),0) -> 0 | S26: =ROUND(K26/P26,0) -> 475 | T26: =SUMIF($C$4:$C$1887,C26,$R$4:$R$1887) -> 9.9 | U26: =IF(T26<>P26,"Gap","") -> Gap | V26: =IF(ISERROR(IF(INDEX(rosh!$O$4:$P$710,MATCH(I26,rosh!$O$4:$O$710,0),2)="Mayor",1,)),0,IF(INDEX(rosh!$O$4:$P$710,MATCH(I26,rosh!$O$4:$O$710,0),2)="Mayor",1,)) -> 0 | W26: =Q26&" "&C26 -> FALSE אבן יהודה | X26: =SUMIF($W$4:$W$1887,W26,$M$4:$M$41887) -> 490 | Y26: =IF(Q26=TRUE,ROUND(P26*M26/X26,0),) -> 0 | Z26: =SUMIF($C$4:$C$1887,C26,$Y$4:$Y$1887) -> 11 | AA26: =IF(Z26<>P26,"Gap","") | AB26: =IF(AND(V26=1,OR(Z26=P26,Z26<P26)),Y26+1,Y26) -> 0
B27: 182 | C27: אבן יהודה | D27: 9172 | E27: טב | F27: =E27&" "&C27 -> טב אבן יהודה | G27: הבית היהודי בראשות משומר לוי | H27: לוי משומר | I27: =C27&" "&H27 -> אבן יהודה לוי משומר | J27: 5229 | K27: 5229 | L27: 0.039204437 | M27: 205 | N27: 0.039204437 | O27: 205 | P27: =VLOOKUP(C27,'ריכוז נתונים'!$B$3:$C$189,2) -> 11 | Q27: =IF(M27>K27/P27*0.75,TRUE,FALSE) -> FALSE | R27: =IF(Q27=TRUE,ROUND(P27*M27/K27,1),0) -> 0 | S27: =ROUND(K27/P27,0) -> 475 | T27: =SUMIF($C$4:$C$1887,C27,$R$4:$R$1887) -> 9.9 | U27: =IF(T27<>P27,"Gap","") -> Gap | V27: =IF(ISERROR(IF(INDEX(rosh!$O$4:$P$710,MATCH(I27,rosh!$O$4:$O$710,0),2)="Mayor",1,)),0,IF(INDEX(rosh!$O$4:$P$710,MATCH(I27,rosh!$O$4:$O$710,0),2)="Mayor",1,)) -> 0 | W27: =Q27&" "&C27 -> FALSE אבן יהודה | X27: =SUMIF($W$4:$W$1887,W27,$M$4:$M$41887) -> 490 | Y27: =IF(Q27=TRUE,ROUND(P27*M27/X27,0),) -> 0 | Z27: =SUMIF($C$4:$C$1887,C27,$Y$4:$Y$1887) -> 11 | AA27: =IF(Z27<>P27,"Gap","") | AB27: =IF(AND(V27=1,OR(Z27=P27,Z27<P27)),Y27+1,Y27) -> 0
B28: 2710 | C28: אום אל-פחם | D28: 30305 | E28: מ | F28: =E28&" "&C28 -> מ אום אל-פחם | G28: נור אלמוסתקבל | I28: =C28&" "&H28 -> אום אל-פחם | J28: 19197 | K28: 19197 | L28: 0.43053602 | M28: 8265 | N28: 0.43053602 | O28: 8265 | P28: =VLOOKUP(C28,'ריכוז נתונים'!$B$3:$C$189,2) -> 17 | Q28: =IF(M28>K28/P28*0.75,TRUE,FALSE) -> TRUE | R28: =IF(Q28=TRUE,ROUND(P28*M28/K28,1),0) -> 7.3 | S28: =ROUND(K28/P28,0) -> 1129 | T28: =SUMIF($C$4:$C$1887,C28,$R$4:$R$1887) -> 16.8 | U28: =IF(T28<>P28,"Gap","") -> Gap | V28: =IF(ISERROR(IF(INDEX(rosh!$O$4:$P$710,MATCH(I28,rosh!$O$4:$O$710,0),2)="Mayor",1,)),0,IF(INDEX(rosh!$O$4:$P$710,MATCH(I28,rosh!$O$4:$O$710,0),2)="Mayor",1,)) -> 0 | W28: =Q28&" "&C28 -> TRUE אום אל-פחם | X28: =SUMIF($W$4:$W$1887,W28,$M$4:$M$41887) -> 18997 | Y28: =IF(Q28=TRUE,ROUND(P28*M28/X28,0),) -> 7 | Z28: =SUMIF($C$4:$C$1887,C28,$Y$4:$Y$1887) -> 17 | AA28: =IF(Z28<>P28,"Gap","") | AB28: =IF(AND(V28=1,OR(Z28=P28,Z28<P28)),Y28+1,Y28) -> 7
B29: 2710 | C29: אום אל-פחם | D29: 30305 | E29: קפ | F29: =E29&" "&C29 -> קפ אום אל-פחם | G29: קאאמת אלופאק אלבלדי | I29: =C29&" "&H29 -> אום אל-פחם | J29: 19197 | K29: 19197 | L29: 0.16231703 | M29: 3116 | N29: 0.16231703 | O29: 3116 | P29: =VLOOKUP(C29,'ריכוז נתונים'!$B$3:$C$189,2) -> 17 | Q29: =IF(M29>K29/P29*0.75,TRUE,FALSE) -> TRUE | R29: =IF(Q29=TRUE,ROUND(P29*M29/K29,1),0) -> 2.8 | S29: =ROUND(K29/P29,0) -> 1129 | T29: =SUMIF($C$4:$C$1887,C29,$R$4:$R$1887) -> 16.8 | U29: =IF(T29<>P29,"Gap","") -> Gap | V29: =IF(ISERROR(IF(INDEX(rosh!$O$4:$P$710,MATCH(I29,rosh!$O$4:$O$710,0),2)="Mayor",1,)),0,IF(INDEX(rosh!$O$4:$P$710,MATCH(I29,rosh!$O$4:$O$710,0),2)="Mayor",1,)) -> 0 | W29: =Q29&" "&C29 -> TRUE אום אל-פחם | X29: =SUMIF($W$4:$W$1887,W29,$M$4:$M$41887) -> 18997 | Y29: =IF(Q29=TRUE,ROUND(P29*M29/X29,0),) -> 3 | Z29: =SUMIF($C$4:$C$1887,C29,$Y$4:$Y$1887) -> 17 | AA29: =IF(Z29<>P29,"Gap","") | AB29: =IF(AND(V29=1,OR(Z29=P29,Z29<P29)),Y29+1,Y29) -> 3
B30: 2710 | C30: אום אל-פחם | D30: 30305 | E30: ךי | F30: =E30&" "&C30 -> ךי אום אל-פחם | G30: אלתווחיד | I30: =C30&" "&H30 -> אום אל-פחם | J30: 19197 | K30: 19197 | L30: 0.12804084 | M30: 2458 | N30: 0.12804084 | O30: 2458 | P30: =VLOOKUP(C30,'ריכוז נתונים'!$B$3:$C$189,2) -> 17 | Q30: =IF(M30>K30/P30*0.75,TRUE,FALSE) -> TRUE | R30: =IF(Q30=TRUE,ROUND(P30*M30/K30,1),0) -> 2.2 | S30: =ROUND(K30/P30,0) -> 1129 | T30: =SUMIF($C$4:$C$1887,C30,$R$4:$R$1887) -> 16.8 | U30: =IF(T30<>P30,"Gap","") -> Gap | V30: =IF(ISERROR(IF(INDEX(rosh!$O$4:$P$710,MATCH(I30,rosh!$O$4:$O$710,0),2)="Mayor",1,)),0,IF(INDEX(rosh!$O$4:$P$710,MATCH(I30,rosh!$O$4:$O$710,0),2)="Mayor",1,)) -> 0 | W30: =Q30&" "&C30 -> TRUE אום אל-פחם | X30: =SUMIF($W$4:$W$1887,W30,$M$4:$M$41887) -> 18997 | Y30: =IF(Q30=TRUE,ROUND(P30*M30/X30,0),) -> 2 | Z30: =SUMIF($C$4:$C$1887,C30,$Y$4:$Y$1887) -> 17 | AA30: =IF(Z30<>P30,"Gap","") | AB30: =IF(AND(V30=1,OR(Z30=P30,Z30<P30)),Y30+1,Y30) -> 2
B31: 2710 | C31: אום אל-פחם | D31: 30305 | E31: א | F31: =E31&" "&C31 -> א אום אל-פחם | G31: אום אלפחם אלמוחדה | I31: =C31&" "&H31 -> אום אל-פחם | J31: 19197 | K31: 19197 | L31: 0.12517581 | M31: 2403 | N31: 0.12517581 | O31: 2403 | P31: =VLOOKUP(C31,'ריכוז נתונים'!$B$3:$C$189,2) -> 17 | Q31: =IF(M31>K31/P31*0.75,TRUE,FALSE) -> TRUE | R31: =IF(Q31=TRUE,ROUND(P31*M31/K31,1),0) -> 2.1 | S31: =ROUND(K31/P31,0) -> 1129 | T31: =SUMIF($C$4:$C$1887,C31,$R$4:$R$1887) -> 16.8 | U31: =IF(T31<>P31,"Gap","") -> Gap | V31: =IF(ISERROR(IF(INDEX(rosh!$O$4:$P$710,MATCH(I31,rosh!$O$4:$O$710,0),2)="Mayor",1,)),0,IF(INDEX(rosh!$O$4:$P$710,MATCH(I31,rosh!$O$4:$O$710,0),2)="Mayor",1,)) -> 0 | W31: =Q31&" "&C31 -> TRUE אום אל-פחם | X31: =SUMIF($W$4:$W$1887,W31,$M$4:$M$41887) -> 18997 | Y31: =IF(Q31=TRUE,ROUND(P31*M31/X31,0),) -> 2 | Z31: =SUMIF($C$4:$C$1887,C31,$Y$4:$Y$1887) -> 17 | AA31: =IF(Z31<>P31,"Gap","") | AB31: =IF(AND(V31=1,OR(Z31=P31,Z31<P31)),Y31+1,Y31) -> 2
B32: 2710 | C32: אום אל-פחם | D32: 30305 | E32: נ | F32: =E32&" "&C32 -> נ אום אל-פחם | G32: אלתחאלף אלבלדי | I32: =C32&" "&H32 -> אום אל-פחם | J32: 19197 | K32: 19197 | L32: 0.088399229 | M32: 1697 | N32: 0.088399229 | O32: 1697 | P32: =VLOOKUP(C32,'ריכוז נתונים'!$B$3:$C$189,2) -> 17 | Q32: =IF(M32>K32/P32*0.75,TRUE,FALSE) -> TRUE | R32: =IF(Q32=TRUE,ROUND(P32*M32/K32,1),0) -> 1.5 | S32: =ROUND(K32/P32,0) -> 1129 | T32: =SUMIF($C$4:$C$1887,C32,$R$4:$R$1887) -> 16.8 | U32: =IF(T32<>P32,"Gap","") -> Gap | V32: =IF(ISERROR(IF(INDEX(rosh!$O$4:$P$710,MATCH(I32,rosh!$O$4:$O$710,0),2)="Mayor",1,)),0,IF(INDEX(rosh!$O$4:$P$710,MATCH(I32,rosh!$O$4:$O$710,0),2)="Mayor",1,)) -> 0 | W32: =Q32&" "&C32 -> TRUE אום אל-פחם | X32: =SUMIF($W$4:$W$1887,W32,$M$4:$M$41887) -> 18997 | Y32: =IF(Q32=TRUE,ROUND(P32*M32/X32,0),) -> 2 | Z32: =SUMIF($C$4:$C$1887,C32,$Y$4:$Y$1887) -> 17 | AA32: =IF(Z32<>P32,"Gap","") | AB32: =IF(AND(V32=1,OR(Z32=P32,Z32<P32)),Y32+1,Y32) -> 2
B33: 2710 | C33: אום אל-פחם | D33: 30305 | E33: הז | F33: =E33&" "&C33 -> הז אום אל-פחם | G33: אלאהראם | I33: =C33&" "&H33 -> אום אל-פחם | J33: 19197 | K33: 19197 | L33: 0.055112778 | M33: 1058 | N33: 0.055112778 | O33: 1058 | P33: =VLOOKUP(C33,'ריכוז נתונים'!$B$3:$C$189,2) -> 17 | Q33: =IF(M33>K33/P33*0.75,TRUE,FALSE) -> TRUE | R33: =IF(Q33=TRUE,ROUND(P33*M33/K33,1),0) -> 0.9 | S33: =ROUND(K33/P33,0) -> 1129 | T33: =SUMIF($C$4:$C$1887,C33,$R$4:$R$1887) -> 16.8 | U33: =IF(T33<>P33,"Gap","") -> Gap | V33: =IF(ISERROR(IF(INDEX(rosh!$O$4:$P$710,MATCH(I33,rosh!$O$4:$O$710,0),2)="Mayor",1,)),0,IF(INDEX(rosh!$O$4:$P$710,MATCH(I33,rosh!$O$4:$O$710,0),2)="Mayor",1,)) -> 0 | W33: =Q33&" "&C33 -> TRUE אום אל-פחם | X33: =SUMIF($W$4:$W$1887,W33,$M$4:$M$41887) -> 18997 | Y33: =IF(Q33=TRUE,ROUND(P33*M33/X33,0),) -> 1 | Z33: =SUMIF($C$4:$C$1887,C33,$Y$4:$Y$1887) -> 17 | AA33: =IF(Z33<>P33,"Gap","") | AB33: =IF(AND(V33=1,OR(Z33=P33,Z33<P33)),Y33+1,Y33) -> 1
B34: 2710 | C34: אום אל-פחם | D34: 30305 | E34: ו | F34: =E34&" "&C34 -> ו אום אל-פחם | G34: אום אלפחם אלג'דידה | H34: אגבאריה רג'א | I34: =C34&" "&H34 -> אום אל-פחם אגבאריה רג'א | J34: 19197 | K34: 19197 | L34: 0.0075532635 | M34: 145 | N34: 0.0075532635 | O34: 145 | P34: =VLOOKUP(C34,'ריכוז נתונים'!$B$3:$C$189,2) -> 17 | Q34: =IF(M34>K34/P34*0.75,TRUE,FALSE) -> FALSE | R34: =IF(Q34=TRUE,ROUND(P34*M34/K34,1),0) -> 0 | S34: =ROUND(K34/P34,0) -> 1129 | T34: =SUMIF($C$4:$C$1887,C34,$R$4:$R$1887) -> 16.8 | U34: =IF(T34<>P34,"Gap","") -> Gap | V34: =IF(ISERROR(IF(INDEX(rosh!$O$4:$P$710,MATCH(I34,rosh!$O$4:$O$710,0),2)="Mayor",1,)),0,IF(INDEX(rosh!$O$4:$P$710,MATCH(I34,rosh!$O$4:$O$710,0),2)="Mayor",1,)) -> 0 | W34: =Q34&" "&C34 -> FALSE אום אל-פחם | X34: =SUMIF($W$4:$W$1887,W34,$M$4:$M$41887) -> 200 | Y34: =IF(Q34=TRUE,ROUND(P34*M34/X34,0),) -> 0 | Z34: =SUMIF($C$4:$C$1887,C34,$Y$4:$Y$1887) -> 17 | AA34: =IF(Z34<>P34,"Gap","") | AB34: =IF(AND(V34=1,OR(Z34=P34,Z34<P34)),Y34+1,Y34) -> 0
B35: 2710 | C35: אום אל-פחם | D35: 30305 | E35: י | F35: =E35&" "&C35 -> י אום אל-פחם | G35: קאאמת אלנג'אח | H35: מחאג'נה יוסף | I35: =C35&" "&H35 -> אום אל-פחם מחאג'נה יוסף | J35: 19197 | K35: 19197 | L35: 0.0015627442 | M35: 30 | N35: 0.0015627442 | O35: 30 | P35: =VLOOKUP(C35,'ריכוז נתונים'!$B$3:$C$189,2) -> 17 | Q35: =IF(M35>K35/P35*0.75,TRUE,FALSE) -> FALSE | R35: =IF(Q35=TRUE,ROUND(P35*M35/K35,1),0) -> 0 | S35: =ROUND(K35/P35,0) -> 1129 | T35: =SUMIF($C$4:$C$1887,C35,$R$4:$R$1887) -> 16.8 | U35: =IF(T35<>P35,"Gap","") -> Gap | V35: =IF(ISERROR(IF(INDEX(rosh!$O$4:$P$710,MATCH(I35,rosh!$O$4:$O$710,0),2)="Mayor",1,)),0,IF(INDEX(rosh!$O$4:$P$710,MATCH(I35,rosh!$O$4:$O$710,0),2)="Mayor",1,)) -> 0 | W35: =Q35&" "&C35 -> FALSE אום אל-פחם | X35: =SUMIF($W$4:$W$1887,W35,$M$4:$M$41887) -> 200 | Y35: =IF(Q35=TRUE,ROUND(P35*M35/X35,0),) -> 0 | Z35: =SUMIF($C$4:$C$1887,C35,$Y$4:$Y$1887) -> 17 | AA35: =IF(Z35<>P35,"Gap","") | AB35: =IF(AND(V35=1,OR(Z35=P35,Z35<P35)),Y35+1,Y35) -> 0
B36: 2710 | C36: אום אל-פחם | D36: 30305 | E36: ץ | F36: =E36&" "&C36 -> ץ אום אל-פחם | G36: אלעהד | H36: אגבאריה ח'אלד | I36: =C36&" "&H36 -> אום אל-פחם אגבאריה ח'אלד | J36: 19197 | K36: 19197 | L36: 0.0013022868 | M36: 25 | N36: 0.0013022868 | O36: 25 | P36: =VLOOKUP(C36,'ריכוז נתונים'!$B$3:$C$189,2) -> 17 | Q36: =IF(M36>K36/P36*0.75,TRUE,FALSE) -> FALSE | R36: =IF(Q36=TRUE,ROUND(P36*M36/K36,1),0) -> 0 | S36: =ROUND(K36/P36,0) -> 1129 | T36: =SUMIF($C$4:$C$1887,C36,$R$4:$R$1887) -> 16.8 | U36: =IF(T36<>P36,"Gap","") -> Gap | V36: =IF(ISERROR(IF(INDEX(rosh!$O$4:$P$710,MATCH(I36,rosh!$O$4:$O$710,0),2)="Mayor",1,)),0,IF(INDEX(rosh!$O$4:$P$710,MATCH(I36,rosh!$O$4:$O$710,0),2)="Mayor",1,)) -> 1 | W36: =Q36&" "&C36 -> FALSE אום אל-פחם | X36: =SUMIF($W$4:$W$1887,W36,$M$4:$M$41887) -> 200 | Y36: =IF(Q36=TRUE,ROUND(P36*M36/X36,0),) -> 0 | Z36: =SUMIF($C$4:$C$1887,C36,$Y$4:$Y$1887) -> 17 | AA36: =IF(Z36<>P36,"Gap","") | AB36: =IF(AND(V36=1,OR(Z36=P36,Z36<P36)),Y36+1,Y36) -> 1
B37: 31 | C37: אופקים | D37: 19226 | E37: שס | F37: =E37&" "&C37 -> שס אופקים | G37: התאחדות הספרדים העולמית שומרי תורה | I37: =C37&" "&H37 -> אופקים | J37: 12046 | K37: 12046 | L37: 0.18611987 | M37: 2242 | N37: 0.18611987 | O37: 2242 | P37: =VLOOKUP(C37,'ריכוז נתונים'!$B$3:$C$189,2) -> 15 | Q37: =IF(M37>K37/P37*0.75,TRUE,FALSE) -> TRUE | R37: =IF(Q37=TRUE,ROUND(P37*M37/K37,1),0) -> 2.8 | S37: =ROUND(K37/P37,0) -> 803 | T37: =SUMIF($C$4:$C$1887,C37,$R$4:$R$1887) -> 14.2 | U37: =IF(T37<>P37,"Gap","") -> Gap | V37: =IF(ISERROR(IF(INDEX(rosh!$O$4:$P$710,MATCH(I37,rosh!$O$4:$O$710,0),2)="Mayor",1,)),0,IF(INDEX(rosh!$O$4:$P$710,MATCH(I37,rosh!$O$4:$O$710,0),2)="Mayor",1,)) -> 0 | W37: =Q37&" "&C37 -> TRUE אופקים | X37: =SUMIF($W$4:$W$1887,W37,$M$4:$M$41887) -> 11463 | Y37: =IF(Q37=TRUE,ROUND(P37*M37/X37,0),) -> 3 | Z37: =SUMIF($C$4:$C$1887,C37,$Y$4:$Y$1887) -> 15 | AA37: =IF(Z37<>P37,"Gap","") | AB37: =IF(AND(V37=1,OR(Z37=P37,Z37<P37)),Y37+1,Y37) -> 3
B38: 31 | C38: אופקים | D38: 19226 | E38: חי | F38: =E38&" "&C38 -> חי אופקים | G38: תנופה לאופקים בראשות יאיר חזן | H38: חזן יאיר | I38: =C38&" "&H38 -> אופקים חזן יאיר | J38: 12046 | K38: 12046 | L38: 0.17989374 | M38: 2167 | N38: 0.17989374 | O38: 2167 | P38: =VLOOKUP(C38,'ריכוז נתונים'!$B$3:$C$189,2) -> 15 | Q38: =IF(M38>K38/P38*0.75,TRUE,FALSE) -> TRUE | R38: =IF(Q38=TRUE,ROUND(P38*M38/K38,1),0) -> 2.7 | S38: =ROUND(K38/P38,0) -> 803 | T38: =SUMIF($C$4:$C$1887,C38,$R$4:$R$1887) -> 14.2 | U38: =IF(T38<>P38,"Gap","") -> Gap | V38: =IF(ISERROR(IF(INDEX(rosh!$O$4:$P$710,MATCH(I38,rosh!$O$4:$O$710,0),2)="Mayor",1,)),0,IF(INDEX(rosh!$O$4:$P$710,MATCH(I38,rosh!$O$4:$O$710,0),2)="Mayor",1,)) -> 0 | W38: =Q38&" "&C38 -> TRUE אופקים | X38: =SUMIF($W$4:$W$1887,W38,$M$4:$M$41887) -> 11463 | Y38: =IF(Q38=TRUE,ROUND(P38*M38/X38,0),) -> 3 | Z38: =SUMIF($C$4:$C$1887,C38,$Y$4:$Y$1887) -> 15 | AA38: =IF(Z38<>P38,"Gap","") | AB38: =IF(AND(V38=1,OR(Z38=P38,Z38<P38)),Y38+1,Y38) -> 3
B39: 31 | C39: אופקים | D39: 19226 | E39: דת | F39: =E39&" "&C39 -> דת אופקים | G39: הקהילה התורנית אופקים | I39: =C39&" "&H39 -> אופקים | J39: 12046 | K39: 12046 | L39: 0.16461896 | M39: 1983 | N39: 0.16461896 | O39: 1983 | P39: =VLOOKUP(C39,'ריכוז נתונים'!$B$3:$C$189,2) -> 15 | Q39: =IF(M39>K39/P39*0.75,TRUE,FALSE) -> TRUE | R39: =IF(Q39=TRUE,ROUND(P39*M39/K39,1),0) -> 2.5 | S39: =ROUND(K39/P39,0) -> 803 | T39: =SUMIF($C$4:$C$1887,C39,$R$4:$R$1887) -> 14.2 | U39: =IF(T39<>P39,"Gap","") -> Gap | V39: =IF(ISERROR(IF(INDEX(rosh!$O$4:$P$710,MATCH(I39,rosh!$O$4:$O$710,0),2)="Mayor",1,)),0,IF(INDEX(rosh!$O$4:$P$710,MATCH(I39,rosh!$O$4:$O$710,0),2)="Mayor",1,)) -> 0 | W39: =Q39&" "&C39 -> TRUE אופקים | X39: =SUMIF($W$4:$W$1887,W39,$M$4:$M$41887) -> 11463 | Y39: =IF(Q39=TRUE,ROUND(P39*M39/X39,0),) -> 3 | Z39: =SUMIF($C$4:$C$1887,C39,$Y$4:$Y$1887) -> 15 | AA39: =IF(Z39<>P39,"Gap","") | AB39: =IF(AND(V39=1,OR(Z39=P39,Z39<P39)),Y39+1,Y39) -> 3
B40: 31 | C40: אופקים | D40: 19226 | E40: מחל | F40: =E40&" "&C40 -> מחל אופקים | G40: הליכוד בראשות איציק דנינו | H40: דנינו יצחק איציק | I40: =C40&" "&H40 -> אופקים דנינו יצחק איציק | J40: 12046 | K40: 12046 | L40: 0.15532127 | M40: 1871 | N40: 0.15532127 | O40: 1871 | P40: =VLOOKUP(C40,'ריכוז נתונים'!$B$3:$C$189,2) -> 15 | Q40: =IF(M40>K40/P40*0.75,TRUE,FALSE) -> TRUE | R40: =IF(Q40=TRUE,ROUND(P40*M40/K40,1),0) -> 2.3 | S40: =ROUND(K40/P40,0) -> 803 | T40: =SUMIF($C$4:$C$1887,C40,$R$4:$R$1887) -> 14.2 | U40: =IF(T40<>P40,"Gap","") -> Gap | V40: =IF(ISERROR(IF(INDEX(rosh!$O$4:$P$710,MATCH(I40,rosh!$O$4:$O$710,0),2)="Mayor",1,)),0,IF(INDEX(rosh!$O$4:$P$710,MATCH(I40,rosh!$O$4:$O$710,0),2)="Mayor",1,)) -> 1 | W40: =Q40&" "&C40 -> TRUE אופקים | X40: =SUMIF($W$4:$W$1887,W40,$M$4:$M$41887) -> 11463 | Y40: =IF(Q40=TRUE,ROUND(P40*M40/X40,0),) -> 2 | Z40: =SUMIF($C$4:$C$1887,C40,$Y$4:$Y$1887) -> 15 | AA40: =IF(Z40<>P40,"Gap","") | AB40: =IF(AND(V40=1,OR(Z40=P40,Z40<P40)),Y40+1,Y40) -> 3
B41: 31 | C41: אופקים | D41: 19226 | E41: כן | F41: =E41&" "&C41 -> כן אופקים | G41: יש תקוה בראשות אלי סעדה | I41: =C41&" "&H41 -> אופקים | J41: 12046 | K41: 12046 | L41: 0.083181139 | M41: 1002 | N41: 0.083181139 | O41: 1002 | P41: =VLOOKUP(C41,'ריכוז נתונים'!$B$3:$C$189,2) -> 15 | Q41: =IF(M41>K41/P41*0.75,TRUE,FALSE) -> TRUE | R41: =IF(Q41=TRUE,ROUND(P41*M41/K41,1),0) -> 1.2 | S41: =ROUND(K41/P41,0) -> 803 | T41: =SUMIF($C$4:$C$1887,C41,$R$4:$R$1887) -> 14.2 | U41: =IF(T41<>P41,"Gap","") -> Gap | V41: =IF(ISERROR(IF(INDEX(rosh!$O$4:$P$710,MATCH(I41,rosh!$O$4:$O$710,0),2)="Mayor",1,)),0,IF(INDEX(rosh!$O$4:$P$710,MATCH(I41,rosh!$O$4:$O$710,0),2)="Mayor",1,)) -> 0 | W41: =Q41&" "&C41 -> TRUE אופקים | X41: =SUMIF($W$4:$W$1887,W41,$M$4:$M$41887) -> 11463 | Y41: =IF(Q41=TRUE,ROUND(P41*M41/X41,0),) -> 1 | Z41: =SUMIF($C$4:$C$1887,C41,$Y$4:$Y$1887) -> 15 | AA41: =IF(Z41<>P41,"Gap","") | AB41: =IF(AND(V41=1,OR(Z41=P41,Z41<P41)),Y41+1,Y41) -> 1
B42: 31 | C42: אופקים | D42: 19226 | E42: טב | F42: =E42&" "&C42 -> טב אופקים | G42: הבית היהודי | H42: אוחיון משה | I42: =C42&" "&H42 -> אופקים אוחיון משה | J42: 12046 | K42: 12046 | L42: 0.067242238 | M42: 810 | N42: 0.067242238 | O42: 810 | P42: =VLOOKUP(C42,'ריכוז נתונים'!$B$3:$C$189,2) -> 15 | Q42: =IF(M42>K42/P42*0.75,TRUE,FALSE) -> TRUE | R42: =IF(Q42=TRUE,ROUND(P42*M42/K42,1),0) -> 1 | S42: =ROUND(K42/P42,0) -> 803 | T42: =SUMIF($C$4:$C$1887,C42,$R$4:$R$1887) -> 14.2 | U42: =IF(T42<>P42,"Gap","") -> Gap | V42: =IF(ISERROR(IF(INDEX(rosh!$O$4:$P$710,MATCH(I42,rosh!$O$4:$O$710,0),2)="Mayor",1,)),0,IF(INDEX(rosh!$O$4:$P$710,MATCH(I42,rosh!$O$4:$O$710,0),2)="Mayor",1,)) -> 0 | W42: =Q42&" "&C42 -> TRUE אופקים | X42: =SUMIF($W$4:$W$1887,W42,$M$4:$M$41887) -> 11463 | Y42: =IF(Q42=TRUE,ROUND(P42*M42/X42,0),) -> 1 | Z42: =SUMIF($C$4:$C$1887,C42,$Y$4:$Y$1887) -> 15 | AA42: =IF(Z42<>P42,"Gap","") | AB42: =IF(AND(V42=1,OR(Z42=P42,Z42<P42)),Y42+1,Y42) -> 1
B43: 31 | C43: אופקים | D43: 19226 | E43: נץ | F43: =E43&" "&C43 -> נץ אופקים | G43: אופקים רוצה שינוי | I43: =C43&" "&H43 -> אופקים | J43: 12046 | K43: 12046 | L43: 0.061182135 | M43: 737 | N43: 0.061182135 | O43: 737 | P43: =VLOOKUP(C43,'ריכוז נתונים'!$B$3:$C$189,2) -> 15 | Q43: =IF(M43>K43/P43*0.75,TRUE,FALSE) -> TRUE | R43: =IF(Q43=TRUE,ROUND(P43*M43/K43,1),0) -> 0.9 | S43: =ROUND(K43/P43,0) -> 803 | T43: =SUMIF($C$4:$C$1887,C43,$R$4:$R$1887) -> 14.2 | U43: =IF(T43<>P43,"Gap","") -> Gap | V43: =IF(ISERROR(IF(INDEX(rosh!$O$4:$P$710,MATCH(I43,rosh!$O$4:$O$710,0),2)="Mayor",1,)),0,IF(INDEX(rosh!$O$4:$P$710,MATCH(I43,rosh!$O$4:$O$710,0),2)="Mayor",1,)) -> 0 | W43: =Q43&" "&C43 -> TRUE אופקים | X43: =SUMIF($W$4:$W$1887,W43,$M$4:$M$41887) -> 11463 | Y43: =IF(Q43=TRUE,ROUND(P43*M43/X43,0),) -> 1 | Z43: =SUMIF($C$4:$C$1887,C43,$Y$4:$Y$1887) -> 15 | AA43: =IF(Z43<>P43,"Gap","") | AB43: =IF(AND(V43=1,OR(Z43=P43,Z43<P43)),Y43+1,Y43) -> 1
B44: 31 | C44: אופקים | D44: 19226 | E44: ל | F44: =E44&" "&C44 -> ל אופקים | G44: אופקים ביתנו | I44: =C44&" "&H44 -> אופקים | J44: 12046 | K44: 12046 | L44: 0.054042836 | M44: 651 | N44: 0.054042836 | O44: 651 | P44: =VLOOKUP(C44,'ריכוז נתונים'!$B$3:$C$189,2) -> 15 | Q44: =IF(M44>K44/P44*0.75,TRUE,FALSE) -> TRUE | R44: =IF(Q44=TRUE,ROUND(P44*M44/K44,1),0) -> 0.8 | S44: =ROUND(K44/P44,0) -> 803 | T44: =SUMIF($C$4:$C$1887,C44,$R$4:$R$1887) -> 14.2 | U44: =IF(T44<>P44,"Gap","") -> Gap | V44: =IF(ISERROR(IF(INDEX(rosh!$O$4:$P$710,MATCH(I44,rosh!$O$4:$O$710,0),2)="Mayor",1,)),0,IF(INDEX(rosh!$O$4:$P$710,MATCH(I44,rosh!$O$4:$O$710,0),2)="Mayor",1,)) -> 0 | W44: =Q44&" "&C44 -> TRUE אופקים | X44: =SUMIF($W$4:$W$1887,W44,$M$4:$M$41887) -> 11463 | Y44: =IF(Q44=TRUE,ROUND(P44*M44/X44,0),) -> 1 | Z44: =SUMIF($C$4:$C$1887,C44,$Y$4:$Y$1887) -> 15 | AA44: =IF(Z44<>P44,"Gap","") | AB44: =IF(AND(V44=1,OR(Z44=P44,Z44<P44)),Y44+1,Y44) -> 1
B45: 31 | C45: אופקים | D45: 19226 | E45: ק | F45: =E45&" "&C45 -> ק אופקים | G45: אנחנו ביחד | I45: =C45&" "&H45 -> אופקים | J45: 12046 | K45: 12046 | L45: 0.038602026 | M45: 465 | N45: 0.038602026 | O45: 465 | P45: =VLOOKUP(C45,'ריכוז נתונים'!$B$3:$C$189,2) -> 15 | Q45: =IF(M45>K45/P45*0.75,TRUE,FALSE) -> FALSE | R45: =IF(Q45=TRUE,ROUND(P45*M45/K45,1),0) -> 0 | S45: =ROUND(K45/P45,0) -> 803 | T45: =SUMIF($C$4:$C$1887,C45,$R$4:$R$1887) -> 14.2 | U45: =IF(T45<>P45,"Gap","") -> Gap | V45: =IF(ISERROR(IF(INDEX(rosh!$O$4:$P$710,MATCH(I45,rosh!$O$4:$O$710,0),2)="Mayor",1,)),0,IF(INDEX(rosh!$O$4:$P$710,MATCH(I45,rosh!$O$4:$O$710,0),2)="Mayor",1,)) -> 0 | W45: =Q45&" "&C45 -> FALSE אופקים | X45: =SUMIF($W$4:$W$1887,W45,$M$4:$M$41887) -> 583 | Y45: =IF(Q45=TRUE,ROUND(P45*M45/X45,0),) -> 0 | Z45: =SUMIF($C$4:$C$1887,C45,$Y$4:$Y$1887) -> 15 | AA45: =IF(Z45<>P45,"Gap","") | AB45: =IF(AND(V45=1,OR(Z45=P45,Z45<P45)),Y45+1,Y45) -> 0
B46: 31 | C46: אופקים | D46: 19226 | E46: זך | F46: =E46&" "&C46 -> זך אופקים | G46: אופקים תצליח בראשות אליעזר אביטן | H46: אביטן אליעזר | I46: =C46&" "&H46 -> אופקים אביטן אליעזר | J46: 12046 | K46: 12046 | L46: 0.0097957828 | M46: 118 | N46: 0.0097957828 | O46: 118 | P46: =VLOOKUP(C46,'ריכוז נתונים'!$B$3:$C$189,2) -> 15 | Q46: =IF(M46>K46/P46*0.75,TRUE,FALSE) -> FALSE | R46: =IF(Q46=TRUE,ROUND(P46*M46/K46,1),0) -> 0 | S46: =ROUND(K46/P46,0) -> 803 | T46: =SUMIF($C$4:$C$1887,C46,$R$4:$R$1887) -> 14.2 | U46: =IF(T46<>P46,"Gap","") -> Gap | V46: =IF(ISERROR(IF(INDEX(rosh!$O$4:$P$710,MATCH(I46,rosh!$O$4:$O$710,0),2)="Mayor",1,)),0,IF(INDEX(rosh!$O$4:$P$710,MATCH(I46,rosh!$O$4:$O$710,0),2)="Mayor",1,)) -> 0 | W46: =Q46&" "&C46 -> FALSE אופקים | X46: =SUMIF($W$4:$W$1887,W46,$M$4:$M$41887) -> 583 | Y46: =IF(Q46=TRUE,ROUND(P46*M46/X46,0),) -> 0 | Z46: =SUMIF($C$4:$C$1887,C46,$Y$4:$Y$1887) -> 15 | AA46: =IF(Z46<>P46,"Gap","") | AB46: =IF(AND(V46=1,OR(Z46=P46,Z46<P46)),Y46+1,Y46) -> 0
B47: 2400 | C47: אור יהודה | D47: 26759 | E47: כן | F47: =E47&" "&C47 -> כן אור יהודה | G47: בראשות דוד יוסף | H47: יוסף דוד | I47: =C47&" "&H47 -> אור יהודה יוסף דוד | J47: 14526 | K47: 14526 | L47: 0.372711 | M47: 5414 | N47: 0.372711 | O47: 5414 | P47: =VLOOKUP(C47,'ריכוז נתונים'!$B$3:$C$189,2) -> 15 | Q47: =IF(M47>K47/P47*0.75,TRUE,FALSE) -> TRUE | R47: =IF(Q47=TRUE,ROUND(P47*M47/K47,1),0) -> 5.6 | S47: =ROUND(K47/P47,0) -> 968 | T47: =SUMIF($C$4:$C$1887,C47,$R$4:$R$1887) -> 14.1 | U47: =IF(T47<>P47,"Gap","") -> Gap | V47: =IF(ISERROR(IF(INDEX(rosh!$O$4:$P$710,MATCH(I47,rosh!$O$4:$O$710,0),2)="Mayor",1,)),0,IF(INDEX(rosh!$O$4:$P$710,MATCH(I47,rosh!$O$4:$O$710,0),2)="Mayor",1,)) -> 1 | W47: =Q47&" "&C47 -> TRUE אור יהודה | X47: =SUMIF($W$4:$W$1887,W47,$M$4:$M$41887) -> 13564 | Y47: =IF(Q47=TRUE,ROUND(P47*M47/X47,0),) -> 6 | Z47: =SUMIF($C$4:$C$1887,C47,$Y$4:$Y$1887) -> 15 | AA47: =IF(Z47<>P47,"Gap","") | AB47: =IF(AND(V47=1,OR(Z47=P47,Z47<P47)),Y47+1,Y47) -> 7
B48: 2400 | C48: אור יהודה | D48: 26759 | E48: שס | F48: =E48&" "&C48 -> שס אור יהודה | G48: עוזי אהרון למען תושבי אור יהודה | H48: אהרן עוזי | I48: =C48&" "&H48 -> אור יהודה אהרן עוזי | J48: 14526 | K48: 14526 | L48: 0.21774749 | M48: 3163 | N48: 0.21774749 | O48: 3163 | P48: =VLOOKUP(C48,'ריכוז נתונים'!$B$3:$C$189,2) -> 15 | Q48: =IF(M48>K48/P48*0.75,TRUE,FALSE) -> TRUE | R48: =IF(Q48=TRUE,ROUND(P48*M48/K48,1),0) -> 3.3 | S48: =ROUND(K48/P48,0) -> 968 | T48: =SUMIF($C$4:$C$1887,C48,$R$4:$R$1887) -> 14.1 | U48: =IF(T48<>P48,"Gap","") -> Gap | V48: =IF(ISERROR(IF(INDEX(rosh!$O$4:$P$710,MATCH(I48,rosh!$O$4:$O$710,0),2)="Mayor",1,)),0,IF(INDEX(rosh!$O$4:$P$710,MATCH(I48,rosh!$O$4:$O$710,0),2)="Mayor",1,)) -> 0 | W48: =Q48&" "&C48 -> TRUE אור יהודה | X48: =SUMIF($W$4:$W$1887,W48,$M$4:$M$41887) -> 13564 | Y48: =IF(Q48=TRUE,ROUND(P48*M48/X48,0),) -> 3 | Z48: =SUMIF($C$4:$C$1887,C48,$Y$4:$Y$1887) -> 15 | AA48: =IF(Z48<>P48,"Gap","") | AB48: =IF(AND(V48=1,OR(Z48=P48,Z48<P48)),Y48+1,Y48) -> 3
B49: 2400 | C49: אור יהודה | D49: 26759 | E49: אי | F49: =E49&" "&C49 -> אי אור יהודה | G49: תנועת אור חדש בראשות ליאת שוחט | I49: =C49&" "&H49 -> אור יהודה | J49: 14526 | K49: 14526 | L49: 0.099683326 | M49: 1448 | N49: 0.099683326 | O49: 1448 | P49: =VLOOKUP(C49,'ריכוז נתונים'!$B$3:$C$189,2) -> 15 | Q49: =IF(M49>K49/P49*0.75,TRUE,FALSE) -> TRUE | R49: =IF(Q49=TRUE,ROUND(P49*M49/K49,1),0) -> 1.5 | S49: =ROUND(K49/P49,0) -> 968 | T49: =SUMIF($C$4:$C$1887,C49,$R$4:$R$1887) -> 14.1 | U49: =IF(T49<>P49,"Gap","") -> Gap | V49: =IF(ISERROR(IF(INDEX(rosh!$O$4:$P$710,MATCH(I49,rosh!$O$4:$O$710,0),2)="Mayor",1,)),0,IF(INDEX(rosh!$O$4:$P$710,MATCH(I49,rosh!$O$4:$O$710,0),2)="Mayor",1,)) -> 0 | W49: =Q49&" "&C49 -> TRUE אור יהודה | X49: =SUMIF($W$4:$W$1887,W49,$M$4:$M$41887) -> 13564 | Y49: =IF(Q49=TRUE,ROUND(P49*M49/X49,0),) -> 2 | Z49: =SUMIF($C$4:$C$1887,C49,$Y$4:$Y$1887) -> 15 | AA49: =IF(Z49<>P49,"Gap","") | AB49: =IF(AND(V49=1,OR(Z49=P49,Z49<P49)),Y49+1,Y49) -> 2
B50: 2400 | C50: אור יהודה | D50: 26759 | E50: ל | F50: =E50&" "&C50 -> ל אור יהודה | G50: מחר יום חדש בראשות ננה חן ואיציק דדוש | H50: חן ננה | I50: =C50&" "&H50 -> אור יהודה חן ננה | J50: 14526 | K50: 14526 | L50: 0.068015971 | M50: 988 | N50: 0.068015971 | O50: 988 | P50: =VLOOKUP(C50,'ריכוז נתונים'!$B$3:$C$189,2) -> 15 | Q50: =IF(M50>K50/P50*0.75,TRUE,FALSE) -> TRUE | R50: =IF(Q50=TRUE,ROUND(P50*M50/K50,1),0) -> 1 | S50: =ROUND(K50/P50,0) -> 968 | T50: =SUMIF($C$4:$C$1887,C50,$R$4:$R$1887) -> 14.1 | U50: =IF(T50<>P50,"Gap","") -> Gap | V50: =IF(ISERROR(IF(INDEX(rosh!$O$4:$P$710,MATCH(I50,rosh!$O$4:$O$710,0),2)="Mayor",1,)),0,IF(INDEX(rosh!$O$4:$P$710,MATCH(I50,rosh!$O$4:$O$710,0),2)="Mayor",1,)) -> 0 | W50: =Q50&" "&C50 -> TRUE אור יהודה | X50: =SUMIF($W$4:$W$1887,W50,$M$4:$M$41887) -> 13564 | Y50: =IF(Q50=TRUE,ROUND(P50*M50/X50,0),) -> 1 | Z50: =SUMIF($C$4:$C$1887,C50,$Y$4:$Y$1887) -> 15 | AA50: =IF(Z50<>P50,"Gap","") | AB50: =IF(AND(V50=1,OR(Z50=P50,Z50<P50)),Y50+1,Y50) -> 1
B51: 2400 | C51: אור יהודה | D51: 26759 | E51: נצ | F51: =E51&" "&C51 -> נצ אור יהודה | G51: סבח יוסף רשימת נאמני ציבור | I51: =C51&" "&H51 -> אור יהודה | J51: 14526 | K51: 14526 | L51: 0.060512185 | M51: 879 | N51: 0.060512185 | O51: 879 | P51: =VLOOKUP(C51,'ריכוז נתונים'!$B$3:$C$189,2) -> 15 | Q51: =IF(M51>K51/P51*0.75,TRUE,FALSE) -> TRUE | R51: =IF(Q51=TRUE,ROUND(P51*M51/K51,1),0) -> 0.9 | S51: =ROUND(K51/P51,0) -> 968 | T51: =SUMIF($C$4:$C$1887,C51,$R$4:$R$1887) -> 14.1 | U51: =IF(T51<>P51,"Gap","") -> Gap | V51: =IF(ISERROR(IF(INDEX(rosh!$O$4:$P$710,MATCH(I51,rosh!$O$4:$O$710,0),2)="Mayor",1,)),0,IF(INDEX(rosh!$O$4:$P$710,MATCH(I51,rosh!$O$4:$O$710,0),2)="Mayor",1,)) -> 0 | W51: =Q51&" "&C51 -> TRUE אור יהודה | X51: =SUMIF($W$4:$W$1887,W51,$M$4:$M$41887) -> 13564 | Y51: =IF(Q51=TRUE,ROUND(P51*M51/X51,0),) -> 1 | Z51: =SUMIF($C$4:$C$1887,C51,$Y$4:$Y$1887) -> 15 | AA51: =IF(Z51<>P51,"Gap","") | AB51: =IF(AND(V51=1,OR(Z51=P51,Z51<P51)),Y51+1,Y51) -> 1
B52: 2400 | C52: אור יהודה | D52: 26759 | E52: פ | F52: =E52&" "&C52 -> פ אור יהודה | G52: רשימת נווה בראשות אפי גוטמן | H52: גוטמן אפרים צבי | I52: =C52&" "&H52 -> אור יהודה גוטמן אפרים צבי | J52: 14526 | K52: 14526 | L52: 0.058240397 | M52: 846 | N52: 0.058240397 | O52: 846 | P52: =VLOOKUP(C52,'ריכוז נתונים'!$B$3:$C$189,2) -> 15 | Q52: =IF(M52>K52/P52*0.75,TRUE,FALSE) -> TRUE | R52: =IF(Q52=TRUE,ROUND(P52*M52/K52,1),0) -> 0.9 | S52: =ROUND(K52/P52,0) -> 968 | T52: =SUMIF($C$4:$C$1887,C52,$R$4:$R$1887) -> 14.1 | U52: =IF(T52<>P52,"Gap","") -> Gap | V52: =IF(ISERROR(IF(INDEX(rosh!$O$4:$P$710,MATCH(I52,rosh!$O$4:$O$710,0),2)="Mayor",1,)),0,IF(INDEX(rosh!$O$4:$P$710,MATCH(I52,rosh!$O$4:$O$710,0),2)="Mayor",1,)) -> 0 | W52: =Q52&" "&C52 -> TRUE אור יהודה | X52: =SUMIF($W$4:$W$1887,W52,$M$4:$M$41887) -> 13564 | Y52: =IF(Q52=TRUE,ROUND(P52*M52/X52,0),) -> 1 | Z52: =SUMIF($C$4:$C$1887,C52,$Y$4:$Y$1887) -> 15 | AA52: =IF(Z52<>P52,"Gap","") | AB52: =IF(AND(V52=1,OR(Z52=P52,Z52<P52)),Y52+1,Y52) -> 1
B53: 2400 | C53: אור יהודה | D53: 26759 | E53: טב | F53: =E53&" "&C53 -> טב אור יהודה | G53: הבית היהודי בראשות דוד חיון | I53: =C53&" "&H53 -> אור יהודה | J53: 14526 | K53: 14526 | L53: 0.056863555 | M53: 826 | N53: 0.056863555 | O53: 826 | P53: =VLOOKUP(C53,'ריכוז נתונים'!$B$3:$C$189,2) -> 15 | Q53: =IF(M53>K53/P53*0.75,TRUE,FALSE) -> TRUE | R53: =IF(Q53=TRUE,ROUND(P53*M53/K53,1),0) -> 0.9 | S53: =ROUND(K53/P53,0) -> 968 | T53: =SUMIF($C$4:$C$1887,C53,$R$4:$R$1887) -> 14.1 | U53: =IF(T53<>P53,"Gap","") -> Gap | V53: =IF(ISERROR(IF(INDEX(rosh!$O$4:$P$710,MATCH(I53,rosh!$O$4:$O$710,0),2)="Mayor",1,)),0,IF(INDEX(rosh!$O$4:$P$710,MATCH(I53,rosh!$O$4:$O$710,0),2)="Mayor",1,)) -> 0 | W53: =Q53&" "&C53 -> TRUE אור יהודה | X53: =SUMIF($W$4:$W$1887,W53,$M$4:$M$41887) -> 13564 | Y53: =IF(Q53=TRUE,ROUND(P53*M53/X53,0),) -> 1 | Z53: =SUMIF($C$4:$C$1887,C53,$Y$4:$Y$1887) -> 15 | AA53: =IF(Z53<>P53,"Gap","") | AB53: =IF(AND(V53=1,OR(Z53=P53,Z53<P53)),Y53+1,Y53) -> 1
B54: 2400 | C54: אור יהודה | D54: 26759 | E54: ים | F54: =E54&" "&C54 -> ים אור יהודה | G54: יחד בדרכי נועם | I54: =C54&" "&H54 -> אור יהודה | J54: 14526 | K54: 14526 | L54: 0.039377668 | M54: 572 | N54: 0.039377668 | O54: 572 | P54: =VLOOKUP(C54,'ריכוז נתונים'!$B$3:$C$189,2) -> 15 | Q54: =IF(M54>K54/P54*0.75,TRUE,FALSE) -> FALSE | R54: =IF(Q54=TRUE,ROUND(P54*M54/K54,1),0) -> 0 | S54: =ROUND(K54/P54,0) -> 968 | T54: =SUMIF($C$4:$C$1887,C54,$R$4:$R$1887) -> 14.1 | U54: =IF(T54<>P54,"Gap","") -> Gap | V54: =IF(ISERROR(IF(INDEX(rosh!$O$4:$P$710,MATCH(I54,rosh!$O$4:$O$710,0),2)="Mayor",1,)),0,IF(INDEX(rosh!$O$4:$P$710,MATCH(I54,rosh!$O$4:$O$710,0),2)="Mayor",1,)) -> 0 | W54: =Q54&" "&C54 -> FALSE אור יהודה | X54: =SUMIF($W$4:$W$1887,W54,$M$4:$M$41887) -> 962 | Y54: =IF(Q54=TRUE,ROUND(P54*M54/X54,0),) -> 0 | Z54: =SUMIF($C$4:$C$1887,C54,$Y$4:$Y$1887) -> 15 | AA54: =IF(Z54<>P54,"Gap","") | AB54: =IF(AND(V54=1,OR(Z54=P54,Z54<P54)),Y54+1,Y54) -> 0
B55: 2400 | C55: אור יהודה | D55: 26759 | E55: ח | F55: =E55&" "&C55 -> ח אור יהודה | G55: אור יהודה ביתנו | H55: בנימינוב חנניה | I55: =C55&" "&H55 -> אור יהודה בנימינוב חנניה | J55: 14526 | K55: 14526 | L55: 0.02684841 | M55: 390 | N55: 0.02684841 | O55: 390 | P55: =VLOOKUP(C55,'ריכוז נתונים'!$B$3:$C$189,2) -> 15 | Q55: =IF(M55>K55/P55*0.75,TRUE,FALSE) -> FALSE | R55: =IF(Q55=TRUE,ROUND(P55*M55/K55,1),0) -> 0 | S55: =ROUND(K55/P55,0) -> 968 | T55: =SUMIF($C$4:$C$1887,C55,$R$4:$R$1887) -> 14.1 | U55: =IF(T55<>P55,"Gap","") -> Gap | V55: =IF(ISERROR(IF(INDEX(rosh!$O$4:$P$710,MATCH(I55,rosh!$O$4:$O$710,0),2)="Mayor",1,)),0,IF(INDEX(rosh!$O$4:$P$710,MATCH(I55,rosh!$O$4:$O$710,0),2)="Mayor",1,)) -> 0 | W55: =Q55&" "&C55 -> FALSE אור יהודה | X55: =SUMIF($W$4:$W$1887,W55,$M$4:$M$41887) -> 962 | Y55: =IF(Q55=TRUE,ROUND(P55*M55/X55,0),) -> 0 | Z55: =SUMIF($C$4:$C$1887,C55,$Y$4:$Y$1887) -> 15 | AA55: =IF(Z55<>P55,"Gap","") | AB55: =IF(AND(V55=1,OR(Z55=P55,Z55<P55)),Y55+1,Y55) -> 0
B56: 1020 | C56: אור עקיבא | D56: 14677 | E56: א | F56: =E56&" "&C56 -> א אור עקיבא | G56: ביחד | H56: אדרי יעקב | I56: =C56&" "&H56 -> אור עקיבא אדרי יעקב | J56: 9271 | K56: 9271 | L56: 0.24916406 | M56: 2310 | N56: 0.24916406 | O56: 2310 | P56: =VLOOKUP(C56,'ריכוז נתונים'!$B$3:$C$189,2) -> 13 | Q56: =IF(M56>K56/P56*0.75,TRUE,FALSE) -> TRUE | R56: =IF(Q56=TRUE,ROUND(P56*M56/K56,1),0) -> 3.2 | S56: =ROUND(K56/P56,0) -> 713 | T56: =SUMIF($C$4:$C$1887,C56,$R$4:$R$1887) -> 12.3 | U56: =IF(T56<>P56,"Gap","") -> Gap | V56: =IF(ISERROR(IF(INDEX(rosh!$O$4:$P$710,MATCH(I56,rosh!$O$4:$O$710,0),2)="Mayor",1,)),0,IF(INDEX(rosh!$O$4:$P$710,MATCH(I56,rosh!$O$4:$O$710,0),2)="Mayor",1,)) -> 1 | W56: =Q56&" "&C56 -> TRUE אור עקיבא | X56: =SUMIF($W$4:$W$1887,W56,$M$4:$M$41887) -> 8782 | Y56: =IF(Q56=TRUE,ROUND(P56*M56/X56,0),) -> 3 | Z56: =SUMIF($C$4:$C$1887,C56,$Y$4:$Y$1887) -> 13 | AA56: =IF(Z56<>P56,"Gap","") | AB56: =IF(AND(V56=1,OR(Z56=P56,Z56<P56)),Y56+1,Y56) -> 4
B57: 1020 | C57: אור עקיבא | D57: 14677 | E57: מחל | F57: =E57&" "&C57 -> מחל אור עקיבא | G57: הליכוד שס | H57: יוסיפוב שמחה | I57: =C57&" "&H57 -> אור עקיבא יוסיפוב שמחה | J57: 9271 | K57: 9271 | L57: 0.20936253 | M57: 1941 | N57: 0.20936253 | O57: 1941 | P57: =VLOOKUP(C57,'ריכוז נתונים'!$B$3:$C$189,2) -> 13 | Q57: =IF(M57>K57/P57*0.75,TRUE,FALSE) -> TRUE | R57: =IF(Q57=TRUE,ROUND(P57*M57/K57,1),0) -> 2.7 | S57: =ROUND(K57/P57,0) -> 713 | T57: =SUMIF($C$4:$C$1887,C57,$R$4:$R$1887) -> 12.3 | U57: =IF(T57<>P57,"Gap","") -> Gap | V57: =IF(ISERROR(IF(INDEX(rosh!$O$4:$P$710,MATCH(I57,rosh!$O$4:$O$710,0),2)="Mayor",1,)),0,IF(INDEX(rosh!$O$4:$P$710,MATCH(I57,rosh!$O$4:$O$710,0),2)="Mayor",1,)) -> 0 | W57: =Q57&" "&C57 -> TRUE אור עקיבא | X57: =SUMIF($W$4:$W$1887,W57,$M$4:$M$41887) -> 8782 | Y57: =IF(Q57=TRUE,ROUND(P57*M57/X57,0),) -> 3 | Z57: =SUMIF($C$4:$C$1887,C57,$Y$4:$Y$1887) -> 13 | AA57: =IF(Z57<>P57,"Gap","") | AB57: =IF(AND(V57=1,OR(Z57=P57,Z57<P57)),Y57+1,Y57) -> 3
B58: 1020 | C58: אור עקיבא | D58: 14677 | E58: ת | F58: =E58&" "&C58 -> ת אור עקיבא | G58: התנופה בראשות ארקדי גדילוב | I58: =C58&" "&H58 -> אור עקיבא | J58: 9271 | K58: 9271 | L58: 0.13547622 | M58: 1256 | N58: 0.13547622 | O58: 1256 | P58: =VLOOKUP(C58,'ריכוז נתונים'!$B$3:$C$189,2) -> 13 | Q58: =IF(M58>K58/P58*0.75,TRUE,FALSE) -> TRUE | R58: =IF(Q58=TRUE,ROUND(P58*M58/K58,1),0) -> 1.8 | S58: =ROUND(K58/P58,0) -> 713 | T58: =SUMIF($C$4:$C$1887,C58,$R$4:$R$1887) -> 12.3 | U58: =IF(T58<>P58,"Gap","") -> Gap | V58: =IF(ISERROR(IF(INDEX(rosh!$O$4:$P$710,MATCH(I58,rosh!$O$4:$O$710,0),2)="Mayor",1,)),0,IF(INDEX(rosh!$O$4:$P$710,MATCH(I58,rosh!$O$4:$O$710,0),2)="Mayor",1,)) -> 0 | W58: =Q58&" "&C58 -> TRUE אור עקיבא | X58: =SUMIF($W$4:$W$1887,W58,$M$4:$M$41887) -> 8782 | Y58: =IF(Q58=TRUE,ROUND(P58*M58/X58,0),) -> 2 | Z58: =SUMIF($C$4:$C$1887,C58,$Y$4:$Y$1887) -> 13 | AA58: =IF(Z58<>P58,"Gap","") | AB58: =IF(AND(V58=1,OR(Z58=P58,Z58<P58)),Y58+1,Y58) -> 2
B59: 1020 | C59: אור עקיבא | D59: 14677 | E59: ה | F59: =E59&" "&C59 -> ה אור עקיבא | G59: עתיד בטוח יוסי כדורי | I59: =C59&" "&H59 -> אור עקיבא | J59: 9271 | K59: 9271 | L59: 0.12134613 | M59: 1125 | N59: 0.12134613 | O59: 1125 | P59: =VLOOKUP(C59,'ריכוז נתונים'!$B$3:$C$189,2) -> 13 | Q59: =IF(M59>K59/P59*0.75,TRUE,FALSE) -> TRUE | R59: =IF(Q59=TRUE,ROUND(P59*M59/K59,1),0) -> 1.6 | S59: =ROUND(K59/P59,0) -> 713 | T59: =SUMIF($C$4:$C$1887,C59,$R$4:$R$1887) -> 12.3 | U59: =IF(T59<>P59,"Gap","") -> Gap | V59: =IF(ISERROR(IF(INDEX(rosh!$O$4:$P$710,MATCH(I59,rosh!$O$4:$O$710,0),2)="Mayor",1,)),0,IF(INDEX(rosh!$O$4:$P$710,MATCH(I59,rosh!$O$4:$O$710,0),2)="Mayor",1,)) -> 0 | W59: =Q59&" "&C59 -> TRUE אור עקיבא | X59: =SUMIF($W$4:$W$1887,W59,$M$4:$M$41887) -> 8782 | Y59: =IF(Q59=TRUE,ROUND(P59*M59/X59,0),) -> 2 | Z59: =SUMIF($C$4:$C$1887,C59,$Y$4:$Y$1887) -> 13 | AA59: =IF(Z59<>P59,"Gap","") | AB59: =IF(AND(V59=1,OR(Z59=P59,Z59<P59)),Y59+1,Y59) -> 2
B60: 1020 | C60: אור עקיבא | D60: 14677 | E60: זך | F60: =E60&" "&C60 -> זך אור עקיבא | G60: לב בראשות אברהם כהן | I60: =C60&" "&H60 -> אור עקיבא | J60: 9271 | K60: 9271 | L60: 0.092007335 | M60: 853 | N60: 0.092007335 | O60: 853 | P60: =VLOOKUP(C60,'ריכוז נתונים'!$B$3:$C$189,2) -> 13 | Q60: =IF(M60>K60/P60*0.75,TRUE,FALSE) -> TRUE | R60: =IF(Q60=TRUE,ROUND(P60*M60/K60,1),0) -> 1.2 | S60: =ROUND(K60/P60,0) -> 713 | T60: =SUMIF($C$4:$C$1887,C60,$R$4:$R$1887) -> 12.3 | U60: =IF(T60<>P60,"Gap","") -> Gap | V60: =IF(ISERROR(IF(INDEX(rosh!$O$4:$P$710,MATCH(I60,rosh!$O$4:$O$710,0),2)="Mayor",1,)),0,IF(INDEX(rosh!$O$4:$P$710,MATCH(I60,rosh!$O$4:$O$710,0),2)="Mayor",1,)) -> 0 | W60: =Q60&" "&C60 -> TRUE אור עקיבא | X60: =SUMIF($W$4:$W$1887,W60,$M$4:$M$41887) -> 8782 | Y60: =IF(Q60=TRUE,ROUND(P60*M60/X60,0),) -> 1 | Z60: =SUMIF($C$4:$C$1887,C60,$Y$4:$Y$1887) -> 13 | AA60: =IF(Z60<>P60,"Gap","") | AB60: =IF(AND(V60=1,OR(Z60=P60,Z60<P60)),Y60+1,Y60) -> 1
B61: 1020 | C61: אור עקיבא | D61: 14677 | E61: ל | F61: =E61&" "&C61 -> ל אור עקיבא | G61: אור עקיבא ביתנו | I61: =C61&" "&H61 -> אור עקיבא | J61: 9271 | K61: 9271 | L61: 0.078308705 | M61: 726 | N61: 0.078308705 | O61: 726 | P61: =VLOOKUP(C61,'ריכוז נתונים'!$B$3:$C$189,2) -> 13 | Q61: =IF(M61>K61/P61*0.75,TRUE,FALSE) -> TRUE | R61: =IF(Q61=TRUE,ROUND(P61*M61/K61,1),0) -> 1 | S61: =ROUND(K61/P61,0) -> 713 | T61: =SUMIF($C$4:$C$1887,C61,$R$4:$R$1887) -> 12.3 | U61: =IF(T61<>P61,"Gap","") -> Gap | V61: =IF(ISERROR(IF(INDEX(rosh!$O$4:$P$710,MATCH(I61,rosh!$O$4:$O$710,0),2)="Mayor",1,)),0,IF(INDEX(rosh!$O$4:$P$710,MATCH(I61,rosh!$O$4:$O$710,0),2)="Mayor",1,)) -> 0 | W61: =Q61&" "&C61 -> TRUE אור עקיבא | X61: =SUMIF($W$4:$W$1887,W61,$M$4:$M$41887) -> 8782 | Y61: =IF(Q61=TRUE,ROUND(P61*M61/X61,0),) -> 1 | Z61: =SUMIF($C$4:$C$1887,C61,$Y$4:$Y$1887) -> 13 | AA61: =IF(Z61<>P61,"Gap","") | AB61: =IF(AND(V61=1,OR(Z61=P61,Z61<P61)),Y61+1,Y61) -> 1
B62: 1020 | C62: אור עקיבא | D62: 14677 | E62: י | F62: =E62&" "&C62 -> י אור עקיבא | G62: לשם שמים | I62: =C62&" "&H62 -> אור עקיבא | J62: 9271 | K62: 9271 | L62: 0.061589904 | M62: 571 | N62: 0.061589904 | O62: 571 | P62: =VLOOKUP(C62,'ריכוז נתונים'!$B$3:$C$189,2) -> 13 | Q62: =IF(M62>K62/P62*0.75,TRUE,FALSE) -> TRUE | R62: =IF(Q62=TRUE,ROUND(P62*M62/K62,1),0) -> 0.8 | S62: =ROUND(K62/P62,0) -> 713 | T62: =SUMIF($C$4:$C$1887,C62,$R$4:$R$1887) -> 12.3 | U62: =IF(T62<>P62,"Gap","") -> Gap | V62: =IF(ISERROR(IF(INDEX(rosh!$O$4:$P$710,MATCH(I62,rosh!$O$4:$O$710,0),2)="Mayor",1,)),0,IF(INDEX(rosh!$O$4:$P$710,MATCH(I62,rosh!$O$4:$O$710,0),2)="Mayor",1,)) -> 0 | W62: =Q62&" "&C62 -> TRUE אור עקיבא | X62: =SUMIF($W$4:$W$1887,W62,$M$4:$M$41887) -> 8782 | Y62: =IF(Q62=TRUE,ROUND(P62*M62/X62,0),) -> 1 | Z62: =SUMIF($C$4:$C$1887,C62,$Y$4:$Y$1887) -> 13 | AA62: =IF(Z62<>P62,"Gap","") | AB62: =IF(AND(V62=1,OR(Z62=P62,Z62<P62)),Y62+1,Y62) -> 1
B63: 1020 | C63: אור עקיבא | D63: 14677 | E63: נ | F63: =E63&" "&C63 -> נ אור עקיבא | G63: אור לצעירים | I63: =C63&" "&H63 -> אור עקיבא | J63: 9271 | K63: 9271 | L63: 0.052745119 | M63: 489 | N63: 0.052745119 | O63: 489 | P63: =VLOOKUP(C63,'ריכוז נתונים'!$B$3:$C$189,2) -> 13 | Q63: =IF(M63>K63/P63*0.75,TRUE,FALSE) -> FALSE | R63: =IF(Q63=TRUE,ROUND(P63*M63/K63,1),0) -> 0 | S63: =ROUND(K63/P63,0) -> 713 | T63: =SUMIF($C$4:$C$1887,C63,$R$4:$R$1887) -> 12.3 | U63: =IF(T63<>P63,"Gap","") -> Gap | V63: =IF(ISERROR(IF(INDEX(rosh!$O$4:$P$710,MATCH(I63,rosh!$O$4:$O$710,0),2)="Mayor",1,)),0,IF(INDEX(rosh!$O$4:$P$710,MATCH(I63,rosh!$O$4:$O$710,0),2)="Mayor",1,)) -> 0 | W63: =Q63&" "&C63 -> FALSE אור עקיבא | X63: =SUMIF($W$4:$W$1887,W63,$M$4:$M$41887) -> 489 | Y63: =IF(Q63=TRUE,ROUND(P63*M63/X63,0),) -> 0 | Z63: =SUMIF($C$4:$C$1887,C63,$Y$4:$Y$1887) -> 13 | AA63: =IF(Z63<>P63,"Gap","") | AB63: =IF(AND(V63=1,OR(Z63=P63,Z63<P63)),Y63+1,Y63) -> 0
B64: 3760 | C64: אורנית | D64: 5442 | E64: של | F64: =E64&" "&C64 -> של אורנית | G64: יחד | H64: לנגר שלומי | I64: =C64&" "&H64 -> אורנית לנגר שלומי | J64: 2943 | K64: 2943 | L64: 0.63710499 | M64: 1875 | N64: 0.63710499 | O64: 1875 | P64: =VLOOKUP(C64,'ריכוז נתונים'!$B$3:$C$189,2) -> 9 | Q64: =IF(M64>K64/P64*0.75,TRUE,FALSE) -> TRUE | R64: =IF(Q64=TRUE,ROUND(P64*M64/K64,1),0) -> 5.7 | S64: =ROUND(K64/P64,0) -> 327 | T64: =SUMIF($C$4:$C$1887,C64,$R$4:$R$1887) -> 9 | U64: =IF(T64<>P64,"Gap","") | V64: =IF(ISERROR(IF(INDEX(rosh!$O$4:$P$710,MATCH(I64,rosh!$O$4:$O$710,0),2)="Mayor",1,)),0,IF(INDEX(rosh!$O$4:$P$710,MATCH(I64,rosh!$O$4:$O$710,0),2)="Mayor",1,)) -> 1 | W64: =Q64&" "&C64 -> TRUE אורנית | X64: =SUMIF($W$4:$W$1887,W64,$M$4:$M$41887) -> 2943 | Y64: =IF(Q64=TRUE,ROUND(P64*M64/X64,0),) -> 6 | Z64: =SUMIF($C$4:$C$1887,C64,$Y$4:$Y$1887) -> 9 | AA64: =IF(Z64<>P64,"Gap","") | AB64: =IF(AND(V64=1,OR(Z64=P64,Z64<P64)),Y64+1,Y64) -> 7
B65: 3760 | C65: אורנית | D65: 5442 | E65: את | F65: =E65&" "&C65 -> את אורנית | G65: אורנית אחת ביחד עם קרן גפני בוחניק | H65: גפני-בוחניק קרן רחל | I65: =C65&" "&H65 -> אורנית גפני-בוחניק קרן רחל | J65: 2943 | K65: 2943 | L65: 0.36289501 | M65: 1068 | N65: 0.36289501 | O65: 1068 | P65: =VLOOKUP(C65,'ריכוז נתונים'!$B$3:$C$189,2) -> 9 | Q65: =IF(M65>K65/P65*0.75,TRUE,FALSE) -> TRUE | R65: =IF(Q65=TRUE,ROUND(P65*M65/K65,1),0) -> 3.3 | S65: =ROUND(K65/P65,0) -> 327 | T65: =SUMIF($C$4:$C$1887,C65,$R$4:$R$1887) -> 9 | U65: =IF(T65<>P65,"Gap","") | V65: =IF(ISERROR(IF(INDEX(rosh!$O$4:$P$710,MATCH(I65,rosh!$O$4:$O$710,0),2)="Mayor",1,)),0,IF(INDEX(rosh!$O$4:$P$710,MATCH(I65,rosh!$O$4:$O$710,0),2)="Mayor",1,)) -> 0 | W65: =Q65&" "&C65 -> TRUE אורנית | X65: =SUMIF($W$4:$W$1887,W65,$M$4:$M$41887) -> 2943 | Y65: =IF(Q65=TRUE,ROUND(P65*M65/X65,0),) -> 3 | Z65: =SUMIF($C$4:$C$1887,C65,$Y$4:$Y$1887) -> 9 | AA65: =IF(Z65<>P65,"Gap","") | AB65: =IF(AND(V65=1,OR(Z65=P65,Z65<P65)),Y65+1,Y65) -> 3
B66: 565 | C66: אזור | D66: 9553 | E66: א | F66: =E66&" "&C66 -> א אזור | G66: אזור אחת בראשות אריה פכטר | H66: פכטר אריה | I66: =C66&" "&H66 -> אזור פכטר אריה | J66: 5041 | K66: 5041 | L66: 0.45804404 | M66: 2309 | N66: 0.45804404 | O66: 2309 | P66: =VLOOKUP(C66,'ריכוז נתונים'!$B$3:$C$189,2) -> 11 | Q66: =IF(M66>K66/P66*0.75,TRUE,FALSE) -> TRUE | R66: =IF(Q66=TRUE,ROUND(P66*M66/K66,1),0) -> 5 | S66: =ROUND(K66/P66,0) -> 458 | T66: =SUMIF($C$4:$C$1887,C66,$R$4:$R$1887) -> 10.2 | U66: =IF(T66<>P66,"Gap","") -> Gap | V66: =IF(ISERROR(IF(INDEX(rosh!$O$4:$P$710,MATCH(I66,rosh!$O$4:$O$710,0),2)="Mayor",1,)),0,IF(INDEX(rosh!$O$4:$P$710,MATCH(I66,rosh!$O$4:$O$710,0),2)="Mayor",1,)) -> 1 | W66: =Q66&" "&C66 -> TRUE אזור | X66: =SUMIF($W$4:$W$1887,W66,$M$4:$M$41887) -> 4694 | Y66: =IF(Q66=TRUE,ROUND(P66*M66/X66,0),) -> 5 | Z66: =SUMIF($C$4:$C$1887,C66,$Y$4:$Y$1887) -> 11 | AA66: =IF(Z66<>P66,"Gap","") | AB66: =IF(AND(V66=1,OR(Z66=P66,Z66<P66)),Y66+1,Y66) -> 6
B67: 565 | C67: אזור | D67: 9553 | E67: מחל | F67: =E67&" "&C67 -> מחל אזור | G67: הליכוד ירוקים בראשות אוריאל תנעמי | H67: תנעמי אוריאל | I67: =C67&" "&H67 -> אזור תנעמי אוריאל | J67: 5041 | K67: 5041 | L67: 0.15334259 | M67: 773 | N67: 0.15334259 | O67: 773 | P67: =VLOOKUP(C67,'ריכוז נתונים'!$B$3:$C$189,2) -> 11 | Q67: =IF(M67>K67/P67*0.75,TRUE,FALSE) -> TRUE | R67: =IF(Q67=TRUE,ROUND(P67*M67/K67,1),0) -> 1.7 | S67: =ROUND(K67/P67,0) -> 458 | T67: =SUMIF($C$4:$C$1887,C67,$R$4:$R$1887) -> 10.2 | U67: =IF(T67<>P67,"Gap","") -> Gap | V67: =IF(ISERROR(IF(INDEX(rosh!$O$4:$P$710,MATCH(I67,rosh!$O$4:$O$710,0),2)="Mayor",1,)),0,IF(INDEX(rosh!$O$4:$P$710,MATCH(I67,rosh!$O$4:$O$710,0),2)="Mayor",1,)) -> 0 | W67: =Q67&" "&C67 -> TRUE אזור | X67: =SUMIF($W$4:$W$1887,W67,$M$4:$M$41887) -> 4694 | Y67: =IF(Q67=TRUE,ROUND(P67*M67/X67,0),) -> 2 | Z67: =SUMIF($C$4:$C$1887,C67,$Y$4:$Y$1887) -> 11 | AA67: =IF(Z67<>P67,"Gap","") | AB67: =IF(AND(V67=1,OR(Z67=P67,Z67<P67)),Y67+1,Y67) -> 2
B68: 565 | C68: אזור | D68: 9553 | E68: שסג | F68: =E68&" "&C68 -> שסג אזור | G68: מסורת ועשייה | I68: =C68&" "&H68 -> אזור | J68: 5041 | K68: 5041 | L68: 0.14124182 | M68: 712 | N68: 0.14124182 | O68: 712 | P68: =VLOOKUP(C68,'ריכוז נתונים'!$B$3:$C$189,2) -> 11 | Q68: =IF(M68>K68/P68*0.75,TRUE,FALSE) -> TRUE | R68: =IF(Q68=TRUE,ROUND(P68*M68/K68,1),0) -> 1.6 | S68: =ROUND(K68/P68,0) -> 458 | T68: =SUMIF($C$4:$C$1887,C68,$R$4:$R$1887) -> 10.2 | U68: =IF(T68<>P68,"Gap","") -> Gap | V68: =IF(ISERROR(IF(INDEX(rosh!$O$4:$P$710,MATCH(I68,rosh!$O$4:$O$710,0),2)="Mayor",1,)),0,IF(INDEX(rosh!$O$4:$P$710,MATCH(I68,rosh!$O$4:$O$710,0),2)="Mayor",1,)) -> 0 | W68: =Q68&" "&C68 -> TRUE אזור | X68: =SUMIF($W$4:$W$1887,W68,$M$4:$M$41887) -> 4694 | Y68: =IF(Q68=TRUE,ROUND(P68*M68/X68,0),) -> 2 | Z68: =SUMIF($C$4:$C$1887,C68,$Y$4:$Y$1887) -> 11 | AA68: =IF(Z68<>P68,"Gap","") | AB68: =IF(AND(V68=1,OR(Z68=P68,Z68<P68)),Y68+1,Y68) -> 2
B69: 565 | C69: אזור | D69: 9553 | E69: טב | F69: =E69&" "&C69 -> טב אזור | G69: הבית היהודי בראשות יוסף מגנאגי | I69: =C69&" "&H69 -> אזור | J69: 5041 | K69: 5041 | L69: 0.094624083 | M69: 477 | N69: 0.094624083 | O69: 477 | P69: =VLOOKUP(C69,'ריכוז נתונים'!$B$3:$C$189,2) -> 11 | Q69: =IF(M69>K69/P69*0.75,TRUE,FALSE) -> TRUE | R69: =IF(Q69=TRUE,ROUND(P69*M69/K69,1),0) -> 1 | S69: =ROUND(K69/P69,0) -> 458 | T69: =SUMIF($C$4:$C$1887,C69,$R$4:$R$1887) -> 10.2 | U69: =IF(T69<>P69,"Gap","") -> Gap | V69: =IF(ISERROR(IF(INDEX(rosh!$O$4:$P$710,MATCH(I69,rosh!$O$4:$O$710,0),2)="Mayor",1,)),0,IF(INDEX(rosh!$O$4:$P$710,MATCH(I69,rosh!$O$4:$O$710,0),2)="Mayor",1,)) -> 0 | W69: =Q69&" "&C69 -> TRUE אזור | X69: =SUMIF($W$4:$W$1887,W69,$M$4:$M$41887) -> 4694 | Y69: =IF(Q69=TRUE,ROUND(P69*M69/X69,0),) -> 1 | Z69: =SUMIF($C$4:$C$1887,C69,$Y$4:$Y$1887) -> 11 | AA69: =IF(Z69<>P69,"Gap","") | AB69: =IF(AND(V69=1,OR(Z69=P69,Z69<P69)),Y69+1,Y69) -> 1
B70: 565 | C70: אזור | D70: 9553 | E70: דף | F70: =E70&" "&C70 -> דף אזור | G70: דף חדש באזור יובל בן בסט | I70: =C70&" "&H70 -> אזור | J70: 5041 | K70: 5041 | L70: 0.083911922 | M70: 423 | N70: 0.083911922 | O70: 423 | P70: =VLOOKUP(C70,'ריכוז נתונים'!$B$3:$C$189,2) -> 11 | Q70: =IF(M70>K70/P70*0.75,TRUE,FALSE) -> TRUE | R70: =IF(Q70=TRUE,ROUND(P70*M70/K70,1),0) -> 0.9 | S70: =ROUND(K70/P70,0) -> 458 | T70: =SUMIF($C$4:$C$1887,C70,$R$4:$R$1887) -> 10.2 | U70: =IF(T70<>P70,"Gap","") -> Gap | V70: =IF(ISERROR(IF(INDEX(rosh!$O$4:$P$710,MATCH(I70,rosh!$O$4:$O$710,0),2)="Mayor",1,)),0,IF(INDEX(rosh!$O$4:$P$710,MATCH(I70,rosh!$O$4:$O$710,0),2)="Mayor",1,)) -> 0 | W70: =Q70&" "&C70 -> TRUE אזור | X70: =SUMIF($W$4:$W$1887,W70,$M$4:$M$41887) -> 4694 | Y70: =IF(Q70=TRUE,ROUND(P70*M70/X70,0),) -> 1 | Z70: =SUMIF($C$4:$C$1887,C70,$Y$4:$Y$1887) -> 11 | AA70: =IF(Z70<>P70,"Gap","") | AB70: =IF(AND(V70=1,OR(Z70=P70,Z70<P70)),Y70+1,Y70) -> 1
B71: 565 | C71: אזור | D71: 9553 | E71: ל | F71: =E71&" "&C71 -> ל אזור | G71: ישראל ביתנו אזור | I71: =C71&" "&H71 -> אזור | J71: 5041 | K71: 5041 | L71: 0.068835549 | M71: 347 | N71: 0.068835549 | O71: 347 | P71: =VLOOKUP(C71,'ריכוז נתונים'!$B$3:$C$189,2) -> 11 | Q71: FALSE | R71: =IF(Q71=TRUE,ROUND(P71*M71/K71,1),0) -> 0 | S71: =ROUND(K71/P71,0) -> 458 | T71: =SUMIF($C$4:$C$1887,C71,$R$4:$R$1887) -> 10.2 | U71: =IF(T71<>P71,"Gap","") -> Gap | V71: =IF(ISERROR(IF(INDEX(rosh!$O$4:$P$710,MATCH(I71,rosh!$O$4:$O$710,0),2)="Mayor",1,)),0,IF(INDEX(rosh!$O$4:$P$710,MATCH(I71,rosh!$O$4:$O$710,0),2)="Mayor",1,)) -> 0 | W71: =Q71&" "&C71 -> FALSE אזור | X71: =SUMIF($W$4:$W$1887,W71,$M$4:$M$41887) -> 347 | Y71: =IF(Q71=TRUE,ROUND(P71*M71/X71,0),) -> 0 | Z71: =SUMIF($C$4:$C$1887,C71,$Y$4:$Y$1887) -> 11 | AA71: =IF(Z71<>P71,"Gap","") | AB71: =IF(AND(V71=1,OR(Z71=P71,Z71<P71)),Y71+1,Y71) -> 0
B72: 2600 | C72: אילת | D72: 48242 | E72: יד | F72: =E72&" "&C72 -> יד אילת | G72: כיוון חדש | H72: יצחק הלוי מאיר | I72: =C72&" "&H72 -> אילת יצחק הלוי מאיר | J72: 20329 | K72: 20329 | L72: 0.20458458 | M72: 4159 | N72: 0.20458458 | O72: 4159 | P72: =VLOOKUP(C72,'ריכוז נתונים'!$B$3:$C$189,2) -> 17 | Q72: =IF(M72>K72/P72*0.75,TRUE,FALSE) -> TRUE | R72: =IF(Q72=TRUE,ROUND(P72*M72/K72,1),0) -> 3.5 | S72: =ROUND(K72/P72,0) -> 1196 | T72: =SUMIF($C$4:$C$1887,C72,$R$4:$R$1887) -> 14.5 | U72: =IF(T72<>P72,"Gap","") -> Gap | V72: =IF(ISERROR(IF(INDEX(rosh!$O$4:$P$710,MATCH(I72,rosh!$O$4:$O$710,0),2)="Mayor",1,)),0,IF(INDEX(rosh!$O$4:$P$710,MATCH(I72,rosh!$O$4:$O$710,0),2)="Mayor",1,)) -> 1 | W72: =Q72&" "&C72 -> TRUE אילת | X72: =SUMIF($W$4:$W$1887,W72,$M$4:$M$41887) -> 17209 | Y72: =IF(Q72=TRUE,ROUND(P72*M72/X72,0),) -> 4 | Z72: =SUMIF($C$4:$C$1887,C72,$Y$4:$Y$1887) -> 16 | AA72: =IF(Z72<>P72,"Gap","") -> Gap | AB72: =IF(AND(V72=1,OR(Z72=P72,Z72<P72)),Y72+1,Y72) -> 5
B73: 2600 | C73: אילת | D73: 48242 | E73: מ | F73: =E73&" "&C73 -> מ אילת | G73: אילת מחכה למהפך | H73: כהן דובי | I73: =C73&" "&H73 -> אילת כהן דובי | J73: 20329 | K73: 20329 | L73: 0.18638398 | M73: 3789 | N73: 0.18638398 | O73: 3789 | P73: =VLOOKUP(C73,'ריכוז נתונים'!$B$3:$C$189,2) -> 17 | Q73: =IF(M73>K73/P73*0.75,TRUE,FALSE) -> TRUE | R73: =IF(Q73=TRUE,ROUND(P73*M73/K73,1),0) -> 3.2 | S73: =ROUND(K73/P73,0) -> 1196 | T73: =SUMIF($C$4:$C$1887,C73,$R$4:$R$1887) -> 14.5 | U73: =IF(T73<>P73,"Gap","") -> Gap | V73: =IF(ISERROR(IF(INDEX(rosh!$O$4:$P$710,MATCH(I73,rosh!$O$4:$O$710,0),2)="Mayor",1,)),0,IF(INDEX(rosh!$O$4:$P$710,MATCH(I73,rosh!$O$4:$O$710,0),2)="Mayor",1,)) -> 0 | W73: =Q73&" "&C73 -> TRUE אילת | X73: =SUMIF($W$4:$W$1887,W73,$M$4:$M$41887) -> 17209 | Y73: =IF(Q73=TRUE,ROUND(P73*M73/X73,0),) -> 4 | Z73: =SUMIF($C$4:$C$1887,C73,$Y$4:$Y$1887) -> 16 | AA73: =IF(Z73<>P73,"Gap","") -> Gap | AB73: =IF(AND(V73=1,OR(Z73=P73,Z73<P73)),Y73+1,Y73) -> 4
B74: 2600 | C74: אילת | D74: 48242 | E74: ים | F74: =E74&" "&C74 -> ים אילת | G74: ים | I74: =C74&" "&H74 -> אילת | J74: 20329 | K74: 20329 | L74: 0.11987801 | M74: 2437 | N74: 0.11987801 | O74: 2437 | P74: =VLOOKUP(C74,'ריכוז נתונים'!$B$3:$C$189,2) -> 17 | Q74: =IF(M74>K74/P74*0.75,TRUE,FALSE) -> TRUE | R74: =IF(Q74=TRUE,ROUND(P74*M74/K74,1),0) -> 2 | S74: =ROUND(K74/P74,0) -> 1196 | T74: =SUMIF($C$4:$C$1887,C74,$R$4:$R$1887) -> 14.5 | U74: =IF(T74<>P74,"Gap","") -> Gap | V74: =IF(ISERROR(IF(INDEX(rosh!$O$4:$P$710,MATCH(I74,rosh!$O$4:$O$710,0),2)="Mayor",1,)),0,IF(INDEX(rosh!$O$4:$P$710,MATCH(I74,rosh!$O$4:$O$710,0),2)="Mayor",1,)) -> 0 | W74: =Q74&" "&C74 -> TRUE אילת | X74: =SUMIF($W$4:$W$1887,W74,$M$4:$M$41887) -> 17209 | Y74: =IF(Q74=TRUE,ROUND(P74*M74/X74,0),) -> 2 | Z74: =SUMIF($C$4:$C$1887,C74,$Y$4:$Y$1887) -> 16 | AA74: =IF(Z74<>P74,"Gap","") -> Gap | AB74: =IF(AND(V74=1,OR(Z74=P74,Z74<P74)),Y74+1,Y74) -> 2
B75: 2600 | C75: אילת | D75: 48242 | E75: צא | F75: =E75&" "&C75 -> צא אילת | G75: צעירי אילת | I75: =C75&" "&H75 -> אילת | J75: 20329 | K75: 20329 | L75: 0.11058094 | M75: 2248 | N75: 0.11058094 | O75: 2248 | P75: =VLOOKUP(C75,'ריכוז נתונים'!$B$3:$C$189,2) -> 17 | Q75: =IF(M75>K75/P75*0.75,TRUE,FALSE) -> TRUE | R75: =IF(Q75=TRUE,ROUND(P75*M75/K75,1),0) -> 1.9 | S75: =ROUND(K75/P75,0) -> 1196 | T75: =SUMIF($C$4:$C$1887,C75,$R$4:$R$1887) -> 14.5 | U75: =IF(T75<>P75,"Gap","") -> Gap | V75: =IF(ISERROR(IF(INDEX(rosh!$O$4:$P$710,MATCH(I75,rosh!$O$4:$O$710,0),2)="Mayor",1,)),0,IF(INDEX(rosh!$O$4:$P$710,MATCH(I75,rosh!$O$4:$O$710,0),2)="Mayor",1,)) -> 0 | W75: =Q75&" "&C75 -> TRUE אילת | X75: =SUMIF($W$4:$W$1887,W75,$M$4:$M$41887) -> 17209 | Y75: =IF(Q75=TRUE,ROUND(P75*M75/X75,0),) -> 2 | Z75: =SUMIF($C$4:$C$1887,C75,$Y$4:$Y$1887) -> 16 | AA75: =IF(Z75<>P75,"Gap","") -> Gap | AB75: =IF(AND(V75=1,OR(Z75=P75,Z75<P75)),Y75+1,Y75) -> 2
B76: 2600 | C76: אילת | D76: 48242 | E76: שס | F76: =E76&" "&C76 -> שס אילת | G76: יחד | I76: =C76&" "&H76 -> אילת | J76: 20329 | K76: 20329 | L76: 0.080869694 | M76: 1644 | N76: 0.080869694 | O76: 1644 | P76: =VLOOKUP(C76,'ריכוז נתונים'!$B$3:$C$189,2) -> 17 | Q76: =IF(M76>K76/P76*0.75,TRUE,FALSE) -> TRUE | R76: =IF(Q76=TRUE,ROUND(P76*M76/K76,1),0) -> 1.4 | S76: =ROUND(K76/P76,0) -> 1196 | T76: =SUMIF($C$4:$C$1887,C76,$R$4:$R$1887) -> 14.5 | U76: =IF(T76<>P76,"Gap","") -> Gap | V76: =IF(ISERROR(IF(INDEX(rosh!$O$4:$P$710,MATCH(I76,rosh!$O$4:$O$710,0),2)="Mayor",1,)),0,IF(INDEX(rosh!$O$4:$P$710,MATCH(I76,rosh!$O$4:$O$710,0),2)="Mayor",1,)) -> 0 | W76: =Q76&" "&C76 -> TRUE אילת | X76: =SUMIF($W$4:$W$1887,W76,$M$4:$M$41887) -> 17209 | Y76: =IF(Q76=TRUE,ROUND(P76*M76/X76,0),) -> 2 | Z76: =SUMIF($C$4:$C$1887,C76,$Y$4:$Y$1887) -> 16 | AA76: =IF(Z76<>P76,"Gap","") -> Gap | AB76: =IF(AND(V76=1,OR(Z76=P76,Z76<P76)),Y76+1,Y76) -> 2
B77: 2600 | C77: אילת | D77: 48242 | E77: א | F77: =E77&" "&C77 -> א אילת | G77: אור לאילת | I77: =C77&" "&H77 -> אילת | J77: 20329 | K77: 20329 | L77: 0.073835408 | M77: 1501 | N77: 0.073835408 | O77: 1501 | P77: =VLOOKUP(C77,'ריכוז נתונים'!$B$3:$C$189,2) -> 17 | Q77: =IF(M77>K77/P77*0.75,TRUE,FALSE) -> TRUE | R77: =IF(Q77=TRUE,ROUND(P77*M77/K77,1),0) -> 1.3 | S77: =ROUND(K77/P77,0) -> 1196 | T77: =SUMIF($C$4:$C$1887,C77,$R$4:$R$1887) -> 14.5 | U77: =IF(T77<>P77,"Gap","") -> Gap | V77: =IF(ISERROR(IF(INDEX(rosh!$O$4:$P$710,MATCH(I77,rosh!$O$4:$O$710,0),2)="Mayor",1,)),0,IF(INDEX(rosh!$O$4:$P$710,MATCH(I77,rosh!$O$4:$O$710,0),2)="Mayor",1,)) -> 0 | W77: =Q77&" "&C77 -> TRUE אילת | X77: =SUMIF($W$4:$W$1887,W77,$M$4:$M$41887) -> 17209 | Y77: =IF(Q77=TRUE,ROUND(P77*M77/X77,0),) -> 1 | Z77: =SUMIF($C$4:$C$1887,C77,$Y$4:$Y$1887) -> 16 | AA77: =IF(Z77<>P77,"Gap","") -> Gap | AB77: =IF(AND(V77=1,OR(Z77=P77,Z77<P77)),Y77+1,Y77) -> 1
B78: 2600 | C78: אילת | D78: 48242 | E78: ל | F78: =E78&" "&C78 -> ל אילת | G78: אילת ביתנו | I78: =C78&" "&H78 -> אילת | J78: 20329 | K78: 20329 | L78: 0.070392051 | M78: 1431 | N78: 0.070392051 | O78: 1431 | P78: =VLOOKUP(C78,'ריכוז נתונים'!$B$3:$C$189,2) -> 17 | Q78: =IF(M78>K78/P78*0.75,TRUE,FALSE) -> TRUE | R78: =IF(Q78=TRUE,ROUND(P78*M78/K78,1),0) -> 1.2 | S78: =ROUND(K78/P78,0) -> 1196 | T78: =SUMIF($C$4:$C$1887,C78,$R$4:$R$1887) -> 14.5 | U78: =IF(T78<>P78,"Gap","") -> Gap | V78: =IF(ISERROR(IF(INDEX(rosh!$O$4:$P$710,MATCH(I78,rosh!$O$4:$O$710,0),2)="Mayor",1,)),0,IF(INDEX(rosh!$O$4:$P$710,MATCH(I78,rosh!$O$4:$O$710,0),2)="Mayor",1,)) -> 0 | W78: =Q78&" "&C78 -> TRUE אילת | X78: =SUMIF($W$4:$W$1887,W78,$M$4:$M$41887) -> 17209 | Y78: =IF(Q78=TRUE,ROUND(P78*M78/X78,0),) -> 1 | Z78: =SUMIF($C$4:$C$1887,C78,$Y$4:$Y$1887) -> 16 | AA78: =IF(Z78<>P78,"Gap","") -> Gap | AB78: =IF(AND(V78=1,OR(Z78=P78,Z78<P78)),Y78+1,Y78) -> 1
B79: 2600 | C79: אילת | D79: 48242 | E79: נא | F79: =E79&" "&C79 -> נא אילת | G79: ייחוד אילת | I79: =C79&" "&H79 -> אילת | J79: 20329 | K79: 20329 | L79: 0.039352649 | M79: 800 | N79: 0.039352649 | O79: 800 | P79: =VLOOKUP(C79,'ריכוז נתונים'!$B$3:$C$189,2) -> 17 | Q79: =IF(M79>K79/P79*0.75,TRUE,FALSE) -> FALSE | R79: =IF(Q79=TRUE,ROUND(P79*M79/K79,1),0) -> 0 | S79: =ROUND(K79/P79,0) -> 1196 | T79: =SUMIF($C$4:$C$1887,C79,$R$4:$R$1887) -> 14.5 | U79: =IF(T79<>P79,"Gap","") -> Gap | V79: =IF(ISERROR(IF(INDEX(rosh!$O$4:$P$710,MATCH(I79,rosh!$O$4:$O$710,0),2)="Mayor",1,)),0,IF(INDEX(rosh!$O$4:$P$710,MATCH(I79,rosh!$O$4:$O$710,0),2)="Mayor",1,)) -> 0 | W79: =Q79&" "&C79 -> FALSE אילת | X79: =SUMIF($W$4:$W$1887,W79,$M$4:$M$41887) -> 3120 | Y79: =IF(Q79=TRUE,ROUND(P79*M79/X79,0),) -> 0 | Z79: =SUMIF($C$4:$C$1887,C79,$Y$4:$Y$1887) -> 16 | AA79: =IF(Z79<>P79,"Gap","") -> Gap | AB79: =IF(AND(V79=1,OR(Z79=P79,Z79<P79)),Y79+1,Y79) -> 0
B80: 2600 | C80: אילת | D80: 48242 | E80: נץ | F80: =E80&" "&C80 -> נץ אילת | G80: אילת אחרת | I80: =C80&" "&H80 -> אילת | J80: 20329 | K80: 20329 | L80: 0.037089872 | M80: 754 | N80: 0.037089872 | O80: 754 | P80: =VLOOKUP(C80,'ריכוז נתונים'!$B$3:$C$189,2) -> 17 | Q80: =IF(M80>K80/P80*0.75,TRUE,FALSE) -> FALSE | R80: =IF(Q80=TRUE,ROUND(P80*M80/K80,1),0) -> 0 | S80: =ROUND(K80/P80,0) -> 1196 | T80: =SUMIF($C$4:$C$1887,C80,$R$4:$R$1887) -> 14.5 | U80: =IF(T80<>P80,"Gap","") -> Gap | V80: =IF(ISERROR(IF(INDEX(rosh!$O$4:$P$710,MATCH(I80,rosh!$O$4:$O$710,0),2)="Mayor",1,)),0,IF(INDEX(rosh!$O$4:$P$710,MATCH(I80,rosh!$O$4:$O$710,0),2)="Mayor",1,)) -> 0 | W80: =Q80&" "&C80 -> FALSE אילת | X80: =SUMIF($W$4:$W$1887,W80,$M$4:$M$41887) -> 3120 | Y80: =IF(Q80=TRUE,ROUND(P80*M80/X80,0),) -> 0 | Z80: =SUMIF($C$4:$C$1887,C80,$Y$4:$Y$1887) -> 16 | AA80: =IF(Z80<>P80,"Gap","") -> Gap | AB80: =IF(AND(V80=1,OR(Z80=P80,Z80<P80)),Y80+1,Y80) -> 0
B81: 2600 | C81: אילת | D81: 48242 | E81: פה | F81: =E81&" "&C81 -> פה אילת | G81: יש עתיד | I81: =C81&" "&H81 -> אילת | J81: 20329 | K81: 20329 | L81: 0.035860101 | M81: 729 | N81: 0.035860101 | O81: 729 | P81: =VLOOKUP(C81,'ריכוז נתונים'!$B$3:$C$189,2) -> 17 | Q81: =IF(M81>K81/P81*0.75,TRUE,FALSE) -> FALSE | R81: =IF(Q81=TRUE,ROUND(P81*M81/K81,1),0) -> 0 | S81: =ROUND(K81/P81,0) -> 1196 | T81: =SUMIF($C$4:$C$1887,C81,$R$4:$R$1887) -> 14.5 | U81: =IF(T81<>P81,"Gap","") -> Gap | V81: =IF(ISERROR(IF(INDEX(rosh!$O$4:$P$710,MATCH(I81,rosh!$O$4:$O$710,0),2)="Mayor",1,)),0,IF(INDEX(rosh!$O$4:$P$710,MATCH(I81,rosh!$O$4:$O$710,0),2)="Mayor",1,)) -> 0 | W81: =Q81&" "&C81 -> FALSE אילת | X81: =SUMIF($W$4:$W$1887,W81,$M$4:$M$41887) -> 3120 | Y81: =IF(Q81=TRUE,ROUND(P81*M81/X81,0),) -> 0 | Z81: =SUMIF($C$4:$C$1887,C81,$Y$4:$Y$1887) -> 16 | AA81: =IF(Z81<>P81,"Gap","") -> Gap | AB81: =IF(AND(V81=1,OR(Z81=P81,Z81<P81)),Y81+1,Y81) -> 0
B82: 2600 | C82: אילת | D82: 48242 | E82: טב | F82: =E82&" "&C82 -> טב אילת | G82: הבית היהודי | I82: =C82&" "&H82 -> אילת | J82: 20329 | K82: 20329 | L82: 0.02853067 | M82: 580 | N82: 0.02853067 | O82: 580 | P82: =VLOOKUP(C82,'ריכוז נתונים'!$B$3:$C$189,2) -> 17 | Q82: =IF(M82>K82/P82*0.75,TRUE,FALSE) -> FALSE | R82: =IF(Q82=TRUE,ROUND(P82*M82/K82,1),0) -> 0 | S82: =ROUND(K82/P82,0) -> 1196 | T82: =SUMIF($C$4:$C$1887,C82,$R$4:$R$1887) -> 14.5 | U82: =IF(T82<>P82,"Gap","") -> Gap | V82: =IF(ISERROR(IF(INDEX(rosh!$O$4:$P$710,MATCH(I82,rosh!$O$4:$O$710,0),2)="Mayor",1,)),0,IF(INDEX(rosh!$O$4:$P$710,MATCH(I82,rosh!$O$4:$O$710,0),2)="Mayor",1,)) -> 0 | W82: =Q82&" "&C82 -> FALSE אילת | X82: =SUMIF($W$4:$W$1887,W82,$M$4:$M$41887) -> 3120 | Y82: =IF(Q82=TRUE,ROUND(P82*M82/X82,0),) -> 0 | Z82: =SUMIF($C$4:$C$1887,C82,$Y$4:$Y$1887) -> 16 | AA82: =IF(Z82<>P82,"Gap","") -> Gap | AB82: =IF(AND(V82=1,OR(Z82=P82,Z82<P82)),Y82+1,Y82) -> 0
B83: 2600 | C83: אילת | D83: 48242 | E83: ח | F83: =E83&" "&C83 -> ח אילת | G83: תושבים עושים שינוי | H83: חי אהרון | I83: =C83&" "&H83 -> אילת חי אהרון | J83: 20329 | K83: 20329 | L83: 0.012642038 | M83: 257 | N83: 0.012642038 | O83: 257 | P83: =VLOOKUP(C83,'ריכוז נתונים'!$B$3:$C$189,2) -> 17 | Q83: =IF(M83>K83/P83*0.75,TRUE,FALSE) -> FALSE | R83: =IF(Q83=TRUE,ROUND(P83*M83/K83,1),0) -> 0 | S83: =ROUND(K83/P83,0) -> 1196 | T83: =SUMIF($C$4:$C$1887,C83,$R$4:$R$1887) -> 14.5 | U83: =IF(T83<>P83,"Gap","") -> Gap | V83: =IF(ISERROR(IF(INDEX(rosh!$O$4:$P$710,MATCH(I83,rosh!$O$4:$O$710,0),2)="Mayor",1,)),0,IF(INDEX(rosh!$O$4:$P$710,MATCH(I83,rosh!$O$4:$O$710,0),2)="Mayor",1,)) -> 0 | W83: =Q83&" "&C83 -> FALSE אילת | X83: =SUMIF($W$4:$W$1887,W83,$M$4:$M$41887) -> 3120 | Y83: =IF(Q83=TRUE,ROUND(P83*M83/X83,0),) -> 0 | Z83: =SUMIF($C$4:$C$1887,C83,$Y$4:$Y$1887) -> 16 | AA83: =IF(Z83<>P83,"Gap","") -> Gap | AB83: =IF(AND(V83=1,OR(Z83=P83,Z83<P83)),Y83+1,Y83) -> 0
B84: 478 | C84: אכסאל | D84: 8237 | E84: נ | F84: =E84&" "&C84 -> נ אכסאל | G84: רשימת השינוי | I84: =C84&" "&H84 -> אכסאל | J84: 6894 | K84: 6894 | L84: 0.18465332 | M84: 1273 | N84: 0.18465332 | O84: 1273 | P84: =VLOOKUP(C84,'ריכוז נתונים'!$B$3:$C$189,2) -> 11 | Q84: =IF(M84>K84/P84*0.75,TRUE,FALSE) -> TRUE | R84: =IF(Q84=TRUE,ROUND(P84*M84/K84,1),0) -> 2 | S84: =ROUND(K84/P84,0) -> 627 | T84: =SUMIF($C$4:$C$1887,C84,$R$4:$R$1887) -> 8.4 | U84: =IF(T84<>P84,"Gap","") -> Gap | V84: =IF(ISERROR(IF(INDEX(rosh!$O$4:$P$710,MATCH(I84,rosh!$O$4:$O$710,0),2)="Mayor",1,)),0,IF(INDEX(rosh!$O$4:$P$710,MATCH(I84,rosh!$O$4:$O$710,0),2)="Mayor",1,)) -> 0 | W84: =Q84&" "&C84 -> TRUE אכסאל | X84: =SUMIF($W$4:$W$1887,W84,$M$4:$M$41887) -> 5271 | Y84: =IF(Q84=TRUE,ROUND(P84*M84/X84,0),) -> 3 | Z84: =SUMIF($C$4:$C$1887,C84,$Y$4:$Y$1887) -> 11 | AA84: =IF(Z84<>P84,"Gap","") | AB84: =IF(AND(V84=1,OR(Z84=P84,Z84<P84)),Y84+1,Y84) -> 3
B85: 478 | C85: אכסאל | D85: 8237 | E85: ו | F85: =E85&" "&C85 -> ו אכסאל | G85: אכסאל המאוחדת | I85: =C85&" "&H85 -> אכסאל | J85: 6894 | K85: 6894 | L85: 0.14897012 | M85: 1027 | N85: 0.14897012 | O85: 1027 | P85: =VLOOKUP(C85,'ריכוז נתונים'!$B$3:$C$189,2) -> 11 | Q85: =IF(M85>K85/P85*0.75,TRUE,FALSE) -> TRUE | R85: =IF(Q85=TRUE,ROUND(P85*M85/K85,1),0) -> 1.6 | S85: =ROUND(K85/P85,0) -> 627 | T85: =SUMIF($C$4:$C$1887,C85,$R$4:$R$1887) -> 8.4 | U85: =IF(T85<>P85,"Gap","") -> Gap | V85: =IF(ISERROR(IF(INDEX(rosh!$O$4:$P$710,MATCH(I85,rosh!$O$4:$O$710,0),2)="Mayor",1,)),0,IF(INDEX(rosh!$O$4:$P$710,MATCH(I85,rosh!$O$4:$O$710,0),2)="Mayor",1,)) -> 0 | W85: =Q85&" "&C85 -> TRUE אכסאל | X85: =SUMIF($W$4:$W$1887,W85,$M$4:$M$41887) -> 5271 | Y85: =IF(Q85=TRUE,ROUND(P85*M85/X85,0),) -> 2 | Z85: =SUMIF($C$4:$C$1887,C85,$Y$4:$Y$1887) -> 11 | AA85: =IF(Z85<>P85,"Gap","") | AB85: =IF(AND(V85=1,OR(Z85=P85,Z85<P85)),Y85+1,Y85) -> 2
B86: 478 | C86: אכסאל | D86: 8237 | E86: כמ | F86: =E86&" "&C86 -> כמ אכסאל | G86: אכסאל העצמאית | I86: =C86&" "&H86 -> אכסאל | J86: 6894 | K86: 6894 | L86: 0.10661445 | M86: 735 | N86: 0.10661445 | O86: 735 | P86: =VLOOKUP(C86,'ריכוז נתונים'!$B$3:$C$189,2) -> 11 | Q86: =IF(M86>K86/P86*0.75,TRUE,FALSE) -> TRUE | R86: =IF(Q86=TRUE,ROUND(P86*M86/K86,1),0) -> 1.2 | S86: =ROUND(K86/P86,0) -> 627 | T86: =SUMIF($C$4:$C$1887,C86,$R$4:$R$1887) -> 8.4 | U86: =IF(T86<>P86,"Gap","") -> Gap | V86: =IF(ISERROR(IF(INDEX(rosh!$O$4:$P$710,MATCH(I86,rosh!$O$4:$O$710,0),2)="Mayor",1,)),0,IF(INDEX(rosh!$O$4:$P$710,MATCH(I86,rosh!$O$4:$O$710,0),2)="Mayor",1,)) -> 0 | W86: =Q86&" "&C86 -> TRUE אכסאל | X86: =SUMIF($W$4:$W$1887,W86,$M$4:$M$41887) -> 5271 | Y86: =IF(Q86=TRUE,ROUND(P86*M86/X86,0),) -> 2 | Z86: =SUMIF($C$4:$C$1887,C86,$Y$4:$Y$1887) -> 11 | AA86: =IF(Z86<>P86,"Gap","") | AB86: =IF(AND(V86=1,OR(Z86=P86,Z86<P86)),Y86+1,Y86) -> 2
B87: 478 | C87: אכסאל | D87: 8237 | E87: ע | F87: =E87&" "&C87 -> ע אכסאל | G87: המפלגה הדמוקרטית הערבית | I87: =C87&" "&H87 -> אכסאל | J87: 6894 | K87: 6894 | L87: 0.097911227 | M87: 675 | N87: 0.097911227 | O87: 675 | P87: =VLOOKUP(C87,'ריכוז נתונים'!$B$3:$C$189,2) -> 11 | Q87: =IF(M87>K87/P87*0.75,TRUE,FALSE) -> TRUE | R87: =IF(Q87=TRUE,ROUND(P87*M87/K87,1),0) -> 1.1 | S87: =ROUND(K87/P87,0) -> 627 | T87: =SUMIF($C$4:$C$1887,C87,$R$4:$R$1887) -> 8.4 | U87: =IF(T87<>P87,"Gap","") -> Gap | V87: =IF(ISERROR(IF(INDEX(rosh!$O$4:$P$710,MATCH(I87,rosh!$O$4:$O$710,0),2)="Mayor",1,)),0,IF(INDEX(rosh!$O$4:$P$710,MATCH(I87,rosh!$O$4:$O$710,0),2)="Mayor",1,)) -> 0 | W87: =Q87&" "&C87 -> TRUE אכסאל | X87: =SUMIF($W$4:$W$1887,W87,$M$4:$M$41887) -> 5271 | Y87: =IF(Q87=TRUE,ROUND(P87*M87/X87,0),) -> 1 | Z87: =SUMIF($C$4:$C$1887,C87,$Y$4:$Y$1887) -> 11 | AA87: =IF(Z87<>P87,"Gap","") | AB87: =IF(AND(V87=1,OR(Z87=P87,Z87<P87)),Y87+1,Y87) -> 1
B88: 478 | C88: אכסאל | D88: 8237 | E88: ךי | F88: =E88&" "&C88 -> ךי אכסאל | G88: אל מנארה | I88: =C88&" "&H88 -> אכסאל | J88: 6894 | K88: 6894 | L88: 0.081230055 | M88: 560 | N88: 0.081230055 | O88: 560 | P88: =VLOOKUP(C88,'ריכוז נתונים'!$B$3:$C$189,2) -> 11 | Q88: =IF(M88>K88/P88*0.75,TRUE,FALSE) -> TRUE | R88: =IF(Q88=TRUE,ROUND(P88*M88/K88,1),0) -> 0.9 | S88: =ROUND(K88/P88,0) -> 627 | T88: =SUMIF($C$4:$C$1887,C88,$R$4:$R$1887) -> 8.4 | U88: =IF(T88<>P88,"Gap","") -> Gap | V88: =IF(ISERROR(IF(INDEX(rosh!$O$4:$P$710,MATCH(I88,rosh!$O$4:$O$710,0),2)="Mayor",1,)),0,IF(INDEX(rosh!$O$4:$P$710,MATCH(I88,rosh!$O$4:$O$710,0),2)="Mayor",1,)) -> 0 | W88: =Q88&" "&C88 -> TRUE אכסאל | X88: =SUMIF($W$4:$W$1887,W88,$M$4:$M$41887) -> 5271 | Y88: =IF(Q88=TRUE,ROUND(P88*M88/X88,0),) -> 1 | Z88: =SUMIF($C$4:$C$1887,C88,$Y$4:$Y$1887) -> 11 | AA88: =IF(Z88<>P88,"Gap","") | AB88: =IF(AND(V88=1,OR(Z88=P88,Z88<P88)),Y88+1,Y88) -> 1
B89: 478 | C89: אכסאל | D89: 8237 | E89: ת | F89: =E89&" "&C89 -> ת אכסאל | G89: אל עדאלה | H89: דראושה עומר | I89: =C89&" "&H89 -> אכסאל דראושה עומר | J89: 6894 | K89: 6894 | L89: 0.075718016 | M89: 522 | N89: 0.075718016 | O89: 522 | P89: =VLOOKUP(C89,'ריכוז נתונים'!$B$3:$C$189,2) -> 11 | Q89: =IF(M89>K89/P89*0.75,TRUE,FALSE) -> TRUE | R89: =IF(Q89=TRUE,ROUND(P89*M89/K89,1),0) -> 0.8 | S89: =ROUND(K89/P89,0) -> 627 | T89: =SUMIF($C$4:$C$1887,C89,$R$4:$R$1887) -> 8.4 | U89: =IF(T89<>P89,"Gap","") -> Gap | V89: =IF(ISERROR(IF(INDEX(rosh!$O$4:$P$710,MATCH(I89,rosh!$O$4:$O$710,0),2)="Mayor",1,)),0,IF(INDEX(rosh!$O$4:$P$710,MATCH(I89,rosh!$O$4:$O$710,0),2)="Mayor",1,)) -> 0 | W89: =Q89&" "&C89 -> TRUE אכסאל | X89: =SUMIF($W$4:$W$1887,W89,$M$4:$M$41887) -> 5271 | Y89: =IF(Q89=TRUE,ROUND(P89*M89/X89,0),) -> 1 | Z89: =SUMIF($C$4:$C$1887,C89,$Y$4:$Y$1887) -> 11 | AA89: =IF(Z89<>P89,"Gap","") | AB89: =IF(AND(V89=1,OR(Z89=P89,Z89<P89)),Y89+1,Y89) -> 1
B90: 478 | C90: אכסאל | D90: 8237 | E90: דס | F90: =E90&" "&C90 -> דס אכסאל | G90: אל אמל | I90: =C90&" "&H90 -> אכסאל | J90: 6894 | K90: 6894 | L90: 0.069480708 | M90: 479 | N90: 0.069480708 | O90: 479 | P90: =VLOOKUP(C90,'ריכוז נתונים'!$B$3:$C$189,2) -> 11 | Q90: =IF(M90>K90/P90*0.75,TRUE,FALSE) -> TRUE | R90: =IF(Q90=TRUE,ROUND(P90*M90/K90,1),0) -> 0.8 | S90: =ROUND(K90/P90,0) -> 627 | T90: =SUMIF($C$4:$C$1887,C90,$R$4:$R$1887) -> 8.4 | U90: =IF(T90<>P90,"Gap","") -> Gap | V90: =IF(ISERROR(IF(INDEX(rosh!$O$4:$P$710,MATCH(I90,rosh!$O$4:$O$710,0),2)="Mayor",1,)),0,IF(INDEX(rosh!$O$4:$P$710,MATCH(I90,rosh!$O$4:$O$710,0),2)="Mayor",1,)) -> 0 | W90: =Q90&" "&C90 -> TRUE אכסאל | X90: =SUMIF($W$4:$W$1887,W90,$M$4:$M$41887) -> 5271 | Y90: =IF(Q90=TRUE,ROUND(P90*M90/X90,0),) -> 1 | Z90: =SUMIF($C$4:$C$1887,C90,$Y$4:$Y$1887) -> 11 | AA90: =IF(Z90<>P90,"Gap","") | AB90: =IF(AND(V90=1,OR(Z90=P90,Z90<P90)),Y90+1,Y90) -> 1
B91: 478 | C91: אכסאל | D91: 8237 | E91: ץח | F91: =E91&" "&C91 -> ץח אכסאל | G91: אל ופא-צעירי אכסאל | I91: =C91&" "&H91 -> אכסאל | J91: 6894 | K91: 6894 | L91: 0.053669858 | M91: 370 | N91: 0.053669858 | O91: 370 | P91: =VLOOKUP(C91,'ריכוז נתונים'!$B$3:$C$189,2) -> 11 | Q91: =IF(M91>K91/P91*0.75,TRUE,FALSE) -> FALSE | R91: =IF(Q91=TRUE,ROUND(P91*M91/K91,1),0) -> 0 | S91: =ROUND(K91/P91,0) -> 627 | T91: =SUMIF($C$4:$C$1887,C91,$R$4:$R$1887) -> 8.4 | U91: =IF(T91<>P91,"Gap","") -> Gap | V91: =IF(ISERROR(IF(INDEX(rosh!$O$4:$P$710,MATCH(I91,rosh!$O$4:$O$710,0),2)="Mayor",1,)),0,IF(INDEX(rosh!$O$4:$P$710,MATCH(I91,rosh!$O$4:$O$710,0),2)="Mayor",1,)) -> 0 | W91: =Q91&" "&C91 -> FALSE אכסאל | X91: =SUMIF($W$4:$W$1887,W91,$M$4:$M$41887) -> 1623 | Y91: =IF(Q91=TRUE,ROUND(P91*M91/X91,0),) -> 0 | Z91: =SUMIF($C$4:$C$1887,C91,$Y$4:$Y$1887) -> 11 | AA91: =IF(Z91<>P91,"Gap","") | AB91: =IF(AND(V91=1,OR(Z91=P91,Z91<P91)),Y91+1,Y91) -> 0
B92: 478 | C92: אכסאל | D92: 8237 | E92: א | F92: =E92&" "&C92 -> א אכסאל | G92: אל אעתימאד | I92: =C92&" "&H92 -> אכסאל | J92: 6894 | K92: 6894 | L92: 0.052509428 | M92: 362 | N92: 0.052509428 | O92: 362 | P92: =VLOOKUP(C92,'ריכוז נתונים'!$B$3:$C$189,2) -> 11 | Q92: =IF(M92>K92/P92*0.75,TRUE,FALSE) -> FALSE | R92: =IF(Q92=TRUE,ROUND(P92*M92/K92,1),0) -> 0 | S92: =ROUND(K92/P92,0) -> 627 | T92: =SUMIF($C$4:$C$1887,C92,$R$4:$R$1887) -> 8.4 | U92: =IF(T92<>P92,"Gap","") -> Gap | V92: =IF(ISERROR(IF(INDEX(rosh!$O$4:$P$710,MATCH(I92,rosh!$O$4:$O$710,0),2)="Mayor",1,)),0,IF(INDEX(rosh!$O$4:$P$710,MATCH(I92,rosh!$O$4:$O$710,0),2)="Mayor",1,)) -> 0 | W92: =Q92&" "&C92 -> FALSE אכסאל | X92: =SUMIF($W$4:$W$1887,W92,$M$4:$M$41887) -> 1623 | Y92: =IF(Q92=TRUE,ROUND(P92*M92/X92,0),) -> 0 | Z92: =SUMIF($C$4:$C$1887,C92,$Y$4:$Y$1887) -> 11 | AA92: =IF(Z92<>P92,"Gap","") | AB92: =IF(AND(V92=1,OR(Z92=P92,Z92<P92)),Y92+1,Y92) -> 0
B93: 478 | C93: אכסאל | D93: 8237 | E93: גד | F93: =E93&" "&C93 -> גד אכסאל | G93: חזית אכסאל הדמוקרטית | I93: =C93&" "&H93 -> אכסאל | J93: 6894 | K93: 6894 | L93: 0.050768784 | M93: 350 | N93: 0.050768784 | O93: 350 | P93: =VLOOKUP(C93,'ריכוז נתונים'!$B$3:$C$189,2) -> 11 | Q93: =IF(M93>K93/P93*0.75,TRUE,FALSE) -> FALSE | R93: =IF(Q93=TRUE,ROUND(P93*M93/K93,1),0) -> 0 | S93: =ROUND(K93/P93,0) -> 627 | T93: =SUMIF($C$4:$C$1887,C93,$R$4:$R$1887) -> 8.4 | U93: =IF(T93<>P93,"Gap","") -> Gap | V93: =IF(ISERROR(IF(INDEX(rosh!$O$4:$P$710,MATCH(I93,rosh!$O$4:$O$710,0),2)="Mayor",1,)),0,IF(INDEX(rosh!$O$4:$P$710,MATCH(I93,rosh!$O$4:$O$710,0),2)="Mayor",1,)) -> 0 | W93: =Q93&" "&C93 -> FALSE אכסאל | X93: =SUMIF($W$4:$W$1887,W93,$M$4:$M$41887) -> 1623 | Y93: =IF(Q93=TRUE,ROUND(P93*M93/X93,0),) -> 0 | Z93: =SUMIF($C$4:$C$1887,C93,$Y$4:$Y$1887) -> 11 | AA93: =IF(Z93<>P93,"Gap","") | AB93: =IF(AND(V93=1,OR(Z93=P93,Z93<P93)),Y93+1,Y93) -> 0
B94: 478 | C94: אכסאל | D94: 8237 | E94: ף | F94: =E94&" "&C94 -> ף אכסאל | G94: אל אח'לאס | I94: =C94&" "&H94 -> אכסאל | J94: 6894 | K94: 6894 | L94: 0.038874384 | M94: 268 | N94: 0.038874384 | O94: 268 | P94: =VLOOKUP(C94,'ריכוז נתונים'!$B$3:$C$189,2) -> 11 | Q94: =IF(M94>K94/P94*0.75,TRUE,FALSE) -> FALSE | R94: =IF(Q94=TRUE,ROUND(P94*M94/K94,1),0) -> 0 | S94: =ROUND(K94/P94,0) -> 627 | T94: =SUMIF($C$4:$C$1887,C94,$R$4:$R$1887) -> 8.4 | U94: =IF(T94<>P94,"Gap","") -> Gap | V94: =IF(ISERROR(IF(INDEX(rosh!$O$4:$P$710,MATCH(I94,rosh!$O$4:$O$710,0),2)="Mayor",1,)),0,IF(INDEX(rosh!$O$4:$P$710,MATCH(I94,rosh!$O$4:$O$710,0),2)="Mayor",1,)) -> 0 | W94: =Q94&" "&C94 -> FALSE אכסאל | X94: =SUMIF($W$4:$W$1887,W94,$M$4:$M$41887) -> 1623 | Y94: =IF(Q94=TRUE,ROUND(P94*M94/X94,0),) -> 0 | Z94: =SUMIF($C$4:$C$1887,C94,$Y$4:$Y$1887) -> 11 | AA94: =IF(Z94<>P94,"Gap","") | AB94: =IF(AND(V94=1,OR(Z94=P94,Z94<P94)),Y94+1,Y94) -> 0
B95: 478 | C95: אכסאל | D95: 8237 | E95: ה | F95: =E95&" "&C95 -> ה אכסאל | G95: צעירי היום | H95: דראושה עמאר | I95: =C95&" "&H95 -> אכסאל דראושה עמאר | J95: 6894 | K95: 6894 | L95: 0.038439223 | M95: 265 | N95: 0.038439223 | O95: 265 | P95: =VLOOKUP(C95,'ריכוז נתונים'!$B$3:$C$189,2) -> 11 | Q95: =IF(M95>K95/P95*0.75,TRUE,FALSE) -> FALSE | R95: =IF(Q95=TRUE,ROUND(P95*M95/K95,1),0) -> 0 | S95: =ROUND(K95/P95,0) -> 627 | T95: =SUMIF($C$4:$C$1887,C95,$R$4:$R$1887) -> 8.4 | U95: =IF(T95<>P95,"Gap","") -> Gap | V95: =IF(ISERROR(IF(INDEX(rosh!$O$4:$P$710,MATCH(I95,rosh!$O$4:$O$710,0),2)="Mayor",1,)),0,IF(INDEX(rosh!$O$4:$P$710,MATCH(I95,rosh!$O$4:$O$710,0),2)="Mayor",1,)) -> 0 | W95: =Q95&" "&C95 -> FALSE אכסאל | X95: =SUMIF($W$4:$W$1887,W95,$M$4:$M$41887) -> 1623 | Y95: =IF(Q95=TRUE,ROUND(P95*M95/X95,0),) -> 0 | Z95: =SUMIF($C$4:$C$1887,C95,$Y$4:$Y$1887) -> 11 | AA95: =IF(Z95<>P95,"Gap","") | AB95: =IF(AND(V95=1,OR(Z95=P95,Z95<P95)),Y95+1,Y95) -> 0
B96: 478 | C96: אכסאל | D96: 8237 | E96: ק | F96: =E96&" "&C96 -> ק אכסאל | G96: אלסדאקה | H96: דראושה עבד אלסלאם | I96: =C96&" "&H96 -> אכסאל דראושה עבד אלסלאם | J96: 6894 | K96: 6894 | L96: 0.0011604294 | M96: 8 | N96: 0.0011604294 | O96: 8 | P96: =VLOOKUP(C96,'ריכוז נתונים'!$B$3:$C$189,2) -> 11 | Q96: =IF(M96>K96/P96*0.75,TRUE,FALSE) -> FALSE | R96: =IF(Q96=TRUE,ROUND(P96*M96/K96,1),0) -> 0 | S96: =ROUND(K96/P96,0) -> 627 | T96: =SUMIF($C$4:$C$1887,C96,$R$4:$R$1887) -> 8.4 | U96: =IF(T96<>P96,"Gap","") -> Gap | V96: =IF(ISERROR(IF(INDEX(rosh!$O$4:$P$710,MATCH(I96,rosh!$O$4:$O$710,0),2)="Mayor",1,)),0,IF(INDEX(rosh!$O$4:$P$710,MATCH(I96,rosh!$O$4:$O$710,0),2)="Mayor",1,)) -> 1 | W96: =Q96&" "&C96 -> FALSE אכסאל | X96: =SUMIF($W$4:$W$1887,W96,$M$4:$M$41887) -> 1623 | Y96: =IF(Q96=TRUE,ROUND(P96*M96/X96,0),) -> 0 | Z96: =SUMIF($C$4:$C$1887,C96,$Y$4:$Y$1887) -> 11 | AA96: =IF(Z96<>P96,"Gap","") | AB96: =IF(AND(V96=1,OR(Z96=P96,Z96<P96)),Y96+1,Y96) -> 1
B97: 41 | C97: אליכין | D97: 2421 | E97: טב | F97: =E97&" "&C97 -> טב אליכין | G97: הבית היהודי בראשות אבינועם מצובע | I97: =C97&" "&H97 -> אליכין | J97: 1869 | K97: 1869 | L97: 0.2776886 | M97: 519 | N97: 0.2776886 | O97: 519 | P97: =VLOOKUP(C97,'ריכוז נתונים'!$B$3:$C$189,2) -> 9 | Q97: =IF(M97>K97/P97*0.75,TRUE,FALSE) -> TRUE | R97: =IF(Q97=TRUE,ROUND(P97*M97/K97,1),0) -> 2.5 | S97: =ROUND(K97/P97,0) -> 208 | T97: =SUMIF($C$4:$C$1887,C97,$R$4:$R$1887) -> 8.1 | U97: =IF(T97<>P97,"Gap","") -> Gap | V97: =IF(ISERROR(IF(INDEX(rosh!$O$4:$P$710,MATCH(I97,rosh!$O$4:$O$710,0),2)="Mayor",1,)),0,IF(INDEX(rosh!$O$4:$P$710,MATCH(I97,rosh!$O$4:$O$710,0),2)="Mayor",1,)) -> 0 | W97: =Q97&" "&C97 -> TRUE אליכין | X97: =SUMIF($W$4:$W$1887,W97,$M$4:$M$41887) -> 1681 | Y97: =IF(Q97=TRUE,ROUND(P97*M97/X97,0),) -> 3 | Z97: =SUMIF($C$4:$C$1887,C97,$Y$4:$Y$1887) -> 9 | AA97: =IF(Z97<>P97,"Gap","") | AB97: =IF(AND(V97=1,OR(Z97=P97,Z97<P97)),Y97+1,Y97) -> 3
B98: 41 | C98: אליכין | D98: 2421 | E98: ע | F98: =E98&" "&C98 -> ע אליכין | G98: יחד לדרך חדשה | H98: שרוני עזורי | I98: =C98&" "&H98 -> אליכין שרוני עזורי | J98: 1869 | K98: 1869 | L98: 0.23327983 | M98: 436 | N98: 0.23327983 | O98: 436 | P98: =VLOOKUP(C98,'ריכוז נתונים'!$B$3:$C$189,2) -> 9 | Q98: =IF(M98>K98/P98*0.75,TRUE,FALSE) -> TRUE | R98: =IF(Q98=TRUE,ROUND(P98*M98/K98,1),0) -> 2.1 | S98: =ROUND(K98/P98,0) -> 208 | T98: =SUMIF($C$4:$C$1887,C98,$R$4:$R$1887) -> 8.1 | U98: =IF(T98<>P98,"Gap","") -> Gap | V98: =IF(ISERROR(IF(INDEX(rosh!$O$4:$P$710,MATCH(I98,rosh!$O$4:$O$710,0),2)="Mayor",1,)),0,IF(INDEX(rosh!$O$4:$P$710,MATCH(I98,rosh!$O$4:$O$710,0),2)="Mayor",1,)) -> 0 | W98: =Q98&" "&C98 -> TRUE אליכין | X98: =SUMIF($W$4:$W$1887,W98,$M$4:$M$41887) -> 1681 | Y98: =IF(Q98=TRUE,ROUND(P98*M98/X98,0),) -> 2 | Z98: =SUMIF($C$4:$C$1887,C98,$Y$4:$Y$1887) -> 9 | AA98: =IF(Z98<>P98,"Gap","") | AB98: =IF(AND(V98=1,OR(Z98=P98,Z98<P98)),Y98+1,Y98) -> 2
B99: 41 | C99: אליכין | D99: 2421 | E99: נף | F99: =E99&" "&C99 -> נף אליכין | G99: עתידנו בידינו | H99: חי משה מרדכי | I99: =C99&" "&H99 -> אליכין חי משה מרדכי | J99: 1869 | K99: 1869 | L99: 0.21562333 | M99: 403 | N99: 0.21562333 | O99: 403 | P99: =VLOOKUP(C99,'ריכוז נתונים'!$B$3:$C$189,2) -> 9 | Q99: =IF(M99>K99/P99*0.75,TRUE,FALSE) -> TRUE | R99: =IF(Q99=TRUE,ROUND(P99*M99/K99,1),0) -> 1.9 | S99: =ROUND(K99/P99,0) -> 208 | T99: =SUMIF($C$4:$C$1887,C99,$R$4:$R$1887) -> 8.1 | U99: =IF(T99<>P99,"Gap","") -> Gap | V99: =IF(ISERROR(IF(INDEX(rosh!$O$4:$P$710,MATCH(I99,rosh!$O$4:$O$710,0),2)="Mayor",1,)),0,IF(INDEX(rosh!$O$4:$P$710,MATCH(I99,rosh!$O$4:$O$710,0),2)="Mayor",1,)) -> 1 | W99: =Q99&" "&C99 -> TRUE אליכין | X99: =SUMIF($W$4:$W$1887,W99,$M$4:$M$41887) -> 1681 | Y99: =IF(Q99=TRUE,ROUND(P99*M99/X99,0),) -> 2 | Z99: =SUMIF($C$4:$C$1887,C99,$Y$4:$Y$1887) -> 9 | AA99: =IF(Z99<>P99,"Gap","") | AB99: =IF(AND(V99=1,OR(Z99=P99,Z99<P99)),Y99+1,Y99) -> 3
B100: 41 | C100: אליכין | D100: 2421 | E100: שס | F100: =E100&" "&C100 -> שס אליכין | G100: התאחדות הספרדים העולמית שומרי תורה | I100: =C100&" "&H100 -> אליכין | J100: 1869 | K100: 1869 | L100: 0.17281969 | M100: 323 | N100: 0.17281969 | O100: 323 | P100: =VLOOKUP(C100,'ריכוז נתונים'!$B$3:$C$189,2) -> 9 | Q100: =IF(M100>K100/P100*0.75,TRUE,FALSE) -> TRUE | R100: =IF(Q100=TRUE,ROUND(P100*M100/K100,1),0) -> 1.6 | S100: =ROUND(K100/P100,0) -> 208 | T100: =SUMIF($C$4:$C$1887,C100,$R$4:$R$1887) -> 8.1 | U100: =IF(T100<>P100,"Gap","") -> Gap | V100: =IF(ISERROR(IF(INDEX(rosh!$O$4:$P$710,MATCH(I100,rosh!$O$4:$O$710,0),2)="Mayor",1,)),0,IF(INDEX(rosh!$O$4:$P$710,MATCH(I100,rosh!$O$4:$O$710,0),2)="Mayor",1,)) -> 0 | W100: =Q100&" "&C100 -> TRUE אליכין | X100: =SUMIF($W$4:$W$1887,W100,$M$4:$M$41887) -> 1681 | Y100: =IF(Q100=TRUE,ROUND(P100*M100/X100,0),) -> 2 | Z100: =SUMIF($C$4:$C$1887,C100,$Y$4:$Y$1887) -> 9 | AA100: =IF(Z100<>P100,"Gap","") | AB100: =IF(AND(V100=1,OR(Z100=P100,Z100<P100)),Y100+1,Y100) -> 2
B101: 41 | C101: אליכין | D101: 2421 | E101: ד | F101: =E101&" "&C101 -> ד אליכין | G101: למען המקום | I101: =C101&" "&H101 -> אליכין | J101: 1869 | K101: 1869 | L101: 0.069020867 | M101: 129 | N101: 0.069020867 | O101: 129 | P101: =VLOOKUP(C101,'ריכוז נתונים'!$B$3:$C$189,2) -> 9 | Q101: =IF(M101>K101/P101*0.75,TRUE,FALSE) -> FALSE | R101: =IF(Q101=TRUE,ROUND(P101*M101/K101,1),0) -> 0 | S101: =ROUND(K101/P101,0) -> 208 | T101: =SUMIF($C$4:$C$1887,C101,$R$4:$R$1887) -> 8.1 | U101: =IF(T101<>P101,"Gap","") -> Gap | V101: =IF(ISERROR(IF(INDEX(rosh!$O$4:$P$710,MATCH(I101,rosh!$O$4:$O$710,0),2)="Mayor",1,)),0,IF(INDEX(rosh!$O$4:$P$710,MATCH(I101,rosh!$O$4:$O$710,0),2)="Mayor",1,)) -> 0 | W101: =Q101&" "&C101 -> FALSE אליכין | X101: =SUMIF($W$4:$W$1887,W101,$M$4:$M$41887) -> 188 | Y101: =IF(Q101=TRUE,ROUND(P101*M101/X101,0),) -> 0 | Z101: =SUMIF($C$4:$C$1887,C101,$Y$4:$Y$1887) -> 9 | AA101: =IF(Z101<>P101,"Gap","") | AB101: =IF(AND(V101=1,OR(Z101=P101,Z101<P101)),Y101+1,Y101) -> 0
...

Sheet rosh
L1: עודכן ב | M1: 23/10/2013 13:40:29
B3: סמל | C3: שם ישוב | D3: מועמד | E3: בז"ב | F3: דיווח סך קולות כשרים | G3: מחוז | H3: נפה | I3: סך קולות כשרים מחושב | J3: % למועמד | K3: קולות כשרים למועמד | L3: % מחושב | M3: בוחרים מחושב | N3: תקינות
B4: 472 | C4: אבו גוש | D4: גבר עיסא | E4: 4617 | F4: 3846 | I4: 3846 | J4: 0.40197608 | K4: 1546 | L4: 0.40197608 | M4: 1546 | N4: מועמד נבחר | O4: =C4&" "&D4 -> אבו גוש גבר עיסא | P4: =IF(OR(J4>0.5,AND(J4>0.4,J4>J5)),"Mayor",) -> Mayor
B5: 472 | C5: אבו גוש | D5: איברהים עזמי | E5: 4617 | F5: 3846 | I5: 3846 | J5: 0.3023921 | K5: 1163 | L5: 0.3023921 | M5: 1163 | N5: מועמד נבחר | O5: =C5&" "&D5 -> אבו גוש איברהים עזמי | P5: =IF(OR(J5>0.5,AND(J5>0.4,J5>J6,J5>J4)),"Mayor",) -> 0
B6: 472 | C6: אבו גוש | D6: עבדאל רחמן ערסן | E6: 4617 | F6: 3846 | I6: 3846 | J6: 0.29563183 | K6: 1137 | L6: 0.29563183 | M6: 1137 | N6: מועמד נבחר | O6: =C6&" "&D6 -> אבו גוש עבדאל רחמן ערסן | P6: =IF(OR(J6>0.5,AND(J6>0.4,J6>J7,J6>J5)),"Mayor",) -> 0
B7: 473 | C7: אבו סנאן | D7: משלב נוהאד | E7: 8354 | F7: 7059 | I7: 7059 | J7: 0.32497521 | K7: 2294 | L7: 0.32497521 | M7: 2294 | N7: סבב שני | O7: =C7&" "&D7 -> אבו סנאן משלב נוהאד | P7: =IF(OR(J7>0.5,AND(J7>0.4,J7>J8,J7>J6)),"Mayor",) -> 0
B8: 473 | C8: אבו סנאן | D8: ביתם גסאן | E8: 8354 | F8: 7059 | I8: 7059 | J8: 0.24054399 | K8: 1698 | L8: 0.24054399 | M8: 1698 | N8: סבב שני | O8: =C8&" "&D8 -> אבו סנאן ביתם גסאן | P8: =IF(OR(J8>0.5,AND(J8>0.4,J8>J9,J8>J7)),"Mayor",) -> 0
B9: 473 | C9: אבו סנאן | D9: מוסא נעים | E9: 8354 | F9: 7059 | I9: 7059 | J9: 0.21093639 | K9: 1489 | L9: 0.21093639 | M9: 1489 | N9: סבב שני | O9: =C9&" "&D9 -> אבו סנאן מוסא נעים | P9: =IF(OR(J9>0.5,AND(J9>0.4,J9>J10,J9>J8)),"Mayor",) -> 0
B10: 473 | C10: אבו סנאן | D10: סעב גאזי | E10: 8354 | F10: 7059 | I10: 7059 | J10: 0.19167021 | K10: 1353 | L10: 0.19167021 | M10: 1353 | N10: סבב שני | O10: =C10&" "&D10 -> אבו סנאן סעב גאזי | P10: =IF(OR(J10>0.5,AND(J10>0.4,J10>J11,J10>J9)),"Mayor",) -> 0
B11: 473 | C11: אבו סנאן | D11: עזאם קופטאן | E11: 8354 | F11: 7059 | I11: 7059 | J11: 0.018841196 | K11: 133 | L11: 0.018841196 | M11: 133 | N11: סבב שני | O11: =C11&" "&D11 -> אבו סנאן עזאם קופטאן | P11: =IF(OR(J11>0.5,AND(J11>0.4,J11>J12,J11>J10)),"Mayor",) -> 0
B12: 473 | C12: אבו סנאן | D12: מושלב האני | E12: 8354 | F12: 7059 | I12: 7059 | J12: 0.013033008 | K12: 92 | L12: 0.013033008 | M12: 92 | N12: סבב שני | O12: =C12&" "&D12 -> אבו סנאן מושלב האני | P12: =IF(OR(J12>0.5,AND(J12>0.4,J12>J13,J12>J11)),"Mayor",) -> 0
B13: 182 | C13: אבן יהודה | D13: הררי אברהם | E13: 9172 | F13: 5204 | I13: 5204 | J13: 0.55495772 | K13: 2888 | L13: 0.55495772 | M13: 2888 | N13: מועמד נבחר | O13: =C13&" "&D13 -> אבן יהודה הררי אברהם | P13: =IF(OR(J13>0.5,AND(J13>0.4,J13>J14,J13>J12)),"Mayor",) -> Mayor
B14: 182 | C14: אבן יהודה | D14: אליאס ערן | E14: 9172 | F14: 5204 | I14: 5204 | J14: 0.41986933 | K14: 2185 | L14: 0.41986933 | M14: 2185 | N14: מועמד נבחר | O14: =C14&" "&D14 -> אבן יהודה אליאס ערן | P14: =IF(OR(J14>0.5,AND(J14>0.4,J14>J15,J14>J13)),"Mayor",) -> 0
B15: 182 | C15: אבן יהודה | D15: לוי משומר | E15: 9172 | F15: 5204 | I15: 5204 | J15: 0.025172944 | K15: 131 | L15: 0.025172944 | M15: 131 | N15: מועמד נבחר | O15: =C15&" "&D15 -> אבן יהודה לוי משומר | P15: =IF(OR(J15>0.5,AND(J15>0.4,J15>J16,J15>J14)),"Mayor",) -> 0
B16: 2710 | C16: אום אל-פחם | D16: אגבאריה ח'אלד | E16: 30305 | F16: 18921 | I16: 18921 | J16: 0.58538132 | K16: 11076 | L16: 0.58538132 | M16: 11076 | N16: מועמד נבחר | O16: =C16&" "&D16 -> אום אל-פחם אגבאריה ח'אלד | P16: =IF(OR(J16>0.5,AND(J16>0.4,J16>J17,J16>J15)),"Mayor",) -> Mayor
... B20: 31 | C20: אופקים | D20: חזן יאיר | E20: 19226 | F20: 10460 | I20: 10460 | J20: 0.38183556 | K20: 3994 | L20: 0.38183556 | M20: 3994 | N20: מועמד נבחר | O20: =C20&" "&D20 -> אופקים חזן יאיר | P20: =IF(OR(J20>0.5,AND(J20>0.4,J20>J21,J20>J19)),"Mayor",) -> 0
B21: 31 | C21: אופקים | D21: אביטן אליעזר | E21: 19226 | F21: 10460 | I21: 10460 | J21: 0 | L21: 0 | M21: 0 | N21: מועמד נבחר | O21: =C21&" "&D21 -> אופקים אביטן אליעזר | P21: =IF(OR(J21>0.5,AND(J21>0.4,J21>J22,J21>J20)),"Mayor",) -> 0
B22: 31 | C22: אופקים | D22: אוחיון משה | E22: 19226 | F22: 10460 | I22: 10460 | J22: 0 | L22: 0 | M22: 0 | N22: מועמד נבחר | O22: =C22&" "&D22 -> אופקים אוחיון משה | P22: =IF(OR(J22>0.5,AND(J22>0.4,J22>J23,J22>J21)),"Mayor",) -> 0
B23: 2400 | C23: אור יהודה | D23: יוסף דוד | E23: 26759 | F23: 14382 | I23: 14382 | J23: 0.57954387 | K23: 8335 | L23: 0.57954387 | M23: 8335 | N23: מועמד נבחר | O23: =C23&" "&D23 -> אור יהודה יוסף דוד | P23: =IF(OR(J23>0.5,AND(J23>0.4,J23>J24,J23>J22)),"Mayor",) -> Mayor
B24: 2400 | C24: אור יהודה | D24: אהרן עוזי | E24: 26759 | F24: 14382 | I24: 14382 | J24: 0.23633709 | K24: 3399 | L24: 0.23633709 | M24: 3399 | N24: מועמד נבחר | O24: =C24&" "&D24 -> אור יהודה אהרן עוזי | P24: =IF(OR(J24>0.5,AND(J24>0.4,J24>J25,J24>J23)),"Mayor",) -> 0
B25: 2400 | C25: אור יהודה | D25: חן ננה | E25: 26759 | F25: 14382 | I25: 14382 | J25: 0.07829231 | K25: 1126 | L25: 0.07829231 | M25: 1126 | N25: מועמד נבחר | O25: =C25&" "&D25 -> אור יהודה חן ננה | P25: =IF(OR(J25>0.5,AND(J25>0.4,J25>J26,J25>J24)),"Mayor",) -> 0
B26: 2400 | C26: אור יהודה | D26: גוטמן אפרים צבי | E26: 26759 | F26: 14382 | I26: 14382 | J26: 0.063899319 | K26: 919 | L26: 0.063899319 | M26: 919 | N26: מועמד נבחר | O26: =C26&" "&D26 -> אור יהודה גוטמן אפרים צבי | P26: =IF(OR(J26>0.5,AND(J26>0.4,J26>J27,J26>J25)),"Mayor",) -> 0
B27: 2400 | C27: אור יהודה | D27: בנימינוב חנניה | E27: 26759 | F27: 14382 | I27: 14382 | J27: 0.041927409 | K27: 603 | L27: 0.041927409 | M27: 603 | N27: מועמד נבחר | O27: =C27&" "&D27 -> אור יהודה בנימינוב חנניה | P27: =IF(OR(J27>0.5,AND(J27>0.4,J27>J28,J27>J26)),"Mayor",) -> 0
B28: 1020 | C28: אור עקיבא | D28: אדרי יעקב | E28: 14677 | F28: 9169 | I28: 9169 | J28: 0.52437561 | K28: 4808 | L28: 0.52437561 | M28: 4808 | N28: מועמד נבחר | O28: =C28&" "&D28 -> אור עקיבא אדרי יעקב | P28: =IF(OR(J28>0.5,AND(J28>0.4,J28>J29,J28>J27)),"Mayor",) -> Mayor
B29: 1020 | C29: אור עקיבא | D29: יוסיפוב שמחה | E29: 14677 | F29: 9169 | I29: 9169 | J29: 0.47562439 | K29: 4361 | L29: 0.47562439 | M29: 4361 | N29: מועמד נבחר | O29: =C29&" "&D29 -> אור עקיבא יוסיפוב שמחה | P29: =IF(OR(J29>0.5,AND(J29>0.4,J29>J30,J29>J28)),"Mayor",) -> 0
B30: 3760 | C30: אורנית | D30: לנגר שלומי | E30: 5442 | F30: 2939 | I30: 2939 | J30: 0.72031303 | K30: 2117 | L30: 0.72031303 | M30: 2117 | N30: מועמד נבחר | O30: =C30&" "&D30 -> אורנית לנגר שלומי | P30: =IF(OR(J30>0.5,AND(J30>0.4,J30>J31,J30>J29)),"Mayor",) -> Mayor
B31: 3760 | C31: אורנית | D31: גפני-בוחניק קרן רחל | E31: 5442 | F31: 2939 | I31: 2939 | J31: 0.27968697 | K31: 822 | L31: 0.27968697 | M31: 822 | N31: מועמד נבחר | O31: =C31&" "&D31 -> אורנית גפני-בוחניק קרן רחל | P31: =IF(OR(J31>0.5,AND(J31>0.4,J31>J32,J31>J30)),"Mayor",) -> 0
B32: 565 | C32: אזור | D32: פכטר אריה | E32: 9553 | F32: 4946 | I32: 4946 | J32: 0.72725435 | K32: 3597 | L32: 0.72725435 | M32: 3597 | N32: מועמד נבחר | O32: =C32&" "&D32 -> אזור פכטר אריה | P32: =IF(OR(J32>0.5,AND(J32>0.4,J32>J33,J32>J31)),"Mayor",) -> Mayor
B33: 565 | C33: אזור | D33: תנעמי אוריאל | E33: 9553 | F33: 4946 | I33: 4946 | J33: 0.27274565 | K33: 1349 | L33: 0.27274565 | M33: 1349 | N33: מועמד נבחר | O33: =C33&" "&D33 -> אזור תנעמי אוריאל | P33: =IF(OR(J33>0.5,AND(J33>0.4,J33>J34,J33>J32)),"Mayor",) -> 0
B34: 2600 | C34: אילת | D34: יצחק הלוי מאיר | E34: 48242 | F34: 20006 | I34: 20006 | J34: 0.56463061 | K34: 11296 | L34: 0.56463061 | M34: 11296 | N34: מועמד נבחר | O34: =C34&" "&D34 -> אילת יצחק הלוי מאיר | P34: =IF(OR(J34>0.5,AND(J34>0.4,J34>J35,J34>J33)),"Mayor",) -> Mayor
... B67: 2530 | C67: באר יעקב | D67: פרנקו מוטי | E67: 10449 | F67: 6547 | I67: 6547 | J67: 0.42416374 | K67: 2777 | L67: 0.42416374 | M67: 2777 | N67: מועמד נבחר | O67: =C67&" "&D67 -> באר יעקב פרנקו מוטי | P67: =IF(OR(J67>0.5,AND(J67>0.4,J67>J68,J67>J66)),"Mayor",) -> 0
B68: 2530 | C68: באר יעקב | D68: גורין יעיש | E68: 10449 | F68: 6547 | I68: 6547 | J68: 0 | L68: 0 | M68: 0 | N68: מועמד נבחר | O68: =C68&" "&D68 -> באר יעקב גורין יעיש | P68: =IF(OR(J68>0.5,AND(J68>0.4,J68>J69,J68>J67)),"Mayor",) -> 0
B69: 2530 | C69: באר יעקב | D69: רפאל יואב | E69: 10449 | F69: 6547 | I69: 6547 | J69: 0 | L69: 0 | M69: 0 | N69: מועמד נבחר | O69: =C69&" "&D69 -> באר יעקב רפאל יואב | P69: =IF(OR(J69>0.5,AND(J69>0.4,J69>J70,J69>J68)),"Mayor",) -> 0
B70: 9000 | C70: באר שבע | D70: דנילוביץ' רוביק | E70: 159762 | F70: 60574 | I70: 60574 | J70: 0.92209529 | K70: 55855 | L70: 0.92209529 | M70: 55855 | N70: מועמד נבחר | O70: =C70&" "&D70 -> באר שבע דנילוביץ' רוביק | P70: =IF(OR(J70>0.5,AND(J70>0.4,J70>J71,J70>J69)),"Mayor",) -> Mayor
B71: 9000 | C71: באר שבע | D71: אוחיון יעקב אבי | E71: 159762 | F71: 60574 | I71: 60574 | J71: 0.077904712 | K71: 4719 | L71: 0.077904712 | M71: 4719 | N71: מועמד נבחר | O71: =C71&" "&D71 -> באר שבע אוחיון יעקב אבי | P71: =IF(OR(J71>0.5,AND(J71>0.4,J71>J72,J71>J70)),"Mayor",) -> 0
B72: 482 | C72: בועיינה-נוג'ידאת | D72: סולימאן סאלח | E72: 5511 | F72: 4803 | I72: 4803 | J72: 0.46221112 | K72: 2220 | L72: 0.46221112 | M72: 2220 | N72: מועמד נבחר | O72: =C72&" "&D72 -> בועיינה-נוג'ידאת סולימאן סאלח | P72: =IF(OR(J72>0.5,AND(J72>0.4,J72>J73,J72>J71)),"Mayor",) -> Mayor
B73: 482 | C73: בועיינה-נוג'ידאת | D73: חמודה מוניר | E73: 5511 | F73: 4803 | I73: 4803 | J73: 0.3635228 | K73: 1746 | L73: 0.3635228 | M73: 1746 | N73: מועמד נבחר | O73: =C73&" "&D73 -> בועיינה-נוג'ידאת חמודה מוניר | P73: =IF(OR(J73>0.5,AND(J73>0.4,J73>J74,J73>J72)),"Mayor",) -> 0
B74: 482 | C74: בועיינה-נוג'ידאת | D74: פוקרא עיסא | E74: 5511 | F74: 4803 | I74: 4803 | J74: 0.10535082 | K74: 506 | L74: 0.10535082 | M74: 506 | N74: מועמד נבחר | O74: =C74&" "&D74 -> בועיינה-נוג'ידאת פוקרא עיסא | P74: =IF(OR(J74>0.5,AND(J74>0.4,J74>J75,J74>J73)),"Mayor",) -> 0
B75: 482 | C75: בועיינה-נוג'ידאת | D75: חמודה מחמוד | E75: 5511 | F75: 4803 | I75: 4803 | J75: 0.068915261 | K75: 331 | L75: 0.068915261 | M75: 331 | N75: מועמד נבחר | O75: =C75&" "&D75 -> בועיינה-נוג'ידאת חמודה מחמוד | P75: =IF(OR(J75>0.5,AND(J75>0.4,J75>J76,J75>J74)),"Mayor",) -> 0
B76: 998 | C76: ביר אל-מכסור | D76: חוג'יראת יאסר | E76: 5482 | F76: 4550 | I76: 4550 | J76: 0.29758242 | K76: 1354 | L76: 0.29758242 | M76: 1354 | N76: סבב שני | O76: =C76&" "&D76 -> ביר אל-מכסור חוג'יראת יאסר | P76: =IF(OR(J76>0.5,AND(J76>0.4,J76>J77,J76>J75)),"Mayor",) -> 0
B77: 998 | C77: ביר אל-מכסור | D77: גדיר מוחמד | E77: 5482 | F77: 4550 | I77: 4550 | J77: 0.19824176 | K77: 902 | L77: 0.19824176 | M77: 902 | N77: סבב שני | O77: =C77&" "&D77 -> ביר אל-מכסור גדיר מוחמד | P77: =IF(OR(J77>0.5,AND(J77>0.4,J77>J78,J77>J76)),"Mayor",) -> 0
B78: 998 | C78: ביר אל-מכסור | D78: חוג'יראת ח'אלד | E78: 5482 | F78: 4550 | I78: 4550 | J78: 0.17450549 | K78: 794 | L78: 0.17450549 | M78: 794 | N78: סבב שני | O78: =C78&" "&D78 -> ביר אל-מכסור חוג'יראת ח'אלד | P78: =IF(OR(J78>0.5,AND(J78>0.4,J78>J79,J78>J77)),"Mayor",) -> 0
B79: 998 | C79: ביר אל-מכסור | D79: חוג'יראת מוניר | E79: 5482 | F79: 4550 | I79: 4550 | J79: 0.12263736 | K79: 558 | L79: 0.12263736 | M79: 558 | N79: סבב שני | O79: =C79&" "&D79 -> ביר אל-מכסור חוג'יראת מוניר | P79: =IF(OR(J79>0.5,AND(J79>0.4,J79>J80,J79>J78)),"Mayor",) -> 0
B80: 998 | C80: ביר אל-מכסור | D80: גדיר יוסף | E80: 5482 | F80: 4550 | I80: 4550 | J80: 0.10153846 | K80: 462 | L80: 0.10153846 | M80: 462 | N80: סבב שני | O80: =C80&" "&D80 -> ביר אל-מכסור גדיר יוסף | P80: =IF(OR(J80>0.5,AND(J80>0.4,J80>J81,J80>J79)),"Mayor",) -> 0
B81: 998 | C81: ביר אל-מכסור | D81: חריב פתחי | E81: 5482 | F81: 4550 | I81: 4550 | J81: 0.051868132 | K81: 236 | L81: 0.051868132 | M81: 236 | N81: סבב שני | O81: =C81&" "&D81 -> ביר אל-מכסור חריב פתחי | P81: =IF(OR(J81>0.5,AND(J81>0.4,J81>J82,J81>J80)),"Mayor",) -> 0
... B107: 3780 | C107: ביתר עלית | D107: זיידה מנחם | E107: 18574 | F107: 12669 | I107: 12669 | J107: 0.12463494 | K107: 1579 | L107: 0.12463494 | M107: 1579 | N107: מועמד נבחר | O107: =C107&" "&D107 -> ביתר עלית זיידה מנחם | P107: =IF(OR(J107>0.5,AND(J107>0.4,J107>J108,J107>J106)),"Mayor",) -> 0
B108: 3780 | C108: ביתר עלית | D108: סופר יהודה | E108: 18574 | F108: 12669 | I108: 12669 | J108: 0 | L108: 0 | M108: 0 | N108: מועמד נבחר | O108: =C108&" "&D108 -> ביתר עלית סופר יהודה | P108: =IF(OR(J108>0.5,AND(J108>0.4,J108>J109,J108>J107)),"Mayor",) -> 0
B109: 6100 | C109: בני ברק | D109: זייברט חנוך | E109: 103308 | F109: 65012 | I109: 65012 | J109: 0.95803852 | K109: 62284 | L109: 0.95803852 | M109: 62284 | N109: מועמד נבחר | O109: =C109&" "&D109 -> בני ברק זייברט חנוך | P109: =IF(OR(J109>0.5,AND(J109>0.4,J109>J110,J109>J108)),"Mayor",) -> Mayor
B110: 6100 | C110: בני ברק | D110: אלוש יגאל | E110: 103308 | F110: 65012 | I110: 65012 | J110: 0.041961484 | K110: 2728 | L110: 0.041961484 | M110: 2728 | N110: מועמד נבחר | O110: =C110&" "&D110 -> בני ברק אלוש יגאל | P110: =IF(OR(J110>0.5,AND(J110>0.4,J110>J111,J110>J109)),"Mayor",) -> 0
B111: 1066 | C111: בני עי"ש | D111: גארלה אריה | E111: 5890 | F111: 3679 | I111: 3679 | J111: 0.53329709 | K111: 1962 | L111: 0.53329709 | M111: 1962 | N111: מועמד נבחר | O111: =C111&" "&D111 -> בני עי"ש גארלה אריה | P111: =IF(OR(J111>0.5,AND(J111>0.4,J111>J112,J111>J110)),"Mayor",) -> Mayor
B112: 1066 | C112: בני עי"ש | D112: שאער אליסף-אסף | E112: 5890 | F112: 3679 | I112: 3679 | J112: 0.1505844 | K112: 554 | L112: 0.1505844 | M112: 554 | N112: מועמד נבחר | O112: =C112&" "&D112 -> בני עי"ש שאער אליסף-אסף | P112: =IF(OR(J112>0.5,AND(J112>0.4,J112>J113,J112>J111)),"Mayor",) -> 0
B113: 1066 | C113: בני עי"ש | D113: בן יצחק יצחק | E113: 5890 | F113: 3679 | I113: 3679 | J113: 0.11986953 | K113: 441 | L113: 0.11986953 | M113: 441 | N113: מועמד נבחר | O113: =C113&" "&D113 -> בני עי"ש בן יצחק יצחק | P113: =IF(OR(J113>0.5,AND(J113>0.4,J113>J114,J113>J112)),"Mayor",) -> 0
B114: 1066 | C114: בני עי"ש | D114: חובב אלישע | E114: 5890 | F114: 3679 | I114: 3679 | J114: 0.092144605 | K114: 339 | L114: 0.092144605 | M114: 339 | N114: מועמד נבחר | O114: =C114&" "&D114 -> בני עי"ש חובב אלישע | P114: =IF(OR(J114>0.5,AND(J114>0.4,J114>J115,J114>J113)),"Mayor",) -> 0
B115: 1066 | C115: בני עי"ש | D115: קרוטקוב לאוניד | E115: 5890 | F115: 3679 | I115: 3679 | J115: 0.057896167 | K115: 213 | L115: 0.057896167 | M115: 213 | N115: מועמד נבחר | O115: =C115&" "&D115 -> בני עי"ש קרוטקוב לאוניד | P115: =IF(OR(J115>0.5,AND(J115>0.4,J115>J116,J115>J114)),"Mayor",) -> 0
B116: 1066 | C116: בני עי"ש | D116: סלומון אורלי | E116: 5890 | F116: 3679 | I116: 3679 | J116: 0.046208209 | K116: 170 | L116: 0.046208209 | M116: 170 | N116: מועמד נבחר | O116: =C116&" "&D116 -> בני עי"ש סלומון אורלי | P116: =IF(OR(J116>0.5,AND(J116>0.4,J116>J117,J116>J115)),"Mayor",) -> 0
B117: 9800 | C117: בנימינה-גבעת עדה | D117: זוארץ פנחס פינקי | E117: 9197 | F117: 5657 | I117: 5657 | J117: 0.48453244 | K117: 2741 | L117: 0.48453244 | M117: 2741 | N117: מועמד נבחר | O117: =C117&" "&D117 -> בנימינה-גבעת עדה זוארץ פנחס פינקי | P117: =IF(OR(J117>0.5,AND(J117>0.4,J117>J118,J117>J116)),"Mayor",) -> Mayor
B118: 9800 | C118: בנימינה-גבעת עדה | D118: פיין רם | E118: 9197 | F118: 5657 | I118: 5657 | J118: 0.45872371 | K118: 2595 | L118: 0.45872371 | M118: 2595 | N118: מועמד נבחר | O118: =C118&" "&D118 -> בנימינה-גבעת עדה פיין רם | P118: =IF(OR(J118>0.5,AND(J118>0.4,J118>J119,J118>J117)),"Mayor",) -> 0
B119: 9800 | C119: בנימינה-גבעת עדה | D119: שמעוני חיים | E119: 9197 | F119: 5657 | I119: 5657 | J119: 0.043309174 | K119: 245 | L119: 0.043309174 | M119: 245 | N119: מועמד נבחר | O119: =C119&" "&D119 -> בנימינה-גבעת עדה שמעוני חיים | P119: =IF(OR(J119>0.5,AND(J119>0.4,J119>J120,J119>J118)),"Mayor",) -> 0
B120: 9800 | C120: בנימינה-גבעת עדה | D120: ארן ברוך | E120: 9197 | F120: 5657 | I120: 5657 | J120: 0.013434683 | K120: 76 | L120: 0.013434683 | M120: 76 | N120: מועמד נבחר | O120: =C120&" "&D120 -> בנימינה-גבעת עדה ארן ברוך | P120: =IF(OR(J120>0.5,AND(J120>0.4,J120>J121,J120>J119)),"Mayor",) -> 0
... B126: 944 | C126: בסמת טבעון | D126: זבידאת מוניר | E126: 4609 | F126: 3641 | I126: 3641 | J126: 0.3831365 | K126: 1395 | L126: 0.3831365 | M126: 1395 | N126: סבב שני | O126: =C126&" "&D126 -> בסמת טבעון זבידאת מוניר | P126: =IF(OR(J126>0.5,AND(J126>0.4,J126>J127,J126>J125)),"Mayor",) -> 0
B127: 944 | C127: בסמת טבעון | D127: זובידאת ראיד | E127: 4609 | F127: 3641 | I127: 3641 | J127: 0.18154353 | K127: 661 | L127: 0.18154353 | M127: 661 | O127: =C127&" "&D127 -> בסמת טבעון זובידאת ראיד | P127: =IF(OR(J127>0.5,AND(J127>0.4,J127>J128,J127>J126)),"Mayor",) -> 0
B128: 944 | C128: בסמת טבעון | D128: זובידאת מוחמד | E128: 4609 | F128: 3641 | I128: 3641 | J128: 0.16753639 | K128: 610 | L128: 0.16753639 | M128: 610 | N128: סבב שני | O128: =C128&" "&D128 -> בסמת טבעון זובידאת מוחמד | P128: =IF(OR(J128>0.5,AND(J128>0.4,J128>J129,J128>J127)),"Mayor",) -> 0
B129: 944 | C129: בסמת טבעון | D129: סעדיה עבד אלעזיז | E129: 4609 | F129: 3641 | I129: 3641 | J129: 0.11123318 | K129: 405 | L129: 0.11123318 | M129: 405 | N129: סבב שני | O129: =C129&" "&D129 -> בסמת טבעון סעדיה עבד אלעזיז | P129: =IF(OR(J129>0.5,AND(J129>0.4,J129>J130,J129>J128)),"Mayor",) -> 0
B130: 944 | C130: בסמת טבעון | D130: ארחייבי אחמד | E130: 4609 | F130: 3641 | I130: 3641 | J130: 0.10931063 | K130: 398 | L130: 0.10931063 | M130: 398 | N130: סבב שני | O130: =C130&" "&D130 -> בסמת טבעון ארחייבי אחמד | P130: =IF(OR(J130>0.5,AND(J130>0.4,J130>J131,J130>J129)),"Mayor",) -> 0
B131: 944 | C131: בסמת טבעון | D131: זובידאת פואד | E131: 4609 | F131: 3641 | I131: 3641 | J131: 0.047239769 | K131: 172 | L131: 0.047239769 | M131: 172 | N131: סבב שני | O131: =C131&" "&D131 -> בסמת טבעון זובידאת פואד | P131: =IF(OR(J131>0.5,AND(J131>0.4,J131>J132,J131>J130)),"Mayor",) -> 0
B132: 483 | C132: בענה | D132: ח'ליל עלי | E132: 4848 | F132: 3278 | I132: 3278 | J132: 0.27638804 | K132: 906 | L132: 0.27638804 | M132: 906 | N132: סבב שני | O132: =C132&" "&D132 -> בענה ח'ליל עלי | P132: =IF(OR(J132>0.5,AND(J132>0.4,J132>J133,J132>J131)),"Mayor",) -> 0
B133: 483 | C133: בענה | D133: חסארמה מוסטפא | E133: 4848 | F133: 3278 | I133: 3278 | J133: 0.25686394 | K133: 842 | L133: 0.25686394 | M133: 842 | N133: סבב שני | O133: =C133&" "&D133 -> בענה חסארמה מוסטפא | P133: =IF(OR(J133>0.5,AND(J133>0.4,J133>J134,J133>J132)),"Mayor",) -> 0
B134: 483 | C134: בענה | D134: בדראן אחמד | E134: 4848 | F134: 3278 | I134: 3278 | J134: 0.23306894 | K134: 764 | L134: 0.23306894 | M134: 764 | N134: סבב שני | O134: =C134&" "&D134 -> בענה בדראן אחמד | P134: =IF(OR(J134>0.5,AND(J134>0.4,J134>J135,J134>J133)),"Mayor",) -> 0
B135: 483 | C135: בענה | D135: בכרי רפיק | E135: 4848 | F135: 3278 | I135: 3278 | J135: 0.09456986 | K135: 310 | L135: 0.09456986 | M135: 310 | N135: סבב שני | O135: =C135&" "&D135 -> בענה בכרי רפיק | P135: =IF(OR(J135>0.5,AND(J135>0.4,J135>J136,J135>J134)),"Mayor",) -> 0
B136: 483 | C136: בענה | D136: חסארמה עסאם | E136: 4848 | F136: 3278 | I136: 3278 | J136: 0.089383771 | K136: 293 | L136: 0.089383771 | M136: 293 | N136: סבב שני | O136: =C136&" "&D136 -> בענה חסארמה עסאם | P136: =IF(OR(J136>0.5,AND(J136>0.4,J136>J137,J136>J135)),"Mayor",) -> 0
B137: 483 | C137: בענה | D137: תיתי עבאס | E137: 4848 | F137: 3278 | I137: 3278 | J137: 0.044234289 | K137: 145 | L137: 0.044234289 | M137: 145 | N137: סבב שני | O137: =C137&" "&D137 -> בענה תיתי עבאס | P137: =IF(OR(J137>0.5,AND(J137>0.4,J137>J138,J137>J136)),"Mayor",) -> 0
B138: 483 | C138: בענה | D138: תיתי אחמד | E138: 4848 | F138: 3278 | I138: 3278 | J138: 0.0054911531 | K138: 18 | L138: 0.0054911531 | M138: 18 | N138: סבב שני | O138: =C138&" "&D138 -> בענה תיתי אחמד | P138: =IF(OR(J138>0.5,AND(J138>0.4,J138>J139,J138>J137)),"Mayor",) -> 0
B139: 6200 | C139: בת ים | D139: לחיאני שלמה | E139: 129545 | F139: 38401 | I139: 38401 | J139: 0.57547981 | K139: 22099 | L139: 0.57547981 | M139: 22099 | N139: מועמד נבחר | O139: =C139&" "&D139 -> בת ים לחיאני שלמה | P139: =IF(OR(J139>0.5,AND(J139>0.4,J139>J140,J139>J138)),"Mayor",) -> Mayor
... B165: 3730 | C165: גבעת זאב | D165: כהן יעקב | E165: 9892 | F165: 6469 | I165: 6469 | J165: 0.058741691 | K165: 380 | L165: 0.058741691 | M165: 380 | N165: מועמד נבחר | O165: =C165&" "&D165 -> גבעת זאב כהן יעקב | P165: =IF(OR(J165>0.5,AND(J165>0.4,J165>J166,J165>J164)),"Mayor",) -> 0
B166: 3730 | C166: גבעת זאב | D166: מלכה חנן | E166: 9892 | F166: 6469 | I166: 6469 | J166: 0 | L166: 0 | M166: 0 | N166: מועמד נבחר | O166: =C166&" "&D166 -> גבעת זאב מלכה חנן | P166: =IF(OR(J166>0.5,AND(J166>0.4,J166>J167,J166>J165)),"Mayor",) -> 0
B167: 681 | C167: גבעת שמואל | D167: ברודני יוסף | E167: 16529 | F167: 6174 | I167: 6174 | J167: 1 | K167: 6174 | L167: 1 | M167: 6174 | N167: מועמד נבחר | O167: =C167&" "&D167 -> גבעת שמואל ברודני יוסף | P167: =IF(OR(J167>0.5,AND(J167>0.4,J167>J168,J167>J166)),"Mayor",) -> Mayor
B168: 6300 | C168: גבעתיים | D168: קוניק רן | E168: 46431 | F168: 20501 | I168: 20501 | J168: 0.50641432 | K168: 10382 | L168: 0.50641432 | M168: 10382 | N168: מועמד נבחר | O168: =C168&" "&D168 -> גבעתיים קוניק רן | P168: =IF(OR(J168>0.5,AND(J168>0.4,J168>J169,J168>J167)),"Mayor",) -> Mayor
B169: 6300 | C169: גבעתיים | D169: בן שחר ראובן | E169: 46431 | F169: 20501 | I169: 20501 | J169: 0.39841959 | K169: 8168 | L169: 0.39841959 | M169: 8168 | N169: מועמד נבחר | O169: =C169&" "&D169 -> גבעתיים בן שחר ראובן | P169: =IF(OR(J169>0.5,AND(J169>0.4,J169>J170,J169>J168)),"Mayor",) -> 0
B170: 6300 | C170: גבעתיים | D170: אברהם איריס | E170: 46431 | F170: 20501 | I170: 20501 | J170: 0.095166089 | K170: 1951 | L170: 0.095166089 | M170: 1951 | N170: מועמד נבחר | O170: =C170&" "&D170 -> גבעתיים אברהם איריס | P170: =IF(OR(J170>0.5,AND(J170>0.4,J170>J171,J170>J169)),"Mayor",) -> 0
B171: 2550 | C171: גדרה | D171: גמליאל יואל | E171: 15325 | F171: 9530 | I171: 9530 | J171: 0.53987408 | K171: 5145 | L171: 0.53987408 | M171: 5145 | N171: מועמד נבחר | O171: =C171&" "&D171 -> גדרה גמליאל יואל | P171: =IF(OR(J171>0.5,AND(J171>0.4,J171>J172,J171>J170)),"Mayor",) -> Mayor
B172: 2550 | C172: גדרה | D172: גייר אלון | E172: 15325 | F172: 9530 | I172: 9530 | J172: 0.40870934 | K172: 3895 | L172: 0.40870934 | M172: 3895 | N172: מועמד נבחר | O172: =C172&" "&D172 -> גדרה גייר אלון | P172: =IF(OR(J172>0.5,AND(J172>0.4,J172>J173,J172>J171)),"Mayor",) -> 0
B173: 2550 | C173: גדרה | D173: יוסף טובה | E173: 15325 | F173: 9530 | I173: 9530 | J173: 0.051416579 | K173: 490 | L173: 0.051416579 | M173: 490 | N173: מועמד נבחר | O173: =C173&" "&D173 -> גדרה יוסף טובה | P173: =IF(OR(J173>0.5,AND(J173>0.4,J173>J174,J173>J172)),"Mayor",) -> 0
B174: 166 | C174: גן יבנה | D174: דרור אהרון | E174: 14168 | F174: 7758 | I174: 7758 | J174: 0.49651972 | K174: 3852 | L174: 0.49651972 | M174: 3852 | N174: מועמד נבחר | O174: =C174&" "&D174 -> גן יבנה דרור אהרון | P174: =IF(OR(J174>0.5,AND(J174>0.4,J174>J175,J174>J173)),"Mayor",) -> Mayor
B175: 166 | C175: גן יבנה | D175: ניסים (יחיא) ירון | E175: 14168 | F175: 7758 | I175: 7758 | J175: 0.23923692 | K175: 1856 | L175: 0.23923692 | M175: 1856 | N175: מועמד נבחר | O175: =C175&" "&D175 -> גן יבנה ניסים (יחיא) ירון | P175: =IF(OR(J175>0.5,AND(J175>0.4,J175>J176,J175>J174)),"Mayor",) -> 0
B176: 166 | C176: גן יבנה | D176: אלוש אלי | E176: 14168 | F176: 7758 | I176: 7758 | J176: 0.15854602 | K176: 1230 | L176: 0.15854602 | M176: 1230 | N176: מועמד נבחר | O176: =C176&" "&D176 -> גן יבנה אלוש אלי | P176: =IF(OR(J176>0.5,AND(J176>0.4,J176>J177,J176>J175)),"Mayor",) -> 0
B177: 166 | C177: גן יבנה | D177: עוגן אביחי | E177: 14168 | F177: 7758 | I177: 7758 | J177: 0.033642691 | K177: 261 | L177: 0.033642691 | M177: 261 | N177: מועמד נבחר | O177: =C177&" "&D177 -> גן יבנה עוגן אביחי | P177: =IF(OR(J177>0.5,AND(J177>0.4,J177>J178,J177>J176)),"Mayor",) -> 0
B178: 166 | C178: גן יבנה | D178: אדרי ארז אברהם | E178: 14168 | F178: 7758 | I178: 7758 | J178: 0.031580304 | K178: 245 | L178: 0.031580304 | M178: 245 | N178: מועמד נבחר | O178: =C178&" "&D178 -> גן יבנה אדרי ארז אברהם | P178: =IF(OR(J178>0.5,AND(J178>0.4,J178>J179,J178>J177)),"Mayor",) -> 0
... B256: 2034 | C256: חצור הגלילית | D256: נבון שמעון | E256: 7013 | F256: 4948 | I256: 4948 | J256: 0.025060631 | K256: 124 | L256: 0.025060631 | M256: 124 | N256: מועמד נבחר | O256: =C256&" "&D256 -> חצור הגלילית נבון שמעון | P256: =IF(OR(J256>0.5,AND(J256>0.4,J256>J257,J256>J255)),"Mayor",) -> 0
B257: 2034 | C257: חצור הגלילית | D257: כמיסה יורם | E257: 7013 | F257: 4948 | I257: 4948 | J257: 0 | L257: 0 | M257: 0 | N257: מועמד נבחר | O257: =C257&" "&D257 -> חצור הגלילית כמיסה יורם | P257: =IF(OR(J257>0.5,AND(J257>0.4,J257>J258,J257>J256)),"Mayor",) -> 0
B258: 1247 | C258: חריש | D258: קשת יצחק | E258: 629 | F258: 485 | I258: 485 | J258: 0.61649485 | K258: 299 | L258: 0.61649485 | M258: 299 | N258: מועמד נבחר | O258: =C258&" "&D258 -> חריש קשת יצחק | P258: =IF(OR(J258>0.5,AND(J258>0.4,J258>J259,J258>J257)),"Mayor",) -> Mayor
B259: 1247 | C259: חריש | D259: קליין שלמה | E259: 629 | F259: 485 | I259: 485 | J259: 0.38350515 | K259: 186 | L259: 0.38350515 | M259: 186 | N259: מועמד נבחר | O259: =C259&" "&D259 -> חריש קליין שלמה | P259: =IF(OR(J259>0.5,AND(J259>0.4,J259>J260,J259>J258)),"Mayor",) -> 0
B260: 6700 | C260: טבריה | D260: בן דוד יוסף | E260: 34123 | F260: 18167 | I260: 18167 | J260: 0.56987945 | K260: 10353 | L260: 0.56987945 | M260: 10353 | N260: מועמד נבחר | O260: =C260&" "&D260 -> טבריה בן דוד יוסף | P260: =IF(OR(J260>0.5,AND(J260>0.4,J260>J261,J260>J259)),"Mayor",) -> Mayor
B261: 6700 | C261: טבריה | D261: פיניאן ציון | E261: 34123 | F261: 18167 | I261: 18167 | J261: 0.34403038 | K261: 6250 | L261: 0.34403038 | M261: 6250 | N261: מועמד נבחר | O261: =C261&" "&D261 -> טבריה פיניאן ציון | P261: =IF(OR(J261>0.5,AND(J261>0.4,J261>J262,J261>J260)),"Mayor",) -> 0
B262: 6700 | C262: טבריה | D262: קובי רון אהרון | E262: 34123 | F262: 18167 | I262: 18167 | J262: 0.086090163 | K262: 1564 | L262: 0.086090163 | M262: 1564 | N262: מועמד נבחר | O262: =C262&" "&D262 -> טבריה קובי רון אהרון | P262: =IF(OR(J262>0.5,AND(J262>0.4,J262>J263,J262>J261)),"Mayor",) -> 0
B263: 962 | C263: טובא-זנגריה | D263: הייב חוסין | E263: 3869 | F263: 3028 | I263: 3028 | J263: 0.58652576 | K263: 1776 | L263: 0.58652576 | M263: 1776 | N263: מועמד נבחר | O263: =C263&" "&D263 -> טובא-זנגריה הייב חוסין | P263: =IF(OR(J263>0.5,AND(J263>0.4,J263>J264,J263>J262)),"Mayor",) -> Mayor
B264: 962 | C264: טובא-זנגריה | D264: פאיז עומר ויסאם | E264: 3869 | F264: 3028 | I264: 3028 | J264: 0.38837517 | K264: 1176 | L264: 0.38837517 | M264: 1176 | N264: מועמד נבחר | O264: =C264&" "&D264 -> טובא-זנגריה פאיז עומר ויסאם | P264: =IF(OR(J264>0.5,AND(J264>0.4,J264>J265,J264>J263)),"Mayor",) -> 0
B265: 962 | C265: טובא-זנגריה | D265: קבלאן צאהי | E265: 3869 | F265: 3028 | I265: 3028 | J265: 0.025099075 | K265: 76 | L265: 0.025099075 | M265: 76 | N265: מועמד נבחר | O265: =C265&" "&D265 -> טובא-זנגריה קבלאן צאהי | P265: =IF(OR(J265>0.5,AND(J265>0.4,J265>J266,J265>J264)),"Mayor",) -> 0
B266: 498 | C266: טורעאן | D266: דחלה עימאד | E266: 8134 | F266: 7336 | I266: 7336 | J266: 0.4825518 | K266: 3540 | L266: 0.4825518 | M266: 3540 | N266: מועמד נבחר | O266: =C266&" "&D266 -> טורעאן דחלה עימאד | P266: =IF(OR(J266>0.5,AND(J266>0.4,J266>J267,J266>J265)),"Mayor",) -> Mayor
B267: 498 | C267: טורעאן | D267: עדוי מאזן | E267: 8134 | F267: 7336 | I267: 7336 | J267: 0.38413304 | K267: 2818 | L267: 0.38413304 | M267: 2818 | N267: מועמד נבחר | O267: =C267&" "&D267 -> טורעאן עדוי מאזן | P267: =IF(OR(J267>0.5,AND(J267>0.4,J267>J268,J267>J266)),"Mayor",) -> 0
B268: 498 | C268: טורעאן | D268: עדוי שאהר | E268: 8134 | F268: 7336 | I268: 7336 | J268: 0.13331516 | K268: 978 | L268: 0.13331516 | M268: 978 | N268: מועמד נבחר | O268: =C268&" "&D268 -> טורעאן עדוי שאהר | P268: =IF(OR(J268>0.5,AND(J268>0.4,J268>J269,J268>J267)),"Mayor",) -> 0
...
