Workbook
Name date_update: [1]rosh!$M$1
Name תוצאות_בחירות: [1]siot!$B$3:$AB$1887

Sheet ריכוז ומחולל גרפים
A1: ='נתוני 2008'!B1 -> שם הרשות | B1: ='נתוני 2008'!C1 -> אום אל-פחם | C1: ='נתוני 2008'!D1 -> אור יהודה | D1: ='נתוני 2008'!E1 -> אור עקיבא | E1: ='נתוני 2008'!F1 -> אילת | F1: ='נתוני 2008'!G1 -> אלעד | G1: ='נתוני 2008'!H1 -> אריאל | H1: ='נתוני 2008'!I1 -> אשדוד | ... BR1: ='נתוני 2008'!BS1 -> תל אביב -יפו | BS1: =COUNTA(B1:BR1) -> 69
A2: ='נתוני 2008'!B5 -> מספר חברי מועצה | B2: ='נתוני 2008'!C5 -> 16 | C2: ='נתוני 2008'!D5 -> 15 | D2: ='נתוני 2008'!E5 -> 13 | E2: ='נתוני 2008'!F5 -> 17 | F2: ='נתוני 2008'!G5 -> 15 | G2: ='נתוני 2008'!H5 -> 11 | H2: ='נתוני 2008'!I5 -> 27 | ... BR2: ='נתוני 2008'!BS5 -> 30 | BS2: =SUM(B2:BR2) -> 1202
A3: ='נתוני 2008'!B6 -> מספר נשים במועצה | B3: ='נתוני 2008'!C6 -> 0 | C3: ='נתוני 2008'!D6 -> 2 | D3: ='נתוני 2008'!E6 -> 0 | E3: ='נתוני 2008'!F6 -> 3 | F3: ='נתוני 2008'!G6 -> 0 | G3: ='נתוני 2008'!H6 -> 1 | H3: ='נתוני 2008'!I6 -> 4 | ... BR3: ='נתוני 2008'!BS6 -> 7 | BS3: =SUM(B3:BR3) -> 143
A4: ='נתוני 2008'!B7 -> אחוז נשים במועצה | B4: ='נתוני 2008'!C7 -> 0 | C4: ='נתוני 2008'!D7 -> 0.13333333 | D4: ='נתוני 2008'!E7 -> 0 | E4: ='נתוני 2008'!F7 -> 0.17647059 | F4: ='נתוני 2008'!G7 -> 0 | G4: ='נתוני 2008'!H7 -> 0.090909091 | H4: ='נתוני 2008'!I7 -> 0.14814815 | ... BR4: ='נתוני 2008'!BS7 -> 0.23333333 | BS4: =AVERAGE(B4:BR4) -> 0.11191182
A5: ='נתוני 2008'!B8 -> רמה חברתית-כלכלית (10 הגבוה ביותר) | B5: ='נתוני 2008'!C8 -> 2 | C5: ='נתוני 2008'!D8 -> 5 | D5: ='נתוני 2008'!E8 -> 5 | E5: ='נתוני 2008'!F8 -> 5 | F5: ='נתוני 2008'!G8 -> 2 | G5: ='נתוני 2008'!H8 -> 6 | H5: ='נתוני 2008'!I8 -> 5 | ... BR5: ='נתוני 2008'!BS8 -> 8
A7: סה"כ אוכלוסייה (אלפים) | B7: =INDEX('נתוני 2008'!$B$1:$BY$35,MATCH('ריכוז ומחולל גרפים'!$A7,'נתוני 2008'!$B$1:$B$35,0),MATCH('ריכוז ומחולל גרפים'!B$20,'נתוני 2008'!$B$1:$BY$1,0)) -> 44.5 | C7: =INDEX('נתוני 2008'!$B$1:$BY$35,MATCH('ריכוז ומחולל גרפים'!$A7,'נתוני 2008'!$B$1:$B$35,0),MATCH('ריכוז ומחולל גרפים'!C$20,'נתוני 2008'!$B$1:$BY$1,0)) -> 32.6 | D7: =INDEX('נתוני 2008'!$B$1:$BY$35,MATCH('ריכוז ומחולל גרפים'!$A7,'נתוני 2008'!$B$1:$B$35,0),MATCH('ריכוז ומחולל גרפים'!D$20,'נתוני 2008'!$B$1:$BY$1,0)) -> 15.9 | E7: =INDEX('נתוני 2008'!$B$1:$BY$35,MATCH('ריכוז ומחולל גרפים'!$A7,'נתוני 2008'!$B$1:$B$35,0),MATCH('ריכוז ומחולל גרפים'!E$20,'נתוני 2008'!$B$1:$BY$1,0)) -> 46.6 | F7: =INDEX('נתוני 2008'!$B$1:$BY$35,MATCH('ריכוז ומחולל גרפים'!$A7,'נתוני 2008'!$B$1:$B$35,0),MATCH('ריכוז ומחולל גרפים'!F$20,'נתוני 2008'!$B$1:$BY$1,0)) -> 33.8 | G7: =INDEX('נתוני 2008'!$B$1:$BY$35,MATCH('ריכוז ומחולל גרפים'!$A7,'נתוני 2008'!$B$1:$B$35,0),MATCH('ריכוז ומחולל גרפים'!G$20,'נתוני 2008'!$B$1:$BY$1,0)) -> 16.7 | H7: =INDEX('נתוני 2008'!$B$1:$BY$35,MATCH('ריכוז ומחולל גרפים'!$A7,'נתוני 2008'!$B$1:$B$35,0),MATCH('ריכוז ומחולל גרפים'!H$20,'נתוני 2008'!$B$1:$BY$1,0)) -> 209.2 | I7: =INDEX('נתוני 2008'!$B$1:$BY$35,MATCH('ריכוז ומחולל גרפים'!$A7,'נתוני 2008'!$B$1:$B$35,0),MATCH('ריכוז ומחולל גרפים'!I$20,'נתוני 2008'!$B$1:$BY$1,0)) -> 110.4 | ... BR7: =INDEX('נתוני 2008'!$B$1:$BY$35,MATCH('ריכוז ומחולל גרפים'!$A7,'נתוני 2008'!$B$1:$B$35,0),MATCH('ריכוז ומחולל גרפים'!BR$20,'נתוני 2008'!$B$1:$BY$1,0)) -> 392.5 | BS7: =SUM(B7:BR7) -> 5338.9
A8: יהודים (אחוז) | B8: =INDEX('נתוני 2008'!$B$1:$BY$35,MATCH('ריכוז ומחולל גרפים'!$A8,'נתוני 2008'!$B$1:$B$35,0),MATCH('ריכוז ומחולל גרפים'!B$20,'נתוני 2008'!$B$1:$BY$1,0)) -> - | C8: =INDEX('נתוני 2008'!$B$1:$BY$35,MATCH('ריכוז ומחולל גרפים'!$A8,'נתוני 2008'!$B$1:$B$35,0),MATCH('ריכוז ומחולל גרפים'!C$20,'נתוני 2008'!$B$1:$BY$1,0)) -> 99.1 | D8: =INDEX('נתוני 2008'!$B$1:$BY$35,MATCH('ריכוז ומחולל גרפים'!$A8,'נתוני 2008'!$B$1:$B$35,0),MATCH('ריכוז ומחולל גרפים'!D$20,'נתוני 2008'!$B$1:$BY$1,0)) -> 91.5 | E8: =INDEX('נתוני 2008'!$B$1:$BY$35,MATCH('ריכוז ומחולל גרפים'!$A8,'נתוני 2008'!$B$1:$B$35,0),MATCH('ריכוז ומחולל גרפים'!E$20,'נתוני 2008'!$B$1:$BY$1,0)) -> 85.4 | F8: =INDEX('נתוני 2008'!$B$1:$BY$35,MATCH('ריכוז ומחולל גרפים'!$A8,'נתוני 2008'!$B$1:$B$35,0),MATCH('ריכוז ומחולל גרפים'!F$20,'נתוני 2008'!$B$1:$BY$1,0)) -> 100 | G8: =INDEX('נתוני 2008'!$B$1:$BY$35,MATCH('ריכוז ומחולל גרפים'!$A8,'נתוני 2008'!$B$1:$B$35,0),MATCH('ריכוז ומחולל גרפים'!G$20,'נתוני 2008'!$B$1:$BY$1,0)) -> 80.9 | H8: =INDEX('נתוני 2008'!$B$1:$BY$35,MATCH('ריכוז ומחולל גרפים'!$A8,'נתוני 2008'!$B$1:$B$35,0),MATCH('ריכוז ומחולל גרפים'!H$20,'נתוני 2008'!$B$1:$BY$1,0)) -> 91 | I8: =INDEX('נתוני 2008'!$B$1:$BY$35,MATCH('ריכוז ומחולל גרפים'!$A8,'נתוני 2008'!$B$1:$B$35,0),MATCH('ריכוז ומחולל גרפים'!I$20,'נתוני 2008'!$B$1:$BY$1,0)) -> 88.4 | ... BR8: =INDEX('נתוני 2008'!$B$1:$BY$35,MATCH('ריכוז ומחולל גרפים'!$A8,'נתוני 2008'!$B$1:$B$35,0),MATCH('ריכוז ומחולל גרפים'!BR$20,'נתוני 2008'!$B$1:$BY$1,0)) -> 91.4
A9: ערבים (אחוז) | B9: =INDEX('נתוני 2008'!$B$1:$BY$35,MATCH('ריכוז ומחולל גרפים'!$A9,'נתוני 2008'!$B$1:$B$35,0),MATCH('ריכוז ומחולל גרפים'!B$20,'נתוני 2008'!$B$1:$BY$1,0)) -> 100 | C9: =INDEX('נתוני 2008'!$B$1:$BY$35,MATCH('ריכוז ומחולל גרפים'!$A9,'נתוני 2008'!$B$1:$B$35,0),MATCH('ריכוז ומחולל גרפים'!C$20,'נתוני 2008'!$B$1:$BY$1,0)) -> - | D9: =INDEX('נתוני 2008'!$B$1:$BY$35,MATCH('ריכוז ומחולל גרפים'!$A9,'נתוני 2008'!$B$1:$B$35,0),MATCH('ריכוז ומחולל גרפים'!D$20,'נתוני 2008'!$B$1:$BY$1,0)) -> - | E9: =INDEX('נתוני 2008'!$B$1:$BY$35,MATCH('ריכוז ומחולל גרפים'!$A9,'נתוני 2008'!$B$1:$B$35,0),MATCH('ריכוז ומחולל גרפים'!E$20,'נתוני 2008'!$B$1:$BY$1,0)) -> - | F9: =INDEX('נתוני 2008'!$B$1:$BY$35,MATCH('ריכוז ומחולל גרפים'!$A9,'נתוני 2008'!$B$1:$B$35,0),MATCH('ריכוז ומחולל גרפים'!F$20,'נתוני 2008'!$B$1:$BY$1,0)) -> - | G9: =INDEX('נתוני 2008'!$B$1:$BY$35,MATCH('ריכוז ומחולל גרפים'!$A9,'נתוני 2008'!$B$1:$B$35,0),MATCH('ריכוז ומחולל גרפים'!G$20,'נתוני 2008'!$B$1:$BY$1,0)) -> - | H9: =INDEX('נתוני 2008'!$B$1:$BY$35,MATCH('ריכוז ומחולל גרפים'!$A9,'נתוני 2008'!$B$1:$B$35,0),MATCH('ריכוז ומחולל גרפים'!H$20,'נתוני 2008'!$B$1:$BY$1,0)) -> - | I9: =INDEX('נתוני 2008'!$B$1:$BY$35,MATCH('ריכוז ומחולל גרפים'!$A9,'נתוני 2008'!$B$1:$B$35,0),MATCH('ריכוז ומחולל גרפים'!I$20,'נתוני 2008'!$B$1:$BY$1,0)) -> - | ... BR9: =INDEX('נתוני 2008'!$B$1:$BY$35,MATCH('ריכוז ומחולל גרפים'!$A9,'נתוני 2008'!$B$1:$B$35,0),MATCH('ריכוז ומחולל גרפים'!BR$20,'נתוני 2008'!$B$1:$BY$1,0)) -> 4.4
A10: אחוז בעלי הצבעה שאינם בפנסיה | B10: =100-B12-B11 -> 49.922467 | C10: =100-C12-C11 -> 60.75188 | D10: =100-D12-D11 -> 61.7091 | E10: =100-E12-E11 -> 65.167671 | F10: =100-F12-F11 -> 40.742385 | G10: =100-G12-G11 -> 65.236899 | H10: =100-H12-H11 -> 56.378383 | I10: =100-I12-I11 -> 59.26315 | ... BR10: =100-BR12-BR11 -> 65.676183
A11: אחוז בני 65 ומעלה באוכלוסייה | B11: =INDEX('נתוני 2008'!$B$1:$BY$35,MATCH('ריכוז ומחולל גרפים'!$A11,'נתוני 2008'!$B$1:$B$35,0),MATCH('ריכוז ומחולל גרפים'!B$20,'נתוני 2008'!$B$1:$BY$1,0)) -> 2.8855878 | C11: =INDEX('נתוני 2008'!$B$1:$BY$35,MATCH('ריכוז ומחולל גרפים'!$A11,'נתוני 2008'!$B$1:$B$35,0),MATCH('ריכוז ומחולל גרפים'!C$20,'נתוני 2008'!$B$1:$BY$1,0)) -> 8.7218045 | D11: =INDEX('נתוני 2008'!$B$1:$BY$35,MATCH('ריכוז ומחולל גרפים'!$A11,'נתוני 2008'!$B$1:$B$35,0),MATCH('ריכוז ומחולל גרפים'!D$20,'נתוני 2008'!$B$1:$BY$1,0)) -> 10.606252 | E11: =INDEX('נתוני 2008'!$B$1:$BY$35,MATCH('ריכוז ומחולל גרפים'!$A11,'נתוני 2008'!$B$1:$B$35,0),MATCH('ריכוז ומחולל גרפים'!E$20,'נתוני 2008'!$B$1:$BY$1,0)) -> 6.9385741 | F11: =INDEX('נתוני 2008'!$B$1:$BY$35,MATCH('ריכוז ומחולל גרפים'!$A11,'נתוני 2008'!$B$1:$B$35,0),MATCH('ריכוז ומחולל גרפים'!F$20,'נתוני 2008'!$B$1:$BY$1,0)) -> 0.80217861 | G11: =INDEX('נתוני 2008'!$B$1:$BY$35,MATCH('ריכוז ומחולל גרפים'!$A11,'נתוני 2008'!$B$1:$B$35,0),MATCH('ריכוז ומחולל גרפים'!G$20,'נתוני 2008'!$B$1:$BY$1,0)) -> 8.8537928 | H11: =INDEX('נתוני 2008'!$B$1:$BY$35,MATCH('ריכוז ומחולל גרפים'!$A11,'נתוני 2008'!$B$1:$B$35,0),MATCH('ריכוז ומחולל גרפים'!H$20,'נתוני 2008'!$B$1:$BY$1,0)) -> 11.656582 | I11: =INDEX('נתוני 2008'!$B$1:$BY$35,MATCH('ריכוז ומחולל גרפים'!$A11,'נתוני 2008'!$B$1:$B$35,0),MATCH('ריכוז ומחולל גרפים'!I$20,'נתוני 2008'!$B$1:$BY$1,0)) -> 13.700007 | ... BR11: =INDEX('נתוני 2008'!$B$1:$BY$35,MATCH('ריכוז ומחולל גרפים'!$A11,'נתוני 2008'!$B$1:$B$35,0),MATCH('ריכוז ומחולל גרפים'!BR$20,'נתוני 2008'!$B$1:$BY$1,0)) -> 13.820235
A12: אחוז בני 17-0 באוכלוסייה | B12: =INDEX('נתוני 2008'!$B$1:$BY$35,MATCH('ריכוז ומחולל גרפים'!$A12,'נתוני 2008'!$B$1:$B$35,0),MATCH('ריכוז ומחולל גרפים'!B$20,'נתוני 2008'!$B$1:$BY$1,0)) -> 47.191946 | C12: =INDEX('נתוני 2008'!$B$1:$BY$35,MATCH('ריכוז ומחולל גרפים'!$A12,'נתוני 2008'!$B$1:$B$35,0),MATCH('ריכוז ומחולל גרפים'!C$20,'נתוני 2008'!$B$1:$BY$1,0)) -> 30.526316 | D12: =INDEX('נתוני 2008'!$B$1:$BY$35,MATCH('ריכוז ומחולל גרפים'!$A12,'נתוני 2008'!$B$1:$B$35,0),MATCH('ריכוז ומחולל גרפים'!D$20,'נתוני 2008'!$B$1:$BY$1,0)) -> 27.684648 | E12: =INDEX('נתוני 2008'!$B$1:$BY$35,MATCH('ריכוז ומחולל גרפים'!$A12,'נתוני 2008'!$B$1:$B$35,0),MATCH('ריכוז ומחולל גרפים'!E$20,'נתוני 2008'!$B$1:$BY$1,0)) -> 27.893754 | F12: =INDEX('נתוני 2008'!$B$1:$BY$35,MATCH('ריכוז ומחולל גרפים'!$A12,'נתוני 2008'!$B$1:$B$35,0),MATCH('ריכוז ומחולל גרפים'!F$20,'נתוני 2008'!$B$1:$BY$1,0)) -> 58.455436 | G12: =INDEX('נתוני 2008'!$B$1:$BY$35,MATCH('ריכוז ומחולל גרפים'!$A12,'נתוני 2008'!$B$1:$B$35,0),MATCH('ריכוז ומחולל גרפים'!G$20,'נתוני 2008'!$B$1:$BY$1,0)) -> 25.909308 | H12: =INDEX('נתוני 2008'!$B$1:$BY$35,MATCH('ריכוז ומחולל גרפים'!$A12,'נתוני 2008'!$B$1:$B$35,0),MATCH('ריכוז ומחולל גרפים'!H$20,'נתוני 2008'!$B$1:$BY$1,0)) -> 31.965035 | I12: =INDEX('נתוני 2008'!$B$1:$BY$35,MATCH('ריכוז ומחולל גרפים'!$A12,'נתוני 2008'!$B$1:$B$35,0),MATCH('ריכוז ומחולל גרפים'!I$20,'נתוני 2008'!$B$1:$BY$1,0)) -> 27.036842 | ... BR12: =INDEX('נתוני 2008'!$B$1:$BY$35,MATCH('ריכוז ומחולל גרפים'!$A12,'נתוני 2008'!$B$1:$B$35,0),MATCH('ריכוז ומחולל גרפים'!BR$20,'נתוני 2008'!$B$1:$BY$1,0)) -> 20.503582
A13: אחוז בני 75 ומעלה באוכלוסייה | B13: =INDEX('נתוני 2008'!$B$1:$BY$35,MATCH('ריכוז ומחולל גרפים'!$A13,'נתוני 2008'!$B$1:$B$35,0),MATCH('ריכוז ומחולל גרפים'!B$20,'נתוני 2008'!$B$1:$BY$1,0)) -> 0.82926939 | C13: =INDEX('נתוני 2008'!$B$1:$BY$35,MATCH('ריכוז ומחולל גרפים'!$A13,'נתוני 2008'!$B$1:$B$35,0),MATCH('ריכוז ומחולל גרפים'!C$20,'נתוני 2008'!$B$1:$BY$1,0)) -> 3.7010895 | D13: =INDEX('נתוני 2008'!$B$1:$BY$35,MATCH('ריכוז ומחולל גרפים'!$A13,'נתוני 2008'!$B$1:$B$35,0),MATCH('ריכוז ומחולל גרפים'!D$20,'נתוני 2008'!$B$1:$BY$1,0)) -> 4.2790522 | E13: =INDEX('נתוני 2008'!$B$1:$BY$35,MATCH('ריכוז ומחולל גרפים'!$A13,'נתוני 2008'!$B$1:$B$35,0),MATCH('ריכוז ומחולל גרפים'!E$20,'נתוני 2008'!$B$1:$BY$1,0)) -> 2.7526872 | F13: =INDEX('נתוני 2008'!$B$1:$BY$35,MATCH('ריכוז ומחולל גרפים'!$A13,'נתוני 2008'!$B$1:$B$35,0),MATCH('ריכוז ומחולל גרפים'!F$20,'נתוני 2008'!$B$1:$BY$1,0)) -> 0.22792529 | G13: =INDEX('נתוני 2008'!$B$1:$BY$35,MATCH('ריכוז ומחולל גרפים'!$A13,'נתוני 2008'!$B$1:$B$35,0),MATCH('ריכוז ומחולל גרפים'!G$20,'נתוני 2008'!$B$1:$BY$1,0)) -> 3.7329505 | H13: =INDEX('נתוני 2008'!$B$1:$BY$35,MATCH('ריכוז ומחולל גרפים'!$A13,'נתוני 2008'!$B$1:$B$35,0),MATCH('ריכוז ומחולל גרפים'!H$20,'נתוני 2008'!$B$1:$BY$1,0)) -> 5.1563292 | I13: =INDEX('נתוני 2008'!$B$1:$BY$35,MATCH('ריכוז ומחולל גרפים'!$A13,'נתוני 2008'!$B$1:$B$35,0),MATCH('ריכוז ומחולל גרפים'!I$20,'נתוני 2008'!$B$1:$BY$1,0)) -> 6.3233589 | ... BR13: =INDEX('נתוני 2008'!$B$1:$BY$35,MATCH('ריכוז ומחולל גרפים'!$A13,'נתוני 2008'!$B$1:$B$35,0),MATCH('ריכוז ומחולל גרפים'!BR$20,'נתוני 2008'!$B$1:$BY$1,0)) -> 7.4908018
A14: אחוז עולי 1990+ מסך האוכלוסייה | B14: =INDEX('נתוני 2008'!$B$1:$BY$35,MATCH('ריכוז ומחולל גרפים'!$A14,'נתוני 2008'!$B$1:$B$35,0),MATCH('ריכוז ומחולל גרפים'!B$20,'נתוני 2008'!$B$1:$BY$1,0)) -> 0 | C14: =INDEX('נתוני 2008'!$B$1:$BY$35,MATCH('ריכוז ומחולל גרפים'!$A14,'נתוני 2008'!$B$1:$B$35,0),MATCH('ריכוז ומחולל גרפים'!C$20,'נתוני 2008'!$B$1:$BY$1,0)) -> 15.6 | D14: =INDEX('נתוני 2008'!$B$1:$BY$35,MATCH('ריכוז ומחולל גרפים'!$A14,'נתוני 2008'!$B$1:$B$35,0),MATCH('ריכוז ומחולל גרפים'!D$20,'נתוני 2008'!$B$1:$BY$1,0)) -> 39.1 | E14: =INDEX('נתוני 2008'!$B$1:$BY$35,MATCH('ריכוז ומחולל גרפים'!$A14,'נתוני 2008'!$B$1:$B$35,0),MATCH('ריכוז ומחולל גרפים'!E$20,'נתוני 2008'!$B$1:$BY$1,0)) -> 22.5 | F14: =INDEX('נתוני 2008'!$B$1:$BY$35,MATCH('ריכוז ומחולל גרפים'!$A14,'נתוני 2008'!$B$1:$B$35,0),MATCH('ריכוז ומחולל גרפים'!F$20,'נתוני 2008'!$B$1:$BY$1,0)) -> 3.4 | G14: =INDEX('נתוני 2008'!$B$1:$BY$35,MATCH('ריכוז ומחולל גרפים'!$A14,'נתוני 2008'!$B$1:$B$35,0),MATCH('ריכוז ומחולל גרפים'!G$20,'נתוני 2008'!$B$1:$BY$1,0)) -> 42 | H14: =INDEX('נתוני 2008'!$B$1:$BY$35,MATCH('ריכוז ומחולל גרפים'!$A14,'נתוני 2008'!$B$1:$B$35,0),MATCH('ריכוז ומחולל גרפים'!H$20,'נתוני 2008'!$B$1:$BY$1,0)) -> 33.9 | I14: =INDEX('נתוני 2008'!$B$1:$BY$35,MATCH('ריכוז ומחולל גרפים'!$A14,'נתוני 2008'!$B$1:$B$35,0),MATCH('ריכוז ומחולל גרפים'!I$20,'נתוני 2008'!$B$1:$BY$1,0)) -> 32.7 | ... BR14: =INDEX('נתוני 2008'!$B$1:$BY$35,MATCH('ריכוז ומחולל גרפים'!$A14,'נתוני 2008'!$B$1:$B$35,0),MATCH('ריכוז ומחולל גרפים'!BR$20,'נתוני 2008'!$B$1:$BY$1,0)) -> 12.7
A15: אחוז עולים בני 17-0 בהשתקעות ראשונה | B15: =INDEX('נתוני 2008'!$B$1:$BY$35,MATCH('ריכוז ומחולל גרפים'!$A15,'נתוני 2008'!$B$1:$B$35,0),MATCH('ריכוז ומחולל גרפים'!B$20,'נתוני 2008'!$B$1:$BY$1,0)) -> - | C15: =INDEX('נתוני 2008'!$B$1:$BY$35,MATCH('ריכוז ומחולל גרפים'!$A15,'נתוני 2008'!$B$1:$B$35,0),MATCH('ריכוז ומחולל גרפים'!C$20,'נתוני 2008'!$B$1:$BY$1,0)) -> 38.2 | D15: =INDEX('נתוני 2008'!$B$1:$BY$35,MATCH('ריכוז ומחולל גרפים'!$A15,'נתוני 2008'!$B$1:$B$35,0),MATCH('ריכוז ומחולל גרפים'!D$20,'נתוני 2008'!$B$1:$BY$1,0)) -> 48.6 | E15: =INDEX('נתוני 2008'!$B$1:$BY$35,MATCH('ריכוז ומחולל גרפים'!$A15,'נתוני 2008'!$B$1:$B$35,0),MATCH('ריכוז ומחולל גרפים'!E$20,'נתוני 2008'!$B$1:$BY$1,0)) -> 29.7 | F15: =INDEX('נתוני 2008'!$B$1:$BY$35,MATCH('ריכוז ומחולל גרפים'!$A15,'נתוני 2008'!$B$1:$B$35,0),MATCH('ריכוז ומחולל גרפים'!F$20,'נתוני 2008'!$B$1:$BY$1,0)) -> 52.6 | G15: =INDEX('נתוני 2008'!$B$1:$BY$35,MATCH('ריכוז ומחולל גרפים'!$A15,'נתוני 2008'!$B$1:$B$35,0),MATCH('ריכוז ומחולל גרפים'!G$20,'נתוני 2008'!$B$1:$BY$1,0)) -> 22.7 | H15: =INDEX('נתוני 2008'!$B$1:$BY$35,MATCH('ריכוז ומחולל גרפים'!$A15,'נתוני 2008'!$B$1:$B$35,0),MATCH('ריכוז ומחולל גרפים'!H$20,'נתוני 2008'!$B$1:$BY$1,0)) -> 29.4 | I15: =INDEX('נתוני 2008'!$B$1:$BY$35,MATCH('ריכוז ומחולל גרפים'!$A15,'נתוני 2008'!$B$1:$B$35,0),MATCH('ריכוז ומחולל גרפים'!I$20,'נתוני 2008'!$B$1:$BY$1,0)) -> 29.2 | ... BR15: =INDEX('נתוני 2008'!$B$1:$BY$35,MATCH('ריכוז ומחולל גרפים'!$A15,'נתוני 2008'!$B$1:$B$35,0),MATCH('ריכוז ומחולל גרפים'!BR$20,'נתוני 2008'!$B$1:$BY$1,0)) -> 31.7
A16: אחוז עולים בני 44-18 בהשתקעות ראשונה | B16: =INDEX('נתוני 2008'!$B$1:$BY$35,MATCH('ריכוז ומחולל גרפים'!$A16,'נתוני 2008'!$B$1:$B$35,0),MATCH('ריכוז ומחולל גרפים'!B$20,'נתוני 2008'!$B$1:$BY$1,0)) -> - | C16: =INDEX('נתוני 2008'!$B$1:$BY$35,MATCH('ריכוז ומחולל גרפים'!$A16,'נתוני 2008'!$B$1:$B$35,0),MATCH('ריכוז ומחולל גרפים'!C$20,'נתוני 2008'!$B$1:$BY$1,0)) -> 29.4 | D16: =INDEX('נתוני 2008'!$B$1:$BY$35,MATCH('ריכוז ומחולל גרפים'!$A16,'נתוני 2008'!$B$1:$B$35,0),MATCH('ריכוז ומחולל גרפים'!D$20,'נתוני 2008'!$B$1:$BY$1,0)) -> 22.9 | E16: =INDEX('נתוני 2008'!$B$1:$BY$35,MATCH('ריכוז ומחולל גרפים'!$A16,'נתוני 2008'!$B$1:$B$35,0),MATCH('ריכוז ומחולל גרפים'!E$20,'נתוני 2008'!$B$1:$BY$1,0)) -> 45.3 | F16: =INDEX('נתוני 2008'!$B$1:$BY$35,MATCH('ריכוז ומחולל גרפים'!$A16,'נתוני 2008'!$B$1:$B$35,0),MATCH('ריכוז ומחולל גרפים'!F$20,'נתוני 2008'!$B$1:$BY$1,0)) -> 34.2 | G16: =INDEX('נתוני 2008'!$B$1:$BY$35,MATCH('ריכוז ומחולל גרפים'!$A16,'נתוני 2008'!$B$1:$B$35,0),MATCH('ריכוז ומחולל גרפים'!G$20,'נתוני 2008'!$B$1:$BY$1,0)) -> 38.6 | H16: =INDEX('נתוני 2008'!$B$1:$BY$35,MATCH('ריכוז ומחולל גרפים'!$A16,'נתוני 2008'!$B$1:$B$35,0),MATCH('ריכוז ומחולל גרפים'!H$20,'נתוני 2008'!$B$1:$BY$1,0)) -> 35.8 | I16: =INDEX('נתוני 2008'!$B$1:$BY$35,MATCH('ריכוז ומחולל גרפים'!$A16,'נתוני 2008'!$B$1:$B$35,0),MATCH('ריכוז ומחולל גרפים'!I$20,'נתוני 2008'!$B$1:$BY$1,0)) -> 41.3 | ... BR16: =INDEX('נתוני 2008'!$B$1:$BY$35,MATCH('ריכוז ומחולל גרפים'!$A16,'נתוני 2008'!$B$1:$B$35,0),MATCH('ריכוז ומחולל גרפים'!BR$20,'נתוני 2008'!$B$1:$BY$1,0)) -> 48.3
A17: אחוז עולים בני 64-45 בהשתקעות ראשונה | B17: =INDEX('נתוני 2008'!$B$1:$BY$35,MATCH('ריכוז ומחולל גרפים'!$A17,'נתוני 2008'!$B$1:$B$35,0),MATCH('ריכוז ומחולל גרפים'!B$20,'נתוני 2008'!$B$1:$BY$1,0)) -> - | C17: =INDEX('נתוני 2008'!$B$1:$BY$35,MATCH('ריכוז ומחולל גרפים'!$A17,'נתוני 2008'!$B$1:$B$35,0),MATCH('ריכוז ומחולל גרפים'!C$20,'נתוני 2008'!$B$1:$BY$1,0)) -> 26.5 | D17: =INDEX('נתוני 2008'!$B$1:$BY$35,MATCH('ריכוז ומחולל גרפים'!$A17,'נתוני 2008'!$B$1:$B$35,0),MATCH('ריכוז ומחולל גרפים'!D$20,'נתוני 2008'!$B$1:$BY$1,0)) -> 11.4 | E17: =INDEX('נתוני 2008'!$B$1:$BY$35,MATCH('ריכוז ומחולל גרפים'!$A17,'נתוני 2008'!$B$1:$B$35,0),MATCH('ריכוז ומחולל גרפים'!E$20,'נתוני 2008'!$B$1:$BY$1,0)) -> 17.4 | F17: =INDEX('נתוני 2008'!$B$1:$BY$35,MATCH('ריכוז ומחולל גרפים'!$A17,'נתוני 2008'!$B$1:$B$35,0),MATCH('ריכוז ומחולל גרפים'!F$20,'נתוני 2008'!$B$1:$BY$1,0)) -> 7.9 | G17: =INDEX('נתוני 2008'!$B$1:$BY$35,MATCH('ריכוז ומחולל גרפים'!$A17,'נתוני 2008'!$B$1:$B$35,0),MATCH('ריכוז ומחולל גרפים'!G$20,'נתוני 2008'!$B$1:$BY$1,0)) -> 36.4 | H17: =INDEX('נתוני 2008'!$B$1:$BY$35,MATCH('ריכוז ומחולל גרפים'!$A17,'נתוני 2008'!$B$1:$B$35,0),MATCH('ריכוז ומחולל גרפים'!H$20,'נתוני 2008'!$B$1:$BY$1,0)) -> 19.5 | I17: =INDEX('נתוני 2008'!$B$1:$BY$35,MATCH('ריכוז ומחולל גרפים'!$A17,'נתוני 2008'!$B$1:$B$35,0),MATCH('ריכוז ומחולל גרפים'!I$20,'נתוני 2008'!$B$1:$BY$1,0)) -> 16.9 | ... BR17: =INDEX('נתוני 2008'!$B$1:$BY$35,MATCH('ריכוז ומחולל גרפים'!$A17,'נתוני 2008'!$B$1:$B$35,0),MATCH('ריכוז ומחולל גרפים'!BR$20,'נתוני 2008'!$B$1:$BY$1,0)) -> 12.8
A18: אחוז עולים בני 65 ומעלה בהשתקעות ראשונה | B18: =INDEX('נתוני 2008'!$B$1:$BY$35,MATCH('ריכוז ומחולל גרפים'!$A18,'נתוני 2008'!$B$1:$B$35,0),MATCH('ריכוז ומחולל גרפים'!B$20,'נתוני 2008'!$B$1:$BY$1,0)) -> - | C18: =INDEX('נתוני 2008'!$B$1:$BY$35,MATCH('ריכוז ומחולל גרפים'!$A18,'נתוני 2008'!$B$1:$B$35,0),MATCH('ריכוז ומחולל גרפים'!C$20,'נתוני 2008'!$B$1:$BY$1,0)) -> 5.9 | D18: =INDEX('נתוני 2008'!$B$1:$BY$35,MATCH('ריכוז ומחולל גרפים'!$A18,'נתוני 2008'!$B$1:$B$35,0),MATCH('ריכוז ומחולל גרפים'!D$20,'נתוני 2008'!$B$1:$BY$1,0)) -> 17.1 | E18: =INDEX('נתוני 2008'!$B$1:$BY$35,MATCH('ריכוז ומחולל גרפים'!$A18,'נתוני 2008'!$B$1:$B$35,0),MATCH('ריכוז ומחולל גרפים'!E$20,'נתוני 2008'!$B$1:$BY$1,0)) -> 7.6 | F18: =INDEX('נתוני 2008'!$B$1:$BY$35,MATCH('ריכוז ומחולל גרפים'!$A18,'נתוני 2008'!$B$1:$B$35,0),MATCH('ריכוז ומחולל גרפים'!F$20,'נתוני 2008'!$B$1:$BY$1,0)) -> 5.3 | G18: =INDEX('נתוני 2008'!$B$1:$BY$35,MATCH('ריכוז ומחולל גרפים'!$A18,'נתוני 2008'!$B$1:$B$35,0),MATCH('ריכוז ומחולל גרפים'!G$20,'נתוני 2008'!$B$1:$BY$1,0)) -> 2.3 | H18: =INDEX('נתוני 2008'!$B$1:$BY$35,MATCH('ריכוז ומחולל גרפים'!$A18,'נתוני 2008'!$B$1:$B$35,0),MATCH('ריכוז ומחולל גרפים'!H$20,'נתוני 2008'!$B$1:$BY$1,0)) -> 15.3 | I18: =INDEX('נתוני 2008'!$B$1:$BY$35,MATCH('ריכוז ומחולל גרפים'!$A18,'נתוני 2008'!$B$1:$B$35,0),MATCH('ריכוז ומחולל גרפים'!I$20,'נתוני 2008'!$B$1:$BY$1,0)) -> 12.6 | ... BR18: =INDEX('נתוני 2008'!$B$1:$BY$35,MATCH('ריכוז ומחולל גרפים'!$A18,'נתוני 2008'!$B$1:$B$35,0),MATCH('ריכוז ומחולל גרפים'!BR$20,'נתוני 2008'!$B$1:$BY$1,0)) -> 7.3
A20: ='נתוני 2011'!B1 -> שם הרשות | B20: ='נתוני 2011'!C1 -> אום אל-פחם | C20: ='נתוני 2011'!E1 -> אור יהודה | D20: ='נתוני 2011'!F1 -> אור עקיבא | E20: ='נתוני 2011'!G1 -> אילת | F20: ='נתוני 2011'!H1 -> אלעד | G20: ='נתוני 2011'!I1 -> אריאל | H20: ='נתוני 2011'!J1 -> אשדוד | I20: ='נתוני 2011'!K1 -> אשקלון | J20: ='נתוני 2011'!M1 -> באר שבע | K20: ='נתוני 2011'!N1 -> בית שאן | L20: ='נתוני 2011'!O1 -> בית שמש | M20: ='נתוני 2011'!Q1 -> בני ברק | N20: ='נתוני 2011'!R1 -> בת ים | O20: ='נתוני 2011'!S1 -> גבעת שמואל | P20: ='נתוני 2011'!T1 -> גבעתיים | Q20: ='נתוני 2011'!U1 -> דימונה | R20: ='נתוני 2011'!V1 -> הוד השרון | S20: ='נתוני 2011'!W1 -> הרצלייה | T20: ='נתוני 2011'!X1 -> חדרה | ... W20: ='נתוני 2011'!AA1 -> טבריה | X20: ='נתוני 2011'!AC1 -> טירה | Y20: ='נתוני 2011'!AD1 -> טירת כרמל | Z20: ='נתוני 2011'!AE1 -> טמרה | AA20: ='נתוני 2011'!AF1 -> יבנה | AB20: ='נתוני 2011'!AG1 -> יהוד | AC20: ='נתוני 2011'!AH1 -> יקנעם עילית | AD20: ='נתוני 2011'!AI1 -> ירושלים | AE20: ='נתוני 2011'!AJ1 -> כפר סבא | ... AG20: ='נתוני 2011'!AL1 -> כרמיאל | AH20: ='נתוני 2011'!AN1 -> מגדל העמק | AI20: ='נתוני 2011'!AO1 -> מודיעין עילית | AJ20: ='נתוני 2011'!AP1 -> מודיעין-מכבים-רעות* | AK20: ='נתוני 2011'!AQ1 -> מעלה אדומים | AL20: ='נתוני 2011'!AR1 -> מעלות-תרשיחא | AM20: ='נתוני 2011'!AS1 -> נהרייה | AN20: ='נתוני 2011'!AT1 -> נס ציונה | AO20: ='נתוני 2011'!AU1 -> נצרת | ... AV20: ='נתוני 2011'!BB1 -> עפולה | AW20: ='נתוני 2011'!BD1 -> פתח תקווה | AX20: ='נתוני 2011'!BE1 -> צפת | AY20: ='נתוני 2011'!BF1 -> קלנסווה | AZ20: ='נתוני 2011'!BG1 -> קריית אונו | BA20: ='נתוני 2011'!BH1 -> קריית אתא | BB20: ='נתוני 2011'!BI1 -> קריית ביאליק | BC20: ='נתוני 2011'!BJ1 -> קריית גת | BD20: ='נתוני 2011'!BK1 -> קריית ים | ... BR20: ='נתוני 2011'!BY1 -> תל אביב -יפו
A21: ='נתוני 2011'!B5 -> מספר חברי מועצה 2013 | B21: ='נתוני 2011'!C5 -> 17 | C21: ='נתוני 2011'!E5 -> 15 | D21: ='נתוני 2011'!F5 -> 13 | E21: ='נתוני 2011'!G5 -> 17 | F21: ='נתוני 2011'!H5 -> 15 | G21: ='נתוני 2011'!I5 -> 13 | H21: ='נתוני 2011'!J5 -> 27 | I21: ='נתוני 2011'!K5 -> 23 | J21: ='נתוני 2011'!M5 -> 27 | K21: ='נתוני 2011'!N5 -> 13 | L21: ='נתוני 2011'!O5 -> 19 | M21: ='נתוני 2011'!Q5 -> 25 | N21: ='נתוני 2011'!R5 -> 25 | O21: ='נתוני 2011'!S5 -> 13 | P21: ='נתוני 2011'!T5 -> 17 | Q21: ='נתוני 2011'!U5 -> 15 | R21: ='נתוני 2011'!V5 -> 17 | S21: ='נתוני 2011'!W5 -> 19 | T21: ='נתוני 2011'!X5 -> 19 | ... W21: ='נתוני 2011'!AA5 -> 15 | X21: ='נתוני 2011'!AC5 -> 11 | Y21: ='נתוני 2011'!AD5 -> 13 | Z21: ='נתוני 2011'!AE5 -> 15 | AA21: ='נתוני 2011'!AF5 -> 15 | AB21: ='נתוני 2011'!AG5 -> 15 | AC21: ='נתוני 2011'!AH5 -> 13 | AD21: ='נתוני 2011'!AI5 -> 31 | AE21: ='נתוני 2011'!AJ5 -> 19 | ... AG21: ='נתוני 2011'!AL5 -> 17 | AH21: ='נתוני 2011'!AN5 -> 15 | AI21: ='נתוני 2011'!AO5 -> 17 | AJ21: ='נתוני 2011'!AP5 -> 19 | AK21: ='נתוני 2011'!AQ5 -> 15 | AL21: ='נתוני 2011'!AR5 -> 13 | AM21: ='נתוני 2011'!AS5 -> 17 | AN21: ='נתוני 2011'!AT5 -> 15 | AO21: ='נתוני 2011'!AU5 -> 19 | ... AV21: ='נתוני 2011'!BB5 -> 15 | AW21: ='נתוני 2011'!BD5 -> 27 | AX21: ='נתוני 2011'!BE5 -> 15 | AY21: ='נתוני 2011'!BF5 -> 13 | AZ21: ='נתוני 2011'!BG5 -> 15 | BA21: ='נתוני 2011'!BH5 -> 17 | BB21: ='נתוני 2011'!BI5 -> 15 | BC21: ='נתוני 2011'!BJ5 -> 17 | BD21: ='נתוני 2011'!BK5 -> 15 | ... BR21: ='נתוני 2011'!BY5 -> 31 | BS21: =SUM(B21:BR21) -> 1227
A22: ='נתוני 2011'!B6 -> מספר נשים במועצה 2013 | B22: ='נתוני 2011'!C6 -> 0 | C22: ='נתוני 2011'!E6 -> 6 | D22: ='נתוני 2011'!F6 -> 1 | E22: ='נתוני 2011'!G6 -> 3 | F22: ='נתוני 2011'!H6 -> 0 | G22: ='נתוני 2011'!I6 -> 4 | H22: ='נתוני 2011'!J6 -> 3 | I22: ='נתוני 2011'!K6 -> 4 | J22: ='נתוני 2011'!M6 -> 9 | K22: ='נתוני 2011'!N6 -> 1 | L22: ='נתוני 2011'!O6 -> 2 | M22: ='נתוני 2011'!Q6 -> 0 | N22: ='נתוני 2011'!R6 -> 6 | O22: ='נתוני 2011'!S6 -> 4 | P22: ='נתוני 2011'!T6 -> 8 | Q22: ='נתוני 2011'!U6 -> 3 | R22: ='נתוני 2011'!V6 -> 6 | S22: ='נתוני 2011'!W6 -> 4 | T22: ='נתוני 2011'!X6 -> 3 | ... W22: ='נתוני 2011'!AA6 -> 0 | X22: ='נתוני 2011'!AC6 -> 0 | Y22: ='נתוני 2011'!AD6 -> 1 | Z22: ='נתוני 2011'!AE6 -> 0 | AA22: ='נתוני 2011'!AF6 -> 1 | AB22: ='נתוני 2011'!AG6 -> 3 | AC22: ='נתוני 2011'!AH6 -> 2 | AD22: ='נתוני 2011'!AI6 -> 4 | AE22: ='נתוני 2011'!AJ6 -> 5 | ... AG22: ='נתוני 2011'!AL6 -> 6 | AH22: ='נתוני 2011'!AN6 -> 2 | AI22: ='נתוני 2011'!AO6 -> 0 | AJ22: ='נתוני 2011'!AP6 -> 5 | AK22: ='נתוני 2011'!AQ6 -> 0 | AL22: ='נתוני 2011'!AR6 -> 2 | AM22: ='נתוני 2011'!AS6 -> 3 | AN22: ='נתוני 2011'!AT6 -> 2 | AO22: ='נתוני 2011'!AU6 -> 0 | ... AV22: ='נתוני 2011'!BB6 -> 1 | AW22: ='נתוני 2011'!BD6 -> 1 | AX22: ='נתוני 2011'!BE6 -> 1 | AY22: ='נתוני 2011'!BF6 -> 0 | AZ22: ='נתוני 2011'!BG6 -> 3 | BA22: ='נתוני 2011'!BH6 -> 3 | BB22: ='נתוני 2011'!BI6 -> 5 | BC22: ='נתוני 2011'!BJ6 -> 1 | BD22: ='נתוני 2011'!BK6 -> 3 | ... BR22: ='נתוני 2011'!BY6 -> 9 | BS22: =SUM(B22:BR22) -> 185
A23: ='נתוני 2011'!B7 -> אחוז נשים במועצה | B23: ='נתוני 2011'!C7 -> 0 | C23: ='נתוני 2011'!E7 -> 0.4 | D23: ='נתוני 2011'!F7 -> 0.076923077 | E23: ='נתוני 2011'!G7 -> 0.17647059 | F23: ='נתוני 2011'!H7 -> 0 | G23: ='נתוני 2011'!I7 -> 0.30769231 | H23: ='נתוני 2011'!J7 -> 0.11111111 | I23: ='נתוני 2011'!K7 -> 0.17391304 | J23: ='נתוני 2011'!M7 -> 0.33333333 | K23: ='נתוני 2011'!N7 -> 0.076923077 | L23: ='נתוני 2011'!O7 -> 0.10526316 | M23: ='נתוני 2011'!Q7 -> 0 | N23: ='נתוני 2011'!R7 -> 0.24 | O23: ='נתוני 2011'!S7 -> 0.30769231 | P23: ='נתוני 2011'!T7 -> 0.47058824 | Q23: ='נתוני 2011'!U7 -> 0.2 | R23: ='נתוני 2011'!V7 -> 0.35294118 | S23: ='נתוני 2011'!W7 -> 0.21052632 | T23: ='נתוני 2011'!X7 -> 0.15789474 | ... W23: ='נתוני 2011'!AA7 -> 0 | X23: ='נתוני 2011'!AC7 -> 0 | Y23: ='נתוני 2011'!AD7 -> 0.076923077 | Z23: ='נתוני 2011'!AE7 -> 0 | AA23: ='נתוני 2011'!AF7 -> 0.066666667 | AB23: ='נתוני 2011'!AG7 -> 0.2 | AC23: ='נתוני 2011'!AH7 -> 0.15384615 | AD23: ='נתוני 2011'!AI7 -> 0.12903226 | AE23: ='נתוני 2011'!AJ7 -> 0.26315789 | ... AG23: ='נתוני 2011'!AL7 -> 0.35294118 | AH23: ='נתוני 2011'!AN7 -> 0.13333333 | AI23: ='נתוני 2011'!AO7 -> 0 | AJ23: ='נתוני 2011'!AP7 -> 0.26315789 | AK23: ='נתוני 2011'!AQ7 -> 0 | AL23: ='נתוני 2011'!AR7 -> 0.15384615 | AM23: ='נתוני 2011'!AS7 -> 0.17647059 | AN23: ='נתוני 2011'!AT7 -> 0.13333333 | AO23: ='נתוני 2011'!AU7 -> 0 | ... AV23: ='נתוני 2011'!BB7 -> 0.066666667 | AW23: ='נתוני 2011'!BD7 -> 0.037037037 | AX23: ='נתוני 2011'!BE7 -> 0.066666667 | AY23: ='נתוני 2011'!BF7 -> 0 | AZ23: ='נתוני 2011'!BG7 -> 0.2 | BA23: ='נתוני 2011'!BH7 -> 0.17647059 | BB23: ='נתוני 2011'!BI7 -> 0.33333333 | BC23: ='נתוני 2011'!BJ7 -> 0.058823529 | BD23: ='נתוני 2011'!BK7 -> 0.2 | ... BR23: ='נתוני 2011'!BY7 -> 0.29032258 | BS23: =AVERAGE(B23:BR23) -> 0.14700856
A24: ='נתוני 2011'!B8 -> רמה חברתית-כלכלית (10 הגבוה ביותר) | B24: ='נתוני 2011'!C8 -> 2 | C24: ='נתוני 2011'!E8 -> 5 | D24: ='נתוני 2011'!F8 -> 4 | E24: ='נתוני 2011'!G8 -> 5 | F24: ='נתוני 2011'!H8 -> 2 | G24: ='נתוני 2011'!I8 -> 5 | H24: ='נתוני 2011'!J8 -> 5 | I24: ='נתוני 2011'!K8 -> 5 | J24: ='נתוני 2011'!M8 -> 5 | K24: ='נתוני 2011'!N8 -> 4 | L24: ='נתוני 2011'!O8 -> 3 | M24: ='נתוני 2011'!Q8 -> 3 | N24: ='נתוני 2011'!R8 -> 5 | O24: ='נתוני 2011'!S8 -> 8 | P24: ='נתוני 2011'!T8 -> 8 | Q24: ='נתוני 2011'!U8 -> 4 | R24: ='נתוני 2011'!V8 -> 8 | S24: ='נתוני 2011'!W8 -> 8 | T24: ='נתוני 2011'!X8 -> 5 | ... W24: ='נתוני 2011'!AA8 -> 4 | X24: ='נתוני 2011'!AC8 -> 3 | Y24: ='נתוני 2011'!AD8 -> 4 | Z24: ='נתוני 2011'!AE8 -> 3 | AA24: ='נתוני 2011'!AF8 -> 5 | AB24: ='נתוני 2011'!AG8 -> 7 | AC24: ='נתוני 2011'!AH8 -> 6 | AD24: ='נתוני 2011'!AI8 -> 4 | AE24: ='נתוני 2011'!AJ8 -> 8 | ... AG24: ='נתוני 2011'!AL8 -> 5 | AH24: ='נתוני 2011'!AN8 -> 5 | AI24: ='נתוני 2011'!AO8 -> 1 | AJ24: ='נתוני 2011'!AP8 -> 8 | AK24: ='נתוני 2011'!AQ8 -> 5 | AL24: ='נתוני 2011'!AR8 -> 5 | AM24: ='נתוני 2011'!AS8 -> 5 | AN24: ='נתוני 2011'!AT8 -> 7 | AO24: ='נתוני 2011'!AU8 -> 3 | ... AV24: ='נתוני 2011'!BB8 -> 5 | AW24: ='נתוני 2011'!BD8 -> 6 | AX24: ='נתוני 2011'!BE8 -> 4 | AY24: ='נתוני 2011'!BF8 -> 2 | AZ24: ='נתוני 2011'!BG8 -> 8 | BA24: ='נתוני 2011'!BH8 -> 5 | BB24: ='נתוני 2011'!BI8 -> 6 | BC24: ='נתוני 2011'!BJ8 -> 4 | BD24: ='נתוני 2011'!BK8 -> 5 | ... BR24: ='נתוני 2011'!BY8 -> 8
A26: פער | B26: =B21-B2 -> 1 | C26: =C21-C2 -> 0 | D26: =D21-D2 -> 0 | E26: =E21-E2 -> 0 | F26: =F21-F2 -> 0 | G26: =G21-G2 -> 2 | H26: =H21-H2 -> 0 | I26: =I21-I2 -> 2 | ... BR26: =BR21-BR2 -> 1
A28: גודל האוכלוסיה (אלפי נפש, 2013) | B28: =VLOOKUP(B20,'מספר חברי מועצה'!$B$2:$D$188,3) -> 50 | C28: =VLOOKUP(C20,'מספר חברי מועצה'!$B$2:$D$188,3) -> 36 | D28: =VLOOKUP(D20,'מספר חברי מועצה'!$B$2:$D$188,3) -> 19 | E28: =VLOOKUP(E20,'מספר חברי מועצה'!$B$2:$D$188,3) -> 61 | F28: =VLOOKUP(F20,'מספר חברי מועצה'!$B$2:$D$188,3) -> 41 | G28: =VLOOKUP(G20,'מספר חברי מועצה'!$B$2:$D$188,3) -> 18.5 | H28: =VLOOKUP(H20,'מספר חברי מועצה'!$B$2:$D$188,3) -> 240 | I28: =VLOOKUP(I20,'מספר חברי מועצה'!$B$2:$D$188,3) -> 132 | ... BR28: =VLOOKUP(BR20,'מספר חברי מועצה'!$B$2:$D$188,3) -> 500 | BS28: =SUM(B28:BR28) -> 6400.3
A29: יהודים (אחוז) | B29: =INDEX('נתוני 2011'!$B$1:$BY$35,MATCH('ריכוז ומחולל גרפים'!$A29,'נתוני 2011'!$B$1:$B$35,0),MATCH('ריכוז ומחולל גרפים'!B$20,'נתוני 2011'!$B$1:$BY$1,0)) -> - | C29: =INDEX('נתוני 2011'!$B$1:$BY$35,MATCH('ריכוז ומחולל גרפים'!$A29,'נתוני 2011'!$B$1:$B$35,0),MATCH('ריכוז ומחולל גרפים'!C$20,'נתוני 2011'!$B$1:$BY$1,0)) -> 98.2 | D29: =INDEX('נתוני 2011'!$B$1:$BY$35,MATCH('ריכוז ומחולל גרפים'!$A29,'נתוני 2011'!$B$1:$B$35,0),MATCH('ריכוז ומחולל גרפים'!D$20,'נתוני 2011'!$B$1:$BY$1,0)) -> 92.7 | E29: =INDEX('נתוני 2011'!$B$1:$BY$35,MATCH('ריכוז ומחולל גרפים'!$A29,'נתוני 2011'!$B$1:$B$35,0),MATCH('ריכוז ומחולל גרפים'!E$20,'נתוני 2011'!$B$1:$BY$1,0)) -> 84.9 | F29: =INDEX('נתוני 2011'!$B$1:$BY$35,MATCH('ריכוז ומחולל גרפים'!$A29,'נתוני 2011'!$B$1:$B$35,0),MATCH('ריכוז ומחולל גרפים'!F$20,'נתוני 2011'!$B$1:$BY$1,0)) -> 100 | G29: =INDEX('נתוני 2011'!$B$1:$BY$35,MATCH('ריכוז ומחולל גרפים'!$A29,'נתוני 2011'!$B$1:$B$35,0),MATCH('ריכוז ומחולל גרפים'!G$20,'נתוני 2011'!$B$1:$BY$1,0)) -> 81.5 | H29: =INDEX('נתוני 2011'!$B$1:$BY$35,MATCH('ריכוז ומחולל גרפים'!$A29,'נתוני 2011'!$B$1:$B$35,0),MATCH('ריכוז ומחולל גרפים'!H$20,'נתוני 2011'!$B$1:$BY$1,0)) -> 91.1 | I29: =INDEX('נתוני 2011'!$B$1:$BY$35,MATCH('ריכוז ומחולל גרפים'!$A29,'נתוני 2011'!$B$1:$B$35,0),MATCH('ריכוז ומחולל גרפים'!I$20,'נתוני 2011'!$B$1:$BY$1,0)) -> 89.3 | ... BR29: =INDEX('נתוני 2011'!$B$1:$BY$35,MATCH('ריכוז ומחולל גרפים'!$A29,'נתוני 2011'!$B$1:$B$35,0),MATCH('ריכוז ומחולל גרפים'!BR$20,'נתוני 2011'!$B$1:$BY$1,0)) -> 91.6
A30: ערבים (אחוז) | B30: =INDEX('נתוני 2011'!$B$1:$BY$35,MATCH('ריכוז ומחולל גרפים'!$A30,'נתוני 2011'!$B$1:$B$35,0),MATCH('ריכוז ומחולל גרפים'!B$20,'נתוני 2011'!$B$1:$BY$1,0)) -> 100 | C30: =INDEX('נתוני 2011'!$B$1:$BY$35,MATCH('ריכוז ומחולל גרפים'!$A30,'נתוני 2011'!$B$1:$B$35,0),MATCH('ריכוז ומחולל גרפים'!C$20,'נתוני 2011'!$B$1:$BY$1,0)) -> - | D30: =INDEX('נתוני 2011'!$B$1:$BY$35,MATCH('ריכוז ומחולל גרפים'!$A30,'נתוני 2011'!$B$1:$B$35,0),MATCH('ריכוז ומחולל גרפים'!D$20,'נתוני 2011'!$B$1:$BY$1,0)) -> - | E30: =INDEX('נתוני 2011'!$B$1:$BY$35,MATCH('ריכוז ומחולל גרפים'!$A30,'נתוני 2011'!$B$1:$B$35,0),MATCH('ריכוז ומחולל גרפים'!E$20,'נתוני 2011'!$B$1:$BY$1,0)) -> 4 | F30: =INDEX('נתוני 2011'!$B$1:$BY$35,MATCH('ריכוז ומחולל גרפים'!$A30,'נתוני 2011'!$B$1:$B$35,0),MATCH('ריכוז ומחולל גרפים'!F$20,'נתוני 2011'!$B$1:$BY$1,0)) -> - | G30: =INDEX('נתוני 2011'!$B$1:$BY$35,MATCH('ריכוז ומחולל גרפים'!$A30,'נתוני 2011'!$B$1:$B$35,0),MATCH('ריכוז ומחולל גרפים'!G$20,'נתוני 2011'!$B$1:$BY$1,0)) -> - | H30: =INDEX('נתוני 2011'!$B$1:$BY$35,MATCH('ריכוז ומחולל גרפים'!$A30,'נתוני 2011'!$B$1:$B$35,0),MATCH('ריכוז ומחולל גרפים'!H$20,'נתוני 2011'!$B$1:$BY$1,0)) -> - | I30: =INDEX('נתוני 2011'!$B$1:$BY$35,MATCH('ריכוז ומחולל גרפים'!$A30,'נתוני 2011'!$B$1:$B$35,0),MATCH('ריכוז ומחולל גרפים'!I$20,'נתוני 2011'!$B$1:$BY$1,0)) -> - | ... BR30: =INDEX('נתוני 2011'!$B$1:$BY$35,MATCH('ריכוז ומחולל גרפים'!$A30,'נתוני 2011'!$B$1:$B$35,0),MATCH('ריכוז ומחולל גרפים'!BR$20,'נתוני 2011'!$B$1:$BY$1,0)) -> 4.1
A31: אחוז בעלי הצבעה שאינם בפנסיה | B31: =100-B33-B32 -> 52.533278 | C31: =100-C33-C32 -> 60.932637 | D31: =100-D33-D32 -> 61.269023 | E31: =100-E33-E32 -> 66.646662 | F31: =100-F33-F32 -> 38.033973 | G31: =100-G33-G32 -> 67.353913 | H31: =100-H33-H32 -> 55.961051 | I31: =100-I33-I32 -> 59.762921 | ... BR31: =100-BR33-BR32 -> 64.64756
A32: אחוז בני 65 ומעלה באוכלוסייה | B32: =INDEX('נתוני 2011'!$B$1:$BY$35,MATCH('ריכוז ומחולל גרפים'!$A32,'נתוני 2011'!$B$1:$B$35,0),MATCH('ריכוז ומחולל גרפים'!B$20,'נתוני 2011'!$B$1:$BY$1,0)) -> 3.6157259 | C32: =INDEX('נתוני 2011'!$B$1:$BY$35,MATCH('ריכוז ומחולל גרפים'!$A32,'נתוני 2011'!$B$1:$B$35,0),MATCH('ריכוז ומחולל גרפים'!C$20,'נתוני 2011'!$B$1:$BY$1,0)) -> 9.6147805 | D32: =INDEX('נתוני 2011'!$B$1:$BY$35,MATCH('ריכוז ומחולל גרפים'!$A32,'נתוני 2011'!$B$1:$B$35,0),MATCH('ריכוז ומחולל גרפים'!D$20,'נתוני 2011'!$B$1:$BY$1,0)) -> 11.684065 | E32: =INDEX('נתוני 2011'!$B$1:$BY$35,MATCH('ריכוז ומחולל גרפים'!$A32,'נתוני 2011'!$B$1:$B$35,0),MATCH('ריכוז ומחולל גרפים'!E$20,'נתוני 2011'!$B$1:$BY$1,0)) -> 6.9574536 | F32: =INDEX('נתוני 2011'!$B$1:$BY$35,MATCH('ריכוז ומחולל גרפים'!$A32,'נתוני 2011'!$B$1:$B$35,0),MATCH('ריכוז ומחולל גרפים'!F$20,'נתוני 2011'!$B$1:$BY$1,0)) -> 0.94984421 | G32: =INDEX('נתוני 2011'!$B$1:$BY$35,MATCH('ריכוז ומחולל גרפים'!$A32,'נתוני 2011'!$B$1:$B$35,0),MATCH('ריכוז ומחולל גרפים'!G$20,'נתוני 2011'!$B$1:$BY$1,0)) -> 8.8296263 | H32: =INDEX('נתוני 2011'!$B$1:$BY$35,MATCH('ריכוז ומחולל גרפים'!$A32,'נתוני 2011'!$B$1:$B$35,0),MATCH('ריכוז ומחולל גרפים'!H$20,'נתוני 2011'!$B$1:$BY$1,0)) -> 12.222651 | I32: =INDEX('נתוני 2011'!$B$1:$BY$35,MATCH('ריכוז ומחולל גרפים'!$A32,'נתוני 2011'!$B$1:$B$35,0),MATCH('ריכוז ומחולל גרפים'!I$20,'נתוני 2011'!$B$1:$BY$1,0)) -> 13.870509 | ... BR32: =INDEX('נתוני 2011'!$B$1:$BY$35,MATCH('ריכוז ומחולל גרפים'!$A32,'נתוני 2011'!$B$1:$B$35,0),MATCH('ריכוז ומחולל גרפים'!BR$20,'נתוני 2011'!$B$1:$BY$1,0)) -> 15.209883
A33: אחוז בני 17-0 באוכלוסייה | B33: =INDEX('נתוני 2011'!$B$1:$BY$35,MATCH('ריכוז ומחולל גרפים'!$A33,'נתוני 2011'!$B$1:$B$35,0),MATCH('ריכוז ומחולל גרפים'!B$20,'נתוני 2011'!$B$1:$BY$1,0)) -> 43.850996 | C33: =INDEX('נתוני 2011'!$B$1:$BY$35,MATCH('ריכוז ומחולל גרפים'!$A33,'נתוני 2011'!$B$1:$B$35,0),MATCH('ריכוז ומחולל גרפים'!C$20,'נתוני 2011'!$B$1:$BY$1,0)) -> 29.452583 | D33: =INDEX('נתוני 2011'!$B$1:$BY$35,MATCH('ריכוז ומחולל גרפים'!$A33,'נתוני 2011'!$B$1:$B$35,0),MATCH('ריכוז ומחולל גרפים'!D$20,'נתוני 2011'!$B$1:$BY$1,0)) -> 27.046912 | E33: =INDEX('נתוני 2011'!$B$1:$BY$35,MATCH('ריכוז ומחולל גרפים'!$A33,'נתוני 2011'!$B$1:$B$35,0),MATCH('ריכוז ומחולל גרפים'!E$20,'נתוני 2011'!$B$1:$BY$1,0)) -> 26.395885 | F33: =INDEX('נתוני 2011'!$B$1:$BY$35,MATCH('ריכוז ומחולל גרפים'!$A33,'נתוני 2011'!$B$1:$B$35,0),MATCH('ריכוז ומחולל גרפים'!F$20,'נתוני 2011'!$B$1:$BY$1,0)) -> 61.016183 | G33: =INDEX('נתוני 2011'!$B$1:$BY$35,MATCH('ריכוז ומחולל גרפים'!$A33,'נתוני 2011'!$B$1:$B$35,0),MATCH('ריכוז ומחולל גרפים'!G$20,'נתוני 2011'!$B$1:$BY$1,0)) -> 23.81646 | H33: =INDEX('נתוני 2011'!$B$1:$BY$35,MATCH('ריכוז ומחולל גרפים'!$A33,'נתוני 2011'!$B$1:$B$35,0),MATCH('ריכוז ומחולל גרפים'!H$20,'נתוני 2011'!$B$1:$BY$1,0)) -> 31.816297 | I33: =INDEX('נתוני 2011'!$B$1:$BY$35,MATCH('ריכוז ומחולל גרפים'!$A33,'נתוני 2011'!$B$1:$B$35,0),MATCH('ריכוז ומחולל גרפים'!I$20,'נתוני 2011'!$B$1:$BY$1,0)) -> 26.36657 | ... BR33: =INDEX('נתוני 2011'!$B$1:$BY$35,MATCH('ריכוז ומחולל גרפים'!$A33,'נתוני 2011'!$B$1:$B$35,0),MATCH('ריכוז ומחולל גרפים'!BR$20,'נתוני 2011'!$B$1:$BY$1,0)) -> 20.142557
A34: אחוז בני 75 ומעלה באוכלוסייה | B34: =INDEX('נתוני 2011'!$B$1:$BY$35,MATCH('ריכוז ומחולל גרפים'!$A34,'נתוני 2011'!$B$1:$B$35,0),MATCH('ריכוז ומחולל גרפים'!B$20,'נתוני 2011'!$B$1:$BY$1,0)) -> 1.1226912 | C34: =INDEX('נתוני 2011'!$B$1:$BY$35,MATCH('ריכוז ומחולל גרפים'!$A34,'נתוני 2011'!$B$1:$B$35,0),MATCH('ריכוז ומחולל גרפים'!C$20,'נתוני 2011'!$B$1:$BY$1,0)) -> 4.3405009 | D34: =INDEX('נתוני 2011'!$B$1:$BY$35,MATCH('ריכוז ומחולל גרפים'!$A34,'נתוני 2011'!$B$1:$B$35,0),MATCH('ריכוז ומחולל גרפים'!D$20,'נתוני 2011'!$B$1:$BY$1,0)) -> 5.144007 | E34: =INDEX('נתוני 2011'!$B$1:$BY$35,MATCH('ריכוז ומחולל גרפים'!$A34,'נתוני 2011'!$B$1:$B$35,0),MATCH('ריכוז ומחולל גרפים'!E$20,'נתוני 2011'!$B$1:$BY$1,0)) -> 2.2998607 | F34: =INDEX('נתוני 2011'!$B$1:$BY$35,MATCH('ריכוז ומחולל גרפים'!$A34,'נתוני 2011'!$B$1:$B$35,0),MATCH('ריכוז ומחולל גרפים'!F$20,'נתוני 2011'!$B$1:$BY$1,0)) -> 0.30405066 | G34: =INDEX('נתוני 2011'!$B$1:$BY$35,MATCH('ריכוז ומחולל גרפים'!$A34,'נתוני 2011'!$B$1:$B$35,0),MATCH('ריכוז ומחולל גרפים'!G$20,'נתוני 2011'!$B$1:$BY$1,0)) -> 3.6024427 | H34: =INDEX('נתוני 2011'!$B$1:$BY$35,MATCH('ריכוז ומחולל גרפים'!$A34,'נתוני 2011'!$B$1:$B$35,0),MATCH('ריכוז ומחולל גרפים'!H$20,'נתוני 2011'!$B$1:$BY$1,0)) -> 5.4899707 | I34: =INDEX('נתוני 2011'!$B$1:$BY$35,MATCH('ריכוז ומחולל גרפים'!$A34,'נתוני 2011'!$B$1:$B$35,0),MATCH('ריכוז ומחולל גרפים'!I$20,'נתוני 2011'!$B$1:$BY$1,0)) -> 6.4617769 | ... BR34: =INDEX('נתוני 2011'!$B$1:$BY$35,MATCH('ריכוז ומחולל גרפים'!$A34,'נתוני 2011'!$B$1:$B$35,0),MATCH('ריכוז ומחולל גרפים'!BR$20,'נתוני 2011'!$B$1:$BY$1,0)) -> 8.2609018
A35: אחוז עולי 1990+ מסך האוכלוסייה | B35: =INDEX('נתוני 2011'!$B$1:$BY$35,MATCH('ריכוז ומחולל גרפים'!$A35,'נתוני 2011'!$B$1:$B$35,0),MATCH('ריכוז ומחולל גרפים'!B$20,'נתוני 2011'!$B$1:$BY$1,0)) -> 0 | C35: =INDEX('נתוני 2011'!$B$1:$BY$35,MATCH('ריכוז ומחולל גרפים'!$A35,'נתוני 2011'!$B$1:$B$35,0),MATCH('ריכוז ומחולל גרפים'!C$20,'נתוני 2011'!$B$1:$BY$1,0)) -> 14 | D35: =INDEX('נתוני 2011'!$B$1:$BY$35,MATCH('ריכוז ומחולל גרפים'!$A35,'נתוני 2011'!$B$1:$B$35,0),MATCH('ריכוז ומחולל גרפים'!D$20,'נתוני 2011'!$B$1:$BY$1,0)) -> 33.8 | E35: =INDEX('נתוני 2011'!$B$1:$BY$35,MATCH('ריכוז ומחולל גרפים'!$A35,'נתוני 2011'!$B$1:$B$35,0),MATCH('ריכוז ומחולל גרפים'!E$20,'נתוני 2011'!$B$1:$BY$1,0)) -> 19.4 | F35: =INDEX('נתוני 2011'!$B$1:$BY$35,MATCH('ריכוז ומחולל גרפים'!$A35,'נתוני 2011'!$B$1:$B$35,0),MATCH('ריכוז ומחולל גרפים'!F$20,'נתוני 2011'!$B$1:$BY$1,0)) -> 3.1 | G35: =INDEX('נתוני 2011'!$B$1:$BY$35,MATCH('ריכוז ומחולל גרפים'!$A35,'נתוני 2011'!$B$1:$B$35,0),MATCH('ריכוז ומחולל גרפים'!G$20,'נתוני 2011'!$B$1:$BY$1,0)) -> 39.2 | H35: =INDEX('נתוני 2011'!$B$1:$BY$35,MATCH('ריכוז ומחולל גרפים'!$A35,'נתוני 2011'!$B$1:$B$35,0),MATCH('ריכוז ומחולל גרפים'!H$20,'נתוני 2011'!$B$1:$BY$1,0)) -> 31.1 | I35: =INDEX('נתוני 2011'!$B$1:$BY$35,MATCH('ריכוז ומחולל גרפים'!$A35,'נתוני 2011'!$B$1:$B$35,0),MATCH('ריכוז ומחולל גרפים'!I$20,'נתוני 2011'!$B$1:$BY$1,0)) -> 30.8 | ... BR35: =INDEX('נתוני 2011'!$B$1:$BY$35,MATCH('ריכוז ומחולל גרפים'!$A35,'נתוני 2011'!$B$1:$B$35,0),MATCH('ריכוז ומחולל גרפים'!BR$20,'נתוני 2011'!$B$1:$BY$1,0)) -> 12.3
A36: אחוז עולים בני 17-0 בהשתקעות ראשונה | B36: =INDEX('נתוני 2011'!$B$1:$BY$35,MATCH('ריכוז ומחולל גרפים'!$A36,'נתוני 2011'!$B$1:$B$35,0),MATCH('ריכוז ומחולל גרפים'!B$20,'נתוני 2011'!$B$1:$BY$1,0)) -> - | C36: =INDEX('נתוני 2011'!$B$1:$BY$35,MATCH('ריכוז ומחולל גרפים'!$A36,'נתוני 2011'!$B$1:$B$35,0),MATCH('ריכוז ומחולל גרפים'!C$20,'נתוני 2011'!$B$1:$BY$1,0)) -> 18.2 | D36: =INDEX('נתוני 2011'!$B$1:$BY$35,MATCH('ריכוז ומחולל גרפים'!$A36,'נתוני 2011'!$B$1:$B$35,0),MATCH('ריכוז ומחולל גרפים'!D$20,'נתוני 2011'!$B$1:$BY$1,0)) -> 10 | E36: =INDEX('נתוני 2011'!$B$1:$BY$35,MATCH('ריכוז ומחולל גרפים'!$A36,'נתוני 2011'!$B$1:$B$35,0),MATCH('ריכוז ומחולל גרפים'!E$20,'נתוני 2011'!$B$1:$BY$1,0)) -> 19.5 | F36: =INDEX('נתוני 2011'!$B$1:$BY$35,MATCH('ריכוז ומחולל גרפים'!$A36,'נתוני 2011'!$B$1:$B$35,0),MATCH('ריכוז ומחולל גרפים'!F$20,'נתוני 2011'!$B$1:$BY$1,0)) -> - | G36: =INDEX('נתוני 2011'!$B$1:$BY$35,MATCH('ריכוז ומחולל גרפים'!$A36,'נתוני 2011'!$B$1:$B$35,0),MATCH('ריכוז ומחולל גרפים'!G$20,'נתוני 2011'!$B$1:$BY$1,0)) -> 9 | H36: =INDEX('נתוני 2011'!$B$1:$BY$35,MATCH('ריכוז ומחולל גרפים'!$A36,'נתוני 2011'!$B$1:$B$35,0),MATCH('ריכוז ומחולל גרפים'!H$20,'נתוני 2011'!$B$1:$BY$1,0)) -> 19.3 | I36: =INDEX('נתוני 2011'!$B$1:$BY$35,MATCH('ריכוז ומחולל גרפים'!$A36,'נתוני 2011'!$B$1:$B$35,0),MATCH('ריכוז ומחולל גרפים'!I$20,'נתוני 2011'!$B$1:$BY$1,0)) -> 31.4 | ... BR36: =INDEX('נתוני 2011'!$B$1:$BY$35,MATCH('ריכוז ומחולל גרפים'!$A36,'נתוני 2011'!$B$1:$B$35,0),MATCH('ריכוז ומחולל גרפים'!BR$20,'נתוני 2011'!$B$1:$BY$1,0)) -> 10.7
A37: אחוז עולים בני 44-18 בהשתקעות ראשונה | B37: =INDEX('נתוני 2011'!$B$1:$BY$35,MATCH('ריכוז ומחולל גרפים'!$A37,'נתוני 2011'!$B$1:$B$35,0),MATCH('ריכוז ומחולל גרפים'!B$20,'נתוני 2011'!$B$1:$BY$1,0)) -> - | C37: =INDEX('נתוני 2011'!$B$1:$BY$35,MATCH('ריכוז ומחולל גרפים'!$A37,'נתוני 2011'!$B$1:$B$35,0),MATCH('ריכוז ומחולל גרפים'!C$20,'נתוני 2011'!$B$1:$BY$1,0)) -> 36.4 | D37: =INDEX('נתוני 2011'!$B$1:$BY$35,MATCH('ריכוז ומחולל גרפים'!$A37,'נתוני 2011'!$B$1:$B$35,0),MATCH('ריכוז ומחולל גרפים'!D$20,'נתוני 2011'!$B$1:$BY$1,0)) -> 35 | E37: =INDEX('נתוני 2011'!$B$1:$BY$35,MATCH('ריכוז ומחולל גרפים'!$A37,'נתוני 2011'!$B$1:$B$35,0),MATCH('ריכוז ומחולל גרפים'!E$20,'נתוני 2011'!$B$1:$BY$1,0)) -> 55.4 | F37: =INDEX('נתוני 2011'!$B$1:$BY$35,MATCH('ריכוז ומחולל גרפים'!$A37,'נתוני 2011'!$B$1:$B$35,0),MATCH('ריכוז ומחולל גרפים'!F$20,'נתוני 2011'!$B$1:$BY$1,0)) -> 61.1 | G37: =INDEX('נתוני 2011'!$B$1:$BY$35,MATCH('ריכוז ומחולל גרפים'!$A37,'נתוני 2011'!$B$1:$B$35,0),MATCH('ריכוז ומחולל גרפים'!G$20,'נתוני 2011'!$B$1:$BY$1,0)) -> 65.7 | H37: =INDEX('נתוני 2011'!$B$1:$BY$35,MATCH('ריכוז ומחולל גרפים'!$A37,'נתוני 2011'!$B$1:$B$35,0),MATCH('ריכוז ומחולל גרפים'!H$20,'נתוני 2011'!$B$1:$BY$1,0)) -> 38.3 | I37: =INDEX('נתוני 2011'!$B$1:$BY$35,MATCH('ריכוז ומחולל גרפים'!$A37,'נתוני 2011'!$B$1:$B$35,0),MATCH('ריכוז ומחולל גרפים'!I$20,'נתוני 2011'!$B$1:$BY$1,0)) -> 39 | ... BR37: =INDEX('נתוני 2011'!$B$1:$BY$35,MATCH('ריכוז ומחולל גרפים'!$A37,'נתוני 2011'!$B$1:$B$35,0),MATCH('ריכוז ומחולל גרפים'!BR$20,'נתוני 2011'!$B$1:$BY$1,0)) -> 56.4
A38: אחוז עולים בני 64-45 בהשתקעות ראשונה | B38: =INDEX('נתוני 2011'!$B$1:$BY$35,MATCH('ריכוז ומחולל גרפים'!$A38,'נתוני 2011'!$B$1:$B$35,0),MATCH('ריכוז ומחולל גרפים'!B$20,'נתוני 2011'!$B$1:$BY$1,0)) -> - | C38: =INDEX('נתוני 2011'!$B$1:$BY$35,MATCH('ריכוז ומחולל גרפים'!$A38,'נתוני 2011'!$B$1:$B$35,0),MATCH('ריכוז ומחולל גרפים'!C$20,'נתוני 2011'!$B$1:$BY$1,0)) -> 45.5 | D38: =INDEX('נתוני 2011'!$B$1:$BY$35,MATCH('ריכוז ומחולל גרפים'!$A38,'נתוני 2011'!$B$1:$B$35,0),MATCH('ריכוז ומחולל גרפים'!D$20,'נתוני 2011'!$B$1:$BY$1,0)) -> 20 | E38: =INDEX('נתוני 2011'!$B$1:$BY$35,MATCH('ריכוז ומחולל גרפים'!$A38,'נתוני 2011'!$B$1:$B$35,0),MATCH('ריכוז ומחולל גרפים'!E$20,'נתוני 2011'!$B$1:$BY$1,0)) -> 19.9 | F38: =INDEX('נתוני 2011'!$B$1:$BY$35,MATCH('ריכוז ומחולל גרפים'!$A38,'נתוני 2011'!$B$1:$B$35,0),MATCH('ריכוז ומחולל גרפים'!F$20,'נתוני 2011'!$B$1:$BY$1,0)) -> 5.6 | G38: =INDEX('נתוני 2011'!$B$1:$BY$35,MATCH('ריכוז ומחולל גרפים'!$A38,'נתוני 2011'!$B$1:$B$35,0),MATCH('ריכוז ומחולל גרפים'!G$20,'נתוני 2011'!$B$1:$BY$1,0)) -> 14.9 | H38: =INDEX('נתוני 2011'!$B$1:$BY$35,MATCH('ריכוז ומחולל גרפים'!$A38,'נתוני 2011'!$B$1:$B$35,0),MATCH('ריכוז ומחולל גרפים'!H$20,'נתוני 2011'!$B$1:$BY$1,0)) -> 28 | I38: =INDEX('נתוני 2011'!$B$1:$BY$35,MATCH('ריכוז ומחולל גרפים'!$A38,'נתוני 2011'!$B$1:$B$35,0),MATCH('ריכוז ומחולל גרפים'!I$20,'נתוני 2011'!$B$1:$BY$1,0)) -> 17.7 | ... BR38: =INDEX('נתוני 2011'!$B$1:$BY$35,MATCH('ריכוז ומחולל גרפים'!$A38,'נתוני 2011'!$B$1:$B$35,0),MATCH('ריכוז ומחולל גרפים'!BR$20,'נתוני 2011'!$B$1:$BY$1,0)) -> 20.6
A39: אחוז עולים בני 65 ומעלה בהשתקעות ראשונה | B39: =INDEX('נתוני 2011'!$B$1:$BY$35,MATCH('ריכוז ומחולל גרפים'!$A39,'נתוני 2011'!$B$1:$B$35,0),MATCH('ריכוז ומחולל גרפים'!B$20,'נתוני 2011'!$B$1:$BY$1,0)) -> - | C39: =INDEX('נתוני 2011'!$B$1:$BY$35,MATCH('ריכוז ומחולל גרפים'!$A39,'נתוני 2011'!$B$1:$B$35,0),MATCH('ריכוז ומחולל גרפים'!C$20,'נתוני 2011'!$B$1:$BY$1,0)) -> - | D39: =INDEX('נתוני 2011'!$B$1:$BY$35,MATCH('ריכוז ומחולל גרפים'!$A39,'נתוני 2011'!$B$1:$B$35,0),MATCH('ריכוז ומחולל גרפים'!D$20,'נתוני 2011'!$B$1:$BY$1,0)) -> 35 | E39: =INDEX('נתוני 2011'!$B$1:$BY$35,MATCH('ריכוז ומחולל גרפים'!$A39,'נתוני 2011'!$B$1:$B$35,0),MATCH('ריכוז ומחולל גרפים'!E$20,'נתוני 2011'!$B$1:$BY$1,0)) -> 5.2 | F39: =INDEX('נתוני 2011'!$B$1:$BY$35,MATCH('ריכוז ומחולל גרפים'!$A39,'נתוני 2011'!$B$1:$B$35,0),MATCH('ריכוז ומחולל גרפים'!F$20,'נתוני 2011'!$B$1:$BY$1,0)) -> 33.3 | G39: =INDEX('נתוני 2011'!$B$1:$BY$35,MATCH('ריכוז ומחולל גרפים'!$A39,'נתוני 2011'!$B$1:$B$35,0),MATCH('ריכוז ומחולל גרפים'!G$20,'נתוני 2011'!$B$1:$BY$1,0)) -> 10.4 | H39: =INDEX('נתוני 2011'!$B$1:$BY$35,MATCH('ריכוז ומחולל גרפים'!$A39,'נתוני 2011'!$B$1:$B$35,0),MATCH('ריכוז ומחולל גרפים'!H$20,'נתוני 2011'!$B$1:$BY$1,0)) -> 14.4 | I39: =INDEX('נתוני 2011'!$B$1:$BY$35,MATCH('ריכוז ומחולל גרפים'!$A39,'נתוני 2011'!$B$1:$B$35,0),MATCH('ריכוז ומחולל גרפים'!I$20,'נתוני 2011'!$B$1:$BY$1,0)) -> 11.8 | ... BR39: =INDEX('נתוני 2011'!$B$1:$BY$35,MATCH('ריכוז ומחולל גרפים'!$A39,'נתוני 2011'!$B$1:$B$35,0),MATCH('ריכוז ומחולל גרפים'!BR$20,'נתוני 2011'!$B$1:$BY$1,0)) -> 12.3
A41: אשכול סוציואקונומי | B41: 1 | C41: 2 | D41: 3 | E41: 4 | F41: 5 | G41: 6 | H41: 7 | I41: 8 | J41: 9
A42: 2008 | B42: =SUMIF($B$5:$BR$5,B41,$B$3:$BR$3)/SUMIF($B$5:$BR$5,B41,$B$2:$BR$2) -> 0 | C42: =SUMIF($B$5:$BR$5,C41,$B$3:$BR$3)/SUMIF($B$5:$BR$5,C41,$B$2:$BR$2) -> 0 | D42: =SUMIF($B$5:$BR$5,D41,$B$3:$BR$3)/SUMIF($B$5:$BR$5,D41,$B$2:$BR$2) -> 0.022988506 | E42: =SUMIF($B$5:$BR$5,E41,$B$3:$BR$3)/SUMIF($B$5:$BR$5,E41,$B$2:$BR$2) -> 0.10638298 | F42: =SUMIF($B$5:$BR$5,F41,$B$3:$BR$3)/SUMIF($B$5:$BR$5,F41,$B$2:$BR$2) -> 0.10288066 | G42: =SUMIF($B$5:$BR$5,G41,$B$3:$BR$3)/SUMIF($B$5:$BR$5,G41,$B$2:$BR$2) -> 0.15412186 | H42: =SUMIF($B$5:$BR$5,H41,$B$3:$BR$3)/SUMIF($B$5:$BR$5,H41,$B$2:$BR$2) -> 0.13815789 | I42: =SUMIF($B$5:$BR$5,I41,$B$3:$BR$3)/SUMIF($B$5:$BR$5,I41,$B$2:$BR$2) -> 0.20289855 | J42: =SUMIF($B$5:$BR$5,J41,$B$3:$BR$3)/SUMIF($B$5:$BR$5,J41,$B$2:$BR$2) -> 0.19148936
A43: 2013 | B43: =SUMIF($B$24:$BR$24,B41,$B$22:$BR$22)/SUMIF($B$24:$BR$24,B41,$B$21:$BR$21) -> 0 | C43: =SUMIF($B$24:$BR$24,C41,$B$22:$BR$22)/SUMIF($B$24:$BR$24,C41,$B$21:$BR$21) -> 0 | D43: =SUMIF($B$24:$BR$24,D41,$B$22:$BR$22)/SUMIF($B$24:$BR$24,D41,$B$21:$BR$21) -> 0.022727273 | E43: =SUMIF($B$24:$BR$24,E41,$B$22:$BR$22)/SUMIF($B$24:$BR$24,E41,$B$21:$BR$21) -> 0.09375 | F43: =SUMIF($B$24:$BR$24,F41,$B$22:$BR$22)/SUMIF($B$24:$BR$24,F41,$B$21:$BR$21) -> 0.19148936 | G43: =SUMIF($B$24:$BR$24,G41,$B$22:$BR$22)/SUMIF($B$24:$BR$24,G41,$B$21:$BR$21) -> 0.11678832 | H43: =SUMIF($B$24:$BR$24,H41,$B$22:$BR$22)/SUMIF($B$24:$BR$24,H41,$B$21:$BR$21) -> 0.19191919 | I43: =SUMIF($B$24:$BR$24,I41,$B$22:$BR$22)/SUMIF($B$24:$BR$24,I41,$B$21:$BR$21) -> 0.29585799 | J43: =SUMIF($B$24:$BR$24,J41,$B$22:$BR$22)/SUMIF($B$24:$BR$24,J41,$B$21:$BR$21) -> 0.33333333
A45: ישובים מעורבים | B45: "ללא ערבים" | C45: "ללא יהודים" | D45: מעורב _4%-40%)
A46: 2008 | B46: =SUMIF($B$9:$BR$9,"-",$B$3:$BR$3)/SUMIF($B$9:$BR$9,"-",$B$2:$BR$2) -> 0.12719298 | C46: =SUMIF($B$9:$BR$9,">90",$B$3:$BR$3)/SUMIF($B$9:$BR$9,">90",$B$2:$BR$2) -> 0 | D46: =(BS3-SUMIF($B$9:$BR$9,"-",$B$3:$BR$3)-SUMIF($B$9:$BR$9,">90",$B$3:$BR$3))/(BS2-SUMIF($B$9:$BR$9,"-",$B$2:$BR$2)-SUMIF($B$9:$BR$9,">90",$B$2:$BR$2)) -> 0.17307692
A47: 2013 | B47: =SUMIF($B$30:$BR$30,"-",$B$22:$BR$22)/SUMIF($B$30:$BR$30,"-",$B$21:$BR$21) -> 0.16557734 | C47: =SUMIF($B$30:$BR$30,">90",$B$22:$BR$22)/SUMIF($B$30:$BR$30,">90",$B$21:$BR$21) -> 0 | D47: =(B22-SUMIF($B$30:$BR$30,"-",$B$22:$BR$22)-SUMIF($B$30:$BR$30,">90",$B$22:$BR$22))/(B21-SUMIF($B$30:$BR$30,"-",$B$21:$BR$21)-SUMIF($B$30:$BR$30,">90",$B$21:$BR$21)) -> 0.14671815
A49: גיל הבוחרים | B49: אוכלוסיה מבוגרת (מעל 15% בני 65 ומעלה | C49: אוכלוסיה צעירה (מתחת ל-10% בני 65 ומעלה | D49: אוכלוסיה מעוטת ילדים (פחות מ-25% בני 17 ומטה) | E49: אוכלוסיה מרובת ילדים (מעל ל-40% בני 17 ומטה)
A50: 2008 | B50: =SUMIF($B$11:$BR$11,">15",$B$3:$BR$3)/SUMIF($B$11:$BR$11,">15",$B$2:$BR$2) -> 0.155 | C50: =SUMIF($B$11:$BR$11,"<10",$B$3:$BR$3)/SUMIF($B$11:$BR$11,"<10",$B$2:$BR$2) -> 0.085877863 | D50: =SUMIF($B$12:$BR$12,"<25",$B$3:$BR$3)/SUMIF($B$12:$BR$12,"<25",$B$2:$BR$2) -> 0.16541353 | E50: =SUMIF($B$12:$BR$12,">40",$B$3:$BR$3)/SUMIF($B$12:$BR$12,">40",$B$2:$BR$2) -> 0.041353383
A51: 2013 | B51: =SUMIF($B$32:$BR$32,">15",$B$22:$BR$22)/SUMIF($B$32:$BR$32,">15",$B$21:$BR$21) -> 0.24603175 | C51: =SUMIF($B$32:$BR$32,"<10",$B$22:$BR$22)/SUMIF($B$32:$BR$32,"<10",$B$21:$BR$21) -> 0.083682008 | D51: =SUMIF($B$33:$BR$33,"<25",$B$22:$BR$22)/SUMIF($B$33:$BR$33,"<25",$B$21:$BR$21) -> 0.23717949 | E51: =SUMIF($B$33:$BR$33,">40",$B$22:$BR$22)/SUMIF($B$33:$BR$33,">40",$B$21:$BR$21) -> 0.043243243
A53: אחוז עולים באוכלוסיה | B53: מיעוט עולים (פחות מ-10%) | C53: 10%-20% | D53: 20%-30% | E53: ריבוי עולים (מעל 30%)
A54: 2008 | B54: =SUMIF($B$14:$BR$14,"<10",$B$3:$BR$3)/SUMIF($B$14:$BR$14,"<10",$B$2:$BR$2) -> 0.081081081 | C54: =(SUMIF($B$14:$BR$14,"<20",$B$3:$BR$3)-SUMIF($B$14:$BR$14,"<10",$B$3:$BR$3))/(SUMIF($B$14:$BR$14,"<20",$B$2:$BR$2)-SUMIF($B$14:$BR$14,"<10",$B$2:$BR$2)) -> 0.13968254 | D54: =(SUMIF($B$14:$BR$14,">20",$B$3:$BR$3)-SUMIF($B$14:$BR$14,">30",$B$3:$BR$3))/(SUMIF($B$14:$BR$14,">20",$B$2:$BR$2)-SUMIF($B$14:$BR$14,">30",$B$2:$BR$2)) -> 0.14189189 | E54: =SUMIF($B$14:$BR$14,">30",$B$3:$BR$3)/SUMIF($B$14:$BR$14,">30",$B$2:$BR$2) -> 0.10160428
A55: 2013 | B55: =SUMIF($B$35:$BR$35,"<10",$B$22:$BR$22)/SUMIF($B$35:$BR$35,"<10",$B$21:$BR$21) -> 0.11405836 | C55: =(SUMIF($B$35:$BR$35,"<20",$B$22:$BR$22)-SUMIF($B$35:$BR$35,"<10",$B$22:$BR$22))/(SUMIF($B$35:$BR$35,"<20",$B$21:$BR$21)-SUMIF($B$35:$BR$35,"<10",$B$21:$BR$21)) -> 0.14666667 | D55: =(SUMIF($B$35:$BR$35,">20",$B$22:$BR$22)-SUMIF($B$35:$BR$35,">30",$B$22:$BR$22))/(SUMIF($B$35:$BR$35,">20",$B$21:$BR$21)-SUMIF($B$35:$BR$35,">30",$B$21:$BR$21)) -> 0.17721519 | E55: =SUMIF($B$35:$BR$35,">30",$B$22:$BR$22)/SUMIF($B$35:$BR$35,">30",$B$21:$BR$21) -> 0.20858896
A57: כלל הערים | B57: 2008 | C57: 2013
A58: גודל האוכלוסיה ברשויות שנבדקו (אלפים) | B58: =BS7 -> 5338.9 | C58: =BS28 -> 6400.3
A59: סה"כ חברי מועצה (גברים ונשים) | B59: =BS2 -> 1202 | C59: =BS21 -> 1227
A60: סה"כ נשים נבחרות | B60: =BS3 -> 143 | C60: =BS22 -> 185 | G60: 7700
A61: אחוז נשים במועצה | B61: =BS4 -> 0.11191182 | C61: =BS23 -> 0.14700856

Sheet נתוני 2008
B1: שם הרשות | C1: אום אל-פחם | D1: אור יהודה | E1: אור עקיבא | F1: אילת | G1: אלעד | H1: אריאל | I1: אשדוד | J1: אשקלון | K1: באר שבע | L1: בית שאן | M1: בית שמש | N1: בני ברק | O1: בת ים | P1: גבעת שמואל | Q1: גבעתיים | R1: דימונה | S1: הוד השרון | T1: הרצלייה | U1: חדרה | V1: חולון | W1: חיפה | X1: טבריה | Y1: טירה | Z1: טירת כרמל | AA1: טמרה | AB1: יבנה | AC1: יהוד | AD1: יקנעם עילית | AE1: ירושלים | AF1: כפר סבא | AG1: כפר קאסם | AH1: כרמיאל | AI1: מגדל העמק | AJ1: מודיעין עילית | AK1: מודיעין-מכבים-רעות* | AL1: מעלה אדומים | AM1: מעלות-תרשיחא | AN1: נהרייה | AO1: נס ציונה | AP1: נצרת | AQ1: נצרת עילית | AR1: נשר | AS1: נתיבות | AT1: נתניה | AU1: סח'נין | AV1: עכו | AW1: עפולה | AX1: פתח תקווה | AY1: צפת | AZ1: קלנסווה | BA1: קריית אונו | BB1: קריית אתא | BC1: קריית ביאליק | BD1: קריית גת | BE1: קריית ים | BF1: קריית מוצקין | BG1: קריית מלאכי | BH1: קריית שמונה | BI1: ראש העין | BJ1: ראשון לציון | BK1: רהט | BL1: רחובות | BM1: רמלה | BN1: רמת גן | BO1: רמת השרון | BP1: רעננה | BQ1: שדרות | BR1: שפרעם | BS1: תל אביב -יפו
C2: אום אל פחם | D2: אור יהודה | E2: אור עקיבא | F2: אילת | G2: אלעד | H2: אריאל | I2: אשדוד | J2: אשקלוןן | K2: באר שבע | L2: בית שאן | M2: בית שמש | N2: בני ברק | O2: בת ים | P2: גבעת שמואל | Q2: גבעתיים | R2: דימונה | S2: הוד השרון | T2: הרצליה | U2: חדרה | V2: חולון | W2: חיפה | X2: טבריה | Y2: טירה | Z2: טירת כרמל | AA2: טמרה | AB2: יבנה | AC2: יהוד-מונוסון | AD2: יקנעם עילית | AE2: ירושלים | AF2: כפר סבא | AG2: כפר קאסם | AH2: כרמיאל | AI2: מגדל העמק | AJ2: מודיעין עילית | AK2: מודיעין-מכבים-רעות | AL2: מעלה אדומים | AM2: מעלות-תרשיחא | AN2: נהריה | AO2: נס ציונה | AP2: נצרת | AQ2: נצרת עילית | AR2: נשר | AS2: נתיבות | AT2: נתניה | AU2: סח'נין | AV2: עכו | AW2: עפולה | AX2: פתח תקווה | AY2: צפת | AZ2: קלנסווה | BA2: קרית אונו | BB2: קרית אתא | BC2: קרית ביאליק | BD2: קרית גת | BE2: קרית ים | BF2: קרית מוצקין | BG2: קרית מלאכי | BH2: קרית שמונה | BI2: ראש העין | BJ2: ראשון לציון | BK2: רהט | BL2: רחובות | BM2: רמלה | BN2: רמת גן | BO2: רמת השרון | BP2: רעננה | BQ2: שדרות | BR2: שפרעם | BS2: תל אביב יפו
A3: כללי | B3: סמל הרשות | C3: 2710 | D3: 2400 | E3: 1020 | F3: 2600 | G3: 1309 | H3: 3570 | I3: 0070 | J3: 7100 | K3: 9000 | L3: 9200 | M3: 2610 | N3: 6100 | O3: 6200 | P3: 0681 | Q3: 6300 | R3: 2200 | S3: 9700 | T3: 6400 | U3: 6500 | V3: 6600 | W3: 4000 | X3: 6700 | Y3: 2720 | Z3: 2100 | AA3: 8900 | AB3: 2660 | AC3: 9400 | AD3: 0240 | AE3: 3000 | AF3: 6900 | AG3: 0634 | AH3: 1139 | AI3: 0874 | AJ3: 3797 | AK3: 1200 | AL3: 3616 | AM3: 1063 | AN3: 9100 | AO3: 7200 | AP3: 7300 | AQ3: 1061 | AR3: 2500 | AS3: 0246 | AT3: 7400 | AU3: 7500 | AV3: 7600 | AW3: 7700 | AX3: 7900 | AY3: 8000 | AZ3: 0638 | BA3: 2620 | BB3: 6800 | BC3: 9500 | BD3: 2630 | BE3: 9600 | BF3: 8200 | BG3: 1034 | BH3: 2800 | BI3: 2640 | BJ3: 8300 | BK3: 1161 | BL3: 8400 | BM3: 8500 | BN3: 8600 | BO3: 2650 | BP3: 8700 | BQ3: 1031 | BR3: 8800 | BS3: 5000
B4: מחוז | C4: חיפה | D4: תל אביב | E4: חיפה | F4: הדרום | G4: המרכז | H4: אזור יהודה והשומרון | I4: הדרום | J4: הדרום | K4: הדרום | L4: הצפון | M4: ירושלים | N4: תל אביב | O4: תל אביב | P4: המרכז | Q4: תל אביב | R4: הדרום | S4: המרכז | T4: תל אביב | U4: חיפה | V4: תל אביב | W4: חיפה | X4: הצפון | Y4: המרכז | Z4: חיפה | AA4: הצפון | AB4: המרכז | AC4: המרכז | AD4: הצפון | AE4: ירושלים | AF4: המרכז | AG4: המרכז | AH4: הצפון | AI4: הצפון | AJ4: אזור יהודה והשומרון | AK4: המרכז | AL4: אזור יהודה והשומרון | AM4: הצפון | AN4: הצפון | AO4: המרכז | AP4: הצפון | AQ4: הצפון | AR4: חיפה | AS4: הדרום | AT4: המרכז | AU4: הצפון | AV4: הצפון | AW4: הצפון | AX4: המרכז | AY4: הצפון | AZ4: המרכז | BA4: תל אביב | BB4: חיפה | BC4: חיפה | BD4: הדרום | BE4: חיפה | BF4: חיפה | BG4: הדרום | BH4: הצפון | BI4: המרכז | BJ4: המרכז | BK4: הדרום | BL4: המרכז | BM4: המרכז | BN4: תל אביב | BO4: תל אביב | BP4: המרכז | BQ4: הדרום | BR4: הצפון | BS4: תל אביב
B5: מספר חברי מועצה | C5: 16 | D5: 15 | E5: 13 | F5: 17 | G5: 15 | H5: 11 | I5: 27 | J5: 21 | K5: 25 | L5: 13 | M5: 17 | N5: 25 | O5: 25 | P5: 13 | Q5: 17 | R5: 15 | S5: 15 | T5: 19 | U5: 19 | V5: 25 | W5: 31 | X5: 15 | Y5: 14 | Z5: 13 | AA5: 17 | AB5: 15 | AC5: 15 | AD5: 13 | AE5: 31 | AF5: 19 | AG5: 11 | AH5: 17 | AI5: 15 | AJ5: 15 | AK5: 17 | AL5: 15 | AM5: 13 | AN5: 17 | AO5: 15 | AP5: 17 | AQ5: 17 | AR5: 15 | AS5: 12 | AT5: 27 | AU5: 16 | AV5: 17 | AW5: 15 | AX5: 25 | AY5: 15 | AZ5: 13 | BA5: 15 | BB5: 17 | BC5: 15 | BD5: 17 | BE5: 15 | BF5: 15 | BG5: 13 | BH5: 13 | BI5: 15 | BJ5: 27 | BK5: 15 | BL5: 21 | BM5: 17 | BN5: 25 | BO5: 15 | BP5: 19 | BQ5: 13 | BR5: 15 | BS5: 30 | BT5: =SUM(C5:BS5) -> 1202 | BU5: =BT6/BT5 -> 0.11896839
B6: מספר נשים במועצה | C6: =VLOOKUP(C2,'הצבעות 2008'!$A$2:$L$159,12,FALSE) -> 0 | D6: =VLOOKUP(D2,'הצבעות 2008'!$A$2:$L$159,12,FALSE) -> 2 | E6: =VLOOKUP(E2,'הצבעות 2008'!$A$2:$L$159,12,FALSE) -> 0 | F6: =VLOOKUP(F2,'הצבעות 2008'!$A$2:$L$159,12,FALSE) -> 3 | G6: =VLOOKUP(G2,'הצבעות 2008'!$A$2:$L$159,12,FALSE) -> 0 | H6: =VLOOKUP(H2,'הצבעות 2008'!$A$2:$L$159,12,FALSE) -> 1 | I6: =VLOOKUP(I2,'הצבעות 2008'!$A$2:$L$159,12,FALSE) -> 4 | J6: =VLOOKUP(J2,'הצבעות 2008'!$A$2:$L$159,12,FALSE) -> 1 | ... M6: =VLOOKUP(M2,'הצבעות 2008'!$A$2:$L$159,12,FALSE) -> 2 | N6: 0 | O6: =VLOOKUP(O2,'הצבעות 2008'!$A$2:$L$159,12,FALSE) -> 4 | P6: =VLOOKUP(P2,'הצבעות 2008'!$A$2:$L$159,12,FALSE) -> 1 | Q6: =VLOOKUP(Q2,'הצבעות 2008'!$A$2:$L$159,12,FALSE) -> 5 | R6: =VLOOKUP(R2,'הצבעות 2008'!$A$2:$L$159,12,FALSE) -> 1 | S6: =VLOOKUP(S2,'הצבעות 2008'!$A$2:$L$159,12,FALSE) -> 2 | T6: =VLOOKUP(T2,'הצבעות 2008'!$A$2:$L$159,12,FALSE) -> 5 | U6: =VLOOKUP(U2,'הצבעות 2008'!$A$2:$L$159,12,FALSE) -> 3 | V6: =VLOOKUP(V2,'הצבעות 2008'!$A$2:$L$159,12,FALSE) -> 3 | ... AI6: =VLOOKUP(AI2,'הצבעות 2008'!$A$2:$L$159,12,FALSE) -> 1 | AJ6: 0 | AK6: =VLOOKUP(AK2,'הצבעות 2008'!$A$2:$L$159,12,FALSE) -> 3 | AL6: =VLOOKUP(AL2,'הצבעות 2008'!$A$2:$L$159,12,FALSE) -> 2 | AM6: =VLOOKUP(AM2,'הצבעות 2008'!$A$2:$L$159,12,FALSE) -> 1 | AN6: =VLOOKUP(AN2,'הצבעות 2008'!$A$2:$L$159,12,FALSE) -> 3 | AO6: =VLOOKUP(AO2,'הצבעות 2008'!$A$2:$L$159,12,FALSE) -> 4 | AP6: =VLOOKUP(AP2,'הצבעות 2008'!$A$2:$L$159,12,FALSE) -> 0 | AQ6: =VLOOKUP(AQ2,'הצבעות 2008'!$A$2:$L$159,12,FALSE) -> 3 | AR6: =VLOOKUP(AR2,'הצבעות 2008'!$A$2:$L$159,12,FALSE) -> 0 | ... BS6: =VLOOKUP(BS2,'הצבעות 2008'!$A$2:$L$159,12,FALSE) -> 7 | BT6: =SUM(C6:BS6) -> 143
B7: אחוז נשים במועצה | C7: =C6/C5 -> 0 | D7: =D6/D5 -> 0.13333333 | E7: =E6/E5 -> 0 | F7: =F6/F5 -> 0.17647059 | G7: =G6/G5 -> 0 | H7: =H6/H5 -> 0.090909091 | I7: =I6/I5 -> 0.14814815 | J7: =J6/J5 -> 0.047619048 | ... BS7: =BS6/BS5 -> 0.23333333
B8: רמה חברתית-כלכלית (10 הגבוה ביותר) | C8: 2 | D8: 5 | E8: 5 | F8: 5 | G8: 2 | H8: 6 | I8: 5 | J8: 5 | K8: 5 | L8: 5 | M8: 3 | N8: 2 | O8: 6 | P8: 8 | Q8: 9 | R8: 4 | S8: 8 | T8: 8 | U8: 6 | V8: 6 | W8: 7 | X8: 5 | Y8: 4 | Z8: 5 | AA8: 3 | AB8: 6 | AC8: 7 | AD8: 6 | AE8: 4 | AF8: 7 | AG8: 3 | AH8: 6 | AI8: 5 | AJ8: 1 | AK8: 8 | AL8: 6 | AM8: 5 | AN8: 6 | AO8: 7 | AP8: 4 | AQ8: 6 | AR8: 7 | AS8: 3 | AT8: 6 | AU8: 2 | AV8: 4 | AW8: 5 | AX8: 6 | AY8: 3 | AZ8: 2 | BA8: 9 | BB8: 6 | BC8: 7 | BD8: 4 | BE8: 5 | BF8: 7 | BG8: 4 | BH8: 5 | BI8: 6 | BJ8: 7 | BK8: 1 | BL8: 6 | BM8: 4 | BN8: 8 | BO8: 9 | BP8: 8 | BQ8: 5 | BR8: 3 | BS8: 8
A9: קבוצת אוכלוסייה ודת | B9: סה"כ אוכלוסייה (אלפים) | C9: 44.5 | D9: 32.6 | E9: 15.9 | F9: 46.6 | G9: 33.8 | H9: 16.7 | I9: 209.2 | J9: 110.4 | K9: 187.2 | L9: 16.8 | M9: 76.1 | N9: 153.3 | O9: 128.9 | P9: 20.3 | Q9: 49.9 | R9: 33.7 | S9: 46.9 | T9: 84.4 | U9: 78.2 | V9: 170.6 | W9: 264.8 | X9: 39.8 | Y9: 21.9 | Z9: 18.8 | AA9: 27.9 | AB9: 32.4 | AC9: 26.3 | AD9: 18.7 | AE9: 763.6 | AF9: 82.9 | AG9: 18.5 | AH9: 44.7 | AI9: 24.8 | AJ9: 41.9 | AK9: 70.6 | AL9: 33.8 | AM9: 21.4 | AN9: 51.6 | AO9: 34.2 | AP9: 66.4 | AQ9: 42.7 | AR9: 21.4 | AS9: 26.3 | AT9: 179 | AU9: 25.6 | AV9: 46.3 | AW9: 39.7 | AX9: 193.9 | AY9: 28.6 | AZ9: 18.3 | BA9: 28.7 | BB9: 49.9 | BC9: 36.3 | BD9: 47.9 | BE9: 36.4 | BF9: 39.7 | BG9: 19.8 | BH9: 22.2 | BI9: 38.6 | BJ9: 226.1 | BK9: 43.9 | BL9: 108.3 | BM9: 65.5 | BN9: 134.3 | BO9: 38.5 | BP9: 73.2 | BQ9: 19.4 | BR9: 34.9 | BS9: 392.5 | BT9: =SUM(C9:BS9) -> 5338.9
B10: יהודים ואחרים (אחוז) | C10: - | D10: 99.9 | E10: 99.3 | F10: 98.3 | G10: 100 | H10: 99.8 | I10: 99.9 | J10: 99.5 | K10: 98.4 | L10: 99.4 | M10: 99.9 | N10: 100 | O10: 99.7 | P10: 99.9 | Q10: 100 | R10: 99.3 | S10: 99.9 | T10: 99.9 | U10: 99.2 | V10: 99.9 | W10: 89.8 | X10: 98.9 | Y10: - | Z10: 99.7 | AA10: - | AB10: 99.8 | AC10: 100 | AD10: 99.9 | AE10: 64.8 | AF10: 99.9 | AG10: - | AH10: 98.2 | AI10: 100 | AJ10: 100 | AK10: 100 | AL10: 100 | AM10: 77.8 | AN10: 97.6 | AO10: 99.8 | AP10: - | AQ10: 84.8 | AR10: 99.5 | AS10: 99.9 | AT10: 99.9 | AU10: - | AV10: 71.7 | AW10: 99.5 | AX10: 100 | AY10: 98 | AZ10: - | BA10: 99.9 | BB10: 99.8 | BC10: 99.9 | BD10: 100 | BE10: 99.9 | BF10: 99.9 | BG10: 99.8 | BH10: 97.2 | BI10: 99.9 | BJ10: 99.9 | BK10: - | BL10: 99.7 | BM10: 77 | BN10: 99.9 | BO10: 99.9 | BP10: 99.9 | BQ10: 99.4 | BR10: - | BS10: 95.6
B11: יהודים (אחוז) | C11: - | D11: 99.1 | E11: 91.5 | F11: 85.4 | G11: 100 | H11: 80.9 | I11: 91 | J11: 88.4 | K11: 87.9 | L11: 97.3 | M11: 98.6 | N11: 98.6 | O11: 84.9 | P11: 98.5 | Q11: 97.4 | R11: 89.4 | S11: 98.1 | T11: 96.3 | U11: 93 | V11: 92.8 | W11: 80.9 | X11: 91.3 | Y11: - | Z11: 96.9 | AA11: - | AB11: 97.6 | AC11: 98.5 | AD11: 92.8 | AE11: 63.4 | AF11: 96 | AG11: - | AH11: 85.9 | AI11: 92.3 | AJ11: 100 | AK11: 98.3 | AL11: 97.2 | AM11: 68 | AN11: 89.8 | AO11: 98.2 | AP11: - | AQ11: 72.4 | AR11: 90.8 | AS11: 95.8 | AT11: 93.4 | AU11: - | AV11: 66.4 | AW11: 91.8 | AX11: 92.5 | AY11: 85.8 | AZ11: - | BA11: 97.9 | BB11: 92.3 | BC11: 92.7 | BD11: 92.5 | BE11: 86.9 | BF11: 92.1 | BG11: 99.3 | BH11: 90.4 | BI11: 98.9 | BJ11: 93.9 | BK11: - | BL11: 94.8 | BM11: 73.4 | BN11: 95.2 | BO11: 98.9 | BP11: 97.9 | BQ11: 93.3 | BR11: - | BS11: 91.4
B12: ערבים (אחוז) | C12: 100 | D12: - | E12: - | F12: - | G12: - | H12: - | I12: - | J12: - | K12: - | L12: - | M12: - | N12: - | O12: - | P12: - | Q12: - | R12: - | S12: - | T12: - | U12: - | V12: - | W12: 10.2 | X12: - | Y12: 100 | Z12: - | AA12: 100 | AB12: - | AC12: - | AD12: - | AE12: 35.2 | AF12: - | AG12: 100 | AH12: - | AI12: - | AJ12: - | AK12: - | AL12: - | AM12: 22.2 | AN12: - | AO12: - | AP12: 100 | AQ12: 15.2 | AR12: - | AS12: - | AT12: - | AU12: 100 | AV12: 28.3 | AW12: - | AX12: - | AY12: - | AZ12: 100 | BA12: - | BB12: - | BC12: - | BD12: - | BE12: - | BF12: - | BG12: - | BH12: - | BI12: - | BJ12: - | BK12: 100 | BL12: - | BM12: 23 | BN12: - | BO12: - | BP12: - | BQ12: - | BR12: 100 | BS12: 4.4
B13: מוסלמים (אחוז) | C13: 100 | D13: - | E13: - | F13: - | G13: - | H13: - | I13: - | J13: - | K13: - | L13: - | M13: - | N13: - | O13: - | P13: - | Q13: - | R13: - | S13: - | T13: - | U13: - | V13: - | W13: 4.7 | X13: - | Y13: 99.9 | Z13: - | AA13: 99.8 | AB13: - | AC13: - | AD13: - | AE13: 33.5 | AF13: - | AG13: 100 | AH13: - | AI13: - | AJ13: - | AK13: - | AL13: - | AM13: 46.8 | AN13: - | AO13: - | AP13: 69.6 | AQ13: 28 | AR13: - | AS13: - | AT13: - | AU13: 94.2 | AV13: 90.9 | AW13: - | AX13: - | AY13: - | AZ13: 99.9 | BA13: - | BB13: - | BC13: - | BD13: - | BE13: - | BF13: - | BG13: - | BH13: - | BI13: - | BJ13: - | BK13: 99.8 | BL13: - | BM13: 80 | BN13: - | BO13: - | BP13: - | BQ13: - | BR13: 59.7 | BS13: 3.5
B14: נוצרים (אחוז) | C14: - | D14: - | E14: - | F14: - | G14: - | H14: - | I14: - | J14: - | K14: - | L14: - | M14: - | N14: - | O14: - | P14: - | Q14: - | R14: - | S14: - | T14: - | U14: - | V14: - | W14: 5.3 | X14: - | Y14: - | Z14: - | AA14: - | AB14: - | AC14: - | AD14: - | AE14: 1.7 | AF14: - | AG14: - | AH14: - | AI14: - | AJ14: - | AK14: - | AL14: - | AM14: 48 | AN14: - | AO14: - | AP14: 30.4 | AQ14: 71.6 | AR14: - | AS14: - | AT14: - | AU14: 5.6 | AV14: 8.5 | AW14: - | AX14: - | AY14: - | AZ14: - | BA14: - | BB14: - | BC14: - | BD14: - | BE14: - | BF14: - | BG14: - | BH14: - | BI14: - | BJ14: - | BK14: - | BL14: - | BM14: 19.7 | BN14: - | BO14: - | BP14: - | BQ14: - | BR14: 26.2 | BS14: 0.9
B15: דרוזים (אחוז) | C15: - | D15: - | E15: - | F15: - | G15: - | H15: - | I15: - | J15: - | K15: - | L15: - | M15: - | N15: - | O15: - | P15: - | Q15: - | R15: - | S15: - | T15: - | U15: - | V15: - | W15: 0.1 | X15: - | Y15: - | Z15: - | AA15: - | AB15: - | AC15: - | AD15: - | AE15: 0 | AF15: - | AG15: - | AH15: - | AI15: - | AJ15: - | AK15: - | AL15: - | AM15: 2.3 | AN15: - | AO15: - | AP15: 0 | AQ15: 0 | AR15: - | AS15: - | AT15: - | AU15: 0 | AV15: 0.6 | AW15: - | AX15: - | AY15: - | AZ15: - | BA15: - | BB15: - | BC15: - | BD15: - | BE15: - | BF15: - | BG15: - | BH15: - | BI15: - | BJ15: - | BK15: - | BL15: - | BM15: 0.2 | BN15: - | BO15: - | BP15: - | BQ15: - | BR15: 14.1 | BS15: 0
A16: דמוגרפיה | B16: סה"כ גברים (אלפים) | C16: 22.7 | D16: 16.2 | E16: 7.7 | F16: 23.5 | G16: 17 | H16: 8.1 | I16: 102.8 | J16: 53.9 | K16: 91 | L16: 8.5 | M16: 38.2 | N16: 77.1 | O16: 60.9 | P16: 10.1 | Q16: 23.3 | R16: 16.6 | S16: 22.8 | T16: 41.1 | U16: 38.3 | V16: 82.1 | W16: 127.2 | X16: 19.6 | Y16: 11.1 | Z16: 9.4 | AA16: 14.2 | AB16: 16.1 | AC16: 12.9 | AD16: 9.1 | AE16: 380.9 | AF16: 40.1 | AG16: 9.5 | AH16: 21.6 | AI16: 12.2 | AJ16: 21.3 | AK16: 35.2 | AL16: 16.7 | AM16: 10.7 | AN16: 25.1 | AO16: 16.8 | AP16: 33.2 | AQ16: 20.2 | AR16: 10.5 | AS16: 13.2 | AT16: 86.6 | AU16: 13.3 | AV16: 22.9 | AW16: 19.2 | AX16: 94.1 | AY16: 14.2 | AZ16: 9.4 | BA16: 13.9 | BB16: 24.2 | BC16: 17.5 | BD16: 23.5 | BE16: 17.3 | BF16: 18.7 | BG16: 10.1 | BH16: 11.1 | BI16: 19.3 | BJ16: 110.4 | BK16: 22.1 | BL16: 53 | BM16: 33.4 | BN16: 63.2 | BO16: 18.7 | BP16: 35.6 | BQ16: 9.7 | BR16: 17.5 | BS16: 189.9 | BT16: =SUM(C16:BS16) -> 2617.5 | BU16: =BT16/BT9 -> 0.49026953
B17: סה"כ נשים (אלפים) | C17: 21.8 | D17: 16.4 | E17: 8.2 | F17: 23.1 | G17: 16.8 | H17: 8.6 | I17: 106.4 | J17: 56.5 | K17: 96.2 | L17: 8.3 | M17: 37.9 | N17: 76.3 | O17: 68 | P17: 10.3 | Q17: 26.6 | R17: 17.1 | S17: 24.1 | T17: 43.3 | U17: 39.9 | V17: 88.6 | W17: 137.7 | X17: 20.2 | Y17: 10.9 | Z17: 9.4 | AA17: 13.7 | AB17: 16.3 | AC17: 13.4 | AD17: 9.5 | AE17: 382.7 | AF17: 42.8 | AG17: 9 | AH17: 23.1 | AI17: 12.6 | AJ17: 20.6 | AK17: 35.4 | AL17: 17.2 | AM17: 10.7 | AN17: 26.5 | AO17: 17.4 | AP17: 33.2 | AQ17: 22.5 | AR17: 10.9 | AS17: 13.1 | AT17: 92.4 | AU17: 12.3 | AV17: 23.4 | AW17: 20.5 | AX17: 99.9 | AY17: 14.4 | AZ17: 8.9 | BA17: 14.9 | BB17: 25.7 | BC17: 18.8 | BD17: 24.4 | BE17: 19.1 | BF17: 21 | BG17: 9.7 | BH17: 11.1 | BI17: 19.3 | BJ17: 115.7 | BK17: 21.8 | BL17: 55.4 | BM17: 32.1 | BN17: 71 | BO17: 19.8 | BP17: 37.6 | BQ17: 9.7 | BR17: 17.4 | BS17: 202.5 | BT17: =SUM(C17:BS17) -> 2722 | BU17: =BT17/BT9 -> 0.50984285
B18: יחס תלות (לאלף תושבים בלתי תלויים) | C18: 1160 | D18: 734 | E18: 709 | F18: 598 | G18: 1560 | H18: 617 | I18: 869 | J18: 775 | K18: 717 | L18: 773 | M18: 1364 | N18: 1372 | O18: 730 | P18: 825 | Q18: 693 | R18: 770 | S18: 721 | T18: 664 | U18: 732 | V18: 723 | W18: 740 | X18: 788 | Y18: 968 | Z18: 673 | AA18: 1025 | AB18: 660 | AC18: 708 | AD18: 786 | AE18: 1101 | AF18: 686 | AG18: 1192 | AH18: 681 | AI18: 813 | AJ18: 1719 | AK18: 876 | AL18: 837 | AM18: 761 | AN18: 748 | AO18: 721 | AP18: 1003 | AQ18: 704 | AR18: 620 | AS18: 1083 | AT18: 809 | AU18: 987 | AV18: 767 | AW18: 733 | AX18: 756 | AY18: 1135 | AZ18: 1171 | BA18: 743 | BB18: 695 | BC18: 658 | BD18: 788 | BE18: 697 | BF18: 691 | BG18: 812 | BH18: 670 | BI18: 782 | BJ18: 640 | BK18: 1903 | BL18: 769 | BM18: 784 | BN18: 690 | BO18: 784 | BP18: 694 | BQ18: 705 | BR18: 951 | BS18: 567
B19: אחוז בני 4-0 באוכלוסייה | C19: 13.4 | D19: 9.3 | E19: 7.8 | F19: 9.0 | G19: 26.5 | H19: 7.1 | I19: 9.4 | J19: 7.7 | K19: 8.1 | L19: 9.8 | M19: 18.1 | N19: 14.9 | O19: 6.5 | P19: 12.7 | Q19: 7.8 | R19: 8.4 | S19: 9.3 | T19: 7.1 | U19: 7.7 | V19: 7.5 | W19: 6.4 | X19: 9.0 | Y19: 10.5 | Z19: 7.4 | AA19: 12.3 | AB19: 8.0 | AC19: 8.6 | AD19: 9.8 | AE19: 12.5 | AF19: 7.8 | AG19: 13.0 | AH19: 7.3 | AI19: 7.6 | AJ19: 28.1 | AK19: 13.4 | AL19: 10.5 | AM19: 8.0 | AN19: 8.8 | AO19: 9.9 | AP19: 10.8 | AQ19: 6.1 | AR19: 7.3 | AS19: 14.3 | AT19: 8.4 | AU19: 12.3 | AV19: 8.1 | AW19: 7.4 | AX19: 8.9 | AY19: 12.9 | AZ19: 13.4 | BA19: 9.7 | BB19: 7.2 | BC19: 6.4 | BD19: 8.5 | BE19: 5.8 | BF19: 6.8 | BG19: 10.3 | BH19: 8.5 | BI19: 8.7 | BJ19: 7.4 | BK19: 18.8 | BL19: 9.6 | BM19: 9.6 | BN19: 7.1 | BO19: 8.3 | BP19: 7.9 | BQ19: 8.6 | BR19: 10.8 | BS19: 7.7
B20: אחוז בני 9-5 באוכלוסייה | C20: 14.7 | D20: 8.8 | E20: 8.0 | F20: 8.4 | G20: 20.6 | H20: 7.2 | I20: 9.4 | J20: 7.6 | K20: 7.5 | L20: 8.9 | M20: 16.5 | N20: 12.7 | O20: 5.8 | P20: 10.3 | Q20: 6.0 | R20: 8.5 | S20: 8.4 | T20: 6.2 | U20: 7.3 | V20: 6.7 | W20: 5.9 | X20: 9.0 | Y20: 11.8 | Z20: 7.2 | AA20: 13.0 | AB20: 7.9 | AC20: 8.0 | AD20: 11.1 | AE20: 11.5 | AF20: 6.6 | AG20: 14.6 | AH20: 7.2 | AI20: 8.0 | AJ20: 19.4 | AK20: 12.8 | AL20: 10.1 | AM20: 8.0 | AN20: 7.8 | AO20: 9.0 | AP20: 12.4 | AQ20: 6.8 | AR20: 6.3 | AS20: 13.3 | AT20: 7.6 | AU20: 12.3 | AV20: 7.8 | AW20: 7.0 | AX20: 7.9 | AY20: 11.6 | AZ20: 14.4 | BA20: 8.0 | BB20: 6.8 | BC20: 5.7 | BD20: 7.9 | BE20: 5.7 | BF20: 6.0 | BG20: 9.1 | BH20: 7.7 | BI20: 9.6 | BJ20: 7.0 | BK20: 18.6 | BL20: 8.0 | BM20: 9.2 | BN20: 5.6 | BO20: 6.7 | BP20: 7.4 | BQ20: 8.1 | BR20: 12.0 | BS20: 5.7
B21: אחוז בני 14-10 באוכלוסייה | C21: 13.0 | D21: 7.8 | E21: 7.8 | F21: 7.4 | G21: 8.3 | H21: 7.4 | I21: 8.6 | J21: 7.5 | K21: 7.0 | L21: 8.6 | M21: 11.4 | N21: 11.9 | O21: 5.7 | P21: 8.4 | Q21: 5.2 | R21: 8.5 | S21: 8.1 | T21: 5.9 | U21: 7.4 | V21: 6.4 | W21: 5.9 | X21: 8.0 | Y21: 11.9 | Z21: 6.7 | AA21: 11.8 | AB21: 8.4 | AC21: 7.8 | AD21: 9.0 | AE21: 10.5 | AF21: 6.9 | AG21: 12.9 | AH21: 6.8 | AI21: 9.5 | AJ21: 9.6 | AK21: 9.9 | AL21: 10.3 | AM21: 8.0 | AN21: 6.6 | AO21: 7.6 | AP21: 11.6 | AQ21: 6.3 | AR21: 6.2 | AS21: 9.9 | AT21: 7.1 | AU21: 11.4 | AV21: 7.9 | AW21: 7.4 | AX21: 6.8 | AY21: 10.2 | AZ21: 12.6 | BA21: 6.5 | BB21: 7.0 | BC21: 5.6 | BD21: 8.0 | BE21: 5.3 | BF21: 6.1 | BG21: 8.8 | BH21: 6.9 | BI21: 10.0 | BJ21: 6.9 | BK21: 15.3 | BL21: 7.1 | BM21: 8.2 | BN21: 5.5 | BO21: 6.5 | BP21: 7.5 | BQ21: 7.7 | BR21: 11.3 | BS21: 4.7
B22: אחוז בני 19-15 באוכלוסייה | C22: 9.8276288 | D22: 7.7673776 | E22: 7.2598941 | F22: 5.6662876 | G22: 4.6413877 | H22: 7.6034937 | I22: 7.3734217 | J22: 7.2770251 | K22: 6.9702716 | L22: 9.202381 | M22: 7.350351 | N22: 11.051324 | O22: 5.170313 | P22: 5.8487874 | Q22: 4.539715 | R22: 8.1231994 | S22: 7.0734617 | T22: 6.3301937 | U22: 7.5609413 | V22: 6.2660798 | W22: 6.7441483 | X22: 7.7371969 | Y22: 10.527036 | Z22: 7.5908293 | AA22: 10.042352 | AB22: 8.8258885 | AC22: 7.2054231 | AD22: 6.6827309 | AE22: 9.8461405 | AF22: 7.0684416 | AG22: 11.058988 | AH22: 6.5113781 | AI22: 8.5486997 | AJ22: 4.9583224 | AK22: 7.307883 | AL22: 9.2368647 | AM22: 8.1040754 | AN22: 6.1709259 | AO22: 6.5233918 | AP22: 9.3802269 | AQ22: 5.7182967 | AR22: 6.0137377 | AS22: 8.2723949 | AT22: 6.7519625 | AU22: 10.214213 | AV22: 8.4947678 | AW22: 8.019772 | AX22: 6.3671474 | AY22: 8.8546949 | AZ22: 10.599934 | BA22: 5.5470437 | BB22: 7.4214995 | BC22: 6.3632103 | BD22: 8.052024 | BE22: 6.2529178 | BF22: 6.2230841 | BG22: 9.0762404 | BH22: 7.7436221 | BI22: 9.0563304 | BJ22: 7.1499965 | BK22: 11.234982 | BL22: 6.729367 | BM22: 7.5718016 | BN22: 5.3204326 | BO22: 7.1980036 | BP22: 7.5842082 | BQ22: 7.2775031 | BR22: 9.9464598 | BS22: 4.3389525
B23: אחוז בני 20-29 באוכלוסייה | C23: 14.69762 | D23: 16.120915 | E23: 16.158306 | F23: 22.740243 | G23: 16.511263 | H23: 19.556114 | I23: 14.315277 | J23: 15.672547 | K23: 16.379711 | L23: 17.85119 | M23: 14.301112 | N23: 15.791705 | O23: 14.259882 | P23: 14.142358 | Q23: 11.791233 | R23: 16.567169 | S23: 12.363644 | T23: 14.60577 | U23: 15.709885 | V23: 14.71638 | W23: 14.773615 | X23: 16.357279 | Y23: 15.788274 | Z23: 16.155115 | AA23: 15.45833 | AB23: 17.818361 | AC23: 14.056668 | AD23: 11.919679 | AE23: 15.999471 | AF23: 14.631264 | AG23: 15.399547 | AH23: 15.998747 | AI23: 15.171216 | AJ23: 18.340538 | AK23: 9.8236419 | AL23: 15.753526 | AM23: 15.774503 | AN23: 13.688412 | AO23: 13.549708 | AP23: 15.11083 | AQ23: 14.316799 | AR23: 15.167516 | AS23: 16.99802 | AT23: 14.752074 | AU23: 16.925964 | AV23: 16.950618 | AW23: 16.758297 | AX23: 14.030619 | AY23: 14.897709 | AZ23: 16.041963 | BA23: 12.27105 | BB23: 15.291573 | BC23: 15.080919 | BD23: 16.895263 | BE23: 15.633667 | BF23: 14.428186 | BG23: 19.483663 | BH23: 19.133688 | BI23: 13.835485 | BJ23: 15.615713 | BK23: 14.79607 | BL23: 14.907795 | BM23: 16.946849 | BN23: 14.010547 | BO23: 12.42039 | BP23: 14.037894 | BQ23: 18.829831 | BR23: 14.670599 | BS23: 16.936413
B24: אחוז בני 44-30 באוכלוסייה | C24: 20.408117 | D24: 19.831211 | E24: 18.634989 | F24: 20.725611 | G24: 17.846254 | H24: 19.376645 | I24: 18.856517 | J24: 17.817164 | K24: 19.780443 | L24: 17.845238 | M24: 16.849812 | N24: 12.691021 | O24: 18.346773 | P24: 23.400069 | Q24: 26.264205 | R24: 18.643262 | S24: 23.007926 | T24: 19.465671 | U24: 18.585983 | V24: 19.488024 | W24: 18.814969 | X24: 17.861455 | Y24: 19.955321 | Z24: 19.086122 | AA24: 20.892255 | AB24: 17.892399 | AC24: 20.351893 | AD24: 25.311914 | AE24: 16.467374 | AF24: 19.812618 | AG24: 19.028362 | AH24: 18.363876 | AI24: 17.937328 | AJ24: 14.499988 | AK24: 27.44812 | AL24: 19.955058 | AM24: 19.355591 | AN24: 20.859086 | AO24: 23.038012 | AP24: 19.525941 | AQ24: 18.268601 | AR24: 23.358722 | AS24: 17.032297 | AT24: 18.132804 | AU24: 21.632398 | AV24: 17.480325 | AW24: 17.108847 | AX24: 20.869579 | AY24: 14.796293 | AZ24: 18.467927 | BA24: 22.891566 | BB24: 18.635854 | BC24: 18.604395 | BD24: 16.337864 | BE24: 15.998902 | BF24: 19.43486 | BG24: 15.696854 | BH24: 18.719012 | BI24: 20.969286 | BJ24: 20.280215 | BK24: 13.761029 | BL24: 19.892751 | BM24: 19.35474 | BN24: 23.198963 | BO24: 19.413034 | BP24: 19.285871 | BQ24: 17.954265 | BR24: 21.791164 | BS24: 27.235596
B25: אחוז בני 59-45 באוכלוסייה | C25: 9.4568173 | D25: 17.827221 | E25: 19.473154 | F25: 15.584973 | G25: 4.1618566 | H25: 18.957885 | I25: 15.962684 | J25: 18.025467 | K25: 17.541067 | L25: 17.392857 | M25: 9.4192802 | N25: 10.829567 | O25: 18.626165 | P25: 13.345467 | Q25: 16.040326 | R25: 17.110695 | S25: 18.207772 | T25: 19.209762 | U25: 18.584704 | V25: 18.035784 | W25: 17.827192 | X25: 17.645135 | Y25: 12.523935 | Z25: 19.889356 | AA25: 11.312899 | AB25: 20.215326 | AC25: 18.954223 | AD25: 15.384203 | AE25: 11.946534 | AF25: 18.88294 | AG25: 9.398253 | AH25: 19.704191 | AI25: 17.400258 | AJ25: 3.2840526 | AK25: 13.932998 | AL25: 15.815618 | AM25: 17.872797 | AN25: 17.55178 | AO25: 17.195906 | AP25: 12.645601 | AQ25: 20.131025 | AR25: 18.386991 | AS25: 11.87919 | AT25: 17.143895 | AU25: 10.077398 | AV25: 18.204618 | AW25: 19.255019 | AX25: 16.704223 | AY25: 13.995454 | AZ25: 9.9224129 | BA25: 16.877916 | BB25: 19.380807 | BC25: 20.057346 | BD25: 18.444291 | BE25: 20.623369 | BF25: 18.966429 | BG25: 16.589351 | BH25: 18.385468 | BI25: 18.640515 | BJ25: 19.497417 | BK25: 4.9517817 | BL25: 16.111347 | BM25: 16.102484 | BN25: 16.690502 | BO25: 17.686969 | BP25: 19.638561 | BQ25: 18.186032 | BR25: 12.543305 | BS25: 14.838152
B26: אחוז בני 64-60 באוכלוסייה | C26: 1.7394431 | D26: 3.8974988 | E26: 4.2349382 | F26: 3.5400888 | G26: 0.53577243 | H26: 3.948313 | I26: 4.3601067 | J26: 4.821765 | K26: 4.5449932 | L26: 3.3095238 | M26: 1.7390047 | N26: 2.843707 | O26: 6.5680515 | P26: 3.9008313 | Q26: 4.9786543 | R26: 4.1670379 | S26: 4.5295722 | T26: 6.8230555 | U26: 4.8548529 | V26: 5.7890326 | W26: 6.0622194 | X26: 4.0522185 | Y26: 2.5439956 | Z26: 4.6332252 | AA26: 1.7084201 | AB26: 4.3219398 | AC26: 5.1755655 | AD26: 3.3681392 | AE26: 3.1826081 | AF26: 5.984421 | AG26: 1.7847514 | AH26: 5.4194357 | AI26: 4.6478759 | AJ26: 0.65919893 | AK26: 2.0978823 | AL26: 2.9123917 | AM26: 3.7676024 | AN26: 5.1208029 | AO26: 4.3304094 | AP26: 2.6309841 | AQ26: 5.9522695 | AR26: 4.8081865 | AS26: 2.0985679 | AT26: 5.2445736 | AU26: 1.6925964 | AV26: 3.9652339 | AW26: 4.5974982 | AX26: 5.3270975 | AY26: 3.1474034 | AZ26: 1.6391651 | BA26: 5.3415976 | BB26: 5.6972925 | BC26: 6.5727441 | BD26: 4.2483455 | BE26: 6.6703282 | BF26: 6.3213035 | BG26: 3.4237596 | BH26: 3.637429 | BI26: 2.6677362 | BJ26: 5.5852852 | BK26: 0.93928824 | BL26: 5.6051908 | BM26: 3.6599331 | BN26: 5.2779764 | BO26: 6.5299332 | BP26: 6.0640857 | BQ26: 3.697981 | BR26: 2.2589973 | BS26: 4.8169532
B27: אחוז בני 65 ומעלה באוכלוסייה | C27: 2.8855878 | D27: 8.7218045 | E27: 10.606252 | F27: 6.9385741 | G27: 0.80217861 | H27: 8.8537928 | I27: 11.656582 | J27: 13.700007 | K27: 12.216138 | L27: 7.1309524 | M27: 4.2995347 | N27: 7.2325383 | O27: 19.01421 | P27: 7.9393969 | Q27: 17.45335 | R27: 9.8993139 | S27: 8.9483552 | T27: 14.359339 | U27: 12.353159 | V27: 15.133063 | W27: 17.698056 | X27: 10.257571 | Y27: 4.4953041 | Z27: 11.341029 | AA27: 3.4527313 | AB27: 6.6263574 | AC27: 9.8636606 | AD27: 7.4323963 | AE27: 8.0942198 | AF27: 12.27994 | AG27: 2.8200151 | AH27: 12.689356 | AI27: 11.234049 | AJ27: 1.0628389 | AK27: 3.3019336 | AL27: 5.4551906 | AM27: 11.092978 | AN27: 13.4501 | AO27: 8.8947368 | AP27: 5.8089598 | AQ27: 16.350023 | AR27: 12.504089 | AS27: 6.3299817 | AT27: 14.859346 | AU27: 3.5337347 | AV27: 11.136816 | AW27: 12.440734 | AX27: 13.071009 | AY27: 9.6135688 | AZ27: 2.8576112 | BA27: 12.918727 | BB27: 12.634172 | BC27: 15.563398 | BD27: 11.544644 | BE27: 17.970617 | BF27: 15.760445 | BG27: 7.553449 | BH27: 9.2671054 | BI27: 6.5774834 | BJ27: 10.576175 | BK27: 1.6027176 | BL27: 12.113045 | BM27: 9.2651123 | BN27: 17.262543 | BO27: 15.272037 | BP27: 10.651794 | BQ27: 9.6621343 | BR27: 4.6325193 | BS27: 13.820235
B28: אחוז בני 17-0 באוכלוסייה | C28: 47.191946 | D28: 30.526316 | E28: 27.684648 | F28: 27.893754 | G28: 58.455436 | H28: 25.909308 | I28: 31.965035 | J28: 27.036842 | K28: 26.608082 | L28: 32.642857 | M28: 50.682195 | N28: 46.392862 | O28: 21.044462 | P28: 35.023858 | Q28: 21.650332 | R28: 30.211768 | S28: 30.217743 | T28: 22.915704 | U28: 26.801396 | V28: 24.232124 | W28: 21.864014 | X28: 30.727437 | Y28: 40.539801 | Z28: 25.570509 | AA28: 43.349365 | AB28: 29.615005 | AC28: 28.703633 | AD28: 34.082999 | AE28: 40.434038 | AF28: 25.586022 | AG28: 47.476545 | AH28: 24.864067 | AI28: 30.431271 | AJ28: 60.526881 | AK28: 40.713932 | AL28: 36.391591 | AM28: 28.462184 | AN28: 26.743262 | AO28: 30.233918 | AP28: 40.71998 | AQ28: 22.40992 | AR28: 23.330685 | AS28: 42.340798 | AT28: 27.126295 | AU28: 42.248456 | AV28: 29.101444 | AW28: 26.301321 | AX28: 27.495063 | AY28: 39.81815 | AZ28: 47.08775 | BA28: 27.299951 | BB28: 25.260333 | BC28: 21.444129 | BD28: 29.279138 | BE28: 20.208705 | BF28: 22.570328 | BG28: 33.239209 | BH28: 27.359596 | BI28: 33.668849 | BJ28: 25.527172 | BK28: 59.856827 | BL28: 28.56866 | BM28: 31.556044 | BN28: 21.33238 | BO28: 26.101536 | BP28: 27.420986 | BQ28: 28.213844 | BR28: 40.47585 | BS28: 20.503582
B29: אחוז בני 75 ומעלה באוכלוסייה | C29: 0.82926939 | D29: 3.7010895 | E29: 4.2790522 | F29: 2.7526872 | G29: 0.22792529 | H29: 3.7329505 | I29: 5.1563292 | J29: 6.3233589 | K29: 5.6369027 | L29: 3.0535714 | M29: 1.8927942 | N29: 4.0607614 | O29: 9.5451335 | P29: 3.64012 | Q29: 9.8310384 | R29: 3.9056699 | S29: 4.2675132 | T29: 6.8716308 | U29: 5.6563255 | V29: 7.194974 | W29: 9.1444927 | X29: 4.3917899 | Y29: 1.4771587 | Z29: 4.9896271 | AA29: 0.99418563 | AB29: 2.9429911 | AC29: 4.4748267 | AD29: 3.1700134 | AE29: 3.9087555 | AF29: 6.2388463 | AG29: 0.90046371 | AH29: 5.9900204 | AI29: 5.4433856 | AJ29: 0.44185436 | AK29: 1.0793966 | AL29: 2.06972 | AM29: 5.1711275 | AN29: 6.8548621 | AO29: 4.1695906 | AP29: 1.8338532 | AQ29: 7.7515208 | AR29: 5.9483202 | AS29: 2.65844 | AT29: 7.6615359 | AU29: 1.0358846 | AV29: 5.1392372 | AW29: 5.8736003 | AX29: 6.2588626 | AY29: 4.8120301 | AZ29: 0.79226314 | BA29: 6.3270423 | BB29: 5.9476129 | BC29: 7.617656 | BD29: 5.6533267 | BE29: 9.2104902 | BF29: 8.2328053 | BG29: 3.0203711 | BH29: 3.8267376 | BI29: 2.4219215 | BJ29: 4.8692683 | BK29: 0.45824499 | BL29: 5.8848504 | BM29: 4.0095888 | BN29: 9.6941664 | BO29: 6.8340742 | BP29: 5.2425087 | BQ29: 3.8370416 | BR29: 1.4687777 | BS29: 7.4908018
B30: אחוז עולי 1990+ מסך האוכלוסייה | C30: 0 | D30: 15.6 | E30: 39.1 | F30: 22.5 | G30: 3.4 | H30: 42 | I30: 33.9 | J30: 32.7 | K30: 29.3 | L30: 6.4 | M30: 22 | N30: 6 | O30: 34.4 | P30: 7.1 | Q30: 6.7 | R30: 20.1 | S30: 6.6 | T30: 10.9 | U30: 27.8 | V30: 18.1 | W30: 24.2 | X30: 15.4 | Y30: 0 | Z30: 18.6 | AA30: 0 | AB30: 12.3 | AC30: 5.9 | AD30: 24.3 | AE30: 8.6 | AF30: 13.6 | AG30: 0 | AH30: 37.9 | AI30: 27.5 | AJ30: 6.4 | AK30: 9.6 | AL30: 15.4 | AM30: 34.3 | AN30: 20 | AO30: 7.4 | AP30: 0 | AQ30: 43.4 | AR30: 30.1 | AS30: 17 | AT30: 27.5 | AU30: 0 | AV30: 19.7 | AW30: 27.8 | AX30: 21.7 | AY30: 17.1 | AZ30: 0 | BA30: 6.6 | BB30: 20 | BC30: 21.6 | BD30: 29.6 | BE30: 36.5 | BF30: 22.3 | BG30: 20.9 | BH30: 16.7 | BI30: 6.5 | BJ30: 19.1 | BK30: 0 | BL30: 18.9 | BM30: 21.2 | BN30: 10.5 | BO30: 4.4 | BP30: 15.2 | BQ30: 33.4 | BR30: 0 | BS30: 12.7
B31: השתקעות ראשונה של עולים | C31: - | D31: 34 | E31: 35 | F31: 316 | G31: 38 | H31: 44 | I31: 754 | J31: 366 | K31: 969 | L31: 7 | M31: 563 | N31: 180 | O31: 414 | P31: 47 | Q31: 51 | R31: 16 | S31: 95 | T31: 242 | U31: 119 | V31: 310 | W31: 749 | X31: 100 | Y31: - | Z31: 32 | AA31: - | AB31: 29 | AC31: 20 | AD31: 20 | AE31: 2,756 | AF31: 284 | AG31: - | AH31: 254 | AI31: 105 | AJ31: 87 | AK31: 259 | AL31: 105 | AM31: 35 | AN31: 168 | AO31: 25 | AP31: - | AQ31: 290 | AR31: 26 | AS31: 26 | AT31: 855 | AU31: - | AV31: 197 | AW31: 64 | AX31: 343 | AY31: 298 | AZ31: - | BA31: 25 | BB31: 55 | BC31: 40 | BD31: 133 | BE31: 181 | BF31: 48 | BG31: 27 | BH31: 20 | BI31: 21 | BJ31: 330 | BK31: - | BL31: 198 | BM31: 270 | BN31: 211 | BO31: 68 | BP31: 719 | BQ31: 8 | BR31: - | BS31: 1,206
B32: אחוז עולים בני 17-0 בהשתקעות ראשונה | C32: - | D32: 38.2 | E32: 48.6 | F32: 29.7 | G32: 52.6 | H32: 22.7 | I32: 29.4 | J32: 29.2 | K32: 33.0 | L32: 42.9 | M32: 56.0 | N32: 43.9 | O32: 26.6 | P32: 36.2 | Q32: 47.1 | R32: 18.8 | S32: 64.2 | T32: 40.9 | U32: 29.4 | V32: 30.6 | W32: 36.7 | X32: 41.0 | Y32: - | Z32: 53.1 | AA32: - | AB32: 27.6 | AC32: 80.0 | AD32: 45.0 | AE32: 29.2 | AF32: 33.5 | AG32: - | AH32: 29.9 | AI32: 40.0 | AJ32: 46.0 | AK32: 56.4 | AL32: 35.2 | AM32: 37.1 | AN32: 34.5 | AO32: 72.0 | AP32: - | AQ32: 31.4 | AR32: 38.5 | AS32: 38.5 | AT32: 29.9 | AU32: - | AV32: 32.5 | AW32: 32.8 | AX32: 33.2 | AY32: 50.3 | AZ32: - | BA32: 64.0 | BB32: 32.7 | BC32: 32.5 | BD32: 48.9 | BE32: 37.0 | BF32: 35.4 | BG32: 63.0 | BH32: 75.0 | BI32: 66.7 | BJ32: 37.0 | BK32: - | BL32: 50.5 | BM32: 32.6 | BN32: 41.7 | BO32: 72.1 | BP32: 48.7 | BQ32: 25.0 | BR32: - | BS32: 31.7
B33: אחוז עולים בני 44-18 בהשתקעות ראשונה | C33: - | D33: 29.4 | E33: 22.9 | F33: 45.3 | G33: 34.2 | H33: 38.6 | I33: 35.8 | J33: 41.3 | K33: 44.0 | L33: 14.3 | M33: 29.5 | N33: 38.3 | O33: 35.5 | P33: 48.9 | Q33: 35.3 | R33: 18.8 | S33: 26.3 | T33: 36.8 | U33: 26.1 | V33: 32.6 | W33: 33.6 | X33: 33.0 | Y33: - | Z33: 34.4 | AA33: - | AB33: 41.4 | AC33: 10.0 | AD33: 20.0 | AE33: 52.0 | AF33: 52.5 | AG33: - | AH33: 42.1 | AI33: 35.2 | AJ33: 41.4 | AK33: 29.0 | AL33: 31.4 | AM33: 45.7 | AN33: 32.7 | AO33: 12.0 | AP33: - | AQ33: 51.7 | AR33: 19.2 | AS33: 42.3 | AT33: 28.8 | AU33: - | AV33: 38.6 | AW33: 40.6 | AX33: 27.7 | AY33: 39.9 | AZ33: - | BA33: 20.0 | BB33: 25.5 | BC33: 32.5 | BD33: 42.9 | BE33: 40.3 | BF33: 33.3 | BG33: 18.5 | BH33: 10.0 | BI33: 14.3 | BJ33: 26.4 | BK33: - | BL33: 25.8 | BM33: 41.5 | BN33: 37.4 | BO33: 17.6 | BP33: 37.1 | BQ33: 50.0 | BR33: - | BS33: 48.3
B34: אחוז עולים בני 64-45 בהשתקעות ראשונה | C34: - | D34: 26.5 | E34: 11.4 | F34: 17.4 | G34: 7.9 | H34: 36.4 | I34: 19.5 | J34: 16.9 | K34: 16.0 | L34: 28.6 | M34: 9.2 | N34: 8.3 | O34: 26.3 | P34: 8.5 | Q34: 5.9 | R34: 18.8 | S34: 5.3 | T34: 8.7 | U34: 25.2 | V34: 22.9 | W34: 19.2 | X34: 17.0 | Y34: - | Z34: 9.4 | AA34: - | AB34: 20.7 | AC34: 5.0 | AD34: 25.0 | AE34: 11.2 | AF34: 8.8 | AG34: - | AH34: 15.7 | AI34: 16.2 | AJ34: 1.1 | AK34: 8.9 | AL34: 21.0 | AM34: 8.6 | AN34: 22.0 | AO34: 0.0 | AP34: - | AQ34: 13.8 | AR34: 30.8 | AS34: 3.8 | AT34: 22.0 | AU34: - | AV34: 20.3 | AW34: 18.8 | AX34: 23.3 | AY34: 7.0 | AZ34: - | BA34: 12.0 | BB34: 25.5 | BC34: 22.5 | BD34: 3.8 | BE34: 16.0 | BF34: 20.8 | BG34: 14.8 | BH34: 10.0 | BI34: 0.0 | BJ34: 24.5 | BK34: - | BL34: 12.6 | BM34: 21.1 | BN34: 12.3 | BO34: 1.5 | BP34: 9.9 | BQ34: 25.0 | BR34: - | BS34: 12.8
B35: אחוז עולים בני 65 ומעלה בהשתקעות ראשונה | C35: - | D35: 5.9 | E35: 17.1 | F35: 7.6 | G35: 5.3 | H35: 2.3 | I35: 15.3 | J35: 12.6 | K35: 7.0 | L35: 14.3 | M35: 5.3 | N35: 9.4 | O35: 11.6 | P35: 6.4 | Q35: 11.8 | R35: 43.8 | S35: 4.2 | T35: 13.6 | U35: 19.3 | V35: 13.9 | W35: 10.4 | X35: 9.0 | Y35: - | Z35: 3.1 | AA35: - | AB35: 10.3 | AC35: 5.0 | AD35: 10.0 | AE35: 7.6 | AF35: 5.3 | AG35: - | AH35: 12.2 | AI35: 8.6 | AJ35: 11.5 | AK35: 5.8 | AL35: 12.4 | AM35: 8.6 | AN35: 10.7 | AO35: 16.0 | AP35: - | AQ35: 3.1 | AR35: 11.5 | AS35: 15.4 | AT35: 19.3 | AU35: - | AV35: 8.6 | AW35: 7.8 | AX35: 15.7 | AY35: 2.7 | AZ35: - | BA35: 4.0 | BB35: 16.4 | BC35: 12.5 | BD35: 4.5 | BE35: 6.6 | BF35: 10.4 | BG35: 3.7 | BH35: 5.0 | BI35: 19.0 | BJ35: 12.1 | BK35: - | BL35: 11.1 | BM35: 4.8 | BN35: 8.5 | BO35: 8.8 | BP35: 4.3 | BQ35: 0.0 | BR35: - | BS35: 7.3

Sheet מספר חברי מועצה
B1: שם הישוב | C1: מספר מושבים | D1: אוכלוסיה באלפים | E1: אחוז החסימה
B2: אבו גוש | C2: 9 | D2: 7
B3: אבו סנאן | C3: 11 | D3: 12
B4: אבן יהודה | C4: 11 | D4: 12
B5: אום אל-פחם | C5: 17 | D5: 50
B6: אופקים | C6: 15 | D6: 27
B7: אור יהודה | C7: 15 | D7: 36
B8: אור עקיבא | C8: 13 | D8: 19
B9: אורנית | C9: 9 | D9: 8
B10: אזור | C10: 11 | D10: 12
B11: אילת | C11: 17 | D11: 61
B12: אכסאל | C12: 11 | D12: 13
B13: אליכין | C13: 9 | D13: 3
... B188: תל שבע | C188: 13 | D188: 16.8
C189: =SUM(C2:C188) -> 2443 | D189: =SUM(D2:D188) -> 7712.9

Sheet חברי מועצה  ללא השטחים 2013
A1: שם ישוב | B1: אותיות | D1: כינוי | E1: מועמד לר.רשות | F1: מס' סידורי | G1: מספר מושבים במועצה | H1: נכנס למועצה? | I1: תפקיד | J1: שם | K1: אישה
A2: אבו גוש | B2: א | D2: אבו גוש המאוחדת | E2: כ
A3: אבו גוש | B3: א | C3: א אבו גוש | D3: אבו גוש המאוחדת | E3: מועמד לראש רשות | F3: 1 | G3: 3 | H3: TRUE | I3: מועמד למועצה | J3: איברהים עזמי
A4: אבו גוש | B4: א | C4: א אבו גוש | D4: אבו גוש המאוחדת | F4: 2 | G4: 3 | H4: TRUE | I4: מועמד למועצה | J4: איברהים יוסף
A5: אבו גוש | B5: א | C5: א אבו גוש | D5: אבו גוש המאוחדת | F5: 3 | G5: 3 | H5: TRUE | I5: מועמד למועצה | J5: איברהים ראד
A6: אבו גוש | B6: ה | C6: ה אבו גוש | D6: אלפרג' | E6: מועמד לראש רשות | F6: 1 | G6: 3 | H6: TRUE | I6: מועמד למועצה | J6: עבדאל רחמן ערסן
A7: אבו גוש | B7: ה | C7: ה אבו גוש | D7: אלפרג' | F7: 2 | G7: 3 | H7: TRUE | I7: מועמד למועצה | J7: עותמן אוסמה
A8: אבו גוש | B8: ה | C8: ה אבו גוש | D8: אלפרג' | F8: 3 | G8: 3 | H8: TRUE | I8: מועמד למועצה | J8: עבדאל רחמן שוקי
A9: אבו גוש | B9: למ | C9: למ אבו גוש | D9: הפיתוח והשוויון | E9: מועמד לראש רשות | F9: 1 | G9: 4 | H9: TRUE | I9: מועמד למועצה | J9: גבר עיסא
A10: אבו גוש | B10: למ | C10: למ אבו גוש | D10: הפיתוח והשוויון | F10: 2 | G10: 4 | H10: TRUE | I10: מועמד למועצה | J10: ג'בר חוסין
A11: אבו גוש | B11: למ | C11: למ אבו גוש | D11: הפיתוח והשוויון | F11: 3 | G11: 4 | H11: TRUE | I11: מועמד למועצה | J11: אבו גוש גוואד
A12: אבו גוש | B12: למ | C12: למ אבו גוש | D12: הפיתוח והשוויון | F12: 4 | G12: 4 | H12: TRUE | I12: מועמד למועצה | J12: ג'בר פאדי
A13: אבו סנאן | B13: אד | C13: אד אבו סנאן | D13: הדרוזית המאוחדת | F13: 1 | G13: 2 | H13: TRUE | I13: מועמד למועצה | J13: זיאדה אמל
A14: אבו סנאן | B14: אד | C14: אד אבו סנאן | D14: הדרוזית המאוחדת | F14: 2 | G14: 2 | H14: TRUE | I14: מועמד למועצה | J14: מרזוק האני
A15: אבו סנאן | B15: ו | C15: ו אבו סנאן | D15: חד"ש | F15: 1 | G15: 3 | H15: TRUE | I15: מועמד למועצה | J15: מיח'איל נדים
A16: אבו סנאן | B16: ו | C16: ו אבו סנאן | D16: חד"ש | F16: 2 | G16: 3 | H16: TRUE | I16: מועמד למועצה | J16: נסרה אדיב
A17: אבו סנאן | B17: ו | C17: ו אבו סנאן | D17: חד"ש | F17: 3 | G17: 3 | H17: TRUE | I17: מועמד למועצה | J17: ח'ורי מיכאיל
A18: אבו סנאן | B18: יק | C18: יק אבו סנאן | D18: אלרסאלה | F18: 1 | G18: 1 | H18: TRUE | I18: מועמד למועצה | J18: אחמד כמאל
A19: אבו סנאן | B19: מ | C19: מ אבו סנאן | D19: אמנאר | F19: 1 | G19: 2 | H19: TRUE | I19: מועמד למועצה | J19: גדבאן מאזן
A20: אבו סנאן | B20: מ | C20: מ אבו סנאן | D20: אמנאר | F20: 2 | G20: 2 | H20: TRUE | I20: מועמד למועצה | J20: מוסא שחאדה
A21: אבו סנאן | B21: נה | C21: נה אבו סנאן | D21: אלנזאהה | F21: 1 | G21: 1 | H21: TRUE | I21: מועמד למועצה | J21: עבאס מוחמד
... A23: אבו סנאן | B23: ר | C23: ר אבו סנאן | D23: האמונה לשינוי | F23: 1 | G23: 1 | H23: TRUE | I23: מועמד למועצה | J23: קשקוש מוחמד
A24: אבן יהודה | B24: א | C24: א אבן יהודה | D24: המושבה שלנו | E24: מועמד לראש רשות | F24: 1 | G24: 4 | H24: TRUE | I24: מועמד למועצה | J24: אליאס ערן
A25: אבן יהודה | B25: א | C25: א אבן יהודה | D25: המושבה שלנו | F25: 2 | G25: 4 | H25: TRUE | I25: מועמד למועצה | J25: לירון גדעון
A26: אבן יהודה | B26: א | C26: א אבן יהודה | D26: המושבה שלנו | F26: 3 | G26: 4 | H26: TRUE | I26: מועמד למועצה | J26: עובדיה יפה | K26: 1
A27: אבן יהודה | B27: א | C27: א אבן יהודה | D27: המושבה שלנו | F27: 4 | G27: 4 | H27: TRUE | I27: מועמד למועצה | J27: פליידרמן לימור | K27: 1
A28: אבן יהודה | B28: לי | C28: לי אבן יהודה | D28: יותר בראשות אברהם הררי | E28: מועמד לראש רשות | F28: 1 | G28: 6 | H28: TRUE | I28: מועמד למועצה | J28: הררי אברהם
A29: אבן יהודה | B29: לי | C29: לי אבן יהודה | D29: יותר בראשות אברהם הררי | F29: 2 | G29: 6 | H29: TRUE | I29: מועמד למועצה | J29: ברדוש יול דוד
A30: אבן יהודה | B30: לי | C30: לי אבן יהודה | D30: יותר בראשות אברהם הררי | F30: 3 | G30: 6 | H30: TRUE | I30: מועמד למועצה | J30: קמני זיו
A31: אבן יהודה | B31: לי | C31: לי אבן יהודה | D31: יותר בראשות אברהם הררי | F31: 4 | G31: 6 | H31: TRUE | I31: מועמד למועצה | J31: כהן עוז
A32: אבן יהודה | B32: לי | C32: לי אבן יהודה | D32: יותר בראשות אברהם הררי | F32: 5 | G32: 6 | H32: TRUE | I32: מועמד למועצה | J32: ריבובסקי דרור
A33: אבן יהודה | B33: לי | C33: לי אבן יהודה | D33: יותר בראשות אברהם הררי | F33: 6 | G33: 6 | H33: TRUE | I33: מועמד למועצה | J33: אללוף יקי יעקב
A34: אבן יהודה | B34: פה | C34: פה אבן יהודה | D34: סיעת הצעירים בראשות עמרי פלד | F34: 1 | G34: 2 | H34: TRUE | I34: מועמד למועצה | J34: פלד עומרי
A35: אבן יהודה | B35: פה | C35: פה אבן יהודה | D35: סיעת הצעירים בראשות עמרי פלד | F35: 2 | G35: 2 | H35: TRUE | I35: מועמד למועצה | J35: שני לימור | K35: 1
A36: אום אל-פחם | B36: א | C36: א אום אל-פחם | D36: אום אלפחם אלמוחדה | F36: 1 | G36: 2 | H36: TRUE | I36: מועמד למועצה | J36: כסאב מחאמיד ראיד
A37: אום אל-פחם | B37: א | C37: א אום אל-פחם | D37: אום אלפחם אלמוחדה | F37: 2 | G37: 2 | H37: TRUE | I37: מועמד למועצה | J37: אבו מאג'ד מוסטפא
A38: אום אל-פחם | B38: הז | C38: הז אום אל-פחם | D38: אלאהראם | F38: 1 | G38: 1 | H38: TRUE | I38: מועמד למועצה | J38: מחאג'נה חוסין
A39: אום אל-פחם | B39: ךי | C39: ךי אום אל-פחם | D39: אלתווחיד | F39: 1 | G39: 2 | H39: TRUE | I39: מועמד למועצה | J39: מחאמיד מוחמד
A40: אום אל-פחם | B40: ךי | C40: ךי אום אל-פחם | D40: אלתווחיד | F40: 2 | G40: 2 | H40: TRUE | I40: מועמד למועצה | J40: מחאמיד אבראהים
A41: אום אל-פחם | B41: מ | C41: מ אום אל-פחם | D41: נור אלמוסתקבל | F41: 1 | G41: 7 | H41: TRUE | I41: מועמד למועצה | J41: מחאג'נה בלאל
A42: אום אל-פחם | B42: מ | C42: מ אום אל-פחם | D42: נור אלמוסתקבל | F42: 2 | G42: 7 | H42: TRUE | I42: מועמד למועצה | J42: ג'בארין טאהר
A43: אום אל-פחם | B43: מ | C43: מ אום אל-פחם | D43: נור אלמוסתקבל | F43: 3 | G43: 7 | H43: TRUE | I43: מועמד למועצה | J43: מחאמיד מוחמד
A44: אום אל-פחם | B44: מ | C44: מ אום אל-פחם | D44: נור אלמוסתקבל | F44: 4 | G44: 7 | H44: TRUE | I44: מועמד למועצה | J44: אגבאריה וסאם
A45: אום אל-פחם | B45: מ | C45: מ אום אל-פחם | D45: נור אלמוסתקבל | F45: 5 | G45: 7 | H45: TRUE | I45: מועמד למועצה | J45: מחאמיד ח'אלד
A46: אום אל-פחם | B46: מ | C46: מ אום אל-פחם | D46: נור אלמוסתקבל | F46: 6 | G46: 7 | H46: TRUE | I46: מועמד למועצה | J46: מחאג'נה עלי
A47: אום אל-פחם | B47: מ | C47: מ אום אל-פחם | D47: נור אלמוסתקבל | F47: 7 | G47: 7 | H47: TRUE | I47: מועמד למועצה | J47: אגבאריה עאדל
... A49: אום אל-פחם | B49: נ | C49: נ אום אל-פחם | D49: אלתחאלף אלבלדי | F49: 2 | G49: 2 | H49: TRUE | I49: מועמד למועצה | J49: מחאג'נה מוחמד
A50: אום אל-פחם | B50: ץ | C50: ץ אום אל-פחם | D50: אלעהד | E50: מועמד לראש רשות | F50: 1 | G50: 1 | H50: TRUE | I50: מועמד למועצה | J50: אגבאריה ח'אלד
A51: אום אל-פחם | B51: קפ | C51: קפ אום אל-פחם | D51: קאאמת אלופאק אלבלדי | F51: 1 | G51: 3 | H51: TRUE | I51: מועמד למועצה | J51: ג'בארין ראמז
A52: אום אל-פחם | B52: קפ | C52: קפ אום אל-פחם | D52: קאאמת אלופאק אלבלדי | F52: 2 | G52: 3 | H52: TRUE | I52: מועמד למועצה | J52: ג'בארין מוסא
A53: אום אל-פחם | B53: קפ | C53: קפ אום אל-פחם | D53: קאאמת אלופאק אלבלדי | F53: 3 | G53: 3 | H53: TRUE | I53: מועמד למועצה | J53: ג'בארין ג'מאל
A54: אופקים | B54: דת | C54: דת אופקים | D54: הקהילה התורנית אופקים | F54: 1 | G54: 3 | H54: TRUE | I54: מועמד למועצה | J54: דייטש אברהם בן ציון
A55: אופקים | B55: דת | C55: דת אופקים | D55: הקהילה התורנית אופקים | F55: 2 | G55: 3 | H55: TRUE | I55: מועמד למועצה | J55: בר און יחיאל צבי
A56: אופקים | B56: דת | C56: דת אופקים | D56: הקהילה התורנית אופקים | F56: 3 | G56: 3 | H56: TRUE | I56: מועמד למועצה | J56: פאקר ברוך יוסף
A57: אופקים | B57: חי | C57: חי אופקים | D57: תנופה לאופקים בראשות יאיר חזן | E57: מועמד לראש רשות | F57: 1 | G57: 3 | H57: TRUE | I57: מועמד למועצה | J57: חזן יאיר
A58: אופקים | B58: חי | C58: חי אופקים | D58: תנופה לאופקים בראשות יאיר חזן | F58: 2 | G58: 3 | H58: TRUE | I58: מועמד למועצה | J58: בוכובזה נורברט
A59: אופקים | B59: חי | C59: חי אופקים | D59: תנופה לאופקים בראשות יאיר חזן | F59: 3 | G59: 3 | H59: TRUE | I59: מועמד למועצה | J59: סבגי גדעון
A60: אופקים | B60: טב | C60: טב אופקים | D60: הבית היהודי | E60: מועמד לראש רשות | F60: 1 | G60: 1 | H60: TRUE | I60: מועמד למועצה | J60: אוחיון משה
A61: אופקים | B61: כן | C61: כן אופקים | D61: יש תקוה בראשות אלי סעדה | F61: 1 | G61: 1 | H61: TRUE | I61: מועמד למועצה | J61: סעדה אלי
A62: אופקים | B62: ל | C62: ל אופקים | D62: אופקים ביתנו | F62: 1 | G62: 1 | H62: TRUE | I62: מועמד למועצה | J62: גנדלר מרט
A63: אופקים | B63: מחל | C63: מחל אופקים | D63: הליכוד בראשות איציק דנינו | E63: מועמד לראש רשות | F63: 1 | G63: 3 | H63: TRUE | I63: מועמד למועצה | J63: דנינו יצחק איציק
A64: אופקים | B64: מחל | C64: מחל אופקים | D64: הליכוד בראשות איציק דנינו | F64: 2 | G64: 3 | H64: TRUE | I64: מועמד למועצה | J64: אורי דניאל
A65: אופקים | B65: מחל | C65: מחל אופקים | D65: הליכוד בראשות איציק דנינו | F65: 3 | G65: 3 | H65: TRUE | I65: מועמד למועצה | J65: כהן יוסף
A66: אופקים | B66: נץ | C66: נץ אופקים | D66: אופקים רוצה שינוי | F66: 1 | G66: 1 | H66: TRUE | I66: מועמד למועצה | J66: קריספיל יצחק
A67: אופקים | B67: שס | C67: שס אופקים | D67: התאחדות הספרדים העולמית שומרי תורה | F67: 1 | G67: 3 | H67: TRUE | I67: מועמד למועצה | J67: עזרן סלומון
A68: אופקים | B68: שס | C68: שס אופקים | D68: התאחדות הספרדים העולמית שומרי תורה | F68: 2 | G68: 3 | H68: TRUE | I68: מועמד למועצה | J68: מלכה בנימין
A69: אופקים | B69: שס | C69: שס אופקים | D69: התאחדות הספרדים העולמית שומרי תורה | F69: 3 | G69: 3 | H69: TRUE | I69: מועמד למועצה | J69: פילו ראובן יוסף
A70: אור יהודה | B70: אי | C70: אי אור יהודה | D70: תנועת אור חדש בראשות ליאת שוחט | F70: 1 | G70: 2 | H70: TRUE | I70: מועמד למועצה | J70: שוחט ליאת | K70: 1
A71: אור יהודה | B71: אי | C71: אי אור יהודה | D71: תנועת אור חדש בראשות ליאת שוחט | F71: 2 | G71: 2 | H71: TRUE | I71: מועמד למועצה | J71: קרקוקלי ימית-נעימה | K71: 1
A72: אור יהודה | B72: טב | C72: טב אור יהודה | D72: הבית היהודי בראשות דוד חיון | F72: 1 | G72: 1 | H72: TRUE | I72: מועמד למועצה | J72: חיון דוד
A73: אור יהודה | B73: כן | C73: כן אור יהודה | D73: בראשות דוד יוסף | E73: מועמד לראש רשות | F73: 1 | G73: 7 | H73: TRUE | I73: מועמד למועצה | J73: יוסף דוד
A74: אור יהודה | B74: כן | C74: כן אור יהודה | D74: בראשות דוד יוסף | F74: 2 | G74: 7 | H74: TRUE | I74: מועמד למועצה | J74: בוזי עופר
A75: אור יהודה | B75: כן | C75: כן אור יהודה | D75: בראשות דוד יוסף | F75: 3 | G75: 7 | H75: TRUE | I75: מועמד למועצה | J75: כויינוב ז'נה | K75: 1
A76: אור יהודה | B76: כן | C76: כן אור יהודה | D76: בראשות דוד יוסף | F76: 4 | G76: 7 | H76: TRUE | I76: מועמד למועצה | J76: טונדובסקי בן בשט ליאת | K76: 1
A77: אור יהודה | B77: כן | C77: כן אור יהודה | D77: בראשות דוד יוסף | F77: 5 | G77: 7 | H77: TRUE | I77: מועמד למועצה | J77: אשכנזי טל
A78: אור יהודה | B78: כן | C78: כן אור יהודה | D78: בראשות דוד יוסף | F78: 6 | G78: 7 | H78: TRUE | I78: מועמד למועצה | J78: איילה ברטה | K78: 1
A79: אור יהודה | B79: כן | C79: כן אור יהודה | D79: בראשות דוד יוסף | F79: 7 | G79: 7 | H79: TRUE | I79: מועמד למועצה | J79: דאון דודו יניב
A80: אור יהודה | B80: ל | C80: ל אור יהודה | D80: מחר יום חדש בראשות ננה חן ואיציק דדוש | E80: מועמד לראש רשות | F80: 1 | G80: 1 | H80: TRUE | I80: מועמד למועצה | J80: חן ננה | K80: 1
A81: אור יהודה | B81: נצ | C81: נצ אור יהודה | D81: סבח יוסף רשימת נאמני ציבור | F81: 1 | G81: 1 | H81: TRUE | I81: מועמד למועצה | J81: יוסף סבח
A82: אור יהודה | B82: פ | C82: פ אור יהודה | D82: רשימת נווה בראשות אפי גוטמן | E82: מועמד לראש רשות | F82: 1 | G82: 1 | H82: TRUE | I82: מועמד למועצה | J82: גוטמן אפרים צבי
A83: אור יהודה | B83: שס | C83: שס אור יהודה | D83: עוזי אהרון למען תושבי אור יהודה | E83: מועמד לראש רשות | F83: 1 | G83: 3 | H83: TRUE | I83: מועמד למועצה | J83: אהרן עוזי
A84: אור יהודה | B84: שס | C84: שס אור יהודה | D84: עוזי אהרון למען תושבי אור יהודה | F84: 2 | G84: 3 | H84: TRUE | I84: מועמד למועצה | J84: שקד יחזקאל
A85: אור יהודה | B85: שס | C85: שס אור יהודה | D85: עוזי אהרון למען תושבי אור יהודה | F85: 3 | G85: 3 | H85: TRUE | I85: מועמד למועצה | J85: אגאי ליאור
A86: אור עקיבא | B86: א | C86: א אור עקיבא | D86: ביחד | E86: מועמד לראש רשות | F86: 1 | G86: 4 | H86: TRUE | I86: מועמד למועצה | J86: אדרי יעקב
A87: אור עקיבא | B87: א | C87: א אור עקיבא | D87: ביחד | F87: 2 | G87: 4 | H87: TRUE | I87: מועמד למועצה | J87: איליזירוב אבניל
A88: אור עקיבא | B88: א | C88: א אור עקיבא | D88: ביחד | F88: 3 | G88: 4 | H88: TRUE | I88: מועמד למועצה | J88: אבני שלומי שלמה
A89: אור עקיבא | B89: א | C89: א אור עקיבא | D89: ביחד | F89: 4 | G89: 4 | H89: TRUE | I89: מועמד למועצה | J89: זרצקי אלכסנדר
A90: אור עקיבא | B90: ה | C90: ה אור עקיבא | D90: עתיד בטוח יוסי כדורי | F90: 1 | G90: 2 | H90: TRUE | I90: מועמד למועצה | J90: כדורי יוסף
A91: אור עקיבא | B91: ה | C91: ה אור עקיבא | D91: עתיד בטוח יוסי כדורי | F91: 2 | G91: 2 | H91: TRUE | I91: מועמד למועצה | J91: מסיקה גולן
A92: אור עקיבא | B92: זך | C92: זך אור עקיבא | D92: לב בראשות אברהם כהן | F92: 1 | G92: 1 | H92: TRUE | I92: מועמד למועצה | J92: כהן אברהם
A93: אור עקיבא | B93: י | C93: י אור עקיבא | D93: לשם שמים | F93: 1 | G93: 1 | H93: TRUE | I93: מועמד למועצה | J93: תורג'מן יצחק
A94: אור עקיבא | B94: ל | C94: ל אור עקיבא | D94: אור עקיבא ביתנו | F94: 1 | G94: 1 | H94: TRUE | I94: מועמד למועצה | J94: גרוסמן מיכאל
A95: אור עקיבא | B95: מחל | C95: מחל אור עקיבא | D95: הליכוד שס | E95: מועמד לראש רשות | F95: 1 | G95: 3 | H95: TRUE | I95: מועמד למועצה | J95: יוסיפוב שמחה
A96: אור עקיבא | B96: מחל | C96: מחל אור עקיבא | D96: הליכוד שס | F96: 2 | G96: 3 | H96: TRUE | I96: מועמד למועצה | J96: אנקונינה אלי
A97: אור עקיבא | B97: מחל | C97: מחל אור עקיבא | D97: הליכוד שס | F97: 3 | G97: 3 | H97: TRUE | I97: מועמד למועצה | J97: זסלבסקי ילנה | K97: 1
A98: אור עקיבא | B98: ת | C98: ת אור עקיבא | D98: התנופה בראשות ארקדי גדילוב | F98: 1 | G98: 2 | H98: TRUE | I98: מועמד למועצה | J98: גדילוב ארקדי
A99: אור עקיבא | B99: ת | C99: ת אור עקיבא | D99: התנופה בראשות ארקדי גדילוב | F99: 2 | G99: 2 | H99: TRUE | I99: מועמד למועצה | J99: ראובן רחמים
A100: אזור | B100: א | C100: א אזור | D100: אזור אחת בראשות אריה פכטר | E100: מועמד לראש רשות | F100: 1 | G100: 6 | H100: TRUE | I100: מועמד למועצה | J100: פכטר אריה
A101: אזור | B101: א | C101: א אזור | D101: אזור אחת בראשות אריה פכטר | F101: 2 | G101: 6 | H101: TRUE | I101: מועמד למועצה | J101: זילוני אפרים
A102: אזור | B102: א | C102: א אזור | D102: אזור אחת בראשות אריה פכטר | F102: 3 | G102: 6 | H102: TRUE | I102: מועמד למועצה | J102: שאול מזל | K102: 1
...

Sheet הצבעות 2008
C1: מועצה | G1: ראש רשות
A2: שם היישוב | B2: סה"כ בז"ב | C2: מצביעים | D2: אחוז הצבעה | E2: פסולים | F2: כשרים | G2: מצביעים | H2: אחוז הצבעה | I2: פסולים | J2: כשרים | K2: נספר | L2: מספר נשים | M2: מרווח טעות
A3: אבו גוש | B3: 3961 | C3: 3544 | D3: =(C3/B3) -> 0.89472355 | E3: 96 | F3: 3448 | G3: 3577 | H3: =(G3/B3) -> 0.90305478 | I3: 109 | J3: 3468 | K3: =IF(VLOOKUP(A3,'חישוב בזב'!$I$2:$K$188,3,FALSE)=FALSE,"No","Yes") -> No
A4: אבו סנאן | B4: 7362 | C4: 6623 | D4: =(C4/B4) -> 0.89961967 | E4: 237 | F4: 6386 | G4: 6627 | H4: =(G4/B4) -> 0.900163 | I4: 425 | J4: 6202 | K4: =IF(VLOOKUP(A4,'חישוב בזב'!$I$2:$K$188,3,FALSE)=FALSE,"No","Yes") -> No
A5: אבן יהודה | B5: 7631 | C5: 4913 | D5: =(C5/B5) -> 0.64382126 | E5: 138 | F5: 4775 | G5: 4909 | H5: =(G5/B5) -> 0.64329708 | I5: 130 | J5: 4779 | K5: =IF(VLOOKUP(A5,'חישוב בזב'!$I$2:$K$188,3,FALSE)=FALSE,"No","Yes") -> No
A6: אום אל פחם | B6: 25761 | C6: 20892 | D6: =(C6/B6) -> 0.81099336 | E6: 498 | F6: 20394 | G6: 20891 | H6: =(G6/B6) -> 0.81095454 | I6: 864 | J6: 20027 | K6: Yes | L6: 0
A7: אור יהודה | B7: 25384 | C7: 15150 | D7: =(C7/B7) -> 0.59683265 | E7: 430 | F7: 14720 | G7: 15157 | H7: =(G7/B7) -> 0.59710841 | I7: 750 | J7: 14407 | K7: =IF(VLOOKUP(A7,'חישוב בזב'!$I$2:$K$188,3,FALSE)=FALSE,"No","Yes") -> Yes | L7: 2
A8: אור עקיבא | B8: 14105 | C8: 9024 | D8: =(C8/B8) -> 0.63977313 | E8: 275 | F8: 8749 | G8: 9024 | H8: =(G8/B8) -> 0.63977313 | I8: 351 | J8: 8673 | K8: =IF(VLOOKUP(A8,'חישוב בזב'!$I$2:$K$188,3,FALSE)=FALSE,"No","Yes") -> Yes | L8: 0
A9: אורנית | B9: 4258 | C9: 2878 | D9: =(C9/B9) -> 0.67590418 | E9: 63 | F9: 2815 | G9: 2879 | H9: =(G9/B9) -> 0.67613903 | I9: 56 | J9: 2823 | K9: =IF(VLOOKUP(A9,'חישוב בזב'!$I$2:$K$188,3,FALSE)=FALSE,"No","Yes") -> No
A10: אזור | B10: 8730 | C10: 5425 | D10: =(C10/B10) -> 0.62142039 | E10: 135 | F10: 5290 | G10: 5425 | H10: =(G10/B10) -> 0.62142039 | I10: 148 | J10: 5277 | K10: =IF(VLOOKUP(A10,'חישוב בזב'!$I$2:$K$188,3,FALSE)=FALSE,"No","Yes") -> No
A11: אילת | B11: 46880 | C11: 21257 | D11: =(C11/B11) -> 0.4534343 | E11: 394 | F11: 20863 | G11: 21256 | H11: =(G11/B11) -> 0.45341297 | I11: 699 | J11: 20557 | K11: =IF(VLOOKUP(A11,'חישוב בזב'!$I$2:$K$188,3,FALSE)=FALSE,"No","Yes") -> Yes | L11: 3 | M11: 1
A12: אכסאל | B12: 6991 | C12: 6160 | D12: =(C12/B12) -> 0.88113289 | E12: 166 | F12: 5994 | G12: 6158 | H12: =(G12/B12) -> 0.8808468 | I12: 169 | J12: 5989 | K12: =IF(VLOOKUP(A12,'חישוב בזב'!$I$2:$K$188,3,FALSE)=FALSE,"No","Yes") -> No
A13: אליכין | B13: 2109 | C13: 1859 | D13: =(C13/B13) -> 0.88146041 | E13: 37 | F13: 1822 | G13: 1844 | H13: =(G13/B13) -> 0.87434803 | I13: 51 | J13: 1793 | K13: =IF(VLOOKUP(A13,'חישוב בזב'!$I$2:$K$188,3,FALSE)=FALSE,"No","Yes") -> No
A14: אלעד | B14: 14261 | C14: 10711 | D14: =(C14/B14) -> 0.75106935 | E14: 260 | F14: 10451 | G14: 10711 | H14: =(G14/B14) -> 0.75106935 | I14: 417 | J14: 10294 | K14: =IF(VLOOKUP(A14,'חישוב בזב'!$I$2:$K$188,3,FALSE)=FALSE,"No","Yes") -> Yes | L14: 0
A15: אלפי מנשה | B15: 4758 | C15: 3069 | D15: =(C15/B15) -> 0.64501892 | E15: 66 | F15: 3003 | G15: 3069 | H15: =(G15/B15) -> 0.64501892 | I15: 100 | J15: 2969 | K15: =IF(VLOOKUP(A15,'חישוב בזב'!$I$2:$K$188,3,FALSE)=FALSE,"No","Yes") -> No
A16: אלקנה | B16: 2272 | C16: 1766 | D16: =(C16/B16) -> 0.77728873 | E16: 46 | F16: 1720 | G16: 1767 | H16: =(G16/B16) -> 0.77772887 | I16: 59 | J16: 1708 | K16: =IF(VLOOKUP(A16,'חישוב בזב'!$I$2:$K$188,3,FALSE)=FALSE,"No","Yes") -> No
A17: אפרתה | B17: 5142 | C17: 3456 | D17: =(C17/B17) -> 0.67211202 | E17: 62 | F17: 3394 | G17: 3454 | H17: =(G17/B17) -> 0.67172306 | I17: 93 | J17: 3361 | K17: =IF(VLOOKUP(A17,'חישוב בזב'!$I$2:$K$188,3,FALSE)=FALSE,"No","Yes") -> No
A18: אריאל | B18: 13668 | C18: 7476 | D18: =(C18/B18) -> 0.54697103 | E18: 279 | F18: 7197 | G18: 7477 | H18: =(G18/B18) -> 0.54704419 | I18: 403 | J18: 7074 | K18: =IF(VLOOKUP(A18,'חישוב בזב'!$I$2:$K$188,3,FALSE)=FALSE,"No","Yes") -> Yes | L18: 1
A19: אשדוד | B19: 161573 | C19: 91632 | D19: =(C19/B19) -> 0.56712446 | E19: 2516 | F19: 89116 | G19: 91615 | H19: =(G19/B19) -> 0.56701924 | I19: 2645 | J19: 88970 | K19: =IF(VLOOKUP(A19,'חישוב בזב'!$I$2:$K$188,3,FALSE)=FALSE,"No","Yes") -> Yes | L19: 4
A20: אשקלוןן | B20: 92061 | C20: 43735 | D20: =(C20/B20) -> 0.47506545 | E20: 1265 | F20: 42470 | G20: 43791 | H20: =(G20/B20) -> 0.47567374 | I20: 2253 | J20: 41538 | K20: Yes | L20: 1
A21: באר יעקב | B21: 5961 | C21: 4079 | D21: =(C21/B21) -> 0.68428116 | E21: 134 | F21: 3945 | G21: 4078 | H21: =(G21/B21) -> 0.6841134 | I21: 157 | J21: 3921 | K21: =IF(VLOOKUP(A21,'חישוב בזב'!$I$2:$K$188,3,FALSE)=FALSE,"No","Yes") -> No
A22: באר שבע | B22: 153752 | C22: 66054 | D22: =(C22/B22) -> 0.42961392 | E22: 1679 | F22: 64375 | G22: 66061 | H22: =(G22/B22) -> 0.42965945 | I22: 3285 | J22: 62776 | K22: =IF(VLOOKUP(A22,'חישוב בזב'!$I$2:$K$188,3,FALSE)=FALSE,"No","Yes") -> Yes | L22: 5 | M22: 1
A23: בועיינה-נוג'ידאת | B23: 4657 | C23: 4103 | D23: =(C23/B23) -> 0.8810393 | E23: 145 | F23: 3958 | G23: 4102 | H23: =(G23/B23) -> 0.88082457 | I23: 964 | J23: 3138 | K23: =IF(VLOOKUP(A23,'חישוב בזב'!$I$2:$K$188,3,FALSE)=FALSE,"No","Yes") -> No
A24: ביר אל-מכסור | B24: 4669 | C24: 3889 | D24: =(C24/B24) -> 0.83294067 | E24: 160 | F24: 3729 | G24: 3895 | H24: =(G24/B24) -> 0.83422574 | I24: 140 | J24: 3755 | K24: =IF(VLOOKUP(A24,'חישוב בזב'!$I$2:$K$188,3,FALSE)=FALSE,"No","Yes") -> No
A25: בית אריה | B25: 2439 | C25: 1931 | D25: =(C25/B25) -> 0.79171792 | E25: 56 | F25: 1875 | G25: 1933 | H25: =(G25/B25) -> 0.79253793 | I25: 45 | J25: 1888 | K25: =IF(VLOOKUP(A25,'חישוב בזב'!$I$2:$K$188,3,FALSE)=FALSE,"No","Yes") -> No
A26: בית ג'ן | B26: 6868 | C26: 6520 | D26: =(C26/B26) -> 0.94933023 | E26: 172 | F26: 6348 | G26: 6517 | H26: =(G26/B26) -> 0.94889342 | I26: 189 | J26: 6328 | K26: =IF(VLOOKUP(A26,'חישוב בזב'!$I$2:$K$188,3,FALSE)=FALSE,"No","Yes") -> No
A27: בית דגן | B27: 4438 | C27: 3386 | D27: =(C27/B27) -> 0.76295629 | E27: 93 | F27: 3293 | G27: 3385 | H27: =(G27/B27) -> 0.76273096 | I27: 97 | J27: 3288 | K27: =IF(VLOOKUP(A27,'חישוב בזב'!$I$2:$K$188,3,FALSE)=FALSE,"No","Yes") -> No
A28: בית שאן | B28: 13049 | C28: 9255 | D28: =(C28/B28) -> 0.70924975 | E28: 285 | F28: 8970 | G28: 9254 | H28: =(G28/B28) -> 0.70917312 | I28: 334 | J28: 8920 | K28: =IF(VLOOKUP(A28,'חישוב בזב'!$I$2:$K$188,3,FALSE)=FALSE,"No","Yes") -> Yes | L28: 0
A29: בית שמש | B29: 40101 | C29: 26913 | D29: =(C29/B29) -> 0.6711304 | E29: 539 | F29: 26374 | G29: 26955 | H29: =(G29/B29) -> 0.67217775 | I29: 484 | J29: 26471 | K29: =IF(VLOOKUP(A29,'חישוב בזב'!$I$2:$K$188,3,FALSE)=FALSE,"No","Yes") -> Yes | L29: 2
A30: בני עיש | B30: 5683 | C30: 3611 | D30: =(C30/B30) -> 0.63540384 | E30: 136 | F30: 3475 | G30: 3614 | H30: =(G30/B30) -> 0.63593173 | I30: 125 | J30: 3489 | K30: No
A31: בנימינה-גבעת עדה | B31: 8007 | C31: 5638 | D31: =(C31/B31) -> 0.70413388 | E31: 120 | F31: 5518 | G31: 5642 | H31: =(G31/B31) -> 0.70463345 | I31: 120 | J31: 5522 | K31: =IF(VLOOKUP(A31,'חישוב בזב'!$I$2:$K$188,3,FALSE)=FALSE,"No","Yes") -> No
A32: בסמת טבעון | B32: 4037 | C32: 3270 | D32: =(C32/B32) -> 0.81000743 | E32: 160 | F32: 3110 | G32: 3274 | H32: =(G32/B32) -> 0.81099827 | I32: 114 | J32: 3160 | K32: =IF(VLOOKUP(A32,'חישוב בזב'!$I$2:$K$188,3,FALSE)=FALSE,"No","Yes") -> No
A33: בת ים | B33: 129567 | C33: 48185 | D33: =(C33/B33) -> 0.37189253 | E33: 1521 | F33: 46664 | G33: 48151 | H33: =(G33/B33) -> 0.37163012 | I33: 3071 | J33: 45080 | K33: =IF(VLOOKUP(A33,'חישוב בזב'!$I$2:$K$188,3,FALSE)=FALSE,"No","Yes") -> Yes | L33: 4
A34: גבעת זאב | B34: 7874 | C34: 5365 | D34: =(C34/B34) -> 0.68135636 | E34: 133 | F34: 5232 | G34: 5359 | H34: =(G34/B34) -> 0.68059436 | I34: 240 | J34: 5119 | K34: =IF(VLOOKUP(A34,'חישוב בזב'!$I$2:$K$188,3,FALSE)=FALSE,"No","Yes") -> No
A35: גבעת שמואל | B35: 14596 | C35: 9431 | D35: =(C35/B35) -> 0.64613593 | E35: 152 | F35: 9279 | G35: 9439 | H35: =(G35/B35) -> 0.64668402 | I35: 373 | J35: 9066 | K35: =IF(VLOOKUP(A35,'חישוב בזב'!$I$2:$K$188,3,FALSE)=FALSE,"No","Yes") -> Yes | L35: 1
A36: גבעתיים | B36: 44717 | C36: 18605 | D36: =(C36/B36) -> 0.41606101 | E36: 516 | F36: 18089 | G36: 18600 | H36: =(G36/B36) -> 0.41594919 | I36: 1325 | J36: 17275 | K36: =IF(VLOOKUP(A36,'חישוב בזב'!$I$2:$K$188,3,FALSE)=FALSE,"No","Yes") -> Yes | L36: 5 | M36: 1
A37: ג'דיידה-מכר | B37: 10945 | C37: 9208 | D37: =(C37/B37) -> 0.8412974 | E37: 418 | F37: 8790 | G37: 9208 | H37: =(G37/B37) -> 0.8412974 | I37: 398 | J37: 8810 | K37: =IF(VLOOKUP(A37,'חישוב בזב'!$I$2:$K$188,3,FALSE)=FALSE,"No","Yes") -> No
A38: גדרה | B38: 11751 | C38: 7751 | D38: =(C38/B38) -> 0.65960344 | E38: 217 | F38: 7534 | G38: 7748 | H38: =(G38/B38) -> 0.65934814 | I38: 292 | J38: 7456 | K38: =IF(VLOOKUP(A38,'חישוב בזב'!$I$2:$K$188,3,FALSE)=FALSE,"No","Yes") -> No
A39: ג'ולס | B39: 3675 | C39: 3482 | D39: =(C39/B39) -> 0.94748299 | E39: 165 | F39: 3317 | G39: 3482 | H39: =(G39/B39) -> 0.94748299 | I39: 73 | J39: 3409 | K39: =IF(VLOOKUP(A39,'חישוב בזב'!$I$2:$K$188,3,FALSE)=FALSE,"No","Yes") -> No
A40: ג'לג'וליה | B40: 4831 | C40: 4497 | D40: =(C40/B40) -> 0.93086318 | E40: 77 | F40: 4420 | G40: 4488 | H40: =(G40/B40) -> 0.92900021 | I40: 72 | J40: 4416 | K40: =IF(VLOOKUP(A40,'חישוב בזב'!$I$2:$K$188,3,FALSE)=FALSE,"No","Yes") -> No
A41: גן יבנה | B41: 11351 | C41: 7009 | D41: =(C41/B41) -> 0.61747864 | E41: 156 | F41: 6853 | G41: 7008 | H41: =(G41/B41) -> 0.61739054 | I41: 348 | J41: 6660 | K41: =IF(VLOOKUP(A41,'חישוב בזב'!$I$2:$K$188,3,FALSE)=FALSE,"No","Yes") -> No
A42: גני תקווה | B42: 9953 | C42: 6416 | D42: =(C42/B42) -> 0.64462976 | E42: 136 | F42: 6280 | G42: 6414 | H42: =(G42/B42) -> 0.64442882 | I42: 167 | J42: 6247 | K42: =IF(VLOOKUP(A42,'חישוב בזב'!$I$2:$K$188,3,FALSE)=FALSE,"No","Yes") -> No
A43: ג'סר א-זרקא | B43: 6774 | C43: 5835 | D43: =(C43/B43) -> 0.86138175 | E43: 153 | F43: 5682 | G43: 5840 | H43: =(G43/B43) -> 0.86211987 | I43: 144 | J43: 5696 | K43: =IF(VLOOKUP(A43,'חישוב בזב'!$I$2:$K$188,3,FALSE)=FALSE,"No","Yes") -> No
A44: ג'ש (גוש חלב) | B44: 2099 | C44: 1758 | D44: =(C44/B44) -> 0.83754169 | E44: 84 | F44: 1674 | G44: 1758 | H44: =(G44/B44) -> 0.83754169 | I44: 73 | J44: 1685 | K44: =IF(VLOOKUP(A44,'חישוב בזב'!$I$2:$K$188,3,FALSE)=FALSE,"No","Yes") -> No
A45: דייר חנא | B45: 5592 | C45: 5355 | D45: =(C45/B45) -> 0.95761803 | E45: 123 | F45: 5232 | G45: 5353 | H45: =(G45/B45) -> 0.95726037 | I45: 110 | J45: 5243 | K45: =IF(VLOOKUP(A45,'חישוב בזב'!$I$2:$K$188,3,FALSE)=FALSE,"No","Yes") -> No
A46: דימונה | B46: 27417 | C46: 16911 | D46: =(C46/B46) -> 0.61680709 | E46: 470 | F46: 16441 | G46: 16922 | H46: =(G46/B46) -> 0.6172083 | I46: 627 | J46: 16295 | K46: =IF(VLOOKUP(A46,'חישוב בזב'!$I$2:$K$188,3,FALSE)=FALSE,"No","Yes") -> Yes | L46: 1
A47: הוד השרון | B47: 34803 | C47: 19674 | D47: =(C47/B47) -> 0.5652961 | E47: 470 | F47: 19204 | G47: 19647 | H47: =(G47/B47) -> 0.5645203 | I47: 793 | J47: 18854 | K47: =IF(VLOOKUP(A47,'חישוב בזב'!$I$2:$K$188,3,FALSE)=FALSE,"No","Yes") -> Yes | L47: 2
A48: הר אדר | B48: 2067 | C48: 1529 | D48: =(C48/B48) -> 0.7397194 | E48: 21 | F48: 1508 | G48: 1529 | H48: =(G48/B48) -> 0.7397194 | I48: 28 | J48: 1501 | K48: =IF(VLOOKUP(A48,'חישוב בזב'!$I$2:$K$188,3,FALSE)=FALSE,"No","Yes") -> No
A49: הרצליה | B49: 77734 | C49: 33602 | D49: =(C49/B49) -> 0.43226902 | E49: 851 | F49: 32751 | G49: 33627 | H49: =(G49/B49) -> 0.43259063 | I49: 2160 | J49: 31467 | K49: =IF(VLOOKUP(A49,'חישוב בזב'!$I$2:$K$188,3,FALSE)=FALSE,"No","Yes") -> Yes | L49: 5
A50: זכרון יעקב | B50: 12816 | C50: 7615 | D50: =(C50/B50) -> 0.59417915 | E50: 226 | F50: 7389 | G50: 7613 | H50: =(G50/B50) -> 0.5940231 | I50: 275 | J50: 7338 | K50: =IF(VLOOKUP(A50,'חישוב בזב'!$I$2:$K$188,3,FALSE)=FALSE,"No","Yes") -> No
A51: זרזיר | B51: 3836 | C51: 3406 | D51: =(C51/B51) -> 0.88790407 | E51: 285 | F51: 3121 | G51: 3405 | H51: =(G51/B51) -> 0.88764338 | I51: 208 | J51: 3197 | K51: =IF(VLOOKUP(A51,'חישוב בזב'!$I$2:$K$188,3,FALSE)=FALSE,"No","Yes") -> No
A52: חדרה | B52: 65823 | C52: 32750 | D52: =(C52/B52) -> 0.49754645 | E52: 894 | F52: 31856 | G52: 32750 | H52: =(G52/B52) -> 0.49754645 | I52: 1539 | J52: 31211 | K52: =IF(VLOOKUP(A52,'חישוב בזב'!$I$2:$K$188,3,FALSE)=FALSE,"No","Yes") -> Yes | L52: 3
A53: חולון | B53: 153661 | C53: 61329 | D53: =(C53/B53) -> 0.39911884 | E53: 1367 | F53: 59962 | G53: 61316 | H53: =(G53/B53) -> 0.39903424 | I53: 4081 | J53: 57235 | K53: =IF(VLOOKUP(A53,'חישוב בזב'!$I$2:$K$188,3,FALSE)=FALSE,"No","Yes") -> Yes | L53: 3 | M53: 1
A54: חורה | B54: 4604 | C54: 4005 | D54: =(C54/B54) -> 0.86989574 | E54: 134 | F54: 3871 | G54: 4005 | H54: =(G54/B54) -> 0.86989574 | I54: 128 | J54: 3877 | K54: =IF(VLOOKUP(A54,'חישוב בזב'!$I$2:$K$188,3,FALSE)=FALSE,"No","Yes") -> No
A55: חורפיש | B55: 3546 | C55: 3303 | D55: =(C55/B55) -> 0.93147208 | E55: 79 | F55: 3224 | G55: 3301 | H55: =(G55/B55) -> 0.93090807 | I55: 97 | J55: 3204 | K55: =IF(VLOOKUP(A55,'חישוב בזב'!$I$2:$K$188,3,FALSE)=FALSE,"No","Yes") -> No
A56: חיפה | B56: 243975 | C56: 93833 | D56: =(C56/B56) -> 0.38460088 | E56: 2461 | F56: 91372 | G56: 94025 | H56: =(G56/B56) -> 0.38538785 | I56: 4417 | J56: 89608 | K56: =IF(VLOOKUP(A56,'חישוב בזב'!$I$2:$K$188,3,FALSE)=FALSE,"No","Yes") -> Yes | L56: 5
A57: חצור הגלילית | B57: 6651 | C57: 5029 | D57: =(C57/B57) -> 0.7561269 | E57: 148 | F57: 4881 | G57: 5029 | H57: =(G57/B57) -> 0.7561269 | I57: 236 | J57: 4793 | K57: =IF(VLOOKUP(A57,'חישוב בזב'!$I$2:$K$188,3,FALSE)=FALSE,"No","Yes") -> No
A58: טבריה | B58: 33221 | C58: 19398 | D58: =(C58/B58) -> 0.58390777 | E58: 480 | F58: 18918 | G58: 19404 | H58: =(G58/B58) -> 0.58408838 | I58: 714 | J58: 18690 | K58: =IF(VLOOKUP(A58,'חישוב בזב'!$I$2:$K$188,3,FALSE)=FALSE,"No","Yes") -> Yes | L58: 1
A59: טירה | B59: 14303 | C59: 12708 | D59: =(C59/B59) -> 0.88848493 | E59: 242 | F59: 12466 | G59: 12708 | H59: =(G59/B59) -> 0.88848493 | I59: 400 | J59: 12308 | K59: =IF(VLOOKUP(A59,'חישוב בזב'!$I$2:$K$188,3,FALSE)=FALSE,"No","Yes") -> Yes | L59: 0
A60: טירת כרמל | B60: 16057 | C60: 10573 | D60: =(C60/B60) -> 0.65846671 | E60: 371 | F60: 10202 | G60: 10565 | H60: =(G60/B60) -> 0.65796849 | I60: 465 | J60: 10100 | K60: =IF(VLOOKUP(A60,'חישוב בזב'!$I$2:$K$188,3,FALSE)=FALSE,"No","Yes") -> Yes | L60: 1
A61: טמרה | B61: 17069 | C61: 15698 | D61: =(C61/B61) -> 0.91967895 | E61: 287 | F61: 15411 | G61: 15704 | H61: =(G61/B61) -> 0.92003046 | I61: 312 | J61: 15392 | K61: =IF(VLOOKUP(A61,'חישוב בזב'!$I$2:$K$188,3,FALSE)=FALSE,"No","Yes") -> Yes | L61: 0
A62: יאנוח-ג'ת | B62: 3434 | C62: 3279 | D62: =(C62/B62) -> 0.95486313 | E62: 28 | F62: 3251 | G62: 3280 | H62: =(G62/B62) -> 0.95515434 | I62: 51 | J62: 3229 | K62: =IF(VLOOKUP(A62,'חישוב בזב'!$I$2:$K$188,3,FALSE)=FALSE,"No","Yes") -> No
A63: יבנאל | B63: 2097 | C63: 1786 | D63: =(C63/B63) -> 0.85169289 | E63: 42 | F63: 1744 | G63: 1782 | H63: =(G63/B63) -> 0.84978541 | I63: 44 | J63: 1738 | K63: =IF(VLOOKUP(A63,'חישוב בזב'!$I$2:$K$188,3,FALSE)=FALSE,"No","Yes") -> No
A64: יבנה | B64: 25680 | C64: 15264 | D64: =(C64/B64) -> 0.59439252 | E64: 424 | F64: 14840 | G64: 15263 | H64: =(G64/B64) -> 0.59435358 | I64: 748 | J64: 14515 | K64: =IF(VLOOKUP(A64,'חישוב בזב'!$I$2:$K$188,3,FALSE)=FALSE,"No","Yes") -> Yes | L64: 2 | M64: 1
A65: יהוד-מונוסון | B65: 20899 | C65: 13296 | D65: =(C65/B65) -> 0.63620269 | E65: 263 | F65: 13033 | G65: 13300 | H65: =(G65/B65) -> 0.63639409 | I65: 750 | J65: 12550 | K65: =IF(VLOOKUP(A65,'חישוב בזב'!$I$2:$K$188,3,FALSE)=FALSE,"No","Yes") -> Yes | L65: 2
A66: יפיע | B66: 10048 | C66: 7713 | D66: =(C66/B66) -> 0.76761545 | E66: 201 | F66: 7512 | G66: 7708 | H66: =(G66/B66) -> 0.76711783 | I66: 190 | J66: 7518 | K66: =IF(VLOOKUP(A66,'חישוב בזב'!$I$2:$K$188,3,FALSE)=FALSE,"No","Yes") -> No
A67: יקנעם עילית | B67: 13824 | C67: 8386 | D67: =(C67/B67) -> 0.60662616 | E67: 281 | F67: 8105 | G67: 8386 | H67: =(G67/B67) -> 0.60662616 | I67: 337 | J67: 8049 | K67: =IF(VLOOKUP(A67,'חישוב בזב'!$I$2:$K$188,3,FALSE)=FALSE,"No","Yes") -> Yes | L67: 3
A68: ירושלים | B68: 527672 | C68: 228262 | D68: =(C68/B68) -> 0.43258312 | E68: 4543 | F68: 223719 | G68: 228240 | H68: =(G68/B68) -> 0.43254143 | I68: 7730 | J68: 220510 | K68: =IF(VLOOKUP(A68,'חישוב בזב'!$I$2:$K$188,3,FALSE)=FALSE,"No","Yes") -> Yes | L68: 6
A69: כאבול | B69: 5982 | C69: 5567 | D69: =(C69/B69) -> 0.93062521 | E69: 223 | F69: 5344 | G69: 5567 | H69: =(G69/B69) -> 0.93062521 | I69: 116 | J69: 5451 | K69: =IF(VLOOKUP(A69,'חישוב בזב'!$I$2:$K$188,3,FALSE)=FALSE,"No","Yes") -> No
A70: כאוכב אבו אל-היג'א | B70: 1952 | C70: 1783 | D70: =(C70/B70) -> 0.91342213 | E70: 60 | F70: 1723 | G70: 1783 | H70: =(G70/B70) -> 0.91342213 | I70: 85 | J70: 1698 | K70: =IF(VLOOKUP(A70,'חישוב בזב'!$I$2:$K$188,3,FALSE)=FALSE,"No","Yes") -> No
A71: כוכב יאיר | B71: 7782 | C71: 4859 | D71: =(C71/B71) -> 0.62438962 | E71: 83 | F71: 4776 | G71: 4859 | H71: =(G71/B71) -> 0.62438962 | I71: 87 | J71: 4772 | K71: =IF(VLOOKUP(A71,'חישוב בזב'!$I$2:$K$188,3,FALSE)=FALSE,"No","Yes") -> No
A72: כסיפה | B72: 5517 | C72: 4874 | D72: =(C72/B72) -> 0.88345115 | E72: 245 | F72: 4629 | G72: 4874 | H72: =(G72/B72) -> 0.88345115 | I72: 224 | J72: 4650 | K72: =IF(VLOOKUP(A72,'חישוב בזב'!$I$2:$K$188,3,FALSE)=FALSE,"No","Yes") -> No
A73: כעביה-טבאש-חג'אג'רה | B73: 2635 | C73: 2458 | D73: =(C73/B73) -> 0.93282732 | E73: 163 | F73: 2295 | G73: 2460 | H73: =(G73/B73) -> 0.93358634 | I73: 63 | J73: 2397 | K73: =IF(VLOOKUP(A73,'חישוב בזב'!$I$2:$K$188,3,FALSE)=FALSE,"No","Yes") -> No
A74: כפר ברא | B74: 1516 | C74: 1453 | D74: =(C74/B74) -> 0.95844327 | E74: 14 | F74: 1439 | G74: 1451 | H74: =(G74/B74) -> 0.95712401 | I74: 11 | J74: 1440 | K74: =IF(VLOOKUP(A74,'חישוב בזב'!$I$2:$K$188,3,FALSE)=FALSE,"No","Yes") -> No
A75: כפר ורדים | B75: 4326 | C75: 2897 | D75: =(C75/B75) -> 0.66967175 | E75: 46 | F75: 2851 | G75: 2903 | H75: =(G75/B75) -> 0.67105871 | I75: 82 | J75: 2821 | K75: =IF(VLOOKUP(A75,'חישוב בזב'!$I$2:$K$188,3,FALSE)=FALSE,"No","Yes") -> No
A76: כפר יאסיף | B76: 6355 | C76: 5577 | D76: =(C76/B76) -> 0.87757671 | E76: 114 | F76: 5463 | G76: 5577 | H76: =(G76/B76) -> 0.87757671 | I76: 122 | J76: 5455 | K76: =IF(VLOOKUP(A76,'חישוב בזב'!$I$2:$K$188,3,FALSE)=FALSE,"No","Yes") -> No
A77: כפר יונה | B77: 11021 | C77: 6682 | D77: =(C77/B77) -> 0.60629707 | E77: 199 | F77: 6483 | G77: 6660 | H77: =(G77/B77) -> 0.60430088 | I77: 212 | J77: 6448 | K77: =IF(VLOOKUP(A77,'חישוב בזב'!$I$2:$K$188,3,FALSE)=FALSE,"No","Yes") -> No
A78: כפר כמא | B78: 2133 | C78: 1917 | D78: =(C78/B78) -> 0.89873418 | E78: 147 | F78: 1770 | G78: 1917 | H78: =(G78/B78) -> 0.89873418 | I78: 112 | J78: 1805 | K78: =IF(VLOOKUP(A78,'חישוב בזב'!$I$2:$K$188,3,FALSE)=FALSE,"No","Yes") -> No
A79: כפר סבא | B79: 70871 | C79: 31371 | D79: =(C79/B79) -> 0.44264932 | E79: 776 | F79: 30595 | G79: 31383 | H79: =(G79/B79) -> 0.44281864 | I79: 3110 | J79: 28273 | K79: =IF(VLOOKUP(A79,'חישוב בזב'!$I$2:$K$188,3,FALSE)=FALSE,"No","Yes") -> Yes | L79: 3
A80: כפר קאסם | B80: 10674 | C80: 10098 | D80: =(C80/B80) -> 0.9460371 | E80: 176 | F80: 9922 | G80: 10097 | H80: =(G80/B80) -> 0.94594341 | I80: 117 | J80: 9980 | K80: =IF(VLOOKUP(A80,'חישוב בזב'!$I$2:$K$188,3,FALSE)=FALSE,"No","Yes") -> Yes | L80: 0
A81: כפר קרע | B81: 9497 | C81: 8465 | D81: =(C81/B81) -> 0.89133411 | E81: 275 | F81: 8190 | G81: 8465 | H81: =(G81/B81) -> 0.89133411 | I81: 197 | J81: 8268 | K81: =IF(VLOOKUP(A81,'חישוב בזב'!$I$2:$K$188,3,FALSE)=FALSE,"No","Yes") -> No
A82: כפר תבור | B82: 2090 | C82: 1571 | D82: =(C82/B82) -> 0.75167464 | E82: 38 | F82: 1533 | G82: 1571 | H82: =(G82/B82) -> 0.75167464 | I82: 52 | J82: 1519 | K82: =IF(VLOOKUP(A82,'חישוב בזב'!$I$2:$K$188,3,FALSE)=FALSE,"No","Yes") -> No
A83: כרמיאל | B83: 39859 | C83: 22013 | D83: =(C83/B83) -> 0.55227176 | E83: 755 | F83: 21258 | G83: 22030 | H83: =(G83/B83) -> 0.55269826 | I83: 1213 | J83: 20817 | K83: =IF(VLOOKUP(A83,'חישוב בזב'!$I$2:$K$188,3,FALSE)=FALSE,"No","Yes") -> Yes | L83: 3
A84: להבים | B84: 4212 | C84: 2911 | D84: =(C84/B84) -> 0.69112061 | E84: 40 | F84: 2871 | G84: 2915 | H84: =(G84/B84) -> 0.69207028 | I84: 56 | J84: 2859 | K84: =IF(VLOOKUP(A84,'חישוב בזב'!$I$2:$K$188,3,FALSE)=FALSE,"No","Yes") -> No
A85: לקיה | B85: 4629 | C85: 4200 | D85: =(C85/B85) -> 0.9073234 | E85: 94 | F85: 4106 | G85: 4198 | H85: =(G85/B85) -> 0.90689134 | I85: 81 | J85: 4117 | K85: =IF(VLOOKUP(A85,'חישוב בזב'!$I$2:$K$188,3,FALSE)=FALSE,"No","Yes") -> No
A86: מבשרת ציון | B86: 18771 | C86: 9967 | D86: =(C86/B86) -> 0.53097864 | E86: 257 | F86: 9710 | G86: 9971 | H86: =(G86/B86) -> 0.53119173 | I86: 438 | J86: 9533 | K86: =IF(VLOOKUP(A86,'חישוב בזב'!$I$2:$K$188,3,FALSE)=FALSE,"No","Yes") -> No
A87: מגאר | B87: 12272 | C87: 10244 | D87: =(C87/B87) -> 0.83474576 | E87: 624 | F87: 9620 | G87: 10236 | H87: =(G87/B87) -> 0.83409387 | I87: 496 | J87: 9740 | K87: =IF(VLOOKUP(A87,'חישוב בזב'!$I$2:$K$188,3,FALSE)=FALSE,"No","Yes") -> No
A88: מגדל העמק | B88: 20195 | C88: 12788 | D88: =(C88/B88) -> 0.63322605 | E88: 336 | F88: 12452 | G88: 12789 | H88: =(G88/B88) -> 0.63327556 | I88: 636 | J88: 12153 | K88: =IF(VLOOKUP(A88,'חישוב בזב'!$I$2:$K$188,3,FALSE)=FALSE,"No","Yes") -> Yes | L88: 1
A89: מודיעין-מכבים-רעות | B89: 42964 | C89: 24628 | D89: =(C89/B89) -> 0.57322409 | E89: 577 | F89: 24051 | G89: 24623 | H89: =(G89/B89) -> 0.57310772 | I89: 1060 | J89: 23563 | K89: =IF(VLOOKUP(A89,'חישוב בזב'!$I$2:$K$188,3,FALSE)=FALSE,"No","Yes") -> Yes | L89: 3
A90: מזכרת בתיה | B90: 6855 | C90: 4887 | D90: =(C90/B90) -> 0.71291028 | E90: 119 | F90: 4768 | G90: 4887 | H90: =(G90/B90) -> 0.71291028 | I90: 115 | J90: 4772 | K90: =IF(VLOOKUP(A90,'חישוב בזב'!$I$2:$K$188,3,FALSE)=FALSE,"No","Yes") -> No
A91: מזרעה | B91: 2337 | C91: 2181 | D91: =(C91/B91) -> 0.93324775 | E91: 48 | F91: 2133 | G91: 2182 | H91: =(G91/B91) -> 0.93367565 | I91: 42 | J91: 2140 | K91: =IF(VLOOKUP(A91,'חישוב בזב'!$I$2:$K$188,3,FALSE)=FALSE,"No","Yes") -> No
A92: מטולה | B92: 1257 | C92: 890 | D92: =(C92/B92) -> 0.708035 | E92: 22 | F92: 868 | G92: 890 | H92: =(G92/B92) -> 0.708035 | I92: 16 | J92: 874 | K92: =IF(VLOOKUP(A92,'חישוב בזב'!$I$2:$K$188,3,FALSE)=FALSE,"No","Yes") -> No
A93: מיתר | B93: 5134 | C93: 3572 | D93: =(C93/B93) -> 0.6957538 | E93: 60 | F93: 3512 | G93: 3572 | H93: =(G93/B93) -> 0.6957538 | I93: 81 | J93: 3491 | K93: =IF(VLOOKUP(A93,'חישוב בזב'!$I$2:$K$188,3,FALSE)=FALSE,"No","Yes") -> No
A94: מעיליא | B94: 2169 | C94: 1866 | D94: =(C94/B94) -> 0.86030429 | E94: 47 | F94: 1819 | G94: 1865 | H94: =(G94/B94) -> 0.85984325 | I94: 35 | J94: 1830 | K94: =IF(VLOOKUP(A94,'חישוב בזב'!$I$2:$K$188,3,FALSE)=FALSE,"No","Yes") -> No
A95: מעלה אדומים | B95: 23397 | C95: 14228 | D95: =(C95/B95) -> 0.60811215 | E95: 252 | F95: 13976 | G95: 14221 | H95: =(G95/B95) -> 0.60781297 | I95: 706 | J95: 13515 | K95: =IF(VLOOKUP(A95,'חישוב בזב'!$I$2:$K$188,3,FALSE)=FALSE,"No","Yes") -> Yes | L95: 2
A96: מעלות-תרשיחא | B96: 17082 | C96: 11122 | D96: =(C96/B96) -> 0.65109472 | E96: 604 | F96: 10518 | G96: 11122 | H96: =(G96/B96) -> 0.65109472 | I96: 1062 | J96: 10060 | K96: =IF(VLOOKUP(A96,'חישוב בזב'!$I$2:$K$188,3,FALSE)=FALSE,"No","Yes") -> Yes | L96: 1
A97: מצפה רמון | B97: 3577 | C97: 2715 | D97: =(C97/B97) -> 0.75901594 | E97: 109 | F97: 2606 | G97: 2716 | H97: =(G97/B97) -> 0.7592955 | I97: 119 | J97: 2597 | K97: =IF(VLOOKUP(A97,'חישוב בזב'!$I$2:$K$188,3,FALSE)=FALSE,"No","Yes") -> No
A98: משהד | B98: 4149 | C98: 3853 | D98: =(C98/B98) -> 0.92865751 | E98: 225 | F98: 3628 | G98: 3852 | H98: =(G98/B98) -> 0.92841649 | I98: 98 | J98: 3754 | K98: =IF(VLOOKUP(A98,'חישוב בזב'!$I$2:$K$188,3,FALSE)=FALSE,"No","Yes") -> No
A99: נהריה | B99: 45197 | C99: 25285 | D99: =(C99/B99) -> 0.55943979 | E99: 859 | F99: 24426 | G99: 25349 | H99: =(G99/B99) -> 0.56085581 | I99: 1137 | J99: 24212 | K99: =IF(VLOOKUP(A99,'חישוב בזב'!$I$2:$K$188,3,FALSE)=FALSE,"No","Yes") -> Yes | L99: 3
A100: נס ציונה | B100: 25763 | C100: 15951 | D100: =(C100/B100) -> 0.61914373 | E100: 328 | F100: 15623 | G100: 15965 | H100: =(G100/B100) -> 0.61968715 | I100: 1613 | J100: 14352 | K100: =IF(VLOOKUP(A100,'חישוב בזב'!$I$2:$K$188,3,FALSE)=FALSE,"No","Yes") -> Yes | L100: 4
...

Sheet נתוני 2011
B1: שם הרשות | C1: אום אל-פחם | D1: אופקים | E1: אור יהודה | F1: אור עקיבא | G1: אילת | H1: אלעד | I1: אריאל | J1: אשדוד | K1: אשקלון | L1: באקה אל-גרביה | M1: באר שבע | N1: בית שאן | O1: בית שמש | P1: ביתר עילית | Q1: בני ברק | R1: בת ים | S1: גבעת שמואל | T1: גבעתיים | U1: דימונה | V1: הוד השרון | W1: הרצלייה | X1: חדרה | Y1: חולון | Z1: חיפה | AA1: טבריה | AB1: טייבה | AC1: טירה | AD1: טירת כרמל | AE1: טמרה | AF1: יבנה | AG1: יהוד | AH1: יקנעם עילית | AI1: ירושלים | AJ1: כפר סבא | AK1: כפר קאסם | AL1: כרמיאל | AM1: לוד | AN1: מגדל העמק | AO1: מודיעין עילית | AP1: מודיעין-מכבים-רעות* | AQ1: מעלה אדומים | AR1: מעלות-תרשיחא | AS1: נהרייה | AT1: נס ציונה | AU1: נצרת | AV1: נצרת עילית | AW1: נשר | AX1: נתיבות | AY1: נתניה | AZ1: סח'נין | BA1: עכו | BB1: עפולה | BC1: ערד | BD1: פתח תקווה | BE1: צפת | BF1: קלנסווה | BG1: קריית אונו | BH1: קריית אתא | BI1: קריית ביאליק | BJ1: קריית גת | BK1: קריית ים | BL1: קריית מוצקין | BM1: קריית מלאכי | BN1: קריית שמונה | BO1: ראש העין | BP1: ראשון לציון | BQ1: רהט | BR1: רחובות | BS1: רמלה | BT1: רמת גן | BU1: רמת השרון | BV1: רעננה | BW1: שדרות | BX1: שפרעם | BY1: תל אביב -יפו
A2: כללי | B2: סמל הרשות | C2: 2710 | D2: 31 | E2: 2400 | F2: 1020 | G2: 2600 | H2: 1309 | I2: 3570 | J2: 70 | K2: 7100 | L2: 6000 | M2: 9000 | N2: 9200 | O2: 2610 | P2: 3780 | Q2: 6100 | R2: 6200 | S2: 681 | T2: 6300 | U2: 2200 | V2: 9700 | W2: 6400 | X2: 6500 | Y2: 6600 | Z2: 4000 | AA2: 6700 | AB2: 2730 | AC2: 2720 | AD2: 2100 | AE2: 8900 | AF2: 2660 | AG2: 9400 | AH2: 240 | AI2: 3000 | AJ2: 6900 | AK2: 634 | AL2: 1139 | AM2: 7000 | AN2: 874 | AO2: 3797 | AP2: 1200 | AQ2: 3616 | AR2: 1063 | AS2: 9100 | AT2: 7200 | AU2: 7300 | AV2: 1061 | AW2: 2500 | AX2: 246 | AY2: 7400 | AZ2: 7500 | BA2: 7600 | BB2: 7700 | BC2: 2560 | BD2: 7900 | BE2: 8000 | BF2: 638 | BG2: 2620 | BH2: 6800 | BI2: 9500 | BJ2: 2630 | BK2: 9600 | BL2: 8200 | BM2: 1034 | BN2: 2800 | BO2: 2640 | BP2: 8300 | BQ2: 1161 | BR2: 8400 | BS2: 8500 | BT2: 8600 | BU2: 2650 | BV2: 8700 | BW2: 1031 | BX2: 8800 | BY2: 5000
B3: מחוז | C3: חיפה | D3: הדרום | E3: תל אביב | F3: חיפה | G3: הדרום | H3: המרכז | I3: אזור יהודה והשומרון | J3: הדרום | K3: הדרום | L3: חיפה | M3: הדרום | N3: הצפון | O3: ירושלים | P3: אזור יהודה והשומרון | Q3: תל אביב | R3: תל אביב | S3: המרכז | T3: תל אביב | U3: הדרום | V3: המרכז | W3: תל אביב | X3: חיפה | Y3: תל אביב | Z3: חיפה | AA3: הצפון | AB3: המרכז | AC3: המרכז | AD3: חיפה | AE3: הצפון | AF3: המרכז | AG3: המרכז | AH3: הצפון | AI3: ירושלים | AJ3: המרכז | AK3: המרכז | AL3: הצפון | AM3: המרכז | AN3: הצפון | AO3: אזור יהודה והשומרון | AP3: המרכז | AQ3: אזור יהודה והשומרון | AR3: הצפון | AS3: הצפון | AT3: המרכז | AU3: הצפון | AV3: הצפון | AW3: חיפה | AX3: הדרום | AY3: המרכז | AZ3: הצפון | BA3: הצפון | BB3: הצפון | BC3: הדרום | BD3: המרכז | BE3: הצפון | BF3: המרכז | BG3: תל אביב | BH3: חיפה | BI3: חיפה | BJ3: הדרום | BK3: חיפה | BL3: חיפה | BM3: הדרום | BN3: הצפון | BO3: המרכז | BP3: המרכז | BQ3: הדרום | BR3: המרכז | BS3: המרכז | BT3: תל אביב | BU3: תל אביב | BV3: המרכז | BW3: הדרום | BX3: הצפון | BY3: תל אביב
B4: מספר חברי מועצה 2011 | C4: 16 | D4: 13 | E4: 17 | F4: 15 | G4: 17 | H4: 13 | I4: 11 | J4: 25 | K4: 21 | M4: 25 | N4: 15 | O4: 17 | P4: 13 | Q4: 23 | R4: 25 | S4: 11 | T4: 17 | U4: 15 | V4: 15 | W4: 19 | X4: 19 | Y4: 25 | Z4: 31 | AA4: 15 | AB4: 16 | AC4: 13 | AD4: 13 | AE4: 13 | AF4: 15 | AG4: 15 | AH4: 13 | AI4: 31 | AJ4: 19 | AK4: 11 | AL4: 15 | AM4: 19 | AN4: 15 | AO4: 15 | AP4: 15 | AQ4: 15 | AR4: 13 | AS4: 17 | AT4: 15 | AU4: 17 | AV4: 17 | AW4: 13 | AX4: 13 | AY4: 25 | AZ4: 14 | BA4: 17 | BB4: 16 | BC4: 15 | BD4: 25 | BE4: 15 | BF4: 11 | BG4: 17 | BH4: 17 | BI4: 15 | BJ4: 17 | BK4: 15 | BL4: 15 | BM4: 13 | BN4: 13 | BO4: 15 | BP4: 27 | BQ4: 15 | BR4: 21 | BS4: 17 | BT4: 23 | BU4: 15 | BV4: 20 | BW4: 13 | BX4: 15 | BY4: 31
B5: מספר חברי מועצה 2013 | C5: =VLOOKUP(C1,'מספר חברי מועצה'!$B$2:$C$188,2) -> 17 | D5: =VLOOKUP(D1,'מספר חברי מועצה'!$B$2:$C$188,2) -> 15 | E5: =VLOOKUP(E1,'מספר חברי מועצה'!$B$2:$C$188,2) -> 15 | F5: =VLOOKUP(F1,'מספר חברי מועצה'!$B$2:$C$188,2) -> 13 | G5: =VLOOKUP(G1,'מספר חברי מועצה'!$B$2:$C$188,2) -> 17 | H5: =VLOOKUP(H1,'מספר חברי מועצה'!$B$2:$C$188,2) -> 15 | I5: 13 | J5: =VLOOKUP(J1,'מספר חברי מועצה'!$B$2:$C$188,2) -> 27 | K5: =VLOOKUP(K1,'מספר חברי מועצה'!$B$2:$C$188,2) -> 23 | L5: =VLOOKUP(L1,'מספר חברי מועצה'!$B$2:$C$188,2) -> 23 | M5: =VLOOKUP(M1,'מספר חברי מועצה'!$B$2:$C$188,2) -> 27 | N5: =VLOOKUP(N1,'מספר חברי מועצה'!$B$2:$C$188,2) -> 13 | O5: =VLOOKUP(O1,'מספר חברי מועצה'!$B$2:$C$188,2) -> 19 | P5: =VLOOKUP(P1,'מספר חברי מועצה'!$B$2:$C$188,2) -> 19 | Q5: =VLOOKUP(Q1,'מספר חברי מועצה'!$B$2:$C$188,2) -> 25 | ... AN5: =VLOOKUP(AN1,'מספר חברי מועצה'!$B$2:$C$188,2) -> 15 | AO5: 17 | AP5: =VLOOKUP(AP1,'מספר חברי מועצה'!$B$2:$C$188,2) -> 19 | AQ5: 15 | AR5: =VLOOKUP(AR1,'מספר חברי מועצה'!$B$2:$C$188,2) -> 13 | AS5: =VLOOKUP(AS1,'מספר חברי מועצה'!$B$2:$C$188,2) -> 17 | AT5: =VLOOKUP(AT1,'מספר חברי מועצה'!$B$2:$C$188,2) -> 15 | AU5: =VLOOKUP(AU1,'מספר חברי מועצה'!$B$2:$C$188,2) -> 19 | AV5: =VLOOKUP(AV1,'מספר חברי מועצה'!$B$2:$C$188,2) -> 17 | AW5: =VLOOKUP(AW1,'מספר חברי מועצה'!$B$2:$C$188,2) -> 13 | AX5: =VLOOKUP(AX1,'מספר חברי מועצה'!$B$2:$C$188,2) -> 15 | AY5: =VLOOKUP(AY1,'מספר חברי מועצה'!$B$2:$C$188,2) -> 27 | ... BY5: =VLOOKUP(BY1,'מספר חברי מועצה'!$B$2:$C$188,2) -> 31
B6: מספר נשים במועצה 2013 | C6: =SUMIF('חברי מועצה ללא השטחים 2013'!$A$2:$A$2312,'נתוני 2011'!C1,'חברי מועצה ללא השטחים 2013'!$K$2:$K$2312) -> 0 | D6: =SUMIF('חברי מועצה ללא השטחים 2013'!$A$2:$A$2312,'נתוני 2011'!D1,'חברי מועצה ללא השטחים 2013'!$K$2:$K$2312) -> 0 | E6: =SUMIF('חברי מועצה ללא השטחים 2013'!$A$2:$A$2312,'נתוני 2011'!E1,'חברי מועצה ללא השטחים 2013'!$K$2:$K$2312) -> 6 | F6: =SUMIF('חברי מועצה ללא השטחים 2013'!$A$2:$A$2312,'נתוני 2011'!F1,'חברי מועצה ללא השטחים 2013'!$K$2:$K$2312) -> 1 | G6: =SUMIF('חברי מועצה ללא השטחים 2013'!$A$2:$A$2312,'נתוני 2011'!G1,'חברי מועצה ללא השטחים 2013'!$K$2:$K$2312) -> 3 | H6: =SUMIF('חברי מועצה ללא השטחים 2013'!$A$2:$A$2312,'נתוני 2011'!H1,'חברי מועצה ללא השטחים 2013'!$K$2:$K$2312) -> 0 | I6: 4 | J6: =SUMIF('חברי מועצה ללא השטחים 2013'!$A$2:$A$2312,'נתוני 2011'!J1,'חברי מועצה ללא השטחים 2013'!$K$2:$K$2312) -> 3 | K6: =SUMIF('חברי מועצה ללא השטחים 2013'!$A$2:$A$2312,'נתוני 2011'!K1,'חברי מועצה ללא השטחים 2013'!$K$2:$K$2312) -> 4 | L6: =SUMIF('חברי מועצה ללא השטחים 2013'!$A$2:$A$2312,'נתוני 2011'!L1,'חברי מועצה ללא השטחים 2013'!$K$2:$K$2312) -> 0 | M6: =SUMIF('חברי מועצה ללא השטחים 2013'!$A$2:$A$2312,'נתוני 2011'!M1,'חברי מועצה ללא השטחים 2013'!$K$2:$K$2312) -> 9 | N6: =SUMIF('חברי מועצה ללא השטחים 2013'!$A$2:$A$2312,'נתוני 2011'!N1,'חברי מועצה ללא השטחים 2013'!$K$2:$K$2312) -> 1 | O6: =SUMIF('חברי מועצה ללא השטחים 2013'!$A$2:$A$2312,'נתוני 2011'!O1,'חברי מועצה ללא השטחים 2013'!$K$2:$K$2312) -> 2 | P6: =SUMIF('חברי מועצה ללא השטחים 2013'!$A$2:$A$2312,'נתוני 2011'!P1,'חברי מועצה ללא השטחים 2013'!$K$2:$K$2312) -> 0 | Q6: =SUMIF('חברי מועצה ללא השטחים 2013'!$A$2:$A$2312,'נתוני 2011'!Q1,'חברי מועצה ללא השטחים 2013'!$K$2:$K$2312) -> 0 | ... BY6: =SUMIF('חברי מועצה ללא השטחים 2013'!$A$2:$A$2312,'נתוני 2011'!BY1,'חברי מועצה ללא השטחים 2013'!$K$2:$K$2312) -> 9
B7: אחוז נשים במועצה | C7: =C6/C5 -> 0 | D7: =D6/D5 -> 0 | E7: =E6/E5 -> 0.4 | F7: =F6/F5 -> 0.076923077 | G7: =G6/G5 -> 0.17647059 | H7: =H6/H5 -> 0 | I7: =I6/I5 -> 0.30769231 | J7: =J6/J5 -> 0.11111111 | ... BY7: =BY6/BY5 -> 0.29032258
B8: רמה חברתית-כלכלית (10 הגבוה ביותר) | C8: 2 | D8: 3 | E8: 5 | F8: 4 | G8: 5 | H8: 2 | I8: 5 | J8: 5 | K8: 5 | L8: 3 | M8: 5 | N8: 4 | O8: 3 | P8: 1 | Q8: 3 | R8: 5 | S8: 8 | T8: 8 | U8: 4 | V8: 8 | W8: 8 | X8: 5 | Y8: 5 | Z8: 7 | AA8: 4 | AB8: 3 | AC8: 3 | AD8: 4 | AE8: 3 | AF8: 5 | AG8: 7 | AH8: 6 | AI8: 4 | AJ8: 8 | AK8: 3 | AL8: 5 | AM8: 4 | AN8: 5 | AO8: 1 | AP8: 8 | AQ8: 5 | AR8: 5 | AS8: 5 | AT8: 7 | AU8: 3 | AV8: 5 | AW8: 7 | AX8: 3 | AY8: 5 | AZ8: 2 | BA8: 4 | BB8: 5 | BC8: 5 | BD8: 6 | BE8: 4 | BF8: 2 | BG8: 8 | BH8: 5 | BI8: 6 | BJ8: 4 | BK8: 5 | BL8: 6 | BM8: 4 | BN8: 0 | BO8: 6 | BP8: 6 | BQ8: 2 | BR8: 6 | BS8: 4 | BT8: 7 | BU8: 9 | BV8: 8 | BW8: 4 | BX8: 3 | BY8: 8
A9: קבוצת אוכלוסייה ודת | B9: סה"כ אוכלוסייה (אלפים) | C9: 48.5 | D9: 24.4 | E9: 35 | F9: 15.9 | G9: 46.7 | H9: 39.8 | I9: 17.8 | J9: 212.3 | K9: 117.4 | L9: 25.9 | M9: 196.3 | N9: 16.9 | O9: 84.2 | P9: 39.7 | Q9: 163.3 | R9: 128.2 | S9: 23.1 | T9: 54.7 | U9: 32.4 | V9: 49.9 | W9: 88.7 | X9: 82.5 | Y9: 182.6 | Z9: 270.3 | AA9: 41.7 | AB9: 38.2 | AC9: 23.3 | AD9: 18.3 | AE9: 30.1 | AF9: 33.3 | AG9: 27.6 | AH9: 19.5 | AI9: 804.4 | AJ9: 87.3 | AK9: 20 | AL9: 44.7 | AM9: 70.3 | AN9: 24.1 | AO9: 52.1 | AP9: 80.2 | AQ9: 36.1 | AR9: 21 | AS9: 52.6 | AT9: 41.3 | AU9: 73.7 | AV9: 40.6 | AW9: 24 | AX9: 28 | AY9: 189.7 | AZ9: 27.1 | BA9: 46.5 | BB9: 41.3 | BC9: 23.4 | BD9: 210.4 | BE9: 32.2 | BF9: 19.8 | BG9: 33.4 | BH9: 52 | BI9: 37.6 | BJ9: 47.8 | BK9: 38.2 | BL9: 38.3 | BM9: 20.9 | BN9: ...-0000000000000000000000000000000000 | BO9: 39.9 | BP9: 232.4 | BQ9: 54.9 | BR9: 118.1 | BS9: 67.9 | BT9: 148 | BU9: 42.3 | BV9: 69.1 | BW9: 21.1 | BX9: 37.7 | BY9: 404.8 | BZ9: =MIN(C9:BY9) -> 15.9
B10: יהודים ואחרים (אחוז) | C10: - | D10: 99.4 | E10: 99.8 | F10: 99.3 | G10: 96 | H10: 100 | I10: 99.1 | J10: 99.9 | K10: 99.8 | L10: - | M10: 98.2 | N10: 99.4 | O10: 99.9 | P10: 100 | Q10: 100 | R10: 99.7 | S10: 99.9 | T10: 100 | U10: 99.3 | V10: 99.9 | W10: 99.9 | X10: 99 | Y10: 99.9 | Z10: 89.7 | AA10: 98.5 | AB10: - | AC10: - | AD10: 99.7 | AE10: - | AF10: 99.8 | AG10: 99.9 | AH10: 100 | AI10: 63.6 | AJ10: 99.8 | AK10: - | AL10: 97.8 | AM10: 71.9 | AN10: 100 | AO10: 100 | AP10: 100 | AQ10: 99.9 | AR10: 80.4 | AS10: 97.5 | AT10: 99.8 | AU10: - | AV10: 82.3 | AW10: 97.6 | AX10: 99.9 | AY10: 99.8 | AZ10: - | BA10: 70 | BB10: 99.3 | BC10: 97.3 | BD10: 99.9 | BE10: 97.3 | BF10: - | BG10: 100 | BH10: 99.9 | BI10: 99.9 | BJ10: 99.9 | BK10: 99.9 | BL10: 99.9 | BM10: 99.7 | BN10: 97.1 | BO10: 99.9 | BP10: 99.9 | BQ10: - | BR10: 99.7 | BS10: 77.8 | BT10: 99.8 | BU10: 99.9 | BV10: 100 | BW10: 99.5 | BX10: - | BY10: 95.9
B11: יהודים (אחוז) | C11: - | D11: 92.9 | E11: 98.2 | F11: 92.7 | G11: 84.9 | H11: 100 | I11: 81.5 | J11: 91.1 | K11: 89.3 | L11: - | M11: 89.1 | N11: 97.8 | O11: 97.6 | P11: 100 | Q11: 98.9 | R11: 84.8 | S11: 98.8 | T11: 97.4 | U11: 90.8 | V11: 98.2 | W11: 96.4 | X11: 93.1 | Y11: 93.4 | Z11: 80.5 | AA11: 92.8 | AB11: - | AC11: - | AD11: 96.5 | AE11: - | AF11: 97.6 | AG11: 98.4 | AH11: 92.9 | AI11: 62.1 | AJ11: 96.6 | AK11: - | AL11: 85.4 | AM11: 64.6 | AN11: 92.2 | AO11: 100 | AP11: 98.2 | AQ11: 96.7 | AR11: 69.9 | AS11: 90.5 | AT11: 98.2 | AU11: - | AV11: 69.7 | AW11: 89 | AX11: 96.1 | AY11: 93.1 | AZ11: - | BA11: 64.5 | BB11: 92 | BC11: 81.2 | BD11: 92.7 | BE11: 92 | BF11: - | BG11: 97.8 | BH11: 92.6 | BI11: 93.1 | BJ11: 93.8 | BK11: 88.8 | BL11: 92.1 | BM11: 97.9 | BN11: 90.7 | BO11: 98.9 | BP11: 93.4 | BQ11: - | BR11: 94.8 | BS11: 73.5 | BT11: 95.4 | BU11: 98.9 | BV11: 98 | BW11: 94.2 | BX11: - | BY11: 91.6
B12: ערבים (אחוז) | C12: 100 | D12: - | E12: - | F12: - | G12: 4 | H12: - | I12: - | J12: - | K12: - | L12: 100 | M12: - | N12: - | O12: - | P12: - | Q12: - | R12: - | S12: - | T12: - | U12: - | V12: - | W12: - | X12: - | Y12: - | Z12: 10.3 | AA12: - | AB12: 100 | AC12: 100 | AD12: - | AE12: 100 | AF12: - | AG12: - | AH12: - | AI12: 36.4 | AJ12: - | AK12: 100 | AL12: - | AM12: 28.1 | AN12: - | AO12: - | AP12: - | AQ12: - | AR12: 19.6 | AS12: - | AT12: - | AU12: 100 | AV12: 17.7 | AW12: - | AX12: - | AY12: - | AZ12: 100 | BA12: 30 | BB12: - | BC12: - | BD12: - | BE12: - | BF12: 100 | BG12: - | BH12: - | BI12: - | BJ12: - | BK12: - | BL12: - | BM12: - | BN12: - | BO12: - | BP12: - | BQ12: 100 | BR12: - | BS12: 22.2 | BT12: - | BU12: - | BV12: - | BW12: - | BX12: 100 | BY12: 4.1
B13: מוסלמים (אחוז) | C13: 99.9 | D13: - | E13: - | F13: - | G13: 2.9 | H13: - | I13: - | J13: - | K13: - | L13: 100 | M13: - | N13: - | O13: - | P13: - | Q13: - | R13: - | S13: - | T13: - | U13: - | V13: - | W13: - | X13: - | Y13: - | Z13: 4.8 | AA13: - | AB13: 100 | AC13: 99.9 | AD13: - | AE13: 99.9 | AF13: - | AG13: - | AH13: - | AI13: 35 | AJ13: - | AK13: 100 | AL13: - | AM13: 27 | AN13: - | AO13: - | AP13: - | AQ13: - | AR13: 9.1 | AS13: - | AT13: - | AU13: 69.5 | AV13: 5.4 | AW13: - | AX13: - | AY13: - | AZ13: 94.6 | BA13: 27 | BB13: - | BC13: - | BD13: - | BE13: - | BF13: 99.9 | BG13: - | BH13: - | BI13: - | BJ13: - | BK13: - | BL13: - | BM13: - | BN13: - | BO13: - | BP13: - | BQ13: 100 | BR13: - | BS13: 17.7 | BT13: - | BU13: - | BV13: - | BW13: - | BX13: 60.6 | BY13: 3.3
B14: נוצרים (אחוז) | C14: - | D14: - | E14: - | F14: - | G14: 0.5 | H14: - | I14: - | J14: - | K14: - | L14: - | M14: - | N14: - | O14: - | P14: - | Q14: - | R14: - | S14: - | T14: - | U14: - | V14: - | W14: - | X14: - | Y14: - | Z14: 5.3 | AA14: - | AB14: - | AC14: - | AD14: - | AE14: - | AF14: - | AG14: - | AH14: - | AI14: 1.5 | AJ14: - | AK14: - | AL14: - | AM14: 1.2 | AN14: - | AO14: - | AP14: - | AQ14: - | AR14: 9.4 | AS14: - | AT14: - | AU14: 30.5 | AV14: 12.2 | AW14: - | AX14: - | AY14: - | AZ14: 5.4 | BA14: 2.9 | BB14: - | BC14: - | BD14: - | BE14: - | BF14: - | BG14: - | BH14: - | BI14: - | BJ14: - | BK14: - | BL14: - | BM14: - | BN14: - | BO14: - | BP14: - | BQ14: - | BR14: - | BS14: 4.5 | BT14: - | BU14: - | BV14: - | BW14: - | BX14: 25.2 | BY14: 0.8
B15: דרוזים (אחוז) | C15: - | D15: - | E15: - | F15: - | G15: 0.6 | H15: - | I15: - | J15: - | K15: - | L15: - | M15: - | N15: - | O15: - | P15: - | Q15: - | R15: - | S15: - | T15: - | U15: - | V15: - | W15: - | X15: - | Y15: - | Z15: 0.1 | AA15: - | AB15: - | AC15: - | AD15: - | AE15: - | AF15: - | AG15: - | AH15: - | AI15: 0 | AJ15: - | AK15: - | AL15: - | AM15: 0 | AN15: - | AO15: - | AP15: - | AQ15: - | AR15: 0.5 | AS15: - | AT15: - | AU15: 0 | AV15: 0 | AW15: - | AX15: - | AY15: - | AZ15: 0 | BA15: 0.2 | BB15: - | BC15: - | BD15: - | BE15: - | BF15: - | BG15: - | BH15: - | BI15: - | BJ15: - | BK15: - | BL15: - | BM15: - | BN15: - | BO15: - | BP15: - | BQ15: - | BR15: - | BS15: 0 | BT15: - | BU15: - | BV15: - | BW15: - | BX15: 14.2 | BY15: 0
A16: דמוגרפיה | B16: סה"כ גברים (אלפים) | C16: 24.5 | D16: 11.8 | E16: 17.5 | F16: 7.8 | G16: 24.1 | H16: 19.9 | I16: 8.8 | J16: 103.7 | K16: 57 | L16: 13.1 | M16: 95.3 | N16: 8.6 | O16: 42.1 | P16: 20 | Q16: 82.8 | R16: 60.9 | S16: 11.5 | T16: 25.7 | U16: 16 | V16: 24.2 | W16: 43.1 | X16: 40.4 | Y16: 88.2 | Z16: 129.4 | AA16: 20.8 | AB16: 19.2 | AC16: 11.7 | AD16: 9.1 | AE16: 15.2 | AF16: 16.6 | AG16: 13.6 | AH16: 9.6 | AI16: 399.2 | AJ16: 41.9 | AK16: 10.2 | AL16: 21.8 | AM16: 34.5 | AN16: 11.8 | AO16: 26.5 | AP16: 39.8 | AQ16: 17.8 | AR16: 10.6 | AS16: 25.7 | AT16: 20.3 | AU16: 36.8 | AV16: 19.4 | AW16: 11.6 | AX16: 13.9 | AY16: 92 | AZ16: 14 | BA16: 22.9 | BB16: 20 | BC16: 11.3 | BD16: 102.1 | BE16: 16.1 | BF16: 10.1 | BG16: 16.2 | BH16: 25.3 | BI16: 18 | BJ16: 23.5 | BK16: 18.3 | BL16: 18.1 | BM16: 10.7 | BN16: 11.4 | BO16: 19.9 | BP16: 113.6 | BQ16: 27.5 | BR16: 57.7 | BS16: 35 | BT16: 70.2 | BU16: 20.4 | BV16: 33.6 | BW16: 10.7 | BX16: 18.9 | BY16: 198.9
B17: סה"כ נשים (אלפים) | C17: 23.9 | D17: 12.6 | E17: 17.6 | F17: 8.2 | G17: 22.5 | H17: 19.9 | I17: 9.1 | J17: 108.6 | K17: 60.4 | L17: 12.7 | M17: 101.1 | N17: 8.3 | O17: 42.2 | P17: 19.7 | Q17: 80.5 | R17: 67.3 | S17: 11.6 | T17: 29.1 | U17: 16.4 | V17: 25.7 | W17: 45.6 | X17: 42.1 | Y17: 94.3 | Z17: 141 | AA17: 20.9 | AB17: 19 | AC17: 11.6 | AD17: 9.2 | AE17: 14.9 | AF17: 16.8 | AG17: 14 | AH17: 9.9 | AI17: 405.2 | AJ17: 45.4 | AK17: 9.8 | AL17: 22.9 | AM17: 35.8 | AN17: 12.3 | AO17: 25.6 | AP17: 40.4 | AQ17: 18.3 | AR17: 10.4 | AS17: 26.9 | AT17: 20.9 | AU17: 36.9 | AV17: 21.2 | AW17: 12.4 | AX17: 14 | AY17: 97.7 | AZ17: 13.1 | BA17: 23.6 | BB17: 21.3 | BC17: 12.1 | BD17: 108.3 | BE17: 16.1 | BF17: 9.7 | BG17: 17.2 | BH17: 26.7 | BI17: 19.6 | BJ17: 24.2 | BK17: 19.9 | BL17: 20.3 | BM17: 10.2 | BN17: 11.5 | BO17: 20 | BP17: 118.8 | BQ17: 27.4 | BR17: 60.5 | BS17: 32.9 | BT17: 77.8 | BU17: 21.9 | BV17: 35.5 | BW17: 10.4 | BX17: 18.8 | BY17: 205.9
B18: יחס תלות (לאלף תושבים בלתי תלויים) | C18: 1059 | D18: 906 | E18: 732 | F18: 717 | G18: 555 | H18: 1744 | I18: 545 | J18: 881 | K18: 758 | L18: 994 | M18: 730 | N18: 729 | O18: 1445 | P18: 2012 | Q18: 1442 | R18: 729 | S18: 888 | T18: 736 | U18: 747 | V18: 751 | W18: 704 | X18: 726 | Y18: 748 | Z18: 756 | AA18: 767 | AB18: 989 | AC18: 877 | AD18: 653 | AE18: 929 | AF18: 644 | AG18: 721 | AH18: 789 | AI18: 1096 | AJ18: 719 | AK18: 1072 | AL18: 680 | AM18: 867 | AN18: 794 | AO18: 1937 | AP18: 894 | AQ18: 824 | AR18: 735 | AS18: 736 | AT18: 766 | AU18: 875 | AV18: 704 | AW18: 592 | AX18: 1064 | AY18: 803 | AZ18: 911 | BA18: 723 | BB18: 694 | BC18: 798 | BD18: 789 | BE18: 1096 | BF18: 1088 | BG18: 795 | BH18: 690 | BI18: 677 | BJ18: 774 | BK18: 679 | BL18: 713 | BM18: 794 | BN18: 641 | BO18: 743 | BP18: 649 | BQ18: 1605 | BR18: 798 | BS18: 737 | BT18: 727 | BU18: 829 | BV18: 720 | BW18: 706 | BX18: 873 | BY18: 590
B19: אחוז בני 4-0 באוכלוסייה | C19: 12.3 | D19: 10.4 | E19: 8.9 | F19: 8.4 | G19: 8.3 | H19: 22.8 | I19: 7.4 | J19: 9.6 | K19: 8.1 | L19: 11.8 | M19: 8.2 | N19: 9.2 | O19: 17.7 | P19: 23.5 | Q19: 15.6 | R19: 6.6 | S19: 12.8 | T19: 8.7 | U19: 8.4 | V19: 9.3 | W19: 7.5 | X19: 8 | Y19: 8.2 | Z19: 6.9 | AA19: 8.9 | AB19: 11.6 | AC19: 9.4 | AD19: 7.3 | AE19: 11.2 | AF19: 8.4 | AG19: 8.7 | AH19: 9.6 | AI19: 12.6 | AJ19: 8.4 | AK19: 11.7 | AL19: 6.9 | AM19: 10.5 | AN19: 8 | AO19: 27.4 | AP19: 12.5 | AQ19: 10.1 | AR19: 8.4 | AS19: 8 | AT19: 10.4 | AU19: 9.3 | AV19: 6 | AW19: 7 | AX19: 13.6 | AY19: 8.9 | AZ19: 11.6 | BA19: 8.2 | BB19: 7.6 | BC19: 7.7 | BD19: 9.6 | BE19: 12.8 | BF19: 12.6 | BG19: 10.4 | BH19: 7.4 | BI19: 7.1 | BJ19: 8.7 | BK19: 6.1 | BL19: 6.8 | BM19: 10.2 | BN19: 8.2 | BO19: 8.7 | BP19: 7.4 | BQ19: 16.7 | BR19: 10.2 | BS19: 9.3 | BT19: 7.5 | BU19: 9.3 | BV19: 7.8 | BW19: 9.3 | BX19: 9.3 | BY19: 7.6
B20: אחוז בני 9-5 באוכלוסייה | C20: 12.4 | D20: 9 | E20: 8.2 | F20: 7.4 | G20: 7.3 | H20: 22.1 | I20: 6.3 | J20: 8.9 | K20: 7.2 | L20: 12.6 | M20: 7.3 | N20: 8.5 | O20: 16.7 | P20: 20 | Q20: 12.7 | R20: 5.6 | S20: 10.7 | T20: 6.3 | U20: 7.8 | V20: 8.8 | W20: 6.4 | X20: 7.1 | Y20: 7 | Z20: 5.8 | AA20: 8.1 | AB20: 12.5 | AC20: 10.6 | AD20: 6.7 | AE20: 11.6 | AF20: 7.3 | AG20: 7.9 | AH20: 10 | AI20: 11.1 | AJ20: 6.9 | AK20: 12.9 | AL20: 7 | AM20: 9 | AN20: 7.8 | AO20: 19.8 | AP20: 12.7 | AQ20: 9.8 | AR20: 7.4 | AS20: 7.5 | AT20: 9.8 | AU20: 10.2 | AV20: 6.1 | AW20: 5.8 | AX20: 12.7 | AY20: 7.6 | AZ20: 11.2 | BA20: 7.1 | BB20: 6.7 | BC20: 7.2 | BD20: 8.1 | BE20: 11.4 | BF20: 12.9 | BG20: 8.9 | BH20: 6.8 | BI20: 5.7 | BJ20: 7.7 | BK20: 5.5 | BL20: 6 | BM20: 8.5 | BN20: 7.2 | BO20: 8.3 | BP20: 6.7 | BQ20: 16.2 | BR20: 8.1 | BS20: 8.2 | BT20: 5.8 | BU20: 7.4 | BV20: 7.4 | BW20: 7 | BX20: 11 | BY20: 5.4
B21: אחוז בני 14-10 באוכלוסייה | C21: 12.9 | D21: 8.9 | E21: 8 | F21: 7.2 | G21: 7 | H21: 12.8 | I21: 6.2 | J21: 8.7 | K21: 7.1 | L21: 12 | M21: 6.9 | N21: 8.3 | O21: 13 | P21: 15.1 | Q21: 11.5 | R21: 5.3 | S21: 8.1 | T21: 5.1 | U21: 8.3 | V21: 7.5 | W21: 5.7 | X21: 6.9 | Y21: 6.4 | Z21: 5.6 | AA21: 7.9 | AB21: 11.9 | AC21: 11 | AD21: 6.5 | AE21: 11.7 | AF21: 7.7 | AG21: 7.8 | AH21: 9.6 | AI21: 10.3 | AJ21: 6.1 | AK21: 12.7 | AL21: 6.8 | AM21: 8.9 | AN21: 8.4 | AO21: 11.7 | AP21: 10.5 | AQ21: 9.6 | AR21: 7.8 | AS21: 6.6 | AT21: 8.1 | AU21: 10.9 | AV21: 6.5 | AW21: 5.6 | AX21: 10.8 | AY21: 6.8 | AZ21: 11.2 | BA21: 7.3 | BB21: 6.9 | BC21: 7.4 | BD21: 7 | BE21: 10 | BF21: 13.2 | BG21: 6.5 | BH21: 6.7 | BI21: 5.5 | BJ21: 7.7 | BK21: 5.2 | BL21: 5.7 | BM21: 8.4 | BN21: 6.9 | BO21: 9.4 | BP21: 6.7 | BQ21: 14.9 | BR21: 6.8 | BS21: 7.9 | BT21: 5.3 | BU21: 6.1 | BV21: 7.3 | BW21: 7.4 | BX21: 11 | BY21: 4.7
B22: אחוז בני 19-15 באוכלוסייה | C22: 10.234238 | D22: 9.9811212 | E22: 7.5558982 | F22: 7.2066407 | G22: 6.0315079 | H22: 4.9175797 | I22: 6.5269763 | J22: 7.3884246 | K22: 6.8943787 | L22: 9.2560386 | M22: 6.6447653 | N22: 8.1077887 | O22: 7.8982057 | P22: 7.5195165 | Q22: 12.234463 | R22: 4.9392542 | S22: 6.5509761 | T22: 4.3487794 | U22: 7.6835322 | V22: 7.0440302 | W22: 5.4984561 | X22: 7.0603353 | Y22: 5.8299329 | Z22: 5.7340909 | AA22: 7.4643697 | AB22: 9.1966063 | AC22: 10.2373 | AD22: 6.8056541 | AE22: 9.7858615 | AF22: 7.9890799 | AG22: 6.8540791 | AH22: 7.1296865 | AI22: 9.7320213 | AJ22: 6.4865174 | AK22: 11.095022 | AL22: 6.3453366 | AM22: 7.3132204 | AN22: 8.6087497 | AO22: 6.3887822 | AP22: 7.297614 | AQ22: 9.2438139 | AR22: 7.8642069 | AS22: 5.8806759 | AT22: 6.0483382 | AU22: 9.708382 | AV22: 5.8400276 | AW22: 5.986927 | AX22: 8.5138323 | AY22: 6.3212392 | AZ22: 9.665153 | BA22: 7.8727617 | BB22: 7.0084518 | BC22: 6.8908137 | BD22: 6.06438 | BE22: 9.1171361 | BF22: 10.208934 | BG22: 5.0742871 | BH22: 6.746108 | BI22: 5.5295743 | BJ22: 8.0879581 | BK22: 5.4931826 | BL22: 5.7111563 | BM22: 9.2354711 | BN22: 7.2677453 | BO22: 9.2316557 | BP22: 6.6580612 | BQ22: 11.993003 | BR22: 6.3619973 | BS22: 7.3724843 | BT22: 5.0981187 | BU22: 6.0328722 | BV22: 6.9442033 | BW22: 7.5629454 | BX22: 9.9438143 | BY22: 4.2339716
B23: אחוז בני 20-29 באוכלוסייה | C23: 15.044887 | D23: 16.822622 | E23: 15.525857 | F23: 15.274808 | G23: 19.305541 | H23: 11.453412 | I23: 22.673539 | J23: 13.871904 | K23: 15.323302 | L23: 15.49372 | M23: 16.218708 | N23: 17.539298 | O23: 12.987923 | P23: 12.828003 | Q23: 15.118095 | R23: 13.517014 | S23: 13.084599 | T23: 11.847683 | U23: 15.863472 | V23: 12.025709 | W23: 13.803052 | X23: 14.998363 | Y23: 13.610845 | Z23: 14.698093 | AA23: 15.521378 | AB23: 15.119933 | AC23: 16.349696 | AD23: 16.06178 | AE23: 16.040434 | AF23: 17.541175 | AG23: 13.440081 | AH23: 11.165745 | AI23: 16.13044 | AJ23: 13.453942 | AK23: 16.288011 | AL23: 15.159919 | AM23: 14.632133 | AN23: 14.526228 | AO23: 15.958509 | AP23: 9.7708744 | AQ23: 15.384189 | AR23: 15.376569 | AS23: 13.365518 | AT23: 11.519721 | AU23: 15.995547 | AV23: 13.860825 | AW23: 18.572797 | AX23: 16.001859 | AY23: 13.896182 | AZ23: 16.568834 | BA23: 16.434229 | BB23: 17.196619 | BC23: 14.788582 | BD23: 12.592216 | BE23: 15.088721 | BF23: 15.773764 | BG23: 11.22394 | BH23: 15.500673 | BI23: 14.181325 | BJ23: 16.557068 | BK23: 14.809872 | BL23: 13.620717 | BM23: 19.287522 | BN23: 18.188935 | BO23: 15.018664 | BP23: 15.298825 | BQ23: 16.147371 | BR23: 13.817622 | BS23: 16.635236 | BT23: 13.885905 | BU23: 10.977888 | BV23: 13.338543 | BW23: 18.4038 | BX23: 15.154246 | BY23: 15.72971
B24: אחוז בני 44-30 באוכלוסייה | C24: 20.173357 | D24: 16.724124 | E24: 19.675034 | F24: 19.079361 | G24: 23.545172 | H24: 19.632626 | I24: 19.227968 | J24: 18.720734 | K24: 18.393242 | L24: 20.591304 | M24: 18.673186 | N24: 18.697553 | O24: 16.83193 | P24: 15.870058 | Q24: 12.634338 | R24: 19.214713 | S24: 22.516269 | T24: 25.142523 | U24: 19.554158 | V24: 21.975052 | W24: 20.026146 | X24: 19.137097 | Y24: 20.406956 | Z24: 18.355971 | AA24: 18.45578 | AB24: 19.97748 | AC24: 19.952026 | AD24: 18.943404 | AE24: 20.868524 | AF24: 18.444184 | AG24: 20.56586 | AH24: 24.38025 | AI24: 16.052614 | AJ24: 20.595408 | AK24: 19.28896 | AL24: 19.150078 | AM24: 18.904227 | AN24: 18.706199 | AO24: 15.128698 | AP24: 25.430701 | AQ24: 19.363241 | AR24: 19.075694 | AS24: 21.108851 | AT24: 24.026084 | AU24: 20.064351 | AV24: 18.633877 | AW24: 20.196511 | AX24: 17.603117 | AY24: 19.505689 | AZ24: 22.128696 | BA24: 18.73063 | BB24: 17.932822 | BC24: 17.446772 | BD24: 21.924554 | BE24: 15.147661 | BF24: 18.900187 | BG24: 23.301582 | BH24: 18.621949 | BI24: 19.599299 | BJ24: 16.762304 | BK24: 17.591793 | BL24: 19.689146 | BM24: 16.111934 | BN24: 19.367606 | BO24: 18.603602 | BP24: 20.248698 | BQ24: 15.325608 | BR24: 20.737436 | BS24: 20.073961 | BT24: 21.778633 | BU24: 20.882109 | BV24: 19.546218 | BW24: 18.047506 | BX24: 21.47514 | BY24: 26.260655
B25: אחוז בני 59-45 באוכלוסייה | C25: 11.701579 | D25: 15.283592 | E25: 17.601873 | F25: 18.852974 | G25: 17.271461 | H25: 4.6085034 | I25: 18.169085 | J25: 15.714299 | K25: 17.830349 | L25: 12.127536 | M25: 17.530751 | N25: 17.527479 | O25: 9.2591053 | P25: 4.0543944 | Q25: 9.916657 | R25: 17.914745 | S25: 13.145336 | T25: 15.397968 | U25: 16.998119 | V25: 17.718199 | W25: 17.632475 | X25: 17.951484 | Y25: 17.06915 | Z25: 17.143829 | AA25: 17.654398 | AB25: 13.100974 | AC25: 14.606357 | AD25: 19.745675 | AE25: 13.081067 | AF25: 18.882189 | AG25: 17.903202 | AH25: 16.328621 | AI25: 12.142524 | AJ25: 17.029828 | AK25: 11.090028 | AL25: 18.548423 | AM25: 15.234097 | AN25: 17.254821 | AO25: 2.5297733 | AP25: 14.962976 | AQ25: 16.575688 | AR25: 18.286421 | AS25: 17.413947 | AT25: 15.839616 | AU25: 14.525238 | AV25: 19.267163 | AW25: 18.106499 | AX25: 12.284652 | AY25: 16.141039 | AZ25: 11.810093 | BA25: 17.934315 | BB25: 18.320296 | BC25: 17.169433 | BD25: 15.458512 | BE25: 14.105348 | BF25: 11.509081 | BG25: 15.741074 | BH25: 18.42783 | BI25: 18.119254 | BJ25: 17.98534 | BK25: 19.326895 | BL25: 17.720232 | BM25: 16.408003 | BN25: 18.697808 | BO25: 20.447428 | BP25: 18.510391 | BQ25: 5.9381947 | BR25: 15.077155 | BS25: 16.452544 | BT25: 16.640659 | BU25: 16.410074 | BV25: 18.362563 | BW25: 17.790974 | BX25: 14.600339 | BY25: 15.610871
B26: אחוז בני 64-60 באוכלוסייה | C26: 1.63657 | D26: 3.6362144 | E26: 4.9201862 | F26: 5.0433908 | G26: 4.1731862 | H26: 0.74379335 | I26: 4.655723 | J26: 4.8667314 | K26: 5.3317324 | L26: 1.9285024 | M26: 5.3643008 | N26: 4.0538943 | O26: 1.819283 | P26: 0.4432133 | Q26: 3.2835071 | R26: 7.1872781 | S26: 4.2169197 | T26: 5.2221897 | U26: 4.8099158 | V26: 5.3861402 | W26: 7.2305993 | X26: 5.8456279 | Y26: 6.1191291 | Z26: 6.7509284 | AA26: 4.9714478 | AB26: 2.0791872 | AC26: 2.3687141 | AD26: 5.7359603 | AE26: 1.8554233 | AF26: 5.9550596 | AG26: 6.1911317 | AH26: 4.0053268 | AI26: 3.3870617 | AJ26: 7.0773459 | AK26: 1.5878564 | AL26: 6.6674122 | AM26: 4.80148 | AN26: 5.2539913 | AO26: 0.43219362 | AP26: 2.6427984 | AQ26: 3.5024523 | AR26: 4.88779 | AS26: 5.7229202 | AT26: 5.2289641 | AU26: 2.757338 | AV26: 6.9094673 | AW26: 5.9328032 | AX26: 2.5663021 | AY26: 5.9068527 | AZ26: 1.8237531 | BA26: 4.9242424 | BB26: 5.5965902 | BC26: 6.2123992 | BD26: 5.9255809 | BE26: 3.3782107 | BF26: 1.7099206 | BG26: 5.4577043 | BH26: 6.6192581 | BI26: 7.7297125 | BJ26: 5.0554974 | BK26: 7.832823 | BL26: 7.348876 | BM26: 3.9300893 | BN26: 4.6755393 | BO26: 3.3018513 | BP26: 6.5689944 | BQ26: 0.98028498 | BR26: 5.9988657 | BS26: 4.4184813 | BT26: 5.5952984 | BU26: 6.408892 | BV26: 6.8935579 | BW26: 4.3847981 | BX26: 2.1599703 | BY26: 5.2837554
B27: אחוז בני 65 ומעלה באוכלוסייה | C27: 3.6157259 | D27: 9.1520972 | E27: 9.6147805 | F27: 11.684065 | G27: 6.9574536 | H27: 0.94984421 | I27: 8.8296263 | J27: 12.222651 | K27: 13.870509 | L27: 4.1082126 | M27: 13.179005 | N27: 7.9718709 | O27: 3.8463822 | P27: 0.70007555 | Q27: 6.9803614 | R27: 19.746873 | S27: 8.8112798 | T27: 17.983482 | U27: 10.658897 | V27: 10.207637 | W27: 16.253071 | X27: 13.061135 | Y27: 15.38984 | Z27: 18.951869 | AA27: 11.087384 | AB27: 4.5118886 | AC27: 5.5427054 | AD27: 12.23053 | AE27: 3.9469309 | AF27: 7.8780788 | AG27: 10.719461 | AH27: 7.8262651 | AI27: 8.5759397 | AJ27: 14.00813 | AK27: 3.2306386 | AL27: 13.38403 | AM27: 10.712964 | AN27: 11.428571 | AO27: 0.6281214 | AP27: 4.2658755 | AQ27: 6.4978248 | AR27: 10.869152 | AS27: 14.374774 | AT27: 9.0446292 | AU27: 6.5749817 | AV27: 16.857227 | AW27: 12.819018 | AX27: 5.9189363 | AY27: 14.824597 | AZ27: 4.0794477 | BA27: 11.469094 | BB27: 12.767297 | BC27: 15.176857 | BD27: 13.246283 | BE27: 8.8689664 | BF27: 3.1415996 | BG27: 13.353702 | BH27: 13.182779 | BI27: 16.625923 | BJ27: 11.37801 | BK27: 18.212033 | BL27: 17.43337 | BM27: 7.9127071 | BN27: 9.5554976 | BO27: 7.0195656 | BP27: 11.974098 | BQ27: 1.9186619 | BR27: 12.878897 | BS27: 9.6782273 | BT27: 18.411862 | BU27: 16.561428 | BV27: 12.382069 | BW27: 10.061758 | BX27: 5.4516061 | BY27: 15.209883
B28: אחוז בני 17-0 באוכלוסייה | C28: 43.850996 | D28: 33.624723 | E28: 29.452583 | F28: 27.046912 | G28: 26.395885 | H28: 61.016183 | I28: 23.81646 | J28: 31.816297 | K28: 26.36657 | L28: 42.168116 | M28: 26.260728 | N28: 30.676043 | O28: 52.70933 | P28: 63.792496 | Q28: 47.301609 | R28: 20.467083 | S28: 35.86551 | T28: 22.666642 | U28: 29.143157 | V28: 29.988187 | W28: 22.807492 | X28: 26.054383 | Y28: 25.047241 | Z28: 21.597718 | AA28: 29.370411 | AB28: 41.706819 | AC28: 37.098432 | AD28: 24.444687 | AE28: 40.563277 | AF28: 27.99928 | AG28: 28.33285 | AH28: 33.589428 | AI28: 39.89159 | AJ28: 25.423942 | AK28: 44.105458 | AL28: 24.363677 | AM28: 32.952896 | AN28: 29.479577 | AO28: 63.023434 | AP28: 40.257798 | AQ28: 35.096567 | AR28: 28.242678 | AS28: 25.564024 | AT28: 31.982255 | AU28: 36.256754 | AV28: 22.054113 | AW28: 21.724468 | AX28: 42.615627 | AY28: 27.267791 | AZ28: 39.638941 | BA28: 27.251205 | BB28: 25.4014 | BC28: 26.680036 | BD28: 28.596893 | BE28: 39.716466 | BF28: 45.049831 | BG28: 28.989935 | BH28: 24.858735 | BI28: 21.400861 | BJ28: 28.862827 | BK28: 19.811049 | BL28: 21.798884 | BM28: 32.367127 | BN28: 26.082985 | BO28: 32.013929 | BP28: 24.67751 | BQ28: 55.169272 | BR28: 28.970111 | BS28: 29.657896 | BT28: 21.540852 | BU28: 26.477474 | BV28: 26.730625 | BW28: 27.881235 | BX28: 37.228347 | BY28: 20.142557
... B30: אחוז עולי 1990+ מסך האוכלוסייה | C30: 0 | D30: 24.1 | E30: 14 | F30: 33.8 | G30: 19.4 | H30: 3.1 | I30: 39.2 | J30: 31.1 | K30: 30.8 | L30: 0 | M30: 27.4 | N30: 5.6 | O30: 19.5 | P30: 5.1 | Q30: 5.1 | R30: 32.8 | S30: 7.1 | T30: 6.7 | U30: 18 | V30: 6.5 | W30: 10.6 | X30: 25.6 | Y30: 16.6 | Z30: 22.6 | AA30: 13 | AB30: 0 | AC30: 0 | AD30: 17 | AE30: 0 | AF30: 11.4 | AG30: 5.7 | AH30: 22.2 | AI30: 8.3 | AJ30: 12.5 | AK30: 0 | AL30: 36 | AM30: 23.4 | AN30: 25.5 | AO30: 5.4 | AP30: 9.7 | AQ30: 14.9 | AR30: 32.3 | AS30: 19.7 | AT30: 6.6 | AU30: 0 | AV30: 40.3 | AW30: 28.1 | AX30: 14.7 | AY30: 25.6 | AZ30: 0 | BA30: 18 | BB30: 24.8 | BC30: 37.5 | BD30: 19.2 | BE30: 17.8 | BF30: 0 | BG30: 6.3 | BH30: 18.1 | BI30: 20.5 | BJ30: 26.7 | BK30: 34.6 | BL30: 21.9 | BM30: 17.7 | BN30: 15.8 | BO30: 5.5 | BP30: 17.9 | BQ30: 0 | BR30: 17.1 | BS30: 20.8 | BT30: 10.4 | BU30: 4.4 | BV30: 15.9 | BW30: 29.3 | BX30: 0 | BY30: 12.3
B31: השתקעות ראשונה של עולים | C31: - | D31: 21 | E31: 11 | F31: 20 | G31: 267 | H31: 18 | I31: 67 | J31: 783 | K31: 474 | L31: - | M31: 927 | N31: 3 | O31: 400 | P31: 46 | Q31: 154 | R31: 404 | S31: 37 | T31: 33 | U31: 17 | V31: 40 | W31: 196 | X31: 171 | Y31: 229 | Z31: 1114 | AA31: 46 | AB31: - | AC31: - | AD31: 5 | AE31: - | AF31: 15 | AG31: 2 | AH31: 14 | AI31: 2272 | AJ31: 97 | AK31: - | AL31: 313 | AM31: 63 | AN31: 101 | AO31: 57 | AP31: 164 | AQ31: 73 | AR31: 48 | AS31: 261 | AT31: 5 | AU31: - | AV31: 188 | AW31: 47 | AX31: 12 | AY31: 807 | AZ31: - | BA31: 208 | BB31: 42 | BC31: 108 | BD31: 320 | BE31: 736 | BF31: - | BG31: 19 | BH31: 64 | BI31: 44 | BJ31: 118 | BK31: 288 | BL31: 51 | BM31: 7 | BN31: 9 | BO31: 5 | BP31: 252 | BQ31: - | BR31: 126 | BS31: 211 | BT31: 143 | BU31: 20 | BV31: 514 | BW31: 23 | BX31: - | BY31: 924
B32: אחוז עולים בני 17-0 בהשתקעות ראשונה | C32: - | D32: 14.3 | E32: 18.2 | F32: 10 | G32: 19.5 | H32: - | I32: 9 | J32: 19.3 | K32: 31.4 | L32: - | M32: 34.4 | N32: - | O32: 43.5 | P32: 21.7 | Q32: 27.9 | R32: 17.3 | S32: 8.1 | T32: 18.2 | U32: 5.9 | V32: 5 | W32: 16.8 | X32: 31.6 | Y32: 13.5 | Z32: 22.4 | AA32: 17.4 | AB32: - | AC32: - | AD32: 20 | AE32: - | AF32: 13.3 | AG32: - | AH32: 7.1 | AI32: 17.7 | AJ32: 24.7 | AK32: - | AL32: 27.5 | AM32: 14.3 | AN32: 25.7 | AO32: 40.4 | AP32: 38.4 | AQ32: 24.7 | AR32: 31.3 | AS32: 27.2 | AT32: - | AU32: - | AV32: 23.4 | AW32: 17 | AX32: 33.3 | AY32: 18.2 | AZ32: - | BA32: 31.7 | BB32: 7.1 | BC32: 38 | BD32: 17.5 | BE32: 48.9 | BF32: - | BG32: 26.3 | BH32: 15.6 | BI32: 18.2 | BJ32: 33.9 | BK32: 31.3 | BL32: 19.6 | BM32: - | BN32: 22.2 | BO32: - | BP32: 13.1 | BQ32: - | BR32: 19.8 | BS32: 29.4 | BT32: 11.9 | BU32: 20 | BV32: 22.2 | BW32: 8.7 | BX32: - | BY32: 10.7
B33: אחוז עולים בני 44-18 בהשתקעות ראשונה | C33: - | D33: 52.4 | E33: 36.4 | F33: 35 | G33: 55.4 | H33: 61.1 | I33: 65.7 | J33: 38.3 | K33: 39 | L33: - | M33: 40.5 | N33: 33.3 | O33: 38 | P33: 58.7 | Q33: 53.2 | R33: 37.4 | S33: 78.4 | T33: 57.6 | U33: 52.9 | V33: 65 | W33: 41.8 | X33: 37.4 | Y33: 41.5 | Z33: 44.4 | AA33: 41.3 | AB33: - | AC33: - | AD33: 20 | AE33: - | AF33: 46.7 | AG33: - | AH33: 35.7 | AI33: 57 | AJ33: 38.1 | AK33: - | AL33: 40.6 | AM33: 38.1 | AN33: 38.6 | AO33: 47.4 | AP33: 31.7 | AQ33: 39.7 | AR33: 33.3 | AS33: 49.8 | AT33: 80 | AU33: - | AV33: 43.1 | AW33: 31.9 | AX33: 41.7 | AY33: 33.8 | AZ33: - | BA33: 44.2 | BB33: 35.7 | BC33: 34.3 | BD33: 38.4 | BE33: 32.2 | BF33: - | BG33: 52.6 | BH33: 35.9 | BI33: 34.1 | BJ33: 44.9 | BK33: 36.1 | BL33: 43.1 | BM33: 28.6 | BN33: 66.7 | BO33: 60 | BP33: 36.9 | BQ33: - | BR33: 36.5 | BS33: 39.3 | BT33: 54.5 | BU33: 40 | BV33: 55.8 | BW33: 39.1 | BX33: - | BY33: 56.4
B34: אחוז עולים בני 64-45 בהשתקעות ראשונה | C34: - | D34: 14.3 | E34: 45.5 | F34: 20 | G34: 19.9 | H34: 5.6 | I34: 14.9 | J34: 28 | K34: 17.7 | L34: - | M34: 17.6 | N34: 66.7 | O34: 10 | P34: 17.4 | Q34: 11 | R34: 28.2 | S34: 8.1 | T34: 9.1 | U34: 23.5 | V34: 10 | W34: 19.4 | X34: 21.6 | Y34: 27.9 | Z34: 21.5 | AA34: 21.7 | AB34: - | AC34: - | AD34: 40 | AE34: - | AF34: 20 | AG34: - | AH34: 50 | AI34: 13.7 | AJ34: 16.5 | AK34: - | AL34: 18.5 | AM34: 31.7 | AN34: 23.8 | AO34: 5.3 | AP34: 14 | AQ34: 24.7 | AR34: 29.2 | AS34: 14.6 | AT34: - | AU34: - | AV34: 22.9 | AW34: 29.8 | AX34: 16.7 | AY34: 24.3 | AZ34: - | BA34: 15.9 | BB34: 38.1 | BC34: 16.7 | BD34: 25.6 | BE34: 14.1 | BF34: - | BG34: 10.5 | BH34: 23.4 | BI34: 20.5 | BJ34: 13.6 | BK34: 22.2 | BL34: 25.5 | BM34: - | BN34: 11.1 | BO34: 40 | BP34: 32.9 | BQ34: - | BR34: 28.6 | BS34: 23.2 | BT34: 20.3 | BU34: 20 | BV34: 9.9 | BW34: 39.1 | BX34: - | BY34: 20.6
B35: אחוז עולים בני 65 ומעלה בהשתקעות ראשונה | C35: - | D35: 19 | E35: - | F35: 35 | G35: 5.2 | H35: 33.3 | I35: 10.4 | J35: 14.4 | K35: 11.8 | L35: - | M35: 7.6 | N35: - | O35: 8.5 | P35: 2.2 | Q35: 7.8 | R35: 17.1 | S35: 5.4 | T35: 15.2 | U35: 17.6 | V35: 20 | W35: 21.9 | X35: 9.4 | Y35: 17 | Z35: 11.7 | AA35: 19.6 | AB35: - | AC35: - | AD35: 20 | AE35: - | AF35: 20 | AG35: 100 | AH35: 7.1 | AI35: 11.6 | AJ35: 20.6 | AK35: - | AL35: 13.4 | AM35: 15.9 | AN35: 11.9 | AO35: 7 | AP35: 15.9 | AQ35: 11 | AR35: 6.3 | AS35: 8.4 | AT35: 20 | AU35: - | AV35: 10.6 | AW35: 21.3 | AX35: 8.3 | AY35: 23.7 | AZ35: - | BA35: 8.2 | BB35: 19 | BC35: 11.1 | BD35: 18.4 | BE35: 4.8 | BF35: - | BG35: 10.5 | BH35: 25 | BI35: 27.3 | BJ35: 7.6 | BK35: 10.4 | BL35: 11.8 | BM35: 71.4 | BN35: - | BO35: - | BP35: 17.1 | BQ35: - | BR35: 15.1 | BS35: 8.1 | BT35: 13.3 | BU35: 20 | BV35: 12.1 | BW35: 13 | BX35: - | BY35: 12.3

Sheet תוצאות בחירות 2013
A1: סמל ישוב | B1: שם ישוב | C1: בז"ב | D1: אותיות | E1: נספר? | F1: שם | G1: שם מועמד לראש רשות | H1: סך קולות כשרים מדווח | I1: סה"כ קולות כשרים | J1: % קולות לרשימה | K1: קולות כשרים לרשימה | L1: % מחושב | M1: בוחרים מחושב
A2: 472 | B2: אבו גוש | C2: 4617 | D2: למ | E2: =IF(VLOOKUP(A2,'חישוב בזב'!$H$2:$K$188,4,FALSE)=FALSE,"No","Yes") -> No | F2: הפיתוח והשוויון | G2: גבר עיסא | H2: 2342 | I2: 2416 | J2: 0.60631939 | K2: 1420 | L2: 0.60631939 | M2: 1420
A3: 472 | B3: אבו גוש | C3: 4617 | D3: א | E3: =IF(VLOOKUP(A3,'חישוב בזב'!$H$2:$K$188,4,FALSE)=FALSE,"No","Yes") -> No | F3: אבו גוש המאוחדת | G3: איברהים עזמי | H3: 2342 | I3: 2416 | J3: 0.3941076 | K3: 923 | L3: 0.3941076 | M3: 923
A4: 472 | B4: אבו גוש | C4: 4617 | D4: ה | E4: =IF(VLOOKUP(A4,'חישוב בזב'!$H$2:$K$188,4,FALSE)=FALSE,"No","Yes") -> No | F4: אלפרג' | G4: עבדאל רחמן ערסן | H4: 2342 | I4: 2416 | J4: 0.39368061 | K4: 922 | L4: 0.39368061 | M4: 922
A5: 472 | B5: אבו גוש | C5: 4617 | D5: ץ | E5: =IF(VLOOKUP(A5,'חישוב בזב'!$H$2:$K$188,4,FALSE)=FALSE,"No","Yes") -> No | F5: רפורמה ובינוי | H5: 2342 | I5: 2416 | J5: 0.12596072 | K5: 295 | L5: 0.12596072 | M5: 295
A6: 472 | B6: אבו גוש | C6: 4617 | D6: ע | E6: =IF(VLOOKUP(A6,'חישוב בזב'!$H$2:$K$188,4,FALSE)=FALSE,"No","Yes") -> No | F6: צדק חברתי | H6: 2342 | I6: 2416 | J6: 0.11784799 | K6: 276 | L6: 0.11784799 | M6: 276
A7: 473 | B7: אבו סנאן | C7: 8354 | D7: ו | E7: =IF(VLOOKUP(A7,'חישוב בזב'!$H$2:$K$188,4,FALSE)=FALSE,"No","Yes") -> No | F7: חד"ש | H7: 6989 | I7: 6989 | J7: 0.21734154 | K7: 1519 | L7: 0.21734154 | M7: 1519
A8: 473 | B8: אבו סנאן | C8: 8354 | D8: מ | E8: =IF(VLOOKUP(A8,'חישוב בזב'!$H$2:$K$188,4,FALSE)=FALSE,"No","Yes") -> No | F8: אמנאר | H8: 6989 | I8: 6989 | J8: 0.15080841 | K8: 1054 | L8: 0.15080841 | M8: 1054
A9: 473 | B9: אבו סנאן | C9: 8354 | D9: אד | E9: =IF(VLOOKUP(A9,'חישוב בזב'!$H$2:$K$188,4,FALSE)=FALSE,"No","Yes") -> No | F9: הדרוזית המאוחדת | H9: 6989 | I9: 6989 | J9: 0.14680212 | K9: 1026 | L9: 0.14680212 | M9: 1026
A10: 473 | B10: אבו סנאן | C10: 8354 | D10: נה | E10: =IF(VLOOKUP(A10,'חישוב בזב'!$H$2:$K$188,4,FALSE)=FALSE,"No","Yes") -> No | F10: אלנזאהה | H10: 6989 | I10: 6989 | J10: 0.11718415 | K10: 819 | L10: 0.11718415 | M10: 819
A11: 473 | B11: אבו סנאן | C11: 8354 | D11: עם | E11: =IF(VLOOKUP(A11,'חישוב בזב'!$H$2:$K$188,4,FALSE)=FALSE,"No","Yes") -> No | F11: הערבית המאוחדת | H11: 6989 | I11: 6989 | J11: 0.11160395 | K11: 780 | L11: 0.11160395 | M11: 780
A12: 473 | B12: אבו סנאן | C12: 8354 | D12: יק | E12: =IF(VLOOKUP(A12,'חישוב בזב'!$H$2:$K$188,4,FALSE)=FALSE,"No","Yes") -> No | F12: אלרסאלה | H12: 6989 | I12: 6989 | J12: 0.10831306 | K12: 757 | L12: 0.10831306 | M12: 757
A13: 473 | B13: אבו סנאן | C13: 8354 | D13: ר | E13: =IF(VLOOKUP(A13,'חישוב בזב'!$H$2:$K$188,4,FALSE)=FALSE,"No","Yes") -> No | F13: האמונה לשינוי | H13: 6989 | I13: 6989 | J13: 0.083989126 | K13: 587 | L13: 0.083989126 | M13: 587
A14: 473 | B14: אבו סנאן | C14: 8354 | D14: ס | E14: =IF(VLOOKUP(A14,'חישוב בזב'!$H$2:$K$188,4,FALSE)=FALSE,"No","Yes") -> No | F14: אלנור ואלהודה | H14: 6989 | I14: 6989 | J14: 0.059951352 | K14: 419 | L14: 0.059951352 | M14: 419
A15: 473 | B15: אבו סנאן | C15: 8354 | D15: ך | E15: =IF(VLOOKUP(A15,'חישוב בזב'!$H$2:$K$188,4,FALSE)=FALSE,"No","Yes") -> No | F15: גיל חדש | G15: ביתם גסאן | H15: 6989 | I15: 6989 | J15: 0.0014308199 | K15: 10 | L15: 0.0014308199 | M15: 10
A16: 473 | B16: אבו סנאן | C16: 8354 | D16: נ | E16: =IF(VLOOKUP(A16,'חישוב בזב'!$H$2:$K$188,4,FALSE)=FALSE,"No","Yes") -> No | F16: אלבלד | G16: מושלב האני | H16: 6989 | I16: 6989 | J16: 0.0012877379 | K16: 9 | L16: 0.0012877379 | M16: 9
A17: 473 | B17: אבו סנאן | C17: 8354 | D17: א | E17: =IF(VLOOKUP(A17,'חישוב בזב'!$H$2:$K$188,4,FALSE)=FALSE,"No","Yes") -> No | F17: אחווה ושוויון | G17: עזאם קופטאן | H17: 6989 | I17: 6989 | J17: 0.00042924596 | K17: 3 | L17: 0.00042924596 | M17: 3
A18: 473 | B18: אבו סנאן | C18: 8354 | D18: ז | E18: =IF(VLOOKUP(A18,'חישוב בזב'!$H$2:$K$188,4,FALSE)=FALSE,"No","Yes") -> No | F18: המתקדמת | G18: משלב נוהאד | H18: 6989 | I18: 6989 | J18: 0.00028616397 | K18: 2 | L18: 0.00028616397 | M18: 2
A19: 473 | B19: אבו סנאן | C19: 8354 | D19: ף | E19: =IF(VLOOKUP(A19,'חישוב בזב'!$H$2:$K$188,4,FALSE)=FALSE,"No","Yes") -> No | F19: אבו סנאן לכולנו | G19: מוסא נעים | H19: 6989 | I19: 6989 | J19: 0.00028616397 | K19: 2 | L19: 0.00028616397 | M19: 2
A20: 473 | B20: אבו סנאן | C20: 8354 | D20: ץ | E20: =IF(VLOOKUP(A20,'חישוב בזב'!$H$2:$K$188,4,FALSE)=FALSE,"No","Yes") -> No | F20: אלאסתקאמה | G20: סעב גאזי | H20: 6989 | I20: 6989 | J20: 0.00028616397 | K20: 2 | L20: 0.00028616397 | M20: 2
A21: 182 | B21: אבן יהודה | C21: 9172 | D21: לי | E21: =IF(VLOOKUP(A21,'חישוב בזב'!$H$2:$K$188,4,FALSE)=FALSE,"No","Yes") -> No | F21: יותר בראשות אברהם הררי | G21: הררי אברהם | H21: 5229 | I21: 5229 | J21: 0.42073054 | K21: 2200 | L21: 0.42073054 | M21: 2200
A22: 182 | B22: אבן יהודה | C22: 9172 | D22: א | E22: =IF(VLOOKUP(A22,'חישוב בזב'!$H$2:$K$188,4,FALSE)=FALSE,"No","Yes") -> No | F22: המושבה שלנו | G22: אליאס ערן | H22: 5229 | I22: 5229 | J22: 0.3471027 | K22: 1815 | L22: 0.3471027 | M22: 1815
A23: 182 | B23: אבן יהודה | C23: 9172 | D23: פה | E23: =IF(VLOOKUP(A23,'חישוב בזב'!$H$2:$K$188,4,FALSE)=FALSE,"No","Yes") -> No | F23: סיעת הצעירים בראשות עמרי פלד | H23: 5229 | I23: 5229 | J23: 0.1384586 | K23: 724 | L23: 0.1384586 | M23: 724
A24: 182 | B24: אבן יהודה | C24: 9172 | D24: שס | E24: =IF(VLOOKUP(A24,'חישוב בזב'!$H$2:$K$188,4,FALSE)=FALSE,"No","Yes") -> No | F24: התאחדות הספרדים העולמית שומרי תורה | H24: 5229 | I24: 5229 | J24: 0.054503729 | K24: 285 | L24: 0.054503729 | M24: 285
A25: 182 | B25: אבן יהודה | C25: 9172 | D25: טב | E25: =IF(VLOOKUP(A25,'חישוב בזב'!$H$2:$K$188,4,FALSE)=FALSE,"No","Yes") -> No | F25: הבית היהודי בראשות משומר לוי | G25: לוי משומר | H25: 5229 | I25: 5229 | J25: 0.039204437 | K25: 205 | L25: 0.039204437 | M25: 205
A26: 2710 | B26: אום אל-פחם | C26: 30305 | D26: מ | E26: =IF(VLOOKUP(A26,'חישוב בזב'!$H$2:$K$188,4,FALSE)=FALSE,"No","Yes") -> Yes | F26: נור אלמוסתקבל | H26: 19197 | I26: 19197 | J26: 0.43053602 | K26: 8265 | L26: 0.43053602 | M26: 8265
A27: 2710 | B27: אום אל-פחם | C27: 30305 | D27: קפ | E27: =IF(VLOOKUP(A27,'חישוב בזב'!$H$2:$K$188,4,FALSE)=FALSE,"No","Yes") -> Yes | F27: קאאמת אלופאק אלבלדי | H27: 19197 | I27: 19197 | J27: 0.16231703 | K27: 3116 | L27: 0.16231703 | M27: 3116
A28: 2710 | B28: אום אל-פחם | C28: 30305 | D28: ךי | E28: =IF(VLOOKUP(A28,'חישוב בזב'!$H$2:$K$188,4,FALSE)=FALSE,"No","Yes") -> Yes | F28: אלתווחיד | H28: 19197 | I28: 19197 | J28: 0.12804084 | K28: 2458 | L28: 0.12804084 | M28: 2458
A29: 2710 | B29: אום אל-פחם | C29: 30305 | D29: א | E29: =IF(VLOOKUP(A29,'חישוב בזב'!$H$2:$K$188,4,FALSE)=FALSE,"No","Yes") -> Yes | F29: אום אלפחם אלמוחדה | H29: 19197 | I29: 19197 | J29: 0.12517581 | K29: 2403 | L29: 0.12517581 | M29: 2403
A30: 2710 | B30: אום אל-פחם | C30: 30305 | D30: נ | E30: =IF(VLOOKUP(A30,'חישוב בזב'!$H$2:$K$188,4,FALSE)=FALSE,"No","Yes") -> Yes | F30: אלתחאלף אלבלדי | H30: 19197 | I30: 19197 | J30: 0.088399229 | K30: 1697 | L30: 0.088399229 | M30: 1697
A31: 2710 | B31: אום אל-פחם | C31: 30305 | D31: הז | E31: =IF(VLOOKUP(A31,'חישוב בזב'!$H$2:$K$188,4,FALSE)=FALSE,"No","Yes") -> Yes | F31: אלאהראם | H31: 19197 | I31: 19197 | J31: 0.055112778 | K31: 1058 | L31: 0.055112778 | M31: 1058
A32: 2710 | B32: אום אל-פחם | C32: 30305 | D32: ו | E32: =IF(VLOOKUP(A32,'חישוב בזב'!$H$2:$K$188,4,FALSE)=FALSE,"No","Yes") -> Yes | F32: אום אלפחם אלג'דידה | G32: אגבאריה רג'א | H32: 19197 | I32: 19197 | J32: 0.0075532635 | K32: 145 | L32: 0.0075532635 | M32: 145
A33: 2710 | B33: אום אל-פחם | C33: 30305 | D33: י | E33: =IF(VLOOKUP(A33,'חישוב בזב'!$H$2:$K$188,4,FALSE)=FALSE,"No","Yes") -> Yes | F33: קאאמת אלנג'אח | G33: מחאג'נה יוסף | H33: 19197 | I33: 19197 | J33: 0.0015627442 | K33: 30 | L33: 0.0015627442 | M33: 30
A34: 2710 | B34: אום אל-פחם | C34: 30305 | D34: ץ | E34: =IF(VLOOKUP(A34,'חישוב בזב'!$H$2:$K$188,4,FALSE)=FALSE,"No","Yes") -> Yes | F34: אלעהד | G34: אגבאריה ח'אלד | H34: 19197 | I34: 19197 | J34: 0.0013022868 | K34: 25 | L34: 0.0013022868 | M34: 25
A35: 31 | B35: אופקים | C35: 19226 | D35: שס | E35: =IF(VLOOKUP(A35,'חישוב בזב'!$H$2:$K$188,4,FALSE)=FALSE,"No","Yes") -> Yes | F35: התאחדות הספרדים העולמית שומרי תורה | H35: 12046 | I35: 12046 | J35: 0.18611987 | K35: 2242 | L35: 0.18611987 | M35: 2242
A36: 31 | B36: אופקים | C36: 19226 | D36: חי | E36: =IF(VLOOKUP(A36,'חישוב בזב'!$H$2:$K$188,4,FALSE)=FALSE,"No","Yes") -> Yes | F36: תנופה לאופקים בראשות יאיר חזן | G36: חזן יאיר | H36: 12046 | I36: 12046 | J36: 0.17989374 | K36: 2167 | L36: 0.17989374 | M36: 2167
A37: 31 | B37: אופקים | C37: 19226 | D37: דת | E37: =IF(VLOOKUP(A37,'חישוב בזב'!$H$2:$K$188,4,FALSE)=FALSE,"No","Yes") -> Yes | F37: הקהילה התורנית אופקים | H37: 12046 | I37: 12046 | J37: 0.16461896 | K37: 1983 | L37: 0.16461896 | M37: 1983
A38: 31 | B38: אופקים | C38: 19226 | D38: מחל | E38: =IF(VLOOKUP(A38,'חישוב בזב'!$H$2:$K$188,4,FALSE)=FALSE,"No","Yes") -> Yes | F38: הליכוד בראשות איציק דנינו | G38: דנינו יצחק איציק | H38: 12046 | I38: 12046 | J38: 0.15532127 | K38: 1871 | L38: 0.15532127 | M38: 1871
A39: 31 | B39: אופקים | C39: 19226 | D39: כן | E39: =IF(VLOOKUP(A39,'חישוב בזב'!$H$2:$K$188,4,FALSE)=FALSE,"No","Yes") -> Yes | F39: יש תקוה בראשות אלי סעדה | H39: 12046 | I39: 12046 | J39: 0.083181139 | K39: 1002 | L39: 0.083181139 | M39: 1002
A40: 31 | B40: אופקים | C40: 19226 | D40: טב | E40: =IF(VLOOKUP(A40,'חישוב בזב'!$H$2:$K$188,4,FALSE)=FALSE,"No","Yes") -> Yes | F40: הבית היהודי | G40: אוחיון משה | H40: 12046 | I40: 12046 | J40: 0.067242238 | K40: 810 | L40: 0.067242238 | M40: 810
A41: 31 | B41: אופקים | C41: 19226 | D41: נץ | E41: =IF(VLOOKUP(A41,'חישוב בזב'!$H$2:$K$188,4,FALSE)=FALSE,"No","Yes") -> Yes | F41: אופקים רוצה שינוי | H41: 12046 | I41: 12046 | J41: 0.061182135 | K41: 737 | L41: 0.061182135 | M41: 737
A42: 31 | B42: אופקים | C42: 19226 | D42: ל | E42: =IF(VLOOKUP(A42,'חישוב בזב'!$H$2:$K$188,4,FALSE)=FALSE,"No","Yes") -> Yes | F42: אופקים ביתנו | H42: 12046 | I42: 12046 | J42: 0.054042836 | K42: 651 | L42: 0.054042836 | M42: 651
A43: 31 | B43: אופקים | C43: 19226 | D43: ק | E43: =IF(VLOOKUP(A43,'חישוב בזב'!$H$2:$K$188,4,FALSE)=FALSE,"No","Yes") -> Yes | F43: אנחנו ביחד | H43: 12046 | I43: 12046 | J43: 0.038602026 | K43: 465 | L43: 0.038602026 | M43: 465
A44: 31 | B44: אופקים | C44: 19226 | D44: זך | E44: =IF(VLOOKUP(A44,'חישוב בזב'!$H$2:$K$188,4,FALSE)=FALSE,"No","Yes") -> Yes | F44: אופקים תצליח בראשות אליעזר אביטן | G44: אביטן אליעזר | H44: 12046 | I44: 12046 | J44: 0.0097957828 | K44: 118 | L44: 0.0097957828 | M44: 118
A45: 2400 | B45: אור יהודה | C45: 26759 | D45: כן | E45: =IF(VLOOKUP(A45,'חישוב בזב'!$H$2:$K$188,4,FALSE)=FALSE,"No","Yes") -> Yes | F45: בראשות דוד יוסף | G45: יוסף דוד | H45: 14526 | I45: 14526 | J45: 0.372711 | K45: 5414 | L45: 0.372711 | M45: 5414
A46: 2400 | B46: אור יהודה | C46: 26759 | D46: שס | E46: =IF(VLOOKUP(A46,'חישוב בזב'!$H$2:$K$188,4,FALSE)=FALSE,"No","Yes") -> Yes | F46: עוזי אהרון למען תושבי אור יהודה | G46: אהרן עוזי | H46: 14526 | I46: 14526 | J46: 0.21774749 | K46: 3163 | L46: 0.21774749 | M46: 3163
A47: 2400 | B47: אור יהודה | C47: 26759 | D47: אי | E47: =IF(VLOOKUP(A47,'חישוב בזב'!$H$2:$K$188,4,FALSE)=FALSE,"No","Yes") -> Yes | F47: תנועת אור חדש בראשות ליאת שוחט | H47: 14526 | I47: 14526 | J47: 0.099683326 | K47: 1448 | L47: 0.099683326 | M47: 1448
A48: 2400 | B48: אור יהודה | C48: 26759 | D48: ל | E48: =IF(VLOOKUP(A48,'חישוב בזב'!$H$2:$K$188,4,FALSE)=FALSE,"No","Yes") -> Yes | F48: מחר יום חדש בראשות ננה חן ואיציק דדוש | G48: חן ננה | H48: 14526 | I48: 14526 | J48: 0.068015971 | K48: 988 | L48: 0.068015971 | M48: 988
A49: 2400 | B49: אור יהודה | C49: 26759 | D49: נצ | E49: =IF(VLOOKUP(A49,'חישוב בזב'!$H$2:$K$188,4,FALSE)=FALSE,"No","Yes") -> Yes | F49: סבח יוסף רשימת נאמני ציבור | H49: 14526 | I49: 14526 | J49: 0.060512185 | K49: 879 | L49: 0.060512185 | M49: 879
A50: 2400 | B50: אור יהודה | C50: 26759 | D50: פ | E50: =IF(VLOOKUP(A50,'חישוב בזב'!$H$2:$K$188,4,FALSE)=FALSE,"No","Yes") -> Yes | F50: רשימת נווה בראשות אפי גוטמן | G50: גוטמן אפרים צבי | H50: 14526 | I50: 14526 | J50: 0.058240397 | K50: 846 | L50: 0.058240397 | M50: 846
A51: 2400 | B51: אור יהודה | C51: 26759 | D51: טב | E51: =IF(VLOOKUP(A51,'חישוב בזב'!$H$2:$K$188,4,FALSE)=FALSE,"No","Yes") -> Yes | F51: הבית היהודי בראשות דוד חיון | H51: 14526 | I51: 14526 | J51: 0.056863555 | K51: 826 | L51: 0.056863555 | M51: 826
A52: 2400 | B52: אור יהודה | C52: 26759 | D52: ים | E52: =IF(VLOOKUP(A52,'חישוב בזב'!$H$2:$K$188,4,FALSE)=FALSE,"No","Yes") -> Yes | F52: יחד בדרכי נועם | H52: 14526 | I52: 14526 | J52: 0.039377668 | K52: 572 | L52: 0.039377668 | M52: 572
A53: 2400 | B53: אור יהודה | C53: 26759 | D53: ח | E53: =IF(VLOOKUP(A53,'חישוב בזב'!$H$2:$K$188,4,FALSE)=FALSE,"No","Yes") -> Yes | F53: אור יהודה ביתנו | G53: בנימינוב חנניה | H53: 14526 | I53: 14526 | J53: 0.02684841 | K53: 390 | L53: 0.02684841 | M53: 390
A54: 1020 | B54: אור עקיבא | C54: 14677 | D54: א | E54: =IF(VLOOKUP(A54,'חישוב בזב'!$H$2:$K$188,4,FALSE)=FALSE,"No","Yes") -> Yes | F54: ביחד | G54: אדרי יעקב | H54: 9271 | I54: 9271 | J54: 0.24916406 | K54: 2310 | L54: 0.24916406 | M54: 2310
A55: 1020 | B55: אור עקיבא | C55: 14677 | D55: מחל | E55: =IF(VLOOKUP(A55,'חישוב בזב'!$H$2:$K$188,4,FALSE)=FALSE,"No","Yes") -> Yes | F55: הליכוד שס | G55: יוסיפוב שמחה | H55: 9271 | I55: 9271 | J55: 0.20936253 | K55: 1941 | L55: 0.20936253 | M55: 1941
A56: 1020 | B56: אור עקיבא | C56: 14677 | D56: ת | E56: =IF(VLOOKUP(A56,'חישוב בזב'!$H$2:$K$188,4,FALSE)=FALSE,"No","Yes") -> Yes | F56: התנופה בראשות ארקדי גדילוב | H56: 9271 | I56: 9271 | J56: 0.13547622 | K56: 1256 | L56: 0.13547622 | M56: 1256
A57: 1020 | B57: אור עקיבא | C57: 14677 | D57: ה | E57: =IF(VLOOKUP(A57,'חישוב בזב'!$H$2:$K$188,4,FALSE)=FALSE,"No","Yes") -> Yes | F57: עתיד בטוח יוסי כדורי | H57: 9271 | I57: 9271 | J57: 0.12134613 | K57: 1125 | L57: 0.12134613 | M57: 1125
A58: 1020 | B58: אור עקיבא | C58: 14677 | D58: זך | E58: =IF(VLOOKUP(A58,'חישוב בזב'!$H$2:$K$188,4,FALSE)=FALSE,"No","Yes") -> Yes | F58: לב בראשות אברהם כהן | H58: 9271 | I58: 9271 | J58: 0.092007335 | K58: 853 | L58: 0.092007335 | M58: 853
A59: 1020 | B59: אור עקיבא | C59: 14677 | D59: ל | E59: =IF(VLOOKUP(A59,'חישוב בזב'!$H$2:$K$188,4,FALSE)=FALSE,"No","Yes") -> Yes | F59: אור עקיבא ביתנו | H59: 9271 | I59: 9271 | J59: 0.078308705 | K59: 726 | L59: 0.078308705 | M59: 726
A60: 1020 | B60: אור עקיבא | C60: 14677 | D60: י | E60: =IF(VLOOKUP(A60,'חישוב בזב'!$H$2:$K$188,4,FALSE)=FALSE,"No","Yes") -> Yes | F60: לשם שמים | H60: 9271 | I60: 9271 | J60: 0.061589904 | K60: 571 | L60: 0.061589904 | M60: 571
A61: 1020 | B61: אור עקיבא | C61: 14677 | D61: נ | E61: =IF(VLOOKUP(A61,'חישוב בזב'!$H$2:$K$188,4,FALSE)=FALSE,"No","Yes") -> Yes | F61: אור לצעירים | H61: 9271 | I61: 9271 | J61: 0.052745119 | K61: 489 | L61: 0.052745119 | M61: 489
A62: 3760 | B62: אורנית | C62: 5442 | D62: של | E62: =IF(VLOOKUP(A62,'חישוב בזב'!$H$2:$K$188,4,FALSE)=FALSE,"No","Yes") -> No | F62: יחד | G62: לנגר שלומי | H62: 2943 | I62: 2943 | J62: 0.63710499 | K62: 1875 | L62: 0.63710499 | M62: 1875
A63: 3760 | B63: אורנית | C63: 5442 | D63: את | E63: =IF(VLOOKUP(A63,'חישוב בזב'!$H$2:$K$188,4,FALSE)=FALSE,"No","Yes") -> No | F63: אורנית אחת ביחד עם קרן גפני בוחניק | G63: גפני-בוחניק קרן רחל | H63: 2943 | I63: 2943 | J63: 0.36289501 | K63: 1068 | L63: 0.36289501 | M63: 1068
A64: 565 | B64: אזור | C64: 9553 | D64: א | E64: =IF(VLOOKUP(A64,'חישוב בזב'!$H$2:$K$188,4,FALSE)=FALSE,"No","Yes") -> No | F64: אזור אחת בראשות אריה פכטר | G64: פכטר אריה | H64: 5041 | I64: 5041 | J64: 0.45804404 | K64: 2309 | L64: 0.45804404 | M64: 2309
A65: 565 | B65: אזור | C65: 9553 | D65: מחל | E65: =IF(VLOOKUP(A65,'חישוב בזב'!$H$2:$K$188,4,FALSE)=FALSE,"No","Yes") -> No | F65: הליכוד ירוקים בראשות אוריאל תנעמי | G65: תנעמי אוריאל | H65: 5041 | I65: 5041 | J65: 0.15334259 | K65: 773 | L65: 0.15334259 | M65: 773
A66: 565 | B66: אזור | C66: 9553 | D66: שסג | E66: =IF(VLOOKUP(A66,'חישוב בזב'!$H$2:$K$188,4,FALSE)=FALSE,"No","Yes") -> No | F66: מסורת ועשייה | H66: 5041 | I66: 5041 | J66: 0.14124182 | K66: 712 | L66: 0.14124182 | M66: 712
A67: 565 | B67: אזור | C67: 9553 | D67: טב | E67: =IF(VLOOKUP(A67,'חישוב בזב'!$H$2:$K$188,4,FALSE)=FALSE,"No","Yes") -> No | F67: הבית היהודי בראשות יוסף מגנאגי | H67: 5041 | I67: 5041 | J67: 0.094624083 | K67: 477 | L67: 0.094624083 | M67: 477
A68: 565 | B68: אזור | C68: 9553 | D68: דף | E68: =IF(VLOOKUP(A68,'חישוב בזב'!$H$2:$K$188,4,FALSE)=FALSE,"No","Yes") -> No | F68: דף חדש באזור יובל בן בסט | H68: 5041 | I68: 5041 | J68: 0.083911922 | K68: 423 | L68: 0.083911922 | M68: 423
A69: 565 | B69: אזור | C69: 9553 | D69: ל | E69: =IF(VLOOKUP(A69,'חישוב בזב'!$H$2:$K$188,4,FALSE)=FALSE,"No","Yes") -> No | F69: ישראל ביתנו אזור | H69: 5041 | I69: 5041 | J69: 0.068835549 | K69: 347 | L69: 0.068835549 | M69: 347
A70: 2600 | B70: אילת | C70: 48242 | D70: יד | E70: =IF(VLOOKUP(A70,'חישוב בזב'!$H$2:$K$188,4,FALSE)=FALSE,"No","Yes") -> Yes | F70: כיוון חדש | G70: יצחק הלוי מאיר | H70: 20329 | I70: 20329 | J70: 0.20458458 | K70: 4159 | L70: 0.20458458 | M70: 4159
A71: 2600 | B71: אילת | C71: 48242 | D71: מ | E71: =IF(VLOOKUP(A71,'חישוב בזב'!$H$2:$K$188,4,FALSE)=FALSE,"No","Yes") -> Yes | F71: אילת מחכה למהפך | G71: כהן דובי | H71: 20329 | I71: 20329 | J71: 0.18638398 | K71: 3789 | L71: 0.18638398 | M71: 3789
A72: 2600 | B72: אילת | C72: 48242 | D72: ים | E72: =IF(VLOOKUP(A72,'חישוב בזב'!$H$2:$K$188,4,FALSE)=FALSE,"No","Yes") -> Yes | F72: ים | H72: 20329 | I72: 20329 | J72: 0.11987801 | K72: 2437 | L72: 0.11987801 | M72: 2437
A73: 2600 | B73: אילת | C73: 48242 | D73: צא | E73: =IF(VLOOKUP(A73,'חישוב בזב'!$H$2:$K$188,4,FALSE)=FALSE,"No","Yes") -> Yes | F73: צעירי אילת | H73: 20329 | I73: 20329 | J73: 0.11058094 | K73: 2248 | L73: 0.11058094 | M73: 2248
A74: 2600 | B74: אילת | C74: 48242 | D74: שס | E74: =IF(VLOOKUP(A74,'חישוב בזב'!$H$2:$K$188,4,FALSE)=FALSE,"No","Yes") -> Yes | F74: יחד | H74: 20329 | I74: 20329 | J74: 0.080869694 | K74: 1644 | L74: 0.080869694 | M74: 1644
A75: 2600 | B75: אילת | C75: 48242 | D75: א | E75: =IF(VLOOKUP(A75,'חישוב בזב'!$H$2:$K$188,4,FALSE)=FALSE,"No","Yes") -> Yes | F75: אור לאילת | H75: 20329 | I75: 20329 | J75: 0.073835408 | K75: 1501 | L75: 0.073835408 | M75: 1501
A76: 2600 | B76: אילת | C76: 48242 | D76: ל | E76: =IF(VLOOKUP(A76,'חישוב בזב'!$H$2:$K$188,4,FALSE)=FALSE,"No","Yes") -> Yes | F76: אילת ביתנו | H76: 20329 | I76: 20329 | J76: 0.070392051 | K76: 1431 | L76: 0.070392051 | M76: 1431
A77: 2600 | B77: אילת | C77: 48242 | D77: נא | E77: =IF(VLOOKUP(A77,'חישוב בזב'!$H$2:$K$188,4,FALSE)=FALSE,"No","Yes") -> Yes | F77: ייחוד אילת | H77: 20329 | I77: 20329 | J77: 0.039352649 | K77: 800 | L77: 0.039352649 | M77: 800
A78: 2600 | B78: אילת | C78: 48242 | D78: נץ | E78: =IF(VLOOKUP(A78,'חישוב בזב'!$H$2:$K$188,4,FALSE)=FALSE,"No","Yes") -> Yes | F78: אילת אחרת | H78: 20329 | I78: 20329 | J78: 0.037089872 | K78: 754 | L78: 0.037089872 | M78: 754
A79: 2600 | B79: אילת | C79: 48242 | D79: פה | E79: =IF(VLOOKUP(A79,'חישוב בזב'!$H$2:$K$188,4,FALSE)=FALSE,"No","Yes") -> Yes | F79: יש עתיד | H79: 20329 | I79: 20329 | J79: 0.035860101 | K79: 729 | L79: 0.035860101 | M79: 729
A80: 2600 | B80: אילת | C80: 48242 | D80: טב | E80: =IF(VLOOKUP(A80,'חישוב בזב'!$H$2:$K$188,4,FALSE)=FALSE,"No","Yes") -> Yes | F80: הבית היהודי | H80: 20329 | I80: 20329 | J80: 0.02853067 | K80: 580 | L80: 0.02853067 | M80: 580
A81: 2600 | B81: אילת | C81: 48242 | D81: ח | E81: =IF(VLOOKUP(A81,'חישוב בזב'!$H$2:$K$188,4,FALSE)=FALSE,"No","Yes") -> Yes | F81: תושבים עושים שינוי | G81: חי אהרון | H81: 20329 | I81: 20329 | J81: 0.012642038 | K81: 257 | L81: 0.012642038 | M81: 257
A82: 478 | B82: אכסאל | C82: 8237 | D82: נ | E82: =IF(VLOOKUP(A82,'חישוב בזב'!$H$2:$K$188,4,FALSE)=FALSE,"No","Yes") -> No | F82: רשימת השינוי | H82: 6894 | I82: 6894 | J82: 0.18465332 | K82: 1273 | L82: 0.18465332 | M82: 1273
A83: 478 | B83: אכסאל | C83: 8237 | D83: ו | E83: =IF(VLOOKUP(A83,'חישוב בזב'!$H$2:$K$188,4,FALSE)=FALSE,"No","Yes") -> No | F83: אכסאל המאוחדת | H83: 6894 | I83: 6894 | J83: 0.14897012 | K83: 1027 | L83: 0.14897012 | M83: 1027
A84: 478 | B84: אכסאל | C84: 8237 | D84: כמ | E84: =IF(VLOOKUP(A84,'חישוב בזב'!$H$2:$K$188,4,FALSE)=FALSE,"No","Yes") -> No | F84: אכסאל העצמאית | H84: 6894 | I84: 6894 | J84: 0.10661445 | K84: 735 | L84: 0.10661445 | M84: 735
A85: 478 | B85: אכסאל | C85: 8237 | D85: ע | E85: =IF(VLOOKUP(A85,'חישוב בזב'!$H$2:$K$188,4,FALSE)=FALSE,"No","Yes") -> No | F85: המפלגה הדמוקרטית הערבית | H85: 6894 | I85: 6894 | J85: 0.097911227 | K85: 675 | L85: 0.097911227 | M85: 675
A86: 478 | B86: אכסאל | C86: 8237 | D86: ךי | E86: =IF(VLOOKUP(A86,'חישוב בזב'!$H$2:$K$188,4,FALSE)=FALSE,"No","Yes") -> No | F86: אל מנארה | H86: 6894 | I86: 6894 | J86: 0.081230055 | K86: 560 | L86: 0.081230055 | M86: 560
A87: 478 | B87: אכסאל | C87: 8237 | D87: ת | E87: =IF(VLOOKUP(A87,'חישוב בזב'!$H$2:$K$188,4,FALSE)=FALSE,"No","Yes") -> No | F87: אל עדאלה | G87: דראושה עומר | H87: 6894 | I87: 6894 | J87: 0.075718016 | K87: 522 | L87: 0.075718016 | M87: 522
A88: 478 | B88: אכסאל | C88: 8237 | D88: דס | E88: =IF(VLOOKUP(A88,'חישוב בזב'!$H$2:$K$188,4,FALSE)=FALSE,"No","Yes") -> No | F88: אל אמל | H88: 6894 | I88: 6894 | J88: 0.069480708 | K88: 479 | L88: 0.069480708 | M88: 479
A89: 478 | B89: אכסאל | C89: 8237 | D89: ץח | E89: =IF(VLOOKUP(A89,'חישוב בזב'!$H$2:$K$188,4,FALSE)=FALSE,"No","Yes") -> No | F89: אל ופא-צעירי אכסאל | H89: 6894 | I89: 6894 | J89: 0.053669858 | K89: 370 | L89: 0.053669858 | M89: 370
A90: 478 | B90: אכסאל | C90: 8237 | D90: א | E90: =IF(VLOOKUP(A90,'חישוב בזב'!$H$2:$K$188,4,FALSE)=FALSE,"No","Yes") -> No | F90: אל אעתימאד | H90: 6894 | I90: 6894 | J90: 0.052509428 | K90: 362 | L90: 0.052509428 | M90: 362
A91: 478 | B91: אכסאל | C91: 8237 | D91: גד | E91: =IF(VLOOKUP(A91,'חישוב בזב'!$H$2:$K$188,4,FALSE)=FALSE,"No","Yes") -> No | F91: חזית אכסאל הדמוקרטית | H91: 6894 | I91: 6894 | J91: 0.050768784 | K91: 350 | L91: 0.050768784 | M91: 350
A92: 478 | B92: אכסאל | C92: 8237 | D92: ף | E92: =IF(VLOOKUP(A92,'חישוב בזב'!$H$2:$K$188,4,FALSE)=FALSE,"No","Yes") -> No | F92: אל אח'לאס | H92: 6894 | I92: 6894 | J92: 0.038874384 | K92: 268 | L92: 0.038874384 | M92: 268
A93: 478 | B93: אכסאל | C93: 8237 | D93: ה | E93: =IF(VLOOKUP(A93,'חישוב בזב'!$H$2:$K$188,4,FALSE)=FALSE,"No","Yes") -> No | F93: צעירי היום | G93: דראושה עמאר | H93: 6894 | I93: 6894 | J93: 0.038439223 | K93: 265 | L93: 0.038439223 | M93: 265
A94: 478 | B94: אכסאל | C94: 8237 | D94: ק | E94: =IF(VLOOKUP(A94,'חישוב בזב'!$H$2:$K$188,4,FALSE)=FALSE,"No","Yes") -> No | F94: אלסדאקה | G94: דראושה עבד אלסלאם | H94: 6894 | I94: 6894 | J94: 0.0011604294 | K94: 8 | L94: 0.0011604294 | M94: 8
A95: 41 | B95: אליכין | C95: 2421 | D95: טב | E95: =IF(VLOOKUP(A95,'חישוב בזב'!$H$2:$K$188,4,FALSE)=FALSE,"No","Yes") -> No | F95: הבית היהודי בראשות אבינועם מצובע | H95: 1869 | I95: 1869 | J95: 0.2776886 | K95: 519 | L95: 0.2776886 | M95: 519
A96: 41 | B96: אליכין | C96: 2421 | D96: ע | E96: =IF(VLOOKUP(A96,'חישוב בזב'!$H$2:$K$188,4,FALSE)=FALSE,"No","Yes") -> No | F96: יחד לדרך חדשה | G96: שרוני עזורי | H96: 1869 | I96: 1869 | J96: 0.23327983 | K96: 436 | L96: 0.23327983 | M96: 436
A97: 41 | B97: אליכין | C97: 2421 | D97: נף | E97: =IF(VLOOKUP(A97,'חישוב בזב'!$H$2:$K$188,4,FALSE)=FALSE,"No","Yes") -> No | F97: עתידנו בידינו | G97: חי משה מרדכי | H97: 1869 | I97: 1869 | J97: 0.21562333 | K97: 403 | L97: 0.21562333 | M97: 403
A98: 41 | B98: אליכין | C98: 2421 | D98: שס | E98: =IF(VLOOKUP(A98,'חישוב בזב'!$H$2:$K$188,4,FALSE)=FALSE,"No","Yes") -> No | F98: התאחדות הספרדים העולמית שומרי תורה | H98: 1869 | I98: 1869 | J98: 0.17281969 | K98: 323 | L98: 0.17281969 | M98: 323
A99: 41 | B99: אליכין | C99: 2421 | D99: ד | E99: =IF(VLOOKUP(A99,'חישוב בזב'!$H$2:$K$188,4,FALSE)=FALSE,"No","Yes") -> No | F99: למען המקום | H99: 1869 | I99: 1869 | J99: 0.069020867 | K99: 129 | L99: 0.069020867 | M99: 129
A100: 41 | B100: אליכין | C100: 2421 | D100: זק | E100: =IF(VLOOKUP(A100,'חישוב בזב'!$H$2:$K$188,4,FALSE)=FALSE,"No","Yes") -> No | F100: אליכין חדשה | H100: 1869 | I100: 1869 | J100: 0.031567683 | K100: 59 | L100: 0.031567683 | M100: 59
...

Sheet חישוב בזב
A1: סמל ישוב | B1: שם ישוב | C1: בז"ב | H1: סמל ישוב | I1: שם ישוב | J1: בז"ב | K1: עירייה
A2: 472 | B2: אבו גוש | C2: 4617 | H2: 472 | I2: אבו גוש | J2: 4617 | K2: =IFERROR(MATCH(H2,'נתוני 2011'!$C$2:$BY$2,0),FALSE) -> FALSE
A3: 472 | B3: אבו גוש | C3: 4617 | H3: 473 | I3: אבו סנאן | J3: 8354 | K3: =IFERROR(MATCH(H3,'נתוני 2011'!$C$2:$BY$2,0),FALSE) -> FALSE
A4: 472 | B4: אבו גוש | C4: 4617 | H4: 182 | I4: אבן יהודה | J4: 9172 | K4: =IFERROR(MATCH(H4,'נתוני 2011'!$C$2:$BY$2,0),FALSE) -> FALSE
A5: 472 | B5: אבו גוש | C5: 4617 | H5: 2710 | I5: אום אל-פחם | J5: 30305 | K5: =IFERROR(MATCH(H5,'נתוני 2011'!$C$2:$BY$2,0),FALSE) -> 1
A6: 472 | B6: אבו גוש | C6: 4617 | H6: 31 | I6: אופקים | J6: 19226 | K6: =IFERROR(MATCH(H6,'נתוני 2011'!$C$2:$BY$2,0),FALSE) -> 2
A7: 473 | B7: אבו סנאן | C7: 8354 | H7: 2400 | I7: אור יהודה | J7: 26759 | K7: =IFERROR(MATCH(H7,'נתוני 2011'!$C$2:$BY$2,0),FALSE) -> 3
A8: 473 | B8: אבו סנאן | C8: 8354 | H8: 1020 | I8: אור עקיבא | J8: 14677 | K8: =IFERROR(MATCH(H8,'נתוני 2011'!$C$2:$BY$2,0),FALSE) -> 4
A9: 473 | B9: אבו סנאן | C9: 8354 | H9: 3760 | I9: אורנית | J9: 5442 | K9: =IFERROR(MATCH(H9,'נתוני 2011'!$C$2:$BY$2,0),FALSE) -> FALSE
A10: 473 | B10: אבו סנאן | C10: 8354 | H10: 565 | I10: אזור | J10: 9553 | K10: =IFERROR(MATCH(H10,'נתוני 2011'!$C$2:$BY$2,0),FALSE) -> FALSE
A11: 473 | B11: אבו סנאן | C11: 8354 | H11: 2600 | I11: אילת | J11: 48242 | K11: =IFERROR(MATCH(H11,'נתוני 2011'!$C$2:$BY$2,0),FALSE) -> 5
A12: 473 | B12: אבו סנאן | C12: 8354 | H12: 478 | I12: אכסאל | J12: 8237 | K12: =IFERROR(MATCH(H12,'נתוני 2011'!$C$2:$BY$2,0),FALSE) -> FALSE
A13: 473 | B13: אבו סנאן | C13: 8354 | H13: 41 | I13: אליכין | J13: 2421 | K13: =IFERROR(MATCH(H13,'נתוני 2011'!$C$2:$BY$2,0),FALSE) -> FALSE
... A188: 9000 | B188: באר שבע | C188: 159762 | H188: 1054 | I188: תל שבע | J188: 7714 | K188: =IFERROR(MATCH(H188,'נתוני 2011'!$C$2:$BY$2,0),FALSE) -> FALSE
A189: 9000 | B189: באר שבע | C189: 159762 | J189: =SUM(J2:J188) -> 5462195
A190: 9000 | B190: באר שבע | C190: 159762 | J190: =SUMIF(K2:K188,FALSE,J2:J188) -> 772537
A191: 9000 | B191: באר שבע | C191: 159762
A192: 9000 | B192: באר שבע | C192: 159762
A193: 9000 | B193: באר שבע | C193: 159762
A194: 9000 | B194: באר שבע | C194: 159762
A195: 9000 | B195: באר שבע | C195: 159762
A196: 9000 | B196: באר שבע | C196: 159762
A197: 9000 | B197: באר שבע | C197: 159762
A198: 9000 | B198: באר שבע | C198: 159762
A199: 9000 | B199: באר שבע | C199: 159762
A200: 482 | B200: בועיינה-נוג'ידאת | C200: 5511
A201: 482 | B201: בועיינה-נוג'ידאת | C201: 5511
A202: 482 | B202: בועיינה-נוג'ידאת | C202: 5511
... A1884: 1054 | B1884: תל שבע | C1884: 7714

Sheet Sheet1
A3: אום אל-פחם | B3: אור יהודה | C3: אור עקיבא | D3: אילת | E3: אלעד | F3: אריאל | G3: אשדוד | H3: אשקלון
A4: באר שבע | B4: בית שאן | C4: בית שמש | D4: בני ברק | E4: בת ים | F4: גבעת שמואל | G4: גבעתיים | H4: דימונה
A5: הוד השרון | B5: הרצלייה | C5: חדרה | D5: חולון | E5: חיפה | F5: טבריה | G5: טירה | H5: טירת כרמל
A6: טמרה | B6: יבנה | C6: יהוד | D6: יקנעם עילית | E6: ירושלים | F6: כפר סבא | G6: כפר קאסם | H6: כרמיאל
A7: מגדל העמק | B7: מודיעין עילית | C7: מודיעין-מכבים-רעות* | D7: מעלה אדומים | E7: מעלות-תרשיחא | F7: נהרייה | G7: נס ציונה | H7: נצרת
A8: נצרת עילית | B8: נשר | C8: נתיבות | D8: נתניה | E8: סח'נין | F8: עכו | G8: עפולה | H8: פתח תקווה
A9: צפת | B9: קלנסווה | C9: קריית אונו | D9: קריית אתא | E9: קריית ביאליק | F9: קריית גת | G9: קריית ים | H9: קריית מוצקין
A10: קריית מלאכי | B10: קריית שמונה | C10: ראש העין | D10: ראשון לציון | E10: רהט | F10: רחובות | G10: רמלה | H10: רמת גן
A11: רמת השרון | B11: רעננה | C11: שדרות | D11: שפרעם | E11: תל אביב -יפו
