Workbook
Name date_update: [1]rosh!$M$1
Name תוצאות_בחירות: [1]siot!$B$3:$AB$1887

Sheet ריכוז ומחולל גרפים
A1: ='נתוני 2008'!B1 -> שם הרשות | B1: ='נתוני 2008'!C1 -> אום אל-פחם | C1: ='נתוני 2008'!D1 -> אור יהודה | D1: ='נתוני 2008'!E1 -> אור עקיבא | E1: ='נתוני 2008'!F1 -> אילת | F1: ='נתוני 2008'!G1 -> אלעד | G1: ='נתוני 2008'!H1 -> אריאל | H1: ='נתוני 2008'!I1 -> אשדוד | ... BR1: ='נתוני 2008'!BS1 -> תל אביב -יפו | BS1: =COUNTA(B1:BR1) -> 69
A2: ='נתוני 2008'!B5 -> מספר חברי מועצה | B2: ='נתוני 2008'!C5 -> 16 | C2: ='נתוני 2008'!D5 -> 15 | D2: ='נתוני 2008'!E5 -> 13 | E2: ='נתוני 2008'!F5 -> 17 | F2: ='נתוני 2008'!G5 -> 15 | G2: ='נתוני 2008'!H5 -> 11 | H2: ='נתוני 2008'!I5 -> 27 | ... BR2: ='נתוני 2008'!BS5 -> 30 | BS2: =SUM(B2:BR2) -> 1202
A3: ='נתוני 2008'!B6 -> מספר נשים במועצה | B3: ='נתוני 2008'!C6 -> 0 | C3: ='נתוני 2008'!D6 -> 2 | D3: ='נתוני 2008'!E6 -> 0 | E3: ='נתוני 2008'!F6 -> 3 | F3: ='נתוני 2008'!G6 -> 0 | G3: ='נתוני 2008'!H6 -> 1 | H3: ='נתוני 2008'!I6 -> 4 | ... BR3: ='נתוני 2008'!BS6 -> 7 | BS3: =SUM(B3:BR3) -> 143
A4: ='נתוני 2008'!B7 -> אחוז נשים במועצה | B4: ='נתוני 2008'!C7 -> 0 | C4: ='נתוני 2008'!D7 -> 0.13333333 | D4: ='נתוני 2008'!E7 -> 0 | E4: ='נתוני 2008'!F7 -> 0.17647059 | F4: ='נתוני 2008'!G7 -> 0 | G4: ='נתוני 2008'!H7 -> 0.090909091 | H4: ='נתוני 2008'!I7 -> 0.14814815 | ... BR4: ='נתוני 2008'!BS7 -> 0.23333333 | BS4: =AVERAGE(B4:BR4) -> 0.11191182
A5: ='נתוני 2008'!B8 -> רמה חברתית-כלכלית (10 הגבוה ביותר) | B5: ='נתוני 2008'!C8 -> 2 | C5: ='נתוני 2008'!D8 -> 5 | D5: ='נתוני 2008'!E8 -> 5 | E5: ='נתוני 2008'!F8 -> 5 | F5: ='נתוני 2008'!G8 -> 2 | G5: ='נתוני 2008'!H8 -> 6 | H5: ='נתוני 2008'!I8 -> 5 | ... BR5: ='נתוני 2008'!BS8 -> 8
A7: סה"כ אוכלוסייה (אלפים) | B7: =INDEX('נתוני 2008'!$B$1:$BY$35,MATCH('ריכוז ומחולל גרפים'!$A7,'נתוני 2008'!$B$1:$B$35,0),MATCH('ריכוז ומחולל גרפים'!B$20,'נתוני 2008'!$B$1:$BY$1,0)) -> 44.5 | C7: =INDEX('נתוני 2008'!$B$1:$BY$35,MATCH('ריכוז ומחולל גרפים'!$A7,'נתוני 2008'!$B$1:$B$35,0),MATCH('ריכוז ומחולל גרפים'!C$20,'נתוני 2008'!$B$1:$BY$1,0)) -> 32.6 | D7: =INDEX('נתוני 2008'!$B$1:$BY$35,MATCH('ריכוז ומחולל גרפים'!$A7,'נתוני 2008'!$B$1:$B$35,0),MATCH('ריכוז ומחולל גרפים'!D$20,'נתוני 2008'!$B$1:$BY$1,0)) -> 15.9 | E7: =INDEX('נתוני 2008'!$B$1:$BY$35,MATCH('ריכוז ומחולל גרפים'!$A7,'נתוני 2008'!$B$1:$B$35,0),MATCH('ריכוז ומחולל גרפים'!E$20,'נתוני 2008'!$B$1:$BY$1,0)) -> 46.6 | F7: =INDEX('נתוני 2008'!$B$1:$BY$35,MATCH('ריכוז ומחולל גרפים'!$A7,'נתוני 2008'!$B$1:$B$35,0),MATCH('ריכוז ומחולל גרפים'!F$20,'נתוני 2008'!$B$1:$BY$1,0)) -> 33.8 | G7: =INDEX('נתוני 2008'!$B$1:$BY$35,MATCH('ריכוז ומחולל גרפים'!$A7,'נתוני 2008'!$B$1:$B$35,0),MATCH('ריכוז ומחולל גרפים'!G$20,'נתוני 2008'!$B$1:$BY$1,0)) -> 16.7 | H7: =INDEX('נתוני 2008'!$B$1:$BY$35,MATCH('ריכוז ומחולל גרפים'!$A7,'נתוני 2008'!$B$1:$B$35,0),MATCH('ריכוז ומחולל גרפים'!H$20,'נתוני 2008'!$B$1:$BY$1,0)) -> 209.2 | I7: =INDEX('נתוני 2008'!$B$1:$BY$35,MATCH('ריכוז ומחולל גרפים'!$A7,'נתוני 2008'!$B$1:$B$35,0),MATCH('ריכוז ומחולל גרפים'!I$20,'נתוני 2008'!$B$1:$BY$1,0)) -> 110.4 | ... BR7: =INDEX('נתוני 2008'!$B$1:$BY$35,MATCH('ריכוז ומחולל גרפים'!$A7,'נתוני 2008'!$B$1:$B$35,0),MATCH('ריכוז ומחולל גרפים'!BR$20,'נתוני 2008'!$B$1:$BY$1,0)) -> 392.5 | BS7: =SUM(B7:BR7) -> 5338.9
A8: יהודים (אחוז) | B8: =INDEX('נתוני 2008'!$B$1:$BY$35,MATCH('ריכוז ומחולל גרפים'!$A8,'נתוני 2008'!$B$1:$B$35,0),MATCH('ריכוז ומחולל גרפים'!B$20,'נתוני 2008'!$B$1:$BY$1,0)) -> - | C8: =INDEX('נתוני 2008'!$B$1:$BY$35,MATCH('ריכוז ומחולל גרפים'!$A8,'נתוני 2008'!$B$1:$B$35,0),MATCH('ריכוז ומחולל גרפים'!C$20,'נתוני 2008'!$B$1:$BY$1,0)) -> 99.1 | D8: =INDEX('נתוני 2008'!$B$1:$BY$35,MATCH('ריכוז ומחולל גרפים'!$A8,'נתוני 2008'!$B$1:$B$35,0),MATCH('ריכוז ומחולל גרפים'!D$20,'נתוני 2008'!$B$1:$BY$1,0)) -> 91.5 | E8: =INDEX('נתוני 2008'!$B$1:$BY$35,MATCH('ריכוז ומחולל גרפים'!$A8,'נתוני 2008'!$B$1:$B$35,0),MATCH('ריכוז ומחולל גרפים'!E$20,'נתוני 2008'!$B$1:$BY$1,0)) -> 85.4 | F8: =INDEX('נתוני 2008'!$B$1:$BY$35,MATCH('ריכוז ומחולל גרפים'!$A8,'נתוני 2008'!$B$1:$B$35,0),MATCH('ריכוז ומחולל גרפים'!F$20,'נתוני 2008'!$B$1:$BY$1,0)) -> 100 | G8: =INDEX('נתוני 2008'!$B$1:$BY$35,MATCH('ריכוז ומחולל גרפים'!$A8,'נתוני 2008'!$B$1:$B$35,0),MATCH('ריכוז ומחולל גרפים'!G$20,'נתוני 2008'!$B$1:$BY$1,0)) -> 80.9 | H8: =INDEX('נתוני 2008'!$B$1:$BY$35,MATCH('ריכוז ומחולל גרפים'!$A8,'נתוני 2008'!$B$1:$B$35,0),MATCH('ריכוז ומחולל גרפים'!H$20,'נתוני 2008'!$B$1:$BY$1,0)) -> 91 | I8: =INDEX('נתוני 2008'!$B$1:$BY$35,MATCH('ריכוז ומחולל גרפים'!$A8,'נתוני 2008'!$B$1:$B$35,0),MATCH('ריכוז ומחולל גרפים'!I$20,'נתוני 2008'!$B$1:$BY$1,0)) -> 88.4 | ... BR8: =INDEX('נתוני 2008'!$B$1:$BY$35,MATCH('ריכוז ומחולל גרפים'!$A8,'נתוני 2008'!$B$1:$B$35,0),MATCH('ריכוז ומחולל גרפים'!BR$20,'נתוני 2008'!$B$1:$BY$1,0)) -> 91.4
A9: ערבים (אחוז) | B9: =INDEX('נתוני 2008'!$B$1:$BY$35,MATCH('ריכוז ומחולל גרפים'!$A9,'נתוני 2008'!$B$1:$B$35,0),MATCH('ריכוז ומחולל גרפים'!B$20,'נתוני 2008'!$B$1:$BY$1,0)) -> 100 | C9: =INDEX('נתוני 2008'!$B$1:$BY$35,MATCH('ריכוז ומחולל גרפים'!$A9,'נתוני 2008'!$B$1:$B$35,0),MATCH('ריכוז ומחולל גרפים'!C$20,'נתוני 2008'!$B$1:$BY$1,0)) -> - | D9: =INDEX('נתוני 2008'!$B$1:$BY$35,MATCH('ריכוז ומחולל גרפים'!$A9,'נתוני 2008'!$B$1:$B$35,0),MATCH('ריכוז ומחולל גרפים'!D$20,'נתוני 2008'!$B$1:$BY$1,0)) -> - | E9: =INDEX('נתוני 2008'!$B$1:$BY$35,MATCH('ריכוז ומחולל גרפים'!$A9,'נתוני 2008'!$B$1:$B$35,0),MATCH('ריכוז ומחולל גרפים'!E$20,'נתוני 2008'!$B$1:$BY$1,0)) -> - | F9: =INDEX('נתוני 2008'!$B$1:$BY$35,MATCH('ריכוז ומחולל גרפים'!$A9,'נתוני 2008'!$B$1:$B$35,0),MATCH('ריכוז ומחולל גרפים'!F$20,'נתוני 2008'!$B$1:$BY$1,0)) -> - | G9: =INDEX('נתוני 2008'!$B$1:$BY$35,MATCH('ריכוז ומחולל גרפים'!$A9,'נתוני 2008'!$B$1:$B$35,0),MATCH('ריכוז ומחולל גרפים'!G$20,'נתוני 2008'!$B$1:$BY$1,0)) -> - | H9: =INDEX('נתוני 2008'!$B$1:$BY$35,MATCH('ריכוז ומחולל גרפים'!$A9,'נתוני 2008'!$B$1:$B$35,0),MATCH('ריכוז ומחולל גרפים'!H$20,'נתוני 2008'!$B$1:$BY$1,0)) -> - | I9: =INDEX('נתוני 2008'!$B$1:$BY$35,MATCH('ריכוז ומחולל גרפים'!$A9,'נתוני 2008'!$B$1:$B$35,0),MATCH('ריכוז ומחולל גרפים'!I$20,'נתוני 2008'!$B$1:$BY$1,0)) -> - | ... BR9: =INDEX('נתוני 2008'!$B$1:$BY$35,MATCH('ריכוז ומחולל גרפים'!$A9,'נתוני 2008'!$B$1:$B$35,0),MATCH('ריכוז ומחולל גרפים'!BR$20,'נתוני 2008'!$B$1:$BY$1,0)) -> 4.4
A10: אחוז בעלי הצבעה שאינם בפנסיה | B10: =100-B12-B11 -> 49.922467 | C10: =100-C12-C11 -> 60.75188 | D10: =100-D12-D11 -> 61.7091 | E10: =100-E12-E11 -> 65.167671 | F10: =100-F12-F11 -> 40.742385 | G10: =100-G12-G11 -> 65.236899 | H10: =100-H12-H11 -> 56.378383 | I10: =100-I12-I11 -> 59.26315 | ... BR10: =100-BR12-BR11 -> 65.676183
A11: אחוז בני 65 ומעלה באוכלוסייה | B11: =INDEX('נתוני 2008'!$B$1:$BY$35,MATCH('ריכוז ומחולל גרפים'!$A11,'נתוני 2008'!$B$1:$B$35,0),MATCH('ריכוז ומחולל גרפים'!B$20,'נתוני 2008'!$B$1:$BY$1,0)) -> 2.8855878 | C11: =INDEX('נתוני 2008'!$B$1:$BY$35,MATCH('ריכוז ומחולל גרפים'!$A11,'נתוני 2008'!$B$1:$B$35,0),MATCH('ריכוז ומחולל גרפים'!C$20,'נתוני 2008'!$B$1:$BY$1,0)) -> 8.7218045 | D11: =INDEX('נתוני 2008'!$B$1:$BY$35,MATCH('ריכוז ומחולל גרפים'!$A11,'נתוני 2008'!$B$1:$B$35,0),MATCH('ריכוז ומחולל גרפים'!D$20,'נתוני 2008'!$B$1:$BY$1,0)) -> 10.606252 | E11: =INDEX('נתוני 2008'!$B$1:$BY$35,MATCH('ריכוז ומחולל גרפים'!$A11,'נתוני 2008'!$B$1:$B$35,0),MATCH('ריכוז ומחולל גרפים'!E$20,'נתוני 2008'!$B$1:$BY$1,0)) -> 6.9385741 | F11: =INDEX('נתוני 2008'!$B$1:$BY$35,MATCH('ריכוז ומחולל גרפים'!$A11,'נתוני 2008'!$B$1:$B$35,0),MATCH('ריכוז ומחולל גרפים'!F$20,'נתוני 2008'!$B$1:$BY$1,0)) -> 0.80217861 | G11: =INDEX('נתוני 2008'!$B$1:$BY$35,MATCH('ריכוז ומחולל גרפים'!$A11,'נתוני 2008'!$B$1:$B$35,0),MATCH('ריכוז ומחולל גרפים'!G$20,'נתוני 2008'!$B$1:$BY$1,0)) -> 8.8537928 | H11: =INDEX('נתוני 2008'!$B$1:$BY$35,MATCH('ריכוז ומחולל גרפים'!$A11,'נתוני 2008'!$B$1:$B$35,0),MATCH('ריכוז ומחולל גרפים'!H$20,'נתוני 2008'!$B$1:$BY$1,0)) -> 11.656582 | I11: =INDEX('נתוני 2008'!$B$1:$BY$35,MATCH('ריכוז ומחולל גרפים'!$A11,'נתוני 2008'!$B$1:$B$35,0),MATCH('ריכוז ומחולל גרפים'!I$20,'נתוני 2008'!$B$1:$BY$1,0)) -> 13.700007 | ... BR11: =INDEX('נתוני 2008'!$B$1:$BY$35,MATCH('ריכוז ומחולל גרפים'!$A11,'נתוני 2008'!$B$1:$B$35,0),MATCH('ריכוז ומחולל גרפים'!BR$20,'נתוני 2008'!$B$1:$BY$1,0)) -> 13.820235
A12: אחוז בני 17-0 באוכלוסייה | B12: =INDEX('נתוני 2008'!$B$1:$BY$35,MATCH('ריכוז ומחולל גרפים'!$A12,'נתוני 2008'!$B$1:$B$35,0),MATCH('ריכוז ומחולל גרפים'!B$20,'נתוני 2008'!$B$1:$BY$1,0)) -> 47.191946 | C12: =INDEX('נתוני 2008'!$B$1:$BY$35,MATCH('ריכוז ומחולל גרפים'!$A12,'נתוני 2008'!$B$1:$B$35,0),MATCH('ריכוז ומחולל גרפים'!C$20,'נתוני 2008'!$B$1:$BY$1,0)) -> 30.526316 | D12: =INDEX('נתוני 2008'!$B$1:$BY$35,MATCH('ריכוז ומחולל גרפים'!$A12,'נתוני 2008'!$B$1:$B$35,0),MATCH('ריכוז ומחולל גרפים'!D$20,'נתוני 2008'!$B$1:$BY$1,0)) -> 27.684648 | E12: =INDEX('נתוני 2008'!$B$1:$BY$35,MATCH('ריכוז ומחולל גרפים'!$A12,'נתוני 2008'!$B$1:$B$35,0),MATCH('ריכוז ומחולל גרפים'!E$20,'נתוני 2008'!$B$1:$BY$1,0)) -> 27.893754 | F12: =INDEX('נתוני 2008'!$B$1:$BY$35,MATCH('ריכוז ומחולל גרפים'!$A12,'נתוני 2008'!$B$1:$B$35,0),MATCH('ריכוז ומחולל גרפים'!F$20,'נתוני 2008'!$B$1:$BY$1,0)) -> 58.455436 | G12: =INDEX('נתוני 2008'!$B$1:$BY$35,MATCH('ריכוז ומחולל גרפים'!$A12,'נתוני 2008'!$B$1:$B$35,0),MATCH('ריכוז ומחולל גרפים'!G$20,'נתוני 2008'!$B$1:$BY$1,0)) -> 25.909308 | H12: =INDEX('נתוני 2008'!$B$1:$BY$35,MATCH('ריכוז ומחולל גרפים'!$A12,'נתוני 2008'!$B$1:$B$35,0),MATCH('ריכוז ומחולל גרפים'!H$20,'נתוני 2008'!$B$1:$BY$1,0)) -> 31.965035 | I12: =INDEX('נתוני 2008'!$B$1:$BY$35,MATCH('ריכוז ומחולל גרפים'!$A12,'נתוני 2008'!$B$1:$B$35,0),MATCH('ריכוז ומחולל גרפים'!I$20,'נתוני 2008'!$B$1:$BY$1,0)) -> 27.036842 | ... BR12: =INDEX('נתוני 2008'!$B$1:$BY$35,MATCH('ריכוז ומחולל גרפים'!$A12,'נתוני 2008'!$B$1:$B$35,0),MATCH('ריכוז ומחולל גרפים'!BR$20,'נתוני 2008'!$B$1:$BY$1,0)) -> 20.503582
A13: אחוז בני 75 ומעלה באוכלוסייה | B13: =INDEX('נתוני 2008'!$B$1:$BY$35,MATCH('ריכוז ומחולל גרפים'!$A13,'נתוני 2008'!$B$1:$B$35,0),MATCH('ריכוז ומחולל גרפים'!B$20,'נתוני 2008'!$B$1:$BY$1,0)) -> 0.82926939 | C13: =INDEX('נתוני 2008'!$B$1:$BY$35,MATCH('ריכוז ומחולל גרפים'!$A13,'נתוני 2008'!$B$1:$B$35,0),MATCH('ריכוז ומחולל גרפים'!C$20,'נתוני 2008'!$B$1:$BY$1,0)) -> 3.7010895 | D13: =INDEX('נתוני 2008'!$B$1:$BY$35,MATCH('ריכוז ומחולל גרפים'!$A13,'נתוני 2008'!$B$1:$B$35,0),MATCH('ריכוז ומחולל גרפים'!D$20,'נתוני 2008'!$B$1:$BY$1,0)) -> 4.2790522 | E13: =INDEX('נתוני 2008'!$B$1:$BY$35,MATCH('ריכוז ומחולל גרפים'!$A13,'נתוני 2008'!$B$1:$B$35,0),MATCH('ריכוז ומחולל גרפים'!E$20,'נתוני 2008'!$B$1:$BY$1,0)) -> 2.7526872 | F13: =INDEX('נתוני 2008'!$B$1:$BY$35,MATCH('ריכוז ומחולל גרפים'!$A13,'נתוני 2008'!$B$1:$B$35,0),MATCH('ריכוז ומחולל גרפים'!F$20,'נתוני 2008'!$B$1:$BY$1,0)) -> 0.22792529 | G13: =INDEX('נתוני 2008'!$B$1:$BY$35,MATCH('ריכוז ומחולל גרפים'!$A13,'נתוני 2008'!$B$1:$B$35,0),MATCH('ריכוז ומחולל גרפים'!G$20,'נתוני 2008'!$B$1:$BY$1,0)) -> 3.7329505 | H13: =INDEX('נתוני 2008'!$B$1:$BY$35,MATCH('ריכוז ומחולל גרפים'!$A13,'נתוני 2008'!$B$1:$B$35,0),MATCH('ריכוז ומחולל גרפים'!H$20,'נתוני 2008'!$B$1:$BY$1,0)) -> 5.1563292 | I13: =INDEX('נתוני 2008'!$B$1:$BY$35,MATCH('ריכוז ומחולל גרפים'!$A13,'נתוני 2008'!$B$1:$B$35,0),MATCH('ריכוז ומחולל גרפים'!I$20,'נתוני 2008'!$B$1:$BY$1,0)) -> 6.3233589 | ... BR13: =INDEX('נתוני 2008'!$B$1:$BY$35,MATCH('ריכוז ומחולל גרפים'!$A13,'נתוני 2008'!$B$1:$B$35,0),MATCH('ריכוז ומחולל גרפים'!BR$20,'נתוני 2008'!$B$1:$BY$1,0)) -> 7.4908018
A14: אחוז עולי 1990+ מסך האוכלוסייה | B14: =INDEX('נתוני 2008'!$B$1:$BY$35,MATCH('ריכוז ומחולל גרפים'!$A14,'נתוני 2008'!$B$1:$B$35,0),MATCH('ריכוז ומחולל גרפים'!B$20,'נתוני 2008'!$B$1:$BY$1,0)) -> 0 | C14: =INDEX('נתוני 2008'!$B$1:$BY$35,MATCH('ריכוז ומחולל גרפים'!$A14,'נתוני 2008'!$B$1:$B$35,0),MATCH('ריכוז ומחולל גרפים'!C$20,'נתוני 2008'!$B$1:$BY$1,0)) -> 15.6 | D14: =INDEX('נתוני 2008'!$B$1:$BY$35,MATCH('ריכוז ומחולל גרפים'!$A14,'נתוני 2008'!$B$1:$B$35,0),MATCH('ריכוז ומחולל גרפים'!D$20,'נתוני 2008'!$B$1:$BY$1,0)) -> 39.1 | E14: =INDEX('נתוני 2008'!$B$1:$BY$35,MATCH('ריכוז ומחולל גרפים'!$A14,'נתוני 2008'!$B$1:$B$35,0),MATCH('ריכוז ומחולל גרפים'!E$20,'נתוני 2008'!$B$1:$BY$1,0)) -> 22.5 | F14: =INDEX('נתוני 2008'!$B$1:$BY$35,MATCH('ריכוז ומחולל גרפים'!$A14,'נתוני 2008'!$B$1:$B$35,0),MATCH('ריכוז ומחולל גרפים'!F$20,'נתוני 2008'!$B$1:$BY$1,0)) -> 3.4 | G14: =INDEX('נתוני 2008'!$B$1:$BY$35,MATCH('ריכוז ומחולל גרפים'!$A14,'נתוני 2008'!$B$1:$B$35,0),MATCH('ריכוז ומחולל גרפים'!G$20,'נתוני 2008'!$B$1:$BY$1,0)) -> 42 | H14: =INDEX('נתוני 2008'!$B$1:$BY$35,MATCH('ריכוז ומחולל גרפים'!$A14,'נתוני 2008'!$B$1:$B$35,0),MATCH('ריכוז ומחולל גרפים'!H$20,'נתוני 2008'!$B$1:$BY$1,0)) -> 33.9 | I14: =INDEX('נתוני 2008'!$B$1:$BY$35,MATCH('ריכוז ומחולל גרפים'!$A14,'נתוני 2008'!$B$1:$B$35,0),MATCH('ריכוז ומחולל גרפים'!I$20,'נתוני 2008'!$B$1:$BY$1,0)) -> 32.7 | ... BR14: =INDEX('נתוני 2008'!$B$1:$BY$35,MATCH('ריכוז ומחולל גרפים'!$A14,'נתוני 2008'!$B$1:$B$35,0),MATCH('ריכוז ומחולל גרפים'!BR$20,'נתוני 2008'!$B$1:$BY$1,0)) -> 12.7
A15: אחוז עולים בני 17-0 בהשתקעות ראשונה | B15: =INDEX('נתוני 2008'!$B$1:$BY$35,MATCH('ריכוז ומחולל גרפים'!$A15,'נתוני 2008'!$B$1:$B$35,0),MATCH('ריכוז ומחולל גרפים'!B$20,'נתוני 2008'!$B$1:$BY$1,0)) -> - | C15: =INDEX('נתוני 2008'!$B$1:$BY$35,MATCH('ריכוז ומחולל גרפים'!$A15,'נתוני 2008'!$B$1:$B$35,0),MATCH('ריכוז ומחולל גרפים'!C$20,'נתוני 2008'!$B$1:$BY$1,0)) -> 38.2 | D15: =INDEX('נתוני 2008'!$B$1:$BY$35,MATCH('ריכוז ומחולל גרפים'!$A15,'נתוני 2008'!$B$1:$B$35,0),MATCH('ריכוז ומחולל גרפים'!D$20,'נתוני 2008'!$B$1:$BY$1,0)) -> 48.6 | E15: =INDEX('נתוני 2008'!$B$1:$BY$35,MATCH('ריכוז ומחולל גרפים'!$A15,'נתוני 2008'!$B$1:$B$35,0),MATCH('ריכוז ומחולל גרפים'!E$20,'נתוני 2008'!$B$1:$BY$1,0)) -> 29.7 | F15: =INDEX('נתוני 2008'!$B$1:$BY$35,MATCH('ריכוז ומחולל גרפים'!$A15,'נתוני 2008'!$B$1:$B$35,0),MATCH('ריכוז ומחולל גרפים'!F$20,'נתוני 2008'!$B$1:$BY$1,0)) -> 52.6 | G15: =INDEX('נתוני 2008'!$B$1:$BY$35,MATCH('ריכוז ומחולל גרפים'!$A15,'נתוני 2008'!$B$1:$B$35,0),MATCH('ריכוז ומחולל גרפים'!G$20,'נתוני 2008'!$B$1:$BY$1,0)) -> 22.7 | H15: =INDEX('נתוני 2008'!$B$1:$BY$35,MATCH('ריכוז ומחולל גרפים'!$A15,'נתוני 2008'!$B$1:$B$35,0),MATCH('ריכוז ומחולל גרפים'!H$20,'נתוני 2008'!$B$1:$BY$1,0)) -> 29.4 | I15: =INDEX('נתוני 2008'!$B$1:$BY$35,MATCH('ריכוז ומחולל גרפים'!$A15,'נתוני 2008'!$B$1:$B$35,0),MATCH('ריכוז ומחולל גרפים'!I$20,'נתוני 2008'!$B$1:$BY$1,0)) -> 29.2 | ... BR15: =INDEX('נתוני 2008'!$B$1:$BY$35,MATCH('ריכוז ומחולל גרפים'!$A15,'נתוני 2008'!$B$1:$B$35,0),MATCH('ריכוז ומחולל גרפים'!BR$20,'נתוני 2008'!$B$1:$BY$1,0)) -> 31.7
A16: אחוז עולים בני 44-18 בהשתקעות ראשונה | B16: =INDEX('נתוני 2008'!$B$1:$BY$35,MATCH('ריכוז ומחולל גרפים'!$A16,'נתוני 2008'!$B$1:$B$35,0),MATCH('ריכוז ומחולל גרפים'!B$20,'נתוני 2008'!$B$1:$BY$1,0)) -> - | C16: =INDEX('נתוני 2008'!$B$1:$BY$35,MATCH('ריכוז ומחולל גרפים'!$A16,'נתוני 2008'!$B$1:$B$35,0),MATCH('ריכוז ומחולל גרפים'!C$20,'נתוני 2008'!$B$1:$BY$1,0)) -> 29.4 | D16: =INDEX('נתוני 2008'!$B$1:$BY$35,MATCH('ריכוז ומחולל גרפים'!$A16,'נתוני 2008'!$B$1:$B$35,0),MATCH('ריכוז ומחולל גרפים'!D$20,'נתוני 2008'!$B$1:$BY$1,0)) -> 22.9 | E16: =INDEX('נתוני 2008'!$B$1:$BY$35,MATCH('ריכוז ומחולל גרפים'!$A16,'נתוני 2008'!$B$1:$B$35,0),MATCH('ריכוז ומחולל גרפים'!E$20,'נתוני 2008'!$B$1:$BY$1,0)) -> 45.3 | F16: =INDEX('נתוני 2008'!$B$1:$BY$35,MATCH('ריכוז ומחולל גרפים'!$A16,'נתוני 2008'!$B$1:$B$35,0),MATCH('ריכוז ומחולל גרפים'!F$20,'נתוני 2008'!$B$1:$BY$1,0)) -> 34.2 | G16: =INDEX('נתוני 2008'!$B$1:$BY$35,MATCH('ריכוז ומחולל גרפים'!$A16,'נתוני 2008'!$B$1:$B$35,0),MATCH('ריכוז ומחולל גרפים'!G$20,'נתוני 2008'!$B$1:$BY$1,0)) -> 38.6 | H16: =INDEX('נתוני 2008'!$B$1:$BY$35,MATCH('ריכוז ומחולל גרפים'!$A16,'נתוני 2008'!$B$1:$B$35,0),MATCH('ריכוז ומחולל גרפים'!H$20,'נתוני 2008'!$B$1:$BY$1,0)) -> 35.8 | I16: =INDEX('נתוני 2008'!$B$1:$BY$35,MATCH('ריכוז ומחולל גרפים'!$A16,'נתוני 2008'!$B$1:$B$35,0),MATCH('ריכוז ומחולל גרפים'!I$20,'נתוני 2008'!$B$1:$BY$1,0)) -> 41.3 | ... BR16: =INDEX('נתוני 2008'!$B$1:$BY$35,MATCH('ריכוז ומחולל גרפים'!$A16,'נתוני 2008'!$B$1:$B$35,0),MATCH('ריכוז ומחולל גרפים'!BR$20,'נתוני 2008'!$B$1:$BY$1,0)) -> 48.3
A17: אחוז עולים בני 64-45 בהשתקעות ראשונה | B17: =INDEX('נתוני 2008'!$B$1:$BY$35,MATCH('ריכוז ומחולל גרפים'!$A17,'נתוני 2008'!$B$1:$B$35,0),MATCH('ריכוז ומחולל גרפים'!B$20,'נתוני 2008'!$B$1:$BY$1,0)) -> - | C17: =INDEX('נתוני 2008'!$B$1:$BY$35,MATCH('ריכוז ומחולל גרפים'!$A17,'נתוני 2008'!$B$1:$B$35,0),MATCH('ריכוז ומחולל גרפים'!C$20,'נתוני 2008'!$B$1:$BY$1,0)) -> 26.5 | D17: =INDEX('נתוני 2008'!$B$1:$BY$35,MATCH('ריכוז ומחולל גרפים'!$A17,'נתוני 2008'!$B$1:$B$35,0),MATCH('ריכוז ומחולל גרפים'!D$20,'נתוני 2008'!$B$1:$BY$1,0)) -> 11.4 | E17: =INDEX('נתוני 2008'!$B$1:$BY$35,MATCH('ריכוז ומחולל גרפים'!$A17,'נתוני 2008'!$B$1:$B$35,0),MATCH('ריכוז ומחולל גרפים'!E$20,'נתוני 2008'!$B$1:$BY$1,0)) -> 17.4 | F17: =INDEX('נתוני 2008'!$B$1:$BY$35,MATCH('ריכוז ומחולל גרפים'!$A17,'נתוני 2008'!$B$1:$B$35,0),MATCH('ריכוז ומחולל גרפים'!F$20,'נתוני 2008'!$B$1:$BY$1,0)) -> 7.9 | G17: =INDEX('נתוני 2008'!$B$1:$BY$35,MATCH('ריכוז ומחולל גרפים'!$A17,'נתוני 2008'!$B$1:$B$35,0),MATCH('ריכוז ומחולל גרפים'!G$20,'נתוני 2008'!$B$1:$BY$1,0)) -> 36.4 | H17: =INDEX('נתוני 2008'!$B$1:$BY$35,MATCH('ריכוז ומחולל גרפים'!$A17,'נתוני 2008'!$B$1:$B$35,0),MATCH('ריכוז ומחולל גרפים'!H$20,'נתוני 2008'!$B$1:$BY$1,0)) -> 19.5 | I17: =INDEX('נתוני 2008'!$B$1:$BY$35,MATCH('ריכוז ומחולל גרפים'!$A17,'נתוני 2008'!$B$1:$B$35,0),MATCH('ריכוז ומחולל גרפים'!I$20,'נתוני 2008'!$B$1:$BY$1,0)) -> 16.9 | ... BR17: =INDEX('נתוני 2008'!$B$1:$BY$35,MATCH('ריכוז ומחולל גרפים'!$A17,'נתוני 2008'!$B$1:$B$35,0),MATCH('ריכוז ומחולל גרפים'!BR$20,'נתוני 2008'!$B$1:$BY$1,0)) -> 12.8
A18: אחוז עולים בני 65 ומעלה בהשתקעות ראשונה | B18: =INDEX('נתוני 2008'!$B$1:$BY$35,MATCH('ריכוז ומחולל גרפים'!$A18,'נתוני 2008'!$B$1:$B$35,0),MATCH('ריכוז ומחולל גרפים'!B$20,'נתוני 2008'!$B$1:$BY$1,0)) -> - | C18: =INDEX('נתוני 2008'!$B$1:$BY$35,MATCH('ריכוז ומחולל גרפים'!$A18,'נתוני 2008'!$B$1:$B$35,0),MATCH('ריכוז ומחולל גרפים'!C$20,'נתוני 2008'!$B$1:$BY$1,0)) -> 5.9 | D18: =INDEX('נתוני 2008'!$B$1:$BY$35,MATCH('ריכוז ומחולל גרפים'!$A18,'נתוני 2008'!$B$1:$B$35,0),MATCH('ריכוז ומחולל גרפים'!D$20,'נתוני 2008'!$B$1:$BY$1,0)) -> 17.1 | E18: =INDEX('נתוני 2008'!$B$1:$BY$35,MATCH('ריכוז ומחולל גרפים'!$A18,'נתוני 2008'!$B$1:$B$35,0),MATCH('ריכוז ומחולל גרפים'!E$20,'נתוני 2008'!$B$1:$BY$1,0)) -> 7.6 | F18: =INDEX('נתוני 2008'!$B$1:$BY$35,MATCH('ריכוז ומחולל גרפים'!$A18,'נתוני 2008'!$B$1:$B$35,0),MATCH('ריכוז ומחולל גרפים'!F$20,'נתוני 2008'!$B$1:$BY$1,0)) -> 5.3 | G18: =INDEX('נתוני 2008'!$B$1:$BY$35,MATCH('ריכוז ומחולל גרפים'!$A18,'נתוני 2008'!$B$1:$B$35,0),MATCH('ריכוז ומחולל גרפים'!G$20,'נתוני 2008'!$B$1:$BY$1,0)) -> 2.3 | H18: =INDEX('נתוני 2008'!$B$1:$BY$35,MATCH('ריכוז ומחולל גרפים'!$A18,'נתוני 2008'!$B$1:$B$35,0),MATCH('ריכוז ומחולל גרפים'!H$20,'נתוני 2008'!$B$1:$BY$1,0)) -> 15.3 | I18: =INDEX('נתוני 2008'!$B$1:$BY$35,MATCH('ריכוז ומחולל גרפים'!$A18,'נתוני 2008'!$B$1:$B$35,0),MATCH('ריכוז ומחולל גרפים'!I$20,'נתוני 2008'!$B$1:$BY$1,0)) -> 12.6 | ... BR18: =INDEX('נתוני 2008'!$B$1:$BY$35,MATCH('ריכוז ומחולל גרפים'!$A18,'נתוני 2008'!$B$1:$B$35,0),MATCH('ריכוז ומחולל גרפים'!BR$20,'נתוני 2008'!$B$1:$BY$1,0)) -> 7.3
A20: ='נתוני 2011'!B1 -> שם הרשות | B20: ='נתוני 2011'!C1 -> אום אל-פחם | C20: ='נתוני 2011'!E1 -> אור יהודה | D20: ='נתוני 2011'!F1 -> אור עקיבא | E20: ='נתוני 2011'!G1 -> אילת | F20: ='נתוני 2011'!H1 -> אלעד | G20: ='נתוני 2011'!I1 -> אריאל | H20: ='נתוני 2011'!J1 -> אשדוד | I20: ='נתוני 2011'!K1 -> אשקלון | J20: ='נתוני 2011'!M1 -> באר שבע | K20: ='נתוני 2011'!N1 -> בית שאן | L20: ='נתוני 2011'!O1 -> בית שמש | M20: ='נתוני 2011'!Q1 -> בני ברק | N20: ='נתוני 2011'!R1 -> בת ים | O20: ='נתוני 2011'!S1 -> גבעת שמואל | P20: ='נתוני 2011'!T1 -> גבעתיים | Q20: ='נתוני 2011'!U1 -> דימונה | R20: ='נתוני 2011'!V1 -> הוד השרון | S20: ='נתוני 2011'!W1 -> הרצלייה | T20: ='נתוני 2011'!X1 -> חדרה | ... W20: ='נתוני 2011'!AA1 -> טבריה | X20: ='נתוני 2011'!AC1 -> טירה | Y20: ='נתוני 2011'!AD1 -> טירת כרמל | Z20: ='נתוני 2011'!AE1 -> טמרה | AA20: ='נתוני 2011'!AF1 -> יבנה | AB20: ='נתוני 2011'!AG1 -> יהוד | AC20: ='נתוני 2011'!AH1 -> יקנעם עילית | AD20: ='נתוני 2011'!AI1 -> ירושלים | AE20: ='נתוני 2011'!AJ1 -> כפר סבא | ... AG20: ='נתוני 2011'!AL1 -> כרמיאל | AH20: ='נתוני 2011'!AN1 -> מגדל העמק | AI20: ='נתוני 2011'!AO1 -> מודיעין עילית | AJ20: ='נתוני 2011'!AP1 -> מודיעין-מכבים-רעות* | AK20: ='נתוני 2011'!AQ1 -> מעלה אדומים | AL20: ='נתוני 2011'!AR1 -> מעלות-תרשיחא | AM20: ='נתוני 2011'!AS1 -> נהרייה | AN20: ='נתוני 2011'!AT1 -> נס ציונה | AO20: ='נתוני 2011'!AU1 -> נצרת | ... AV20: ='נתוני 2011'!BB1 -> עפולה | AW20: ='נתוני 2011'!BD1 -> פתח תקווה | AX20: ='נתוני 2011'!BE1 -> צפת | AY20: ='נתוני 2011'!BF1 -> קלנסווה | AZ20: ='נתוני 2011'!BG1 -> קריית אונו | BA20: ='נתוני 2011'!BH1 -> קריית אתא | BB20: ='נתוני 2011'!BI1 -> קריית ביאליק | BC20: ='נתוני 2011'!BJ1 -> קריית גת | BD20: ='נתוני 2011'!BK1 -> קריית ים | ... BR20: ='נתוני 2011'!BY1 -> תל אביב -יפו
A21: ='נתוני 2011'!B5 -> מספר חברי מועצה 2013 | B21: ='נתוני 2011'!C5 -> 17 | C21: ='נתוני 2011'!E5 -> 15 | D21: ='נתוני 2011'!F5 -> 13 | E21: ='נתוני 2011'!G5 -> 17 | F21: ='נתוני 2011'!H5 -> 15 | G21: ='נתוני 2011'!I5 -> 13 | H21: ='נתוני 2011'!J5 -> 27 | I21: ='נתוני 2011'!K5 -> 23 | J21: ='נתוני 2011'!M5 -> 27 | K21: ='נתוני 2011'!N5 -> 13 | L21: ='נתוני 2011'!O5 -> 19 | M21: ='נתוני 2011'!Q5 -> 25 | N21: ='נתוני 2011'!R5 -> 25 | O21: ='נתוני 2011'!S5 -> 13 | P21: ='נתוני 2011'!T5 -> 17 | Q21: ='נתוני 2011'!U5 -> 15 | R21: ='נתוני 2011'!V5 -> 17 | S21: ='נתוני 2011'!W5 -> 19 | T21: ='נתוני 2011'!X5 -> 19 | ... W21: ='נתוני 2011'!AA5 -> 15 | X21: ='נתוני 2011'!AC5 -> 11 | Y21: ='נתוני 2011'!AD5 -> 13 | Z21: ='נתוני 2011'!AE5 -> 15 | AA21: ='נתוני 2011'!AF5 -> 15 | AB21: ='נתוני 2011'!AG5 -> 15 | AC21: ='נתוני 2011'!AH5 -> 13 | AD21: ='נתוני 2011'!AI5 -> 31 | AE21: ='נתוני 2011'!AJ5 -> 19 | ... AG21: ='נתוני 2011'!AL5 -> 17 | AH21: ='נתוני 2011'!AN5 -> 15 | AI21: ='נתוני 2011'!AO5 -> 17 | AJ21: ='נתוני 2011'!AP5 -> 19 | AK21: ='נתוני 2011'!AQ5 -> 15 | AL21: ='נתוני 2011'!AR5 -> 13 | AM21: ='נתוני 2011'!AS5 -> 17 | AN21: ='נתוני 2011'!AT5 -> 15 | AO21: ='נתוני 2011'!AU5 -> 19 | ... AV21: ='נתוני 2011'!BB5 -> 15 | AW21: ='נתוני 2011'!BD5 -> 27 | AX21: ='נתוני 2011'!BE5 -> 15 | AY21: ='נתוני 2011'!BF5 -> 13 | AZ21: ='נתוני 2011'!BG5 -> 15 | BA21: ='נתוני 2011'!BH5 -> 17 | BB21: ='נתוני 2011'!BI5 -> 15 | BC21: ='נתוני 2011'!BJ5 -> 17 | BD21: ='נתוני 2011'!BK5 -> 15 | ... BR21: ='נתוני 2011'!BY5 -> 31 | BS21: =SUM(B21:BR21) -> 1227
A22: ='נתוני 2011'!B6 -> מספר נשים במועצה 2013 | B22: ='נתוני 2011'!C6 -> 0 | C22: ='נתוני 2011'!E6 -> 6 | D22: ='נתוני 2011'!F6 -> 1 | E22: ='נתוני 2011'!G6 -> 3 | F22: ='נתוני 2011'!H6 -> 0 | G22: ='נתוני 2011'!I6 -> 4 | H22: ='נתוני 2011'!J6 -> 3 | I22: ='נתוני 2011'!K6 -> 4 | J22: ='נתוני 2011'!M6 -> 9 | K22: ='נתוני 2011'!N6 -> 1 | L22: ='נתוני 2011'!O6 -> 2 | M22: ='נתוני 2011'!Q6 -> 0 | N22: ='נתוני 2011'!R6 -> 6 | O22: ='נתוני 2011'!S6 -> 4 | P22: ='נתוני 2011'!T6 -> 8 | Q22: ='נתוני 2011'!U6 -> 3 | R22: ='נתוני 2011'!V6 -> 6 | S22: ='נתוני 2011'!W6 -> 4 | T22: ='נתוני 2011'!X6 -> 3 | ... W22: ='נתוני 2011'!AA6 -> 0 | X22: ='נתוני 2011'!AC6 -> 0 | Y22: ='נתוני 2011'!AD6 -> 1 | Z22: ='נתוני 2011'!AE6 -> 0 | AA22: ='נתוני 2011'!AF6 -> 1 | AB22: ='נתוני 2011'!AG6 -> 3 | AC22: ='נתוני 2011'!AH6 -> 2 | AD22: ='נתוני 2011'!AI6 -> 4 | AE22: ='נתוני 2011'!AJ6 -> 5 | ... AG22: ='נתוני 2011'!AL6 -> 6 | AH22: ='נתוני 2011'!AN6 -> 2 | AI22: ='נתוני 2011'!AO6 -> 0 | AJ22: ='נתוני 2011'!AP6 -> 5 | AK22: ='נתוני 2011'!AQ6 -> 0 | AL22: ='נתוני 2011'!AR6 -> 2 | AM22: ='נתוני 2011'!AS6 -> 3 | AN22: ='נתוני 2011'!AT6 -> 2 | AO22: ='נתוני 2011'!AU6 -> 0 | ... AV22: ='נתוני 2011'!BB6 -> 1 | AW22: ='נתוני 2011'!BD6 -> 1 | AX22: ='נתוני 2011'!BE6 -> 1 | AY22: ='נתוני 2011'!BF6 -> 0 | AZ22: ='נתוני 2011'!BG6 -> 3 | BA22: ='נתוני 2011'!BH6 -> 3 | BB22: ='נתוני 2011'!BI6 -> 5 | BC22: ='נתוני 2011'!BJ6 -> 1 | BD22: ='נתוני 2011'!BK6 -> 3 | ... BR22: ='נתוני 2011'!BY6 -> 9 | BS22: =SUM(B22:BR22) -> 185
A23: ='נתוני 2011'!B7 -> אחוז נשים במועצה | B23: ='נתוני 2011'!C7 -> 0 | C23: ='נתוני 2011'!E7 -> 0.4 | D23: ='נתוני 2011'!F7 -> 0.076923077 | E23: ='נתוני 2011'!G7 -> 0.17647059 | F23: ='נתוני 2011'!H7 -> 0 | G23: ='נתוני 2011'!I7 -> 0.30769231 | H23: ='נתוני 2011'!J7 -> 0.11111111 | I23: ='נתוני 2011'!K7 -> 0.17391304 | J23: ='נתוני 2011'!M7 -> 0.33333333 | K23: ='נתוני 2011'!N7 -> 0.076923077 | L23: ='נתוני 2011'!O7 -> 0.10526316 | M23: ='נתוני 2011'!Q7 -> 0 | N23: ='נתוני 2011'!R7 -> 0.24 | O23: ='נתוני 2011'!S7 -> 0.30769231 | P23: ='נתוני 2011'!T7 -> 0.47058824 | Q23: ='נתוני 2011'!U7 -> 0.2 | R23: ='נתוני 2011'!V7 -> 0.35294118 | S23: ='נתוני 2011'!W7 -> 0.21052632 | T23: ='נתוני 2011'!X7 -> 0.15789474 | ... W23: ='נתוני 2011'!AA7 -> 0 | X23: ='נתוני 2011'!AC7 -> 0 | Y23: ='נתוני 2011'!AD7 -> 0.076923077 | Z23: ='נתוני 2011'!AE7 -> 0 | AA23: ='נתוני 2011'!AF7 -> 0.066666667 | AB23: ='נתוני 2011'!AG7 -> 0.2 | AC23: ='נתוני 2011'!AH7 -> 0.15384615 | AD23: ='נתוני 2011'!AI7 -> 0.12903226 | AE23: ='נתוני 2011'!AJ7 -> 0.26315789 | ... AG23: ='נתוני 2011'!AL7 -> 0.35294118 | AH23: ='נתוני 2011'!AN7 -> 0.13333333 | AI23: ='נתוני 2011'!AO7 -> 0 | AJ23: ='נתוני 2011'!AP7 -> 0.26315789 | AK23: ='נתוני 2011'!AQ7 -> 0 | AL23: ='נתוני 2011'!AR7 -> 0.15384615 | AM23: ='נתוני 2011'!AS7 -> 0.17647059 | AN23: ='נתוני 2011'!AT7 -> 0.13333333 | AO23: ='נתוני 2011'!AU7 -> 0 | ... AV23: ='נתוני 2011'!BB7 -> 0.066666667 | AW23: ='נתוני 2011'!BD7 -> 0.037037037 | AX23: ='נתוני 2011'!BE7 -> 0.066666667 | AY23: ='נתוני 2011'!BF7 -> 0 | AZ23: ='נתוני 2011'!BG7 -> 0.2 | BA23: ='נתוני 2011'!BH7 -> 0.17647059 | BB23: ='נתוני 2011'!BI7 -> 0.33333333 | BC23: ='נתוני 2011'!BJ7 -> 0.058823529 | BD23: ='נתוני 2011'!BK7 -> 0.2 | ... BR23: ='נתוני 2011'!BY7 -> 0.29032258 | BS23: =AVERAGE(B23:BR23) -> 0.14700856
A24: ='נתוני 2011'!B8 -> רמה חברתית-כלכלית (10 הגבוה ביותר) | B24: ='נתוני 2011'!C8 -> 2 | C24: ='נתוני 2011'!E8 -> 5 | D24: ='נתוני 2011'!F8 -> 4 | E24: ='נתוני 2011'!G8 -> 5 | F24: ='נתוני 2011'!H8 -> 2 | G24: ='נתוני 2011'!I8 -> 5 | H24: ='נתוני 2011'!J8 -> 5 | I24: ='נתוני 2011'!K8 -> 5 | J24: ='נתוני 2011'!M8 -> 5 | K24: ='נתוני 2011'!N8 -> 4 | L24: ='נתוני 2011'!O8 -> 3 | M24: ='נתוני 2011'!Q8 -> 3 | N24: ='נתוני 2011'!R8 -> 5 | O24: ='נתוני 2011'!S8 -> 8 | P24: ='נתוני 2011'!T8 -> 8 | Q24: ='נתוני 2011'!U8 -> 4 | R24: ='נתוני 2011'!V8 -> 8 | S24: ='נתוני 2011'!W8 -> 8 | T24: ='נתוני 2011'!X8 -> 5 | ... W24: ='נתוני 2011'!AA8 -> 4 | X24: ='נתוני 2011'!AC8 -> 3 | Y24: ='נתוני 2011'!AD8 -> 4 | Z24: ='נתוני 2011'!AE8 -> 3 | AA24: ='נתוני 2011'!AF8 -> 5 | AB24: ='נתוני 2011'!AG8 -> 7 | AC24: ='נתוני 2011'!AH8 -> 6 | AD24: ='נתוני 2011'!AI8 -> 4 | AE24: ='נתוני 2011'!AJ8 -> 8 | ... AG24: ='נתוני 2011'!AL8 -> 5 | AH24: ='נתוני 2011'!AN8 -> 5 | AI24: ='נתוני 2011'!AO8 -> 1 | AJ24: ='נתוני 2011'!AP8 -> 8 | AK24: ='נתוני 2011'!AQ8 -> 5 | AL24: ='נתוני 2011'!AR8 -> 5 | AM24: ='נתוני 2011'!AS8 -> 5 | AN24: ='נתוני 2011'!AT8 -> 7 | AO24: ='נתוני 2011'!AU8 -> 3 | ... AV24: ='נתוני 2011'!BB8 -> 5 | AW24: ='נתוני 2011'!BD8 -> 6 | AX24: ='נתוני 2011'!BE8 -> 4 | AY24: ='נתוני 2011'!BF8 -> 2 | AZ24: ='נתוני 2011'!BG8 -> 8 | BA24: ='נתוני 2011'!BH8 -> 5 | BB24: ='נתוני 2011'!BI8 -> 6 | BC24: ='נתוני 2011'!BJ8 -> 4 | BD24: ='נתוני 2011'!BK8 -> 5 | ... BR24: ='נתוני 2011'!BY8 -> 8
A26: פער | B26: =B21-B2 -> 1 | C26: =C21-C2 -> 0 | D26: =D21-D2 -> 0 | E26: =E21-E2 -> 0 | F26: =F21-F2 -> 0 | G26: =G21-G2 -> 2 | H26: =H21-H2 -> 0 | I26: =I21-I2 -> 2 | ... BR26: =BR21-BR2 -> 1
A28: גודל האוכלוסיה (אלפי נפש, 2013) | B28: =VLOOKUP(B20,'מספר חברי מועצה'!$B$2:$D$188,3) -> 50 | C28: =VLOOKUP(C20,'מספר חברי מועצה'!$B$2:$D$188,3) -> 36 | D28: =VLOOKUP(D20,'מספר חברי מועצה'!$B$2:$D$188,3) -> 19 | E28: =VLOOKUP(E20,'מספר חברי מועצה'!$B$2:$D$188,3) -> 61 | F28: =VLOOKUP(F20,'מספר חברי מועצה'!$B$2:$D$188,3) -> 41 | G28: =VLOOKUP(G20,'מספר חברי מועצה'!$B$2:$D$188,3) -> 18.5 | H28: =VLOOKUP(H20,'מספר חברי מועצה'!$B$2:$D$188,3) -> 240 | I28: =VLOOKUP(I20,'מספר חברי מועצה'!$B$2:$D$188,3) -> 132 | ... BR28: =VLOOKUP(BR20,'מספר חברי מועצה'!$B$2:$D$188,3) -> 500 | BS28: =SUM(B28:BR28) -> 6400.3
A29: יהודים (אחוז) | B29: =INDEX('נתוני 2011'!$B$1:$BY$35,MATCH('ריכוז ומחולל גרפים'!$A29,'נתוני 2011'!$B$1:$B$35,0),MATCH('ריכוז ומחולל גרפים'!B$20,'נתוני 2011'!$B$1:$BY$1,0)) -> - | C29: =INDEX('נתוני 2011'!$B$1:$BY$35,MATCH('ריכוז ומחולל גרפים'!$A29,'נתוני 2011'!$B$1:$B$35,0),MATCH('ריכוז ומחולל גרפים'!C$20,'נתוני 2011'!$B$1:$BY$1,0)) -> 98.2 | D29: =INDEX('נתוני 2011'!$B$1:$BY$35,MATCH('ריכוז ומחולל גרפים'!$A29,'נתוני 2011'!$B$1:$B$35,0),MATCH('ריכוז ומחולל גרפים'!D$20,'נתוני 2011'!$B$1:$BY$1,0)) -> 92.7 | E29: =INDEX('נתוני 2011'!$B$1:$BY$35,MATCH('ריכוז ומחולל גרפים'!$A29,'נתוני 2011'!$B$1:$B$35,0),MATCH('ריכוז ומחולל גרפים'!E$20,'נתוני 2011'!$B$1:$BY$1,0)) -> 84.9 | F29: =INDEX('נתוני 2011'!$B$1:$BY$35,MATCH('ריכוז ומחולל גרפים'!$A29,'נתוני 2011'!$B$1:$B$35,0),MATCH('ריכוז ומחולל גרפים'!F$20,'נתוני 2011'!$B$1:$BY$1,0)) -> 100 | G29: =INDEX('נתוני 2011'!$B$1:$BY$35,MATCH('ריכוז ומחולל גרפים'!$A29,'נתוני 2011'!$B$1:$B$35,0),MATCH('ריכוז ומחולל גרפים'!G$20,'נתוני 2011'!$B$1:$BY$1,0)) -> 81.5 | H29: =INDEX('נתוני 2011'!$B$1:$BY$35,MATCH('ריכוז ומחולל גרפים'!$A29,'נתוני 2011'!$B$1:$B$35,0),MATCH('ריכוז ומחולל גרפים'!H$20,'נתוני 2011'!$B$1:$BY$1,0)) -> 91.1 | I29: =INDEX('נתוני 2011'!$B$1:$BY$35,MATCH('ריכוז ומחולל גרפים'!$A29,'נתוני 2011'!$B$1:$B$35,0),MATCH('ריכוז ומחולל גרפים'!I$20,'נתוני 2011'!$B$1:$BY$1,0)) -> 89.3 | ... BR29: =INDEX('נתוני 2011'!$B$1:$BY$35,MATCH('ריכוז ומחולל גרפים'!$A29,'נתוני 2011'!$B$1:$B$35,0),MATCH('ריכוז ומחולל גרפים'!BR$20,'נתוני 2011'!$B$1:$BY$1,0)) -> 91.6
A30: ערבים (אחוז) | B30: =INDEX('נתוני 2011'!$B$1:$BY$35,MATCH('ריכוז ומחולל גרפים'!$A30,'נתוני 2011'!$B$1:$B$35,0),MATCH('ריכוז ומחולל גרפים'!B$20,'נתוני 2011'!$B$1:$BY$1,0)) -> 100 | C30: =INDEX('נתוני 2011'!$B$1:$BY$35,MATCH('ריכוז ומחולל גרפים'!$A30,'נתוני 2011'!$B$1:$B$35,0),MATCH('ריכוז ומחולל גרפים'!C$20,'נתוני 2011'!$B$1:$BY$1,0)) -> - | D30: =INDEX('נתוני 2011'!$B$1:$BY$35,MATCH('ריכוז ומחולל גרפים'!$A30,'נתוני 2011'!$B$1:$B$35,0),MATCH('ריכוז ומחולל גרפים'!D$20,'נתוני 2011'!$B$1:$BY$1,0)) -> - | E30: =INDEX('נתוני 2011'!$B$1:$BY$35,MATCH('ריכוז ומחולל גרפים'!$A30,'נתוני 2011'!$B$1:$B$35,0),MATCH('ריכוז ומחולל גרפים'!E$20,'נתוני 2011'!$B$1:$BY$1,0)) -> 4 | F30: =INDEX('נתוני 2011'!$B$1:$BY$35,MATCH('ריכוז ומחולל גרפים'!$A30,'נתוני 2011'!$B$1:$B$35,0),MATCH('ריכוז ומחולל גרפים'!F$20,'נתוני 2011'!$B$1:$BY$1,0)) -> - | G30: =INDEX('נתוני 2011'!$B$1:$BY$35,MATCH('ריכוז ומחולל גרפים'!$A30,'נתוני 2011'!$B$1:$B$35,0),MATCH('ריכוז ומחולל גרפים'!G$20,'נתוני 2011'!$B$1:$BY$1,0)) -> - | H30: =INDEX('נתוני 2011'!$B$1:$BY$35,MATCH('ריכוז ומחולל גרפים'!$A30,'נתוני 2011'!$B$1:$B$35,0),MATCH('ריכוז ומחולל גרפים'!H$20,'נתוני 2011'!$B$1:$BY$1,0)) -> - | I30: =INDEX('נתוני 2011'!$B$1:$BY$35,MATCH('ריכוז ומחולל גרפים'!$A30,'נתוני 2011'!$B$1:$B$35,0),MATCH('ריכוז ומחולל גרפים'!I$20,'נתוני 2011'!$B$1:$BY$1,0)) -> - | ... BR30: =INDEX('נתוני 2011'!$B$1:$BY$35,MATCH('ריכוז ומחולל גרפים'!$A30,'נתוני 2011'!$B$1:$B$35,0),MATCH('ריכוז ומחולל גרפים'!BR$20,'נתוני 2011'!$B$1:$BY$1,0)) -> 4.1
A31: אחוז בעלי הצבעה שאינם בפנסיה | B31: =100-B33-B32 -> 52.533278 | C31: =100-C33-C32 -> 60.932637 | D31: =100-D33-D32 -> 61.269023 | E31: =100-E33-E32 -> 66.646662 | F31: =100-F33-F32 -> 38.033973 | G31: =100-G33-G32 -> 67.353913 | H31: =100-H33-H32 -> 55.961051 | I31: =100-I33-I32 -> 59.762921 | ... BR31: =100-BR33-BR32 -> 64.64756
A32: אחוז בני 65 ומעלה באוכלוסייה | B32: =INDEX('נתוני 2011'!$B$1:$BY$35,MATCH('ריכוז ומחולל גרפים'!$A32,'נתוני 2011'!$B$1:$B$35,0),MATCH('ריכוז ומחולל גרפים'!B$20,'נתוני 2011'!$B$1:$BY$1,0)) -> 3.6157259 | C32: =INDEX('נתוני 2011'!$B$1:$BY$35,MATCH('ריכוז ומחולל גרפים'!$A32,'נתוני 2011'!$B$1:$B$35,0),MATCH('ריכוז ומחולל גרפים'!C$20,'נתוני 2011'!$B$1:$BY$1,0)) -> 9.6147805 | D32: =INDEX('נתוני 2011'!$B$1:$BY$35,MATCH('ריכוז ומחולל גרפים'!$A32,'נתוני 2011'!$B$1:$B$35,0),MATCH('ריכוז ומחולל גרפים'!D$20,'נתוני 2011'!$B$1:$BY$1,0)) -> 11.684065 | E32: =INDEX('נתוני 2011'!$B$1:$BY$35,MATCH('ריכוז ומחולל גרפים'!$A32,'נתוני 2011'!$B$1:$B$35,0),MATCH('ריכוז ומחולל גרפים'!E$20,'נתוני 2011'!$B$1:$BY$1,0)) -> 6.9574536 | F32: =INDEX('נתוני 2011'!$B$1:$BY$35,MATCH('ריכוז ומחולל גרפים'!$A32,'נתוני 2011'!$B$1:$B$35,0),MATCH('ריכוז ומחולל גרפים'!F$20,'נתוני 2011'!$B$1:$BY$1,0)) -> 0.94984421 | G32: =INDEX('נתוני 2011'!$B$1:$BY$35,MATCH('ריכוז ומחולל גרפים'!$A32,'נתוני 2011'!$B$1:$B$35,0),MATCH('ריכוז ומחולל גרפים'!G$20,'נתוני 2011'!$B$1:$BY$1,0)) -> 8.8296263 | H32: =INDEX('נתוני 2011'!$B$1:$BY$35,MATCH('ריכוז ומחולל גרפים'!$A32,'נתוני 2011'!$B$1:$B$35,0),MATCH('ריכוז ומחולל גרפים'!H$20,'נתוני 2011'!$B$1:$BY$1,0)) -> 12.222651 | I32: =INDEX('נתוני 2011'!$B$1:$BY$35,MATCH('ריכוז ומחולל גרפים'!$A32,'נתוני 2011'!$B$1:$B$35,0),MATCH('ריכוז ומחולל גרפים'!I$20,'נתוני 2011'!$B$1:$BY$1,0)) -> 13.870509 | ... BR32: =INDEX('נתוני 2011'!$B$1:$BY$35,MATCH('ריכוז ומחולל גרפים'!$A32,'נתוני 2011'!$B$1:$B$35,0),MATCH('ריכוז ומחולל גרפים'!BR$20,'נתוני 2011'!$B$1:$BY$1,0)) -> 15.209883
A33: אחוז בני 17-0 באוכלוסייה | B33: =INDEX('נתוני 2011'!$B$1:$BY$35,MATCH('ריכוז ומחולל גרפים'!$A33,'נתוני 2011'!$B$1:$B$35,0),MATCH('ריכוז ומחולל גרפים'!B$20,'נתוני 2011'!$B$1:$BY$1,0)) -> 43.850996 | C33: =INDEX('נתוני 2011'!$B$1:$BY$35,MATCH('ריכוז ומחולל גרפים'!$A33,'נתוני 2011'!$B$1:$B$35,0),MATCH('ריכוז ומחולל גרפים'!C$20,'נתוני 2011'!$B$1:$BY$1,0)) -> 29.452583 | D33: =INDEX('נתוני 2011'!$B$1:$BY$35,MATCH('ריכוז ומחולל גרפים'!$A33,'נתוני 2011'!$B$1:$B$35,0),MATCH('ריכוז ומחולל גרפים'!D$20,'נתוני 2011'!$B$1:$BY$1,0)) -> 27.046912 | E33: =INDEX('נתוני 2011'!$B$1:$BY$35,MATCH('ריכוז ומחולל גרפים'!$A33,'נתוני 2011'!$B$1:$B$35,0),MATCH('ריכוז ומחולל גרפים'!E$20,'נתוני 2011'!$B$1:$BY$1,0)) -> 26.395885 | F33: =INDEX('נתוני 2011'!$B$1:$BY$35,MATCH('ריכוז ומחולל גרפים'!$A33,'נתוני 2011'!$B$1:$B$35,0),MATCH('ריכוז ומחולל גרפים'!F$20,'נתוני 2011'!$B$1:$BY$1,0)) -> 61.016183 | G33: =INDEX('נתוני 2011'!$B$1:$BY$35,MATCH('ריכוז ומחולל גרפים'!$A33,'נתוני 2011'!$B$1:$B$35,0),MATCH('ריכוז ומחולל גרפים'!G$20,'נתוני 2011'!$B$1:$BY$1,0)) -> 23.81646 | H33: =INDEX('נתוני 2011'!$B$1:$BY$35,MATCH('ריכוז ומחולל גרפים'!$A33,'נתוני 2011'!$B$1:$B$35,0),MATCH('ריכוז ומחולל גרפים'!H$20,'נתוני 2011'!$B$1:$BY$1,0)) -> 31.816297 | I33: =INDEX('נתוני 2011'!$B$1:$BY$35,MATCH('ריכוז ומחולל גרפים'!$A33,'נתוני 2011'!$B$1:$B$35,0),MATCH('ריכוז ומחולל גרפים'!I$20,'נתוני 2011'!$B$1:$BY$1,0)) -> 26.36657 | ... BR33: =INDEX('נתוני 2011'!$B$1:$BY$35,MATCH('ריכוז ומחולל גרפים'!$A33,'נתוני 2011'!$B$1:$B$35,0),MATCH('ריכוז ומחולל גרפים'!BR$20,'נתוני 2011'!$B$1:$BY$1,0)) -> 20.142557
A34: אחוז בני 75 ומעלה באוכלוסייה | B34: =INDEX('נתוני 2011'!$B$1:$BY$35,MATCH('ריכוז ומחולל גרפים'!$A34,'נתוני 2011'!$B$1:$B$35,0),MATCH('ריכוז ומחולל גרפים'!B$20,'נתוני 2011'!$B$1:$BY$1,0)) -> 1.1226912 | C34: =INDEX('נתוני 2011'!$B$1:$BY$35,MATCH('ריכוז ומחולל גרפים'!$A34,'נתוני 2011'!$B$1:$B$35,0),MATCH('ריכוז ומחולל גרפים'!C$20,'נתוני 2011'!$B$1:$BY$1,0)) -> 4.3405009 | D34: =INDEX('נתוני 2011'!$B$1:$BY$35,MATCH('ריכוז ומחולל גרפים'!$A34,'נתוני 2011'!$B$1:$B$35,0),MATCH('ריכוז ומחולל גרפים'!D$20,'נתוני 2011'!$B$1:$BY$1,0)) -> 5.144007 | E34: =INDEX('נתוני 2011'!$B$1:$BY$35,MATCH('ריכוז ומחולל גרפים'!$A34,'נתוני 2011'!$B$1:$B$35,0),MATCH('ריכוז ומחולל גרפים'!E$20,'נתוני 2011'!$B$1:$BY$1,0)) -> 2.2998607 | F34: =INDEX('נתוני 2011'!$B$1:$BY$35,MATCH('ריכוז ומחולל גרפים'!$A34,'נתוני 2011'!$B$1:$B$35,0),MATCH('ריכוז ומחולל גרפים'!F$20,'נתוני 2011'!$B$1:$BY$1,0)) -> 0.30405066 | G34: =INDEX('נתוני 2011'!$B$1:$BY$35,MATCH('ריכוז ומחולל גרפים'!$A34,'נתוני 2011'!$B$1:$B$35,0),MATCH('ריכוז ומחולל גרפים'!G$20,'נתוני 2011'!$B$1:$BY$1,0)) -> 3.6024427 | H34: =INDEX('נתוני 2011'!$B$1:$BY$35,MATCH('ריכוז ומחולל גרפים'!$A34,'נתוני 2011'!$B$1:$B$35,0),MATCH('ריכוז ומחולל גרפים'!H$20,'נתוני 2011'!$B$1:$BY$1,0)) -> 5.4899707 | I34: =INDEX('נתוני 2011'!$B$1:$BY$35,MATCH('ריכוז ומחולל גרפים'!$A34,'נתוני 2011'!$B$1:$B$35,0),MATCH('ריכוז ומחולל גרפים'!I$20,'נתוני 2011'!$B$1:$BY$1,0)) -> 6.4617769 | ... BR34: =INDEX('נתוני 2011'!$B$1:$BY$35,MATCH('ריכוז ומחולל גרפים'!$A34,'נתוני 2011'!$B$1:$B$35,0),MATCH('ריכוז ומחולל גרפים'!BR$20,'נתוני 2011'!$B$1:$BY$1,0)) -> 8.2609018
A35: אחוז עולי 1990+ מסך האוכלוסייה | B35: =INDEX('נתוני 2011'!$B$1:$BY$35,MATCH('ריכוז ומחולל גרפים'!$A35,'נתוני 2011'!$B$1:$B$35,0),MATCH('ריכוז ומחולל גרפים'!B$20,'נתוני 2011'!$B$1:$BY$1,0)) -> 0 | C35: =INDEX('נתוני 2011'!$B$1:$BY$35,MATCH('ריכוז ומחולל גרפים'!$A35,'נתוני 2011'!$B$1:$B$35,0),MATCH('ריכוז ומחולל גרפים'!C$20,'נתוני 2011'!$B$1:$BY$1,0)) -> 14 | D35: =INDEX('נתוני 2011'!$B$1:$BY$35,MATCH('ריכוז ומחולל גרפים'!$A35,'נתוני 2011'!$B$1:$B$35,0),MATCH('ריכוז ומחולל גרפים'!D$20,'נתוני 2011'!$B$1:$BY$1,0)) -> 33.8 | E35: =INDEX('נתוני 2011'!$B$1:$BY$35,MATCH('ריכוז ומחולל גרפים'!$A35,'נתוני 2011'!$B$1:$B$35,0),MATCH('ריכוז ומחולל גרפים'!E$20,'נתוני 2011'!$B$1:$BY$1,0)) -> 19.4 | F35: =INDEX('נתוני 2011'!$B$1:$BY$35,MATCH('ריכוז ומחולל גרפים'!$A35,'נתוני 2011'!$B$1:$B$35,0),MATCH('ריכוז ומחולל גרפים'!F$20,'נתוני 2011'!$B$1:$BY$1,0)) -> 3.1 | G35: =INDEX('נתוני 2011'!$B$1:$BY$35,MATCH('ריכוז ומחולל גרפים'!$A35,'נתוני 2011'!$B$1:$B$35,0),MATCH('ריכוז ומחולל גרפים'!G$20,'נתוני 2011'!$B$1:$BY$1,0)) -> 39.2 | H35: =INDEX('נתוני 2011'!$B$1:$BY$35,MATCH('ריכוז ומחולל גרפים'!$A35,'נתוני 2011'!$B$1:$B$35,0),MATCH('ריכוז ומחולל גרפים'!H$20,'נתוני 2011'!$B$1:$BY$1,0)) -> 31.1 | I35: =INDEX('נתוני 2011'!$B$1:$BY$35,MATCH('ריכוז ומחולל גרפים'!$A35,'נתוני 2011'!$B$1:$B$35,0),MATCH('ריכוז ומחולל גרפים'!I$20,'נתוני 2011'!$B$1:$BY$1,0)) -> 30.8 | ... BR35: =INDEX('נתוני 2011'!$B$1:$BY$35,MATCH('ריכוז ומחולל גרפים'!$A35,'נתוני 2011'!$B$1:$B$35,0),MATCH('ריכוז ומחולל גרפים'!BR$20,'נתוני 2011'!$B$1:$BY$1,0)) -> 12.3
A36: אחוז עולים בני 17-0 בהשתקעות ראשונה | B36: =INDEX('נתוני 2011'!$B$1:$BY$35,MATCH('ריכוז ומחולל גרפים'!$A36,'נתוני 2011'!$B$1:$B$35,0),MATCH('ריכוז ומחולל גרפים'!B$20,'נתוני 2011'!$B$1:$BY$1,0)) -> - | C36: =INDEX('נתוני 2011'!$B$1:$BY$35,MATCH('ריכוז ומחולל גרפים'!$A36,'נתוני 2011'!$B$1:$B$35,0),MATCH('ריכוז ומחולל גרפים'!C$20,'נתוני 2011'!$B$1:$BY$1,0)) -> 18.2 | D36: =INDEX('נתוני 2011'!$B$1:$BY$35,MATCH('ריכוז ומחולל גרפים'!$A36,'נתוני 2011'!$B$1:$B$35,0),MATCH('ריכוז ומחולל גרפים'!D$20,'נתוני 2011'!$B$1:$BY$1,0)) -> 10 | E36: =INDEX('נתוני 2011'!$B$1:$BY$35,MATCH('ריכוז ומחולל גרפים'!$A36,'נתוני 2011'!$B$1:$B$35,0),MATCH('ריכוז ומחולל גרפים'!E$20,'נתוני 2011'!$B$1:$BY$1,0)) -> 19.5 | F36: =INDEX('נתוני 2011'!$B$1:$BY$35,MATCH('ריכוז ומחולל גרפים'!$A36,'נתוני 2011'!$B$1:$B$35,0),MATCH('ריכוז ומחולל גרפים'!F$20,'נתוני 2011'!$B$1:$BY$1,0)) -> - | G36: =INDEX('נתוני 2011'!$B$1:$BY$35,MATCH('ריכוז ומחולל גרפים'!$A36,'נתוני 2011'!$B$1:$B$35,0),MATCH('ריכוז ומחולל גרפים'!G$20,'נתוני 2011'!$B$1:$BY$1,0)) -> 9 | H36: =INDEX('נתוני 2011'!$B$1:$BY$35,MATCH('ריכוז ומחולל גרפים'!$A36,'נתוני 2011'!$B$1:$B$35,0),MATCH('ריכוז ומחולל גרפים'!H$20,'נתוני 2011'!$B$1:$BY$1,0)) -> 19.3 | I36: =INDEX('נתוני 2011'!$B$1:$BY$35,MATCH('ריכוז ומחולל גרפים'!$A36,'נתוני 2011'!$B$1:$B$35,0),MATCH('ריכוז ומחולל גרפים'!I$20,'נתוני 2011'!$B$1:$BY$1,0)) -> 31.4 | ... BR36: =INDEX('נתוני 2011'!$B$1:$BY$35,MATCH('ריכוז ומחולל גרפים'!$A36,'נתוני 2011'!$B$1:$B$35,0),MATCH('ריכוז ומחולל גרפים'!BR$20,'נתוני 2011'!$B$1:$BY$1,0)) -> 10.7
A37: אחוז עולים בני 44-18 בהשתקעות ראשונה | B37: =INDEX('נתוני 2011'!$B$1:$BY$35,MATCH('ריכוז ומחולל גרפים'!$A37,'נתוני 2011'!$B$1:$B$35,0),MATCH('ריכוז ומחולל גרפים'!B$20,'נתוני 2011'!$B$1:$BY$1,0)) -> - | C37: =INDEX('נתוני 2011'!$B$1:$BY$35,MATCH('ריכוז ומחולל גרפים'!$A37,'נתוני 2011'!$B$1:$B$35,0),MATCH('ריכוז ומחולל גרפים'!C$20,'נתוני 2011'!$B$1:$BY$1,0)) -> 36.4 | D37: =INDEX('נתוני 2011'!$B$1:$BY$35,MATCH('ריכוז ומחולל גרפים'!$A37,'נתוני 2011'!$B$1:$B$35,0),MATCH('ריכוז ומחולל גרפים'!D$20,'נתוני 2011'!$B$1:$BY$1,0)) -> 35 | E37: =INDEX('נתוני 2011'!$B$1:$BY$35,MATCH('ריכוז ומחולל גרפים'!$A37,'נתוני 2011'!$B$1:$B$35,0),MATCH('ריכוז ומחולל גרפים'!E$20,'נתוני 2011'!$B$1:$BY$1,0)) -> 55.4 | F37: =INDEX('נתוני 2011'!$B$1:$BY$35,MATCH('ריכוז ומחולל גרפים'!$A37,'נתוני 2011'!$B$1:$B$35,0),MATCH('ריכוז ומחולל גרפים'!F$20,'נתוני 2011'!$B$1:$BY$1,0)) -> 61.1 | G37: =INDEX('נתוני 2011'!$B$1:$BY$35,MATCH('ריכוז ומחולל גרפים'!$A37,'נתוני 2011'!$B$1:$B$35,0),MATCH('ריכוז ומחולל גרפים'!G$20,'נתוני 2011'!$B$1:$BY$1,0)) -> 65.7 | H37: =INDEX('נתוני 2011'!$B$1:$BY$35,MATCH('ריכוז ומחולל גרפים'!$A37,'נתוני 2011'!$B$1:$B$35,0),MATCH('ריכוז ומחולל גרפים'!H$20,'נתוני 2011'!$B$1:$BY$1,0)) -> 38.3 | I37: =INDEX('נתוני 2011'!$B$1:$BY$35,MATCH('ריכוז ומחולל גרפים'!$A37,'נתוני 2011'!$B$1:$B$35,0),MATCH('ריכוז ומחולל גרפים'!I$20,'נתוני 2011'!$B$1:$BY$1,0)) -> 39 | ... BR37: =INDEX('נתוני 2011'!$B$1:$BY$35,MATCH('ריכוז ומחולל גרפים'!$A37,'נתוני 2011'!$B$1:$B$35,0),MATCH('ריכוז ומחולל גרפים'!BR$20,'נתוני 2011'!$B$1:$BY$1,0)) -> 56.4
A38: אחוז עולים בני 64-45 בהשתקעות ראשונה | B38: =INDEX('נתוני 2011'!$B$1:$BY$35,MATCH('ריכוז ומחולל גרפים'!$A38,'נתוני 2011'!$B$1:$B$35,0),MATCH('ריכוז ומחולל גרפים'!B$20,'נתוני 2011'!$B$1:$BY$1,0)) -> - | C38: =INDEX('נתוני 2011'!$B$1:$BY$35,MATCH('ריכוז ומחולל גרפים'!$A38,'נתוני 2011'!$B$1:$B$35,0),MATCH('ריכוז ומחולל גרפים'!C$20,'נתוני 2011'!$B$1:$BY$1,0)) -> 45.5 | D38: =INDEX('נתוני 2011'!$B$1:$BY$35,MATCH('ריכוז ומחולל גרפים'!$A38,'נתוני 2011'!$B$1:$B$35,0),MATCH('ריכוז ומחולל גרפים'!D$20,'נתוני 2011'!$B$1:$BY$1,0)) -> 20 | E38: =INDEX('נתוני 2011'!$B$1:$BY$35,MATCH('ריכוז ומחולל גרפים'!$A38,'נתוני 2011'!$B$1:$B$35,0),MATCH('ריכוז ומחולל גרפים'!E$20,'נתוני 2011'!$B$1:$BY$1,0)) -> 19.9 | F38: =INDEX('נתוני 2011'!$B$1:$BY$35,MATCH('ריכוז ומחולל גרפים'!$A38,'נתוני 2011'!$B$1:$B$35,0),MATCH('ריכוז ומחולל גרפים'!F$20,'נתוני 2011'!$B$1:$BY$1,0)) -> 5.6 | G38: =INDEX('נתוני 2011'!$B$1:$BY$35,MATCH('ריכוז ומחולל גרפים'!$A38,'נתוני 2011'!$B$1:$B$35,0),MATCH('ריכוז ומחולל גרפים'!G$20,'נתוני 2011'!$B$1:$BY$1,0)) -> 14.9 | H38: =INDEX('נתוני 2011'!$B$1:$BY$35,MATCH('ריכוז ומחולל גרפים'!$A38,'נתוני 2011'!$B$1:$B$35,0),MATCH('ריכוז ומחולל גרפים'!H$20,'נתוני 2011'!$B$1:$BY$1,0)) -> 28 | I38: =INDEX('נתוני 2011'!$B$1:$BY$35,MATCH('ריכוז ומחולל גרפים'!$A38,'נתוני 2011'!$B$1:$B$35,0),MATCH('ריכוז ומחולל גרפים'!I$20,'נתוני 2011'!$B$1:$BY$1,0)) -> 17.7 | ... BR38: =INDEX('נתוני 2011'!$B$1:$BY$35,MATCH('ריכוז ומחולל גרפים'!$A38,'נתוני 2011'!$B$1:$B$35,0),MATCH('ריכוז ומחולל גרפים'!BR$20,'נתוני 2011'!$B$1:$BY$1,0)) -> 20.6
A39: אחוז עולים בני 65 ומעלה בהשתקעות ראשונה | B39: =INDEX('נתוני 2011'!$B$1:$BY$35,MATCH('ריכוז ומחולל גרפים'!$A39,'נתוני 2011'!$B$1:$B$35,0),MATCH('ריכוז ומחולל גרפים'!B$20,'נתוני 2011'!$B$1:$BY$1,0)) -> - | C39: =INDEX('נתוני 2011'!$B$1:$BY$35,MATCH('ריכוז ומחולל גרפים'!$A39,'נתוני 2011'!$B$1:$B$35,0),MATCH('ריכוז ומחולל גרפים'!C$20,'נתוני 2011'!$B$1:$BY$1,0)) -> - | D39: =INDEX('נתוני 2011'!$B$1:$BY$35,MATCH('ריכוז ומחולל גרפים'!$A39,'נתוני 2011'!$B$1:$B$35,0),MATCH('ריכוז ומחולל גרפים'!D$20,'נתוני 2011'!$B$1:$BY$1,0)) -> 35 | E39: =INDEX('נתוני 2011'!$B$1:$BY$35,MATCH('ריכוז ומחולל גרפים'!$A39,'נתוני 2011'!$B$1:$B$35,0),MATCH('ריכוז ומחולל גרפים'!E$20,'נתוני 2011'!$B$1:$BY$1,0)) -> 5.2 | F39: =INDEX('נתוני 2011'!$B$1:$BY$35,MATCH('ריכוז ומחולל גרפים'!$A39,'נתוני 2011'!$B$1:$B$35,0),MATCH('ריכוז ומחולל גרפים'!F$20,'נתוני 2011'!$B$1:$BY$1,0)) -> 33.3 | G39: =INDEX('נתוני 2011'!$B$1:$BY$35,MATCH('ריכוז ומחולל גרפים'!$A39,'נתוני 2011'!$B$1:$B$35,0),MATCH('ריכוז ומחולל גרפים'!G$20,'נתוני 2011'!$B$1:$BY$1,0)) -> 10.4 | H39: =INDEX('נתוני 2011'!$B$1:$BY$35,MATCH('ריכוז ומחולל גרפים'!$A39,'נתוני 2011'!$B$1:$B$35,0),MATCH('ריכוז ומחולל גרפים'!H$20,'נתוני 2011'!$B$1:$BY$1,0)) -> 14.4 | I39: =INDEX('נתוני 2011'!$B$1:$BY$35,MATCH('ריכוז ומחולל גרפים'!$A39,'נתוני 2011'!$B$1:$B$35,0),MATCH('ריכוז ומחולל גרפים'!I$20,'נתוני 2011'!$B$1:$BY$1,0)) -> 11.8 | ... BR39: =INDEX('נתוני 2011'!$B$1:$BY$35,MATCH('ריכוז ומחולל גרפים'!$A39,'נתוני 2011'!$B$1:$B$35,0),MATCH('ריכוז ומחולל גרפים'!BR$20,'נתוני 2011'!$B$1:$BY$1,0)) -> 12.3
A41: אשכול סוציואקונומי | B41: 1 | C41: 2 | D41: 3 | E41: 4 | F41: 5 | G41: 6 | H41: 7 | I41: 8 | J41: 9
A42: 2008 | B42: =SUMIF($B$5:$BR$5,B41,$B$3:$BR$3)/SUMIF($B$5:$BR$5,B41,$B$2:$BR$2) -> 0 | C42: =SUMIF($B$5:$BR$5,C41,$B$3:$BR$3)/SUMIF($B$5:$BR$5,C41,$B$2:$BR$2) -> 0 | D42: =SUMIF($B$5:$BR$5,D41,$B$3:$BR$3)/SUMIF($B$5:$BR$5,D41,$B$2:$BR$2) -> 0.022988506 | E42: =SUMIF($B$5:$BR$5,E41,$B$3:$BR$3)/SUMIF($B$5:$BR$5,E41,$B$2:$BR$2) -> 0.10638298 | F42: =SUMIF($B$5:$BR$5,F41,$B$3:$BR$3)/SUMIF($B$5:$BR$5,F41,$B$2:$BR$2) -> 0.10288066 | G42: =SUMIF($B$5:$BR$5,G41,$B$3:$BR$3)/SUMIF($B$5:$BR$5,G41,$B$2:$BR$2) -> 0.15412186 | H42: =SUMIF($B$5:$BR$5,H41,$B$3:$BR$3)/SUMIF($B$5:$BR$5,H41,$B$2:$BR$2) -> 0.13815789 | I42: =SUMIF($B$5:$BR$5,I41,$B$3:$BR$3)/SUMIF($B$5:$BR$5,I41,$B$2:$BR$2) -> 0.20289855 | J42: =SUMIF($B$5:$BR$5,J41,$B$3:$BR$3)/SUMIF($B$5:$BR$5,J41,$B$2:$BR$2) -> 0.19148936
A43: 2013 | B43: =SUMIF($B$24:$BR$24,B41,$B$22:$BR$22)/SUMIF($B$24:$BR$24,B41,$B$21:$BR$21) -> 0 | C43: =SUMIF($B$24:$BR$24,C41,$B$22:$BR$22)/SUMIF($B$24:$BR$24,C41,$B$21:$BR$21) -> 0 | D43: =SUMIF($B$24:$BR$24,D41,$B$22:$BR$22)/SUMIF($B$24:$BR$24,D41,$B$21:$BR$21) -> 0.022727273 | E43: =SUMIF($B$24:$BR$24,E41,$B$22:$BR$22)/SUMIF($B$24:$BR$24,E41,$B$21:$BR$21) -> 0.09375 | F43: =SUMIF($B$24:$BR$24,F41,$B$22:$BR$22)/SUMIF($B$24:$BR$24,F41,$B$21:$BR$21) -> 0.19148936 | G43: =SUMIF($B$24:$BR$24,G41,$B$22:$BR$22)/SUMIF($B$24:$BR$24,G41,$B$21:$BR$21) -> 0.11678832 | H43: =SUMIF($B$24:$BR$24,H41,$B$22:$BR$22)/SUMIF($B$24:$BR$24,H41,$B$21:$BR$21) -> 0.19191919 | I43: =SUMIF($B$24:$BR$24,I41,$B$22:$BR$22)/SUMIF($B$24:$BR$24,I41,$B$21:$BR$21) -> 0.29585799 | J43: =SUMIF($B$24:$BR$24,J41,$B$22:$BR$22)/SUMIF($B$24:$BR$24,J41,$B$21:$BR$21) -> 0.33333333
A45: ישובים מעורבים | B45: "ללא ערבים" | C45: "ללא יהודים" | D45: מעורב _4%-40%)
A46: 2008 | B46: =SUMIF($B$9:$BR$9,"-",$B$3:$BR$3)/SUMIF($B$9:$BR$9,"-",$B$2:$BR$2) -> 0.12719298 | C46: =SUMIF($B$9:$BR$9,">90",$B$3:$BR$3)/SUMIF($B$9:$BR$9,">90",$B$2:$BR$2) -> 0 | D46: =(BS3-SUMIF($B$9:$BR$9,"-",$B$3:$BR$3)-SUMIF($B$9:$BR$9,">90",$B$3:$BR$3))/(BS2-SUMIF($B$9:$BR$9,"-",$B$2:$BR$2)-SUMIF($B$9:$BR$9,">90",$B$2:$BR$2)) -> 0.17307692
...

Sheet נתוני 2008
B1: שם הרשות | C1: אום אל-פחם | D1: אור יהודה | E1: אור עקיבא | F1: אילת | G1: אלעד | H1: אריאל | I1: אשדוד | J1: אשקלון | K1: באר שבע | L1: בית שאן | M1: בית שמש | N1: בני ברק | O1: בת ים | P1: גבעת שמואל | Q1: גבעתיים | R1: דימונה | S1: הוד השרון | T1: הרצלייה | U1: חדרה | V1: חולון | W1: חיפה | X1: טבריה | Y1: טירה | Z1: טירת כרמל | AA1: טמרה | AB1: יבנה | AC1: יהוד | AD1: יקנעם עילית | AE1: ירושלים | AF1: כפר סבא | AG1: כפר קאסם | AH1: כרמיאל | AI1: מגדל העמק | AJ1: מודיעין עילית | AK1: מודיעין-מכבים-רעות* | AL1: מעלה אדומים | AM1: מעלות-תרשיחא | AN1: נהרייה | AO1: נס ציונה | AP1: נצרת | AQ1: נצרת עילית | AR1: נשר | AS1: נתיבות | AT1: נתניה | AU1: סח'נין | AV1: עכו | AW1: עפולה | AX1: פתח תקווה | AY1: צפת | AZ1: קלנסווה | BA1: קריית אונו | BB1: קריית אתא | BC1: קריית ביאליק | BD1: קריית גת | BE1: קריית ים | BF1: קריית מוצקין | BG1: קריית מלאכי | BH1: קריית שמונה | BI1: ראש העין | BJ1: ראשון לציון | BK1: רהט | BL1: רחובות | BM1: רמלה | BN1: רמת גן | BO1: רמת השרון | BP1: רעננה | BQ1: שדרות | BR1: שפרעם | BS1: תל אביב -יפו
C2: אום אל פחם | D2: אור יהודה | E2: אור עקיבא | F2: אילת | G2: אלעד | H2: אריאל | I2: אשדוד | J2: אשקלוןן | K2: באר שבע | L2: בית שאן | M2: בית שמש | N2: בני ברק | O2: בת ים | P2: גבעת שמואל | Q2: גבעתיים | R2: דימונה | S2: הוד השרון | T2: הרצליה | U2: חדרה | V2: חולון | W2: חיפה | X2: טבריה | Y2: טירה | Z2: טירת כרמל | AA2: טמרה | AB2: יבנה | AC2: יהוד-מונוסון | AD2: יקנעם עילית | AE2: ירושלים | AF2: כפר סבא | AG2: כפר קאסם | AH2: כרמיאל | AI2: מגדל העמק | AJ2: מודיעין עילית | AK2: מודיעין-מכבים-רעות | AL2: מעלה אדומים | AM2: מעלות-תרשיחא | AN2: נהריה | AO2: נס ציונה | AP2: נצרת | AQ2: נצרת עילית | AR2: נשר | AS2: נתיבות | AT2: נתניה | AU2: סח'נין | AV2: עכו | AW2: עפולה | AX2: פתח תקווה | AY2: צפת | AZ2: קלנסווה | BA2: קרית אונו | BB2: קרית אתא | BC2: קרית ביאליק | BD2: קרית גת | BE2: קרית ים | BF2: קרית מוצקין | BG2: קרית מלאכי | BH2: קרית שמונה | BI2: ראש העין | BJ2: ראשון לציון | BK2: רהט | BL2: רחובות | BM2: רמלה | BN2: רמת גן | BO2: רמת השרון | BP2: רעננה | BQ2: שדרות | BR2: שפרעם | BS2: תל אביב יפו
A3: כללי | B3: סמל הרשות | C3: 2710 | D3: 2400 | E3: 1020 | F3: 2600 | G3: 1309 | H3: 3570 | I3: 0070 | J3: 7100 | K3: 9000 | L3: 9200 | M3: 2610 | N3: 6100 | O3: 6200 | P3: 0681 | Q3: 6300 | R3: 2200 | S3: 9700 | T3: 6400 | U3: 6500 | V3: 6600 | W3: 4000 | X3: 6700 | Y3: 2720 | Z3: 2100 | AA3: 8900 | AB3: 2660 | AC3: 9400 | AD3: 0240 | AE3: 3000 | AF3: 6900 | AG3: 0634 | AH3: 1139 | AI3: 0874 | AJ3: 3797 | AK3: 1200 | AL3: 3616 | AM3: 1063 | AN3: 9100 | AO3: 7200 | AP3: 7300 | AQ3: 1061 | AR3: 2500 | AS3: 0246 | AT3: 7400 | AU3: 7500 | AV3: 7600 | AW3: 7700 | AX3: 7900 | AY3: 8000 | AZ3: 0638 | BA3: 2620 | BB3: 6800 | BC3: 9500 | BD3: 2630 | BE3: 9600 | BF3: 8200 | BG3: 1034 | BH3: 2800 | BI3: 2640 | BJ3: 8300 | BK3: 1161 | BL3: 8400 | BM3: 8500 | BN3: 8600 | BO3: 2650 | BP3: 8700 | BQ3: 1031 | BR3: 8800 | BS3: 5000
B4: מחוז | C4: חיפה | D4: תל אביב | E4: חיפה | F4: הדרום | G4: המרכז | H4: אזור יהודה והשומרון | I4: הדרום | J4: הדרום | K4: הדרום | L4: הצפון | M4: ירושלים | N4: תל אביב | O4: תל אביב | P4: המרכז | Q4: תל אביב | R4: הדרום | S4: המרכז | T4: תל אביב | U4: חיפה | V4: תל אביב | W4: חיפה | X4: הצפון | Y4: המרכז | Z4: חיפה | AA4: הצפון | AB4: המרכז | AC4: המרכז | AD4: הצפון | AE4: ירושלים | AF4: המרכז | AG4: המרכז | AH4: הצפון | AI4: הצפון | AJ4: אזור יהודה והשומרון | AK4: המרכז | AL4: אזור יהודה והשומרון | AM4: הצפון | AN4: הצפון | AO4: המרכז | AP4: הצפון | AQ4: הצפון | AR4: חיפה | AS4: הדרום | AT4: המרכז | AU4: הצפון | AV4: הצפון | AW4: הצפון | AX4: המרכז | AY4: הצפון | AZ4: המרכז | BA4: תל אביב | BB4: חיפה | BC4: חיפה | BD4: הדרום | BE4: חיפה | BF4: חיפה | BG4: הדרום | BH4: הצפון | BI4: המרכז | BJ4: המרכז | BK4: הדרום | BL4: המרכז | BM4: המרכז | BN4: תל אביב | BO4: תל אביב | BP4: המרכז | BQ4: הדרום | BR4: הצפון | BS4: תל אביב
B5: מספר חברי מועצה | C5: 16 | D5: 15 | E5: 13 | F5: 17 | G5: 15 | H5: 11 | I5: 27 | J5: 21 | K5: 25 | L5: 13 | M5: 17 | N5: 25 | O5: 25 | P5: 13 | Q5: 17 | R5: 15 | S5: 15 | T5: 19 | U5: 19 | V5: 25 | W5: 31 | X5: 15 | Y5: 14 | Z5: 13 | AA5: 17 | AB5: 15 | AC5: 15 | AD5: 13 | AE5: 31 | AF5: 19 | AG5: 11 | AH5: 17 | AI5: 15 | AJ5: 15 | AK5: 17 | AL5: 15 | AM5: 13 | AN5: 17 | AO5: 15 | AP5: 17 | AQ5: 17 | AR5: 15 | AS5: 12 | AT5: 27 | AU5: 16 | AV5: 17 | AW5: 15 | AX5: 25 | AY5: 15 | AZ5: 13 | BA5: 15 | BB5: 17 | BC5: 15 | BD5: 17 | BE5: 15 | BF5: 15 | BG5: 13 | BH5: 13 | BI5: 15 | BJ5: 27 | BK5: 15 | BL5: 21 | BM5: 17 | BN5: 25 | BO5: 15 | BP5: 19 | BQ5: 13 | BR5: 15 | BS5: 30 | BT5: =SUM(C5:BS5) -> 1202 | BU5: =BT6/BT5 -> 0.11896839
B6: מספר נשים במועצה | C6: =VLOOKUP(C2,'הצבעות 2008'!$A$2:$L$159,12,FALSE) -> 0 | D6: =VLOOKUP(D2,'הצבעות 2008'!$A$2:$L$159,12,FALSE) -> 2 | E6: =VLOOKUP(E2,'הצבעות 2008'!$A$2:$L$159,12,FALSE) -> 0 | F6: =VLOOKUP(F2,'הצבעות 2008'!$A$2:$L$159,12,FALSE) -> 3 | G6: =VLOOKUP(G2,'הצבעות 2008'!$A$2:$L$159,12,FALSE) -> 0 | H6: =VLOOKUP(H2,'הצבעות 2008'!$A$2:$L$159,12,FALSE) -> 1 | I6: =VLOOKUP(I2,'הצבעות 2008'!$A$2:$L$159,12,FALSE) -> 4 | J6: =VLOOKUP(J2,'הצבעות 2008'!$A$2:$L$159,12,FALSE) -> 1 | ... M6: =VLOOKUP(M2,'הצבעות 2008'!$A$2:$L$159,12,FALSE) -> 2 | N6: 0 | O6: =VLOOKUP(O2,'הצבעות 2008'!$A$2:$L$159,12,FALSE) -> 4 | P6: =VLOOKUP(P2,'הצבעות 2008'!$A$2:$L$159,12,FALSE) -> 1 | Q6: =VLOOKUP(Q2,'הצבעות 2008'!$A$2:$L$159,12,FALSE) -> 5 | R6: =VLOOKUP(R2,'הצבעות 2008'!$A$2:$L$159,12,FALSE) -> 1 | S6: =VLOOKUP(S2,'הצבעות 2008'!$A$2:$L$159,12,FALSE) -> 2 | T6: =VLOOKUP(T2,'הצבעות 2008'!$A$2:$L$159,12,FALSE) -> 5 | U6: =VLOOKUP(U2,'הצבעות 2008'!$A$2:$L$159,12,FALSE) -> 3 | V6: =VLOOKUP(V2,'הצבעות 2008'!$A$2:$L$159,12,FALSE) -> 3 | ... AI6: =VLOOKUP(AI2,'הצבעות 2008'!$A$2:$L$159,12,FALSE) -> 1 | AJ6: 0 | AK6: =VLOOKUP(AK2,'הצבעות 2008'!$A$2:$L$159,12,FALSE) -> 3 | AL6: =VLOOKUP(AL2,'הצבעות 2008'!$A$2:$L$159,12,FALSE) -> 2 | AM6: =VLOOKUP(AM2,'הצבעות 2008'!$A$2:$L$159,12,FALSE) -> 1 | AN6: =VLOOKUP(AN2,'הצבעות 2008'!$A$2:$L$159,12,FALSE) -> 3 | AO6: =VLOOKUP(AO2,'הצבעות 2008'!$A$2:$L$159,12,FALSE) -> 4 | AP6: =VLOOKUP(AP2,'הצבעות 2008'!$A$2:$L$159,12,FALSE) -> 0 | AQ6: =VLOOKUP(AQ2,'הצבעות 2008'!$A$2:$L$159,12,FALSE) -> 3 | AR6: =VLOOKUP(AR2,'הצבעות 2008'!$A$2:$L$159,12,FALSE) -> 0 | ... BS6: =VLOOKUP(BS2,'הצבעות 2008'!$A$2:$L$159,12,FALSE) -> 7 | BT6: =SUM(C6:BS6) -> 143
B7: אחוז נשים במועצה | C7: =C6/C5 -> 0 | D7: =D6/D5 -> 0.13333333 | E7: =E6/E5 -> 0 | F7: =F6/F5 -> 0.17647059 | G7: =G6/G5 -> 0 | H7: =H6/H5 -> 0.090909091 | I7: =I6/I5 -> 0.14814815 | J7: =J6/J5 -> 0.047619048 | ... BS7: =BS6/BS5 -> 0.23333333
B8: רמה חברתית-כלכלית (10 הגבוה ביותר) | C8: 2 | D8: 5 | E8: 5 | F8: 5 | G8: 2 | H8: 6 | I8: 5 | J8: 5 | K8: 5 | L8: 5 | M8: 3 | N8: 2 | O8: 6 | P8: 8 | Q8: 9 | R8: 4 | S8: 8 | T8: 8 | U8: 6 | V8: 6 | W8: 7 | X8: 5 | Y8: 4 | Z8: 5 | AA8: 3 | AB8: 6 | AC8: 7 | AD8: 6 | AE8: 4 | AF8: 7 | AG8: 3 | AH8: 6 | AI8: 5 | AJ8: 1 | AK8: 8 | AL8: 6 | AM8: 5 | AN8: 6 | AO8: 7 | AP8: 4 | AQ8: 6 | AR8: 7 | AS8: 3 | AT8: 6 | AU8: 2 | AV8: 4 | AW8: 5 | AX8: 6 | AY8: 3 | AZ8: 2 | BA8: 9 | BB8: 6 | BC8: 7 | BD8: 4 | BE8: 5 | BF8: 7 | BG8: 4 | BH8: 5 | BI8: 6 | BJ8: 7 | BK8: 1 | BL8: 6 | BM8: 4 | BN8: 8 | BO8: 9 | BP8: 8 | BQ8: 5 | BR8: 3 | BS8: 8
A9: קבוצת אוכלוסייה ודת | B9: סה"כ אוכלוסייה (אלפים) | C9: 44.5 | D9: 32.6 | E9: 15.9 | F9: 46.6 | G9: 33.8 | H9: 16.7 | I9: 209.2 | J9: 110.4 | K9: 187.2 | L9: 16.8 | M9: 76.1 | N9: 153.3 | O9: 128.9 | P9: 20.3 | Q9: 49.9 | R9: 33.7 | S9: 46.9 | T9: 84.4 | U9: 78.2 | V9: 170.6 | W9: 264.8 | X9: 39.8 | Y9: 21.9 | Z9: 18.8 | AA9: 27.9 | AB9: 32.4 | AC9: 26.3 | AD9: 18.7 | AE9: 763.6 | AF9: 82.9 | AG9: 18.5 | AH9: 44.7 | AI9: 24.8 | AJ9: 41.9 | AK9: 70.6 | AL9: 33.8 | AM9: 21.4 | AN9: 51.6 | AO9: 34.2 | AP9: 66.4 | AQ9: 42.7 | AR9: 21.4 | AS9: 26.3 | AT9: 179 | AU9: 25.6 | AV9: 46.3 | AW9: 39.7 | AX9: 193.9 | AY9: 28.6 | AZ9: 18.3 | BA9: 28.7 | BB9: 49.9 | BC9: 36.3 | BD9: 47.9 | BE9: 36.4 | BF9: 39.7 | BG9: 19.8 | BH9: 22.2 | BI9: 38.6 | BJ9: 226.1 | BK9: 43.9 | BL9: 108.3 | BM9: 65.5 | BN9: 134.3 | BO9: 38.5 | BP9: 73.2 | BQ9: 19.4 | BR9: 34.9 | BS9: 392.5 | BT9: =SUM(C9:BS9) -> 5338.9
B10: יהודים ואחרים (אחוז) | C10: - | D10: 99.9 | E10: 99.3 | F10: 98.3 | G10: 100 | H10: 99.8 | I10: 99.9 | J10: 99.5 | K10: 98.4 | L10: 99.4 | M10: 99.9 | N10: 100 | O10: 99.7 | P10: 99.9 | Q10: 100 | R10: 99.3 | S10: 99.9 | T10: 99.9 | U10: 99.2 | V10: 99.9 | W10: 89.8 | X10: 98.9 | Y10: - | Z10: 99.7 | AA10: - | AB10: 99.8 | AC10: 100 | AD10: 99.9 | AE10: 64.8 | AF10: 99.9 | AG10: - | AH10: 98.2 | AI10: 100 | AJ10: 100 | AK10: 100 | AL10: 100 | AM10: 77.8 | AN10: 97.6 | AO10: 99.8 | AP10: - | AQ10: 84.8 | AR10: 99.5 | AS10: 99.9 | AT10: 99.9 | AU10: - | AV10: 71.7 | AW10: 99.5 | AX10: 100 | AY10: 98 | AZ10: - | BA10: 99.9 | BB10: 99.8 | BC10: 99.9 | BD10: 100 | BE10: 99.9 | BF10: 99.9 | BG10: 99.8 | BH10: 97.2 | BI10: 99.9 | BJ10: 99.9 | BK10: - | BL10: 99.7 | BM10: 77 | BN10: 99.9 | BO10: 99.9 | BP10: 99.9 | BQ10: 99.4 | BR10: - | BS10: 95.6
B11: יהודים (אחוז) | C11: - | D11: 99.1 | E11: 91.5 | F11: 85.4 | G11: 100 | H11: 80.9 | I11: 91 | J11: 88.4 | K11: 87.9 | L11: 97.3 | M11: 98.6 | N11: 98.6 | O11: 84.9 | P11: 98.5 | Q11: 97.4 | R11: 89.4 | S11: 98.1 | T11: 96.3 | U11: 93 | V11: 92.8 | W11: 80.9 | X11: 91.3 | Y11: - | Z11: 96.9 | AA11: - | AB11: 97.6 | AC11: 98.5 | AD11: 92.8 | AE11: 63.4 | AF11: 96 | AG11: - | AH11: 85.9 | AI11: 92.3 | AJ11: 100 | AK11: 98.3 | AL11: 97.2 | AM11: 68 | AN11: 89.8 | AO11: 98.2 | AP11: - | AQ11: 72.4 | AR11: 90.8 | AS11: 95.8 | AT11: 93.4 | AU11: - | AV11: 66.4 | AW11: 91.8 | AX11: 92.5 | AY11: 85.8 | AZ11: - | BA11: 97.9 | BB11: 92.3 | BC11: 92.7 | BD11: 92.5 | BE11: 86.9 | BF11: 92.1 | BG11: 99.3 | BH11: 90.4 | BI11: 98.9 | BJ11: 93.9 | BK11: - | BL11: 94.8 | BM11: 73.4 | BN11: 95.2 | BO11: 98.9 | BP11: 97.9 | BQ11: 93.3 | BR11: - | BS11: 91.4
B12: ערבים (אחוז) | C12: 100 | D12: - | E12: - | F12: - | G12: - | H12: - | I12: - | J12: - | K12: - | L12: - | M12: - | N12: - | O12: - | P12: - | Q12: - | R12: - | S12: - | T12: - | U12: - | V12: - | W12: 10.2 | X12: - | Y12: 100 | Z12: - | AA12: 100 | AB12: - | AC12: - | AD12: - | AE12: 35.2 | AF12: - | AG12: 100 | AH12: - | AI12: - | AJ12: - | AK12: - | AL12: - | AM12: 22.2 | AN12: - | AO12: - | AP12: 100 | AQ12: 15.2 | AR12: - | AS12: - | AT12: - | AU12: 100 | AV12: 28.3 | AW12: - | AX12: - | AY12: - | AZ12: 100 | BA12: - | BB12: - | BC12: - | BD12: - | BE12: - | BF12: - | BG12: - | BH12: - | BI12: - | BJ12: - | BK12: 100 | BL12: - | BM12: 23 | BN12: - | BO12: - | BP12: - | BQ12: - | BR12: 100 | BS12: 4.4
B13: מוסלמים (אחוז) | C13: 100 | D13: - | E13: - | F13: - | G13: - | H13: - | I13: - | J13: - | K13: - | L13: - | M13: - | N13: - | O13: - | P13: - | Q13: - | R13: - | S13: - | T13: - | U13: - | V13: - | W13: 4.7 | X13: - | Y13: 99.9 | Z13: - | AA13: 99.8 | AB13: - | AC13: - | AD13: - | AE13: 33.5 | AF13: - | AG13: 100 | AH13: - | AI13: - | AJ13: - | AK13: - | AL13: - | AM13: 46.8 | AN13: - | AO13: - | AP13: 69.6 | AQ13: 28 | AR13: - | AS13: - | AT13: - | AU13: 94.2 | AV13: 90.9 | AW13: - | AX13: - | AY13: - | AZ13: 99.9 | BA13: - | BB13: - | BC13: - | BD13: - | BE13: - | BF13: - | BG13: - | BH13: - | BI13: - | BJ13: - | BK13: 99.8 | BL13: - | BM13: 80 | BN13: - | BO13: - | BP13: - | BQ13: - | BR13: 59.7 | BS13: 3.5
B14: נוצרים (אחוז) | C14: - | D14: - | E14: - | F14: - | G14: - | H14: - | I14: - | J14: - | K14: - | L14: - | M14: - | N14: - | O14: - | P14: - | Q14: - | R14: - | S14: - | T14: - | U14: - | V14: - | W14: 5.3 | X14: - | Y14: - | Z14: - | AA14: - | AB14: - | AC14: - | AD14: - | AE14: 1.7 | AF14: - | AG14: - | AH14: - | AI14: - | AJ14: - | AK14: - | AL14: - | AM14: 48 | AN14: - | AO14: - | AP14: 30.4 | AQ14: 71.6 | AR14: - | AS14: - | AT14: - | AU14: 5.6 | AV14: 8.5 | AW14: - | AX14: - | AY14: - | AZ14: - | BA14: - | BB14: - | BC14: - | BD14: - | BE14: - | BF14: - | BG14: - | BH14: - | BI14: - | BJ14: - | BK14: - | BL14: - | BM14: 19.7 | BN14: - | BO14: - | BP14: - | BQ14: - | BR14: 26.2 | BS14: 0.9
B15: דרוזים (אחוז) | C15: - | D15: - | E15: - | F15: - | G15: - | H15: - | I15: - | J15: - | K15: - | L15: - | M15: - | N15: - | O15: - | P15: - | Q15: - | R15: - | S15: - | T15: - | U15: - | V15: - | W15: 0.1 | X15: - | Y15: - | Z15: - | AA15: - | AB15: - | AC15: - | AD15: - | AE15: 0 | AF15: - | AG15: - | AH15: - | AI15: - | AJ15: - | AK15: - | AL15: - | AM15: 2.3 | AN15: - | AO15: - | AP15: 0 | AQ15: 0 | AR15: - | AS15: - | AT15: - | AU15: 0 | AV15: 0.6 | AW15: - | AX15: - | AY15: - | AZ15: - | BA15: - | BB15: - | BC15: - | BD15: - | BE15: - | BF15: - | BG15: - | BH15: - | BI15: - | BJ15: - | BK15: - | BL15: - | BM15: 0.2 | BN15: - | BO15: - | BP15: - | BQ15: - | BR15: 14.1 | BS15: 0
A16: דמוגרפיה | B16: סה"כ גברים (אלפים) | C16: 22.7 | D16: 16.2 | E16: 7.7 | F16: 23.5 | G16: 17 | H16: 8.1 | I16: 102.8 | J16: 53.9 | K16: 91 | L16: 8.5 | M16: 38.2 | N16: 77.1 | O16: 60.9 | P16: 10.1 | Q16: 23.3 | R16: 16.6 | S16: 22.8 | T16: 41.1 | U16: 38.3 | V16: 82.1 | W16: 127.2 | X16: 19.6 | Y16: 11.1 | Z16: 9.4 | AA16: 14.2 | AB16: 16.1 | AC16: 12.9 | AD16: 9.1 | AE16: 380.9 | AF16: 40.1 | AG16: 9.5 | AH16: 21.6 | AI16: 12.2 | AJ16: 21.3 | AK16: 35.2 | AL16: 16.7 | AM16: 10.7 | AN16: 25.1 | AO16: 16.8 | AP16: 33.2 | AQ16: 20.2 | AR16: 10.5 | AS16: 13.2 | AT16: 86.6 | AU16: 13.3 | AV16: 22.9 | AW16: 19.2 | AX16: 94.1 | AY16: 14.2 | AZ16: 9.4 | BA16: 13.9 | BB16: 24.2 | BC16: 17.5 | BD16: 23.5 | BE16: 17.3 | BF16: 18.7 | BG16: 10.1 | BH16: 11.1 | BI16: 19.3 | BJ16: 110.4 | BK16: 22.1 | BL16: 53 | BM16: 33.4 | BN16: 63.2 | BO16: 18.7 | BP16: 35.6 | BQ16: 9.7 | BR16: 17.5 | BS16: 189.9 | BT16: =SUM(C16:BS16) -> 2617.5 | BU16: =BT16/BT9 -> 0.49026953
