Workbook
Name ארנונה_מבוקר: 'נתוני דוחות 2014'!$BD$10:$BL$263
Name גודל_אוכלוסיה: 'תשלומי ארנונה של המדינה'!$AN$2:$AO$268
Name הכנסות_מבוקר: 'נתוני דוחות 2014'!$B$10:$L$263
Name מילמן: 'המידע ממילמן'!$A$1:$B$145
Name רשות_מחוז: רשויות!$G$3:$H$260

Sheet Pivot
F1: סוג רשות | G1: (Multiple Items) | K1: סוג רשות | L1: (All)
B3: Data | G3: Data | L3: Data
A4: חוזה | B4: תשלום בפועל | C4: שומת ארנונה מקורית לשנת 2013 | F4: שם חוזה | G4: שומת ארנונה מקורית לשנת 2013 | H4: תשלום בפועל | K4: שם הרשות | L4: Sum of חלקה של הארנונה מהמדינה מסה"כ ההכנסות | M4: Sum of חלקה של הארנונה מהמדינה בהכנסות העצמיות | N4: Sum of חלקה של הארנונה מהמדינה בהכנסות שאינן ממגורים | O4: Sum of סה"כ הכנסה ממשרדי הממשלה ומשרד הבטחון | P4: Sum of היקף הפטור למשרדי הממשלה | Q4: Sum of היקף הפטור שמקבל בשהב"ט2
A5: בירה | B5: 13700714 | C5: 13700714 | F5: עיריית באר שבע | G5: 51592943 | H5: 51592943 | I5: 1 | J5: מ.א. | K5: רמת נגב | L5: 0.54705631 | M5: 0.65373261 | N5: 1.0302644 | O5: 44798988 | P5: 0 | Q5: 0 | R5: עיר עולים
A6: ערי עולים | B6: 2.0276484e+08 | C6: 2.0276484e+08 | F6: עיריית חיפה | G6: 51658647 | H6: 15497594 | I6: 2 | J6: מ.מ. | K6: מצפה רמון | L6: 0.24838005 | M6: 0.45236761 | N6: 0.84973337 | O6: 12789337 | P6: 0 | Q6: 0 | R6: עיר עולים
A7: פטור 70% | B7: 83297118 | C7: 2.7765706e+08 | F7: עיריית ירושלים | G7: 13700714 | H7: 13700714 | I7: 3 | J7: מ.א. | K7: חבל אילות | L7: 0.3079423 | M7: 0.43386921 | N7: 0.84968297 | O7: 26012194 | P7: 0 | Q7: 0 | R7: עיר עולים
A8: Grand Total | B8: 2.9976268e+08 | C8: 4.9412262e+08 | F8: עיריית טירת הכרמל | G8: 12756979 | H8: 12756979 | I8: 4 | J8: מ.מ. | K8: כפר יונה | L8: 0.086172064 | M8: 0.17965047 | N8: 0.71880013 | O8: 9119417.2 | Q8: 0 | R8: עיר עולים
F9: עיריית אילת | G9: 9664139.8 | H9: 9664139.8 | I9: 5 | J9: מ.א. | K9: ברנר | L9: 0.19885508 | M9: 0.33695881 | N9: 0.62603315 | O9: 15753498 | Q9: 0 | R9: עיר עולים
F10: עיריית דימונה | G10: 2839354.7 | H10: 2839354.7 | I10: 6 | J10: מ.א. | K10: שפיר | L10: 0.10394181 | M10: 0.25786675 | N10: 0.61176286 | O10: 9526371.2 | Q10: 22228199
B11: Data | F11: עיריית אשדוד | G11: 1749280.7 | H11: 1749280.7 | I11: 7 | J11: מ.א. | K11: מרחבים | L11: 0.19801777 | M11: 0.37048661 | N11: 0.61125484 | O11: 20258208 | P11: 0 | Q11: 0 | R11: עיר עולים
A12: סוג רשות | B12: תשלום בפועל | C12: שומת ארנונה מקורית לשנת 2013 | F12: עיריית בית שאן | G12: 1695274.4 | H12: 1695274.4 | I12: 8 | J12: מ.א. | K12: לכיש | L12: 0.081281417 | M12: 0.20731015 | N12: 0.53441118 | O12: 5685066.1 | Q12: 0 | R12: עיר עולים
A13: מועצה אזורית | B13: 1.5193073e+08 | C13: 3.0448755e+08 | F13: עיריית חדרה | G13: 1709178.3 | H13: 512753.5 | I13: 9 | J13: מ.א. | K13: גולן | L13: 0.055169704 | M13: 0.13029952 | N13: 0.43959369 | O13: 8606804.8 | P13: 0 | Q13: 20082545
A14: מועצה מקומית | B14: 36518011 | C14: 40033355 | F14: עיריית טבריה | G14: 410823.09 | H14: 410823.09 | I14: 10 | J14: עירייה | K14: צפת | L14: 0.06647204 | M14: 0.15310723 | N14: 0.37357066 | O14: 13758981 | P14: 0 | Q14: 0 | R14: עיר עולים
A15: עירייה | B15: 1.1131393e+08 | C15: 1.4960171e+08 | F15: עיריית יקנעם עילית | G15: 243031.16 | H15: 243031.16 | I15: 11 | J15: מ.מ. | K15: ראש פינה | L15: 0.16283773 | M15: 0.18434271 | N15: 0.37214843 | O15: 5982658.2 | P15: 0 | Q15: 0 | R15: עיר עולים
A16: עיריה | F16: עיריית נהריה | G16: 180930.42 | H16: 180930.42 | I16: 12 | J16: מ.א. | K16: מרום הגליל | L16: 0.029353876 | M16: 0.082557376 | N16: 0.33783541 | O16: 3021600 | P16: 1188041.7 | Q16: 3662280.9
A17: Grand Total | B17: 2.9976268e+08 | C17: 4.9412262e+08 | F17: עיריית בת ים | G17: 577925 | H17: 173377.5 | I17: 13 | J17: מ.א. | K17: הגליל התחתון | L17: 0.068027235 | M17: 0.11530984 | N17: 0.33559406 | O17: 5900750.4 | Q17: 13768418
B18: Data | F18: עיריית מודיעין-מכבים-רעות | G18: 355692.9 | H18: 106707.87 | I18: 14 | J18: מ.מ. | K18: באר יעקב | L18: 0.120885 | M18: 0.15146122 | N18: 0.33427784 | O18: 14648724 | P18: 0 | Q18: 0 | R18: עיר עולים
A19: מחוז | B19: תשלום בפועל | C19: שומת ארנונה מקורית לשנת 2013 | F19: עיריית הרצליה | G19: 206801.57 | H19: 62040.47 | I19: 15 | J19: מ.א. | K19: נחל שורק | L19: 0.044242613 | M19: 0.10897407 | N19: 0.3104323 | O19: 2787992.5 | Q19: 6505315.8
A20: דרום | B20: 1.5541255e+08 | C20: 1.8388401e+08 | F20: עיריית אשקלון | G20: 43564.85 | H20: 43564.85 | I20: 16 | J20: מ.א. | K20: עמק יזרעאל | L20: 0.076778928 | M20: 0.11720533 | N20: 0.28511011 | O20: 20497991 | P20: 279886.91 | Q20: 8469861.4
A21: חיפה | B21: 36678246 | C21: 82237638 | F21: עיריית כרמיאל | G21: 27850.91 | H21: 27850.91 | I21: 17 | J21: מ.א. | K21: אשכול | L21: 0.033289015 | M21: 0.075042736 | N21: 0.26800158 | O21: 4208696.8 | P21: 0 | Q21: 9820292.6
A22: יו"ש | B22: 12908.2 | C22: 43027.333 | F22: עיריית כפר סבא | G22: 72829.7 | H22: 21848.91 | I22: 18 | J22: מ.א. | K22: מבואות החרמון | L22: 0.0283416 | M22: 0.055986164 | N22: 0.25619393 | O22: 1848439.2 | P22: 54724.091 | Q22: 4156959.8
A23: ירושלים | B23: 21844818 | C23: 40847729 | F23: עיריית חולון | G23: 61425.733 | H23: 18427.72 | I23: 19 | J23: עירייה | K23: באר שבע | L23: 0.080631571 | M23: 0.11640491 | N23: 0.25618758 | O23: 1.0256239e+08 | P23: 0 | Q23: 0 | R23: עיר עולים
A24: מרכז | B24: 54027360 | C24: 91541271 | F24: עיריית מעלה אדומים | G24: 43027.333 | H24: 12908.2 | I24: 20 | J24: עירייה | K24: טירת כרמל | L24: 0.08682459 | M24: 0.13261371 | N24: 0.24164534 | O24: 15465543 | P24: 0 | Q24: 0 | R24: עיר עולים
A25: צפון | B25: 31529560 | C25: 94711498 | F25: עיריית בני ברק | G25: 11292.567 | H25: 3387.77 | I25: 21 | J25: מ.מ. | K25: אלונה | L25: 0.0029144787 | M25: 0.0078126391 | N25: 0.23667934 | O25: 46625.83 | Q25: 108793.6
A26: תל אביב | B26: 257233.46 | C26: 857444.87 | F26: (blank) | I26: 22 | J26: עירייה | K26: נצרת עילית | L26: 0.053445571 | M26: 0.087128241 | N26: 0.21524284 | O26: 13822895 | P26: 0 | Q26: 0 | R26: עיר עולים
A27: Grand Total | B27: 2.9976268e+08 | C27: 4.9412262e+08 | F27: Grand Total | G27: 1.4960171e+08 | H27: 1.1131393e+08 | I27: 23 | J27: מ.א. | K27: הערבה התיכונה | L27: 0.07676601 | M27: 0.12127241 | N27: 0.21100174 | O27: 3091597.5 | Q27: 0 | R27: עיר עולים
I28: 24 | J28: מ.א. | K28: חוף הכרמל | L28: 0.030004181 | M28: 0.044587031 | N28: 0.20899769 | O28: 5951209.3 | P28: 779979.27 | Q28: 1404874.6
I29: 25 | J29: עירייה | K29: קרית אונו | L29: 0.021655345 | M29: 0.032136925 | N29: 0.20311079 | O29: 4957731.3 | Q29: 11568040
I30: 26 | J30: מ.מ. | K30: בית דגן | L30: 0.060742354 | M30: 0.089183071 | N30: 0.2015259 | O30: 1878826 | P30: 0 | R30: עיר עולים
I31: 27 | J31: עירייה | K31: קרית מלאכי | L31: 0.037069377 | M31: 0.06948812 | N31: 0.18865236 | O31: 5562037.6 | P31: 0 | Q31: 0 | R31: עיר עולים
I32: 28 | J32: מ.א. | K32: חוף אשקלון | L32: 0.035216303 | M32: 0.070480115 | N32: 0.17761176 | O32: 4545262.6 | P32: 28341 | Q32: 10524788
I33: 29 | J33: עירייה | K33: רמת השרון | L33: 0.04601666 | M33: 0.058790328 | N33: 0.16925631 | O33: 16857421 | P33: 0 | Q33: 0 | R33: עיר עולים
I34: 30 | J34: מ.א. | K34: בני שמעון | L34: 0.023809274 | M34: 0.032875782 | N34: 0.16719054 | O34: 3544272.3 | P34: 467248.09 | Q34: 6937446.4
I35: 31 | J35: מ.מ. | K35: גן רוה | L35: 0.050658082 | M35: 0.062691866 | N35: 0.15981104 | O35: 1929718.3 | Q35: 4502676.1
I36: 32 | J36: עירייה | K36: ירושלים | L36: 0.034540802 | M36: 0.051964931 | N36: 0.15607746 | O36: 1.49142e+08 | P36: 0 | Q36: 0 | R36: עיר עולים
I37: 33 | J37: מ.א. | K37: מעלה יוסף | L37: 0.011981147 | M37: 0.039427889 | N37: 0.15256633 | O37: 1276675 | P37: 0 | Q37: 1556140.5
I38: 34 | J38: מ.א. | K38: הגלבוע | L38: 0.016794723 | M38: 0.039440167 | N38: 0.14068854 | O38: 2543930.2 | P38: 1423877.7 | Q38: 1875148.8
I39: 35 | J39: עירייה | K39: ערד | L39: 0.020839558 | M39: 0.038760946 | N39: 0.136638 | O39: 2969553.6 | P39: 0 | Q39: 0
I40: 36 | J40: עירייה | K40: רמלה | L40: 0.037371636 | M40: 0.062070724 | N40: 0.13233326 | O40: 14923354 | P40: 11870818 | Q40: 967345.84
I41: 37 | J41: מ.מ. | K41: מטולה | L41: 0.021504222 | M41: 0.03611713 | N41: 0.13230335 | O41: 252567.09 | Q41: 589323.21
I42: 38 | K42: זמר | L42: 0.0013901265 | M42: 0.0038268105 | N42: 0.13163958 | O42: 37254 | Q42: 86926
I43: 39 | J43: מ.א. | K43: מנשה | L43: 0.019482445 | M43: 0.03745783 | N43: 0.13130224 | O43: 2830351.1 | P43: 273705.55 | Q43: 5823584.9
I44: 40 | J44: עירייה | K44: עפולה | L44: 0.034540269 | M44: 0.054117467 | N44: 0.12320972 | O44: 9190336.5 | P44: 0 | Q44: 0 | R44: עיר עולים
I45: 41 | J45: מ.א. | K45: נווה מדבר | L45: 5.1257789e-05 | M45: 0.0019608593 | N45: 0.12114545 | O45: 6663 | P45: 5451.5455
I46: 42 | J46: מ.א. | K46: מטה יהודה | L46: 0.024074312 | M46: 0.041837829 | N46: 0.11748548 | O46: 8401621.9 | P46: 212117.73 | Q46: 18998856
I47: 43 | J47: מ.א. | K47: מגידו | L47: 0.020818221 | M47: 0.036181102 | N47: 0.10911664 | O47: 1997489.2 | P47: 0 | Q47: 4660808.1
I48: 44 | J48: מ.א. | K48: חוף השרון | L48: 0.037060306 | M48: 0.044498161 | N48: 0.10660219 | O48: 3900041.3 | P48: 2203190.2 | Q48: 2816924.3
I49: 45 | J49: מ.א. | K49: חבל מודיעין | L49: 0.041316057 | M49: 0.056551306 | N49: 0.10379721 | O49: 6996035.6 | P49: 275748.55 | Q49: 15537689
I50: 46 | J50: מ.מ. | K50: ע'ג'ר | L50: 0.0015639255 | M50: 0.0043980209 | N50: 0.10169492 | O50: 24000 | Q50: 56000
I51: 47 | J51: מ.א. | K51: לב השרון | L51: 0.012273677 | M51: 0.020059473 | N51: 0.095277163 | O51: 2149071.7 | P51: 1345573.6 | Q51: 1177123.9
I52: 48 | K52: באר טוביה | L52: 0.0393349 | M52: 0.054110519 | N52: 0.092391507 | O52: 9491471.9 | P52: 0 | Q52: 0 | R52: עיר עולים
I53: 49 | K53: בית שאן | L53: 0.016058849 | M53: 0.032361749 | N53: 0.087076181 | O53: 2293412.5 | P53: 0 | Q53: 0 | R53: עיר עולים
I54: 50 | K54: גזר | L54: 0.028777545 | M54: 0.039863662 | N54: 0.085519398 | O54: 4276055.4 | P54: 4324.9091 | Q54: 9965128.6
I55: 51 | K55: הגליל העליון | L55: 0.016596067 | M55: 0.030126885 | N55: 0.08320018 | O55: 2449496.5 | P55: 27970.364 | Q55: 5635724.5
I56: 52 | K56: אילת | L56: 0.031804282 | M56: 0.04506659 | N56: 0.080324104 | O56: 15263829 | P56: 0 | Q56: 0 | R56: עיר עולים
I57: 53 | K57: משגב | L57: 0.011905735 | M57: 0.027587995 | N57: 0.07304327 | O57: 2075086.2 | P57: 73537.364 | Q57: 4632150.2
I58: 54 | K58: קרית שמונה | L58: 0.011644457 | M58: 0.024527459 | N58: 0.071766431 | O58: 1662397.6 | P58: 0 | Q58: 0 | R58: עיר עולים
I59: 55 | K59: מזכרת בתיה | L59: 0.0067320193 | M59: 0.0097794074 | N59: 0.068179263 | O59: 404984.82 | P59: 5196.2727 | Q59: 930145.58
I60: 56 | K60: מטה אשר | L60: 0.0096178544 | M60: 0.016741823 | N60: 0.06055558 | O60: 2542547.1 | P60: 1555.3636 | Q60: 2558836.4
I61: 57 | K61: חיפה | L61: 0.017770784 | M61: 0.026996731 | N61: 0.059929985 | O61: 42071868 | P61: 21742588 | Q61: 36161053
I62: 58 | K62: ראשון לציון | L62: 0.014714473 | M62: 0.022092559 | N62: 0.059063489 | O62: 23934239 | P62: 11434035 | Q62: 23238382
I63: 59 | K63: עכו | L63: 0.01385942 | M63: 0.021659068 | N63: 0.055213334 | O63: 4700255.9 | P63: 0 | Q63: 0 | R63: עיר עולים
I64: 60 | K64: לוד | L64: 0.015795354 | M64: 0.028875532 | N64: 0.055208751 | O64: 5733208 | P64: 0 | R64: עיר עולים
I65: 61 | K65: גדרה | L65: 0.0041601298 | M65: 0.006550459 | N65: 0.054033042 | O65: 502291.16 | Q65: 1172012.7
I66: 62 | K66: פרדס חנה-כרכור | L66: 0.0079676227 | M66: 0.01324524 | N66: 0.052145327 | O66: 1360471.6 | P66: 7689.2727 | Q66: 3152505
I67: 63 | K67: רמת גן | L67: 0.014173926 | M67: 0.01884332 | N67: 0.051700667 | O67: 14093447 | P67: 8778376.6 | Q67: 7850079.2
I68: 64 | K68: זבולון | L68: 0.0045046488 | M68: 0.0081773168 | N68: 0.048911396 | O68: 524525.81 | P68: 127186.36 | Q68: 861176.89
I69: 65 | K69: מעלה אפרים | L69: 0.0020989678 | M69: 0.0071541531 | N69: 0.045816492 | O69: 39448 | P69: 32275.636
I70: 66 | K70: תל אביב יפו | L70: 0.020499621 | M70: 0.023856699 | N70: 0.042182505 | O70: 85050899 | P70: 41269615 | Q70: 80757268
I71: 67 | K71: חדרה | L71: 0.01391381 | M71: 0.018487708 | N71: 0.039392543 | O71: 6927769.5 | P71: 5248649.5 | Q71: 1196424.8
I72: 68 | K72: יאנוח ג'ת | L72: 0.00052948582 | M72: 0.0024570946 | N72: 0.037405138 | O72: 18927 | P72: 15485.727
I73: 69 | K73: טבריה | L73: 0.0097034994 | M73: 0.015441476 | N73: 0.035046752 | O73: 2563810.1 | P73: 0 | Q73: 0 | R73: עיר עולים
I74: 70 | K74: אשקלון | L74: 0.010204631 | M74: 0.015266315 | N74: 0.033448065 | O74: 7468952.8 | P74: 0 | Q74: 0 | R74: עיר עולים
I75: 71 | K75: גבעת זאב | L75: 0.0024301014 | M75: 0.0042369907 | N75: 0.025337986 | O75: 203312 | P75: 166346.18
I76: 72 | K76: עמק לוד | L76: 0.0080731029 | M76: 0.012470943 | N76: 0.02501366 | O76: 721468.99 | P76: 2317.0909 | Q76: 1676819.6
I77: 73 | K77: נשר | L77: 0.0069477604 | M77: 0.0091877962 | N77: 0.023951366 | O77: 1130025.4 | P77: 0 | Q77: 0 | R77: עיר עולים
I78: 74 | K78: כפר סבא | L78: 0.0044155172 | M78: 0.0062622208 | N78: 0.022876578 | O78: 2700419.9 | P78: 2191558.1 | Q78: 50980.79
I79: 75 | K79: גן יבנה | L79: 0.0026652767 | M79: 0.0043801085 | N79: 0.022442928 | O79: 227638.62 | P79: 0 | Q79: 0 | R79: עיר עולים
I80: 76 | K80: נצרת | L80: 0.0026562091 | M80: 0.0054389849 | N80: 0.022286619 | O80: 827101 | P80: 676719
I81: 77 | K81: עמק המעיינות | L81: 0.0036300628 | M81: 0.0067544758 | N81: 0.022243029 | O81: 521999.4 | P81: 94641.545 | Q81: 948094.93
I82: 78 | K82: חבל יבנה | L82: 0.0073673532 | M82: 0.013072669 | N82: 0.020990812 | O82: 354870.67 | P82: 124773.55 | Q82: 472195.9
I83: 79 | K83: אשדוד | L83: 0.0064749525 | M83: 0.009341106 | N83: 0.019783892 | O83: 8127677.7 | P83: 0 | Q83: 0 | R83: עיר עולים
I84: 80 | K84: חולון | L84: 0.0045806287 | M84: 0.0066857066 | N84: 0.019639356 | O84: 4678035.7 | P84: 3812406.5 | Q84: 42998.013
I85: 81 | K85: יואב | L85: 0.0035879033 | M85: 0.0055610193 | N85: 0.01945418 | O85: 311150.15 | P85: 76600.636 | Q85: 507563.35
I86: 82 | K86: מעלה אדומים | L86: 0.0031523433 | M86: 0.0049795069 | N86: 0.019119947 | O86: 708738.2 | P86: 569315.45 | Q86: 30119.133
I87: 83 | K87: טמרה | L87: 0.0008137775 | M87: 0.0028039934 | N87: 0.017691564 | O87: 126247 | P87: 103293
I88: 84 | K88: קרית מוצקין | L88: 0.0014650624 | M88: 0.0020174451 | N88: 0.017470482 | O88: 304545.45 | Q88: 710606.05
I89: 85 | K89: שער הנגב | L89: 0.0021408813 | M89: 0.0044744533 | N89: 0.016492518 | O89: 219185.57 | Q89: 0 | R89: עיר עולים
I90: 86 | K90: נס ציונה | L90: 0.0031934094 | M90: 0.0045868008 | N90: 0.01647324 | O90: 937294.4 | P90: 0 | Q90: 0 | R90: עיר עולים
I91: 87 | K91: נתיבות | L91: 0.0014704958 | M91: 0.0039140281 | N91: 0.015944469 | O91: 216207 | P91: 0 | R91: עיר עולים
I92: 88 | K92: נהריה | L92: 0.0028044319 | M92: 0.0040857791 | N92: 0.015520628 | O92: 979941.42 | P92: 0 | Q92: 0 | R92: עיר עולים
I93: 89 | K93: יפיע | L93: 0.00052376708 | M93: 0.001720277 | N93: 0.013711763 | O93: 43480 | P93: 35574.545
I94: 90 | K94: זכרון יעקב | L94: 0.0016115492 | M94: 0.0022563317 | N94: 0.013482061 | O94: 214297.36 | P94: 174112.36 | Q94: 3484.5067
I95: 91 | K95: שדות נגב | L95: 0.0018598015 | M95: 0.0049324504 | N95: 0.013212036 | O95: 161715.32 | Q95: 0 | R95: עיר עולים
I96: 92 | K96: פתח תקווה | L96: 0.0046944992 | M96: 0.006095117 | N96: 0.013172117 | O96: 6764092.7 | P96: 1279323.8 | Q96: 12134441
I97: 93 | K97: דרום השרון | L97: 0.0025890051 | M97: 0.0039958729 | N97: 0.012599426 | O97: 583025.82 | P97: 298647 | Q97: 508696.58
I98: 94 | K98: שדרות | L98: 0.0013793801 | M98: 0.0029652634 | N98: 0.01194123 | O98: 227444.6 | P98: 0 | Q98: 0 | R98: עיר עולים
I99: 95 | K99: קרית אתא | L99: 0.0021824891 | M99: 0.0034116771 | N99: 0.010851352 | O99: 717155 | P99: 0 | R99: עיר עולים
I100: 96 | K100: מודיעין-מכבים-רעות | L100: 0.0014278307 | M100: 0.0026015539 | N100: 0.010844228 | O100: 645697.87 | P100: 440991.82 | Q100: 248985.03
I101: 97 | K101: קרית ביאליק | L101: 0.0023711861 | M101: 0.0029068125 | N101: 0.01075586 | O101: 602995 | P101: 0 | R101: עיר עולים
...

Sheet ניתוח נתונים
B3: Data
A4: שם הרשות | B4: Sum of מטבע תנאי נטו | C4: Sum of חלקה של הארנונה ממשרד הבטחון מסה"כ הכנסות | D4: Sum of חלקה של הארנונה ממשרד הבטחון מההכנסות העצמאיות | E4: Sum of חלקה של הארנונה ממשרד הבטחון מהארנונה שאינה ממגורים | F4: Sum of חלקה של הארנונה ממגורים מסה"כ הארנונה לפני אובדן הארנונה ממשרד הבטחון2 | G4: Sum of חלקה של הארנונה ממגורים מסה"כ הארנונה לפני אובדן הארנונה ממשרד הבטחון | K4: שם הרשות | L4: דירוג סוציואקונומי | M4: חלקה של הארנונה ממשרד הבטחון מסה"כ הכנסות | N4: חלקה של הארנונה ממשרד הבטחון מההכנסות העצמאיות | O4: חלקה של הארנונה ממשרד הבטחון מהארנונה שאינה ממגורים | P4: חלקה של הארנונה ממגורים מסה"כ הארנונה לפני אובדן הארנונה ממשרד הבטחון | Q4: חלקה של הארנונה ממגורים מסה"כ הארנונה אחרי אובדן הארנונה ממשרד הבטחון | R4: היקף העלאה חריגה בארנונה לצורך פיצוי על אובדן ההכנסה | S4: ערך המודל גדיש 2015 | T4: מעמד כלכלי
A5: אבו גוש | B5: 1737.55 | C5: 4.0228515e-05 | D5: 0.00012253526 | E5: 0.0013133409 | F5: 0.77185243 | G5: 0.77162092 | J5: 1 | K5: רמת נגב | L5: 5 | M5: 0.46287547 | N5: 0.55313646 | O5: 0.8717277 | P5: 0.23803599 | Q5: 0.70891544 | R5: =M5/(1-M5) -> 0.86176566 | S5: -19793.904 | T5: עצמאית
A6: אום אל-פחם | C6: 0 | D6: 0 | E6: 0 | F6: 0.66874761 | G6: 0.66874761 | J6: 3 | K6: חבל אילות | L6: 4 | M6: 0.30790622 | N6: 0.43381837 | O6: 0.84958341 | P6: 0.29540381 | Q6: 0.73595801 | R6: =M6/(1-M6) -> 0.4448909 | S6: -14906.797 | T6: עצמאית | X6: רמת השרון בלבד
A7: אופקים | C7: 0 | D7: 0 | F7: 1 | G7: 1 | J7: 2 | K7: מצפה רמון | L7: 4 | M7: 0.24806052 | N7: 0.45178565 | O7: 0.84864022 | P7: 0.30974547 | Q7: 0.74777605 | R7: =M7/(1-M7) -> 0.32989425 | S7: -1888.5926 | T7: נתמכת | X7: =X8/$Z$8 -> 0.55239118 | Y7: =Y8/$Z$8 -> 0.44760882
A8: אור יהודה | C8: 0 | D8: 0 | E8: 0 | F8: 0.37696768 | G8: 0.37696768 | J8: 5 | K8: ברנר | L8: 8 | M8: 0.19885508 | N8: 0.33695881 | O8: 0.62603315 | P8: 0.27301092 | Q8: 0.50104711 | R8: =M8/(1-M8) -> 0.24821362 | S8: -30286.107 | T8: עצמאית | X8: 130672 | Y8: 105885 | Z8: =Y8+X8 -> 236557
A9: אור עקיבא | C9: 0 | D9: 0 | E9: 0 | F9: 0.35587549 | G9: 0.35587549 | J9: 4 | K9: מרחבים | L9: 4 | M9: 0.19801777 | N9: 0.37048661 | O9: 0.61125484 | P9: 0.23482557 | Q9: 0.44116641 | R9: =M9/(1-M9) -> 0.24691042 | S9: -243.00692 | T9: נתמכת | X9: 17725 | Y9: 905 | Z9: =Y9+X9 -> 18630
A10: אילת | B10: 9664139.8 | C10: 0.020136561 | D10: 0.028533459 | E10: 0.050856399 | F10: 0.2568103 | G10: 0.24697547 | J10: 9 | K10: ראש פינה | L10: 7 | M10: 0.15842352 | N10: 0.17934554 | O10: 0.36206023 | P10: 0.18771159 | Q10: 0.26591709 | R10: =M10/(1-M10) -> 0.18824614 | S10: -14315.601 | T10: עצמאית | X10: 1140 | Y10: 4276 | Z10: =Y10+X10 -> 5416
A11: אלונה | B11: 46625.83 | C11: 0.0029144787 | D11: 0.0078126391 | E11: 0.23667934 | F11: 0.93408614 | G11: 0.91537801 | J11: 10 | K11: באר יעקב | L11: 6 | M11: 0.10608028 | N11: 0.13291184 | O11: 0.293339 | P11: 0.28470227 | Q11: 0.36030268 | R11: =M11/(1-M11) -> 0.11866868 | S11: -22374.465 | T11: עצמאית | X11: =X8-X9-X10 -> 111807 | Y11: =Y8-Y9-Y10 -> 100704 | Z11: =Y11+X11 -> 212511
A12: אלעד | C12: 0 | D12: 0 | E12: 0 | F12: 0.66948579 | G12: 0.66948579 | J12: 6 | K12: שפיר | L12: 3 | M12: 0.10394181 | N12: 0.25786675 | O12: 0.61176286 | P12: 0.32812702 | Q12: 0.55711719 | R12: =M12/(1-M12) -> 0.11599896 | S12: 7803.9116 | T12: נתמכת | X12: =X13-X11 -> 2195.1 | Y12: =Y13-Y11 -> 5479.9 | Z12: =Y12+X12 -> 7675
A13: אריאל | C13: 0 | D13: 0 | E13: 0 | F13: 0.52565521 | G13: 0.52565521 | J13: 8 | K13: כפר יונה | L13: 7 | M13: 0.086172064 | N13: 0.17965047 | O13: 0.71880013 | P13: 0.6463554 | Q13: 0.86666025 | R13: =M13/(1-M13) -> 0.09429791 | S13: 9143.825 | T13: נתמכת | X13: 114002.1 | Y13: 106183.9 | Z13: =Y13+X13 -> 220186
A14: אשדוד | B14: 1749280.7 | C14: 0.0013935726 | D14: 0.002010441 | E14: 0.0042579911 | F14: 0.34594953 | G14: 0.34498466 | J14: 7 | K14: לכיש | L14: 5 | M14: 0.081281417 | N14: 0.20731015 | O14: 0.53441118 | P14: 0.41856143 | Q14: 0.60725082 | R14: =M14/(1-M14) -> 0.088472594 | S14: 12561.201 | T14: נתמכת | X14: =X13/$Z$13 -> 0.51775363 | Y14: =Y13/$Z$13 -> 0.48224637
A15: אשכול | B15: 4208696.8 | C15: 0.033289015 | D15: 0.075042736 | E15: 0.26800158 | F15: 0.4702211 | G15: 0.39383178 | J15: 12 | K15: הערבה התיכונה | L15: 7 | M15: 0.07676601 | N15: 0.12127241 | O15: 0.21100174 | P15: 0.21563169 | Q15: 0.25839723 | R15: =M15/(1-M15) -> 0.08314903 | S15: -817.62774 | T15: נתמכת
A16: אשקלון | B16: 43564.85 | C16: 5.952149e-05 | D16: 8.9045241e-05 | E16: 0.00019509561 | F16: 0.31052502 | G16: 0.31048325 | J16: 14 | K16: עמק יזרעאל | L16: 7 | M16: 0.075497591 | N16: 0.11524933 | O16: 0.280352 | P16: 0.70723835 | Q16: 0.78087712 | R16: =M16/(1-M16) -> 0.081662946 | S16: -35046.999 | T16: עצמאית
A17: באקה אל ג'רביה | C17: 0 | D17: 0 | E17: 0 | F17: 0.67024368 | G17: 0.67024368 | J17: 15 | K17: טירת כרמל | L17: 4 | M17: 0.071618532 | N17: 0.10938836 | O17: 0.19932469 | P17: 0.15976106 | Q17: 0.19190065 | R17: =M17/(1-M17) -> 0.077143431 | S17: 879.20761 | T17: נתמכת
A18: באר טוביה | B18: 9462231.9 | C18: 0.039213722 | D18: 0.053943822 | E18: 0.09210688 | F18: 0.23179163 | G18: 0.21503289 | J18: 13 | K18: הגליל התחתון | L18: 7 | M18: 0.068027235 | N18: 0.11530984 | O18: 0.33559406 | P18: 0.41787783 | Q18: 0.51933305 | R18: =M18/(1-M18) -> 0.072992728 | S18: -4314.9302 | T18: נתמכת
A19: באר יעקב | B19: 12854702 | C19: 0.10608028 | D19: 0.13291184 | E19: 0.293339 | F19: 0.36030268 | G19: 0.28470227 | J19: 11 | K19: גולן | L19: 5 | M19: 0.055169704 | N19: 0.13029952 | O19: 0.43959369 | P19: 0.43888459 | Q19: 0.58258717 | R19: =M19/(1-M19) -> 0.058391125 | S19: 19020.069 | T19: נתמכת
A20: באר שבע | B20: 51592943 | C20: 0.040560873 | D20: 0.05855628 | E20: 0.12887249 | F20: 0.40063345 | G20: 0.36800304 | J20: 21 | K20: גן רוה | L20: 9 | M20: 0.050658082 | N20: 0.062691866 | O20: 0.15981104 | P20: 0.33427059 | Q20: 0.37406803 | R20: =M20/(1-M20) -> 0.053361262 | S20: -12759.752 | T20: עצמאית
A21: בוסתאן אל מרג' | F21: #N/A | G21: #N/A | J21: 17 | K21: צפת | L21: 4 | M21: 0.045670993 | N21: 0.10519549 | O21: 0.25666947 | P21: 0.35374006 | Q21: 0.42408529 | R21: =M21/(1-M21) -> 0.047856653 | S21: 23936.614 | T21: נתמכת
A22: בית דגן | C22: 0 | D22: 0 | E22: 0 | F22: 0.45931682 | G22: 0.45931682 | J22: 23 | K22: רמת השרון | L22: 9 | M22: 0.045101604 | N22: 0.057621264 | O22: 0.1658906 | P22: 0.52021331 | Q22: 0.56519866 | R22: =M22/(1-M22) -> 0.047231836 | S22: -118786.71 | T22: עצמאית
A23: בית שאן | B23: 1695274.4 | C23: 0.011870589 | D23: 0.023921579 | E23: 0.064366104 | F23: 0.17043852 | G23: 0.1612369 | J23: 16 | K23: נחל שורק | L23: 2 | M23: 0.044242613 | N23: 0.10897407 | O23: 0.3104323 | P23: 0.42099155 | Q23: 0.51324343 | R23: =M23/(1-M23) -> 0.046290631 | S23: 7247.6114 | T23: נתמכת
A24: בית שמש | C24: 0 | D24: 0 | E24: 0 | F24: 0.48954692 | G24: 0.48954692 | J24: 22 | K24: באר שבע | L24: 5 | M24: 0.040560873 | N24: 0.05855628 | O24: 0.12887249 | P24: 0.36800304 | Q24: 0.40063345 | R24: =M24/(1-M24) -> 0.042275608 | S24: -230381.43 | T24: עצמאית
A25: בני ברק | B25: 3387.77 | C25: 3.5800245e-06 | D25: 6.9002271e-06 | E25: 1.7497456e-05 | F25: 0.32636355 | G25: 0.3263597 | J25: 26 | K25: חבל מודיעין | L25: 6 | M25: 0.039325704 | N25: 0.053827012 | O25: 0.098796896 | P25: 0.30105877 | Q25: 0.32338988 | R25: =M25/(1-M25) -> 0.040935522 | S25: -108749.15 | T25: עצמאית
A26: בני שמעון | B26: 2973191.3 | C26: 0.019972936 | D26: 0.027578578 | E26: 0.14025149 | F26: 0.31147518 | G26: 0.28002309 | J26: 25 | K26: באר טוביה | L26: 7 | M26: 0.039213722 | N26: 0.053943822 | O26: 0.09210688 | P26: 0.21503289 | Q26: 0.23179163 | R26: =M26/(1-M26) -> 0.040814199 | S26: -62710.189 | T26: עצמאית
A27: בנימינה גבעת עדה | C27: 0 | D27: 0 | E27: 0 | F27: 0.79289096 | G27: 0.79289096 | J27: 20 | K27: קרית מלאכי | L27: 4 | M27: 0.034963761 | N27: 0.065541054 | O27: 0.17793653 | P27: 0.31854848 | Q27: 0.36250394 | R27: =M27/(1-M27) -> 0.036230516 | S27: 12183.353 | T27: נתמכת
A28: ברנר | B28: 15753498 | C28: 0.19885508 | D28: 0.33695881 | E28: 0.62603315 | F28: 0.50104711 | G28: 0.27301092 | J28: 19 | K28: חוף אשקלון | L28: 6 | M28: 0.034947923 | N28: 0.069942993 | O28: 0.1762582 | P28: 0.34932621 | Q28: 0.39457915 | R28: =M28/(1-M28) -> 0.03621351 | S28: 8078.5812 | T28: נתמכת
A29: בת ים | B29: 173377.5 | C29: 0.00021599021 | D29: 0.00035878061 | E29: 0.0014128008 | F29: 0.56528015 | G29: 0.56493269 | J29: 18 | K29: אשכול | L29: 7 | M29: 0.033289015 | N29: 0.075042736 | O29: 0.26800158 | P29: 0.39383178 | Q29: 0.4702211 | R29: =M29/(1-M29) -> 0.034435333 | S29: 19486.759 | T29: נתמכת
A30: גבעת זאב | C30: 0 | D30: 0 | E30: 0 | F30: 0.68835204 | G30: 0.68835204 | J30: 30 | K30: גזר | L30: 7 | M30: 0.028741971 | N30: 0.039814383 | O30: 0.08541368 | P30: 0.37547151 | Q30: 0.396629 | R30: =M30/(1-M30) -> 0.029592518
A31: גבעת שמואל | C31: 0 | D31: 0 | E31: 0 | F31: 0.71243401 | G31: 0.71243401 | J31: 24 | K31: מבואות החרמון | L31: 6 | M31: 0.027316071 | N31: 0.053960328 | O31: 0.24692366 | P31: 0.47381855 | Q31: 0.54457311 | R31: =M31/(1-M31) -> 0.028083194 | S31: 13570.279 | T31: נתמכת
A32: גבעתיים | C32: 0 | D32: 0 | E32: 0 | F32: 0.60988322 | G32: 0.60988322 | J32: 28 | K32: עפולה | L32: 5 | M32: 0.026721104 | N32: 0.041866451 | O32: 0.095317726 | P32: 0.34008369 | Q32: 0.36291145 | R32: =M32/(1-M32) -> 0.027454725
A33: גדרה | B33: 502291.16 | C33: 0.0041601298 | D33: 0.006550459 | E33: 0.054033042 | F33: 0.77022952 | G33: 0.76025172 | J33: 31 | K33: חוף הכרמל | L33: 7 | M33: 0.025197893 | N33: 0.037444756 | O33: 0.17551892 | P33: 1.1993983 | Q33: 1.2440177 | R33: =M33/(1-M33) -> 0.02584924
A34: גולן | B34: 8606804.8 | C34: 0.055169704 | D34: 0.13029952 | E34: 0.43959369 | F34: 0.58258717 | G34: 0.43888459 | J34: 29 | K34: מטה יהודה | L34: 5 | M34: 0.023331433 | N34: 0.040546809 | O34: 0.11386015 | P34: 0.45879183 | Q34: 0.48892009 | R34: =M34/(1-M34) -> 0.023888793
A35: גזר | B35: 4270769.4 | C35: 0.028741971 | D35: 0.039814383 | E35: 0.08541368 | F35: 0.396629 | G35: 0.37547151 | J35: 38 | K35: קרית אונו | L35: 8 | M35: 0.021655345 | N35: 0.032136925 | O35: 0.20311079 | P35: 0.72627979 | Q35: 0.76903468 | R35: =M35/(1-M35) -> 0.022134679
A36: גן יבנה | B36: 222352.62 | C36: 0.0026033863 | D36: 0.004278398 | E36: 0.021921781 | F36: 0.71088333 | G36: 0.70630646 | J36: 34 | K36: מטולה | L36: 7 | M36: 0.021504222 | N36: 0.03611713 | O36: 0.13230335 | P36: 0.56858757 | Q36: 0.6030055 | R36: =M36/(1-M36) -> 0.021976817
A37: גן רוה | B37: 1929718.3 | C37: 0.050658082 | D37: 0.062691866 | E37: 0.15981104 | F37: 0.37406803 | G37: 0.33427059 | J37: 33 | K37: מגידו | L37: 6 | M37: 0.020818221 | N37: 0.036181102 | O37: 0.10911664 | P37: 0.43691172 | Q37: 0.46551397 | R37: =M37/(1-M37) -> 0.021260834
A38: גני תקוה | B38: 19039.94 | C38: 0.00024846912 | D38: 0.00034505147 | E38: 0.0063764032 | F38: 0.90486537 | G38: 0.90431327 | J38: 40 | K38: אילת | L38: 5 | M38: 0.020136561 | N38: 0.028533459 | O38: 0.050856399 | P38: 0.24697547 | Q38: 0.2568103 | R38: =M38/(1-M38) -> 0.020550375
A39: דימונה | B39: 2839354.7 | C39: 0.013953837 | D39: 0.032310556 | F39: 1.0516569 | G39: 1 | J39: 41 | K39: בני שמעון | L39: 7 | M39: 0.019972936 | N39: 0.027578578 | O39: 0.14025149 | P39: 0.28002309 | Q39: 0.31147518 | R39: =M39/(1-M39) -> 0.020379985
A40: דרום השרון | B40: 218012.82 | C40: 0.00096811544 | D40: 0.0014941903 | E40: 0.0047113459 | F40: 0.47113746 | G40: 0.46996094 | J40: 32 | K40: ערד | L40: 5 | M40: 0.019812224 | N40: 0.036850136 | O40: 0.12990211 | P40: 0.54968712 | Q40: 0.58383976 | R40: =M40/(1-M40) -> 0.020212682
A41: הגלבוע | B41: 803635.21 | C41: 0.0053055034 | D41: 0.012459267 | E41: 0.044443934 | F41: 0.51620686 | G41: 0.50484692 | J41: 36 | K41: מנשה | L41: 4 | M41: 0.017179747 | N41: 0.03303056 | O41: 0.11578317 | P41: 0.47307438 | Q41: 0.50381148 | R41: =M41/(1-M41) -> 0.01748005
A42: הגליל העליון | B42: 2415310.5 | C42: 0.016364447 | D42: 0.029706424 | E42: 0.082039011 | F42: 0.39873017 | G42: 0.37839664 | J42: 39 | K42: הגליל העליון | L42: 7 | M42: 0.016364447 | N42: 0.029706424 | O42: 0.082039011 | P42: 0.37839664 | Q42: 0.39873017 | R42: =M42/(1-M42) -> 0.016636697
A43: הגליל התחתון | B43: 5900750.4 | C43: 0.068027235 | D43: 0.11530984 | E43: 0.33559406 | F43: 0.51933305 | G43: 0.41787783 | J43: 27 | K43: מרום הגליל | L43: 3 | M43: 0.015247666 | N43: 0.042883851 | O43: 0.17548624 | P43: 0.51734931 | Q43: 0.56522287 | R43: =M43/(1-M43) -> 0.015483757
A44: הערבה התיכונה | B44: 3091597.5 | C44: 0.07676601 | D44: 0.12127241 | E44: 0.21100174 | F44: 0.25839723 | G44: 0.21563169 | J44: 37 | K44: דימונה | L44: 4 | M44: 0.013953837 | N44: 0.032310556 | P44: 1 | Q44: 1.0516569 | R44: =M44/(1-M44) -> 0.014151302
A45: הרצליה | B45: 62040.47 | C45: 8.0981046e-05 | D45: 0.00010472627 | E45: 0.00023448928 | F45: 0.39121142 | G45: 0.39115557 | J45: 43 | K45: בית שאן | L45: 4 | M45: 0.011870589 | N45: 0.023921579 | O45: 0.064366104 | P45: 0.1612369 | Q45: 0.17043852 | R45: =M45/(1-M45) -> 0.012013193
A46: זבולון | B46: 369075.81 | C46: 0.0031696379 | D46: 0.0057538633 | E46: 0.034415872 | F46: 0.57045851 | G46: 0.56185651 | J46: 46 | K46: חוף השרון | L46: 8 | M46: 0.011471975 | N46: 0.013774354 | O46: 0.032998587 | P46: 0.36241962 | Q46: 0.37020853 | R46: =M46/(1-M46) -> 0.011605109
A47: זכרון יעקב | B47: 1493.36 | C47: 1.1230297e-05 | D47: 1.5723551e-05 | E47: 9.3951557e-05 | F47: 0.69615247 | G47: 0.6961326 | J47: 42 | K47: משגב | L47: 6 | M47: 0.011390057 | N47: 0.026393066 | O47: 0.069879519 | P47: 0.47020868 | Q47: 0.48828578 | R47: =M47/(1-M47) -> 0.011521285
A48: זמר | B48: 37254 | C48: 0.0013901265 | D48: 0.0038268105 | E48: 0.13163958 | F48: 0.95425212 | G48: 0.94767979 | J48: 44 | K48: נצרת עילית | L48: 5 | M48: 0.010869996 | N48: 0.017720525 | O48: 0.043777038 | P48: 0.38160809 | Q48: 0.39222619 | R48: =M48/(1-M48) -> 0.010989451
A49: חבל אילות | B49: 26009146 | C49: 0.30790622 | D49: 0.43381837 | E49: 0.84958341 | F49: 0.73595801 | G49: 0.29540381 | J49: 35 | K49: מעלה יוסף | L49: 4 | M49: 0.010478824 | N49: 0.034484004 | O49: 0.13343595 | P49: 1.014892 | Q49: 1.0494227 | R49: =M49/(1-M49) -> 0.010589793
A50: חבל יבנה | B50: 202369.67 | C50: 0.0042013301 | D50: 0.0074548615 | E50: 0.011970287 | F50: 0.25419002 | G50: 0.2519138 | J50: 45 | K50: מטה אשר | L50: 5 | M50: 0.0096106634 | N50: 0.016729305 | O50: 0.060510304 | P50: 0.82371234 | Q50: 0.83864048 | R50: =M50/(1-M50) -> 0.0097039245
A51: חבל מודיעין | B51: 6659009.6 | C51: 0.039325704 | D51: 0.053827012 | E51: 0.098796896 | F51: 0.32338988 | G51: 0.30105877 | J51: 52 | K51: תל אביב יפו | L51: 8 | M51: 0.0083420302 | N51: 0.0097081456 | O51: 0.017165573 | P51: 0.25921735 | Q51: 0.262556 | R51: =M51/(1-M51) -> 0.0084122051
A52: חדרה | B52: 512753.5 | C52: 0.0010298199 | D52: 0.0013683534 | E52: 0.0029156086 | F52: 0.35391227 | G52: 0.3532449 | J52: 50 | K52: עמק לוד | L52: 4 | M52: 0.0080414134 | N52: 0.01242199 | O52: 0.024915473 | P52: 0.29721498 | Q52: 0.30251203 | R52: =M52/(1-M52) -> 0.0081066019
A53: חולון | B53: 18427.72 | C53: 1.8044014e-05 | D53: 2.6336338e-05 | E53: 7.7363359e-05 | F53: 0.48619309 | G53: 0.48617376 | J53: 48 | K53: פרדס חנה-כרכור | L53: 6 | M53: 0.0079125832 | N53: 0.013153743 | O53: 0.051785112 | P53: 0.65385024 | Q53: 0.6657847 | R53: =M53/(1-M53) -> 0.0079756915
A54: חוף אשקלון | B54: 4510623.6 | C54: 0.034947923 | D54: 0.069942993 | E54: 0.1762582 | F54: 0.39457915 | G54: 0.34932621 | J54: 55 | K54: נשר | L54: 7 | M54: 0.0066396802 | N54: 0.0087803876 | O54: 0.022889305 | P54: 0.31596422 | Q54: 0.32098999 | R54: =M54/(1-M54) -> 0.0066840602
A55: חוף הכרמל | B55: 4997901.3 | C55: 0.025197893 | D55: 0.037444756 | E55: 0.17551892 | F55: 1.2440177 | G55: 1.1993983 | J55: 53 | K55: מזכרת בתיה | L55: 8 | M55: 0.0066264474 | N55: 0.0096260461 | O55: 0.067110071 | P55: 0.74207555 | Q55: 0.75514663 | R55: =M55/(1-M55) -> 0.0066706501
A56: חוף השרון | B56: 1207253.3 | C56: 0.011471975 | D56: 0.013774354 | E56: 0.032998587 | F56: 0.37020853 | G56: 0.36241962 | J56: 51 | K56: חיפה | L56: 7 | M56: 0.0065460462 | N56: 0.0099445165 | O56: 0.02207581 | P56: 0.38468571 | Q56: 0.38998307 | R56: =M56/(1-M56) -> 0.0065891793
A57: חיפה | B57: 15497594 | C57: 0.0065460462 | D57: 0.0099445165 | E57: 0.02207581 | F57: 0.38998307 | G57: 0.38468571 | J57: 47 | K57: קרית שמונה | L57: 5 | M57: 0.0064814315 | N57: 0.013652251 | O57: 0.039945977 | P57: 0.45641002 | Q57: 0.46654059 | R57: =M57/(1-M57) -> 0.0065237145
A58: חצור הגלילית | C58: 0 | D58: 0 | E58: 0 | F58: 0.49964902 | G58: 0.49964902 | J58: 56 | K58: מיתר | L58: 9 | M58: 0.0063507781 | N58: 0.0082427281 | P58: 1 | Q58: 1.017048 | R58: =M58/(1-M58) -> 0.0063913683
A59: חריש | F59: #N/A | G59: #N/A | J59: 54 | K59: ראשון לציון | L59: 6 | M59: 0.0061228583 | N59: 0.0091929628 | O59: 0.024576984 | P59: 0.4596572 | Q59: 0.4658436 | R59: =M59/(1-M59) -> 0.0061605786
A60: טבריה | B60: 410823.09 | C60: 0.0015548818 | D60: 0.0024743311 | E60: 0.0056158664 | F60: 0.35310749 | G60: 0.35182215 | J60: 49 | K60: הגלבוע | L60: 4 | M60: 0.0053055034 | N60: 0.012459267 | O60: 0.044443934 | P60: 0.50484692 | Q60: 0.51620686 | R60: =M60/(1-M60) -> 0.0053338019
A61: טורעאן | C61: 0 | D61: 0 | E61: 0 | F61: 0.5351611 | G61: 0.5351611 | J61: 57 | K61: אלונה | M61: 0.0029144787 | N61: 0.0078126391 | O61: 0.23667934 | P61: 0.91537801 | Q61: 0.93408614
A62: טייבה | F62: #N/A | G62: #N/A | J62: 58 | K62: חבל יבנה | M62: 0.0042013301 | N62: 0.0074548615 | O62: 0.011970287 | P62: 0.2519138 | Q62: 0.25419002
A63: טירת כרמל | B63: 12756979 | C63: 0.071618532 | D63: 0.10938836 | E63: 0.19932469 | F63: 0.19190065 | G63: 0.15976106 | J63: 59 | K63: גדרה | M63: 0.0041601298 | N63: 0.006550459 | O63: 0.054033042 | P63: 0.76025172 | Q63: 0.77022952
A64: טמרה | C64: 0 | D64: 0 | E64: 0 | F64: 0.71132686 | G64: 0.71132686 | J64: 60 | K64: זבולון | M64: 0.0031696379 | N64: 0.0057538633 | O64: 0.034415872 | P64: 0.56185651 | Q64: 0.57045851
A65: יאנוח ג'ת | C65: 0 | D65: 0 | E65: 0 | F65: 0.8881768 | G65: 0.8881768 | J65: 61 | K65: עמק המעיינות | M65: 0.0028256553 | N65: 0.0052577107 | O65: 0.017314062 | P65: 0.34634989 | Q65: 0.35031452
A66: יבנה | C66: 0 | D66: 0 | E66: 0 | F66: 0.34625309 | G66: 0.34625309
A67: יהוד מונוסון | C67: 0 | D67: 0 | E67: 0 | F67: 0.47062451 | G67: 0.47062451
A68: יואב | B68: 217527.15 | C68: 0.0025083272 | D68: 0.0038877457 | E68: 0.013600547 | F68: 0.3244196 | G68: 0.32142554
A69: יוקנעם המושבה | B69: 1544.21 | F69: #N/A | G69: #N/A
A70: יפיע | C70: 0 | D70: 0 | E70: 0 | F70: 0.73299091 | G70: 0.73299091
A71: יקנעם עילית | B71: 243031.16 | C71: 0.0018495522 | D71: 0.0030477566 | E71: 0.0057954253 | F71: 0.3055733 | G71: 0.30434133
A72: ירוחם | B72: 42079.06 | C72: 0.000595523 | D72: 0.0015913119 | E72: 0.0033433227 | F72: 0.31535995 | G72: 0.31463733
A73: ירושלים | B73: 13700714 | C73: 0.0031730407 | D73: 0.0047736831 | E73: 0.01433783 | F73: 0.4697266 | G73: 0.46613106
A74: ירכא | C74: 0 | D74: 0 | F74: 1 | G74: 1
A75: כפר יאסיף | C75: 0 | D75: 0 | F75: 1 | G75: 1
A76: כפר יונה | B76: 9119417.2 | C76: 0.086172064 | D76: 0.17965047 | E76: 0.71880013 | F76: 0.86666025 | G76: 0.6463554
A77: כפר סבא | B77: 21848.91 | C77: 3.5725643e-05 | D77: 5.0667194e-05 | E77: 0.00018509281 | F77: 0.56720322 | G77: 0.56715778
A78: כפר תבור | C78: 0 | D78: 0 | E78: 0 | F78: 0.66581398 | G78: 0.66581398
A79: כרמיאל | B79: 27850.91 | C79: 0.00011339762 | D79: 0.00015281706 | E79: 0.00033436473 | F79: 0.38341708 | G79: 0.38333802
A80: לב השרון | B80: 504481.68 | C80: 0.0028811719 | D80: 0.004708841 | E80: 0.022365742 | F80: 1.2006145 | G80: 1.1952046
A81: לוד | C81: 0 | D81: 0 | E81: 0 | F81: 0.32020162 | G81: 0.32020162
A82: לכיש | B82: 5685066.1 | C82: 0.081281417 | D82: 0.20731015 | E82: 0.53441118 | F82: 0.60725082 | G82: 0.41856143
A83: מבואות החרמון | B83: 1781554.2 | C83: 0.027316071 | D83: 0.053960328 | E83: 0.24692366 | F83: 0.54457311 | G83: 0.47381855
A84: מבשרת ציון | C84: 0 | D84: 0 | F84: 1 | G84: 1
A85: מג'אר | C85: 0 | D85: 0 | E85: 0 | F85: 0.58838307 | G85: 0.58838307
A86: מגדל העמק | C86: 0 | D86: 0 | E86: 0 | F86: 0.28477874 | G86: 0.28477874
A87: מגידו | B87: 1997489.2 | C87: 0.020818221 | D87: 0.036181102 | E87: 0.10911664 | F87: 0.46551397 | G87: 0.43691172
A88: מגילות ים המלח | C88: 0 | D88: 0 | E88: 0 | F88: 0.20358691 | G88: 0.20358691
A89: מודיעין-מכבים-רעות | B89: 106707.87 | C89: 0.00023596294 | D89: 0.00042993215 | E89: 0.0017921144 | F89: 0.68650966 | G89: 0.6861235
A90: מזכרת בתיה | B90: 398633.82 | C90: 0.0066264474 | D90: 0.0096260461 | E90: 0.067110071 | F90: 0.75514663 | G90: 0.74207555
A91: מטה אשר | B91: 2540646.1 | C91: 0.0096106634 | D91: 0.016729305 | E91: 0.060510304 | F91: 0.83864048 | G91: 0.82371234
A92: מטה בנימין | C92: 0 | D92: 0 | E92: 0 | F92: 0.87705621 | G92: 0.87705621
A93: מטה יהודה | B93: 8142366.9 | C93: 0.023331433 | D93: 0.040546809 | E93: 0.11386015 | F93: 0.48892009 | G93: 0.45879183
A94: מטולה | B94: 252567.09 | C94: 0.021504222 | D94: 0.03611713 | E94: 0.13230335 | F94: 0.6030055 | G94: 0.56858757
A95: מיתר | B95: 292015.13 | C95: 0.0063507781 | D95: 0.0082427281 | F95: 1.017048 | G95: 1
A96: מנשה | B96: 2495822.1 | C96: 0.017179747 | D96: 0.03303056 | E96: 0.11578317 | F96: 0.50381148 | G96: 0.47307438
A97: מסעדה | C97: 0 | D97: 0 | E97: 0 | F97: 0.57824934 | G97: 0.57824934
A98: מעלה אדומים | B98: 12908.2 | C98: 5.7413412e-05 | D98: 9.0691416e-05 | E98: 0.00034823028 | F98: 0.53440827 | G98: 0.53432161
A99: מעלה אפרים | C99: 0 | D99: 0 | E99: 0 | F99: 0.57876712 | G99: 0.57876712
A100: מעלה יוסף | B100: 1116592.1 | C100: 0.010478824 | D100: 0.034484004 | E100: 0.13343595 | F100: 1.0494227 | G100: 1.014892
A101: מעלות-תרשיחא | C101: 0 | D101: 0 | E101: 0 | F101: 0.48665806 | G101: 0.48665806
A102: מצפה רמון | B102: 12772884 | C102: 0.24806052 | D102: 0.45178565 | E102: 0.84864022 | F102: 0.74777605 | G102: 0.30974547
...

Sheet תשלומי ארנונה של המדינה
A1: חוזה | B1: שם חוזה | C1: שם הרשות | D1: אוכלוסיה בסוף 2013 | E1: סוג רשות | F1: מחוז | G1: 2013 | H1: מטבע תנאי נטו | I1: היקף הפטור שמקבל בשהב"ט | J1: סה"כ | K1: הכנסות לפי מסמך ממשרד האוצר | L1: היקף הפטור למשרדי הממשלה | M1: הערכת היקף התשלום ללא פטור למשרדי הממשלה | N1: סה"כ הכנסה ממשרדי הממשלה ומשרד הבטחון | P1: הכנסה לתושב מארנונה ממשלתית | Q1: סה"כ הכנסה ללא פטורים | R1: היקף ההכנסה הכולל | S1: היקף ההכנסות העצמיות | T1: היקף ההכנסות מארנונה שאינה ממגורים | U1: חלקה של הארנונה ממשרד הבטחון מהארנונה שאינה ממגורים | V1: חלקה של הארנונה ממשרד הבטחון מההכנסות העצמאיות | W1: חלקה של הארנונה ממשרד הבטחון מסה"כ הכנסות | X1: חלקה של הארנונה ממגורים מסה"כ הארנונה לפני אובדן הארנונה ממשרד הבטחון | Y1: חלקה של הארנונה ממגורים מסה"כ הארנונה אחרי אובדן הארנונה ממשרד הבטחון | Z1: חלקה של הארנונה ממגורים מסה"כ הארנונה אחרי אובדן הארנונה ממשלתית | AB1: חלקה של הארנונה מהמדינה בהכנסות שאינן ממגורים | AC1: חלקה של הארנונה מהמדינה בהכנסות העצמיות | AD1: חלקה של הארנונה מהמדינה מסה"כ ההכנסות | AE1: דירוג סוציואקונומי | AF1: מעמד כלכלי (נתמכת/עצמאית) לפני נתוני 2013 | AG1: הערות
H2: =SUM(H1:H1) -> 0 | I2: =SUM(I1:I1) -> 0 | J2: =SUM(J1:J1) -> 0 | K2: =SUM(K1:K1) -> 0 | L2: =SUM(L1:L1) -> 0 | M2: =SUM(M1:M1) -> 0 | N2: =SUM(N1:N1) -> 0 | Q2: =SUM(Q1:Q1) -> 0 | AN2: אבו גוש | AO2: 6600 | AQ2: שם הרשות | AR2: סה"כ אוכלוסייה1 בסוף 2013 (אלפים) | AU2: 2%> | AV2: 2%-5% | AW2: 5%< | AZ2: 2%> | BA2: 2%-5% | BB2: 5%<
A3: בירה | B3: עיריית ירושלים | C3: ירושלים | D3: =VLOOKUP(C3,גודל_אוכלוסיה,2,FALSE) -> 829900 | E3: =IF(LEFT(B3,3)="עיר","עירייה",IF(LEFT(B3,7)="מועצה א","מועצה אזורית","מועצה מקומית")) -> עירייה | F3: =INDEX(רשות_מחוז,MATCH(TRIM(C3),רשויות!$G$3:$G$260,0),2) -> ירושלים | G3: 13700714 | H3: =G3*(1+3.36%) -> 14161058 | I3: =J3-H3 -> 0 | J3: =IF(OR(A3="עיר עולים",A3="בירה"),H3,H3/0.3) -> 14161058 | K3: =INDEX(מילמן,MATCH(C3,'המידע ממילמן'!$A$1:$A$145,0),2) -> 1.3544129e+08 | L3: =M3-K3 -> 0 | M3: =IF(OR(A3="עיר עולים",A3="בירה"),K3,K3/0.55) -> 1.3544129e+08 | N3: =K3+H3 -> 1.4960235e+08 | O3: =SUM(N3:$N$3)/SUM($N$3:$N$167) -> 0.16379781 | P3: =N3/D3 -> 180.26551 | Q3: =M3+J3 -> 1.4960235e+08 | R3: =INDEX(הכנסות_מבוקר,MATCH(C3,'נתוני דוחות 2014'!$C$10:$C$263,0),11)*1000 -> 4563283000 | S3: =INDEX(הכנסות_מבוקר,MATCH(C3,'נתוני דוחות 2014'!$C$10:$C$263,0),6)*1000 -> 2970894000 | T3: =INDEX(ארנונה_מבוקר,MATCH(C3,'נתוני דוחות 2014'!$C$10:$C$263,0),7)*1000 -> 997619000 | U3: =H3/T3 -> 0.014194856 | V3: =H3/S3 -> 0.0047665982 | W3: =H3/R3 -> 0.003103261 | X3: =INDEX('נתוני דוחות 2014'!$DW$10:$DY$263,MATCH('תשלומי ארנונה של המדינה'!C3,'נתוני דוחות 2014'!$DW$10:$DW$263,0),2)/(INDEX('נתוני דוחות 2014'!$DW$10:$DY$263,MATCH('תשלומי ארנונה של המדינה'!C3,'נתוני דוחות 2014'!$DW$10:$DW$263,0),2)+INDEX('נתוני דוחות 2014'!$DW$10:$DY$263,MATCH('תשלומי ארנונה של המדינה'!C3,'נתוני דוחות 2014'!$DW$10:$DW$263,0),3)) -> 0.46636551 | Y3: =INDEX('נתוני דוחות 2014'!$DW$10:$DY$263,MATCH('תשלומי ארנונה של המדינה'!C3,'נתוני דוחות 2014'!$DW$10:$DW$263,0),2)/(INDEX('נתוני דוחות 2014'!$DW$10:$DY$263,MATCH('תשלומי ארנונה של המדינה'!C3,'נתוני דוחות 2014'!$DW$10:$DW$263,0),2)+INDEX('נתוני דוחות 2014'!$DW$10:$DY$263,MATCH('תשלומי ארנונה של המדינה'!C3,'נתוני דוחות 2014'!$DW$10:$DW$263,0),3)-H3/1000) -> 0.46992513 | Z3: =INDEX('נתוני דוחות 2014'!$DW$10:$DY$263,MATCH('תשלומי ארנונה של המדינה'!C3,'נתוני דוחות 2014'!$DW$10:$DW$263,0),2)/(INDEX('נתוני דוחות 2014'!$DW$10:$DY$263,MATCH('תשלומי ארנונה של המדינה'!C3,'נתוני דוחות 2014'!$DW$10:$DW$263,0),2)+INDEX('נתוני דוחות 2014'!$DW$10:$DY$263,MATCH('תשלומי ארנונה של המדינה'!C3,'נתוני דוחות 2014'!$DW$10:$DW$263,0),3)-N3/1000) -> 0.50693199 | AA3: =Z3-X3 -> 0.040566476 | AB3: =N3/T3 -> 0.1499594 | AC3: =N3/S3 -> 0.050356003 | AD3: =N3/R3 -> 0.032783929 | AE3: =INDEX(רשויות!$AC$4:$AL$258,MATCH($C3,רשויות!$AC$4:$AC$258,0),10) -> 4 | AF3: =IF(INDEX(רשויות!$AN$4:$AR$258,MATCH($C3,רשויות!$AO$4:$AO$258,0),4)>0,"נתמכת","עצמאית") -> עצמאית | AN3: אבו סנאן | AO3: 13000 | AQ3: אל קסום | AR3: 8.2 | AT3: "<50%" | AU3: =COUNTIFS($Z$3:$Z$172,"<50%",$AB$3:$AB$172,"<2%",$AB$3:$AB$172,">0") -> 34 | AV3: =COUNTIFS($Z$3:$Z$172,"<50%",$AB$3:$AB$172,">2%",$AB$3:$AB$172,"<5%") -> 13 | AW3: =COUNTIFS($Z$3:$Z$172,"<50%",$AB$3:$AB$172,">5%") -> 31 | AY3: "<50%" | AZ3: =SUMIFS($N$3:$N$172,$Z$3:$Z$172,"<50%",$AB$3:$AB$172,"<2%",$AB$3:$AB$172,">0") -> 28576976 | BA3: =SUMIFS($N$3:$N$172,$Z$3:$Z$172,"<50%",$AB$3:$AB$172,">2%",$AB$3:$AB$172,"<5%") -> 1.2941079e+08 | BB3: =SUMIFS($N$3:$N$172,$Z$3:$Z$172,"<50%",$AB$3:$AB$172,">5%") -> 4.3317087e+08 | BD3: =SUBTOTAL(9,AZ3:BB4) -> 9.128168e+08
A4: עיר עולים | B4: עיריית באר שבע | C4: באר שבע | D4: =VLOOKUP(C4,גודל_אוכלוסיה,2,FALSE) -> 199300 | E4: =IF(LEFT(B4,3)="עיר","עירייה",IF(LEFT(B4,7)="מועצה א","מועצה אזורית","מועצה מקומית")) -> עירייה | F4: =INDEX(רשות_מחוז,MATCH(TRIM(C4),רשויות!$G$3:$G$260,0),2) -> דרום | G4: 51592943 | H4: =G4*(1+3.36%) -> 53326466 | I4: =J4-H4 -> 0 | J4: =IF(OR(A4="עיר עולים",A4="בירה"),H4,H4/0.3) -> 53326466 | K4: =INDEX(מילמן,MATCH(C4,'המידע ממילמן'!$A$1:$A$145,0),2) -> 50969448 | L4: =M4-K4 -> 0 | M4: =IF(OR(A4="עיר עולים",A4="בירה"),K4,K4/0.55) -> 50969448 | N4: =K4+H4 -> 1.0429591e+08 | O4: =SUM(N$3:$N4)/SUM($N$3:$N$167) -> 0.27799015 | P4: =N4/D4 -> 523.31116 | Q4: =M4+J4 -> 1.0429591e+08 | R4: =INDEX(הכנסות_מבוקר,MATCH(C4,'נתוני דוחות 2014'!$C$10:$C$263,0),11)*1000 -> 1343950000 | S4: =INDEX(הכנסות_מבוקר,MATCH(C4,'נתוני דוחות 2014'!$C$10:$C$263,0),6)*1000 -> 926501000 | T4: =INDEX(ארנונה_מבוקר,MATCH(C4,'נתוני דוחות 2014'!$C$10:$C$263,0),7)*1000 -> 410520000 | U4: =H4/T4 -> 0.1298998 | V4: =H4/S4 -> 0.057556836 | W4: =H4/R4 -> 0.039678906 | X4: =INDEX('נתוני דוחות 2014'!$DW$10:$DY$263,MATCH('תשלומי ארנונה של המדינה'!C4,'נתוני דוחות 2014'!$DW$10:$DW$263,0),2)/(INDEX('נתוני דוחות 2014'!$DW$10:$DY$263,MATCH('תשלומי ארנונה של המדינה'!C4,'נתוני דוחות 2014'!$DW$10:$DW$263,0),2)+INDEX('נתוני דוחות 2014'!$DW$10:$DY$263,MATCH('תשלומי ארנונה של המדינה'!C4,'נתוני דוחות 2014'!$DW$10:$DW$263,0),3)) -> 0.37222543 | Y4: =INDEX('נתוני דוחות 2014'!$DW$10:$DY$263,MATCH('תשלומי ארנונה של המדינה'!C4,'נתוני דוחות 2014'!$DW$10:$DW$263,0),2)/(INDEX('נתוני דוחות 2014'!$DW$10:$DY$263,MATCH('תשלומי ארנונה של המדינה'!C4,'נתוני דוחות 2014'!$DW$10:$DW$263,0),2)+INDEX('נתוני דוחות 2014'!$DW$10:$DY$263,MATCH('תשלומי ארנונה של המדינה'!C4,'נתוני דוחות 2014'!$DW$10:$DW$263,0),3)-H4/1000) -> 0.40527468 | Z4: =INDEX('נתוני דוחות 2014'!$DW$10:$DY$263,MATCH('תשלומי ארנונה של המדינה'!C4,'נתוני דוחות 2014'!$DW$10:$DW$263,0),2)/(INDEX('נתוני דוחות 2014'!$DW$10:$DY$263,MATCH('תשלומי ארנונה של המדינה'!C4,'נתוני דוחות 2014'!$DW$10:$DW$263,0),2)+INDEX('נתוני דוחות 2014'!$DW$10:$DY$263,MATCH('תשלומי ארנונה של המדינה'!C4,'נתוני דוחות 2014'!$DW$10:$DW$263,0),3)-N4/1000) -> 0.44285726 | AA4: =Z4-X4 -> 0.070631831 | AB4: =N4/T4 -> 0.25405806 | AC4: =N4/S4 -> 0.11256967 | AD4: =N4/R4 -> 0.077604014 | AE4: =INDEX(רשויות!$AC$4:$AL$258,MATCH($C4,רשויות!$AC$4:$AC$258,0),10) -> 5 | AF4: =IF(INDEX(רשויות!$AN$4:$AR$258,MATCH($C4,רשויות!$AO$4:$AO$258,0),4)>0,"נתמכת","עצמאית") -> עצמאית | AN4: אבן יהודה | AO4: 12700 | AQ4: אל-בטוף | AR4: 7.1 | AT4: ">50%" | AU4: =COUNTIFS($Z$3:$Z$172,">50%",$AB$3:$AB$172,"<2%",$AB$3:$AB$172,">0") -> 41 | AV4: =COUNTIFS($Z$3:$Z$172,">50%",$AB$3:$AB$172,">2%",$AB$3:$AB$172,"<5%") -> 7 | AW4: =COUNTIFS($Z$3:$Z$172,">50%",$AB$3:$AB$172,">5%") -> 32 | AY4: ">50%" | AZ4: =SUMIFS($N$3:$N$172,$Z$3:$Z$172,">50%",$AB$3:$AB$172,"<2%",$AB$3:$AB$172,">0") -> 9639758.3 | BA4: =SUMIFS($N$3:$N$172,$Z$3:$Z$172,">50%",$AB$3:$AB$172,">2%",$AB$3:$AB$172,"<5%") -> 5310506 | BB4: =SUMIFS($N$3:$N$172,$Z$3:$Z$172,">50%",$AB$3:$AB$172,">5%") -> 3.0670791e+08
B5: עיריית תל אביב יפו | C5: תל אביב יפו | D5: =VLOOKUP(C5,גודל_אוכלוסיה,2,FALSE) -> 418600 | E5: =IF(LEFT(B5,3)="עיר","עירייה",IF(LEFT(B5,7)="מועצה א","מועצה אזורית","מועצה מקומית")) -> עירייה | F5: =INDEX(רשות_מחוז,MATCH(TRIM(C5),רשויות!$G$3:$G$260,0),2) -> תל אביב | G5: 34610258 | H5: =G5*(1+3.36%) -> 35773162 | I5: =J5-H5 -> 83470712 | J5: =IF(OR(A5="עיר עולים",A5="בירה"),H5,H5/0.3) -> 1.1924387e+08 | K5: =INDEX(מילמן,MATCH(C5,'המידע ממילמן'!$A$1:$A$145,0),2) -> 50440641 | L5: =M5-K5 -> 41269615 | M5: =IF(OR(A5="עיר עולים",A5="בירה"),K5,K5/0.55) -> 91710256 | N5: =K5+H5 -> 86213803 | O5: =SUM(N$3:$N5)/SUM($N$3:$N$167) -> 0.3723846 | P5: =N5/D5 -> 205.95748 | Q5: =M5+J5 -> 2.1095413e+08 | R5: =INDEX(הכנסות_מבוקר,MATCH(C5,'נתוני דוחות 2014'!$C$10:$C$263,0),11)*1000 -> 4272990000 | S5: =INDEX(הכנסות_מבוקר,MATCH(C5,'נתוני דוחות 2014'!$C$10:$C$263,0),6)*1000 -> 3625645000 | T5: =INDEX(ארנונה_מבוקר,MATCH(C5,'נתוני דוחות 2014'!$C$10:$C$263,0),7)*1000 -> 2087888000 | U5: =H5/T5 -> 0.01713366 | V5: =H5/S5 -> 0.0098667029 | W5: =H5/R5 -> 0.0083719274 | X5: =INDEX('נתוני דוחות 2014'!$DW$10:$DY$263,MATCH('תשלומי ארנונה של המדינה'!C5,'נתוני דוחות 2014'!$DW$10:$DW$263,0),2)/(INDEX('נתוני דוחות 2014'!$DW$10:$DY$263,MATCH('תשלומי ארנונה של המדינה'!C5,'נתוני דוחות 2014'!$DW$10:$DW$263,0),2)+INDEX('נתוני דוחות 2014'!$DW$10:$DY$263,MATCH('תשלומי ארנונה של המדינה'!C5,'נתוני דוחות 2014'!$DW$10:$DW$263,0),3)) -> 0.2642476 | Y5: =INDEX('נתוני דוחות 2014'!$DW$10:$DY$263,MATCH('תשלומי ארנונה של המדינה'!C5,'נתוני דוחות 2014'!$DW$10:$DW$263,0),2)/(INDEX('נתוני דוחות 2014'!$DW$10:$DY$263,MATCH('תשלומי ארנונה של המדינה'!C5,'נתוני דוחות 2014'!$DW$10:$DW$263,0),2)+INDEX('נתוני דוחות 2014'!$DW$10:$DY$263,MATCH('תשלומי ארנונה של המדינה'!C5,'נתוני דוחות 2014'!$DW$10:$DW$263,0),3)-H5/1000) -> 0.26762127 | Z5: =INDEX('נתוני דוחות 2014'!$DW$10:$DY$263,MATCH('תשלומי ארנונה של המדינה'!C5,'נתוני דוחות 2014'!$DW$10:$DW$263,0),2)/(INDEX('נתוני דוחות 2014'!$DW$10:$DY$263,MATCH('תשלומי ארנונה של המדינה'!C5,'נתוני דוחות 2014'!$DW$10:$DW$263,0),2)+INDEX('נתוני דוחות 2014'!$DW$10:$DY$263,MATCH('תשלומי ארנונה של המדינה'!C5,'נתוני דוחות 2014'!$DW$10:$DW$263,0),3)-N5/1000) -> 0.27252723 | AA5: =Z5-X5 -> 0.0082796352 | AB5: =N5/T5 -> 0.041292351 | AC5: =N5/S5 -> 0.023778887 | AD5: =N5/R5 -> 0.020176458 | AE5: =INDEX(רשויות!$AC$4:$AL$258,MATCH($C5,רשויות!$AC$4:$AC$258,0),10) -> 8 | AF5: =IF(INDEX(רשויות!$AN$4:$AR$258,MATCH($C5,רשויות!$AO$4:$AO$258,0),4)>0,"נתמכת","עצמאית") -> עצמאית | AG5: בשנת 2012 ניתן למשרד הבטחון פטור בהיקף של 82 מיליון שקלים (לפי דיווחי עיריית ת"א) | AN5: אום אל-פחם | AO5: 50600 | AQ5: אלונה | AR5: 2.2 | AT5: "-5%" | AU5: =COUNTIFS($AA$3:$AA$172,"<5%",$AB$3:$AB$172,"<2%",$AB$3:$AB$172,">0") -> 75 | AV5: =COUNTIFS($AA$3:$AA$172,"<5%",$AB$3:$AB$172,">2%",$AB$3:$AB$172,"<5%") -> 20 | AW5: =COUNTIFS($AA$3:$AA$172,"<5%",$AB$3:$AB$172,">5%") -> 41 | AY5: "-5%" | AZ5: =SUMIFS($N$3:$N$172,$AA$3:$AA$172,"<5%",$AB$3:$AB$172,"<=2%",$AB$3:$AB$172,">0") -> 38216735 | BA5: =SUMIFS($N$3:$N$172,$AA$3:$AA$172,"<5%",$AB$3:$AB$172,">2%",$AB$3:$AB$172,"<5%") -> 1.347213e+08 | BB5: =SUMIFS($N$3:$N$172,$AA$3:$AA$172,"<5%",$AB$3:$AB$172,">5%") -> 3.8691642e+08 | BD5: =SUBTOTAL(9,AZ5:BB6) -> 9.128168e+08
A6: עיר עולים | B6: מועצה אזורית רמת נגב | C6: רמת נגב | D6: =VLOOKUP(C6,גודל_אוכלוסיה,2,FALSE) -> 5900 | E6: =IF(LEFT(B6,3)="עיר","עירייה",IF(LEFT(B6,7)="מועצה א","מועצה אזורית","מועצה מקומית")) -> מועצה אזורית | F6: =INDEX(רשות_מחוז,MATCH(TRIM(C6),רשויות!$G$3:$G$260,0),2) -> דרום | G6: 37905335 | H6: =G6*(1+3.36%) -> 39178955 | I6: =J6-H6 -> 0 | J6: =IF(OR(A6="עיר עולים",A6="בירה"),H6,H6/0.3) -> 39178955 | K6: =INDEX(מילמן,MATCH(C6,'המידע ממילמן'!$A$1:$A$145,0),2) -> 6893652.6 | L6: =M6-K6 -> 0 | M6: =IF(OR(A6="עיר עולים",A6="בירה"),K6,K6/0.55) -> 6893652.6 | N6: =K6+H6 -> 46072607 | O6: =SUM(N$3:$N6)/SUM($N$3:$N$167) -> 0.42282894 | P6: =N6/D6 -> 7808.9165 | Q6: =M6+J6 -> 46072607 | R6: =INDEX(הכנסות_מבוקר,MATCH(C6,'נתוני דוחות 2014'!$C$10:$C$263,0),11)*1000 -> 102178000 | S6: =INDEX(הכנסות_מבוקר,MATCH(C6,'נתוני דוחות 2014'!$C$10:$C$263,0),6)*1000 -> 85782000 | T6: =INDEX(ארנונה_מבוקר,MATCH(C6,'נתוני דוחות 2014'!$C$10:$C$263,0),7)*1000 -> 56480700 | U6: =H6/T6 -> 0.69366978 | V6: =H6/S6 -> 0.45672699 | W6: =H6/R6 -> 0.38343826 | X6: =INDEX('נתוני דוחות 2014'!$DW$10:$DY$263,MATCH('תשלומי ארנונה של המדינה'!C6,'נתוני דוחות 2014'!$DW$10:$DW$263,0),2)/(INDEX('נתוני דוחות 2014'!$DW$10:$DY$263,MATCH('תשלומי ארנונה של המדינה'!C6,'נתוני דוחות 2014'!$DW$10:$DW$263,0),2)+INDEX('נתוני דוחות 2014'!$DW$10:$DY$263,MATCH('תשלומי ארנונה של המדינה'!C6,'נתוני דוחות 2014'!$DW$10:$DW$263,0),3)) -> 0.12816496 | Y6: =INDEX('נתוני דוחות 2014'!$DW$10:$DY$263,MATCH('תשלומי ארנונה של המדינה'!C6,'נתוני דוחות 2014'!$DW$10:$DW$263,0),2)/(INDEX('נתוני דוחות 2014'!$DW$10:$DY$263,MATCH('תשלומי ארנונה של המדינה'!C6,'נתוני דוחות 2014'!$DW$10:$DW$263,0),2)+INDEX('נתוני דוחות 2014'!$DW$10:$DY$263,MATCH('תשלומי ארנונה של המדינה'!C6,'נתוני דוחות 2014'!$DW$10:$DW$263,0),3)-H6/1000) -> 0.32427583 | Z6: =INDEX('נתוני דוחות 2014'!$DW$10:$DY$263,MATCH('תשלומי ארנונה של המדינה'!C6,'נתוני דוחות 2014'!$DW$10:$DW$263,0),2)/(INDEX('נתוני דוחות 2014'!$DW$10:$DY$263,MATCH('תשלומי ארנונה של המדינה'!C6,'נתוני דוחות 2014'!$DW$10:$DW$263,0),2)+INDEX('נתוני דוחות 2014'!$DW$10:$DY$263,MATCH('תשלומי ארנונה של המדינה'!C6,'נתוני דוחות 2014'!$DW$10:$DW$263,0),3)-N6/1000) -> 0.44374747 | AA6: =Z6-X6 -> 0.31558251 | AB6: =N6/T6 -> 0.81572302 | AC6: =N6/S6 -> 0.53708945 | AD6: =N6/R6 -> 0.45090535 | AE6: =INDEX(רשויות!$AC$4:$AL$258,MATCH($C6,רשויות!$AC$4:$AC$258,0),10) -> 5 | AF6: =IF(INDEX(רשויות!$AN$4:$AR$258,MATCH($C6,רשויות!$AO$4:$AO$258,0),4)>0,"נתמכת","עצמאית") -> עצמאית | AN6: אופקים | AO6: 25100 | AQ6: אשכול | AR6: 12 | AT6: "+5%" | AU6: =COUNTIFS($AA$3:$AA$172,">5%",$AB$3:$AB$172,"<2%",$AB$3:$AB$172,">0") -> 0 | AV6: =COUNTIFS($AA$3:$AA$172,">5%",$AB$3:$AB$172,">2%",$AB$3:$AB$172,"<5%") -> 0 | AW6: =COUNTIFS($AA$3:$AA$172,">5%",$AB$3:$AB$172,">5%") -> 22 | AY6: "+5%" | AZ6: =SUMIFS($N$3:$N$172,$AA$3:$AA$172,">5%",$AB$3:$AB$172,"<2%",$AB$3:$AB$172,">0") -> 0 | BA6: =SUMIFS($N$3:$N$172,$AA$3:$AA$172,">5%",$AB$3:$AB$172,">2%",$AB$3:$AB$172,"<5%") -> 0 | BB6: =SUMIFS($N$3:$N$172,$AA$3:$AA$172,">5%",$AB$3:$AB$172,">5%") -> 3.5296235e+08
B7: עיריית חיפה | C7: חיפה | D7: =VLOOKUP(C7,גודל_אוכלוסיה,2,FALSE) -> 273200 | E7: =IF(LEFT(B7,3)="עיר","עירייה",IF(LEFT(B7,7)="מועצה א","מועצה אזורית","מועצה מקומית")) -> עירייה | F7: =INDEX(רשות_מחוז,MATCH(TRIM(C7),רשויות!$G$3:$G$260,0),2) -> חיפה | G7: 15497594 | H7: =G7*(1+3.36%) -> 16018313 | I7: =J7-H7 -> 37376065 | J7: =IF(OR(A7="עיר עולים",A7="בירה"),H7,H7/0.3) -> 53394378 | K7: =INDEX(מילמן,MATCH(C7,'המידע ממילמן'!$A$1:$A$145,0),2) -> 26574274 | L7: =M7-K7 -> 21742588 | M7: =IF(OR(A7="עיר עולים",A7="בירה"),K7,K7/0.55) -> 48316862 | N7: =K7+H7 -> 42592588 | O7: =SUM(N$3:$N7)/SUM($N$3:$N$167) -> 0.46946305 | P7: =N7/D7 -> 155.90259 | Q7: =M7+J7 -> 1.0171124e+08 | R7: =INDEX(הכנסות_מבוקר,MATCH(C7,'נתוני דוחות 2014'!$C$10:$C$263,0),11)*1000 -> 2444999000 | S7: =INDEX(הכנסות_מבוקר,MATCH(C7,'נתוני דוחות 2014'!$C$10:$C$263,0),6)*1000 -> 1533376000 | T7: =INDEX(ארנונה_מבוקר,MATCH(C7,'נתוני דוחות 2014'!$C$10:$C$263,0),7)*1000 -> 671065000 | U7: =H7/T7 -> 0.023869988 | V7: =H7/S7 -> 0.010446435 | W7: =H7/R7 -> 0.0065514601 | X7: =INDEX('נתוני דוחות 2014'!$DW$10:$DY$263,MATCH('תשלומי ארנונה של המדינה'!C7,'נתוני דוחות 2014'!$DW$10:$DW$263,0),2)/(INDEX('נתוני דוחות 2014'!$DW$10:$DY$263,MATCH('תשלומי ארנונה של המדינה'!C7,'נתוני דוחות 2014'!$DW$10:$DW$263,0),2)+INDEX('נתוני דוחות 2014'!$DW$10:$DY$263,MATCH('תשלומי ארנונה של המדינה'!C7,'נתוני דוחות 2014'!$DW$10:$DW$263,0),3)) -> 0.39865926 | Y7: =INDEX('נתוני דוחות 2014'!$DW$10:$DY$263,MATCH('תשלומי ארנונה של המדינה'!C7,'נתוני דוחות 2014'!$DW$10:$DW$263,0),2)/(INDEX('נתוני דוחות 2014'!$DW$10:$DY$263,MATCH('תשלומי ארנונה של המדינה'!C7,'נתוני דוחות 2014'!$DW$10:$DW$263,0),2)+INDEX('נתוני דוחות 2014'!$DW$10:$DY$263,MATCH('תשלומי ארנונה של המדינה'!C7,'נתוני דוחות 2014'!$DW$10:$DW$263,0),3)-H7/1000) -> 0.40446494 | Z7: =INDEX('נתוני דוחות 2014'!$DW$10:$DY$263,MATCH('תשלומי ארנונה של המדינה'!C7,'נתוני דוחות 2014'!$DW$10:$DW$263,0),2)/(INDEX('נתוני דוחות 2014'!$DW$10:$DY$263,MATCH('תשלומי ארנונה של המדינה'!C7,'נתוני דוחות 2014'!$DW$10:$DW$263,0),2)+INDEX('נתוני דוחות 2014'!$DW$10:$DY$263,MATCH('תשלומי ארנונה של המדינה'!C7,'נתוני דוחות 2014'!$DW$10:$DW$263,0),3)-N7/1000) -> 0.41447874 | AA7: =Z7-X7 -> 0.015819485 | AB7: =N7/T7 -> 0.063470137 | AC7: =N7/S7 -> 0.027777002 | AD7: =N7/R7 -> 0.017420288 | AE7: =INDEX(רשויות!$AC$4:$AL$258,MATCH($C7,רשויות!$AC$4:$AC$258,0),10) -> 7 | AF7: =IF(INDEX(רשויות!$AN$4:$AR$258,MATCH($C7,רשויות!$AO$4:$AO$258,0),4)>0,"נתמכת","עצמאית") -> עצמאית | AN7: אור יהודה | AO7: 35500 | AQ7: באר טוביה | AR7: 21.4 | AW7: =SUM(AU3:AW6) -> 316 | BB7: =SUM(AZ4:BB6) -> 1.234475e+09
A8: עיר עולים | B8: מועצה אזורית חבל איילות | C8: חבל אילות | D8: =VLOOKUP(C8,גודל_אוכלוסיה,2,FALSE) -> 3500 | E8: =IF(LEFT(B8,3)="עיר","עירייה",IF(LEFT(B8,7)="מועצה א","מועצה אזורית","מועצה מקומית")) -> מועצה אזורית | F8: =INDEX(רשות_מחוז,MATCH(TRIM(C8),רשויות!$G$3:$G$260,0),2) -> דרום | G8: 26009146 | H8: =G8*(1+3.36%) -> 26883054 | I8: =J8-H8 -> 0 | J8: =IF(OR(A8="עיר עולים",A8="בירה"),H8,H8/0.3) -> 26883054 | K8: =INDEX(מילמן,MATCH(C8,'המידע ממילמן'!$A$1:$A$145,0),2) -> 3047.96 | L8: =M8-K8 -> 0 | M8: =IF(OR(A8="עיר עולים",A8="בירה"),K8,K8/0.55) -> 3047.96 | N8: =K8+H8 -> 26886102 | O8: =SUM(N$3:$N8)/SUM($N$3:$N$167) -> 0.49890032 | P8: =N8/D8 -> 7681.7433 | Q8: =M8+J8 -> 26886102 | R8: =INDEX(הכנסות_מבוקר,MATCH(C8,'נתוני דוחות 2014'!$C$10:$C$263,0),11)*1000 -> 90107000 | S8: =INDEX(הכנסות_מבוקר,MATCH(C8,'נתוני דוחות 2014'!$C$10:$C$263,0),6)*1000 -> 64029000 | T8: =INDEX(ארנונה_מבוקר,MATCH(C8,'נתוני דוחות 2014'!$C$10:$C$263,0),7)*1000 -> 37624000 | U8: =H8/T8 -> 0.71451876 | V8: =H8/S8 -> 0.41985747 | W8: =H8/R8 -> 0.2983459 | X8: =INDEX('נתוני דוחות 2014'!$DW$10:$DY$263,MATCH('תשלומי ארנונה של המדינה'!C8,'נתוני דוחות 2014'!$DW$10:$DW$263,0),2)/(INDEX('נתוני דוחות 2014'!$DW$10:$DY$263,MATCH('תשלומי ארנונה של המדינה'!C8,'נתוני דוחות 2014'!$DW$10:$DW$263,0),2)+INDEX('נתוני דוחות 2014'!$DW$10:$DY$263,MATCH('תשלומי ארנונה של המדינה'!C8,'נתוני דוחות 2014'!$DW$10:$DW$263,0),3)) -> 0.23719157 | Y8: =INDEX('נתוני דוחות 2014'!$DW$10:$DY$263,MATCH('תשלומי ארנונה של המדינה'!C8,'נתוני דוחות 2014'!$DW$10:$DW$263,0),2)/(INDEX('נתוני דוחות 2014'!$DW$10:$DY$263,MATCH('תשלומי ארנונה של המדינה'!C8,'נתוני דוחות 2014'!$DW$10:$DW$263,0),2)+INDEX('נתוני דוחות 2014'!$DW$10:$DY$263,MATCH('תשלומי ארנונה של המדינה'!C8,'נתוני דוחות 2014'!$DW$10:$DW$263,0),3)-H8/1000) -> 0.52134706 | Z8: =INDEX('נתוני דוחות 2014'!$DW$10:$DY$263,MATCH('תשלומי ארנונה של המדינה'!C8,'נתוני דוחות 2014'!$DW$10:$DW$263,0),2)/(INDEX('נתוני דוחות 2014'!$DW$10:$DY$263,MATCH('תשלומי ארנונה של המדינה'!C8,'נתוני דוחות 2014'!$DW$10:$DW$263,0),2)+INDEX('נתוני דוחות 2014'!$DW$10:$DY$263,MATCH('תשלומי ארנונה של המדינה'!C8,'נתוני דוחות 2014'!$DW$10:$DW$263,0),3)-N8/1000) -> 0.52141788 | AA8: =Z8-X8 -> 0.28422631 | AB8: =N8/T8 -> 0.71459977 | AC8: =N8/S8 -> 0.41990507 | AD8: =N8/R8 -> 0.29837972 | AE8: =INDEX(רשויות!$AC$4:$AL$258,MATCH($C8,רשויות!$AC$4:$AC$258,0),10) -> 5 | AF8: =IF(INDEX(רשויות!$AN$4:$AR$258,MATCH($C8,רשויות!$AO$4:$AO$258,0),4)>0,"נתמכת","עצמאית") -> עצמאית | AN8: אור עקיבא | AO8: 16600 | AQ8: בוסתן אל-מרג' | AR8: 7.2
B9: עיריית ראשון לציון | C9: ראשון לציון | D9: =VLOOKUP(C9,גודל_אוכלוסיה,2,FALSE) -> 237600 | E9: =IF(LEFT(B9,3)="עיר","עירייה",IF(LEFT(B9,7)="מועצה א","מועצה אזורית","מועצה מקומית")) -> עירייה | F9: =INDEX(רשות_מחוז,MATCH(TRIM(C9),רשויות!$G$3:$G$260,0),2) -> מרכז | G9: 9959306.6 | H9: =G9*(1+3.36%) -> 10293939 | I9: =J9-H9 -> 24019192 | J9: =IF(OR(A9="עיר עולים",A9="בירה"),H9,H9/0.3) -> 34313131 | K9: =INDEX(מילמן,MATCH(C9,'המידע ממילמן'!$A$1:$A$145,0),2) -> 13974932 | L9: =M9-K9 -> 11434035 | M9: =IF(OR(A9="עיר עולים",A9="בירה"),K9,K9/0.55) -> 25408967 | N9: =K9+H9 -> 24268871 | O9: =SUM(N$3:$N9)/SUM($N$3:$N$167) -> 0.52547202 | P9: =N9/D9 -> 102.14171 | Q9: =M9+J9 -> 59722098 | R9: =INDEX(הכנסות_מבוקר,MATCH(C9,'נתוני דוחות 2014'!$C$10:$C$263,0),11)*1000 -> 1522437000 | S9: =INDEX(הכנסות_מבוקר,MATCH(C9,'נתוני דוחות 2014'!$C$10:$C$263,0),6)*1000 -> 1081193000 | T9: =INDEX(ארנונה_מבוקר,MATCH(C9,'נתוני דוחות 2014'!$C$10:$C$263,0),7)*1000 -> 421683000 | U9: =H9/T9 -> 0.024411559 | V9: =H9/S9 -> 0.0095209082 | W9: =H9/R9 -> 0.0067614879 | X9: =INDEX('נתוני דוחות 2014'!$DW$10:$DY$263,MATCH('תשלומי ארנונה של המדינה'!C9,'נתוני דוחות 2014'!$DW$10:$DW$263,0),2)/(INDEX('נתוני דוחות 2014'!$DW$10:$DY$263,MATCH('תשלומי ארנונה של המדינה'!C9,'נתוני דוחות 2014'!$DW$10:$DW$263,0),2)+INDEX('נתוני דוחות 2014'!$DW$10:$DY$263,MATCH('תשלומי ארנונה של המדינה'!C9,'נתוני דוחות 2014'!$DW$10:$DW$263,0),3)) -> 0.46151056 | Y9: =INDEX('נתוני דוחות 2014'!$DW$10:$DY$263,MATCH('תשלומי ארנונה של המדינה'!C9,'נתוני דוחות 2014'!$DW$10:$DW$263,0),2)/(INDEX('נתוני דוחות 2014'!$DW$10:$DY$263,MATCH('תשלומי ארנונה של המדינה'!C9,'נתוני דוחות 2014'!$DW$10:$DW$263,0),2)+INDEX('נתוני דוחות 2014'!$DW$10:$DY$263,MATCH('תשלומי ארנונה של המדינה'!C9,'נתוני דוחות 2014'!$DW$10:$DW$263,0),3)-H9/1000) -> 0.4676581 | Z9: =INDEX('נתוני דוחות 2014'!$DW$10:$DY$263,MATCH('תשלומי ארנונה של המדינה'!C9,'נתוני דוחות 2014'!$DW$10:$DW$263,0),2)/(INDEX('נתוני דוחות 2014'!$DW$10:$DY$263,MATCH('תשלומי ארנונה של המדינה'!C9,'נתוני דוחות 2014'!$DW$10:$DW$263,0),2)+INDEX('נתוני דוחות 2014'!$DW$10:$DY$263,MATCH('תשלומי ארנונה של המדינה'!C9,'נתוני דוחות 2014'!$DW$10:$DW$263,0),3)-N9/1000) -> 0.47627085 | AA9: =Z9-X9 -> 0.014760283 | AB9: =N9/T9 -> 0.057552406 | AC9: =N9/S9 -> 0.022446382 | AD9: =N9/R9 -> 0.015940805 | AE9: =INDEX(רשויות!$AC$4:$AL$258,MATCH($C9,רשויות!$AC$4:$AC$258,0),10) -> 6 | AF9: =IF(INDEX(רשויות!$AN$4:$AR$258,MATCH($C9,רשויות!$AO$4:$AO$258,0),4)>0,"נתמכת","עצמאית") -> עצמאית | AN9: אורנית | AO9: 7600 | AQ9: בני שמעון | AR9: 8 | AT9: עצמאית | AU9: 2%> | AV9: 2%-5% | AW9: 5%< | AY9: עצמאית | AZ9: 2%> | BA9: 2%-5% | BB9: 5%<
A10: עיר עולים | B10: מועצה אזורית מרחבים | C10: מרחבים | D10: =VLOOKUP(C10,גודל_אוכלוסיה,2,FALSE) -> 11900 | E10: =IF(LEFT(B10,3)="עיר","עירייה",IF(LEFT(B10,7)="מועצה א","מועצה אזורית","מועצה מקומית")) -> מועצה אזורית | F10: =INDEX(רשות_מחוז,MATCH(TRIM(C10),רשויות!$G$3:$G$260,0),2) -> דרום | G10: 20258208 | H10: =G10*(1+3.36%) -> 20938884 | I10: =J10-H10 -> 0 | J10: =IF(OR(A10="עיר עולים",A10="בירה"),H10,H10/0.3) -> 20938884 | K10: =INDEX(מילמן,MATCH(C10,'המידע ממילמן'!$A$1:$A$145,0),2) -> 0 | L10: =M10-K10 -> 0 | M10: =IF(OR(A10="עיר עולים",A10="בירה"),K10,K10/0.55) -> 0 | N10: =K10+H10 -> 20938884 | O10: =SUM(N$3:$N10)/SUM($N$3:$N$167) -> 0.54839775 | P10: =N10/D10 -> 1759.5701 | Q10: =M10+J10 -> 20938884 | R10: =INDEX(הכנסות_מבוקר,MATCH(C10,'נתוני דוחות 2014'!$C$10:$C$263,0),11)*1000 -> 110129000 | S10: =INDEX(הכנסות_מבוקר,MATCH(C10,'נתוני דוחות 2014'!$C$10:$C$263,0),6)*1000 -> 55974000 | T10: =INDEX(ארנונה_מבוקר,MATCH(C10,'נתוני דוחות 2014'!$C$10:$C$263,0),7)*1000 -> 34461000 | U10: =H10/T10 -> 0.60761103 | V10: =H10/S10 -> 0.37408232 | W10: =H10/R10 -> 0.19013052 | X10: =INDEX('נתוני דוחות 2014'!$DW$10:$DY$263,MATCH('תשלומי ארנונה של המדינה'!C10,'נתוני דוחות 2014'!$DW$10:$DW$263,0),2)/(INDEX('נתוני דוחות 2014'!$DW$10:$DY$263,MATCH('תשלומי ארנונה של המדינה'!C10,'נתוני דוחות 2014'!$DW$10:$DW$263,0),2)+INDEX('נתוני דוחות 2014'!$DW$10:$DY$263,MATCH('תשלומי ארנונה של המדינה'!C10,'נתוני דוחות 2014'!$DW$10:$DW$263,0),3)) -> 0.24052893 | Y10: =INDEX('נתוני דוחות 2014'!$DW$10:$DY$263,MATCH('תשלומי ארנונה של המדינה'!C10,'נתוני דוחות 2014'!$DW$10:$DW$263,0),2)/(INDEX('נתוני דוחות 2014'!$DW$10:$DY$263,MATCH('תשלומי ארנונה של המדינה'!C10,'נתוני דוחות 2014'!$DW$10:$DW$263,0),2)+INDEX('נתוני דוחות 2014'!$DW$10:$DY$263,MATCH('תשלומי ארנונה של המדינה'!C10,'נתוני דוחות 2014'!$DW$10:$DW$263,0),3)-H10/1000) -> 0.44663398 | Z10: =INDEX('נתוני דוחות 2014'!$DW$10:$DY$263,MATCH('תשלומי ארנונה של המדינה'!C10,'נתוני דוחות 2014'!$DW$10:$DW$263,0),2)/(INDEX('נתוני דוחות 2014'!$DW$10:$DY$263,MATCH('תשלומי ארנונה של המדינה'!C10,'נתוני דוחות 2014'!$DW$10:$DW$263,0),2)+INDEX('נתוני דוחות 2014'!$DW$10:$DY$263,MATCH('תשלומי ארנונה של המדינה'!C10,'נתוני דוחות 2014'!$DW$10:$DW$263,0),3)-N10/1000) -> 0.44663398 | AA10: =Z10-X10 -> 0.20610506 | AB10: =N10/T10 -> 0.60761103 | AC10: =N10/S10 -> 0.37408232 | AD10: =N10/R10 -> 0.19013052 | AE10: =INDEX(רשויות!$AC$4:$AL$258,MATCH($C10,רשויות!$AC$4:$AC$258,0),10) -> 5 | AF10: =IF(INDEX(רשויות!$AN$4:$AR$258,MATCH($C10,רשויות!$AO$4:$AO$258,0),4)>0,"נתמכת","עצמאית") -> נתמכת | AN10: אזור | AO10: 11800 | AQ10: ברנר | AR10: 7.3 | AT10: "<50%" | AU10: =COUNTIFS($Z$3:$Z$172,"<50%",$AB$3:$AB$172,"<2%",$AB$3:$AB$172,">0",$AF$3:$AF$172,"עצמאית") -> 11 | AV10: =COUNTIFS($Z$3:$Z$172,"<50%",$AB$3:$AB$172,">2%",$AB$3:$AB$172,"<5%",$AF$3:$AF$172,"עצמאית") -> 5 | AW10: =COUNTIFS($Z$3:$Z$172,"<50%",$AB$3:$AB$172,">5%",$AF$3:$AF$172,"עצמאית") -> 15 | AY10: "<50%" | AZ10: =SUMIFS($N$3:$N$172,$Z$3:$Z$172,"<50%",$AB$3:$AB$172,"<2%",$AB$3:$AB$172,">0",$AF$3:$AF$172,"עצמאית") -> 23165528 | BA10: =SUMIFS($N$3:$N$172,$Z$3:$Z$172,"<50%",$AB$3:$AB$172,">2%",$AB$3:$AB$172,"<5%",$AF$3:$AF$172,"עצמאית") -> 1.1600202e+08 | BB10: =SUMIFS($N$3:$N$172,$Z$3:$Z$172,"<50%",$AB$3:$AB$172,">5%",$AF$3:$AF$172,"עצמאית") -> 3.0628069e+08
A11: עיר עולים | B11: עיריית רמת השרון | C11: רמת השרון | D11: =VLOOKUP(C11,גודל_אוכלוסיה,2,FALSE) -> 43800 | E11: =IF(LEFT(B11,3)="עיר","עירייה",IF(LEFT(B11,7)="מועצה א","מועצה אזורית","מועצה מקומית")) -> עירייה | F11: =INDEX(רשות_מחוז,MATCH(TRIM(C11),רשויות!$G$3:$G$260,0),2) -> תל אביב | G11: 16522206 | H11: =G11*(1+3.36%) -> 17077352 | I11: =J11-H11 -> 0 | J11: =IF(OR(A11="עיר עולים",A11="בירה"),H11,H11/0.3) -> 17077352 | K11: =INDEX(מילמן,MATCH(C11,'המידע ממילמן'!$A$1:$A$145,0),2) -> 335215.2 | L11: =M11-K11 -> 0 | M11: =IF(OR(A11="עיר עולים",A11="בירה"),K11,K11/0.55) -> 335215.2 | N11: =K11+H11 -> 17412567 | O11: =SUM(N$3:$N11)/SUM($N$3:$N$167) -> 0.56746256 | P11: =N11/D11 -> 397.5472 | Q11: =M11+J11 -> 17412567 | R11: =INDEX(הכנסות_מבוקר,MATCH(C11,'נתוני דוחות 2014'!$C$10:$C$263,0),11)*1000 -> 370866000 | S11: =INDEX(הכנסות_מבוקר,MATCH(C11,'נתוני דוחות 2014'!$C$10:$C$263,0),6)*1000 -> 288247000 | T11: =INDEX(ארנונה_מבוקר,MATCH(C11,'נתוני דוחות 2014'!$C$10:$C$263,0),7)*1000 -> 106183900 | U11: =H11/T11 -> 0.16082807 | V11: =H11/S11 -> 0.05924555 | W11: =H11/R11 -> 0.04604723 | X11: =INDEX('נתוני דוחות 2014'!$DW$10:$DY$263,MATCH('תשלומי ארנונה של המדינה'!C11,'נתוני דוחות 2014'!$DW$10:$DW$263,0),2)/(INDEX('נתוני דוחות 2014'!$DW$10:$DY$263,MATCH('תשלומי ארנונה של המדינה'!C11,'נתוני דוחות 2014'!$DW$10:$DW$263,0),2)+INDEX('נתוני דוחות 2014'!$DW$10:$DY$263,MATCH('תשלומי ארנונה של המדינה'!C11,'נתוני דוחות 2014'!$DW$10:$DW$263,0),3)) -> 0.51775363 | Y11: =INDEX('נתוני דוחות 2014'!$DW$10:$DY$263,MATCH('תשלומי ארנונה של המדינה'!C11,'נתוני דוחות 2014'!$DW$10:$DW$263,0),2)/(INDEX('נתוני דוחות 2014'!$DW$10:$DY$263,MATCH('תשלומי ארנונה של המדינה'!C11,'נתוני דוחות 2014'!$DW$10:$DW$263,0),2)+INDEX('נתוני דוחות 2014'!$DW$10:$DY$263,MATCH('תשלומי ארנונה של המדינה'!C11,'נתוני דוחות 2014'!$DW$10:$DW$263,0),3)-H11/1000) -> 0.56128629 | Z11: =INDEX('נתוני דוחות 2014'!$DW$10:$DY$263,MATCH('תשלומי ארנונה של המדינה'!C11,'נתוני דוחות 2014'!$DW$10:$DW$263,0),2)/(INDEX('נתוני דוחות 2014'!$DW$10:$DY$263,MATCH('תשלומי ארנונה של המדינה'!C11,'נתוני דוחות 2014'!$DW$10:$DW$263,0),2)+INDEX('נתוני דוחות 2014'!$DW$10:$DY$263,MATCH('תשלומי ארנונה של המדינה'!C11,'נתוני דוחות 2014'!$DW$10:$DW$263,0),3)-N11/1000) -> 0.56221418 | AA11: =Z11-X11 -> 0.044460558 | AB11: =N11/T11 -> 0.163985 | AC11: =N11/S11 -> 0.060408494 | AD11: =N11/R11 -> 0.046951102 | AE11: =INDEX(רשויות!$AC$4:$AL$258,MATCH($C11,רשויות!$AC$4:$AC$258,0),10) -> 9 | AF11: =IF(INDEX(רשויות!$AN$4:$AR$258,MATCH($C11,רשויות!$AO$4:$AO$258,0),4)>0,"נתמכת","עצמאית") -> עצמאית | AN11: אילת | AO11: 48100 | AQ11: גדרות | AR11: 4.9 | AT11: ">50%" | AU11: =COUNTIFS($Z$3:$Z$172,">50%",$AB$3:$AB$172,"<2%",$AB$3:$AB$172,">0",$AF$3:$AF$172,"עצמאית") -> 9 | AV11: =COUNTIFS($Z$3:$Z$172,">50%",$AB$3:$AB$172,">2%",$AB$3:$AB$172,"<5%",$AF$3:$AF$172,"עצמאית") -> 2 | AW11: =COUNTIFS($Z$3:$Z$172,">50%",$AB$3:$AB$172,">5%",$AF$3:$AF$172,"עצמאית") -> 9 | AY11: ">50%" | AZ11: =SUMIFS($N$3:$N$172,$Z$3:$Z$172,">50%",$AB$3:$AB$172,"<2%",$AB$3:$AB$172,">0",$AF$3:$AF$172,"עצמאית") -> 5404145.2 | BA11: =SUMIFS($N$3:$N$172,$Z$3:$Z$172,">50%",$AB$3:$AB$172,">2%",$AB$3:$AB$172,"<5%",$AF$3:$AF$172,"עצמאית") -> 4276781.7 | BB11: =SUMIFS($N$3:$N$172,$Z$3:$Z$172,">50%",$AB$3:$AB$172,">5%",$AF$3:$AF$172,"עצמאית") -> 2.242646e+08 | BD11: =SUM(AZ10:BB11) -> 6.7939376e+08
A12: עיר עולים | B12: מועצה אזורית עמק יזרעאל - 100 | C12: עמק יזרעאל | D12: =VLOOKUP(C12,גודל_אוכלוסיה,2,FALSE) -> 35200 | E12: =IF(LEFT(B12,3)="עיר","עירייה",IF(LEFT(B12,7)="מועצה א","מועצה אזורית","מועצה מקומית")) -> מועצה אזורית | F12: =INDEX(רשות_מחוז,MATCH(TRIM(C12),רשויות!$G$3:$G$260,0),2) -> צפון | G12: 16525967 | H12: =G12*(1+3.36%) -> 17081239 | I12: =J12-H12 -> 0 | J12: =IF(OR(A12="עיר עולים",A12="בירה"),H12,H12/0.3) -> 17081239 | N12: =K12+H12 -> 17081239 | O12: =SUM(N$3:$N12)/SUM($N$3:$N$167) -> 0.5861646 | P12: =N12/D12 -> 485.26248 | Q12: =M12+J12 -> 17081239 | R12: =INDEX(הכנסות_מבוקר,MATCH(C12,'נתוני דוחות 2014'!$C$10:$C$263,0),11)*1000 -> 285521000 | S12: =INDEX(הכנסות_מבוקר,MATCH(C12,'נתוני דוחות 2014'!$C$10:$C$263,0),6)*1000 -> 184435000 | T12: =INDEX(ארנונה_מבוקר,MATCH(C12,'נתוני דוחות 2014'!$C$10:$C$263,0),7)*1000 -> 74534000 | U12: =H12/T12 -> 0.22917379 | V12: =H12/S12 -> 0.09261387 | W12: =H12/R12 -> 0.059824809 | X12: =INDEX('נתוני דוחות 2014'!$DW$10:$DY$263,MATCH('תשלומי ארנונה של המדינה'!C12,'נתוני דוחות 2014'!$DW$10:$DW$263,0),2)/(INDEX('נתוני דוחות 2014'!$DW$10:$DY$263,MATCH('תשלומי ארנונה של המדינה'!C12,'נתוני דוחות 2014'!$DW$10:$DW$263,0),2)+INDEX('נתוני דוחות 2014'!$DW$10:$DY$263,MATCH('תשלומי ארנונה של המדינה'!C12,'נתוני דוחות 2014'!$DW$10:$DW$263,0),3)) -> 0.36318586 | Y12: =INDEX('נתוני דוחות 2014'!$DW$10:$DY$263,MATCH('תשלומי ארנונה של המדינה'!C12,'נתוני דוחות 2014'!$DW$10:$DW$263,0),2)/(INDEX('נתוני דוחות 2014'!$DW$10:$DY$263,MATCH('תשלומי ארנונה של המדינה'!C12,'נתוני דוחות 2014'!$DW$10:$DW$263,0),2)+INDEX('נתוני דוחות 2014'!$DW$10:$DY$263,MATCH('תשלומי ארנונה של המדינה'!C12,'נתוני דוחות 2014'!$DW$10:$DW$263,0),3)-H12/1000) -> 0.42524686 | Z12: =INDEX('נתוני דוחות 2014'!$DW$10:$DY$263,MATCH('תשלומי ארנונה של המדינה'!C12,'נתוני דוחות 2014'!$DW$10:$DW$263,0),2)/(INDEX('נתוני דוחות 2014'!$DW$10:$DY$263,MATCH('תשלומי ארנונה של המדינה'!C12,'נתוני דוחות 2014'!$DW$10:$DW$263,0),2)+INDEX('נתוני דוחות 2014'!$DW$10:$DY$263,MATCH('תשלומי ארנונה של המדינה'!C12,'נתוני דוחות 2014'!$DW$10:$DW$263,0),3)-N12/1000) -> 0.42524686 | AA12: =Z12-X12 -> 0.062060999 | AB12: =N12/T12 -> 0.22917379 | AC12: =N12/S12 -> 0.09261387 | AD12: =N12/R12 -> 0.059824809 | AE12: =INDEX(רשויות!$AC$4:$AL$258,MATCH($C12,רשויות!$AC$4:$AC$258,0),10) -> 7 | AF12: =IF(INDEX(רשויות!$AN$4:$AR$258,MATCH($C12,רשויות!$AO$4:$AO$258,0),4)>0,"נתמכת","עצמאית") -> עצמאית | AG12: שר הפנים קבע כי מועצה אזורית קישון תוגדר עיר עולים, אך היא מוזגה עם מועצה אזורית עמק יזרעאל. לפיכך, על הנכסים שבתחום השיפוט של מה שהיה בעבר מועצה אזורית קישון המדינה משלמת 111% ארנונה מערך הנכס, ובשאר היישובים שנמצאים בתחום השיפוט של המועצה האזורית עמק יזרעאל המדינה משלמת ארנונה בשיעור מופחת | AN12: אכסאל | AO12: 13100 | AQ12: גולן | AR12: 14 | AT12: "-5%" | AU12: =COUNTIFS($AA$3:$AA$172,"<5%",$AB$3:$AB$172,"<2%",$AB$3:$AB$172,">0",$AF$3:$AF$172,"עצמאית") -> 20 | AV12: =COUNTIFS($AA$3:$AA$172,"<5%",$AB$3:$AB$172,">2%",$AB$3:$AB$172,"<5%",$AF$3:$AF$172,"עצמאית") -> 7 | AW12: =COUNTIFS($AA$3:$AA$172,"<5%",$AB$3:$AB$172,">5%",$AF$3:$AF$172,"עצמאית") -> 17 | AY12: "-5%" | AZ12: =SUMIFS($N$3:$N$172,$AA$3:$AA$172,"<5%",$AB$3:$AB$172,"<2%",$AB$3:$AB$172,">0",$AF$3:$AF$172,"עצמאית") -> 28569673 | BA12: =SUMIFS($N$3:$N$172,$AA$3:$AA$172,"<5%",$AB$3:$AB$172,">2%",$AB$3:$AB$172,"<5%",$AF$3:$AF$172,"עצמאית") -> 1.202788e+08 | BB12: =SUMIFS($N$3:$N$172,$AA$3:$AA$172,"<5%",$AB$3:$AB$172,">5%",$AF$3:$AF$172,"עצמאית") -> 2.9866774e+08
A13: עיר עולים | B13: מועצה אזורית ברנר | C13: ברנר | D13: =VLOOKUP(C13,גודל_אוכלוסיה,2,FALSE) -> 7300 | E13: =IF(LEFT(B13,3)="עיר","עירייה",IF(LEFT(B13,7)="מועצה א","מועצה אזורית","מועצה מקומית")) -> מועצה אזורית | F13: =INDEX(רשות_מחוז,MATCH(TRIM(C13),רשויות!$G$3:$G$260,0),2) -> מרכז | G13: 15753498 | H13: =G13*(1+3.36%) -> 16282816 | I13: =J13-H13 -> 0 | J13: =IF(OR(A13="עיר עולים",A13="בירה"),H13,H13/0.3) -> 16282816 | N13: =K13+H13 -> 16282816 | O13: =SUM(N$3:$N13)/SUM($N$3:$N$167) -> 0.60399246 | P13: =N13/D13 -> 2230.5227 | Q13: =M13+J13 -> 16282816 | R13: =INDEX(הכנסות_מבוקר,MATCH(C13,'נתוני דוחות 2014'!$C$10:$C$263,0),11)*1000 -> 95516000 | S13: =INDEX(הכנסות_מבוקר,MATCH(C13,'נתוני דוחות 2014'!$C$10:$C$263,0),6)*1000 -> 50086000 | T13: =INDEX(ארנונה_מבוקר,MATCH(C13,'נתוני דוחות 2014'!$C$10:$C$263,0),7)*1000 -> 25081000 | U13: =H13/T13 -> 0.64920919 | V13: =H13/S13 -> 0.32509715 | W13: =H13/R13 -> 0.17047213 | X13: =INDEX('נתוני דוחות 2014'!$DW$10:$DY$263,MATCH('תשלומי ארנונה של המדינה'!C13,'נתוני דוחות 2014'!$DW$10:$DW$263,0),2)/(INDEX('נתוני דוחות 2014'!$DW$10:$DY$263,MATCH('תשלומי ארנונה של המדינה'!C13,'נתוני דוחות 2014'!$DW$10:$DW$263,0),2)+INDEX('נתוני דוחות 2014'!$DW$10:$DY$263,MATCH('תשלומי ארנונה של המדינה'!C13,'נתוני דוחות 2014'!$DW$10:$DW$263,0),3)) -> 0.28360468 | Y13: =INDEX('נתוני דוחות 2014'!$DW$10:$DY$263,MATCH('תשלומי ארנונה של המדינה'!C13,'נתוני דוחות 2014'!$DW$10:$DW$263,0),2)/(INDEX('נתוני דוחות 2014'!$DW$10:$DY$263,MATCH('תשלומי ארנונה של המדינה'!C13,'נתוני דוחות 2014'!$DW$10:$DW$263,0),2)+INDEX('נתוני דוחות 2014'!$DW$10:$DY$263,MATCH('תשלומי ארנונה של המדינה'!C13,'נתוני דוחות 2014'!$DW$10:$DW$263,0),3)-H13/1000) -> 0.53019182 | Z13: =INDEX('נתוני דוחות 2014'!$DW$10:$DY$263,MATCH('תשלומי ארנונה של המדינה'!C13,'נתוני דוחות 2014'!$DW$10:$DW$263,0),2)/(INDEX('נתוני דוחות 2014'!$DW$10:$DY$263,MATCH('תשלומי ארנונה של המדינה'!C13,'נתוני דוחות 2014'!$DW$10:$DW$263,0),2)+INDEX('נתוני דוחות 2014'!$DW$10:$DY$263,MATCH('תשלומי ארנונה של המדינה'!C13,'נתוני דוחות 2014'!$DW$10:$DW$263,0),3)-N13/1000) -> 0.53019182 | AA13: =Z13-X13 -> 0.24658714 | AB13: =N13/T13 -> 0.64920919 | AC13: =N13/S13 -> 0.32509715 | AD13: =N13/R13 -> 0.17047213 | AE13: =INDEX(רשויות!$AC$4:$AL$258,MATCH($C13,רשויות!$AC$4:$AC$258,0),10) -> 8 | AF13: =IF(INDEX(רשויות!$AN$4:$AR$258,MATCH($C13,רשויות!$AO$4:$AO$258,0),4)>0,"נתמכת","עצמאית") -> עצמאית | AN13: אליכין | AO13: 3400 | AQ13: גוש עציון | AR13: 20.1 | AT13: "+5%" | AU13: =COUNTIFS($AA$3:$AA$172,">5%",$AB$3:$AB$172,"<2%",$AB$3:$AB$172,">0",$AF$3:$AF$172,"עצמאית") -> 0 | AV13: =COUNTIFS($AA$3:$AA$172,">5%",$AB$3:$AB$172,">2%",$AB$3:$AB$172,"<5%",$AF$3:$AF$172,"עצמאית") -> 0 | AW13: =COUNTIFS($AA$3:$AA$172,">5%",$AB$3:$AB$172,">5%",$AF$3:$AF$172,"עצמאית") -> 7 | AY13: "+5%" | AZ13: =SUMIFS($N$3:$N$172,$AA$3:$AA$172,">5%",$AB$3:$AB$172,"<2%",$AB$3:$AB$172,">0",$AF$3:$AF$172,"עצמאית") -> 0 | BA13: =SUMIFS($N$3:$N$172,$AA$3:$AA$172,">5%",$AB$3:$AB$172,">2%",$AB$3:$AB$172,"<5%",$AF$3:$AF$172,"עצמאית") -> 0 | BB13: =SUMIFS($N$3:$N$172,$AA$3:$AA$172,">5%",$AB$3:$AB$172,">5%",$AF$3:$AF$172,"עצמאית") -> 2.3187755e+08 | BD13: =SUM(AZ12:BB13) -> 6.7939376e+08
A14: עיר עולים | B14: עיריית טירת הכרמל | C14: טירת כרמל | D14: =VLOOKUP(C14,גודל_אוכלוסיה,2,FALSE) -> 18700 | E14: =IF(LEFT(B14,3)="עיר","עירייה",IF(LEFT(B14,7)="מועצה א","מועצה אזורית","מועצה מקומית")) -> עירייה | F14: =INDEX(רשות_מחוז,MATCH(TRIM(C14),רשויות!$G$3:$G$260,0),2) -> חיפה | G14: 12756979 | H14: =G14*(1+3.36%) -> 13185614 | I14: =J14-H14 -> 0 | J14: =IF(OR(A14="עיר עולים",A14="בירה"),H14,H14/0.3) -> 13185614 | K14: =INDEX(מילמן,MATCH(C14,'המידע ממילמן'!$A$1:$A$145,0),2) -> 2708564.4 | L14: =M14-K14 -> 0 | M14: =IF(OR(A14="עיר עולים",A14="בירה"),K14,K14/0.55) -> 2708564.4 | N14: =K14+H14 -> 15894178 | O14: =SUM(N$3:$N14)/SUM($N$3:$N$167) -> 0.6213948 | P14: =N14/D14 -> 849.95606 | Q14: =M14+J14 -> 15894178 | R14: =INDEX(הכנסות_מבוקר,MATCH(C14,'נתוני דוחות 2014'!$C$10:$C$263,0),11)*1000 -> 184995000 | S14: =INDEX(הכנסות_מבוקר,MATCH(C14,'נתוני דוחות 2014'!$C$10:$C$263,0),6)*1000 -> 117930000 | T14: =INDEX(ארנונה_מבוקר,MATCH(C14,'נתוני דוחות 2014'!$C$10:$C$263,0),7)*1000 -> 62845000 | U14: =H14/T14 -> 0.20981166 | V14: =H14/S14 -> 0.11180882 | W14: =H14/R14 -> 0.071275515 | X14: =INDEX('נתוני דוחות 2014'!$DW$10:$DY$263,MATCH('תשלומי ארנונה של המדינה'!C14,'נתוני דוחות 2014'!$DW$10:$DW$263,0),2)/(INDEX('נתוני דוחות 2014'!$DW$10:$DY$263,MATCH('תשלומי ארנונה של המדינה'!C14,'נתוני דוחות 2014'!$DW$10:$DW$263,0),2)+INDEX('נתוני דוחות 2014'!$DW$10:$DY$263,MATCH('תשלומי ארנונה של המדינה'!C14,'נתוני דוחות 2014'!$DW$10:$DW$263,0),3)) -> 0.16622443 | Y14: =INDEX('נתוני דוחות 2014'!$DW$10:$DY$263,MATCH('תשלומי ארנונה של המדינה'!C14,'נתוני דוחות 2014'!$DW$10:$DW$263,0),2)/(INDEX('נתוני דוחות 2014'!$DW$10:$DY$263,MATCH('תשלומי ארנונה של המדינה'!C14,'נתוני דוחות 2014'!$DW$10:$DW$263,0),2)+INDEX('נתוני דוחות 2014'!$DW$10:$DY$263,MATCH('תשלומי ארנונה של המדינה'!C14,'נתוני דוחות 2014'!$DW$10:$DW$263,0),3)-H14/1000) -> 0.20146849 | Z14: =INDEX('נתוני דוחות 2014'!$DW$10:$DY$263,MATCH('תשלומי ארנונה של המדינה'!C14,'נתוני דוחות 2014'!$DW$10:$DW$263,0),2)/(INDEX('נתוני דוחות 2014'!$DW$10:$DY$263,MATCH('תשלומי ארנונה של המדינה'!C14,'נתוני דוחות 2014'!$DW$10:$DW$263,0),2)+INDEX('נתוני דוחות 2014'!$DW$10:$DY$263,MATCH('תשלומי ארנונה של המדינה'!C14,'נתוני דוחות 2014'!$DW$10:$DW$263,0),3)-N14/1000) -> 0.21064286 | AA14: =Z14-X14 -> 0.044418436 | AB14: =N14/T14 -> 0.25291078 | AC14: =N14/S14 -> 0.13477638 | AD14: =N14/R14 -> 0.085916799 | AE14: =INDEX(רשויות!$AC$4:$AL$258,MATCH($C14,רשויות!$AC$4:$AC$258,0),10) -> 4 | AF14: =IF(INDEX(רשויות!$AN$4:$AR$258,MATCH($C14,רשויות!$AO$4:$AO$258,0),4)>0,"נתמכת","עצמאית") -> נתמכת | AN14: אלעד | AO14: 42600 | AQ14: גזר | AR14: 24.4 | AW14: =SUM(AU10:AW13) -> 102
A15: עיר עולים | B15: עיריית אילת | C15: אילת | D15: =VLOOKUP(C15,גודל_אוכלוסיה,2,FALSE) -> 48100 | E15: =IF(LEFT(B15,3)="עיר","עירייה",IF(LEFT(B15,7)="מועצה א","מועצה אזורית","מועצה מקומית")) -> עירייה | F15: =INDEX(רשות_מחוז,MATCH(TRIM(C15),רשויות!$G$3:$G$260,0),2) -> דרום | G15: 9664139.8 | H15: =G15*(1+3.36%) -> 9988854.9 | I15: =J15-H15 -> 0 | J15: =IF(OR(A15="עיר עולים",A15="בירה"),H15,H15/0.3) -> 9988854.9 | K15: =INDEX(מילמן,MATCH(C15,'המידע ממילמן'!$A$1:$A$145,0),2) -> 5599688.6 | L15: =M15-K15 -> 0 | M15: =IF(OR(A15="עיר עולים",A15="בירה"),K15,K15/0.55) -> 5599688.6 | N15: =K15+H15 -> 15588544 | O15: =SUM(N$3:$N15)/SUM($N$3:$N$167) -> 0.63846251 | P15: =N15/D15 -> 324.08614 | Q15: =M15+J15 -> 15588544 | R15: =INDEX(הכנסות_מבוקר,MATCH(C15,'נתוני דוחות 2014'!$C$10:$C$263,0),11)*1000 -> 507907000 | S15: =INDEX(הכנסות_מבוקר,MATCH(C15,'נתוני דוחות 2014'!$C$10:$C$263,0),6)*1000 -> 352280000 | T15: =INDEX(ארנונה_מבוקר,MATCH(C15,'נתוני דוחות 2014'!$C$10:$C$263,0),7)*1000 -> 200791000 | U15: =H15/T15 -> 0.049747523 | V15: =H15/S15 -> 0.028354874 | W15: =H15/R15 -> 0.019666701 | X15: =INDEX('נתוני דוחות 2014'!$DW$10:$DY$263,MATCH('תשלומי ארנונה של המדינה'!C15,'נתוני דוחות 2014'!$DW$10:$DW$263,0),2)/(INDEX('נתוני דוחות 2014'!$DW$10:$DY$263,MATCH('תשלומי ארנונה של המדינה'!C15,'נתוני דוחות 2014'!$DW$10:$DW$263,0),2)+INDEX('נתוני דוחות 2014'!$DW$10:$DY$263,MATCH('תשלומי ארנונה של המדינה'!C15,'נתוני דוחות 2014'!$DW$10:$DW$263,0),3)) -> 0.24670418 | Y15: =INDEX('נתוני דוחות 2014'!$DW$10:$DY$263,MATCH('תשלומי ארנונה של המדינה'!C15,'נתוני דוחות 2014'!$DW$10:$DW$263,0),2)/(INDEX('נתוני דוחות 2014'!$DW$10:$DY$263,MATCH('תשלומי ארנונה של המדינה'!C15,'נתוני דוחות 2014'!$DW$10:$DW$263,0),2)+INDEX('נתוני דוחות 2014'!$DW$10:$DY$263,MATCH('תשלומי ארנונה של המדינה'!C15,'נתוני דוחות 2014'!$DW$10:$DW$263,0),3)-H15/1000) -> 0.25630927 | Z15: =INDEX('נתוני דוחות 2014'!$DW$10:$DY$263,MATCH('תשלומי ארנונה של המדינה'!C15,'נתוני דוחות 2014'!$DW$10:$DW$263,0),2)/(INDEX('נתוני דוחות 2014'!$DW$10:$DY$263,MATCH('תשלומי ארנונה של המדינה'!C15,'נתוני דוחות 2014'!$DW$10:$DW$263,0),2)+INDEX('נתוני דוחות 2014'!$DW$10:$DY$263,MATCH('תשלומי ארנונה של המדינה'!C15,'נתוני דוחות 2014'!$DW$10:$DW$263,0),3)-N15/1000) -> 0.26202828 | AA15: =Z15-X15 -> 0.015324102 | AB15: =N15/T15 -> 0.077635669 | AC15: =N15/S15 -> 0.044250436 | AD15: =N15/R15 -> 0.030691728 | AE15: =INDEX(רשויות!$AC$4:$AL$258,MATCH($C15,רשויות!$AC$4:$AC$258,0),10) -> 5 | AF15: =IF(INDEX(רשויות!$AN$4:$AR$258,MATCH($C15,רשויות!$AO$4:$AO$258,0),4)>0,"נתמכת","עצמאית") -> עצמאית | AN15: אלפי מנשה | AO15: 7600 | AQ15: גן רווה | AR15: 5.3
B16: עיריית רמלה | C16: רמלה | D16: =VLOOKUP(C16,גודל_אוכלוסיה,2,FALSE) -> 69000 | E16: =IF(LEFT(B16,3)="עיר","עירייה",IF(LEFT(B16,7)="מועצה א","מועצה אזורית","מועצה מקומית")) -> עירייה | F16: =INDEX(רשות_מחוז,MATCH(TRIM(C16),רשויות!$G$3:$G$260,0),2) -> מרכז | G16: 414576.79 | H16: =G16*(1+3.36%) -> 428506.57 | I16: =J16-H16 -> 999848.66 | J16: =IF(OR(A16="עיר עולים",A16="בירה"),H16,H16/0.3) -> 1428355.2 | K16: =INDEX(מילמן,MATCH(C16,'המידע ממילמן'!$A$1:$A$145,0),2) -> 14508777 | L16: =M16-K16 -> 11870818 | M16: =IF(OR(A16="עיר עולים",A16="בירה"),K16,K16/0.55) -> 26379595 | N16: =K16+H16 -> 14937284 | O16: =SUM(N$3:$N16)/SUM($N$3:$N$167) -> 0.65481716 | P16: =N16/D16 -> 216.48238 | Q16: =M16+J16 -> 27807951 | R16: =INDEX(הכנסות_מבוקר,MATCH(C16,'נתוני דוחות 2014'!$C$10:$C$263,0),11)*1000 -> 429581000 | S16: =INDEX(הכנסות_מבוקר,MATCH(C16,'נתוני דוחות 2014'!$C$10:$C$263,0),6)*1000 -> 262499000 | T16: =INDEX(ארנונה_מבוקר,MATCH(C16,'נתוני דוחות 2014'!$C$10:$C$263,0),7)*1000 -> 116375000 | U16: =H16/T16 -> 0.0036821188 | V16: =H16/S16 -> 0.0016324122 | W16: =H16/R16 -> 0.00099749889 | X16: =INDEX('נתוני דוחות 2014'!$DW$10:$DY$263,MATCH('תשלומי ארנונה של המדינה'!C16,'נתוני דוחות 2014'!$DW$10:$DW$263,0),2)/(INDEX('נתוני דוחות 2014'!$DW$10:$DY$263,MATCH('תשלומי ארנונה של המדינה'!C16,'נתוני דוחות 2014'!$DW$10:$DW$263,0),2)+INDEX('נתוני דוחות 2014'!$DW$10:$DY$263,MATCH('תשלומי ארנונה של המדינה'!C16,'נתוני דוחות 2014'!$DW$10:$DW$263,0),3)) -> 0.32697368 | Y16: =INDEX('נתוני דוחות 2014'!$DW$10:$DY$263,MATCH('תשלומי ארנונה של המדינה'!C16,'נתוני דוחות 2014'!$DW$10:$DW$263,0),2)/(INDEX('נתוני דוחות 2014'!$DW$10:$DY$263,MATCH('תשלומי ארנונה של המדינה'!C16,'נתוני דוחות 2014'!$DW$10:$DW$263,0),2)+INDEX('נתוני דוחות 2014'!$DW$10:$DY$263,MATCH('תשלומי ארנונה של המדינה'!C16,'נתוני דוחות 2014'!$DW$10:$DW$263,0),3)-H16/1000) -> 0.32778599 | Z16: =INDEX('נתוני דוחות 2014'!$DW$10:$DY$263,MATCH('תשלומי ארנונה של המדינה'!C16,'נתוני דוחות 2014'!$DW$10:$DW$263,0),2)/(INDEX('נתוני דוחות 2014'!$DW$10:$DY$263,MATCH('תשלומי ארנונה של המדינה'!C16,'נתוני דוחות 2014'!$DW$10:$DW$263,0),2)+INDEX('נתוני דוחות 2014'!$DW$10:$DY$263,MATCH('תשלומי ארנונה של המדינה'!C16,'נתוני דוחות 2014'!$DW$10:$DW$263,0),3)-N16/1000) -> 0.35789045 | AA16: =Z16-X16 -> 0.030916769 | AB16: =N16/T16 -> 0.12835475 | AC16: =N16/S16 -> 0.056904156 | AD16: =N16/R16 -> 0.034771752 | AE16: =INDEX(רשויות!$AC$4:$AL$258,MATCH($C16,רשויות!$AC$4:$AC$258,0),10) -> 4 | AF16: =IF(INDEX(רשויות!$AN$4:$AR$258,MATCH($C16,רשויות!$AO$4:$AO$258,0),4)>0,"נתמכת","עצמאית") -> נתמכת | AN16: אלקנה | AO16: 3900 | AQ16: דרום השרון | AR16: 29.1 | BA16: =BA3+AZ5 -> 1.6762752e+08
A17: עיר עולים | B17: מועצה מקומית באר יעקב | C17: באר יעקב | D17: =VLOOKUP(C17,גודל_אוכלוסיה,2,FALSE) -> 17500 | E17: =IF(LEFT(B17,3)="עיר","עירייה",IF(LEFT(B17,7)="מועצה א","מועצה אזורית","מועצה מקומית")) -> מועצה מקומית | F17: =INDEX(רשות_מחוז,MATCH(TRIM(C17),רשויות!$G$3:$G$260,0),2) -> מרכז | G17: 12854702 | H17: =G17*(1+3.36%) -> 13286620 | I17: =J17-H17 -> 0 | J17: =IF(OR(A17="עיר עולים",A17="בירה"),H17,H17/0.3) -> 13286620 | K17: =INDEX(מילמן,MATCH(C17,'המידע ממילמן'!$A$1:$A$145,0),2) -> 1794022 | L17: =M17-K17 -> 0 | M17: =IF(OR(A17="עיר עולים",A17="בירה"),K17,K17/0.55) -> 1794022 | N17: =K17+H17 -> 15080642 | O17: =SUM(N$3:$N17)/SUM($N$3:$N$167) -> 0.67132878 | P17: =N17/D17 -> 861.75095 | Q17: =M17+J17 -> 15080642 | R17: =INDEX(הכנסות_מבוקר,MATCH(C17,'נתוני דוחות 2014'!$C$10:$C$263,0),11)*1000 -> 134762000 | S17: =INDEX(הכנסות_מבוקר,MATCH(C17,'נתוני דוחות 2014'!$C$10:$C$263,0),6)*1000 -> 106299000 | T17: =INDEX(ארנונה_מבוקר,MATCH(C17,'נתוני דוחות 2014'!$C$10:$C$263,0),7)*1000 -> 42867000 | U17: =H17/T17 -> 0.30994984 | V17: =H17/S17 -> 0.12499289 | W17: =H17/R17 -> 0.098593221 | X17: =INDEX('נתוני דוחות 2014'!$DW$10:$DY$263,MATCH('תשלומי ארנונה של המדינה'!C17,'נתוני דוחות 2014'!$DW$10:$DW$263,0),2)/(INDEX('נתוני דוחות 2014'!$DW$10:$DY$263,MATCH('תשלומי ארנונה של המדינה'!C17,'נתוני דוחות 2014'!$DW$10:$DW$263,0),2)+INDEX('נתוני דוחות 2014'!$DW$10:$DY$263,MATCH('תשלומי ארנונה של המדינה'!C17,'נתוני דוחות 2014'!$DW$10:$DW$263,0),3)) -> 0.31628308 | Y17: =INDEX('נתוני דוחות 2014'!$DW$10:$DY$263,MATCH('תשלומי ארנונה של המדינה'!C17,'נתוני דוחות 2014'!$DW$10:$DW$263,0),2)/(INDEX('נתוני דוחות 2014'!$DW$10:$DY$263,MATCH('תשלומי ארנונה של המדינה'!C17,'נתוני דוחות 2014'!$DW$10:$DW$263,0),2)+INDEX('נתוני דוחות 2014'!$DW$10:$DY$263,MATCH('תשלומי ארנונה של המדינה'!C17,'נתוני דוחות 2014'!$DW$10:$DW$263,0),3)-H17/1000) -> 0.40133267 | Z17: =INDEX('נתוני דוחות 2014'!$DW$10:$DY$263,MATCH('תשלומי ארנונה של המדינה'!C17,'נתוני דוחות 2014'!$DW$10:$DW$263,0),2)/(INDEX('נתוני דוחות 2014'!$DW$10:$DY$263,MATCH('תשלומי ארנונה של המדינה'!C17,'נתוני דוחות 2014'!$DW$10:$DW$263,0),2)+INDEX('נתוני דוחות 2014'!$DW$10:$DY$263,MATCH('תשלומי ארנונה של המדינה'!C17,'נתוני דוחות 2014'!$DW$10:$DW$263,0),3)-N17/1000) -> 0.41645352 | AA17: =Z17-X17 -> 0.10017044 | AB17: =N17/T17 -> 0.35180073 | AC17: =N17/S17 -> 0.14187002 | AD17: =N17/R17 -> 0.11190574 | AE17: =INDEX(רשויות!$AC$4:$AL$258,MATCH($C17,רשויות!$AC$4:$AC$258,0),10) -> 6 | AF17: =IF(INDEX(רשויות!$AN$4:$AR$258,MATCH($C17,רשויות!$AO$4:$AO$258,0),4)>0,"נתמכת","עצמאית") -> עצמאית | AN17: אעבלין | AO17: 12300 | AQ17: הגלבוע | AR17: 27.9
B18: עיריית רמת גן | C18: רמת גן | D18: =VLOOKUP(C18,גודל_אוכלוסיה,2,FALSE) -> 149600 | E18: =IF(LEFT(B18,3)="עיר","עירייה",IF(LEFT(B18,7)="מועצה א","מועצה אזורית","מועצה מקומית")) -> עירייה | F18: =INDEX(רשות_מחוז,MATCH(TRIM(C18),רשויות!$G$3:$G$260,0),2) -> תל אביב | G18: 3364319.6 | H18: =G18*(1+3.36%) -> 3477360.8 | I18: =J18-H18 -> 8113841.8 | J18: =IF(OR(A18="עיר עולים",A18="בירה"),H18,H18/0.3) -> 11591203 | K18: =INDEX(מילמן,MATCH(C18,'המידע ממילמן'!$A$1:$A$145,0),2) -> 10729127 | L18: =M18-K18 -> 8778376.9 | M18: =IF(OR(A18="עיר עולים",A18="בירה"),K18,K18/0.55) -> 19507504 | N18: =K18+H18 -> 14206488 | O18: =SUM(N$3:$N18)/SUM($N$3:$N$167) -> 0.68688329 | P18: =N18/D18 -> 94.963156 | Q18: =M18+J18 -> 31098707 | R18: =INDEX(הכנסות_מבוקר,MATCH(C18,'נתוני דוחות 2014'!$C$10:$C$263,0),11)*1000 -> 1050481000 | S18: =INDEX(הכנסות_מבוקר,MATCH(C18,'נתוני דוחות 2014'!$C$10:$C$263,0),6)*1000 -> 784745000 | T18: =INDEX(ארנונה_מבוקר,MATCH(C18,'נתוני דוחות 2014'!$C$10:$C$263,0),7)*1000 -> 309151000 | U18: =H18/T18 -> 0.011248098 | V18: =H18/S18 -> 0.0044311984 | W18: =H18/R18 -> 0.0033102558 | X18: =INDEX('נתוני דוחות 2014'!$DW$10:$DY$263,MATCH('תשלומי ארנונה של המדינה'!C18,'נתוני דוחות 2014'!$DW$10:$DW$263,0),2)/(INDEX('נתוני דוחות 2014'!$DW$10:$DY$263,MATCH('תשלומי ארנונה של המדינה'!C18,'נתוני דוחות 2014'!$DW$10:$DW$263,0),2)+INDEX('נתוני דוחות 2014'!$DW$10:$DY$263,MATCH('תשלומי ארנונה של המדינה'!C18,'נתוני דוחות 2014'!$DW$10:$DW$263,0),3)) -> 0.46463373 | Y18: =INDEX('נתוני דוחות 2014'!$DW$10:$DY$263,MATCH('תשלומי ארנונה של המדינה'!C18,'נתוני דוחות 2014'!$DW$10:$DW$263,0),2)/(INDEX('נתוני דוחות 2014'!$DW$10:$DY$263,MATCH('תשלומי ארנונה של המדינה'!C18,'נתוני דוחות 2014'!$DW$10:$DW$263,0),2)+INDEX('נתוני דוחות 2014'!$DW$10:$DY$263,MATCH('תשלומי ארנונה של המדינה'!C18,'נתוני דוחות 2014'!$DW$10:$DW$263,0),3)-H18/1000) -> 0.46744864 | Z18: =INDEX('נתוני דוחות 2014'!$DW$10:$DY$263,MATCH('תשלומי ארנונה של המדינה'!C18,'נתוני דוחות 2014'!$DW$10:$DW$263,0),2)/(INDEX('נתוני דוחות 2014'!$DW$10:$DY$263,MATCH('תשלומי ארנונה של המדינה'!C18,'נתוני דוחות 2014'!$DW$10:$DW$263,0),2)+INDEX('נתוני דוחות 2014'!$DW$10:$DY$263,MATCH('תשלומי ארנונה של המדינה'!C18,'נתוני דוחות 2014'!$DW$10:$DW$263,0),3)-N18/1000) -> 0.47635287 | AA18: =Z18-X18 -> 0.011719144 | AB18: =N18/T18 -> 0.045953234 | AC18: =N18/S18 -> 0.018103318 | AD18: =N18/R18 -> 0.013523794 | AE18: =INDEX(רשויות!$AC$4:$AL$258,MATCH($C18,רשויות!$AC$4:$AC$258,0),10) -> 7 | AF18: =IF(INDEX(רשויות!$AN$4:$AR$258,MATCH($C18,רשויות!$AO$4:$AO$258,0),4)>0,"נתמכת","עצמאית") -> עצמאית | AN18: אפרת | AO18: 7900 | AQ18: הגליל העליון | AR18: 16.9 | AZ18: מהעצמאיות | BA18: =BA10+AZ12 -> 1.4457169e+08
A19: עיר עולים | B19: עיריית נצרת עילית | C19: נצרת עילית | D19: =VLOOKUP(C19,גודל_אוכלוסיה,2,FALSE) -> 40500 | E19: =IF(LEFT(B19,3)="עיר","עירייה",IF(LEFT(B19,7)="מועצה א","מועצה אזורית","מועצה מקומית")) -> עירייה | F19: =INDEX(רשות_מחוז,MATCH(TRIM(C19),רשויות!$G$3:$G$260,0),2) -> צפון | G19: 2811361.4 | H19: =G19*(1+3.36%) -> 2905823.1 | I19: =J19-H19 -> 0 | J19: =IF(OR(A19="עיר עולים",A19="בירה"),H19,H19/0.3) -> 2905823.1 | K19: =INDEX(מילמן,MATCH(C19,'המידע ממילמן'!$A$1:$A$145,0),2) -> 11011534 | L19: =M19-K19 -> 0 | M19: =IF(OR(A19="עיר עולים",A19="בירה"),K19,K19/0.55) -> 11011534 | N19: =K19+H19 -> 13917357 | O19: =SUM(N$3:$N19)/SUM($N$3:$N$167) -> 0.70212124 | P19: =N19/D19 -> 343.63845 | Q19: =M19+J19 -> 13917357 | R19: =INDEX(הכנסות_מבוקר,MATCH(C19,'נתוני דוחות 2014'!$C$10:$C$263,0),11)*1000 -> 261941000 | S19: =INDEX(הכנסות_מבוקר,MATCH(C19,'נתוני דוחות 2014'!$C$10:$C$263,0),6)*1000 -> 162128000 | T19: =INDEX(ארנונה_מבוקר,MATCH(C19,'נתוני דוחות 2014'!$C$10:$C$263,0),7)*1000 -> 67309000 | U19: =H19/T19 -> 0.04317139 | V19: =H19/S19 -> 0.017923018 | W19: =H19/R19 -> 0.011093426 | X19: =INDEX('נתוני דוחות 2014'!$DW$10:$DY$263,MATCH('תשלומי ארנונה של המדינה'!C19,'נתוני דוחות 2014'!$DW$10:$DW$263,0),2)/(INDEX('נתוני דוחות 2014'!$DW$10:$DY$263,MATCH('תשלומי ארנונה של המדינה'!C19,'נתוני דוחות 2014'!$DW$10:$DW$263,0),2)+INDEX('נתוני דוחות 2014'!$DW$10:$DY$263,MATCH('תשלומי ארנונה של המדינה'!C19,'נתוני דוחות 2014'!$DW$10:$DW$263,0),3)) -> 0.37601743 | Y19: =INDEX('נתוני דוחות 2014'!$DW$10:$DY$263,MATCH('תשלומי ארנונה של המדינה'!C19,'נתוני דוחות 2014'!$DW$10:$DW$263,0),2)/(INDEX('נתוני דוחות 2014'!$DW$10:$DY$263,MATCH('תשלומי ארנונה של המדינה'!C19,'נתוני דוחות 2014'!$DW$10:$DW$263,0),2)+INDEX('נתוני דוחות 2014'!$DW$10:$DY$263,MATCH('תשלומי ארנונה של המדינה'!C19,'נתוני דוחות 2014'!$DW$10:$DW$263,0),3)-H19/1000) -> 0.38642708 | Z19: =INDEX('נתוני דוחות 2014'!$DW$10:$DY$263,MATCH('תשלומי ארנונה של המדינה'!C19,'נתוני דוחות 2014'!$DW$10:$DW$263,0),2)/(INDEX('נתוני דוחות 2014'!$DW$10:$DY$263,MATCH('תשלומי ארנונה של המדינה'!C19,'נתוני דוחות 2014'!$DW$10:$DW$263,0),2)+INDEX('נתוני דוחות 2014'!$DW$10:$DY$263,MATCH('תשלומי ארנונה של המדינה'!C19,'נתוני דוחות 2014'!$DW$10:$DW$263,0),3)-N19/1000) -> 0.4317175 | AA19: =Z19-X19 -> 0.055700071 | AB19: =N19/T19 -> 0.20676815 | AC19: =N19/S19 -> 0.085841787 | AD19: =N19/R19 -> 0.053131649 | AE19: =INDEX(רשויות!$AC$4:$AL$258,MATCH($C19,רשויות!$AC$4:$AC$258,0),10) -> 5 | AF19: =IF(INDEX(רשויות!$AN$4:$AR$258,MATCH($C19,רשויות!$AO$4:$AO$258,0),4)>0,"נתמכת","עצמאית") -> נתמכת | AN19: אריאל | AO19: 18100 | AQ19: הגליל התחתון | AR19: 10.9 | AZ19: מהנתמכות | BA19: =BA16-BA18 -> 23055835
A20: עיר עולים | B20: עיריית צפת | C20: צפת | D20: =VLOOKUP(C20,גודל_אוכלוסיה,2,FALSE) -> 32900 | E20: =IF(LEFT(B20,3)="עיר","עירייה",IF(LEFT(B20,7)="מועצה א","מועצה אזורית","מועצה מקומית")) -> עירייה | F20: =INDEX(רשות_מחוז,MATCH(TRIM(C20),רשויות!$G$3:$G$260,0),2) -> צפון | G20: 9453393.1 | H20: =G20*(1+3.36%) -> 9771027.1 | I20: =J20-H20 -> 0 | J20: =IF(OR(A20="עיר עולים",A20="בירה"),H20,H20/0.3) -> 9771027.1 | K20: =INDEX(מילמן,MATCH(C20,'המידע ממילמן'!$A$1:$A$145,0),2) -> 4305587.5 | L20: =M20-K20 -> 0 | M20: =IF(OR(A20="עיר עולים",A20="בירה"),K20,K20/0.55) -> 4305587.5 | N20: =K20+H20 -> 14076615 | O20: =SUM(N$3:$N20)/SUM($N$3:$N$167) -> 0.71753355 | P20: =N20/D20 -> 427.86063 | Q20: =M20+J20 -> 14076615 | R20: =INDEX(הכנסות_מבוקר,MATCH(C20,'נתוני דוחות 2014'!$C$10:$C$263,0),11)*1000 -> 192967000 | S20: =INDEX(הכנסות_מבוקר,MATCH(C20,'נתוני דוחות 2014'!$C$10:$C$263,0),6)*1000 -> 87543000 | T20: =INDEX(ארנונה_מבוקר,MATCH(C20,'נתוני דוחות 2014'!$C$10:$C$263,0),7)*1000 -> 34367000 | U20: =H20/T20 -> 0.28431423 | V20: =H20/S20 -> 0.11161403 | W20: =H20/R20 -> 0.050635741 | X20: =INDEX('נתוני דוחות 2014'!$DW$10:$DY$263,MATCH('תשלומי ארנונה של המדינה'!C20,'נתוני דוחות 2014'!$DW$10:$DW$263,0),2)/(INDEX('נתוני דוחות 2014'!$DW$10:$DY$263,MATCH('תשלומי ארנונה של המדינה'!C20,'נתוני דוחות 2014'!$DW$10:$DW$263,0),2)+INDEX('נתוני דוחות 2014'!$DW$10:$DY$263,MATCH('תשלומי ארנונה של המדינה'!C20,'נתוני דוחות 2014'!$DW$10:$DW$263,0),3)) -> 0.38241055 | Y20: =INDEX('נתוני דוחות 2014'!$DW$10:$DY$263,MATCH('תשלומי ארנונה של המדינה'!C20,'נתוני דוחות 2014'!$DW$10:$DW$263,0),2)/(INDEX('נתוני דוחות 2014'!$DW$10:$DY$263,MATCH('תשלומי ארנונה של המדינה'!C20,'נתוני דוחות 2014'!$DW$10:$DW$263,0),2)+INDEX('נתוני דוחות 2014'!$DW$10:$DY$263,MATCH('תשלומי ארנונה של המדינה'!C20,'נתוני דוחות 2014'!$DW$10:$DW$263,0),3)-H20/1000) -> 0.46385937 | Z20: =INDEX('נתוני דוחות 2014'!$DW$10:$DY$263,MATCH('תשלומי ארנונה של המדינה'!C20,'נתוני דוחות 2014'!$DW$10:$DW$263,0),2)/(INDEX('נתוני דוחות 2014'!$DW$10:$DY$263,MATCH('תשלומי ארנונה של המדינה'!C20,'נתוני דוחות 2014'!$DW$10:$DW$263,0),2)+INDEX('נתוני דוחות 2014'!$DW$10:$DY$263,MATCH('תשלומי ארנונה של המדינה'!C20,'נתוני דוחות 2014'!$DW$10:$DW$263,0),3)-N20/1000) -> 0.51190288 | AA20: =Z20-X20 -> 0.12949233 | AB20: =N20/T20 -> 0.40959684 | AC20: =N20/S20 -> 0.16079658 | AD20: =N20/R20 -> 0.0729483 | AE20: =INDEX(רשויות!$AC$4:$AL$258,MATCH($C20,רשויות!$AC$4:$AC$258,0),10) -> 4 | AF20: =IF(INDEX(רשויות!$AN$4:$AR$258,MATCH($C20,רשויות!$AO$4:$AO$258,0),4)>0,"נתמכת","עצמאית") -> נתמכת | AN20: אשדוד | AO20: 216500 | AQ20: הערבה התיכונה | AR20: 3
A21: עיר עולים | B21: מועצה מקומית מצפה רמון | C21: מצפה רמון | D21: =VLOOKUP(C21,גודל_אוכלוסיה,2,FALSE) -> 5000 | E21: =IF(LEFT(B21,3)="עיר","עירייה",IF(LEFT(B21,7)="מועצה א","מועצה אזורית","מועצה מקומית")) -> מועצה מקומית | F21: =INDEX(רשות_מחוז,MATCH(TRIM(C21),רשויות!$G$3:$G$260,0),2) -> דרום | G21: 12772884 | H21: =G21*(1+3.36%) -> 13202053 | I21: =J21-H21 -> 0 | J21: =IF(OR(A21="עיר עולים",A21="בירה"),H21,H21/0.3) -> 13202053 | K21: =INDEX(מילמן,MATCH(C21,'המידע ממילמן'!$A$1:$A$145,0),2) -> 16452.6 | L21: =M21-K21 -> 0 | M21: =IF(OR(A21="עיר עולים",A21="בירה"),K21,K21/0.55) -> 16452.6 | N21: =K21+H21 -> 13218505 | O21: =SUM(N$3:$N21)/SUM($N$3:$N$167) -> 0.73200633 | P21: =N21/D21 -> 2643.7011 | Q21: =M21+J21 -> 13218505 | R21: =INDEX(הכנסות_מבוקר,MATCH(C21,'נתוני דוחות 2014'!$C$10:$C$263,0),11)*1000 -> 53746000 | S21: =INDEX(הכנסות_מבוקר,MATCH(C21,'נתוני דוחות 2014'!$C$10:$C$263,0),6)*1000 -> 31171000 | T21: =INDEX(ארנונה_מבוקר,MATCH(C21,'נתוני דוחות 2014'!$C$10:$C$263,0),7)*1000 -> 17221000 | U21: =H21/T21 -> 0.76662522 | V21: =H21/S21 -> 0.42353639 | W21: =H21/R21 -> 0.24563787 | X21: =INDEX('נתוני דוחות 2014'!$DW$10:$DY$263,MATCH('תשלומי ארנונה של המדינה'!C21,'נתוני דוחות 2014'!$DW$10:$DW$263,0),2)/(INDEX('נתוני דוחות 2014'!$DW$10:$DY$263,MATCH('תשלומי ארנונה של המדינה'!C21,'נתוני דוחות 2014'!$DW$10:$DW$263,0),2)+INDEX('נתוני דוחות 2014'!$DW$10:$DY$263,MATCH('תשלומי ארנונה של המדינה'!C21,'נתוני דוחות 2014'!$DW$10:$DW$263,0),3)) -> 0.30473576 | Y21: =INDEX('נתוני דוחות 2014'!$DW$10:$DY$263,MATCH('תשלומי ארנונה של המדינה'!C21,'נתוני דוחות 2014'!$DW$10:$DW$263,0),2)/(INDEX('נתוני דוחות 2014'!$DW$10:$DY$263,MATCH('תשלומי ארנונה של המדינה'!C21,'נתוני דוחות 2014'!$DW$10:$DW$263,0),2)+INDEX('נתוני דוחות 2014'!$DW$10:$DY$263,MATCH('תשלומי ארנונה של המדינה'!C21,'נתוני דוחות 2014'!$DW$10:$DW$263,0),3)-H21/1000) -> 0.65254902 | Z21: =INDEX('נתוני דוחות 2014'!$DW$10:$DY$263,MATCH('תשלומי ארנונה של המדינה'!C21,'נתוני דוחות 2014'!$DW$10:$DW$263,0),2)/(INDEX('נתוני דוחות 2014'!$DW$10:$DY$263,MATCH('תשלומי ארנונה של המדינה'!C21,'נתוני דוחות 2014'!$DW$10:$DW$263,0),2)+INDEX('נתוני דוחות 2014'!$DW$10:$DY$263,MATCH('תשלומי ארנונה של המדינה'!C21,'נתוני דוחות 2014'!$DW$10:$DW$263,0),3)-N21/1000) -> 0.65347852 | AA21: =Z21-X21 -> 0.34874276 | AB21: =N21/T21 -> 0.7675806 | AC21: =N21/S21 -> 0.42406421 | AD21: =N21/R21 -> 0.24594399 | AE21: =INDEX(רשויות!$AC$4:$AL$258,MATCH($C21,רשויות!$AC$4:$AC$258,0),10) -> 4 | AF21: =IF(INDEX(רשויות!$AN$4:$AR$258,MATCH($C21,רשויות!$AO$4:$AO$258,0),4)>0,"נתמכת","עצמאית") -> נתמכת | AN21: אשקלון | AO21: 123500 | AQ21: הר חברון | AR21: 6.9
B22: מועצה אזורית שפיר | C22: שפיר | D22: =VLOOKUP(C22,גודל_אוכלוסיה,2,FALSE) -> 10100 | E22: =IF(LEFT(B22,3)="עיר","עירייה",IF(LEFT(B22,7)="מועצה א","מועצה אזורית","מועצה מקומית")) -> מועצה אזורית | F22: =INDEX(רשות_מחוז,MATCH(TRIM(C22),רשויות!$G$3:$G$260,0),2) -> דרום | G22: 9526371.2 | H22: =G22*(1+3.36%) -> 9846457.3 | I22: =J22-H22 -> 22975067 | J22: =IF(OR(A22="עיר עולים",A22="בירה"),H22,H22/0.3) -> 32821524 | N22: =K22+H22 -> 9846457.3 | O22: =SUM(N$3:$N22)/SUM($N$3:$N$167) -> 0.7427871 | P22: =N22/D22 -> 974.89676 | Q22: =M22+J22 -> 32821524 | R22: =INDEX(הכנסות_מבוקר,MATCH(C22,'נתוני דוחות 2014'!$C$10:$C$263,0),11)*1000 -> 97688000 | S22: =INDEX(הכנסות_מבוקר,MATCH(C22,'נתוני דוחות 2014'!$C$10:$C$263,0),6)*1000 -> 41731000 | T22: =INDEX(ארנונה_מבוקר,MATCH(C22,'נתוני דוחות 2014'!$C$10:$C$263,0),7)*1000 -> 17563000 | U22: =H22/T22 -> 0.56063641 | V22: =H22/S22 -> 0.23595067 | W22: =H22/R22 -> 0.10079495 | X22: =INDEX('נתוני דוחות 2014'!$DW$10:$DY$263,MATCH('תשלומי ארנונה של המדינה'!C22,'נתוני דוחות 2014'!$DW$10:$DW$263,0),2)/(INDEX('נתוני דוחות 2014'!$DW$10:$DY$263,MATCH('תשלומי ארנונה של המדינה'!C22,'נתוני דוחות 2014'!$DW$10:$DW$263,0),2)+INDEX('נתוני דוחות 2014'!$DW$10:$DY$263,MATCH('תשלומי ארנונה של המדינה'!C22,'נתוני דוחות 2014'!$DW$10:$DW$263,0),3)) -> 0.3138381 | Y22: =INDEX('נתוני דוחות 2014'!$DW$10:$DY$263,MATCH('תשלומי ארנונה של המדינה'!C22,'נתוני דוחות 2014'!$DW$10:$DW$263,0),2)/(INDEX('נתוני דוחות 2014'!$DW$10:$DY$263,MATCH('תשלומי ארנונה של המדינה'!C22,'נתוני דוחות 2014'!$DW$10:$DW$263,0),2)+INDEX('נתוני דוחות 2014'!$DW$10:$DY$263,MATCH('תשלומי ארנונה של המדינה'!C22,'נתוני דוחות 2014'!$DW$10:$DW$263,0),3)-H22/1000) -> 0.51004655 | Z22: =INDEX('נתוני דוחות 2014'!$DW$10:$DY$263,MATCH('תשלומי ארנונה של המדינה'!C22,'נתוני דוחות 2014'!$DW$10:$DW$263,0),2)/(INDEX('נתוני דוחות 2014'!$DW$10:$DY$263,MATCH('תשלומי ארנונה של המדינה'!C22,'נתוני דוחות 2014'!$DW$10:$DW$263,0),2)+INDEX('נתוני דוחות 2014'!$DW$10:$DY$263,MATCH('תשלומי ארנונה של המדינה'!C22,'נתוני דוחות 2014'!$DW$10:$DW$263,0),3)-N22/1000) -> 0.51004655 | AA22: =Z22-X22 -> 0.19620845 | AB22: =N22/T22 -> 0.56063641 | AC22: =N22/S22 -> 0.23595067 | AD22: =N22/R22 -> 0.10079495 | AE22: =INDEX(רשויות!$AC$4:$AL$258,MATCH($C22,רשויות!$AC$4:$AC$258,0),10) -> 5 | AF22: =IF(INDEX(רשויות!$AN$4:$AR$258,MATCH($C22,רשויות!$AO$4:$AO$258,0),4)>0,"נתמכת","עצמאית") -> נתמכת | AN22: באר יעקב | AO22: 17500 | AQ22: זבולון | AR22: 12.6
A23: עיר עולים | B23: מועצה אזורית באר טוביה | C23: באר טוביה | D23: =VLOOKUP(C23,גודל_אוכלוסיה,2,FALSE) -> 21400 | E23: =IF(LEFT(B23,3)="עיר","עירייה",IF(LEFT(B23,7)="מועצה א","מועצה אזורית","מועצה מקומית")) -> מועצה אזורית | F23: =INDEX(רשות_מחוז,MATCH(TRIM(C23),רשויות!$G$3:$G$260,0),2) -> דרום | G23: 9462231.9 | H23: =G23*(1+3.36%) -> 9780162.9 | I23: =J23-H23 -> 0 | J23: =IF(OR(A23="עיר עולים",A23="בירה"),H23,H23/0.3) -> 9780162.9 | K23: =INDEX(מילמן,MATCH(C23,'המידע ממילמן'!$A$1:$A$145,0),2) -> 29239.8 | L23: =M23-K23 -> 0 | M23: =IF(OR(A23="עיר עולים",A23="בירה"),K23,K23/0.55) -> 29239.8 | N23: =K23+H23 -> 9809402.7 | O23: =SUM(N$3:$N23)/SUM($N$3:$N$167) -> 0.7535273 | P23: =N23/D23 -> 458.38331 | Q23: =M23+J23 -> 9809402.7 | R23: =INDEX(הכנסות_מבוקר,MATCH(C23,'נתוני דוחות 2014'!$C$10:$C$263,0),11)*1000 -> 250084000 | S23: =INDEX(הכנסות_מבוקר,MATCH(C23,'נתוני דוחות 2014'!$C$10:$C$263,0),6)*1000 -> 180464000 | T23: =INDEX(ארנונה_מבוקר,MATCH(C23,'נתוני דוחות 2014'!$C$10:$C$263,0),7)*1000 -> 108862000 | U23: =H23/T23 -> 0.089840008 | V23: =H23/S23 -> 0.054194537 | W23: =H23/R23 -> 0.039107512 | X23: =INDEX('נתוני דוחות 2014'!$DW$10:$DY$263,MATCH('תשלומי ארנונה של המדינה'!C23,'נתוני דוחות 2014'!$DW$10:$DW$263,0),2)/(INDEX('נתוני דוחות 2014'!$DW$10:$DY$263,MATCH('תשלומי ארנונה של המדינה'!C23,'נתוני דוחות 2014'!$DW$10:$DW$263,0),2)+INDEX('נתוני דוחות 2014'!$DW$10:$DY$263,MATCH('תשלומי ארנונה של המדינה'!C23,'נתוני דוחות 2014'!$DW$10:$DW$263,0),3)) -> 0.18461538 | Y23: =INDEX('נתוני דוחות 2014'!$DW$10:$DY$263,MATCH('תשלומי ארנונה של המדינה'!C23,'נתוני דוחות 2014'!$DW$10:$DW$263,0),2)/(INDEX('נתוני דוחות 2014'!$DW$10:$DY$263,MATCH('תשלומי ארנונה של המדינה'!C23,'נתוני דוחות 2014'!$DW$10:$DW$263,0),2)+INDEX('נתוני דוחות 2014'!$DW$10:$DY$263,MATCH('תשלומי ארנונה של המדינה'!C23,'נתוני דוחות 2014'!$DW$10:$DW$263,0),3)-H23/1000) -> 0.19920822 | Z23: =INDEX('נתוני דוחות 2014'!$DW$10:$DY$263,MATCH('תשלומי ארנונה של המדינה'!C23,'נתוני דוחות 2014'!$DW$10:$DW$263,0),2)/(INDEX('נתוני דוחות 2014'!$DW$10:$DY$263,MATCH('תשלומי ארנונה של המדינה'!C23,'נתוני דוחות 2014'!$DW$10:$DW$263,0),2)+INDEX('נתוני דוחות 2014'!$DW$10:$DY$263,MATCH('תשלומי ארנונה של המדינה'!C23,'נתוני דוחות 2014'!$DW$10:$DW$263,0),3)-N23/1000) -> 0.1992553 | AA23: =Z23-X23 -> 0.014639918 | AB23: =N23/T23 -> 0.090108603 | AC23: =N23/S23 -> 0.054356563 | AD23: =N23/R23 -> 0.039224432 | AE23: =INDEX(רשויות!$AC$4:$AL$258,MATCH($C23,רשויות!$AC$4:$AC$258,0),10) -> 6 | AF23: =IF(INDEX(רשויות!$AN$4:$AR$258,MATCH($C23,רשויות!$AO$4:$AO$258,0),4)>0,"נתמכת","עצמאית") -> עצמאית | AN23: באר שבע | AO23: 199300 | AQ23: חבל אילות | AR23: 3.5 | BC23: =144/900 -> 0.16
A24: עיר עולים | B24: עיריית עפולה | C24: עפולה | D24: =VLOOKUP(C24,גודל_אוכלוסיה,2,FALSE) -> 42800 | E24: =IF(LEFT(B24,3)="עיר","עירייה",IF(LEFT(B24,7)="מועצה א","מועצה אזורית","מועצה מקומית")) -> עירייה | F24: =INDEX(רשות_מחוז,MATCH(TRIM(C24),רשויות!$G$3:$G$260,0),2) -> צפון | G24: 7109844.5 | H24: =G24*(1+3.36%) -> 7348735.3 | I24: =J24-H24 -> 0 | J24: =IF(OR(A24="עיר עולים",A24="בירה"),H24,H24/0.3) -> 7348735.3 | K24: =INDEX(מילמן,MATCH(C24,'המידע ממילמן'!$A$1:$A$145,0),2) -> 2080492.2 | L24: =M24-K24 -> 0 | M24: =IF(OR(A24="עיר עולים",A24="בירה"),K24,K24/0.55) -> 2080492.2 | N24: =K24+H24 -> 9429227.5 | O24: =SUM(N$3:$N24)/SUM($N$3:$N$167) -> 0.76385125 | P24: =N24/D24 -> 220.30905 | Q24: =M24+J24 -> 9429227.5 | R24: =INDEX(הכנסות_מבוקר,MATCH(C24,'נתוני דוחות 2014'!$C$10:$C$263,0),11)*1000 -> 277740000 | S24: =INDEX(הכנסות_מבוקר,MATCH(C24,'נתוני דוחות 2014'!$C$10:$C$263,0),6)*1000 -> 178053000 | T24: =INDEX(ארנונה_מבוקר,MATCH(C24,'נתוני דוחות 2014'!$C$10:$C$263,0),7)*1000 -> 78367000 | U24: =H24/T24 -> 0.093773339 | V24: =H24/S24 -> 0.041272741 | W24: =H24/R24 -> 0.026459045 | X24: =INDEX('נתוני דוחות 2014'!$DW$10:$DY$263,MATCH('תשלומי ארנונה של המדינה'!C24,'נתוני דוחות 2014'!$DW$10:$DW$263,0),2)/(INDEX('נתוני דוחות 2014'!$DW$10:$DY$263,MATCH('תשלומי ארנונה של המדינה'!C24,'נתוני דוחות 2014'!$DW$10:$DW$263,0),2)+INDEX('נתוני דוחות 2014'!$DW$10:$DY$263,MATCH('תשלומי ארנונה של המדינה'!C24,'נתוני דוחות 2014'!$DW$10:$DW$263,0),3)) -> 0.35250473 | Y24: =INDEX('נתוני דוחות 2014'!$DW$10:$DY$263,MATCH('תשלומי ארנונה של המדינה'!C24,'נתוני דוחות 2014'!$DW$10:$DW$263,0),2)/(INDEX('נתוני דוחות 2014'!$DW$10:$DY$263,MATCH('תשלומי ארנונה של המדינה'!C24,'נתוני דוחות 2014'!$DW$10:$DW$263,0),2)+INDEX('נתוני דוחות 2014'!$DW$10:$DY$263,MATCH('תשלומי ארנונה של המדינה'!C24,'נתוני דוחות 2014'!$DW$10:$DW$263,0),3)-H24/1000) -> 0.37529161 | Z24: =INDEX('נתוני דוחות 2014'!$DW$10:$DY$263,MATCH('תשלומי ארנונה של המדינה'!C24,'נתוני דוחות 2014'!$DW$10:$DW$263,0),2)/(INDEX('נתוני דוחות 2014'!$DW$10:$DY$263,MATCH('תשלומי ארנונה של המדינה'!C24,'נתוני דוחות 2014'!$DW$10:$DW$263,0),2)+INDEX('נתוני דוחות 2014'!$DW$10:$DY$263,MATCH('תשלומי ארנונה של המדינה'!C24,'נתוני דוחות 2014'!$DW$10:$DW$263,0),3)-N24/1000) -> 0.38228784 | AA24: =Z24-X24 -> 0.029783105 | AB24: =N24/T24 -> 0.1203214 | AC24: =N24/S24 -> 0.05295742 | AD24: =N24/R24 -> 0.033949836 | AE24: =INDEX(רשויות!$AC$4:$AL$258,MATCH($C24,רשויות!$AC$4:$AC$258,0),10) -> 5 | AF24: =IF(INDEX(רשויות!$AN$4:$AR$258,MATCH($C24,רשויות!$AO$4:$AO$258,0),4)>0,"נתמכת","עצמאית") -> נתמכת | AN24: בועיינה-נוג'ידאת | AO24: 8700 | AQ24: חבל יבנה | AR24: 6.3 | AW24: =BB24+BB25 -> 9.1333547e+08 | AY24: ארנונה ממשלתית - רשויות עצמאיות | AZ24: =BD11 -> 6.7939376e+08 | BA24: ארנונה ממשלתית - משרד הבטחון | BB24: =H174 -> 5.0212799e+08
A25: עיר עולים | B25: מועצה מקומית כפר יונה | C25: כפר יונה | D25: =VLOOKUP(C25,גודל_אוכלוסיה,2,FALSE) -> 20500 | E25: =IF(LEFT(B25,3)="עיר","עירייה",IF(LEFT(B25,7)="מועצה א","מועצה אזורית","מועצה מקומית")) -> מועצה מקומית | F25: =INDEX(רשות_מחוז,MATCH(TRIM(C25),רשויות!$G$3:$G$260,0),2) -> מרכז | G25: 9119417.2 | H25: =G25*(1+3.36%) -> 9425829.6 | I25: =J25-H25 -> 0 | J25: =IF(OR(A25="עיר עולים",A25="בירה"),H25,H25/0.3) -> 9425829.6 | N25: =K25+H25 -> 9425829.6 | O25: =SUM(N$3:$N25)/SUM($N$3:$N$167) -> 0.77417147 | P25: =N25/D25 -> 459.79657 | Q25: =M25+J25 -> 9425829.6 | R25: =INDEX(הכנסות_מבוקר,MATCH(C25,'נתוני דוחות 2014'!$C$10:$C$263,0),11)*1000 -> 113793000 | S25: =INDEX(הכנסות_מבוקר,MATCH(C25,'נתוני דוחות 2014'!$C$10:$C$263,0),6)*1000 -> 56512000 | T25: =INDEX(ארנונה_מבוקר,MATCH(C25,'נתוני דוחות 2014'!$C$10:$C$263,0),7)*1000 -> 13471000 | U25: =H25/T25 -> 0.69971269 | V25: =H25/S25 -> 0.16679342 | W25: =H25/R25 -> 0.082833124 | X25: =INDEX('נתוני דוחות 2014'!$DW$10:$DY$263,MATCH('תשלומי ארנונה של המדינה'!C25,'נתוני דוחות 2014'!$DW$10:$DW$263,0),2)/(INDEX('נתוני דוחות 2014'!$DW$10:$DY$263,MATCH('תשלומי ארנונה של המדינה'!C25,'נתוני דוחות 2014'!$DW$10:$DW$263,0),2)+INDEX('נתוני דוחות 2014'!$DW$10:$DY$263,MATCH('תשלומי ארנונה של המדינה'!C25,'נתוני דוחות 2014'!$DW$10:$DW$263,0),3)) -> 0.65204701 | Y25: =INDEX('נתוני דוחות 2014'!$DW$10:$DY$263,MATCH('תשלומי ארנונה של המדינה'!C25,'נתוני דוחות 2014'!$DW$10:$DW$263,0),2)/(INDEX('נתוני דוחות 2014'!$DW$10:$DY$263,MATCH('תשלומי ארנונה של המדינה'!C25,'נתוני דוחות 2014'!$DW$10:$DW$263,0),2)+INDEX('נתוני דוחות 2014'!$DW$10:$DY$263,MATCH('תשלומי ארנונה של המדינה'!C25,'נתוני דוחות 2014'!$DW$10:$DW$263,0),3)-H25/1000) -> 0.86188853 | Z25: =INDEX('נתוני דוחות 2014'!$DW$10:$DY$263,MATCH('תשלומי ארנונה של המדינה'!C25,'נתוני דוחות 2014'!$DW$10:$DW$263,0),2)/(INDEX('נתוני דוחות 2014'!$DW$10:$DY$263,MATCH('תשלומי ארנונה של המדינה'!C25,'נתוני דוחות 2014'!$DW$10:$DW$263,0),2)+INDEX('נתוני דוחות 2014'!$DW$10:$DY$263,MATCH('תשלומי ארנונה של המדינה'!C25,'נתוני דוחות 2014'!$DW$10:$DW$263,0),3)-N25/1000) -> 0.86188853 | AA25: =Z25-X25 -> 0.20984152 | AB25: =N25/T25 -> 0.69971269 | AC25: =N25/S25 -> 0.16679342 | AD25: =N25/R25 -> 0.082833124 | AE25: =INDEX(רשויות!$AC$4:$AL$258,MATCH($C25,רשויות!$AC$4:$AC$258,0),10) -> 7 | AF25: =IF(INDEX(רשויות!$AN$4:$AR$258,MATCH($C25,רשויות!$AO$4:$AO$258,0),4)>0,"נתמכת","עצמאית") -> נתמכת | AN25: בוקעאתא | AO25: 6200 | AQ25: חבל מודיעין | AR25: 22.4 | AY25: ארנונה ממשלתית - רשויות נתמכות | AZ25: =AW24-AZ24 -> 2.3394172e+08 | BA25: ארנונה ממשלתית - שאר המשרדים | BB25: =K174 -> 4.1120749e+08
B26: מועצה אזורית גולן | C26: גולן | D26: =VLOOKUP(C26,גודל_אוכלוסיה,2,FALSE) -> 14000 | E26: =IF(LEFT(B26,3)="עיר","עירייה",IF(LEFT(B26,7)="מועצה א","מועצה אזורית","מועצה מקומית")) -> מועצה אזורית | F26: =INDEX(רשות_מחוז,MATCH(TRIM(C26),רשויות!$G$3:$G$260,0),2) -> צפון | G26: 8606804.8 | H26: =G26*(1+3.36%) -> 8895993.5 | I26: =J26-H26 -> 20757318 | J26: =IF(OR(A26="עיר עולים",A26="בירה"),H26,H26/0.3) -> 29653312 | K26: =INDEX(מילמן,MATCH(C26,'המידע ממילמן'!$A$1:$A$145,0),2) -> 0 | L26: =M26-K26 -> 0 | M26: =IF(OR(A26="עיר עולים",A26="בירה"),K26,K26/0.55) -> 0 | N26: =K26+H26 -> 8895993.5 | O26: =SUM(N$3:$N26)/SUM($N$3:$N$167) -> 0.78391159 | P26: =N26/D26 -> 635.4281 | Q26: =M26+J26 -> 29653312 | R26: =INDEX(הכנסות_מבוקר,MATCH(C26,'נתוני דוחות 2014'!$C$10:$C$263,0),11)*1000 -> 165324000 | S26: =INDEX(הכנסות_מבוקר,MATCH(C26,'נתוני דוחות 2014'!$C$10:$C$263,0),6)*1000 -> 78110000 | T26: =INDEX(ארנונה_מבוקר,MATCH(C26,'נתוני דוחות 2014'!$C$10:$C$263,0),7)*1000 -> 30141000 | U26: =H26/T26 -> 0.29514593 | V26: =H26/S26 -> 0.11389058 | W26: =H26/R26 -> 0.05380945 | X26: =INDEX('נתוני דוחות 2014'!$DW$10:$DY$263,MATCH('תשלומי ארנונה של המדינה'!C26,'נתוני דוחות 2014'!$DW$10:$DW$263,0),2)/(INDEX('נתוני דוחות 2014'!$DW$10:$DY$263,MATCH('תשלומי ארנונה של המדינה'!C26,'נתוני דוחות 2014'!$DW$10:$DW$263,0),2)+INDEX('נתוני דוחות 2014'!$DW$10:$DY$263,MATCH('תשלומי ארנונה של המדינה'!C26,'נתוני דוחות 2014'!$DW$10:$DW$263,0),3)) -> 0.35496918 | Y26: =INDEX('נתוני דוחות 2014'!$DW$10:$DY$263,MATCH('תשלומי ארנונה של המדינה'!C26,'נתוני דוחות 2014'!$DW$10:$DW$263,0),2)/(INDEX('נתוני דוחות 2014'!$DW$10:$DY$263,MATCH('תשלומי ארנונה של המדינה'!C26,'נתוני דוחות 2014'!$DW$10:$DW$263,0),2)+INDEX('נתוני דוחות 2014'!$DW$10:$DY$263,MATCH('תשלומי ארנונה של המדינה'!C26,'נתוני דוחות 2014'!$DW$10:$DW$263,0),3)-H26/1000) -> 0.43843828 | Z26: =INDEX('נתוני דוחות 2014'!$DW$10:$DY$263,MATCH('תשלומי ארנונה של המדינה'!C26,'נתוני דוחות 2014'!$DW$10:$DW$263,0),2)/(INDEX('נתוני דוחות 2014'!$DW$10:$DY$263,MATCH('תשלומי ארנונה של המדינה'!C26,'נתוני דוחות 2014'!$DW$10:$DW$263,0),2)+INDEX('נתוני דוחות 2014'!$DW$10:$DY$263,MATCH('תשלומי ארנונה של המדינה'!C26,'נתוני דוחות 2014'!$DW$10:$DW$263,0),3)-N26/1000) -> 0.43843828 | AA26: =Z26-X26 -> 0.0834691 | AB26: =N26/T26 -> 0.29514593 | AC26: =N26/S26 -> 0.11389058 | AD26: =N26/R26 -> 0.05380945 | AE26: =INDEX(רשויות!$AC$4:$AL$258,MATCH($C26,רשויות!$AC$4:$AC$258,0),10) -> 6 | AF26: =IF(INDEX(רשויות!$AN$4:$AR$258,MATCH($C26,רשויות!$AO$4:$AO$258,0),4)>0,"נתמכת","עצמאית") -> נתמכת | AN26: ביר אל-מכסור | AO26: 8300 | AQ26: חוף אשקלון | AR26: 15 | AW26: =BB27+BB26 -> 5.1448522e+08 | AY26: פטור מארנונה ממשלתית - רשויות נתמכות | AZ26: =AW26-AZ27 -> 2.7415264e+08 | BA26: פטור מארנונה ממשלתית - שאר המשרדים | BB26: =L174 -> 1.2503681e+08
B27: מועצה אזורית מטה יהודה | C27: מטה יהודה | D27: =VLOOKUP(C27,גודל_אוכלוסיה,2,FALSE) -> 49500 | E27: =IF(LEFT(B27,3)="עיר","עירייה",IF(LEFT(B27,7)="מועצה א","מועצה אזורית","מועצה מקומית")) -> מועצה אזורית | F27: =INDEX(רשות_מחוז,MATCH(TRIM(C27),רשויות!$G$3:$G$260,0),2) -> ירושלים | G27: 8142366.9 | H27: =G27*(1+3.36%) -> 8415950.4 | I27: =J27-H27 -> 19637218 | J27: =IF(OR(A27="עיר עולים",A27="בירה"),H27,H27/0.3) -> 28053168 | K27: =INDEX(מילמן,MATCH(C27,'המידע ממילמן'!$A$1:$A$145,0),2) -> 259254.56 | L27: =M27-K27 -> 212117.37 | M27: =IF(OR(A27="עיר עולים",A27="בירה"),K27,K27/0.55) -> 471371.93 | N27: =K27+H27 -> 8675205 | O27: =SUM(N$3:$N27)/SUM($N$3:$N$167) -> 0.79340997 | P27: =N27/D27 -> 175.25667 | Q27: =M27+J27 -> 28524540 | R27: =INDEX(הכנסות_מבוקר,MATCH(C27,'נתוני דוחות 2014'!$C$10:$C$263,0),11)*1000 -> 356770000 | S27: =INDEX(הכנסות_מבוקר,MATCH(C27,'נתוני דוחות 2014'!$C$10:$C$263,0),6)*1000 -> 198500000 | T27: =INDEX(ארנונה_מבוקר,MATCH(C27,'נתוני דוחות 2014'!$C$10:$C$263,0),7)*1000 -> 68538000 | U27: =H27/T27 -> 0.12279247 | V27: =H27/S27 -> 0.042397735 | W27: =H27/R27 -> 0.023589288 | X27: =INDEX('נתוני דוחות 2014'!$DW$10:$DY$263,MATCH('תשלומי ארנונה של המדינה'!C27,'נתוני דוחות 2014'!$DW$10:$DW$263,0),2)/(INDEX('נתוני דוחות 2014'!$DW$10:$DY$263,MATCH('תשלומי ארנונה של המדינה'!C27,'נתוני דוחות 2014'!$DW$10:$DW$263,0),2)+INDEX('נתוני דוחות 2014'!$DW$10:$DY$263,MATCH('תשלומי ארנונה של המדינה'!C27,'נתוני דוחות 2014'!$DW$10:$DW$263,0),3)) -> 0.44999759 | Y27: =INDEX('נתוני דוחות 2014'!$DW$10:$DY$263,MATCH('תשלומי ארנונה של המדינה'!C27,'נתוני דוחות 2014'!$DW$10:$DW$263,0),2)/(INDEX('נתוני דוחות 2014'!$DW$10:$DY$263,MATCH('תשלומי ארנונה של המדינה'!C27,'נתוני דוחות 2014'!$DW$10:$DW$263,0),2)+INDEX('נתוני דוחות 2014'!$DW$10:$DY$263,MATCH('תשלומי ארנונה של המדינה'!C27,'נתוני דוחות 2014'!$DW$10:$DW$263,0),3)-H27/1000) -> 0.48258986 | Z27: =INDEX('נתוני דוחות 2014'!$DW$10:$DY$263,MATCH('תשלומי ארנונה של המדינה'!C27,'נתוני דוחות 2014'!$DW$10:$DW$263,0),2)/(INDEX('נתוני דוחות 2014'!$DW$10:$DY$263,MATCH('תשלומי ארנונה של המדינה'!C27,'נתוני דוחות 2014'!$DW$10:$DW$263,0),2)+INDEX('נתוני דוחות 2014'!$DW$10:$DY$263,MATCH('תשלומי ארנונה של המדינה'!C27,'נתוני דוחות 2014'!$DW$10:$DW$263,0),3)-N27/1000) -> 0.48366899 | AA27: =Z27-X27 -> 0.033671398 | AB27: =N27/T27 -> 0.12657511 | AC27: =N27/S27 -> 0.043703803 | AD27: =N27/R27 -> 0.02431596 | AE27: =INDEX(רשויות!$AC$4:$AL$258,MATCH($C27,רשויות!$AC$4:$AC$258,0),10) -> 6 | AF27: =IF(INDEX(רשויות!$AN$4:$AR$258,MATCH($C27,רשויות!$AO$4:$AO$258,0),4)>0,"נתמכת","עצמאית") -> נתמכת | AN27: בית אל | AO27: 5900 | AQ27: חוף הכרמל | AR27: 27.8 | AY27: פטור מארנונה ממשלתית - רשויות עצמאיות | AZ27: =SUMIF($AF$3:$AF$172,"עצמאית",$I$3:$I$171) -> 2.4033258e+08 | BA27: פטור מארנונה ממשלתית - משרד הבטחון | BB27: =I174 -> 3.8944841e+08
A28: עיר עולים | B28: עיריית אשדוד | C28: אשדוד | D28: =VLOOKUP(C28,גודל_אוכלוסיה,2,FALSE) -> 216500 | E28: =IF(LEFT(B28,3)="עיר","עירייה",IF(LEFT(B28,7)="מועצה א","מועצה אזורית","מועצה מקומית")) -> עירייה | F28: =INDEX(רשות_מחוז,MATCH(TRIM(C28),רשויות!$G$3:$G$260,0),2) -> דרום | G28: 1749280.7 | H28: =G28*(1+3.36%) -> 1808056.5 | I28: =J28-H28 -> 0 | J28: =IF(OR(A28="עיר עולים",A28="בירה"),H28,H28/0.3) -> 1808056.5 | K28: =INDEX(מילמן,MATCH(C28,'המידע ממילמן'!$A$1:$A$145,0),2) -> 6378396.6 | L28: =M28-K28 -> 0 | M28: =IF(OR(A28="עיר עולים",A28="בירה"),K28,K28/0.55) -> 6378396.6 | N28: =K28+H28 -> 8186453.1 | O28: =SUM(N$3:$N28)/SUM($N$3:$N$167) -> 0.80237322 | P28: =N28/D28 -> 37.812716 | Q28: =M28+J28 -> 8186453.1 | R28: =INDEX(הכנסות_מבוקר,MATCH(C28,'נתוני דוחות 2014'!$C$10:$C$263,0),11)*1000 -> 1313715000 | S28: =INDEX(הכנסות_מבוקר,MATCH(C28,'נתוני דוחות 2014'!$C$10:$C$263,0),6)*1000 -> 888569000 | T28: =INDEX(ארנונה_מבוקר,MATCH(C28,'נתוני דוחות 2014'!$C$10:$C$263,0),7)*1000 -> 426909000 | U28: =H28/T28 -> 0.0042352269 | V28: =H28/S28 -> 0.0020347958 | W28: =H28/R28 -> 0.0013762928 | X28: =INDEX('נתוני דוחות 2014'!$DW$10:$DY$263,MATCH('תשלומי ארנונה של המדינה'!C28,'נתוני דוחות 2014'!$DW$10:$DW$263,0),2)/(INDEX('נתוני דוחות 2014'!$DW$10:$DY$263,MATCH('תשלומי ארנונה של המדינה'!C28,'נתוני דוחות 2014'!$DW$10:$DW$263,0),2)+INDEX('נתוני דוחות 2014'!$DW$10:$DY$263,MATCH('תשלומי ארנונה של המדינה'!C28,'נתוני דוחות 2014'!$DW$10:$DW$263,0),3)) -> 0.34383876 | Y28: =INDEX('נתוני דוחות 2014'!$DW$10:$DY$263,MATCH('תשלומי ארנונה של המדינה'!C28,'נתוני דוחות 2014'!$DW$10:$DW$263,0),2)/(INDEX('נתוני דוחות 2014'!$DW$10:$DY$263,MATCH('תשלומי ארנונה של המדינה'!C28,'נתוני דוחות 2014'!$DW$10:$DW$263,0),2)+INDEX('נתוני דוחות 2014'!$DW$10:$DY$263,MATCH('תשלומי ארנונה של המדינה'!C28,'נתוני דוחות 2014'!$DW$10:$DW$263,0),3)-H28/1000) -> 0.34479695 | Z28: =INDEX('נתוני דוחות 2014'!$DW$10:$DY$263,MATCH('תשלומי ארנונה של המדינה'!C28,'נתוני דוחות 2014'!$DW$10:$DW$263,0),2)/(INDEX('נתוני דוחות 2014'!$DW$10:$DY$263,MATCH('תשלומי ארנונה של המדינה'!C28,'נתוני דוחות 2014'!$DW$10:$DW$263,0),2)+INDEX('נתוני דוחות 2014'!$DW$10:$DY$263,MATCH('תשלומי ארנונה של המדינה'!C28,'נתוני דוחות 2014'!$DW$10:$DW$263,0),3)-N28/1000) -> 0.34822029 | AA28: =Z28-X28 -> 0.0043815231 | AB28: =N28/T28 -> 0.019176108 | AC28: =N28/S28 -> 0.0092130753 | AD28: =N28/R28 -> 0.006231529 | AE28: =INDEX(רשויות!$AC$4:$AL$258,MATCH($C28,רשויות!$AC$4:$AC$258,0),10) -> 5 | AF28: =IF(INDEX(רשויות!$AN$4:$AR$258,MATCH($C28,רשויות!$AO$4:$AO$258,0),4)>0,"נתמכת","עצמאית") -> עצמאית | AN28: בית אריה | AO28: 4300 | AQ28: חוף השרון | AR28: 13.2
A29: עיר עולים | B29: עיריית אשקלון | C29: אשקלון | D29: =VLOOKUP(C29,גודל_אוכלוסיה,2,FALSE) -> 123500 | E29: =IF(LEFT(B29,3)="עיר","עירייה",IF(LEFT(B29,7)="מועצה א","מועצה אזורית","מועצה מקומית")) -> עירייה | F29: =INDEX(רשות_מחוז,MATCH(TRIM(C29),רשויות!$G$3:$G$260,0),2) -> דרום | G29: 43564.85 | H29: =G29*(1+3.36%) -> 45028.629 | I29: =J29-H29 -> 0 | J29: =IF(OR(A29="עיר עולים",A29="בירה"),H29,H29/0.3) -> 45028.629 | K29: =INDEX(מילמן,MATCH(C29,'המידע ממילמן'!$A$1:$A$145,0),2) -> 7425387.7 | L29: =M29-K29 -> 0 | M29: =IF(OR(A29="עיר עולים",A29="בירה"),K29,K29/0.55) -> 7425387.7 | N29: =K29+H29 -> 7470416.4 | O29: =SUM(N$3:$N29)/SUM($N$3:$N$167) -> 0.81055248 | P29: =N29/D29 -> 60.489201 | Q29: =M29+J29 -> 7470416.4 | R29: =INDEX(הכנסות_מבוקר,MATCH(C29,'נתוני דוחות 2014'!$C$10:$C$263,0),11)*1000 -> 752007000 | S29: =INDEX(הכנסות_מבוקר,MATCH(C29,'נתוני דוחות 2014'!$C$10:$C$263,0),6)*1000 -> 481430000 | T29: =INDEX(ארנונה_מבוקר,MATCH(C29,'נתוני דוחות 2014'!$C$10:$C$263,0),7)*1000 -> 235571000 | U29: =H29/T29 -> 0.00019114674 | V29: =H29/S29 -> 9.3530999e-05 | W29: =H29/R29 -> 5.9877939e-05 | X29: =INDEX('נתוני דוחות 2014'!$DW$10:$DY$263,MATCH('תשלומי ארנונה של המדינה'!C29,'נתוני דוחות 2014'!$DW$10:$DW$263,0),2)/(INDEX('נתוני דוחות 2014'!$DW$10:$DY$263,MATCH('תשלומי ארנונה של המדינה'!C29,'נתוני דוחות 2014'!$DW$10:$DW$263,0),2)+INDEX('נתוני דוחות 2014'!$DW$10:$DY$263,MATCH('תשלומי ארנונה של המדינה'!C29,'נתוני דוחות 2014'!$DW$10:$DW$263,0),3)) -> 0.31273522 | Y29: =INDEX('נתוני דוחות 2014'!$DW$10:$DY$263,MATCH('תשלומי ארנונה של המדינה'!C29,'נתוני דוחות 2014'!$DW$10:$DW$263,0),2)/(INDEX('נתוני דוחות 2014'!$DW$10:$DY$263,MATCH('תשלומי ארנונה של המדינה'!C29,'נתוני דוחות 2014'!$DW$10:$DW$263,0),2)+INDEX('נתוני דוחות 2014'!$DW$10:$DY$263,MATCH('תשלומי ארנונה של המדינה'!C29,'נתוני דוחות 2014'!$DW$10:$DW$263,0),3)-H29/1000) -> 0.31277631 | Z29: =INDEX('נתוני דוחות 2014'!$DW$10:$DY$263,MATCH('תשלומי ארנונה של המדינה'!C29,'נתוני דוחות 2014'!$DW$10:$DW$263,0),2)/(INDEX('נתוני דוחות 2014'!$DW$10:$DY$263,MATCH('תשלומי ארנונה של המדינה'!C29,'נתוני דוחות 2014'!$DW$10:$DW$263,0),2)+INDEX('נתוני דוחות 2014'!$DW$10:$DY$263,MATCH('תשלומי ארנונה של המדינה'!C29,'נתוני דוחות 2014'!$DW$10:$DW$263,0),3)-N29/1000) -> 0.31970299 | AA29: =Z29-X29 -> 0.0069677694 | AB29: =N29/T29 -> 0.031711953 | AC29: =N29/S29 -> 0.015517139 | AD29: =N29/R29 -> 0.0099339718 | AE29: =INDEX(רשויות!$AC$4:$AL$258,MATCH($C29,רשויות!$AC$4:$AC$258,0),10) -> 5 | AF29: =IF(INDEX(רשויות!$AN$4:$AR$258,MATCH($C29,רשויות!$AO$4:$AO$258,0),4)>0,"נתמכת","עצמאית") -> עצמאית | AN29: בית ג'ן | AO29: 11100 | AQ29: יואב | AR29: 7.7
B30: מועצה אזורית חבל מודיעין | C30: חבל מודיעין | D30: =VLOOKUP(C30,גודל_אוכלוסיה,2,FALSE) -> 22400 | E30: =IF(LEFT(B30,3)="עיר","עירייה",IF(LEFT(B30,7)="מועצה א","מועצה אזורית","מועצה מקומית")) -> מועצה אזורית | F30: =INDEX(רשות_מחוז,MATCH(TRIM(C30),רשויות!$G$3:$G$260,0),2) -> מרכז | G30: 6659009.6 | H30: =G30*(1+3.36%) -> 6882752.3 | I30: =J30-H30 -> 16059755 | J30: =IF(OR(A30="עיר עולים",A30="בירה"),H30,H30/0.3) -> 22942508 | K30: =INDEX(מילמן,MATCH(C30,'המידע ממילמן'!$A$1:$A$145,0),2) -> 337025.57 | L30: =M30-K30 -> 275748.19 | M30: =IF(OR(A30="עיר עולים",A30="בירה"),K30,K30/0.55) -> 612773.76 | N30: =K30+H30 -> 7219777.9 | O30: =SUM(N$3:$N30)/SUM($N$3:$N$167) -> 0.81845733 | P30: =N30/D30 -> 322.31151 | Q30: =M30+J30 -> 23555282 | R30: =INDEX(הכנסות_מבוקר,MATCH(C30,'נתוני דוחות 2014'!$C$10:$C$263,0),11)*1000 -> 192041000 | S30: =INDEX(הכנסות_מבוקר,MATCH(C30,'נתוני דוחות 2014'!$C$10:$C$263,0),6)*1000 -> 142953000 | T30: =INDEX(ארנונה_מבוקר,MATCH(C30,'נתוני דוחות 2014'!$C$10:$C$263,0),7)*1000 -> 91525000 | U30: =H30/T30 -> 0.07520079 | V30: =H30/S30 -> 0.04814696 | W30: =H30/R30 -> 0.035840015 | X30: =INDEX('נתוני דוחות 2014'!$DW$10:$DY$263,MATCH('תשלומי ארנונה של המדינה'!C30,'נתוני דוחות 2014'!$DW$10:$DW$263,0),2)/(INDEX('נתוני דוחות 2014'!$DW$10:$DY$263,MATCH('תשלומי ארנונה של המדינה'!C30,'נתוני דוחות 2014'!$DW$10:$DW$263,0),2)+INDEX('נתוני דוחות 2014'!$DW$10:$DY$263,MATCH('תשלומי ארנונה של המדינה'!C30,'נתוני דוחות 2014'!$DW$10:$DW$263,0),3)) -> 0.19932639 | Y30: =INDEX('נתוני דוחות 2014'!$DW$10:$DY$263,MATCH('תשלומי ארנונה של המדינה'!C30,'נתוני דוחות 2014'!$DW$10:$DW$263,0),2)/(INDEX('נתוני דוחות 2014'!$DW$10:$DY$263,MATCH('תשלומי ארנונה של המדינה'!C30,'נתוני דוחות 2014'!$DW$10:$DW$263,0),2)+INDEX('נתוני דוחות 2014'!$DW$10:$DY$263,MATCH('תשלומי ארנונה של המדינה'!C30,'נתוני דוחות 2014'!$DW$10:$DW$263,0),3)-H30/1000) -> 0.21209703 | Z30: =INDEX('נתוני דוחות 2014'!$DW$10:$DY$263,MATCH('תשלומי ארנונה של המדינה'!C30,'נתוני דוחות 2014'!$DW$10:$DW$263,0),2)/(INDEX('נתוני דוחות 2014'!$DW$10:$DY$263,MATCH('תשלומי ארנונה של המדינה'!C30,'נתוני דוחות 2014'!$DW$10:$DW$263,0),2)+INDEX('נתוני דוחות 2014'!$DW$10:$DY$263,MATCH('תשלומי ארנונה של המדינה'!C30,'נתוני דוחות 2014'!$DW$10:$DW$263,0),3)-N30/1000) -> 0.21276452 | AA30: =Z30-X30 -> 0.01343813 | AB30: =N30/T30 -> 0.078883124 | AC30: =N30/S30 -> 0.050504557 | AD30: =N30/R30 -> 0.037594982 | AE30: =INDEX(רשויות!$AC$4:$AL$258,MATCH($C30,רשויות!$AC$4:$AC$258,0),10) -> 7 | AF30: =IF(INDEX(רשויות!$AN$4:$AR$258,MATCH($C30,רשויות!$AO$4:$AO$258,0),4)>0,"נתמכת","עצמאית") -> עצמאית | AN30: בית דגן | AO30: 7100 | AQ30: לב השרון | AR30: 22.6
B31: עיריית חדרה | C31: חדרה | D31: =VLOOKUP(C31,גודל_אוכלוסיה,2,FALSE) -> 85400 | E31: =IF(LEFT(B31,3)="עיר","עירייה",IF(LEFT(B31,7)="מועצה א","מועצה אזורית","מועצה מקומית")) -> עירייה | F31: =INDEX(רשות_מחוז,MATCH(TRIM(C31),רשויות!$G$3:$G$260,0),2) -> חיפה | G31: 512753.5 | H31: =G31*(1+3.36%) -> 529982.02 | I31: =J31-H31 -> 1236624.7 | J31: =IF(OR(A31="עיר עולים",A31="בירה"),H31,H31/0.3) -> 1766606.7 | K31: =INDEX(מילמן,MATCH(C31,'המידע ממילמן'!$A$1:$A$145,0),2) -> 6415016.2 | L31: =M31-K31 -> 5248649.7 | M31: =IF(OR(A31="עיר עולים",A31="בירה"),K31,K31/0.55) -> 11663666 | N31: =K31+H31 -> 6944998.3 | O31: =SUM(N$3:$N31)/SUM($N$3:$N$167) -> 0.82606133 | P31: =N31/D31 -> 81.323165 | Q31: =M31+J31 -> 13430273 | R31: =INDEX(הכנסות_מבוקר,MATCH(C31,'נתוני דוחות 2014'!$C$10:$C$263,0),11)*1000 -> 541593000 | S31: =INDEX(הכנסות_מבוקר,MATCH(C31,'נתוני דוחות 2014'!$C$10:$C$263,0),6)*1000 -> 406365000 | T31: =INDEX(ארנונה_מבוקר,MATCH(C31,'נתוני דוחות 2014'!$C$10:$C$263,0),7)*1000 -> 186687000 | U31: =H31/T31 -> 0.0028388801 | V31: =H31/S31 -> 0.0013042019 | W31: =H31/R31 -> 0.00097856142 | X31: =INDEX('נתוני דוחות 2014'!$DW$10:$DY$263,MATCH('תשלומי ארנונה של המדינה'!C31,'נתוני דוחות 2014'!$DW$10:$DW$263,0),2)/(INDEX('נתוני דוחות 2014'!$DW$10:$DY$263,MATCH('תשלומי ארנונה של המדינה'!C31,'נתוני דוחות 2014'!$DW$10:$DW$263,0),2)+INDEX('נתוני דוחות 2014'!$DW$10:$DY$263,MATCH('תשלומי ארנונה של המדינה'!C31,'נתוני דוחות 2014'!$DW$10:$DW$263,0),3)) -> 0.35767591 | Y31: =INDEX('נתוני דוחות 2014'!$DW$10:$DY$263,MATCH('תשלומי ארנונה של המדינה'!C31,'נתוני דוחות 2014'!$DW$10:$DW$263,0),2)/(INDEX('נתוני דוחות 2014'!$DW$10:$DY$263,MATCH('תשלומי ארנונה של המדינה'!C31,'נתוני דוחות 2014'!$DW$10:$DW$263,0),2)+INDEX('נתוני דוחות 2014'!$DW$10:$DY$263,MATCH('תשלומי ארנונה של המדינה'!C31,'נתוני דוחות 2014'!$DW$10:$DW$263,0),3)-H31/1000) -> 0.35832932 | Z31: =INDEX('נתוני דוחות 2014'!$DW$10:$DY$263,MATCH('תשלומי ארנונה של המדינה'!C31,'נתוני דוחות 2014'!$DW$10:$DW$263,0),2)/(INDEX('נתוני דוחות 2014'!$DW$10:$DY$263,MATCH('תשלומי ארנונה של המדינה'!C31,'נתוני דוחות 2014'!$DW$10:$DW$263,0),2)+INDEX('נתוני דוחות 2014'!$DW$10:$DY$263,MATCH('תשלומי ארנונה של המדינה'!C31,'נתוני דוחות 2014'!$DW$10:$DW$263,0),3)-N31/1000) -> 0.36643191 | AA31: =Z31-X31 -> 0.0087559961 | AB31: =N31/T31 -> 0.037201296 | AC31: =N31/S31 -> 0.017090542 | AD31: =N31/R31 -> 0.012823279 | AE31: =INDEX(רשויות!$AC$4:$AL$258,MATCH($C31,רשויות!$AC$4:$AC$258,0),10) -> 5 | AF31: =IF(INDEX(רשויות!$AN$4:$AR$258,MATCH($C31,רשויות!$AO$4:$AO$258,0),4)>0,"נתמכת","עצמאית") -> עצמאית | AN31: בית שאן | AO31: 17300 | AQ31: לכיש | AR31: 9.8
B32: עיריית פתח תקוה | C32: פתח תקווה | D32: =VLOOKUP(C32,גודל_אוכלוסיה,2,FALSE) -> 219300 | E32: =IF(LEFT(B32,3)="עיר","עירייה",IF(LEFT(B32,7)="מועצה א","מועצה אזורית","מועצה מקומית")) -> עירייה | F32: =INDEX(רשות_מחוז,MATCH(TRIM(C32),רשויות!$G$3:$G$260,0),2) -> מרכז | G32: 5200474.7 | H32: =G32*(1+3.36%) -> 5375210.6 | I32: =J32-H32 -> 12542158 | J32: =IF(OR(A32="עיר עולים",A32="בירה"),H32,H32/0.3) -> 17917369 | K32: =INDEX(מילמן,MATCH(C32,'המידע ממילמן'!$A$1:$A$145,0),2) -> 1563618 | L32: =M32-K32 -> 1279323.8 | M32: =IF(OR(A32="עיר עולים",A32="בירה"),K32,K32/0.55) -> 2842941.8 | N32: =K32+H32 -> 6938828.6 | O32: =SUM(N$3:$N32)/SUM($N$3:$N$167) -> 0.83365857 | P32: =N32/D32 -> 31.640805 | Q32: =M32+J32 -> 20760310 | R32: =INDEX(הכנסות_מבוקר,MATCH(C32,'נתוני דוחות 2014'!$C$10:$C$263,0),11)*1000 -> 1494676000 | S32: =INDEX(הכנסות_מבוקר,MATCH(C32,'נתוני דוחות 2014'!$C$10:$C$263,0),6)*1000 -> 1139024000 | T32: =INDEX(ארנונה_מבוקר,MATCH(C32,'נתוני דוחות 2014'!$C$10:$C$263,0),7)*1000 -> 525640000 | U32: =H32/T32 -> 0.01022603 | V32: =H32/S32 -> 0.0047191373 | W32: =H32/R32 -> 0.003596238 | X32: =INDEX('נתוני דוחות 2014'!$DW$10:$DY$263,MATCH('תשלומי ארנונה של המדינה'!C32,'נתוני דוחות 2014'!$DW$10:$DW$263,0),2)/(INDEX('נתוני דוחות 2014'!$DW$10:$DY$263,MATCH('תשלומי ארנונה של המדינה'!C32,'נתוני דוחות 2014'!$DW$10:$DW$263,0),2)+INDEX('נתוני דוחות 2014'!$DW$10:$DY$263,MATCH('תשלומי ארנונה של המדינה'!C32,'נתוני דוחות 2014'!$DW$10:$DW$263,0),3)) -> 0.40207574 | Y32: =INDEX('נתוני דוחות 2014'!$DW$10:$DY$263,MATCH('תשלומי ארנונה של המדינה'!C32,'נתוני דוחות 2014'!$DW$10:$DW$263,0),2)/(INDEX('נתוני דוחות 2014'!$DW$10:$DY$263,MATCH('תשלומי ארנונה של המדינה'!C32,'נתוני דוחות 2014'!$DW$10:$DW$263,0),2)+INDEX('נתוני דוחות 2014'!$DW$10:$DY$263,MATCH('תשלומי ארנונה של המדינה'!C32,'נתוני דוחות 2014'!$DW$10:$DW$263,0),3)-H32/1000) -> 0.40454931 | Z32: =INDEX('נתוני דוחות 2014'!$DW$10:$DY$263,MATCH('תשלומי ארנונה של המדינה'!C32,'נתוני דוחות 2014'!$DW$10:$DW$263,0),2)/(INDEX('נתוני דוחות 2014'!$DW$10:$DY$263,MATCH('תשלומי ארנונה של המדינה'!C32,'נתוני דוחות 2014'!$DW$10:$DW$263,0),2)+INDEX('נתוני דוחות 2014'!$DW$10:$DY$263,MATCH('תשלומי ארנונה של המדינה'!C32,'נתוני דוחות 2014'!$DW$10:$DW$263,0),3)-N32/1000) -> 0.40527459 | AA32: =Z32-X32 -> 0.0031988457 | AB32: =N32/T32 -> 0.013200724 | AC32: =N32/S32 -> 0.0060919073 | AD32: =N32/R32 -> 0.004642363 | AE32: =INDEX(רשויות!$AC$4:$AL$258,MATCH($C32,רשויות!$AC$4:$AC$258,0),10) -> 6 | AF32: =IF(INDEX(רשויות!$AN$4:$AR$258,MATCH($C32,רשויות!$AO$4:$AO$258,0),4)>0,"נתמכת","עצמאית") -> עצמאית | AN32: בית שמש | AO32: 94100 | AQ32: מבואות החרמון | AR32: 6.7 | AY32: פגיעה סבירה | AZ32: פגיעה משמעותית | BA32: פגיעה קשה | BB32: פגיעה קשה עד אנושה
A33: עיר עולים | B33: מועצה מקומית ראש פינה | C33: ראש פינה | D33: =VLOOKUP(C33,גודל_אוכלוסיה,2,FALSE) -> 2800 | E33: =IF(LEFT(B33,3)="עיר","עירייה",IF(LEFT(B33,7)="מועצה א","מועצה אזורית","מועצה מקומית")) -> מועצה מקומית | F33: =INDEX(רשות_מחוז,MATCH(TRIM(C33),רשויות!$G$3:$G$260,0),2) -> צפון | G33: 5820480.2 | H33: =G33*(1+3.36%) -> 6016048.4 | I33: =J33-H33 -> 0 | J33: =IF(OR(A33="עיר עולים",A33="בירה"),H33,H33/0.3) -> 6016048.4 | K33: =INDEX(מילמן,MATCH(C33,'המידע ממילמן'!$A$1:$A$145,0),2) -> 162178.2 | L33: =M33-K33 -> 0 | M33: =IF(OR(A33="עיר עולים",A33="בירה"),K33,K33/0.55) -> 162178.2 | N33: =K33+H33 -> 6178226.6 | O33: =SUM(N$3:$N33)/SUM($N$3:$N$167) -> 0.84042303 | P33: =N33/D33 -> 2206.5095 | Q33: =M33+J33 -> 6178226.6 | R33: =INDEX(הכנסות_מבוקר,MATCH(C33,'נתוני דוחות 2014'!$C$10:$C$263,0),11)*1000 -> 45974000 | S33: =INDEX(הכנסות_מבוקר,MATCH(C33,'נתוני דוחות 2014'!$C$10:$C$263,0),6)*1000 -> 31976000 | T33: =INDEX(ארנונה_מבוקר,MATCH(C33,'נתוני דוחות 2014'!$C$10:$C$263,0),7)*1000 -> 16857000 | U33: =H33/T33 -> 0.35688725 | V33: =H33/S33 -> 0.18814262 | W33: =H33/R33 -> 0.13085762 | X33: =INDEX('נתוני דוחות 2014'!$DW$10:$DY$263,MATCH('תשלומי ארנונה של המדינה'!C33,'נתוני דוחות 2014'!$DW$10:$DW$263,0),2)/(INDEX('נתוני דוחות 2014'!$DW$10:$DY$263,MATCH('תשלומי ארנונה של המדינה'!C33,'נתוני דוחות 2014'!$DW$10:$DW$263,0),2)+INDEX('נתוני דוחות 2014'!$DW$10:$DY$263,MATCH('תשלומי ארנונה של המדינה'!C33,'נתוני דוחות 2014'!$DW$10:$DW$263,0),3)) -> 0.186556 | Y33: =INDEX('נתוני דוחות 2014'!$DW$10:$DY$263,MATCH('תשלומי ארנונה של המדינה'!C33,'נתוני דוחות 2014'!$DW$10:$DW$263,0),2)/(INDEX('נתוני דוחות 2014'!$DW$10:$DY$263,MATCH('תשלומי ארנונה של המדינה'!C33,'נתוני דוחות 2014'!$DW$10:$DW$263,0),2)+INDEX('נתוני דוחות 2014'!$DW$10:$DY$263,MATCH('תשלומי ארנונה של המדינה'!C33,'נתוני דוחות 2014'!$DW$10:$DW$263,0),3)-H33/1000) -> 0.26286889 | Z33: =INDEX('נתוני דוחות 2014'!$DW$10:$DY$263,MATCH('תשלומי ארנונה של המדינה'!C33,'נתוני דוחות 2014'!$DW$10:$DW$263,0),2)/(INDEX('נתוני דוחות 2014'!$DW$10:$DY$263,MATCH('תשלומי ארנונה של המדינה'!C33,'נתוני דוחות 2014'!$DW$10:$DW$263,0),2)+INDEX('נתוני דוחות 2014'!$DW$10:$DY$263,MATCH('תשלומי ארנונה של המדינה'!C33,'נתוני דוחות 2014'!$DW$10:$DW$263,0),3)-N33/1000) -> 0.26579995 | AA33: =Z33-X33 -> 0.079243946 | AB33: =N33/T33 -> 0.36650807 | AC33: =N33/S33 -> 0.19321449 | AD33: =N33/R33 -> 0.13438523 | AE33: =INDEX(רשויות!$AC$4:$AL$258,MATCH($C33,רשויות!$AC$4:$AC$258,0),10) -> 7 | AF33: =IF(INDEX(רשויות!$AN$4:$AR$258,MATCH($C33,רשויות!$AO$4:$AO$258,0),4)>0,"נתמכת","עצמאית") -> עצמאית | AN33: ביתר עילית | AO33: 44900 | AQ33: מגידו | AR33: 11 | AX33: מס' רשויות | AY33: =AU5+AV3 -> 88 | AZ33: =AW3+AV4 -> 38 | BA33: =AW5 -> 41 | BB33: =AW6 -> 22
B34: מועצה אזורית גליל תחתון | C34: הגליל התחתון | D34: =VLOOKUP(C34,גודל_אוכלוסיה,2,FALSE) -> 10900 | E34: =IF(LEFT(B34,3)="עיר","עירייה",IF(LEFT(B34,7)="מועצה א","מועצה אזורית","מועצה מקומית")) -> מועצה אזורית | F34: =INDEX(רשות_מחוז,MATCH(TRIM(C34),רשויות!$G$3:$G$260,0),2) -> צפון | G34: 5900750.4 | H34: =G34*(1+3.36%) -> 6099015.6 | I34: =J34-H34 -> 14231036 | J34: =IF(OR(A34="עיר עולים",A34="בירה"),H34,H34/0.3) -> 20330052 | N34: =K34+H34 -> 6099015.6 | O34: =SUM(N$3:$N34)/SUM($N$3:$N$167) -> 0.84710077 | P34: =N34/D34 -> 559.54271 | Q34: =M34+J34 -> 20330052 | R34: =INDEX(הכנסות_מבוקר,MATCH(C34,'נתוני דוחות 2014'!$C$10:$C$263,0),11)*1000 -> 88394000 | S34: =INDEX(הכנסות_מבוקר,MATCH(C34,'נתוני דוחות 2014'!$C$10:$C$263,0),6)*1000 -> 52980000 | T34: =INDEX(ארנונה_מבוקר,MATCH(C34,'נתוני דוחות 2014'!$C$10:$C$263,0),7)*1000 -> 19622000 | U34: =H34/T34 -> 0.31082538 | V34: =H34/S34 -> 0.11511921 | W34: =H34/R34 -> 0.068998072 | X34: =INDEX('נתוני דוחות 2014'!$DW$10:$DY$263,MATCH('תשלומי ארנונה של המדינה'!C34,'נתוני דוחות 2014'!$DW$10:$DW$263,0),2)/(INDEX('נתוני דוחות 2014'!$DW$10:$DY$263,MATCH('תשלומי ארנונה של המדינה'!C34,'נתוני דוחות 2014'!$DW$10:$DW$263,0),2)+INDEX('נתוני דוחות 2014'!$DW$10:$DY$263,MATCH('תשלומי ארנונה של המדינה'!C34,'נתוני דוחות 2014'!$DW$10:$DW$263,0),3)) -> 0.4090471 | Y34: =INDEX('נתוני דוחות 2014'!$DW$10:$DY$263,MATCH('תשלומי ארנונה של המדינה'!C34,'נתוני דוחות 2014'!$DW$10:$DW$263,0),2)/(INDEX('נתוני דוחות 2014'!$DW$10:$DY$263,MATCH('תשלומי ארנונה של המדינה'!C34,'נתוני דוחות 2014'!$DW$10:$DW$263,0),2)+INDEX('נתוני דוחות 2014'!$DW$10:$DY$263,MATCH('תשלומי ארנונה של המדינה'!C34,'נתוני דוחות 2014'!$DW$10:$DW$263,0),3)-H34/1000) -> 0.50108865 | Z34: =INDEX('נתוני דוחות 2014'!$DW$10:$DY$263,MATCH('תשלומי ארנונה של המדינה'!C34,'נתוני דוחות 2014'!$DW$10:$DW$263,0),2)/(INDEX('נתוני דוחות 2014'!$DW$10:$DY$263,MATCH('תשלומי ארנונה של המדינה'!C34,'נתוני דוחות 2014'!$DW$10:$DW$263,0),2)+INDEX('נתוני דוחות 2014'!$DW$10:$DY$263,MATCH('תשלומי ארנונה של המדינה'!C34,'נתוני דוחות 2014'!$DW$10:$DW$263,0),3)-N34/1000) -> 0.50108865 | AA34: =Z34-X34 -> 0.092041546 | AB34: =N34/T34 -> 0.31082538 | AC34: =N34/S34 -> 0.11511921 | AD34: =N34/R34 -> 0.068998072 | AE34: =INDEX(רשויות!$AC$4:$AL$258,MATCH($C34,רשויות!$AC$4:$AC$258,0),10) -> 7 | AF34: =IF(INDEX(רשויות!$AN$4:$AR$258,MATCH($C34,רשויות!$AO$4:$AO$258,0),4)>0,"נתמכת","עצמאית") -> נתמכת | AN34: בני ברק | AO34: 172500 | AQ34: מגילות ים המלח | AR34: 1.2 | AX34: מתוכן עצמאיות | AY34: =AV10+AU12 -> 25 | AZ34: =AW10+AV11 -> 17 | BA34: =AW12 -> 17 | BB34: =AW13 -> 7
A35: עיר עולים | C35: לוד | D35: =VLOOKUP(C35,גודל_אוכלוסיה,2,FALSE) -> 71600 | E35: =INDEX(רשויות!$G$3:$P$260,MATCH(TRIM(C35),רשויות!$G$3:$G$260,0),10) -> עירייה | F35: =INDEX(רשות_מחוז,MATCH(TRIM(C35),רשויות!$G$3:$G$260,0),2) -> מרכז | H35: =G35*(1+3.36%) -> 0 | K35: =INDEX(מילמן,MATCH(C35,'המידע ממילמן'!$A$1:$A$145,0),2) -> 5733208.4 | L35: =M35-K35 -> 0 | M35: =IF(OR(A35="עיר עולים",A35="בירה"),K35,K35/0.55) -> 5733208.4 | N35: =K35+H35 -> 5733208.4 | O35: =SUM(N$3:$N35)/SUM($N$3:$N$167) -> 0.85337799 | P35: =N35/D35 -> 80.072743 | Q35: =M35+J35 -> 5733208.4 | R35: =INDEX(הכנסות_מבוקר,MATCH(C35,'נתוני דוחות 2014'!$C$10:$C$263,0),11)*1000 -> 391895000 | S35: =INDEX(הכנסות_מבוקר,MATCH(C35,'נתוני דוחות 2014'!$C$10:$C$263,0),6)*1000 -> 223756000 | T35: =INDEX(ארנונה_מבוקר,MATCH(C35,'נתוני דוחות 2014'!$C$10:$C$263,0),7)*1000 -> 122827000 | U35: =H35/T35 -> 0 | V35: =H35/S35 -> 0 | W35: =H35/R35 -> 0 | X35: =INDEX('נתוני דוחות 2014'!$DW$10:$DY$263,MATCH('תשלומי ארנונה של המדינה'!C35,'נתוני דוחות 2014'!$DW$10:$DW$263,0),2)/(INDEX('נתוני דוחות 2014'!$DW$10:$DY$263,MATCH('תשלומי ארנונה של המדינה'!C35,'נתוני דוחות 2014'!$DW$10:$DW$263,0),2)+INDEX('נתוני דוחות 2014'!$DW$10:$DY$263,MATCH('תשלומי ארנונה של המדינה'!C35,'נתוני דוחות 2014'!$DW$10:$DW$263,0),3)) -> 0.29177766 | Y35: =INDEX('נתוני דוחות 2014'!$DW$10:$DY$263,MATCH('תשלומי ארנונה של המדינה'!C35,'נתוני דוחות 2014'!$DW$10:$DW$263,0),2)/(INDEX('נתוני דוחות 2014'!$DW$10:$DY$263,MATCH('תשלומי ארנונה של המדינה'!C35,'נתוני דוחות 2014'!$DW$10:$DW$263,0),2)+INDEX('נתוני דוחות 2014'!$DW$10:$DY$263,MATCH('תשלומי ארנונה של המדינה'!C35,'נתוני דוחות 2014'!$DW$10:$DW$263,0),3)-H35/1000) -> 0.29177766 | Z35: =INDEX('נתוני דוחות 2014'!$DW$10:$DY$263,MATCH('תשלומי ארנונה של המדינה'!C35,'נתוני דוחות 2014'!$DW$10:$DW$263,0),2)/(INDEX('נתוני דוחות 2014'!$DW$10:$DY$263,MATCH('תשלומי ארנונה של המדינה'!C35,'נתוני דוחות 2014'!$DW$10:$DW$263,0),2)+INDEX('נתוני דוחות 2014'!$DW$10:$DY$263,MATCH('תשלומי ארנונה של המדינה'!C35,'נתוני דוחות 2014'!$DW$10:$DW$263,0),3)-N35/1000) -> 0.30175294 | AA35: =Z35-X35 -> 0.0099752782 | AB35: =N35/T35 -> 0.046677102 | AC35: =N35/S35 -> 0.025622591 | AD35: =N35/R35 -> 0.01462945 | AE35: =INDEX(רשויות!$AC$4:$AL$258,MATCH($C35,רשויות!$AC$4:$AC$258,0),10) -> 4 | AF35: =IF(INDEX(רשויות!$AN$4:$AR$258,MATCH($C35,רשויות!$AO$4:$AO$258,0),4)>0,"נתמכת","עצמאית") -> נתמכת | AN35: בני עי"ש | AO35: 6900 | AQ35: מטה אשר | AR35: 25 | AX35: סכום | AY35: =AZ5+BA3 -> 1.6762752e+08 | AZ35: =BA4+BB3 -> 4.3848137e+08 | BA35: =BB5 -> 3.8691642e+08 | BB35: =BB6 -> 3.5296235e+08
A36: עיר עולים | B36: מועצה אזורית לכיש | C36: לכיש | D36: =VLOOKUP(C36,גודל_אוכלוסיה,2,FALSE) -> 9800 | E36: =IF(LEFT(B36,3)="עיר","עירייה",IF(LEFT(B36,7)="מועצה א","מועצה אזורית","מועצה מקומית")) -> מועצה אזורית | F36: =INDEX(רשות_מחוז,MATCH(TRIM(C36),רשויות!$G$3:$G$260,0),2) -> דרום | G36: 5685066.1 | H36: =G36*(1+3.36%) -> 5876084.3 | I36: =J36-H36 -> 0 | J36: =IF(OR(A36="עיר עולים",A36="בירה"),H36,H36/0.3) -> 5876084.3 | N36: =K36+H36 -> 5876084.3 | O36: =SUM(N$3:$N36)/SUM($N$3:$N$167) -> 0.85981165 | P36: =N36/D36 -> 599.60044 | Q36: =M36+J36 -> 5876084.3 | R36: =INDEX(הכנסות_מבוקר,MATCH(C36,'נתוני דוחות 2014'!$C$10:$C$263,0),11)*1000 -> 77205980 | S36: =INDEX(הכנסות_מבוקר,MATCH(C36,'נתוני דוחות 2014'!$C$10:$C$263,0),6)*1000 -> 31303970 | T36: =INDEX(ארנונה_מבוקר,MATCH(C36,'נתוני דוחות 2014'!$C$10:$C$263,0),7)*1000 -> 11157000 | U36: =H36/T36 -> 0.52667243 | V36: =H36/S36 -> 0.18771052 | W36: =H36/R36 -> 0.076109187 | X36: =INDEX('נתוני דוחות 2014'!$DW$10:$DY$263,MATCH('תשלומי ארנונה של המדינה'!C36,'נתוני דוחות 2014'!$DW$10:$DW$263,0),2)/(INDEX('נתוני דוחות 2014'!$DW$10:$DY$263,MATCH('תשלומי ארנונה של המדינה'!C36,'נתוני דוחות 2014'!$DW$10:$DW$263,0),2)+INDEX('נתוני דוחות 2014'!$DW$10:$DY$263,MATCH('תשלומי ארנונה של המדינה'!C36,'נתוני דוחות 2014'!$DW$10:$DW$263,0),3)) -> 0.44865586 | Y36: =INDEX('נתוני דוחות 2014'!$DW$10:$DY$263,MATCH('תשלומי ארנונה של המדינה'!C36,'נתוני דוחות 2014'!$DW$10:$DW$263,0),2)/(INDEX('נתוני דוחות 2014'!$DW$10:$DY$263,MATCH('תשלומי ארנונה של המדינה'!C36,'נתוני דוחות 2014'!$DW$10:$DW$263,0),2)+INDEX('נתוני דוחות 2014'!$DW$10:$DY$263,MATCH('תשלומי ארנונה של המדינה'!C36,'נתוני דוחות 2014'!$DW$10:$DW$263,0),3)-H36/1000) -> 0.63224605 | Z36: =INDEX('נתוני דוחות 2014'!$DW$10:$DY$263,MATCH('תשלומי ארנונה של המדינה'!C36,'נתוני דוחות 2014'!$DW$10:$DW$263,0),2)/(INDEX('נתוני דוחות 2014'!$DW$10:$DY$263,MATCH('תשלומי ארנונה של המדינה'!C36,'נתוני דוחות 2014'!$DW$10:$DW$263,0),2)+INDEX('נתוני דוחות 2014'!$DW$10:$DY$263,MATCH('תשלומי ארנונה של המדינה'!C36,'נתוני דוחות 2014'!$DW$10:$DW$263,0),3)-N36/1000) -> 0.63224605 | AA36: =Z36-X36 -> 0.18359019 | AB36: =N36/T36 -> 0.52667243 | AC36: =N36/S36 -> 0.18771052 | AD36: =N36/R36 -> 0.076109187 | AE36: =INDEX(רשויות!$AC$4:$AL$258,MATCH($C36,רשויות!$AC$4:$AC$258,0),10) -> 5 | AF36: =IF(INDEX(רשויות!$AN$4:$AR$258,MATCH($C36,רשויות!$AO$4:$AO$258,0),4)>0,"נתמכת","עצמאית") -> נתמכת | AN36: בסמ"ה | AO36: 8500 | AQ36: מטה בנימין | AR36: 54.8 | AX36: עצמאיות בלבד | AY36: =AZ12+BA10 -> 1.4457169e+08 | AZ36: =BA11+BB10 -> 3.1055747e+08 | BA36: =BB12 -> 2.9866774e+08 | BB36: =BB13 -> 2.3187755e+08
A37: עיר עולים | B37: עיריית קריית מלאכי | C37: קרית מלאכי | D37: =VLOOKUP(C37,גודל_אוכלוסיה,2,FALSE) -> 21300 | E37: =IF(LEFT(B37,3)="עיר","עירייה",IF(LEFT(B37,7)="מועצה א","מועצה אזורית","מועצה מקומית")) -> עירייה | F37: =INDEX(רשות_מחוז,MATCH(TRIM(C37),רשויות!$G$3:$G$260,0),2) -> דרום | G37: 5246102.6 | H37: =G37*(1+3.36%) -> 5422371.6 | I37: =J37-H37 -> 0 | J37: =IF(OR(A37="עיר עולים",A37="בירה"),H37,H37/0.3) -> 5422371.6 | K37: =INDEX(מילמן,MATCH(C37,'המידע ממילמן'!$A$1:$A$145,0),2) -> 315934.69 | L37: =M37-K37 -> 0 | M37: =IF(OR(A37="עיר עולים",A37="בירה"),K37,K37/0.55) -> 315934.69 | N37: =K37+H37 -> 5738306.3 | O37: =SUM(N$3:$N37)/SUM($N$3:$N$167) -> 0.86609445 | P37: =N37/D37 -> 269.40405 | Q37: =M37+J37 -> 5738306.3 | R37: =INDEX(הכנסות_מבוקר,MATCH(C37,'נתוני דוחות 2014'!$C$10:$C$263,0),11)*1000 -> 173358000 | S37: =INDEX(הכנסות_מבוקר,MATCH(C37,'נתוני דוחות 2014'!$C$10:$C$263,0),6)*1000 -> 92011000 | T37: =INDEX(ארנונה_מבוקר,MATCH(C37,'נתוני דוחות 2014'!$C$10:$C$263,0),7)*1000 -> 44206000 | U37: =H37/T37 -> 0.12266144 | V37: =H37/S37 -> 0.058931776 | W37: =H37/R37 -> 0.031278462 | X37: =INDEX('נתוני דוחות 2014'!$DW$10:$DY$263,MATCH('תשלומי ארנונה של המדינה'!C37,'נתוני דוחות 2014'!$DW$10:$DW$263,0),2)/(INDEX('נתוני דוחות 2014'!$DW$10:$DY$263,MATCH('תשלומי ארנונה של המדינה'!C37,'נתוני דוחות 2014'!$DW$10:$DW$263,0),2)+INDEX('נתוני דוחות 2014'!$DW$10:$DY$263,MATCH('תשלומי ארנונה של המדינה'!C37,'נתוני דוחות 2014'!$DW$10:$DW$263,0),3)) -> 0.1980189 | Y37: =INDEX('נתוני דוחות 2014'!$DW$10:$DY$263,MATCH('תשלומי ארנונה של המדינה'!C37,'נתוני דוחות 2014'!$DW$10:$DW$263,0),2)/(INDEX('נתוני דוחות 2014'!$DW$10:$DY$263,MATCH('תשלומי ארנונה של המדינה'!C37,'נתוני דוחות 2014'!$DW$10:$DW$263,0),2)+INDEX('נתוני דוחות 2014'!$DW$10:$DY$263,MATCH('תשלומי ארנונה של המדינה'!C37,'נתוני דוחות 2014'!$DW$10:$DW$263,0),3)-H37/1000) -> 0.21962377 | Z37: =INDEX('נתוני דוחות 2014'!$DW$10:$DY$263,MATCH('תשלומי ארנונה של המדינה'!C37,'נתוני דוחות 2014'!$DW$10:$DW$263,0),2)/(INDEX('נתוני דוחות 2014'!$DW$10:$DY$263,MATCH('תשלומי ארנונה של המדינה'!C37,'נתוני דוחות 2014'!$DW$10:$DW$263,0),2)+INDEX('נתוני דוחות 2014'!$DW$10:$DY$263,MATCH('תשלומי ארנונה של המדינה'!C37,'נתוני דוחות 2014'!$DW$10:$DW$263,0),3)-N37/1000) -> 0.22102885 | AA37: =Z37-X37 -> 0.023009946 | AB37: =N37/T37 -> 0.12980831 | AC37: =N37/S37 -> 0.062365438 | AD37: =N37/R37 -> 0.033100903 | AE37: =INDEX(רשויות!$AC$4:$AL$258,MATCH($C37,רשויות!$AC$4:$AC$258,0),10) -> 4 | AF37: =IF(INDEX(רשויות!$AN$4:$AR$258,MATCH($C37,רשויות!$AO$4:$AO$258,0),4)>0,"נתמכת","עצמאית") -> נתמכת | AN37: בסמת טבעון | AO37: 7200 | AQ37: מטה יהודה | AR37: 49.5
B38: עיריית קריית אונו | C38: קרית אונו | D38: =VLOOKUP(C38,גודל_אוכלוסיה,2,FALSE) -> 35500 | E38: =IF(LEFT(B38,3)="עיר","עירייה",IF(LEFT(B38,7)="מועצה א","מועצה אזורית","מועצה מקומית")) -> עירייה | F38: =INDEX(רשות_מחוז,MATCH(TRIM(C38),רשויות!$G$3:$G$260,0),2) -> תל אביב | G38: 4957731.3 | H38: =G38*(1+3.36%) -> 5124311.1 | I38: =J38-H38 -> 11956726 | J38: =IF(OR(A38="עיר עולים",A38="בירה"),H38,H38/0.3) -> 17081037 | N38: =K38+H38 -> 5124311.1 | O38: =SUM(N$3:$N38)/SUM($N$3:$N$167) -> 0.871705 | P38: =N38/D38 -> 144.34679 | Q38: =M38+J38 -> 17081037 | R38: =INDEX(הכנסות_מבוקר,MATCH(C38,'נתוני דוחות 2014'!$C$10:$C$263,0),11)*1000 -> 247145000 | S38: =INDEX(הכנסות_מבוקר,MATCH(C38,'נתוני דוחות 2014'!$C$10:$C$263,0),6)*1000 -> 161021000 | T38: =INDEX(ארנונה_מבוקר,MATCH(C38,'נתוני דוחות 2014'!$C$10:$C$263,0),7)*1000 -> 22096000 | U38: =H38/T38 -> 0.23191126 | V38: =H38/S38 -> 0.031823868 | W38: =H38/R38 -> 0.020734027 | X38: =INDEX('נתוני דוחות 2014'!$DW$10:$DY$263,MATCH('תשלומי ארנונה של המדינה'!C38,'נתוני דוחות 2014'!$DW$10:$DW$263,0),2)/(INDEX('נתוני דוחות 2014'!$DW$10:$DY$263,MATCH('תשלומי ארנונה של המדינה'!C38,'נתוני דוחות 2014'!$DW$10:$DW$263,0),2)+INDEX('נתוני דוחות 2014'!$DW$10:$DY$263,MATCH('תשלומי ארנונה של המדינה'!C38,'נתוני דוחות 2014'!$DW$10:$DW$263,0),3)) -> 0.76465576 | Y38: =INDEX('נתוני דוחות 2014'!$DW$10:$DY$263,MATCH('תשלומי ארנונה של המדינה'!C38,'נתוני דוחות 2014'!$DW$10:$DW$263,0),2)/(INDEX('נתוני דוחות 2014'!$DW$10:$DY$263,MATCH('תשלומי ארנונה של המדינה'!C38,'נתוני דוחות 2014'!$DW$10:$DW$263,0),2)+INDEX('נתוני דוחות 2014'!$DW$10:$DY$263,MATCH('תשלומי ארנונה של המדינה'!C38,'נתוני דוחות 2014'!$DW$10:$DW$263,0),3)-H38/1000) -> 0.80879919 | Z38: =INDEX('נתוני דוחות 2014'!$DW$10:$DY$263,MATCH('תשלומי ארנונה של המדינה'!C38,'נתוני דוחות 2014'!$DW$10:$DW$263,0),2)/(INDEX('נתוני דוחות 2014'!$DW$10:$DY$263,MATCH('תשלומי ארנונה של המדינה'!C38,'נתוני דוחות 2014'!$DW$10:$DW$263,0),2)+INDEX('נתוני דוחות 2014'!$DW$10:$DY$263,MATCH('תשלומי ארנונה של המדינה'!C38,'נתוני דוחות 2014'!$DW$10:$DW$263,0),3)-N38/1000) -> 0.80879919 | AA38: =Z38-X38 -> 0.044143434 | AB38: =N38/T38 -> 0.23191126 | AC38: =N38/S38 -> 0.031823868 | AD38: =N38/R38 -> 0.020734027 | AE38: =INDEX(רשויות!$AC$4:$AL$258,MATCH($C38,רשויות!$AC$4:$AC$258,0),10) -> 8 | AF38: =IF(INDEX(רשויות!$AN$4:$AR$258,MATCH($C38,רשויות!$AO$4:$AO$258,0),4)>0,"נתמכת","עצמאית") -> עצמאית | AN38: בת ים | AO38: 128900 | AQ38: מנשה | AR38: 17.9
A39: עיר עולים | B39: עיריית עכו | C39: עכו | D39: =VLOOKUP(C39,גודל_אוכלוסיה,2,FALSE) -> 47400 | E39: =IF(LEFT(B39,3)="עיר","עירייה",IF(LEFT(B39,7)="מועצה א","מועצה אזורית","מועצה מקומית")) -> עירייה | F39: =INDEX(רשות_מחוז,MATCH(TRIM(C39),רשויות!$G$3:$G$260,0),2) -> צפון | G39: 158832.91 | H39: =G39*(1+3.36%) -> 164169.7 | I39: =J39-H39 -> 0 | J39: =IF(OR(A39="עיר עולים",A39="בירה"),H39,H39/0.3) -> 164169.7 | K39: =INDEX(מילמן,MATCH(C39,'המידע ממילמן'!$A$1:$A$145,0),2) -> 4541423.4 | L39: =M39-K39 -> 0 | M39: =IF(OR(A39="עיר עולים",A39="בירה"),K39,K39/0.55) -> 4541423.4 | N39: =K39+H39 -> 4705593.1 | O39: =SUM(N$3:$N39)/SUM($N$3:$N$167) -> 0.87685709 | P39: =N39/D39 -> 99.274116 | Q39: =M39+J39 -> 4705593.1 | R39: =INDEX(הכנסות_מבוקר,MATCH(C39,'נתוני דוחות 2014'!$C$10:$C$263,0),11)*1000 -> 341401000 | S39: =INDEX(הכנסות_מבוקר,MATCH(C39,'נתוני דוחות 2014'!$C$10:$C$263,0),6)*1000 -> 208849000 | T39: =INDEX(ארנונה_מבוקר,MATCH(C39,'נתוני דוחות 2014'!$C$10:$C$263,0),7)*1000 -> 72850000 | U39: =H39/T39 -> 0.0022535305 | V39: =H39/S39 -> 0.00078606886 | W39: =H39/R39 -> 0.00048087058 | X39: =INDEX('נתוני דוחות 2014'!$DW$10:$DY$263,MATCH('תשלומי ארנונה של המדינה'!C39,'נתוני דוחות 2014'!$DW$10:$DW$263,0),2)/(INDEX('נתוני דוחות 2014'!$DW$10:$DY$263,MATCH('תשלומי ארנונה של המדינה'!C39,'נתוני דוחות 2014'!$DW$10:$DW$263,0),2)+INDEX('נתוני דוחות 2014'!$DW$10:$DY$263,MATCH('תשלומי ארנונה של המדינה'!C39,'נתוני דוחות 2014'!$DW$10:$DW$263,0),3)) -> 0.36126747 | Y39: =INDEX('נתוני דוחות 2014'!$DW$10:$DY$263,MATCH('תשלומי ארנונה של המדינה'!C39,'נתוני דוחות 2014'!$DW$10:$DW$263,0),2)/(INDEX('נתוני דוחות 2014'!$DW$10:$DY$263,MATCH('תשלומי ארנונה של המדינה'!C39,'נתוני דוחות 2014'!$DW$10:$DW$263,0),2)+INDEX('נתוני דוחות 2014'!$DW$10:$DY$263,MATCH('תשלומי ארנונה של המדינה'!C39,'נתוני דוחות 2014'!$DW$10:$DW$263,0),3)-H39/1000) -> 0.36178823 | Z39: =INDEX('נתוני דוחות 2014'!$DW$10:$DY$263,MATCH('תשלומי ארנונה של המדינה'!C39,'נתוני דוחות 2014'!$DW$10:$DW$263,0),2)/(INDEX('נתוני דוחות 2014'!$DW$10:$DY$263,MATCH('תשלומי ארנונה של המדינה'!C39,'נתוני דוחות 2014'!$DW$10:$DW$263,0),2)+INDEX('נתוני דוחות 2014'!$DW$10:$DY$263,MATCH('תשלומי ארנונה של המדינה'!C39,'נתוני דוחות 2014'!$DW$10:$DW$263,0),3)-N39/1000) -> 0.3768139 | AA39: =Z39-X39 -> 0.015546433 | AB39: =N39/T39 -> 0.064592905 | AC39: =N39/S39 -> 0.022531078 | AD39: =N39/R39 -> 0.013783185 | AE39: =INDEX(רשויות!$AC$4:$AL$258,MATCH($C39,רשויות!$AC$4:$AC$258,0),10) -> 4 | AF39: =IF(INDEX(רשויות!$AN$4:$AR$258,MATCH($C39,רשויות!$AO$4:$AO$258,0),4)>0,"נתמכת","עצמאית") -> נתמכת | AN39: ג'דיידה-מכר | AO39: 19600 | AQ39: מעלה יוסף | AR39: 9.6
B40: עיריית חולון | C40: חולון | D40: =VLOOKUP(C40,גודל_אוכלוסיה,2,FALSE) -> 186400 | E40: =IF(LEFT(B40,3)="עיר","עירייה",IF(LEFT(B40,7)="מועצה א","מועצה אזורית","מועצה מקומית")) -> עירייה | F40: =INDEX(רשות_מחוז,MATCH(TRIM(C40),רשויות!$G$3:$G$260,0),2) -> תל אביב | G40: 18427.72 | H40: =G40*(1+3.36%) -> 19046.891 | I40: =J40-H40 -> 44442.747 | J40: =IF(OR(A40="עיר עולים",A40="בירה"),H40,H40/0.3) -> 63489.638 | K40: =INDEX(מילמן,MATCH(C40,'המידע ממילמן'!$A$1:$A$145,0),2) -> 4659607.8 | L40: =M40-K40 -> 3812406.4 | M40: =IF(OR(A40="עיר עולים",A40="בירה"),K40,K40/0.55) -> 8472014.2 | N40: =K40+H40 -> 4678654.7 | O40: =SUM(N$3:$N40)/SUM($N$3:$N$167) -> 0.88197969 | P40: =N40/D40 -> 25.100079 | Q40: =M40+J40 -> 8535503.8 | R40: =INDEX(הכנסות_מבוקר,MATCH(C40,'נתוני דוחות 2014'!$C$10:$C$263,0),11)*1000 -> 1060312000 | S40: =INDEX(הכנסות_מבוקר,MATCH(C40,'נתוני דוחות 2014'!$C$10:$C$263,0),6)*1000 -> 722881000 | T40: =INDEX(ארנונה_מבוקר,MATCH(C40,'נתוני דוחות 2014'!$C$10:$C$263,0),7)*1000 -> 254410000 | U40: =H40/T40 -> 7.4866913e-05 | V40: =H40/S40 -> 2.6348585e-05 | W40: =H40/R40 -> 1.7963478e-05 | X40: =INDEX('נתוני דוחות 2014'!$DW$10:$DY$263,MATCH('תשלומי ארנונה של המדינה'!C40,'נתוני דוחות 2014'!$DW$10:$DW$263,0),2)/(INDEX('נתוני דוחות 2014'!$DW$10:$DY$263,MATCH('תשלומי ארנונה של המדינה'!C40,'נתוני דוחות 2014'!$DW$10:$DW$263,0),2)+INDEX('נתוני דוחות 2014'!$DW$10:$DY$263,MATCH('תשלומי ארנונה של המדינה'!C40,'נתוני דוחות 2014'!$DW$10:$DW$263,0),3)) -> 0.47862423 | Y40: =INDEX('נתוני דוחות 2014'!$DW$10:$DY$263,MATCH('תשלומי ארנונה של המדינה'!C40,'נתוני דוחות 2014'!$DW$10:$DW$263,0),2)/(INDEX('נתוני דוחות 2014'!$DW$10:$DY$263,MATCH('תשלומי ארנונה של המדינה'!C40,'נתוני דוחות 2014'!$DW$10:$DW$263,0),2)+INDEX('נתוני דוחות 2014'!$DW$10:$DY$263,MATCH('תשלומי ארנונה של המדינה'!C40,'נתוני דוחות 2014'!$DW$10:$DW$263,0),3)-H40/1000) -> 0.47864291 | Z40: =INDEX('נתוני דוחות 2014'!$DW$10:$DY$263,MATCH('תשלומי ארנונה של המדינה'!C40,'נתוני דוחות 2014'!$DW$10:$DW$263,0),2)/(INDEX('נתוני דוחות 2014'!$DW$10:$DY$263,MATCH('תשלומי ארנונה של המדינה'!C40,'נתוני דוחות 2014'!$DW$10:$DW$263,0),2)+INDEX('נתוני דוחות 2014'!$DW$10:$DY$263,MATCH('תשלומי ארנונה של המדינה'!C40,'נתוני דוחות 2014'!$DW$10:$DW$263,0),3)-N40/1000) -> 0.48325781 | AA40: =Z40-X40 -> 0.0046335787 | AB40: =N40/T40 -> 0.018390215 | AC40: =N40/S40 -> 0.0064722336 | AD40: =N40/R40 -> 0.0044125264 | AE40: =INDEX(רשויות!$AC$4:$AL$258,MATCH($C40,רשויות!$AC$4:$AC$258,0),10) -> 5 | AF40: =IF(INDEX(רשויות!$AN$4:$AR$258,MATCH($C40,רשויות!$AO$4:$AO$258,0),4)>0,"נתמכת","עצמאית") -> עצמאית | AN40: ג'ולס | AO40: 6000 | AQ40: מרום הגליל | AR40: 14.1
B41: מועצה אזורית חוף אשקלון | C41: חוף אשקלון | D41: =VLOOKUP(C41,גודל_אוכלוסיה,2,FALSE) -> 15000 | E41: =IF(LEFT(B41,3)="עיר","עירייה",IF(LEFT(B41,7)="מועצה א","מועצה אזורית","מועצה מקומית")) -> מועצה אזורית | F41: =INDEX(רשות_מחוז,MATCH(TRIM(C41),רשויות!$G$3:$G$260,0),2) -> דרום | G41: 4510623.6 | H41: =G41*(1+3.36%) -> 4662180.6 | I41: =J41-H41 -> 10878421 | J41: =IF(OR(A41="עיר עולים",A41="בירה"),H41,H41/0.3) -> 15540602 | K41: =INDEX(מילמן,MATCH(C41,'המידע ממילמן'!$A$1:$A$145,0),2) -> 34639.11 | L41: =M41-K41 -> 28341.09 | M41: =IF(OR(A41="עיר עולים",A41="בירה"),K41,K41/0.55) -> 62980.2 | N41: =K41+H41 -> 4696819.7 | O41: =SUM(N$3:$N41)/SUM($N$3:$N$167) -> 0.88712219 | P41: =N41/D41 -> 313.12131 | Q41: =M41+J41 -> 15603582 | R41: =INDEX(הכנסות_מבוקר,MATCH(C41,'נתוני דוחות 2014'!$C$10:$C$263,0),11)*1000 -> 138034000 | S41: =INDEX(הכנסות_מבוקר,MATCH(C41,'נתוני דוחות 2014'!$C$10:$C$263,0),6)*1000 -> 66505000 | T41: =INDEX(ארנונה_מבוקר,MATCH(C41,'נתוני דוחות 2014'!$C$10:$C$263,0),7)*1000 -> 21064000 | U41: =H41/T41 -> 0.22133406 | V41: =H41/S41 -> 0.070102708 | W41: =H41/R41 -> 0.033775596 | X41: =INDEX('נתוני דוחות 2014'!$DW$10:$DY$263,MATCH('תשלומי ארנונה של המדינה'!C41,'נתוני דוחות 2014'!$DW$10:$DW$263,0),2)/(INDEX('נתוני דוחות 2014'!$DW$10:$DY$263,MATCH('תשלומי ארנונה של המדינה'!C41,'נתוני דוחות 2014'!$DW$10:$DW$263,0),2)+INDEX('נתוני דוחות 2014'!$DW$10:$DY$263,MATCH('תשלומי ארנונה של המדינה'!C41,'נתוני דוחות 2014'!$DW$10:$DW$263,0),3)) -> 0.41257181 | Y41: =INDEX('נתוני דוחות 2014'!$DW$10:$DY$263,MATCH('תשלומי ארנונה של המדינה'!C41,'נתוני דוחות 2014'!$DW$10:$DW$263,0),2)/(INDEX('נתוני דוחות 2014'!$DW$10:$DY$263,MATCH('תשלומי ארנונה של המדינה'!C41,'נתוני דוחות 2014'!$DW$10:$DW$263,0),2)+INDEX('נתוני דוחות 2014'!$DW$10:$DY$263,MATCH('תשלומי ארנונה של המדינה'!C41,'נתוני דוחות 2014'!$DW$10:$DW$263,0),3)-H41/1000) -> 0.47423021 | Z41: =INDEX('נתוני דוחות 2014'!$DW$10:$DY$263,MATCH('תשלומי ארנונה של המדינה'!C41,'נתוני דוחות 2014'!$DW$10:$DW$263,0),2)/(INDEX('נתוני דוחות 2014'!$DW$10:$DY$263,MATCH('תשלומי ארנונה של המדינה'!C41,'נתוני דוחות 2014'!$DW$10:$DW$263,0),2)+INDEX('נתוני דוחות 2014'!$DW$10:$DY$263,MATCH('תשלומי ארנונה של המדינה'!C41,'נתוני דוחות 2014'!$DW$10:$DW$263,0),3)-N41/1000) -> 0.47475737 | AA41: =Z41-X41 -> 0.062185558 | AB41: =N41/T41 -> 0.22297853 | AC41: =N41/S41 -> 0.070623557 | AD41: =N41/R41 -> 0.034026542 | AE41: =INDEX(רשויות!$AC$4:$AL$258,MATCH($C41,רשויות!$AC$4:$AC$258,0),10) -> 6 | AF41: =IF(INDEX(רשויות!$AN$4:$AR$258,MATCH($C41,רשויות!$AO$4:$AO$258,0),4)>0,"נתמכת","עצמאית") -> נתמכת | AN41: ג'לג'וליה | AO41: 9100 | AQ41: מרחבים | AR41: 11.9
A42: עיר עולים | B42: מועצה אזורית חוף הכרמל (100) | C42: חוף הכרמל | D42: =VLOOKUP(C42,גודל_אוכלוסיה,2,FALSE) -> 27800 | E42: =IF(LEFT(B42,3)="עיר","עירייה",IF(LEFT(B42,7)="מועצה א","מועצה אזורית","מועצה מקומית")) -> מועצה אזורית | F42: =INDEX(רשות_מחוז,MATCH(TRIM(C42),רשויות!$G$3:$G$260,0),2) -> חיפה | G42: 4395812.2 | H42: =G42*(1+3.36%) -> 4543511.5 | I42: =J42-H42 -> 0 | J42: =IF(OR(A42="עיר עולים",A42="בירה"),H42,H42/0.3) -> 4543511.5 | N42: =K42+H42 -> 4543511.5 | O42: =SUM(N$3:$N42)/SUM($N$3:$N$167) -> 0.89209682 | P42: =N42/D42 -> 163.43567 | Q42: =M42+J42 -> 4543511.5 | R42: =INDEX(הכנסות_מבוקר,MATCH(C42,'נתוני דוחות 2014'!$C$10:$C$263,0),11)*1000 -> 208453000 | S42: =INDEX(הכנסות_מבוקר,MATCH(C42,'נתוני דוחות 2014'!$C$10:$C$263,0),6)*1000 -> 140266000 | T42: =INDEX(ארנונה_מבוקר,MATCH(C42,'נתוני דוחות 2014'!$C$10:$C$263,0),7)*1000 -> 32408000 | U42: =H42/T42 -> 0.14019722 | V42: =H42/S42 -> 0.032392109 | W42: =H42/R42 -> 0.021796335 | X42: =INDEX('נתוני דוחות 2014'!$DW$10:$DY$263,MATCH('תשלומי ארנונה של המדינה'!C42,'נתוני דוחות 2014'!$DW$10:$DW$263,0),2)/(INDEX('נתוני דוחות 2014'!$DW$10:$DY$263,MATCH('תשלומי ארנונה של המדינה'!C42,'נתוני דוחות 2014'!$DW$10:$DW$263,0),2)+INDEX('נתוני דוחות 2014'!$DW$10:$DY$263,MATCH('תשלומי ארנונה של המדינה'!C42,'נתוני דוחות 2014'!$DW$10:$DW$263,0),3)) -> 0.5784709 | Y42: =INDEX('נתוני דוחות 2014'!$DW$10:$DY$263,MATCH('תשלומי ארנונה של המדינה'!C42,'נתוני דוחות 2014'!$DW$10:$DW$263,0),2)/(INDEX('נתוני דוחות 2014'!$DW$10:$DY$263,MATCH('תשלומי ארנונה של המדינה'!C42,'נתוני דוחות 2014'!$DW$10:$DW$263,0),2)+INDEX('נתוני דוחות 2014'!$DW$10:$DY$263,MATCH('תשלומי ארנונה של המדינה'!C42,'נתוני דוחות 2014'!$DW$10:$DW$263,0),3)-H42/1000) -> 0.61480411 | Z42: =INDEX('נתוני דוחות 2014'!$DW$10:$DY$263,MATCH('תשלומי ארנונה של המדינה'!C42,'נתוני דוחות 2014'!$DW$10:$DW$263,0),2)/(INDEX('נתוני דוחות 2014'!$DW$10:$DY$263,MATCH('תשלומי ארנונה של המדינה'!C42,'נתוני דוחות 2014'!$DW$10:$DW$263,0),2)+INDEX('נתוני דוחות 2014'!$DW$10:$DY$263,MATCH('תשלומי ארנונה של המדינה'!C42,'נתוני דוחות 2014'!$DW$10:$DW$263,0),3)-N42/1000) -> 0.61480411 | AA42: =Z42-X42 -> 0.036333206 | AB42: =N42/T42 -> 0.14019722 | AC42: =N42/S42 -> 0.032392109 | AD42: =N42/R42 -> 0.021796335 | AE42: =INDEX(רשויות!$AC$4:$AL$258,MATCH($C42,רשויות!$AC$4:$AC$258,0),10) -> 8 | AF42: =IF(INDEX(רשויות!$AN$4:$AR$258,MATCH($C42,רשויות!$AO$4:$AO$258,0),4)>0,"נתמכת","עצמאית") -> עצמאית | AN42: ג'סר א-זרקא | AO42: 13400 | AQ42: משגב | AR42: 25.3
A43: עיר עולים | B43: עיריית דימונה | C43: דימונה | D43: =VLOOKUP(C43,גודל_אוכלוסיה,2,FALSE) -> 33200 | E43: =IF(LEFT(B43,3)="עיר","עירייה",IF(LEFT(B43,7)="מועצה א","מועצה אזורית","מועצה מקומית")) -> עירייה | F43: =INDEX(רשות_מחוז,MATCH(TRIM(C43),רשויות!$G$3:$G$260,0),2) -> דרום | G43: 2839354.7 | H43: =G43*(1+3.36%) -> 2934757.1 | I43: =J43-H43 -> 0 | J43: =IF(OR(A43="עיר עולים",A43="בירה"),H43,H43/0.3) -> 2934757.1 | K43: =INDEX(מילמן,MATCH(C43,'המידע ממילמן'!$A$1:$A$145,0),2) -> 1442637.6 | L43: =M43-K43 -> 0 | M43: =IF(OR(A43="עיר עולים",A43="בירה"),K43,K43/0.55) -> 1442637.6 | N43: =K43+H43 -> 4377394.7 | O43: =SUM(N$3:$N43)/SUM($N$3:$N$167) -> 0.89688958 | P43: =N43/D43 -> 131.84924 | Q43: =M43+J43 -> 4377394.7 | R43: =INDEX(הכנסות_מבוקר,MATCH(C43,'נתוני דוחות 2014'!$C$10:$C$263,0),11)*1000 -> 226229000 | S43: =INDEX(הכנסות_מבוקר,MATCH(C43,'נתוני דוחות 2014'!$C$10:$C$263,0),6)*1000 -> 94597000 | T43: =INDEX(ארנונה_מבוקר,MATCH(C43,'נתוני דוחות 2014'!$C$10:$C$263,0),7)*1000 -> 37430000 | V43: =H43/S43 -> 0.031023786 | W43: =H43/R43 -> 0.012972506 | X43: =INDEX('נתוני דוחות 2014'!$DW$10:$DY$263,MATCH('תשלומי ארנונה של המדינה'!C43,'נתוני דוחות 2014'!$DW$10:$DW$263,0),2)/(INDEX('נתוני דוחות 2014'!$DW$10:$DY$263,MATCH('תשלומי ארנונה של המדינה'!C43,'נתוני דוחות 2014'!$DW$10:$DW$263,0),2)+INDEX('נתוני דוחות 2014'!$DW$10:$DY$263,MATCH('תשלומי ארנונה של המדינה'!C43,'נתוני דוחות 2014'!$DW$10:$DW$263,0),3)) -> 0.43351394 | Y43: =INDEX('נתוני דוחות 2014'!$DW$10:$DY$263,MATCH('תשלומי ארנונה של המדינה'!C43,'נתוני דוחות 2014'!$DW$10:$DW$263,0),2)/(INDEX('נתוני דוחות 2014'!$DW$10:$DY$263,MATCH('תשלומי ארנונה של המדינה'!C43,'נתוני דוחות 2014'!$DW$10:$DW$263,0),2)+INDEX('נתוני דוחות 2014'!$DW$10:$DY$263,MATCH('תשלומי ארנונה של המדינה'!C43,'נתוני דוחות 2014'!$DW$10:$DW$263,0),3)-H43/1000) -> 0.45366398 | Z43: =INDEX('נתוני דוחות 2014'!$DW$10:$DY$263,MATCH('תשלומי ארנונה של המדינה'!C43,'נתוני דוחות 2014'!$DW$10:$DW$263,0),2)/(INDEX('נתוני דוחות 2014'!$DW$10:$DY$263,MATCH('תשלומי ארנונה של המדינה'!C43,'נתוני דוחות 2014'!$DW$10:$DW$263,0),2)+INDEX('נתוני דוחות 2014'!$DW$10:$DY$263,MATCH('תשלומי ארנונה של המדינה'!C43,'נתוני דוחות 2014'!$DW$10:$DW$263,0),3)-N43/1000) -> 0.4642719 | AA43: =Z43-X43 -> 0.030757958 | AB43: =N43/T43 -> 0.11694883 | AC43: =N43/S43 -> 0.046274138 | AD43: =N43/R43 -> 0.019349397 | AE43: =INDEX(רשויות!$AC$4:$AL$258,MATCH($C43,רשויות!$AC$4:$AC$258,0),10) -> 4 | AF43: =IF(INDEX(רשויות!$AN$4:$AR$258,MATCH($C43,רשויות!$AO$4:$AO$258,0),4)>0,"נתמכת","עצמאית") -> נתמכת | AN43: ג'ש (גוש חלב) | AO43: 3000 | AQ43: נווה מדבר | AR43: 6.9
B44: מועצה אזורית גזר | C44: גזר | D44: =VLOOKUP(C44,גודל_אוכלוסיה,2,FALSE) -> 24400 | E44: =IF(LEFT(B44,3)="עיר","עירייה",IF(LEFT(B44,7)="מועצה א","מועצה אזורית","מועצה מקומית")) -> מועצה אזורית | F44: =INDEX(רשות_מחוז,MATCH(TRIM(C44),רשויות!$G$3:$G$260,0),2) -> מרכז | G44: 4270769.4 | H44: =G44*(1+3.36%) -> 4414267.3 | I44: =J44-H44 -> 10299957 | J44: =IF(OR(A44="עיר עולים",A44="בירה"),H44,H44/0.3) -> 14714224 | K44: =INDEX(מילמן,MATCH(C44,'המידע ממילמן'!$A$1:$A$145,0),2) -> 5286 | L44: =M44-K44 -> 4324.9091 | M44: =IF(OR(A44="עיר עולים",A44="בירה"),K44,K44/0.55) -> 9610.9091 | N44: =K44+H44 -> 4419553.3 | O44: =SUM(N$3:$N44)/SUM($N$3:$N$167) -> 0.90172849 | P44: =N44/D44 -> 181.12923 | Q44: =M44+J44 -> 14723835 | R44: =INDEX(הכנסות_מבוקר,MATCH(C44,'נתוני דוחות 2014'!$C$10:$C$263,0),11)*1000 -> 159270000 | S44: =INDEX(הכנסות_מבוקר,MATCH(C44,'נתוני דוחות 2014'!$C$10:$C$263,0),6)*1000 -> 115366000 | T44: =INDEX(ארנונה_מבוקר,MATCH(C44,'נתוני דוחות 2014'!$C$10:$C$263,0),7)*1000 -> 54714000 | U44: =H44/T44 -> 0.080678935 | V44: =H44/S44 -> 0.038263156 | W44: =H44/R44 -> 0.027715623 | X44: =INDEX('נתוני דוחות 2014'!$DW$10:$DY$263,MATCH('תשלומי ארנונה של המדינה'!C44,'נתוני דוחות 2014'!$DW$10:$DW$263,0),2)/(INDEX('נתוני דוחות 2014'!$DW$10:$DY$263,MATCH('תשלומי ארנונה של המדינה'!C44,'נתוני דוחות 2014'!$DW$10:$DW$263,0),2)+INDEX('נתוני דוחות 2014'!$DW$10:$DY$263,MATCH('תשלומי ארנונה של המדינה'!C44,'נתוני דוחות 2014'!$DW$10:$DW$263,0),3)) -> 0.36387206 | Y44: =INDEX('נתוני דוחות 2014'!$DW$10:$DY$263,MATCH('תשלומי ארנונה של המדינה'!C44,'נתוני דוחות 2014'!$DW$10:$DW$263,0),2)/(INDEX('נתוני דוחות 2014'!$DW$10:$DY$263,MATCH('תשלומי ארנונה של המדינה'!C44,'נתוני דוחות 2014'!$DW$10:$DW$263,0),2)+INDEX('נתוני דוחות 2014'!$DW$10:$DY$263,MATCH('תשלומי ארנונה של המדינה'!C44,'נתוני דוחות 2014'!$DW$10:$DW$263,0),3)-H44/1000) -> 0.38355702 | Z44: =INDEX('נתוני דוחות 2014'!$DW$10:$DY$263,MATCH('תשלומי ארנונה של המדינה'!C44,'נתוני דוחות 2014'!$DW$10:$DW$263,0),2)/(INDEX('נתוני דוחות 2014'!$DW$10:$DY$263,MATCH('תשלומי ארנונה של המדינה'!C44,'נתוני דוחות 2014'!$DW$10:$DW$263,0),2)+INDEX('נתוני דוחות 2014'!$DW$10:$DY$263,MATCH('תשלומי ארנונה של המדינה'!C44,'נתוני דוחות 2014'!$DW$10:$DW$263,0),3)-N44/1000) -> 0.38358187 | AA44: =Z44-X44 -> 0.019709811 | AB44: =N44/T44 -> 0.080775547 | AC44: =N44/S44 -> 0.038308976 | AD44: =N44/R44 -> 0.027748812 | AE44: =INDEX(רשויות!$AC$4:$AL$258,MATCH($C44,רשויות!$AC$4:$AC$258,0),10) -> 7 | AF44: =IF(INDEX(רשויות!$AN$4:$AR$258,MATCH($C44,רשויות!$AO$4:$AO$258,0),4)>0,"נתמכת","עצמאית") -> עצמאית | AN44: גבעת זאב | AO44: 14300 | AQ44: נחל שורק | AR44: 7.7
B45: מועצה אזורית אשכול | C45: אשכול | D45: =VLOOKUP(C45,גודל_אוכלוסיה,2,FALSE) -> 12000 | E45: =IF(LEFT(B45,3)="עיר","עירייה",IF(LEFT(B45,7)="מועצה א","מועצה אזורית","מועצה מקומית")) -> מועצה אזורית | F45: =INDEX(רשות_מחוז,MATCH(TRIM(C45),רשויות!$G$3:$G$260,0),2) -> דרום | G45: 4208696.8 | H45: =G45*(1+3.36%) -> 4350109 | I45: =J45-H45 -> 10150254 | J45: =IF(OR(A45="עיר עולים",A45="בירה"),H45,H45/0.3) -> 14500363 | K45: =INDEX(מילמן,MATCH(C45,'המידע ממילמן'!$A$1:$A$145,0),2) -> 0 | L45: =M45-K45 -> 0 | M45: =IF(OR(A45="עיר עולים",A45="בירה"),K45,K45/0.55) -> 0 | N45: =K45+H45 -> 4350109 | O45: =SUM(N$3:$N45)/SUM($N$3:$N$167) -> 0.90649138 | P45: =N45/D45 -> 362.50909 | Q45: =M45+J45 -> 14500363 | R45: =INDEX(הכנסות_מבוקר,MATCH(C45,'נתוני דוחות 2014'!$C$10:$C$263,0),11)*1000 -> 150647000 | S45: =INDEX(הכנסות_מבוקר,MATCH(C45,'נתוני דוחות 2014'!$C$10:$C$263,0),6)*1000 -> 51718000 | T45: =INDEX(ארנונה_מבוקר,MATCH(C45,'נתוני דוחות 2014'!$C$10:$C$263,0),7)*1000 -> 16034000 | U45: =H45/T45 -> 0.27130529 | V45: =H45/S45 -> 0.084112089 | W45: =H45/R45 -> 0.028876174 | X45: =INDEX('נתוני דוחות 2014'!$DW$10:$DY$263,MATCH('תשלומי ארנונה של המדינה'!C45,'נתוני דוחות 2014'!$DW$10:$DW$263,0),2)/(INDEX('נתוני דוחות 2014'!$DW$10:$DY$263,MATCH('תשלומי ארנונה של המדינה'!C45,'נתוני דוחות 2014'!$DW$10:$DW$263,0),2)+INDEX('נתוני דוחות 2014'!$DW$10:$DY$263,MATCH('תשלומי ארנונה של המדינה'!C45,'נתוני דוחות 2014'!$DW$10:$DW$263,0),3)) -> 0.41605361 | Y45: =INDEX('נתוני דוחות 2014'!$DW$10:$DY$263,MATCH('תשלומי ארנונה של המדינה'!C45,'נתוני דוחות 2014'!$DW$10:$DW$263,0),2)/(INDEX('נתוני דוחות 2014'!$DW$10:$DY$263,MATCH('תשלומי ארנונה של המדינה'!C45,'נתוני דוחות 2014'!$DW$10:$DW$263,0),2)+INDEX('נתוני דוחות 2014'!$DW$10:$DY$263,MATCH('תשלומי ארנונה של המדינה'!C45,'נתוני דוחות 2014'!$DW$10:$DW$263,0),3)-H45/1000) -> 0.49437658 | Z45: =INDEX('נתוני דוחות 2014'!$DW$10:$DY$263,MATCH('תשלומי ארנונה של המדינה'!C45,'נתוני דוחות 2014'!$DW$10:$DW$263,0),2)/(INDEX('נתוני דוחות 2014'!$DW$10:$DY$263,MATCH('תשלומי ארנונה של המדינה'!C45,'נתוני דוחות 2014'!$DW$10:$DW$263,0),2)+INDEX('נתוני דוחות 2014'!$DW$10:$DY$263,MATCH('תשלומי ארנונה של המדינה'!C45,'נתוני דוחות 2014'!$DW$10:$DW$263,0),3)-N45/1000) -> 0.49437658 | AA45: =Z45-X45 -> 0.078322966 | AB45: =N45/T45 -> 0.27130529 | AC45: =N45/S45 -> 0.084112089 | AD45: =N45/R45 -> 0.028876174 | AE45: =INDEX(רשויות!$AC$4:$AL$258,MATCH($C45,רשויות!$AC$4:$AC$258,0),10) -> 6 | AF45: =IF(INDEX(רשויות!$AN$4:$AR$258,MATCH($C45,רשויות!$AO$4:$AO$258,0),4)>0,"נתמכת","עצמאית") -> נתמכת | AN45: גבעת שמואל | AO45: 24100 | AQ45: עמק הירדן | AR45: 12.1
B46: מועצה אזורית עמק יזרעאל | C46: עמק יזרעאל | D46: =VLOOKUP(C46,גודל_אוכלוסיה,2,FALSE) -> 35200 | E46: =IF(LEFT(B46,3)="עיר","עירייה",IF(LEFT(B46,7)="מועצה א","מועצה אזורית","מועצה מקומית")) -> מועצה אזורית | F46: =INDEX(רשות_מחוז,MATCH(TRIM(C46),רשויות!$G$3:$G$260,0),2) -> צפון | G46: 3629940.6 | H46: =G46*(1+3.36%) -> 3751906.6 | I46: =J46-H46 -> 8754448.8 | J46: =IF(OR(A46="עיר עולים",A46="בירה"),H46,H46/0.3) -> 12506355 | K46: =INDEX(מילמן,MATCH(C46,'המידע ממילמן'!$A$1:$A$145,0),2) -> 342084 | L46: =M46-K46 -> 279886.91 | M46: =IF(OR(A46="עיר עולים",A46="בירה"),K46,K46/0.55) -> 621970.91 | N46: =K46+H46 -> 4093990.6 | O46: =SUM(N$3:$N46)/SUM($N$3:$N$167) -> 0.91097384 | P46: =N46/D46 -> 116.30655 | Q46: =M46+J46 -> 13128326 | R46: =INDEX(הכנסות_מבוקר,MATCH(C46,'נתוני דוחות 2014'!$C$10:$C$263,0),11)*1000 -> 285521000 | S46: =INDEX(הכנסות_מבוקר,MATCH(C46,'נתוני דוחות 2014'!$C$10:$C$263,0),6)*1000 -> 184435000 | T46: =INDEX(ארנונה_מבוקר,MATCH(C46,'נתוני דוחות 2014'!$C$10:$C$263,0),7)*1000 -> 74534000 | U46: =H46/T46 -> 0.05033819 | V46: =H46/S46 -> 0.020342704 | W46: =H46/R46 -> 0.013140563 | X46: =INDEX('נתוני דוחות 2014'!$DW$10:$DY$263,MATCH('תשלומי ארנונה של המדינה'!C46,'נתוני דוחות 2014'!$DW$10:$DW$263,0),2)/(INDEX('נתוני דוחות 2014'!$DW$10:$DY$263,MATCH('תשלומי ארנונה של המדינה'!C46,'נתוני דוחות 2014'!$DW$10:$DW$263,0),2)+INDEX('נתוני דוחות 2014'!$DW$10:$DY$263,MATCH('תשלומי ארנונה של המדינה'!C46,'נתוני דוחות 2014'!$DW$10:$DW$263,0),3)) -> 0.36318586 | Y46: =INDEX('נתוני דוחות 2014'!$DW$10:$DY$263,MATCH('תשלומי ארנונה של המדינה'!C46,'נתוני דוחות 2014'!$DW$10:$DW$263,0),2)/(INDEX('נתוני דוחות 2014'!$DW$10:$DY$263,MATCH('תשלומי ארנונה של המדינה'!C46,'נתוני דוחות 2014'!$DW$10:$DW$263,0),2)+INDEX('נתוני דוחות 2014'!$DW$10:$DY$263,MATCH('תשלומי ארנונה של המדינה'!C46,'נתוני דוחות 2014'!$DW$10:$DW$263,0),3)-H46/1000) -> 0.37521374 | Z46: =INDEX('נתוני דוחות 2014'!$DW$10:$DY$263,MATCH('תשלומי ארנונה של המדינה'!C46,'נתוני דוחות 2014'!$DW$10:$DW$263,0),2)/(INDEX('נתוני דוחות 2014'!$DW$10:$DY$263,MATCH('תשלומי ארנונה של המדינה'!C46,'נתוני דוחות 2014'!$DW$10:$DW$263,0),2)+INDEX('נתוני דוחות 2014'!$DW$10:$DY$263,MATCH('תשלומי ארנונה של המדינה'!C46,'נתוני דוחות 2014'!$DW$10:$DW$263,0),3)-N46/1000) -> 0.37635015 | AA46: =Z46-X46 -> 0.013164283 | AB46: =N46/T46 -> 0.054927827 | AC46: =N46/S46 -> 0.022197471 | AD46: =N46/R46 -> 0.014338667 | AE46: =INDEX(רשויות!$AC$4:$AL$258,MATCH($C46,רשויות!$AC$4:$AC$258,0),10) -> 7 | AF46: =IF(INDEX(רשויות!$AN$4:$AR$258,MATCH($C46,רשויות!$AO$4:$AO$258,0),4)>0,"נתמכת","עצמאית") -> עצמאית | AN46: גבעתיים | AO46: 56200 | AQ46: עמק המעיינות | AR46: 11.8
B47: מועצה אזורית חוף השרון | C47: חוף השרון | D47: =VLOOKUP(C47,גודל_אוכלוסיה,2,FALSE) -> 13200 | E47: =IF(LEFT(B47,3)="עיר","עירייה",IF(LEFT(B47,7)="מועצה א","מועצה אזורית","מועצה מקומית")) -> מועצה אזורית | F47: =INDEX(רשות_מחוז,MATCH(TRIM(C47),רשויות!$G$3:$G$260,0),2) -> מרכז | G47: 1207253.3 | H47: =G47*(1+3.36%) -> 1247817 | I47: =J47-H47 -> 2911573 | J47: =IF(OR(A47="עיר עולים",A47="בירה"),H47,H47/0.3) -> 4159390 | K47: =INDEX(מילמן,MATCH(C47,'המידע ממילמן'!$A$1:$A$145,0),2) -> 2692788 | L47: =M47-K47 -> 2203190.2 | M47: =IF(OR(A47="עיר עולים",A47="בירה"),K47,K47/0.55) -> 4895978.2 | N47: =K47+H47 -> 3940605 | O47: =SUM(N$3:$N47)/SUM($N$3:$N$167) -> 0.91528836 | P47: =N47/D47 -> 298.53068 | Q47: =M47+J47 -> 9055368.2 | R47: =INDEX(הכנסות_מבוקר,MATCH(C47,'נתוני דוחות 2014'!$C$10:$C$263,0),11)*1000 -> 116139000 | S47: =INDEX(הכנסות_מבוקר,MATCH(C47,'נתוני דוחות 2014'!$C$10:$C$263,0),6)*1000 -> 98165000 | T47: =INDEX(ארנונה_מבוקר,MATCH(C47,'נתוני דוחות 2014'!$C$10:$C$263,0),7)*1000 -> 39362000 | U47: =H47/T47 -> 0.031701057 | V47: =H47/S47 -> 0.012711425 | W47: =H47/R47 -> 0.010744169 | X47: =INDEX('נתוני דוחות 2014'!$DW$10:$DY$263,MATCH('תשלומי ארנונה של המדינה'!C47,'נתוני דוחות 2014'!$DW$10:$DW$263,0),2)/(INDEX('נתוני דוחות 2014'!$DW$10:$DY$263,MATCH('תשלומי ארנונה של המדינה'!C47,'נתוני דוחות 2014'!$DW$10:$DW$263,0),2)+INDEX('נתוני דוחות 2014'!$DW$10:$DY$263,MATCH('תשלומי ארנונה של המדינה'!C47,'נתוני דוחות 2014'!$DW$10:$DW$263,0),3)) -> 0.36956243 | Y47: =INDEX('נתוני דוחות 2014'!$DW$10:$DY$263,MATCH('תשלומי ארנונה של המדינה'!C47,'נתוני דוחות 2014'!$DW$10:$DW$263,0),2)/(INDEX('נתוני דוחות 2014'!$DW$10:$DY$263,MATCH('תשלומי ארנונה של המדינה'!C47,'נתוני דוחות 2014'!$DW$10:$DW$263,0),2)+INDEX('נתוני דוחות 2014'!$DW$10:$DY$263,MATCH('תשלומי ארנונה של המדינה'!C47,'נתוני דוחות 2014'!$DW$10:$DW$263,0),3)-H47/1000) -> 0.37709896 | Z47: =INDEX('נתוני דוחות 2014'!$DW$10:$DY$263,MATCH('תשלומי ארנונה של המדינה'!C47,'נתוני דוחות 2014'!$DW$10:$DW$263,0),2)/(INDEX('נתוני דוחות 2014'!$DW$10:$DY$263,MATCH('תשלומי ארנונה של המדינה'!C47,'נתוני דוחות 2014'!$DW$10:$DW$263,0),2)+INDEX('נתוני דוחות 2014'!$DW$10:$DY$263,MATCH('תשלומי ארנונה של המדינה'!C47,'נתוני דוחות 2014'!$DW$10:$DW$263,0),3)-N47/1000) -> 0.3944584 | AA47: =Z47-X47 -> 0.024895969 | AB47: =N47/T47 -> 0.10011191 | AC47: =N47/S47 -> 0.040142668 | AD47: =N47/R47 -> 0.033930075 | AE47: =INDEX(רשויות!$AC$4:$AL$258,MATCH($C47,רשויות!$AC$4:$AC$258,0),10) -> 8 | AF47: =IF(INDEX(רשויות!$AN$4:$AR$258,MATCH($C47,רשויות!$AO$4:$AO$258,0),4)>0,"נתמכת","עצמאית") -> עצמאית | AN47: גדרה | AO47: 25200 | AQ47: עמק חפר | AR47: 40.2
B48: מועצה אזורית בני שמעון | C48: בני שמעון | D48: =VLOOKUP(C48,גודל_אוכלוסיה,2,FALSE) -> 8000 | E48: =IF(LEFT(B48,3)="עיר","עירייה",IF(LEFT(B48,7)="מועצה א","מועצה אזורית","מועצה מקומית")) -> מועצה אזורית | F48: =INDEX(רשות_מחוז,MATCH(TRIM(C48),רשויות!$G$3:$G$260,0),2) -> דרום | G48: 2973191.3 | H48: =G48*(1+3.36%) -> 3073090.5 | I48: =J48-H48 -> 7170544.6 | J48: =IF(OR(A48="עיר עולים",A48="בירה"),H48,H48/0.3) -> 10243635 | K48: =INDEX(מילמן,MATCH(C48,'המידע ממילמן'!$A$1:$A$145,0),2) -> 571081 | L48: =M48-K48 -> 467248.09 | M48: =IF(OR(A48="עיר עולים",A48="בירה"),K48,K48/0.55) -> 1038329.1 | N48: =K48+H48 -> 3644171.5 | O48: =SUM(N$3:$N48)/SUM($N$3:$N$167) -> 0.91927832 | P48: =N48/D48 -> 455.52144 | Q48: =M48+J48 -> 11281964 | R48: =INDEX(הכנסות_מבוקר,MATCH(C48,'נתוני דוחות 2014'!$C$10:$C$263,0),11)*1000 -> 163106000 | S48: =INDEX(הכנסות_מבוקר,MATCH(C48,'נתוני דוחות 2014'!$C$10:$C$263,0),6)*1000 -> 121515000 | T48: =INDEX(ארנונה_מבוקר,MATCH(C48,'נתוני דוחות 2014'!$C$10:$C$263,0),7)*1000 -> 22626000 | U48: =H48/T48 -> 0.1358212 | V48: =H48/S48 -> 0.025289804 | W48: =H48/R48 -> 0.018841064 | X48: =INDEX('נתוני דוחות 2014'!$DW$10:$DY$263,MATCH('תשלומי ארנונה של המדינה'!C48,'נתוני דוחות 2014'!$DW$10:$DW$263,0),2)/(INDEX('נתוני דוחות 2014'!$DW$10:$DY$263,MATCH('תשלומי ארנונה של המדינה'!C48,'נתוני דוחות 2014'!$DW$10:$DW$263,0),2)+INDEX('נתוני דוחות 2014'!$DW$10:$DY$263,MATCH('תשלומי ארנונה של המדינה'!C48,'נתוני דוחות 2014'!$DW$10:$DW$263,0),3)) -> 0.27958735 | Y48: =INDEX('נתוני דוחות 2014'!$DW$10:$DY$263,MATCH('תשלומי ארנונה של המדינה'!C48,'נתוני דוחות 2014'!$DW$10:$DW$263,0),2)/(INDEX('נתוני דוחות 2014'!$DW$10:$DY$263,MATCH('תשלומי ארנונה של המדינה'!C48,'נתוני דוחות 2014'!$DW$10:$DW$263,0),2)+INDEX('נתוני דוחות 2014'!$DW$10:$DY$263,MATCH('תשלומי ארנונה של המדינה'!C48,'נתוני דוחות 2014'!$DW$10:$DW$263,0),3)-H48/1000) -> 0.30991135 | Z48: =INDEX('נתוני דוחות 2014'!$DW$10:$DY$263,MATCH('תשלומי ארנונה של המדינה'!C48,'נתוני דוחות 2014'!$DW$10:$DW$263,0),2)/(INDEX('נתוני דוחות 2014'!$DW$10:$DY$263,MATCH('תשלומי ארנונה של המדינה'!C48,'נתוני דוחות 2014'!$DW$10:$DW$263,0),2)+INDEX('נתוני דוחות 2014'!$DW$10:$DY$263,MATCH('תשלומי ארנונה של המדינה'!C48,'נתוני דוחות 2014'!$DW$10:$DW$263,0),3)-N48/1000) -> 0.31628622 | AA48: =Z48-X48 -> 0.036698864 | AB48: =N48/T48 -> 0.16106124 | AC48: =N48/S48 -> 0.029989479 | AD48: =N48/R48 -> 0.022342351 | AE48: =INDEX(רשויות!$AC$4:$AL$258,MATCH($C48,רשויות!$AC$4:$AC$258,0),10) -> 7 | AF48: =IF(INDEX(רשויות!$AN$4:$AR$258,MATCH($C48,רשויות!$AO$4:$AO$258,0),4)>0,"נתמכת","עצמאית") -> עצמאית | AN48: גן יבנה | AO48: 21200 | AQ48: עמק יזרעאל | AR48: 35.2
A49: עיר עולים | B49: מועצה אזורית הערבה התיכונה | C49: הערבה התיכונה | D49: =VLOOKUP(C49,גודל_אוכלוסיה,2,FALSE) -> 3000 | E49: =IF(LEFT(B49,3)="עיר","עירייה",IF(LEFT(B49,7)="מועצה א","מועצה אזורית","מועצה מקומית")) -> מועצה אזורית | F49: =INDEX(רשות_מחוז,MATCH(TRIM(C49),רשויות!$G$3:$G$260,0),2) -> דרום | G49: 3091597.5 | H49: =G49*(1+3.36%) -> 3195475.2 | I49: =J49-H49 -> 0 | J49: =IF(OR(A49="עיר עולים",A49="בירה"),H49,H49/0.3) -> 3195475.2 | N49: =K49+H49 -> 3195475.2 | O49: =SUM(N$3:$N49)/SUM($N$3:$N$167) -> 0.922777 | P49: =N49/D49 -> 1065.1584 | Q49: =M49+J49 -> 3195475.2 | R49: =INDEX(הכנסות_מבוקר,MATCH(C49,'נתוני דוחות 2014'!$C$10:$C$263,0),11)*1000 -> 38380000 | S49: =INDEX(הכנסות_מבוקר,MATCH(C49,'נתוני דוחות 2014'!$C$10:$C$263,0),6)*1000 -> 27139000 | T49: =INDEX(ארנונה_מבוקר,MATCH(C49,'נתוני דוחות 2014'!$C$10:$C$263,0),7)*1000 -> 15545000 | U49: =H49/T49 -> 0.2055629 | V49: =H49/S49 -> 0.11774477 | W49: =H49/R49 -> 0.083258864 | X49: =INDEX('נתוני דוחות 2014'!$DW$10:$DY$263,MATCH('תשלומי ארנונה של המדינה'!C49,'נתוני דוחות 2014'!$DW$10:$DW$263,0),2)/(INDEX('נתוני דוחות 2014'!$DW$10:$DY$263,MATCH('תשלומי ארנונה של המדינה'!C49,'נתוני דוחות 2014'!$DW$10:$DW$263,0),2)+INDEX('נתוני דוחות 2014'!$DW$10:$DY$263,MATCH('תשלומי ארנונה של המדינה'!C49,'נתוני דוחות 2014'!$DW$10:$DW$263,0),3)) -> 0.21974602 | Y49: =INDEX('נתוני דוחות 2014'!$DW$10:$DY$263,MATCH('תשלומי ארנונה של המדינה'!C49,'נתוני דוחות 2014'!$DW$10:$DW$263,0),2)/(INDEX('נתוני דוחות 2014'!$DW$10:$DY$263,MATCH('תשלומי ארנונה של המדינה'!C49,'נתוני דוחות 2014'!$DW$10:$DW$263,0),2)+INDEX('נתוני דוחות 2014'!$DW$10:$DY$263,MATCH('תשלומי ארנונה של המדינה'!C49,'נתוני דוחות 2014'!$DW$10:$DW$263,0),3)-H49/1000) -> 0.26172432 | Z49: =INDEX('נתוני דוחות 2014'!$DW$10:$DY$263,MATCH('תשלומי ארנונה של המדינה'!C49,'נתוני דוחות 2014'!$DW$10:$DW$263,0),2)/(INDEX('נתוני דוחות 2014'!$DW$10:$DY$263,MATCH('תשלומי ארנונה של המדינה'!C49,'נתוני דוחות 2014'!$DW$10:$DW$263,0),2)+INDEX('נתוני דוחות 2014'!$DW$10:$DY$263,MATCH('תשלומי ארנונה של המדינה'!C49,'נתוני דוחות 2014'!$DW$10:$DW$263,0),3)-N49/1000) -> 0.26172432 | AA49: =Z49-X49 -> 0.041978295 | AB49: =N49/T49 -> 0.2055629 | AC49: =N49/S49 -> 0.11774477 | AD49: =N49/R49 -> 0.083258864 | AE49: =INDEX(רשויות!$AC$4:$AL$258,MATCH($C49,רשויות!$AC$4:$AC$258,0),10) -> 7 | AF49: =IF(INDEX(רשויות!$AN$4:$AR$258,MATCH($C49,רשויות!$AO$4:$AO$258,0),4)>0,"נתמכת","עצמאית") -> נתמכת | AN49: גני תקוה | AO49: 15000 | AQ49: עמק לוד | AR49: 14.1
B50: מועצה אזורית מרום הגליל | C50: מרום הגליל | D50: =VLOOKUP(C50,גודל_אוכלוסיה,2,FALSE) -> 14100 | E50: =IF(LEFT(B50,3)="עיר","עירייה",IF(LEFT(B50,7)="מועצה א","מועצה אזורית","מועצה מקומית")) -> מועצה אזורית | F50: =INDEX(רשות_מחוז,MATCH(TRIM(C50),רשויות!$G$3:$G$260,0),2) -> צפון | G50: 1569548.9 | H50: =G50*(1+3.36%) -> 1622285.8 | I50: =J50-H50 -> 3785333.5 | J50: =IF(OR(A50="עיר עולים",A50="בירה"),H50,H50/0.3) -> 5407619.3 | K50: =INDEX(מילמן,MATCH(C50,'המידע ממילמן'!$A$1:$A$145,0),2) -> 1452050.8 | L50: =M50-K50 -> 1188041.6 | M50: =IF(OR(A50="עיר עולים",A50="בירה"),K50,K50/0.55) -> 2640092.4 | N50: =K50+H50 -> 3074336.6 | O50: =SUM(N$3:$N50)/SUM($N$3:$N$167) -> 0.92614306 | P50: =N50/D50 -> 218.03806 | Q50: =M50+J50 -> 8047711.7 | R50: =INDEX(הכנסות_מבוקר,MATCH(C50,'נתוני דוחות 2014'!$C$10:$C$263,0),11)*1000 -> 124986000 | S50: =INDEX(הכנסות_מבוקר,MATCH(C50,'נתוני דוחות 2014'!$C$10:$C$263,0),6)*1000 -> 43482000 | T50: =INDEX(ארנונה_מבוקר,MATCH(C50,'נתוני דוחות 2014'!$C$10:$C$263,0),7)*1000 -> 9282000 | U50: =H50/T50 -> 0.17477761 | V50: =H50/S50 -> 0.037309365 | W50: =H50/R50 -> 0.01297974 | X50: =INDEX('נתוני דוחות 2014'!$DW$10:$DY$263,MATCH('תשלומי ארנונה של המדינה'!C50,'נתוני דוחות 2014'!$DW$10:$DW$263,0),2)/(INDEX('נתוני דוחות 2014'!$DW$10:$DY$263,MATCH('תשלומי ארנונה של המדינה'!C50,'נתוני דוחות 2014'!$DW$10:$DW$263,0),2)+INDEX('נתוני דוחות 2014'!$DW$10:$DY$263,MATCH('תשלומי ארנונה של המדינה'!C50,'נתוני דוחות 2014'!$DW$10:$DW$263,0),3)) -> 0.52429274 | Y50: =INDEX('נתוני דוחות 2014'!$DW$10:$DY$263,MATCH('תשלומי ארנונה של המדינה'!C50,'נתוני דוחות 2014'!$DW$10:$DW$263,0),2)/(INDEX('נתוני דוחות 2014'!$DW$10:$DY$263,MATCH('תשלומי ארנונה של המדינה'!C50,'נתוני דוחות 2014'!$DW$10:$DW$263,0),2)+INDEX('נתוני דוחות 2014'!$DW$10:$DY$263,MATCH('תשלומי ארנונה של המדינה'!C50,'נתוני דוחות 2014'!$DW$10:$DW$263,0),3)-H50/1000) -> 0.57183697 | Z50: =INDEX('נתוני דוחות 2014'!$DW$10:$DY$263,MATCH('תשלומי ארנונה של המדינה'!C50,'נתוני דוחות 2014'!$DW$10:$DW$263,0),2)/(INDEX('נתוני דוחות 2014'!$DW$10:$DY$263,MATCH('תשלומי ארנונה של המדינה'!C50,'נתוני דוחות 2014'!$DW$10:$DW$263,0),2)+INDEX('נתוני דוחות 2014'!$DW$10:$DY$263,MATCH('תשלומי ארנונה של המדינה'!C50,'נתוני דוחות 2014'!$DW$10:$DW$263,0),3)-N50/1000) -> 0.62235123 | AA50: =Z50-X50 -> 0.098058485 | AB50: =N50/T50 -> 0.33121489 | AC50: =N50/S50 -> 0.070703662 | AD50: =N50/R50 -> 0.024597448 | AE50: =INDEX(רשויות!$AC$4:$AL$258,MATCH($C50,רשויות!$AC$4:$AC$258,0),10) -> 5 | AF50: =IF(INDEX(רשויות!$AN$4:$AR$258,MATCH($C50,רשויות!$AO$4:$AO$258,0),4)>0,"נתמכת","עצמאית") -> נתמכת | AN50: דבורייה | AO50: 9600 | AQ50: ערבות הירדן | AR50: 3.9
A51: עיר עולים | B51: עיריית ערד | C51: ערד | D51: =VLOOKUP(C51,גודל_אוכלוסיה,2,FALSE) -> 24200 | E51: =IF(LEFT(B51,3)="עיר","עירייה",IF(LEFT(B51,7)="מועצה א","מועצה אזורית","מועצה מקומית")) -> עירייה | F51: =INDEX(רשות_מחוז,MATCH(TRIM(C51),רשויות!$G$3:$G$260,0),2) -> דרום | G51: 2823162.6 | H51: =G51*(1+3.36%) -> 2918020.9 | I51: =J51-H51 -> 0 | J51: =IF(OR(A51="עיר עולים",A51="בירה"),H51,H51/0.3) -> 2918020.9 | K51: =INDEX(מילמן,MATCH(C51,'המידע ממילמן'!$A$1:$A$145,0),2) -> 146391.3 | L51: =M51-K51 -> 0 | M51: =IF(OR(A51="עיר עולים",A51="בירה"),K51,K51/0.55) -> 146391.3 | N51: =K51+H51 -> 3064412.2 | O51: =SUM(N$3:$N51)/SUM($N$3:$N$167) -> 0.92949825 | P51: =N51/D51 -> 126.6286 | Q51: =M51+J51 -> 3064412.2 | R51: =INDEX(הכנסות_מבוקר,MATCH(C51,'נתוני דוחות 2014'!$C$10:$C$263,0),11)*1000 -> 147019000 | S51: =INDEX(הכנסות_מבוקר,MATCH(C51,'נתוני דוחות 2014'!$C$10:$C$263,0),6)*1000 -> 84064000 | T51: =INDEX(ארנונה_מבוקר,MATCH(C51,'נתוני דוחות 2014'!$C$10:$C$263,0),7)*1000 -> 22353000 | U51: =H51/T51 -> 0.1305427 | V51: =H51/S51 -> 0.034711897 | W51: =H51/R51 -> 0.019847917 | X51: =INDEX('נתוני דוחות 2014'!$DW$10:$DY$263,MATCH('תשלומי ארנונה של המדינה'!C51,'נתוני דוחות 2014'!$DW$10:$DW$263,0),2)/(INDEX('נתוני דוחות 2014'!$DW$10:$DY$263,MATCH('תשלומי ארנונה של המדינה'!C51,'נתוני דוחות 2014'!$DW$10:$DW$263,0),2)+INDEX('נתוני דוחות 2014'!$DW$10:$DY$263,MATCH('תשלומי ארנונה של המדינה'!C51,'נתוני דוחות 2014'!$DW$10:$DW$263,0),3)) -> 0.55473886 | Y51: =INDEX('נתוני דוחות 2014'!$DW$10:$DY$263,MATCH('תשלומי ארנונה של המדינה'!C51,'נתוני דוחות 2014'!$DW$10:$DW$263,0),2)/(INDEX('נתוני דוחות 2014'!$DW$10:$DY$263,MATCH('תשלומי ארנונה של המדינה'!C51,'נתוני דוחות 2014'!$DW$10:$DW$263,0),2)+INDEX('נתוני דוחות 2014'!$DW$10:$DY$263,MATCH('תשלומי ארנונה של המדינה'!C51,'נתוני דוחות 2014'!$DW$10:$DW$263,0),3)-H51/1000) -> 0.58897327 | Z51: =INDEX('נתוני דוחות 2014'!$DW$10:$DY$263,MATCH('תשלומי ארנונה של המדינה'!C51,'נתוני דוחות 2014'!$DW$10:$DW$263,0),2)/(INDEX('נתוני דוחות 2014'!$DW$10:$DY$263,MATCH('תשלומי ארנונה של המדינה'!C51,'נתוני דוחות 2014'!$DW$10:$DW$263,0),2)+INDEX('נתוני דוחות 2014'!$DW$10:$DY$263,MATCH('תשלומי ארנונה של המדינה'!C51,'נתוני דוחות 2014'!$DW$10:$DW$263,0),3)-N51/1000) -> 0.5908024 | AA51: =Z51-X51 -> 0.036063545 | AB51: =N51/T51 -> 0.13709176 | AC51: =N51/S51 -> 0.036453323 | AD51: =N51/R51 -> 0.020843647 | AE51: =INDEX(רשויות!$AC$4:$AL$258,MATCH($C51,רשויות!$AC$4:$AC$258,0),10) -> 5 | AF51: =IF(INDEX(רשויות!$AN$4:$AR$258,MATCH($C51,רשויות!$AO$4:$AO$258,0),4)>0,"נתמכת","עצמאית") -> נתמכת | AN51: דייר חנא | AO51: 9500 | AQ51: רמת נגב | AR51: 5.9
B52: מועצה אזורית מנשה - 30 | C52: מנשה | D52: =VLOOKUP(C52,גודל_אוכלוסיה,2,FALSE) -> 17900 | E52: =IF(LEFT(B52,3)="עיר","עירייה",IF(LEFT(B52,7)="מועצה א","מועצה אזורית","מועצה מקומית")) -> מועצה אזורית | F52: =INDEX(רשות_מחוז,MATCH(TRIM(C52),רשויות!$G$3:$G$260,0),2) -> חיפה | G52: 2495822.1 | H52: =G52*(1+3.36%) -> 2579681.7 | I52: =J52-H52 -> 6019257.4 | J52: =IF(OR(A52="עיר עולים",A52="בירה"),H52,H52/0.3) -> 8598939.1 | K52: =INDEX(מילמן,MATCH(C52,'המידע ממילמן'!$A$1:$A$145,0),2) -> 334529 | L52: =M52-K52 -> 273705.55 | M52: =IF(OR(A52="עיר עולים",A52="בירה"),K52,K52/0.55) -> 608234.55 | N52: =K52+H52 -> 2914210.7 | O52: =SUM(N$3:$N52)/SUM($N$3:$N$167) -> 0.93268898 | P52: =N52/D52 -> 162.80507 | Q52: =M52+J52 -> 9207173.7 | R52: =INDEX(הכנסות_מבוקר,MATCH(C52,'נתוני דוחות 2014'!$C$10:$C$263,0),11)*1000 -> 153780000 | S52: =INDEX(הכנסות_מבוקר,MATCH(C52,'נתוני דוחות 2014'!$C$10:$C$263,0),6)*1000 -> 84043000 | T52: =INDEX(ארנונה_מבוקר,MATCH(C52,'נתוני דוחות 2014'!$C$10:$C$263,0),7)*1000 -> 27564000 | U52: =H52/T52 -> 0.093588802 | V52: =H52/S52 -> 0.030694784 | W52: =H52/R52 -> 0.016775145 | X52: =INDEX('נתוני דוחות 2014'!$DW$10:$DY$263,MATCH('תשלומי ארנונה של המדינה'!C52,'נתוני דוחות 2014'!$DW$10:$DW$263,0),2)/(INDEX('נתוני דוחות 2014'!$DW$10:$DY$263,MATCH('תשלומי ארנונה של המדינה'!C52,'נתוני דוחות 2014'!$DW$10:$DW$263,0),2)+INDEX('נתוני דוחות 2014'!$DW$10:$DY$263,MATCH('תשלומי ארנונה של המדינה'!C52,'נתוני דוחות 2014'!$DW$10:$DW$263,0),3)) -> 0.43461941 | Y52: =INDEX('נתוני דוחות 2014'!$DW$10:$DY$263,MATCH('תשלומי ארנונה של המדינה'!C52,'נתוני דוחות 2014'!$DW$10:$DW$263,0),2)/(INDEX('נתוני דוחות 2014'!$DW$10:$DY$263,MATCH('תשלומי ארנונה של המדינה'!C52,'נתוני דוחות 2014'!$DW$10:$DW$263,0),2)+INDEX('נתוני דוחות 2014'!$DW$10:$DY$263,MATCH('תשלומי ארנונה של המדינה'!C52,'נתוני דוחות 2014'!$DW$10:$DW$263,0),3)-H52/1000) -> 0.45890139 | Z52: =INDEX('נתוני דוחות 2014'!$DW$10:$DY$263,MATCH('תשלומי ארנונה של המדינה'!C52,'נתוני דוחות 2014'!$DW$10:$DW$263,0),2)/(INDEX('נתוני דוחות 2014'!$DW$10:$DY$263,MATCH('תשלומי ארנונה של המדינה'!C52,'נתוני דוחות 2014'!$DW$10:$DW$263,0),2)+INDEX('נתוני דוחות 2014'!$DW$10:$DY$263,MATCH('תשלומי ארנונה של המדינה'!C52,'נתוני דוחות 2014'!$DW$10:$DW$263,0),3)-N52/1000) -> 0.46225043 | AA52: =Z52-X52 -> 0.027631021 | AB52: =N52/T52 -> 0.10572525 | AC52: =N52/S52 -> 0.034675235 | AD52: =N52/R52 -> 0.018950519 | AE52: =INDEX(רשויות!$AC$4:$AL$258,MATCH($C52,רשויות!$AC$4:$AC$258,0),10) -> 6 | AF52: =IF(INDEX(רשויות!$AN$4:$AR$258,MATCH($C52,רשויות!$AO$4:$AO$258,0),4)>0,"נתמכת","עצמאית") -> נתמכת | AN52: דימונה | AO52: 33200 | AQ52: שדות נגב | AR52: 8.9
B53: מועצה אזורית נחל שורק | C53: נחל שורק | D53: =VLOOKUP(C53,גודל_אוכלוסיה,2,FALSE) -> 7700 | E53: =IF(LEFT(B53,3)="עיר","עירייה",IF(LEFT(B53,7)="מועצה א","מועצה אזורית","מועצה מקומית")) -> מועצה אזורית | F53: =INDEX(רשות_מחוז,MATCH(TRIM(C53),רשויות!$G$3:$G$260,0),2) -> מרכז | G53: 2787992.5 | H53: =G53*(1+3.36%) -> 2881669 | I53: =J53-H53 -> 6723894.4 | J53: =IF(OR(A53="עיר עולים",A53="בירה"),H53,H53/0.3) -> 9605563.5 | N53: =K53+H53 -> 2881669 | O53: =SUM(N$3:$N53)/SUM($N$3:$N$167) -> 0.93584409 | P53: =N53/D53 -> 374.24273 | Q53: =M53+J53 -> 9605563.5 | R53: =INDEX(הכנסות_מבוקר,MATCH(C53,'נתוני דוחות 2014'!$C$10:$C$263,0),11)*1000 -> 67805000 | S53: =INDEX(הכנסות_מבוקר,MATCH(C53,'נתוני דוחות 2014'!$C$10:$C$263,0),6)*1000 -> 27517000 | T53: =INDEX(ארנונה_מבוקר,MATCH(C53,'נתוני דוחות 2014'!$C$10:$C$263,0),7)*1000 -> 9045000 | U53: =H53/T53 -> 0.31859249 | V53: =H53/S53 -> 0.10472323 | W53: =H53/R53 -> 0.042499359 | X53: =INDEX('נתוני דוחות 2014'!$DW$10:$DY$263,MATCH('תשלומי ארנונה של המדינה'!C53,'נתוני דוחות 2014'!$DW$10:$DW$263,0),2)/(INDEX('נתוני דוחות 2014'!$DW$10:$DY$263,MATCH('תשלומי ארנונה של המדינה'!C53,'נתוני דוחות 2014'!$DW$10:$DW$263,0),2)+INDEX('נתוני דוחות 2014'!$DW$10:$DY$263,MATCH('תשלומי ארנונה של המדינה'!C53,'נתוני דוחות 2014'!$DW$10:$DW$263,0),3)) -> 0.41802857 | Y53: =INDEX('נתוני דוחות 2014'!$DW$10:$DY$263,MATCH('תשלומי ארנונה של המדינה'!C53,'נתוני דוחות 2014'!$DW$10:$DW$263,0),2)/(INDEX('נתוני דוחות 2014'!$DW$10:$DY$263,MATCH('תשלומי ארנונה של המדינה'!C53,'נתוני דוחות 2014'!$DW$10:$DW$263,0),2)+INDEX('נתוני דוחות 2014'!$DW$10:$DY$263,MATCH('תשלומי ארנונה של המדינה'!C53,'נתוני דוחות 2014'!$DW$10:$DW$263,0),3)-H53/1000) -> 0.51317774 | Z53: =INDEX('נתוני דוחות 2014'!$DW$10:$DY$263,MATCH('תשלומי ארנונה של המדינה'!C53,'נתוני דוחות 2014'!$DW$10:$DW$263,0),2)/(INDEX('נתוני דוחות 2014'!$DW$10:$DY$263,MATCH('תשלומי ארנונה של המדינה'!C53,'נתוני דוחות 2014'!$DW$10:$DW$263,0),2)+INDEX('נתוני דוחות 2014'!$DW$10:$DY$263,MATCH('תשלומי ארנונה של המדינה'!C53,'נתוני דוחות 2014'!$DW$10:$DW$263,0),3)-N53/1000) -> 0.51317774 | AA53: =Z53-X53 -> 0.09514917 | AB53: =N53/T53 -> 0.31859249 | AC53: =N53/S53 -> 0.10472323 | AD53: =N53/R53 -> 0.042499359 | AE53: =INDEX(רשויות!$AC$4:$AL$258,MATCH($C53,רשויות!$AC$4:$AC$258,0),10) -> 4 | AF53: =IF(INDEX(רשויות!$AN$4:$AR$258,MATCH($C53,רשויות!$AO$4:$AO$258,0),4)>0,"נתמכת","עצמאית") -> נתמכת | AN53: הוד השרון | AO53: 52400 | AQ53: שומרון | AR53: 31.4
B54: עיריית כפר סבא | C54: כפר סבא | D54: =VLOOKUP(C54,גודל_אוכלוסיה,2,FALSE) -> 91700 | E54: =IF(LEFT(B54,3)="עיר","עירייה",IF(LEFT(B54,7)="מועצה א","מועצה אזורית","מועצה מקומית")) -> עירייה | F54: =INDEX(רשות_מחוז,MATCH(TRIM(C54),רשויות!$G$3:$G$260,0),2) -> מרכז | G54: 21848.91 | H54: =G54*(1+3.36%) -> 22583.033 | I54: =J54-H54 -> 52693.745 | J54: =IF(OR(A54="עיר עולים",A54="בירה"),H54,H54/0.3) -> 75276.778 | K54: =INDEX(מילמן,MATCH(C54,'המידע ממילמן'!$A$1:$A$145,0),2) -> 2678571.1 | L54: =M54-K54 -> 2191558.2 | M54: =IF(OR(A54="עיר עולים",A54="בירה"),K54,K54/0.55) -> 4870129.3 | N54: =K54+H54 -> 2701154.2 | O54: =SUM(N$3:$N54)/SUM($N$3:$N$167) -> 0.93880155 | P54: =N54/D54 -> 29.456425 | Q54: =M54+J54 -> 4945406.1 | R54: =INDEX(הכנסות_מבוקר,MATCH(C54,'נתוני דוחות 2014'!$C$10:$C$263,0),11)*1000 -> 642946000 | S54: =INDEX(הכנסות_מבוקר,MATCH(C54,'נתוני דוחות 2014'!$C$10:$C$263,0),6)*1000 -> 446747000 | T54: =INDEX(ארנונה_מבוקר,MATCH(C54,'נתוני דוחות 2014'!$C$10:$C$263,0),7)*1000 -> 127062000 | U54: =H54/T54 -> 0.00017773239 | V54: =H54/S54 -> 5.0549939e-05 | W54: =H54/R54 -> 3.5124308e-05 | X54: =INDEX('נתוני דוחות 2014'!$DW$10:$DY$263,MATCH('תשלומי ארנונה של המדינה'!C54,'נתוני דוחות 2014'!$DW$10:$DW$263,0),2)/(INDEX('נתוני דוחות 2014'!$DW$10:$DY$263,MATCH('תשלומי ארנונה של המדינה'!C54,'נתוני דוחות 2014'!$DW$10:$DW$263,0),2)+INDEX('נתוני דוחות 2014'!$DW$10:$DY$263,MATCH('תשלומי ארנונה של המדינה'!C54,'נתוני דוחות 2014'!$DW$10:$DW$263,0),3)) -> 0.56769281 | Y54: =INDEX('נתוני דוחות 2014'!$DW$10:$DY$263,MATCH('תשלומי ארנונה של המדינה'!C54,'נתוני דוחות 2014'!$DW$10:$DW$263,0),2)/(INDEX('נתוני דוחות 2014'!$DW$10:$DY$263,MATCH('תשלומי ארנונה של המדינה'!C54,'נתוני דוחות 2014'!$DW$10:$DW$263,0),2)+INDEX('נתוני דוחות 2014'!$DW$10:$DY$263,MATCH('תשלומי ארנונה של המדינה'!C54,'נתוני דוחות 2014'!$DW$10:$DW$263,0),3)-H54/1000) -> 0.56773643 | Z54: =INDEX('נתוני דוחות 2014'!$DW$10:$DY$263,MATCH('תשלומי ארנונה של המדינה'!C54,'נתוני דוחות 2014'!$DW$10:$DW$263,0),2)/(INDEX('נתוני דוחות 2014'!$DW$10:$DY$263,MATCH('תשלומי ארנונה של המדינה'!C54,'נתוני דוחות 2014'!$DW$10:$DW$263,0),2)+INDEX('נתוני דוחות 2014'!$DW$10:$DY$263,MATCH('תשלומי ארנונה של המדינה'!C54,'נתוני דוחות 2014'!$DW$10:$DW$263,0),3)-N54/1000) -> 0.57295843 | AA54: =Z54-X54 -> 0.0052656169 | AB54: =N54/T54 -> 0.021258552 | AC54: =N54/S54 -> 0.0060462727 | AD54: =N54/R54 -> 0.0042012147 | AE54: =INDEX(רשויות!$AC$4:$AL$258,MATCH($C54,רשויות!$AC$4:$AC$258,0),10) -> 8 | AF54: =IF(INDEX(רשויות!$AN$4:$AR$258,MATCH($C54,רשויות!$AO$4:$AO$258,0),4)>0,"נתמכת","עצמאית") -> עצמאית | AN54: הר אדר | AO54: 3800 | AQ54: שער הנגב | AR54: 7.1
A55: עיר עולים | B55: עיריית טבריה | C55: טבריה | D55: =VLOOKUP(C55,גודל_אוכלוסיה,2,FALSE) -> 42000 | E55: =IF(LEFT(B55,3)="עיר","עירייה",IF(LEFT(B55,7)="מועצה א","מועצה אזורית","מועצה מקומית")) -> עירייה | F55: =INDEX(רשות_מחוז,MATCH(TRIM(C55),רשויות!$G$3:$G$260,0),2) -> צפון | G55: 410823.09 | H55: =G55*(1+3.36%) -> 424626.75 | I55: =J55-H55 -> 0 | J55: =IF(OR(A55="עיר עולים",A55="בירה"),H55,H55/0.3) -> 424626.75 | K55: =INDEX(מילמן,MATCH(C55,'המידע ממילמן'!$A$1:$A$145,0),2) -> 2152987.1 | L55: =M55-K55 -> 0 | M55: =IF(OR(A55="עיר עולים",A55="בירה"),K55,K55/0.55) -> 2152987.1 | N55: =K55+H55 -> 2577613.8 | O55: =SUM(N$3:$N55)/SUM($N$3:$N$167) -> 0.94162375 | P55: =N55/D55 -> 61.371758 | Q55: =M55+J55 -> 2577613.8 | R55: =INDEX(הכנסות_מבוקר,MATCH(C55,'נתוני דוחות 2014'!$C$10:$C$263,0),11)*1000 -> 286879000 | S55: =INDEX(הכנסות_מבוקר,MATCH(C55,'נתוני דוחות 2014'!$C$10:$C$263,0),6)*1000 -> 172328000 | T55: =INDEX(ארנונה_מבוקר,MATCH(C55,'נתוני דוחות 2014'!$C$10:$C$263,0),7)*1000 -> 75533000 | U55: =H55/T55 -> 0.0056217381 | V55: =H55/S55 -> 0.0024640612 | W55: =H55/R55 -> 0.0014801597 | X55: =INDEX('נתוני דוחות 2014'!$DW$10:$DY$263,MATCH('תשלומי ארנונה של המדינה'!C55,'נתוני דוחות 2014'!$DW$10:$DW$263,0),2)/(INDEX('נתוני דוחות 2014'!$DW$10:$DY$263,MATCH('תשלומי ארנונה של המדינה'!C55,'נתוני דוחות 2014'!$DW$10:$DW$263,0),2)+INDEX('נתוני דוחות 2014'!$DW$10:$DY$263,MATCH('תשלומי ארנונה של המדינה'!C55,'נתוני דוחות 2014'!$DW$10:$DW$263,0),3)) -> 0.3593143 | Y55: =INDEX('נתוני דוחות 2014'!$DW$10:$DY$263,MATCH('תשלומי ארנונה של המדינה'!C55,'נתוני דוחות 2014'!$DW$10:$DW$263,0),2)/(INDEX('נתוני דוחות 2014'!$DW$10:$DY$263,MATCH('תשלומי ארנונה של המדינה'!C55,'נתוני דוחות 2014'!$DW$10:$DW$263,0),2)+INDEX('נתוני דוחות 2014'!$DW$10:$DY$263,MATCH('תשלומי ארנונה של המדינה'!C55,'נתוני דוחות 2014'!$DW$10:$DW$263,0),3)-H55/1000) -> 0.36061314 | Z55: =INDEX('נתוני דוחות 2014'!$DW$10:$DY$263,MATCH('תשלומי ארנונה של המדינה'!C55,'נתוני דוחות 2014'!$DW$10:$DW$263,0),2)/(INDEX('נתוני דוחות 2014'!$DW$10:$DY$263,MATCH('תשלומי ארנונה של המדינה'!C55,'נתוני דוחות 2014'!$DW$10:$DW$263,0),2)+INDEX('נתוני דוחות 2014'!$DW$10:$DY$263,MATCH('תשלומי ארנונה של המדינה'!C55,'נתוני דוחות 2014'!$DW$10:$DW$263,0),3)-N55/1000) -> 0.36734589 | AA55: =Z55-X55 -> 0.0080315863 | AB55: =N55/T55 -> 0.034125665 | AC55: =N55/S55 -> 0.014957603 | AD55: =N55/R55 -> 0.008985021 | AE55: =INDEX(רשויות!$AC$4:$AL$258,MATCH($C55,רשויות!$AC$4:$AC$258,0),10) -> 4 | AF55: =IF(INDEX(רשויות!$AN$4:$AR$258,MATCH($C55,רשויות!$AO$4:$AO$258,0),4)>0,"נתמכת","עצמאית") -> נתמכת | AN55: הרצליה | AO55: 89800 | AQ55: שפיר | AR55: 10.1
B56: מועצה אזורית גלבוע | C56: הגלבוע | D56: =VLOOKUP(C56,גודל_אוכלוסיה,2,FALSE) -> 27900 | E56: =IF(LEFT(B56,3)="עיר","עירייה",IF(LEFT(B56,7)="מועצה א","מועצה אזורית","מועצה מקומית")) -> מועצה אזורית | F56: =INDEX(רשות_מחוז,MATCH(TRIM(C56),רשויות!$G$3:$G$260,0),2) -> צפון | G56: 803635.21 | H56: =G56*(1+3.36%) -> 830637.35 | I56: =J56-H56 -> 1938153.8 | J56: =IF(OR(A56="עיר עולים",A56="בירה"),H56,H56/0.3) -> 2768791.2 | K56: =INDEX(מילמן,MATCH(C56,'המידע ממילמן'!$A$1:$A$145,0),2) -> 1740294.7 | L56: =M56-K56 -> 1423877.5 | M56: =IF(OR(A56="עיר עולים",A56="בירה"),K56,K56/0.55) -> 3164172.1 | N56: =K56+H56 -> 2570932 | O56: =SUM(N$3:$N56)/SUM($N$3:$N$167) -> 0.94443863 | P56: =N56/D56 -> 92.148101 | Q56: =M56+J56 -> 5932963.3 | R56: =INDEX(הכנסות_מבוקר,MATCH(C56,'נתוני דוחות 2014'!$C$10:$C$263,0),11)*1000 -> 160863000 | S56: =INDEX(הכנסות_מבוקר,MATCH(C56,'נתוני דוחות 2014'!$C$10:$C$263,0),6)*1000 -> 74130000 | T56: =INDEX(ארנונה_מבוקר,MATCH(C56,'נתוני דוחות 2014'!$C$10:$C$263,0),7)*1000 -> 22339000 | U56: =H56/T56 -> 0.037183283 | V56: =H56/S56 -> 0.011205144 | W56: =H56/R56 -> 0.0051636321 | X56: =INDEX('נתוני דוחות 2014'!$DW$10:$DY$263,MATCH('תשלומי ארנונה של המדינה'!C56,'נתוני דוחות 2014'!$DW$10:$DW$263,0),2)/(INDEX('נתוני דוחות 2014'!$DW$10:$DY$263,MATCH('תשלומי ארנונה של המדינה'!C56,'נתוני דוחות 2014'!$DW$10:$DW$263,0),2)+INDEX('נתוני דוחות 2014'!$DW$10:$DY$263,MATCH('תשלומי ארנונה של המדינה'!C56,'נתוני דוחות 2014'!$DW$10:$DW$263,0),3)) -> 0.47569648 | Y56: =INDEX('נתוני דוחות 2014'!$DW$10:$DY$263,MATCH('תשלומי ארנונה של המדינה'!C56,'נתוני דוחות 2014'!$DW$10:$DW$263,0),2)/(INDEX('נתוני דוחות 2014'!$DW$10:$DY$263,MATCH('תשלומי ארנונה של המדינה'!C56,'נתוני דוחות 2014'!$DW$10:$DW$263,0),2)+INDEX('נתוני דוחות 2014'!$DW$10:$DY$263,MATCH('תשלומי ארנונה של המדינה'!C56,'נתוני דוחות 2014'!$DW$10:$DW$263,0),3)-H56/1000) -> 0.48515473 | Z56: =INDEX('נתוני דוחות 2014'!$DW$10:$DY$263,MATCH('תשלומי ארנונה של המדינה'!C56,'נתוני דוחות 2014'!$DW$10:$DW$263,0),2)/(INDEX('נתוני דוחות 2014'!$DW$10:$DY$263,MATCH('תשלומי ארנונה של המדינה'!C56,'נתוני דוחות 2014'!$DW$10:$DW$263,0),2)+INDEX('נתוני דוחות 2014'!$DW$10:$DY$263,MATCH('תשלומי ארנונה של המדינה'!C56,'נתוני דוחות 2014'!$DW$10:$DW$263,0),3)-N56/1000) -> 0.50624352 | AA56: =Z56-X56 -> 0.030547039 | AB56: =N56/T56 -> 0.11508716 | AC56: =N56/S56 -> 0.034681398 | AD56: =N56/R56 -> 0.015982122 | AE56: =INDEX(רשויות!$AC$4:$AL$258,MATCH($C56,רשויות!$AC$4:$AC$258,0),10) -> 5 | AF56: =IF(INDEX(רשויות!$AN$4:$AR$258,MATCH($C56,רשויות!$AO$4:$AO$258,0),4)>0,"נתמכת","עצמאית") -> נתמכת | AN56: זכרון יעקב | AO56: 21400 | AQ56: תמר | AR56: 1.3
B57: מועצה אזורית גליל עליון | C57: הגליל העליון | D57: =VLOOKUP(C57,גודל_אוכלוסיה,2,FALSE) -> 16900 | E57: =IF(LEFT(B57,3)="עיר","עירייה",IF(LEFT(B57,7)="מועצה א","מועצה אזורית","מועצה מקומית")) -> מועצה אזורית | F57: =INDEX(רשות_מחוז,MATCH(TRIM(C57),רשויות!$G$3:$G$260,0),2) -> צפון | G57: 2415310.5 | H57: =G57*(1+3.36%) -> 2496464.9 | I57: =J57-H57 -> 5825084.9 | J57: =IF(OR(A57="עיר עולים",A57="בירה"),H57,H57/0.3) -> 8321549.8 | K57: =INDEX(מילמן,MATCH(C57,'המידע ממילמן'!$A$1:$A$145,0),2) -> 34185.6 | L57: =M57-K57 -> 27970.036 | M57: =IF(OR(A57="עיר עולים",A57="בירה"),K57,K57/0.55) -> 62155.636 | N57: =K57+H57 -> 2530650.5 | O57: =SUM(N$3:$N57)/SUM($N$3:$N$167) -> 0.94720941 | P57: =N57/D57 -> 149.74264 | Q57: =M57+J57 -> 8383705.4 | R57: =INDEX(הכנסות_מבוקר,MATCH(C57,'נתוני דוחות 2014'!$C$10:$C$263,0),11)*1000 -> 162413000 | S57: =INDEX(הכנסות_מבוקר,MATCH(C57,'נתוני דוחות 2014'!$C$10:$C$263,0),6)*1000 -> 82459000 | T57: =INDEX(ארנונה_מבוקר,MATCH(C57,'נתוני דוחות 2014'!$C$10:$C$263,0),7)*1000 -> 30757000 | U57: =H57/T57 -> 0.081167375 | V57: =H57/S57 -> 0.030275227 | W57: =H57/R57 -> 0.015371091 | X57: =INDEX('נתוני דוחות 2014'!$DW$10:$DY$263,MATCH('תשלומי ארנונה של המדינה'!C57,'נתוני דוחות 2014'!$DW$10:$DW$263,0),2)/(INDEX('נתוני דוחות 2014'!$DW$10:$DY$263,MATCH('תשלומי ארנונה של המדינה'!C57,'נתוני דוחות 2014'!$DW$10:$DW$263,0),2)+INDEX('נתוני דוחות 2014'!$DW$10:$DY$263,MATCH('תשלומי ארנונה של המדינה'!C57,'נתוני דוחות 2014'!$DW$10:$DW$263,0),3)) -> 0.39075747 | Y57: =INDEX('נתוני דוחות 2014'!$DW$10:$DY$263,MATCH('תשלומי ארנונה של המדינה'!C57,'נתוני דוחות 2014'!$DW$10:$DW$263,0),2)/(INDEX('נתוני דוחות 2014'!$DW$10:$DY$263,MATCH('תשלומי ארנונה של המדינה'!C57,'נתוני דוחות 2014'!$DW$10:$DW$263,0),2)+INDEX('נתוני דוחות 2014'!$DW$10:$DY$263,MATCH('תשלומי ארנונה של המדינה'!C57,'נתוני דוחות 2014'!$DW$10:$DW$263,0),3)-H57/1000) -> 0.41108592 | Z57: =INDEX('נתוני דוחות 2014'!$DW$10:$DY$263,MATCH('תשלומי ארנונה של המדינה'!C57,'נתוני דוחות 2014'!$DW$10:$DW$263,0),2)/(INDEX('נתוני דוחות 2014'!$DW$10:$DY$263,MATCH('תשלומי ארנונה של המדינה'!C57,'נתוני דוחות 2014'!$DW$10:$DW$263,0),2)+INDEX('נתוני דוחות 2014'!$DW$10:$DY$263,MATCH('תשלומי ארנונה של המדינה'!C57,'נתוני דוחות 2014'!$DW$10:$DW$263,0),3)-N57/1000) -> 0.41137898 | AA57: =Z57-X57 -> 0.020621513 | AB57: =N57/T57 -> 0.082278848 | AC57: =N57/S57 -> 0.030689804 | AD57: =N57/R57 -> 0.015581576 | AE57: =INDEX(רשויות!$AC$4:$AL$258,MATCH($C57,רשויות!$AC$4:$AC$258,0),10) -> 6 | AF57: =IF(INDEX(רשויות!$AN$4:$AR$258,MATCH($C57,רשויות!$AO$4:$AO$258,0),4)>0,"נתמכת","עצמאית") -> נתמכת | AN57: זמר | AO57: 6300
A58: עיר עולים | B58: עיריית בית שאן | C58: בית שאן | D58: =VLOOKUP(C58,גודל_אוכלוסיה,2,FALSE) -> 17300 | E58: =IF(LEFT(B58,3)="עיר","עירייה",IF(LEFT(B58,7)="מועצה א","מועצה אזורית","מועצה מקומית")) -> עירייה | F58: =INDEX(רשות_מחוז,MATCH(TRIM(C58),רשויות!$G$3:$G$260,0),2) -> צפון | G58: 1695274.4 | H58: =G58*(1+3.36%) -> 1752235.7 | I58: =J58-H58 -> 0 | J58: =IF(OR(A58="עיר עולים",A58="בירה"),H58,H58/0.3) -> 1752235.7 | K58: =INDEX(מילמן,MATCH(C58,'המידע ממילמן'!$A$1:$A$145,0),2) -> 598138.21 | L58: =M58-K58 -> 0 | M58: =IF(OR(A58="עיר עולים",A58="בירה"),K58,K58/0.55) -> 598138.21 | N58: =K58+H58 -> 2350373.9 | O58: =SUM(N$3:$N58)/SUM($N$3:$N$167) -> 0.9497828 | P58: =N58/D58 -> 135.85976 | Q58: =M58+J58 -> 2350373.9 | R58: =INDEX(הכנסות_מבוקר,MATCH(C58,'נתוני דוחות 2014'!$C$10:$C$263,0),11)*1000 -> 130969000 | S58: =INDEX(הכנסות_מבוקר,MATCH(C58,'נתוני דוחות 2014'!$C$10:$C$263,0),6)*1000 -> 64534000 | T58: =INDEX(ארנונה_מבוקר,MATCH(C58,'נתוני דוחות 2014'!$C$10:$C$263,0),7)*1000 -> 13243600 | U58: =H58/T58 -> 0.13230811 | V58: =H58/S58 -> 0.027152132 | W58: =H58/R58 -> 0.013379011 | X58: =INDEX('נתוני דוחות 2014'!$DW$10:$DY$263,MATCH('תשלומי ארנונה של המדינה'!C58,'נתוני דוחות 2014'!$DW$10:$DW$263,0),2)/(INDEX('נתוני דוחות 2014'!$DW$10:$DY$263,MATCH('תשלומי ארנונה של המדינה'!C58,'נתוני דוחות 2014'!$DW$10:$DW$263,0),2)+INDEX('נתוני דוחות 2014'!$DW$10:$DY$263,MATCH('תשלומי ארנונה של המדינה'!C58,'נתוני דוחות 2014'!$DW$10:$DW$263,0),3)) -> 0.6 | Y58: =INDEX('נתוני דוחות 2014'!$DW$10:$DY$263,MATCH('תשלומי ארנונה של המדינה'!C58,'נתוני דוחות 2014'!$DW$10:$DW$263,0),2)/(INDEX('נתוני דוחות 2014'!$DW$10:$DY$263,MATCH('תשלומי ארנונה של המדינה'!C58,'נתוני דוחות 2014'!$DW$10:$DW$263,0),2)+INDEX('נתוני דוחות 2014'!$DW$10:$DY$263,MATCH('תשלומי ארנונה של המדינה'!C58,'נתוני דוחות 2014'!$DW$10:$DW$263,0),3)-H58/1000) -> 0.63352838 | Z58: =INDEX('נתוני דוחות 2014'!$DW$10:$DY$263,MATCH('תשלומי ארנונה של המדינה'!C58,'נתוני דוחות 2014'!$DW$10:$DW$263,0),2)/(INDEX('נתוני דוחות 2014'!$DW$10:$DY$263,MATCH('תשלומי ארנונה של המדינה'!C58,'נתוני דוחות 2014'!$DW$10:$DW$263,0),2)+INDEX('נתוני דוחות 2014'!$DW$10:$DY$263,MATCH('תשלומי ארנונה של המדינה'!C58,'נתוני דוחות 2014'!$DW$10:$DW$263,0),3)-N58/1000) -> 0.64584809 | AA58: =Z58-X58 -> 0.045848092 | AB58: =N58/T58 -> 0.17747243 | AC58: =N58/S58 -> 0.036420707 | AD58: =N58/R58 -> 0.017946032 | AE58: =INDEX(רשויות!$AC$4:$AL$258,MATCH($C58,רשויות!$AC$4:$AC$258,0),10) -> 4 | AF58: =IF(INDEX(רשויות!$AN$4:$AR$258,MATCH($C58,רשויות!$AO$4:$AO$258,0),4)>0,"נתמכת","עצמאית") -> נתמכת | AN58: זרזיר | AO58: 7100
B59: מועצה אזורית משגב | C59: משגב | D59: =VLOOKUP(C59,גודל_אוכלוסיה,2,FALSE) -> 25300 | E59: =IF(LEFT(B59,3)="עיר","עירייה",IF(LEFT(B59,7)="מועצה א","מועצה אזורית","מועצה מקומית")) -> מועצה אזורית | F59: =INDEX(רשות_מחוז,MATCH(TRIM(C59),רשויות!$G$3:$G$260,0),2) -> צפון | G59: 1985207.2 | H59: =G59*(1+3.36%) -> 2051910.2 | I59: =J59-H59 -> 4787790.5 | J59: =IF(OR(A59="עיר עולים",A59="בירה"),H59,H59/0.3) -> 6839700.7 | K59: =INDEX(מילמן,MATCH(C59,'המידע ממילמן'!$A$1:$A$145,0),2) -> 89879.327 | L59: =M59-K59 -> 73537.632 | M59: =IF(OR(A59="עיר עולים",A59="בירה"),K59,K59/0.55) -> 163416.96 | N59: =K59+H59 -> 2141789.5 | O59: =SUM(N$3:$N59)/SUM($N$3:$N$167) -> 0.95212782 | P59: =N59/D59 -> 84.655713 | Q59: =M59+J59 -> 7003117.7 | R59: =INDEX(הכנסות_מבוקר,MATCH(C59,'נתוני דוחות 2014'!$C$10:$C$263,0),11)*1000 -> 178859000 | S59: =INDEX(הכנסות_מבוקר,MATCH(C59,'נתוני דוחות 2014'!$C$10:$C$263,0),6)*1000 -> 80716000 | T59: =INDEX(ארנונה_מבוקר,MATCH(C59,'נתוני דוחות 2014'!$C$10:$C$263,0),7)*1000 -> 29639000 | U59: =H59/T59 -> 0.069230076 | V59: =H59/S59 -> 0.025421357 | W59: =H59/R59 -> 0.011472222 | X59: =INDEX('נתוני דוחות 2014'!$DW$10:$DY$263,MATCH('תשלומי ארנונה של המדינה'!C59,'נתוני דוחות 2014'!$DW$10:$DW$263,0),2)/(INDEX('נתוני דוחות 2014'!$DW$10:$DY$263,MATCH('תשלומי ארנונה של המדינה'!C59,'נתוני דוחות 2014'!$DW$10:$DW$263,0),2)+INDEX('נתוני דוחות 2014'!$DW$10:$DY$263,MATCH('תשלומי ארנונה של המדינה'!C59,'נתוני דוחות 2014'!$DW$10:$DW$263,0),3)) -> 0.48284827 | Y59: =INDEX('נתוני דוחות 2014'!$DW$10:$DY$263,MATCH('תשלומי ארנונה של המדינה'!C59,'נתוני דוחות 2014'!$DW$10:$DW$263,0),2)/(INDEX('נתוני דוחות 2014'!$DW$10:$DY$263,MATCH('תשלומי ארנונה של המדינה'!C59,'נתוני דוחות 2014'!$DW$10:$DW$263,0),2)+INDEX('נתוני דוחות 2014'!$DW$10:$DY$263,MATCH('תשלומי ארנונה של המדינה'!C59,'נתוני דוחות 2014'!$DW$10:$DW$263,0),3)-H59/1000) -> 0.50077733 | Z59: =INDEX('נתוני דוחות 2014'!$DW$10:$DY$263,MATCH('תשלומי ארנונה של המדינה'!C59,'נתוני דוחות 2014'!$DW$10:$DW$263,0),2)/(INDEX('נתוני דוחות 2014'!$DW$10:$DY$263,MATCH('תשלומי ארנונה של המדינה'!C59,'נתוני דוחות 2014'!$DW$10:$DW$263,0),2)+INDEX('נתוני דוחות 2014'!$DW$10:$DY$263,MATCH('תשלומי ארנונה של המדינה'!C59,'נתוני דוחות 2014'!$DW$10:$DW$263,0),3)-N59/1000) -> 0.50159316 | AA59: =Z59-X59 -> 0.018744887 | AB59: =N59/T59 -> 0.072262544 | AC59: =N59/S59 -> 0.026534882 | AD59: =N59/R59 -> 0.011974737 | AE59: =INDEX(רשויות!$AC$4:$AL$258,MATCH($C59,רשויות!$AC$4:$AC$258,0),10) -> 7 | AF59: =IF(INDEX(רשויות!$AN$4:$AR$258,MATCH($C59,רשויות!$AO$4:$AO$258,0),4)>0,"נתמכת","עצמאית") -> נתמכת | AN59: חדרה | AO59: 85400
B60: מועצה אזורית לב השרון | C60: לב השרון | D60: =VLOOKUP(C60,גודל_אוכלוסיה,2,FALSE) -> 22600 | E60: =IF(LEFT(B60,3)="עיר","עירייה",IF(LEFT(B60,7)="מועצה א","מועצה אזורית","מועצה מקומית")) -> מועצה אזורית | F60: =INDEX(רשות_מחוז,MATCH(TRIM(C60),רשויות!$G$3:$G$260,0),2) -> מרכז | G60: 388854.11 | H60: =G60*(1+3.36%) -> 401919.61 | I60: =J60-H60 -> 937812.42 | J60: =IF(OR(A60="עיר עולים",A60="בירה"),H60,H60/0.3) -> 1339732 | K60: =INDEX(מילמן,MATCH(C60,'המידע ממילמן'!$A$1:$A$145,0),2) -> 1644589.8 | L60: =M60-K60 -> 1345573.5 | M60: =IF(OR(A60="עיר עולים",A60="בירה"),K60,K60/0.55) -> 2990163.3 | N60: =K60+H60 -> 2046509.4 | O60: =SUM(N$3:$N60)/SUM($N$3:$N$167) -> 0.95436852 | P60: =N60/D60 -> 90.553514 | Q60: =M60+J60 -> 4329895.3 | R60: =INDEX(הכנסות_מבוקר,MATCH(C60,'נתוני דוחות 2014'!$C$10:$C$263,0),11)*1000 -> 185007000 | S60: =INDEX(הכנסות_מבוקר,MATCH(C60,'נתוני דוחות 2014'!$C$10:$C$263,0),6)*1000 -> 111284000 | T60: =INDEX(ארנונה_מבוקר,MATCH(C60,'נתוני דוחות 2014'!$C$10:$C$263,0),7)*1000 -> 24155000 | U60: =H60/T60 -> 0.016639189 | V60: =H60/S60 -> 0.0036116567 | W60: =H60/R60 -> 0.0021724562 | X60: =INDEX('נתוני דוחות 2014'!$DW$10:$DY$263,MATCH('תשלומי ארנונה של המדינה'!C60,'נתוני דוחות 2014'!$DW$10:$DW$263,0),2)/(INDEX('נתוני דוחות 2014'!$DW$10:$DY$263,MATCH('תשלומי ארנונה של המדינה'!C60,'נתוני דוחות 2014'!$DW$10:$DW$263,0),2)+INDEX('נתוני דוחות 2014'!$DW$10:$DY$263,MATCH('תשלומי ארנונה של המדינה'!C60,'נתוני דוחות 2014'!$DW$10:$DW$263,0),3)) -> 0.60708244 | Y60: =INDEX('נתוני דוחות 2014'!$DW$10:$DY$263,MATCH('תשלומי ארנונה של המדינה'!C60,'נתוני דוחות 2014'!$DW$10:$DW$263,0),2)/(INDEX('נתוני דוחות 2014'!$DW$10:$DY$263,MATCH('תשלומי ארנונה של המדינה'!C60,'נתוני דוחות 2014'!$DW$10:$DW$263,0),2)+INDEX('נתוני דוחות 2014'!$DW$10:$DY$263,MATCH('תשלומי ארנונה של המדינה'!C60,'נתוני דוחות 2014'!$DW$10:$DW$263,0),3)-H60/1000) -> 0.61107756 | Z60: =INDEX('נתוני דוחות 2014'!$DW$10:$DY$263,MATCH('תשלומי ארנונה של המדינה'!C60,'נתוני דוחות 2014'!$DW$10:$DW$263,0),2)/(INDEX('נתוני דוחות 2014'!$DW$10:$DY$263,MATCH('תשלומי ארנונה של המדינה'!C60,'נתוני דוחות 2014'!$DW$10:$DW$263,0),2)+INDEX('נתוני דוחות 2014'!$DW$10:$DY$263,MATCH('תשלומי ארנונה של המדינה'!C60,'נתוני דוחות 2014'!$DW$10:$DW$263,0),3)-N60/1000) -> 0.62798788 | AA60: =Z60-X60 -> 0.020905445 | AB60: =N60/T60 -> 0.084724049 | AC60: =N60/S60 -> 0.01838997 | AD60: =N60/R60 -> 0.011061794 | AE60: =INDEX(רשויות!$AC$4:$AL$258,MATCH($C60,רשויות!$AC$4:$AC$258,0),10) -> 8 | AF60: =IF(INDEX(רשויות!$AN$4:$AR$258,MATCH($C60,רשויות!$AO$4:$AO$258,0),4)>0,"נתמכת","עצמאית") -> עצמאית | AN60: חולון | AO60: 186400
B61: מועצה אזורית מגידו | C61: מגידו | D61: =VLOOKUP(C61,גודל_אוכלוסיה,2,FALSE) -> 11000 | E61: =IF(LEFT(B61,3)="עיר","עירייה",IF(LEFT(B61,7)="מועצה א","מועצה אזורית","מועצה מקומית")) -> מועצה אזורית | F61: =INDEX(רשות_מחוז,MATCH(TRIM(C61),רשויות!$G$3:$G$260,0),2) -> צפון | G61: 1997489.2 | H61: =G61*(1+3.36%) -> 2064604.8 | I61: =J61-H61 -> 4817411.2 | J61: =IF(OR(A61="עיר עולים",A61="בירה"),H61,H61/0.3) -> 6882016 | K61: =INDEX(מילמן,MATCH(C61,'המידע ממילמן'!$A$1:$A$145,0),2) -> 0 | L61: =M61-K61 -> 0 | M61: =IF(OR(A61="עיר עולים",A61="בירה"),K61,K61/0.55) -> 0 | N61: =K61+H61 -> 2064604.8 | O61: =SUM(N$3:$N61)/SUM($N$3:$N$167) -> 0.95662903 | P61: =N61/D61 -> 187.69135 | Q61: =M61+J61 -> 6882016 | R61: =INDEX(הכנסות_מבוקר,MATCH(C61,'נתוני דוחות 2014'!$C$10:$C$263,0),11)*1000 -> 93359000 | S61: =INDEX(הכנסות_מבוקר,MATCH(C61,'נתוני דוחות 2014'!$C$10:$C$263,0),6)*1000 -> 55112000 | T61: =INDEX(ארנונה_מבוקר,MATCH(C61,'נתוני דוחות 2014'!$C$10:$C$263,0),7)*1000 -> 15965000 | U61: =H61/T61 -> 0.12932069 | V61: =H61/S61 -> 0.037461983 | W61: =H61/R61 -> 0.022114684 | X61: =INDEX('נתוני דוחות 2014'!$DW$10:$DY$263,MATCH('תשלומי ארנונה של המדינה'!C61,'נתוני דוחות 2014'!$DW$10:$DW$263,0),2)/(INDEX('נתוני דוחות 2014'!$DW$10:$DY$263,MATCH('תשלומי ארנונה של המדינה'!C61,'נתוני דוחות 2014'!$DW$10:$DW$263,0),2)+INDEX('נתוני דוחות 2014'!$DW$10:$DY$263,MATCH('תשלומי ארנונה של המדינה'!C61,'נתוני דוחות 2014'!$DW$10:$DW$263,0),3)) -> 0.47336302 | Y61: =INDEX('נתוני דוחות 2014'!$DW$10:$DY$263,MATCH('תשלומי ארנונה של המדינה'!C61,'נתוני דוחות 2014'!$DW$10:$DW$263,0),2)/(INDEX('נתוני דוחות 2014'!$DW$10:$DY$263,MATCH('תשלומי ארנונה של המדינה'!C61,'נתוני דוחות 2014'!$DW$10:$DW$263,0),2)+INDEX('נתוני דוחות 2014'!$DW$10:$DY$263,MATCH('תשלומי ארנונה של המדינה'!C61,'נתוני דוחות 2014'!$DW$10:$DW$263,0),3)-H61/1000) -> 0.5079575 | Z61: =INDEX('נתוני דוחות 2014'!$DW$10:$DY$263,MATCH('תשלומי ארנונה של המדינה'!C61,'נתוני דוחות 2014'!$DW$10:$DW$263,0),2)/(INDEX('נתוני דוחות 2014'!$DW$10:$DY$263,MATCH('תשלומי ארנונה של המדינה'!C61,'נתוני דוחות 2014'!$DW$10:$DW$263,0),2)+INDEX('נתוני דוחות 2014'!$DW$10:$DY$263,MATCH('תשלומי ארנונה של המדינה'!C61,'נתוני דוחות 2014'!$DW$10:$DW$263,0),3)-N61/1000) -> 0.5079575 | AA61: =Z61-X61 -> 0.034594474 | AB61: =N61/T61 -> 0.12932069 | AC61: =N61/S61 -> 0.037461983 | AD61: =N61/R61 -> 0.022114684 | AE61: =INDEX(רשויות!$AC$4:$AL$258,MATCH($C61,רשויות!$AC$4:$AC$258,0),10) -> 6 | AF61: =IF(INDEX(רשויות!$AN$4:$AR$258,MATCH($C61,רשויות!$AO$4:$AO$258,0),4)>0,"נתמכת","עצמאית") -> עצמאית | AN61: חורה | AO61: 18300
B62: מועצה אזורית גן רווה | C62: גן רוה | D62: =VLOOKUP(C62,גודל_אוכלוסיה,2,FALSE) -> 5300 | E62: =IF(LEFT(B62,3)="עיר","עירייה",IF(LEFT(B62,7)="מועצה א","מועצה אזורית","מועצה מקומית")) -> מועצה אזורית | F62: =INDEX(רשות_מחוז,MATCH(TRIM(C62),רשויות!$G$3:$G$260,0),2) -> מרכז | G62: 1929718.3 | H62: =G62*(1+3.36%) -> 1994556.9 | I62: =J62-H62 -> 4653966 | J62: =IF(OR(A62="עיר עולים",A62="בירה"),H62,H62/0.3) -> 6648522.9 | N62: =K62+H62 -> 1994556.9 | O62: =SUM(N$3:$N62)/SUM($N$3:$N$167) -> 0.95881285 | P62: =N62/D62 -> 376.33148 | Q62: =M62+J62 -> 6648522.9 | R62: =INDEX(הכנסות_מבוקר,MATCH(C62,'נתוני דוחות 2014'!$C$10:$C$263,0),11)*1000 -> 41134000 | S62: =INDEX(הכנסות_מבוקר,MATCH(C62,'נתוני דוחות 2014'!$C$10:$C$263,0),6)*1000 -> 32433000 | T62: =INDEX(ארנונה_מבוקר,MATCH(C62,'נתוני דוחות 2014'!$C$10:$C$263,0),7)*1000 -> 14674000 | U62: =H62/T62 -> 0.13592455 | V62: =H62/S62 -> 0.06149776 | W62: =H62/R62 -> 0.048489251 | X62: =INDEX('נתוני דוחות 2014'!$DW$10:$DY$263,MATCH('תשלומי ארנונה של המדינה'!C62,'נתוני דוחות 2014'!$DW$10:$DW$263,0),2)/(INDEX('נתוני דוחות 2014'!$DW$10:$DY$263,MATCH('תשלומי ארנונה של המדינה'!C62,'נתוני דוחות 2014'!$DW$10:$DW$263,0),2)+INDEX('נתוני דוחות 2014'!$DW$10:$DY$263,MATCH('תשלומי ארנונה של המדינה'!C62,'נתוני דוחות 2014'!$DW$10:$DW$263,0),3)) -> 0.31995551 | Y62: =INDEX('נתוני דוחות 2014'!$DW$10:$DY$263,MATCH('תשלומי ארנונה של המדינה'!C62,'נתוני דוחות 2014'!$DW$10:$DW$263,0),2)/(INDEX('נתוני דוחות 2014'!$DW$10:$DY$263,MATCH('תשלומי ארנונה של המדינה'!C62,'נתוני דוחות 2014'!$DW$10:$DW$263,0),2)+INDEX('נתוני דוחות 2014'!$DW$10:$DY$263,MATCH('תשלומי ארנונה של המדינה'!C62,'נתוני דוחות 2014'!$DW$10:$DW$263,0),3)-H62/1000) -> 0.3525427 | Z62: =INDEX('נתוני דוחות 2014'!$DW$10:$DY$263,MATCH('תשלומי ארנונה של המדינה'!C62,'נתוני דוחות 2014'!$DW$10:$DW$263,0),2)/(INDEX('נתוני דוחות 2014'!$DW$10:$DY$263,MATCH('תשלומי ארנונה של המדינה'!C62,'נתוני דוחות 2014'!$DW$10:$DW$263,0),2)+INDEX('נתוני דוחות 2014'!$DW$10:$DY$263,MATCH('תשלומי ארנונה של המדינה'!C62,'נתוני דוחות 2014'!$DW$10:$DW$263,0),3)-N62/1000) -> 0.3525427 | AA62: =Z62-X62 -> 0.032587194 | AB62: =N62/T62 -> 0.13592455 | AC62: =N62/S62 -> 0.06149776 | AD62: =N62/R62 -> 0.048489251 | AE62: =INDEX(רשויות!$AC$4:$AL$258,MATCH($C62,רשויות!$AC$4:$AC$258,0),10) -> 8 | AF62: =IF(INDEX(רשויות!$AN$4:$AR$258,MATCH($C62,רשויות!$AO$4:$AO$258,0),4)>0,"נתמכת","עצמאית") -> עצמאית | AN62: חורפיש | AO62: 5900
