Workbook
Name ארנונה_מבוקר: 'נתוני דוחות 2014'!$BD$10:$BL$263
Name גודל_אוכלוסיה: 'תשלומי ארנונה של המדינה'!$AN$2:$AO$268
Name הכנסות_מבוקר: 'נתוני דוחות 2014'!$B$10:$L$263
Name מילמן: 'המידע ממילמן'!$A$1:$B$145
Name רשות_מחוז: רשויות!$G$3:$H$260

Sheet Pivot
F1: סוג רשות | G1: (Multiple Items) | K1: סוג רשות | L1: (All)
B3: Data | G3: Data | L3: Data
A4: חוזה | B4: תשלום בפועל | C4: שומת ארנונה מקורית לשנת 2013 | F4: שם חוזה | G4: שומת ארנונה מקורית לשנת 2013 | H4: תשלום בפועל | K4: שם הרשות | L4: Sum of חלקה של הארנונה מהמדינה מסה"כ ההכנסות | M4: Sum of חלקה של הארנונה מהמדינה בהכנסות העצמיות | N4: Sum of חלקה של הארנונה מהמדינה בהכנסות שאינן ממגורים | O4: Sum of סה"כ הכנסה ממשרדי הממשלה ומשרד הבטחון | P4: Sum of היקף הפטור למשרדי הממשלה | Q4: Sum of היקף הפטור שמקבל בשהב"ט2
A5: בירה | B5: 13700714 | C5: 13700714 | F5: עיריית באר שבע | G5: 51592943 | H5: 51592943 | I5: 1 | J5: מ.א. | K5: רמת נגב | L5: 0.54705631 | M5: 0.65373261 | N5: 1.0302644 | O5: 44798988 | P5: 0 | Q5: 0 | R5: עיר עולים
A6: ערי עולים | B6: 2.0276484e+08 | C6: 2.0276484e+08 | F6: עיריית חיפה | G6: 51658647 | H6: 15497594 | I6: 2 | J6: מ.מ. | K6: מצפה רמון | L6: 0.24838005 | M6: 0.45236761 | N6: 0.84973337 | O6: 12789337 | P6: 0 | Q6: 0 | R6: עיר עולים
A7: פטור 70% | B7: 83297118 | C7: 2.7765706e+08 | F7: עיריית ירושלים | G7: 13700714 | H7: 13700714 | I7: 3 | J7: מ.א. | K7: חבל אילות | L7: 0.3079423 | M7: 0.43386921 | N7: 0.84968297 | O7: 26012194 | P7: 0 | Q7: 0 | R7: עיר עולים
A8: Grand Total | B8: 2.9976268e+08 | C8: 4.9412262e+08 | F8: עיריית טירת הכרמל | G8: 12756979 | H8: 12756979 | I8: 4 | J8: מ.מ. | K8: כפר יונה | L8: 0.086172064 | M8: 0.17965047 | N8: 0.71880013 | O8: 9119417.2 | Q8: 0 | R8: עיר עולים
F9: עיריית אילת | G9: 9664139.8 | H9: 9664139.8 | I9: 5 | J9: מ.א. | K9: ברנר | L9: 0.19885508 | M9: 0.33695881 | N9: 0.62603315 | O9: 15753498 | Q9: 0 | R9: עיר עולים
F10: עיריית דימונה | G10: 2839354.7 | H10: 2839354.7 | I10: 6 | J10: מ.א. | K10: שפיר | L10: 0.10394181 | M10: 0.25786675 | N10: 0.61176286 | O10: 9526371.2 | Q10: 22228199
B11: Data | F11: עיריית אשדוד | G11: 1749280.7 | H11: 1749280.7 | I11: 7 | J11: מ.א. | K11: מרחבים | L11: 0.19801777 | M11: 0.37048661 | N11: 0.61125484 | O11: 20258208 | P11: 0 | Q11: 0 | R11: עיר עולים
A12: סוג רשות | B12: תשלום בפועל | C12: שומת ארנונה מקורית לשנת 2013 | F12: עיריית בית שאן | G12: 1695274.4 | H12: 1695274.4 | I12: 8 | J12: מ.א. | K12: לכיש | L12: 0.081281417 | M12: 0.20731015 | N12: 0.53441118 | O12: 5685066.1 | Q12: 0 | R12: עיר עולים
A13: מועצה אזורית | B13: 1.5193073e+08 | C13: 3.0448755e+08 | F13: עיריית חדרה | G13: 1709178.3 | H13: 512753.5 | I13: 9 | J13: מ.א. | K13: גולן | L13: 0.055169704 | M13: 0.13029952 | N13: 0.43959369 | O13: 8606804.8 | P13: 0 | Q13: 20082545
A14: מועצה מקומית | B14: 36518011 | C14: 40033355 | F14: עיריית טבריה | G14: 410823.09 | H14: 410823.09 | I14: 10 | J14: עירייה | K14: צפת | L14: 0.06647204 | M14: 0.15310723 | N14: 0.37357066 | O14: 13758981 | P14: 0 | Q14: 0 | R14: עיר עולים
A15: עירייה | B15: 1.1131393e+08 | C15: 1.4960171e+08 | F15: עיריית יקנעם עילית | G15: 243031.16 | H15: 243031.16 | I15: 11 | J15: מ.מ. | K15: ראש פינה | L15: 0.16283773 | M15: 0.18434271 | N15: 0.37214843 | O15: 5982658.2 | P15: 0 | Q15: 0 | R15: עיר עולים
A16: עיריה | F16: עיריית נהריה | G16: 180930.42 | H16: 180930.42 | I16: 12 | J16: מ.א. | K16: מרום הגליל | L16: 0.029353876 | M16: 0.082557376 | N16: 0.33783541 | O16: 3021600 | P16: 1188041.7 | Q16: 3662280.9
A17: Grand Total | B17: 2.9976268e+08 | C17: 4.9412262e+08 | F17: עיריית בת ים | G17: 577925 | H17: 173377.5 | I17: 13 | J17: מ.א. | K17: הגליל התחתון | L17: 0.068027235 | M17: 0.11530984 | N17: 0.33559406 | O17: 5900750.4 | Q17: 13768418
B18: Data | F18: עיריית מודיעין-מכבים-רעות | G18: 355692.9 | H18: 106707.87 | I18: 14 | J18: מ.מ. | K18: באר יעקב | L18: 0.120885 | M18: 0.15146122 | N18: 0.33427784 | O18: 14648724 | P18: 0 | Q18: 0 | R18: עיר עולים
A19: מחוז | B19: תשלום בפועל | C19: שומת ארנונה מקורית לשנת 2013 | F19: עיריית הרצליה | G19: 206801.57 | H19: 62040.47 | I19: 15 | J19: מ.א. | K19: נחל שורק | L19: 0.044242613 | M19: 0.10897407 | N19: 0.3104323 | O19: 2787992.5 | Q19: 6505315.8
A20: דרום | B20: 1.5541255e+08 | C20: 1.8388401e+08 | F20: עיריית אשקלון | G20: 43564.85 | H20: 43564.85 | I20: 16 | J20: מ.א. | K20: עמק יזרעאל | L20: 0.076778928 | M20: 0.11720533 | N20: 0.28511011 | O20: 20497991 | P20: 279886.91 | Q20: 8469861.4
A21: חיפה | B21: 36678246 | C21: 82237638 | F21: עיריית כרמיאל | G21: 27850.91 | H21: 27850.91 | I21: 17 | J21: מ.א. | K21: אשכול | L21: 0.033289015 | M21: 0.075042736 | N21: 0.26800158 | O21: 4208696.8 | P21: 0 | Q21: 9820292.6
A22: יו"ש | B22: 12908.2 | C22: 43027.333 | F22: עיריית כפר סבא | G22: 72829.7 | H22: 21848.91 | I22: 18 | J22: מ.א. | K22: מבואות החרמון | L22: 0.0283416 | M22: 0.055986164 | N22: 0.25619393 | O22: 1848439.2 | P22: 54724.091 | Q22: 4156959.8
A23: ירושלים | B23: 21844818 | C23: 40847729 | F23: עיריית חולון | G23: 61425.733 | H23: 18427.72 | I23: 19 | J23: עירייה | K23: באר שבע | L23: 0.080631571 | M23: 0.11640491 | N23: 0.25618758 | O23: 1.0256239e+08 | P23: 0 | Q23: 0 | R23: עיר עולים
A24: מרכז | B24: 54027360 | C24: 91541271 | F24: עיריית מעלה אדומים | G24: 43027.333 | H24: 12908.2 | I24: 20 | J24: עירייה | K24: טירת כרמל | L24: 0.08682459 | M24: 0.13261371 | N24: 0.24164534 | O24: 15465543 | P24: 0 | Q24: 0 | R24: עיר עולים
A25: צפון | B25: 31529560 | C25: 94711498 | F25: עיריית בני ברק | G25: 11292.567 | H25: 3387.77 | I25: 21 | J25: מ.מ. | K25: אלונה | L25: 0.0029144787 | M25: 0.0078126391 | N25: 0.23667934 | O25: 46625.83 | Q25: 108793.6
A26: תל אביב | B26: 257233.46 | C26: 857444.87 | F26: (blank) | I26: 22 | J26: עירייה | K26: נצרת עילית | L26: 0.053445571 | M26: 0.087128241 | N26: 0.21524284 | O26: 13822895 | P26: 0 | Q26: 0 | R26: עיר עולים
A27: Grand Total | B27: 2.9976268e+08 | C27: 4.9412262e+08 | F27: Grand Total | G27: 1.4960171e+08 | H27: 1.1131393e+08 | I27: 23 | J27: מ.א. | K27: הערבה התיכונה | L27: 0.07676601 | M27: 0.12127241 | N27: 0.21100174 | O27: 3091597.5 | Q27: 0 | R27: עיר עולים
I28: 24 | J28: מ.א. | K28: חוף הכרמל | L28: 0.030004181 | M28: 0.044587031 | N28: 0.20899769 | O28: 5951209.3 | P28: 779979.27 | Q28: 1404874.6
I29: 25 | J29: עירייה | K29: קרית אונו | L29: 0.021655345 | M29: 0.032136925 | N29: 0.20311079 | O29: 4957731.3 | Q29: 11568040
I30: 26 | J30: מ.מ. | K30: בית דגן | L30: 0.060742354 | M30: 0.089183071 | N30: 0.2015259 | O30: 1878826 | P30: 0 | R30: עיר עולים
I31: 27 | J31: עירייה | K31: קרית מלאכי | L31: 0.037069377 | M31: 0.06948812 | N31: 0.18865236 | O31: 5562037.6 | P31: 0 | Q31: 0 | R31: עיר עולים
I32: 28 | J32: מ.א. | K32: חוף אשקלון | L32: 0.035216303 | M32: 0.070480115 | N32: 0.17761176 | O32: 4545262.6 | P32: 28341 | Q32: 10524788
I33: 29 | J33: עירייה | K33: רמת השרון | L33: 0.04601666 | M33: 0.058790328 | N33: 0.16925631 | O33: 16857421 | P33: 0 | Q33: 0 | R33: עיר עולים
I34: 30 | J34: מ.א. | K34: בני שמעון | L34: 0.023809274 | M34: 0.032875782 | N34: 0.16719054 | O34: 3544272.3 | P34: 467248.09 | Q34: 6937446.4
I35: 31 | J35: מ.מ. | K35: גן רוה | L35: 0.050658082 | M35: 0.062691866 | N35: 0.15981104 | O35: 1929718.3 | Q35: 4502676.1
I36: 32 | J36: עירייה | K36: ירושלים | L36: 0.034540802 | M36: 0.051964931 | N36: 0.15607746 | O36: 1.49142e+08 | P36: 0 | Q36: 0 | R36: עיר עולים
I37: 33 | J37: מ.א. | K37: מעלה יוסף | L37: 0.011981147 | M37: 0.039427889 | N37: 0.15256633 | O37: 1276675 | P37: 0 | Q37: 1556140.5
I38: 34 | J38: מ.א. | K38: הגלבוע | L38: 0.016794723 | M38: 0.039440167 | N38: 0.14068854 | O38: 2543930.2 | P38: 1423877.7 | Q38: 1875148.8
I39: 35 | J39: עירייה | K39: ערד | L39: 0.020839558 | M39: 0.038760946 | N39: 0.136638 | O39: 2969553.6 | P39: 0 | Q39: 0
I40: 36 | J40: עירייה | K40: רמלה | L40: 0.037371636 | M40: 0.062070724 | N40: 0.13233326 | O40: 14923354 | P40: 11870818 | Q40: 967345.84
I41: 37 | J41: מ.מ. | K41: מטולה | L41: 0.021504222 | M41: 0.03611713 | N41: 0.13230335 | O41: 252567.09 | Q41: 589323.21
...

Sheet ניתוח נתונים
B3: Data
A4: שם הרשות | B4: Sum of מטבע תנאי נטו | C4: Sum of חלקה של הארנונה ממשרד הבטחון מסה"כ הכנסות | D4: Sum of חלקה של הארנונה ממשרד הבטחון מההכנסות העצמאיות | E4: Sum of חלקה של הארנונה ממשרד הבטחון מהארנונה שאינה ממגורים | F4: Sum of חלקה של הארנונה ממגורים מסה"כ הארנונה לפני אובדן הארנונה ממשרד הבטחון2 | G4: Sum of חלקה של הארנונה ממגורים מסה"כ הארנונה לפני אובדן הארנונה ממשרד הבטחון | K4: שם הרשות | L4: דירוג סוציואקונומי | M4: חלקה של הארנונה ממשרד הבטחון מסה"כ הכנסות | N4: חלקה של הארנונה ממשרד הבטחון מההכנסות העצמאיות | O4: חלקה של הארנונה ממשרד הבטחון מהארנונה שאינה ממגורים | P4: חלקה של הארנונה ממגורים מסה"כ הארנונה לפני אובדן הארנונה ממשרד הבטחון | Q4: חלקה של הארנונה ממגורים מסה"כ הארנונה אחרי אובדן הארנונה ממשרד הבטחון | R4: היקף העלאה חריגה בארנונה לצורך פיצוי על אובדן ההכנסה | S4: ערך המודל גדיש 2015 | T4: מעמד כלכלי
A5: אבו גוש | B5: 1737.55 | C5: 4.0228515e-05 | D5: 0.00012253526 | E5: 0.0013133409 | F5: 0.77185243 | G5: 0.77162092 | J5: 1 | K5: רמת נגב | L5: 5 | M5: 0.46287547 | N5: 0.55313646 | O5: 0.8717277 | P5: 0.23803599 | Q5: 0.70891544 | R5: =M5/(1-M5) -> 0.86176566 | S5: -19793.904 | T5: עצמאית
A6: אום אל-פחם | C6: 0 | D6: 0 | E6: 0 | F6: 0.66874761 | G6: 0.66874761 | J6: 3 | K6: חבל אילות | L6: 4 | M6: 0.30790622 | N6: 0.43381837 | O6: 0.84958341 | P6: 0.29540381 | Q6: 0.73595801 | R6: =M6/(1-M6) -> 0.4448909 | S6: -14906.797 | T6: עצמאית | X6: רמת השרון בלבד
A7: אופקים | C7: 0 | D7: 0 | F7: 1 | G7: 1 | J7: 2 | K7: מצפה רמון | L7: 4 | M7: 0.24806052 | N7: 0.45178565 | O7: 0.84864022 | P7: 0.30974547 | Q7: 0.74777605 | R7: =M7/(1-M7) -> 0.32989425 | S7: -1888.5926 | T7: נתמכת | X7: =X8/$Z$8 -> 0.55239118 | Y7: =Y8/$Z$8 -> 0.44760882
A8: אור יהודה | C8: 0 | D8: 0 | E8: 0 | F8: 0.37696768 | G8: 0.37696768 | J8: 5 | K8: ברנר | L8: 8 | M8: 0.19885508 | N8: 0.33695881 | O8: 0.62603315 | P8: 0.27301092 | Q8: 0.50104711 | R8: =M8/(1-M8) -> 0.24821362 | S8: -30286.107 | T8: עצמאית | X8: 130672 | Y8: 105885 | Z8: =Y8+X8 -> 236557
A9: אור עקיבא | C9: 0 | D9: 0 | E9: 0 | F9: 0.35587549 | G9: 0.35587549 | J9: 4 | K9: מרחבים | L9: 4 | M9: 0.19801777 | N9: 0.37048661 | O9: 0.61125484 | P9: 0.23482557 | Q9: 0.44116641 | R9: =M9/(1-M9) -> 0.24691042 | S9: -243.00692 | T9: נתמכת | X9: 17725 | Y9: 905 | Z9: =Y9+X9 -> 18630
A10: אילת | B10: 9664139.8 | C10: 0.020136561 | D10: 0.028533459 | E10: 0.050856399 | F10: 0.2568103 | G10: 0.24697547 | J10: 9 | K10: ראש פינה | L10: 7 | M10: 0.15842352 | N10: 0.17934554 | O10: 0.36206023 | P10: 0.18771159 | Q10: 0.26591709 | R10: =M10/(1-M10) -> 0.18824614 | S10: -14315.601 | T10: עצמאית | X10: 1140 | Y10: 4276 | Z10: =Y10+X10 -> 5416
A11: אלונה | B11: 46625.83 | C11: 0.0029144787 | D11: 0.0078126391 | E11: 0.23667934 | F11: 0.93408614 | G11: 0.91537801 | J11: 10 | K11: באר יעקב | L11: 6 | M11: 0.10608028 | N11: 0.13291184 | O11: 0.293339 | P11: 0.28470227 | Q11: 0.36030268 | R11: =M11/(1-M11) -> 0.11866868 | S11: -22374.465 | T11: עצמאית | X11: =X8-X9-X10 -> 111807 | Y11: =Y8-Y9-Y10 -> 100704 | Z11: =Y11+X11 -> 212511
A12: אלעד | C12: 0 | D12: 0 | E12: 0 | F12: 0.66948579 | G12: 0.66948579 | J12: 6 | K12: שפיר | L12: 3 | M12: 0.10394181 | N12: 0.25786675 | O12: 0.61176286 | P12: 0.32812702 | Q12: 0.55711719 | R12: =M12/(1-M12) -> 0.11599896 | S12: 7803.9116 | T12: נתמכת | X12: =X13-X11 -> 2195.1 | Y12: =Y13-Y11 -> 5479.9 | Z12: =Y12+X12 -> 7675
A13: אריאל | C13: 0 | D13: 0 | E13: 0 | F13: 0.52565521 | G13: 0.52565521 | J13: 8 | K13: כפר יונה | L13: 7 | M13: 0.086172064 | N13: 0.17965047 | O13: 0.71880013 | P13: 0.6463554 | Q13: 0.86666025 | R13: =M13/(1-M13) -> 0.09429791 | S13: 9143.825 | T13: נתמכת | X13: 114002.1 | Y13: 106183.9 | Z13: =Y13+X13 -> 220186
A14: אשדוד | B14: 1749280.7 | C14: 0.0013935726 | D14: 0.002010441 | E14: 0.0042579911 | F14: 0.34594953 | G14: 0.34498466 | J14: 7 | K14: לכיש | L14: 5 | M14: 0.081281417 | N14: 0.20731015 | O14: 0.53441118 | P14: 0.41856143 | Q14: 0.60725082 | R14: =M14/(1-M14) -> 0.088472594 | S14: 12561.201 | T14: נתמכת | X14: =X13/$Z$13 -> 0.51775363 | Y14: =Y13/$Z$13 -> 0.48224637
A15: אשכול | B15: 4208696.8 | C15: 0.033289015 | D15: 0.075042736 | E15: 0.26800158 | F15: 0.4702211 | G15: 0.39383178 | J15: 12 | K15: הערבה התיכונה | L15: 7 | M15: 0.07676601 | N15: 0.12127241 | O15: 0.21100174 | P15: 0.21563169 | Q15: 0.25839723 | R15: =M15/(1-M15) -> 0.08314903 | S15: -817.62774 | T15: נתמכת
A16: אשקלון | B16: 43564.85 | C16: 5.952149e-05 | D16: 8.9045241e-05 | E16: 0.00019509561 | F16: 0.31052502 | G16: 0.31048325 | J16: 14 | K16: עמק יזרעאל | L16: 7 | M16: 0.075497591 | N16: 0.11524933 | O16: 0.280352 | P16: 0.70723835 | Q16: 0.78087712 | R16: =M16/(1-M16) -> 0.081662946 | S16: -35046.999 | T16: עצמאית
A17: באקה אל ג'רביה | C17: 0 | D17: 0 | E17: 0 | F17: 0.67024368 | G17: 0.67024368 | J17: 15 | K17: טירת כרמל | L17: 4 | M17: 0.071618532 | N17: 0.10938836 | O17: 0.19932469 | P17: 0.15976106 | Q17: 0.19190065 | R17: =M17/(1-M17) -> 0.077143431 | S17: 879.20761 | T17: נתמכת
A18: באר טוביה | B18: 9462231.9 | C18: 0.039213722 | D18: 0.053943822 | E18: 0.09210688 | F18: 0.23179163 | G18: 0.21503289 | J18: 13 | K18: הגליל התחתון | L18: 7 | M18: 0.068027235 | N18: 0.11530984 | O18: 0.33559406 | P18: 0.41787783 | Q18: 0.51933305 | R18: =M18/(1-M18) -> 0.072992728 | S18: -4314.9302 | T18: נתמכת
A19: באר יעקב | B19: 12854702 | C19: 0.10608028 | D19: 0.13291184 | E19: 0.293339 | F19: 0.36030268 | G19: 0.28470227 | J19: 11 | K19: גולן | L19: 5 | M19: 0.055169704 | N19: 0.13029952 | O19: 0.43959369 | P19: 0.43888459 | Q19: 0.58258717 | R19: =M19/(1-M19) -> 0.058391125 | S19: 19020.069 | T19: נתמכת
A20: באר שבע | B20: 51592943 | C20: 0.040560873 | D20: 0.05855628 | E20: 0.12887249 | F20: 0.40063345 | G20: 0.36800304 | J20: 21 | K20: גן רוה | L20: 9 | M20: 0.050658082 | N20: 0.062691866 | O20: 0.15981104 | P20: 0.33427059 | Q20: 0.37406803 | R20: =M20/(1-M20) -> 0.053361262 | S20: -12759.752 | T20: עצמאית
A21: בוסתאן אל מרג' | F21: #N/A | G21: #N/A | J21: 17 | K21: צפת | L21: 4 | M21: 0.045670993 | N21: 0.10519549 | O21: 0.25666947 | P21: 0.35374006 | Q21: 0.42408529 | R21: =M21/(1-M21) -> 0.047856653 | S21: 23936.614 | T21: נתמכת
A22: בית דגן | C22: 0 | D22: 0 | E22: 0 | F22: 0.45931682 | G22: 0.45931682 | J22: 23 | K22: רמת השרון | L22: 9 | M22: 0.045101604 | N22: 0.057621264 | O22: 0.1658906 | P22: 0.52021331 | Q22: 0.56519866 | R22: =M22/(1-M22) -> 0.047231836 | S22: -118786.71 | T22: עצמאית
A23: בית שאן | B23: 1695274.4 | C23: 0.011870589 | D23: 0.023921579 | E23: 0.064366104 | F23: 0.17043852 | G23: 0.1612369 | J23: 16 | K23: נחל שורק | L23: 2 | M23: 0.044242613 | N23: 0.10897407 | O23: 0.3104323 | P23: 0.42099155 | Q23: 0.51324343 | R23: =M23/(1-M23) -> 0.046290631 | S23: 7247.6114 | T23: נתמכת
A24: בית שמש | C24: 0 | D24: 0 | E24: 0 | F24: 0.48954692 | G24: 0.48954692 | J24: 22 | K24: באר שבע | L24: 5 | M24: 0.040560873 | N24: 0.05855628 | O24: 0.12887249 | P24: 0.36800304 | Q24: 0.40063345 | R24: =M24/(1-M24) -> 0.042275608 | S24: -230381.43 | T24: עצמאית
A25: בני ברק | B25: 3387.77 | C25: 3.5800245e-06 | D25: 6.9002271e-06 | E25: 1.7497456e-05 | F25: 0.32636355 | G25: 0.3263597 | J25: 26 | K25: חבל מודיעין | L25: 6 | M25: 0.039325704 | N25: 0.053827012 | O25: 0.098796896 | P25: 0.30105877 | Q25: 0.32338988 | R25: =M25/(1-M25) -> 0.040935522 | S25: -108749.15 | T25: עצמאית
A26: בני שמעון | B26: 2973191.3 | C26: 0.019972936 | D26: 0.027578578 | E26: 0.14025149 | F26: 0.31147518 | G26: 0.28002309 | J26: 25 | K26: באר טוביה | L26: 7 | M26: 0.039213722 | N26: 0.053943822 | O26: 0.09210688 | P26: 0.21503289 | Q26: 0.23179163 | R26: =M26/(1-M26) -> 0.040814199 | S26: -62710.189 | T26: עצמאית
A27: בנימינה גבעת עדה | C27: 0 | D27: 0 | E27: 0 | F27: 0.79289096 | G27: 0.79289096 | J27: 20 | K27: קרית מלאכי | L27: 4 | M27: 0.034963761 | N27: 0.065541054 | O27: 0.17793653 | P27: 0.31854848 | Q27: 0.36250394 | R27: =M27/(1-M27) -> 0.036230516 | S27: 12183.353 | T27: נתמכת
A28: ברנר | B28: 15753498 | C28: 0.19885508 | D28: 0.33695881 | E28: 0.62603315 | F28: 0.50104711 | G28: 0.27301092 | J28: 19 | K28: חוף אשקלון | L28: 6 | M28: 0.034947923 | N28: 0.069942993 | O28: 0.1762582 | P28: 0.34932621 | Q28: 0.39457915 | R28: =M28/(1-M28) -> 0.03621351 | S28: 8078.5812 | T28: נתמכת
A29: בת ים | B29: 173377.5 | C29: 0.00021599021 | D29: 0.00035878061 | E29: 0.0014128008 | F29: 0.56528015 | G29: 0.56493269 | J29: 18 | K29: אשכול | L29: 7 | M29: 0.033289015 | N29: 0.075042736 | O29: 0.26800158 | P29: 0.39383178 | Q29: 0.4702211 | R29: =M29/(1-M29) -> 0.034435333 | S29: 19486.759 | T29: נתמכת
A30: גבעת זאב | C30: 0 | D30: 0 | E30: 0 | F30: 0.68835204 | G30: 0.68835204 | J30: 30 | K30: גזר | L30: 7 | M30: 0.028741971 | N30: 0.039814383 | O30: 0.08541368 | P30: 0.37547151 | Q30: 0.396629 | R30: =M30/(1-M30) -> 0.029592518
A31: גבעת שמואל | C31: 0 | D31: 0 | E31: 0 | F31: 0.71243401 | G31: 0.71243401 | J31: 24 | K31: מבואות החרמון | L31: 6 | M31: 0.027316071 | N31: 0.053960328 | O31: 0.24692366 | P31: 0.47381855 | Q31: 0.54457311 | R31: =M31/(1-M31) -> 0.028083194 | S31: 13570.279 | T31: נתמכת
A32: גבעתיים | C32: 0 | D32: 0 | E32: 0 | F32: 0.60988322 | G32: 0.60988322 | J32: 28 | K32: עפולה | L32: 5 | M32: 0.026721104 | N32: 0.041866451 | O32: 0.095317726 | P32: 0.34008369 | Q32: 0.36291145 | R32: =M32/(1-M32) -> 0.027454725
A33: גדרה | B33: 502291.16 | C33: 0.0041601298 | D33: 0.006550459 | E33: 0.054033042 | F33: 0.77022952 | G33: 0.76025172 | J33: 31 | K33: חוף הכרמל | L33: 7 | M33: 0.025197893 | N33: 0.037444756 | O33: 0.17551892 | P33: 1.1993983 | Q33: 1.2440177 | R33: =M33/(1-M33) -> 0.02584924
A34: גולן | B34: 8606804.8 | C34: 0.055169704 | D34: 0.13029952 | E34: 0.43959369 | F34: 0.58258717 | G34: 0.43888459 | J34: 29 | K34: מטה יהודה | L34: 5 | M34: 0.023331433 | N34: 0.040546809 | O34: 0.11386015 | P34: 0.45879183 | Q34: 0.48892009 | R34: =M34/(1-M34) -> 0.023888793
A35: גזר | B35: 4270769.4 | C35: 0.028741971 | D35: 0.039814383 | E35: 0.08541368 | F35: 0.396629 | G35: 0.37547151 | J35: 38 | K35: קרית אונו | L35: 8 | M35: 0.021655345 | N35: 0.032136925 | O35: 0.20311079 | P35: 0.72627979 | Q35: 0.76903468 | R35: =M35/(1-M35) -> 0.022134679
A36: גן יבנה | B36: 222352.62 | C36: 0.0026033863 | D36: 0.004278398 | E36: 0.021921781 | F36: 0.71088333 | G36: 0.70630646 | J36: 34 | K36: מטולה | L36: 7 | M36: 0.021504222 | N36: 0.03611713 | O36: 0.13230335 | P36: 0.56858757 | Q36: 0.6030055 | R36: =M36/(1-M36) -> 0.021976817
A37: גן רוה | B37: 1929718.3 | C37: 0.050658082 | D37: 0.062691866 | E37: 0.15981104 | F37: 0.37406803 | G37: 0.33427059 | J37: 33 | K37: מגידו | L37: 6 | M37: 0.020818221 | N37: 0.036181102 | O37: 0.10911664 | P37: 0.43691172 | Q37: 0.46551397 | R37: =M37/(1-M37) -> 0.021260834
A38: גני תקוה | B38: 19039.94 | C38: 0.00024846912 | D38: 0.00034505147 | E38: 0.0063764032 | F38: 0.90486537 | G38: 0.90431327 | J38: 40 | K38: אילת | L38: 5 | M38: 0.020136561 | N38: 0.028533459 | O38: 0.050856399 | P38: 0.24697547 | Q38: 0.2568103 | R38: =M38/(1-M38) -> 0.020550375
A39: דימונה | B39: 2839354.7 | C39: 0.013953837 | D39: 0.032310556 | F39: 1.0516569 | G39: 1 | J39: 41 | K39: בני שמעון | L39: 7 | M39: 0.019972936 | N39: 0.027578578 | O39: 0.14025149 | P39: 0.28002309 | Q39: 0.31147518 | R39: =M39/(1-M39) -> 0.020379985
A40: דרום השרון | B40: 218012.82 | C40: 0.00096811544 | D40: 0.0014941903 | E40: 0.0047113459 | F40: 0.47113746 | G40: 0.46996094 | J40: 32 | K40: ערד | L40: 5 | M40: 0.019812224 | N40: 0.036850136 | O40: 0.12990211 | P40: 0.54968712 | Q40: 0.58383976 | R40: =M40/(1-M40) -> 0.020212682
A41: הגלבוע | B41: 803635.21 | C41: 0.0053055034 | D41: 0.012459267 | E41: 0.044443934 | F41: 0.51620686 | G41: 0.50484692 | J41: 36 | K41: מנשה | L41: 4 | M41: 0.017179747 | N41: 0.03303056 | O41: 0.11578317 | P41: 0.47307438 | Q41: 0.50381148 | R41: =M41/(1-M41) -> 0.01748005
A42: הגליל העליון | B42: 2415310.5 | C42: 0.016364447 | D42: 0.029706424 | E42: 0.082039011 | F42: 0.39873017 | G42: 0.37839664 | J42: 39 | K42: הגליל העליון | L42: 7 | M42: 0.016364447 | N42: 0.029706424 | O42: 0.082039011 | P42: 0.37839664 | Q42: 0.39873017 | R42: =M42/(1-M42) -> 0.016636697
...

Sheet תשלומי ארנונה של המדינה
A1: חוזה | B1: שם חוזה | C1: שם הרשות | D1: אוכלוסיה בסוף 2013 | E1: סוג רשות | F1: מחוז | G1: 2013 | H1: מטבע תנאי נטו | I1: היקף הפטור שמקבל בשהב"ט | J1: סה"כ | K1: הכנסות לפי מסמך ממשרד האוצר | L1: היקף הפטור למשרדי הממשלה | M1: הערכת היקף התשלום ללא פטור למשרדי הממשלה | N1: סה"כ הכנסה ממשרדי הממשלה ומשרד הבטחון | P1: הכנסה לתושב מארנונה ממשלתית | Q1: סה"כ הכנסה ללא פטורים | R1: היקף ההכנסה הכולל | S1: היקף ההכנסות העצמיות | T1: היקף ההכנסות מארנונה שאינה ממגורים | U1: חלקה של הארנונה ממשרד הבטחון מהארנונה שאינה ממגורים | V1: חלקה של הארנונה ממשרד הבטחון מההכנסות העצמאיות | W1: חלקה של הארנונה ממשרד הבטחון מסה"כ הכנסות | X1: חלקה של הארנונה ממגורים מסה"כ הארנונה לפני אובדן הארנונה ממשרד הבטחון | Y1: חלקה של הארנונה ממגורים מסה"כ הארנונה אחרי אובדן הארנונה ממשרד הבטחון | Z1: חלקה של הארנונה ממגורים מסה"כ הארנונה אחרי אובדן הארנונה ממשלתית | AB1: חלקה של הארנונה מהמדינה בהכנסות שאינן ממגורים | AC1: חלקה של הארנונה מהמדינה בהכנסות העצמיות | AD1: חלקה של הארנונה מהמדינה מסה"כ ההכנסות | AE1: דירוג סוציואקונומי | AF1: מעמד כלכלי (נתמכת/עצמאית) לפני נתוני 2013 | AG1: הערות
H2: =SUM(H1:H1) -> 0 | I2: =SUM(I1:I1) -> 0 | J2: =SUM(J1:J1) -> 0 | K2: =SUM(K1:K1) -> 0 | L2: =SUM(L1:L1) -> 0 | M2: =SUM(M1:M1) -> 0 | N2: =SUM(N1:N1) -> 0 | Q2: =SUM(Q1:Q1) -> 0 | AN2: אבו גוש | AO2: 6600 | AQ2: שם הרשות | AR2: סה"כ אוכלוסייה1 בסוף 2013 (אלפים) | AU2: 2%> | AV2: 2%-5% | AW2: 5%< | AZ2: 2%> | BA2: 2%-5% | BB2: 5%<
A3: בירה | B3: עיריית ירושלים | C3: ירושלים | D3: =VLOOKUP(C3,גודל_אוכלוסיה,2,FALSE) -> 829900 | E3: =IF(LEFT(B3,3)="עיר","עירייה",IF(LEFT(B3,7)="מועצה א","מועצה אזורית","מועצה מקומית")) -> עירייה | F3: =INDEX(רשות_מחוז,MATCH(TRIM(C3),רשויות!$G$3:$G$260,0),2) -> ירושלים | G3: 13700714 | H3: =G3*(1+3.36%) -> 14161058 | I3: =J3-H3 -> 0 | J3: =IF(OR(A3="עיר עולים",A3="בירה"),H3,H3/0.3) -> 14161058 | K3: =INDEX(מילמן,MATCH(C3,'המידע ממילמן'!$A$1:$A$145,0),2) -> 1.3544129e+08 | L3: =M3-K3 -> 0 | M3: =IF(OR(A3="עיר עולים",A3="בירה"),K3,K3/0.55) -> 1.3544129e+08 | N3: =K3+H3 -> 1.4960235e+08 | O3: =SUM(N3:$N$3)/SUM($N$3:$N$167) -> 0.16379781 | P3: =N3/D3 -> 180.26551 | Q3: =M3+J3 -> 1.4960235e+08 | R3: =INDEX(הכנסות_מבוקר,MATCH(C3,'נתוני דוחות 2014'!$C$10:$C$263,0),11)*1000 -> 4563283000 | S3: =INDEX(הכנסות_מבוקר,MATCH(C3,'נתוני דוחות 2014'!$C$10:$C$263,0),6)*1000 -> 2970894000 | T3: =INDEX(ארנונה_מבוקר,MATCH(C3,'נתוני דוחות 2014'!$C$10:$C$263,0),7)*1000 -> 997619000 | U3: =H3/T3 -> 0.014194856 | V3: =H3/S3 -> 0.0047665982 | W3: =H3/R3 -> 0.003103261 | X3: =INDEX('נתוני דוחות 2014'!$DW$10:$DY$263,MATCH('תשלומי ארנונה של המדינה'!C3,'נתוני דוחות 2014'!$DW$10:$DW$263,0),2)/(INDEX('נתוני דוחות 2014'!$DW$10:$DY$263,MATCH('תשלומי ארנונה של המדינה'!C3,'נתוני דוחות 2014'!$DW$10:$DW$263,0),2)+INDEX('נתוני דוחות 2014'!$DW$10:$DY$263,MATCH('תשלומי ארנונה של המדינה'!C3,'נתוני דוחות 2014'!$DW$10:$DW$263,0),3)) -> 0.46636551 | Y3: =INDEX('נתוני דוחות 2014'!$DW$10:$DY$263,MATCH('תשלומי ארנונה של המדינה'!C3,'נתוני דוחות 2014'!$DW$10:$DW$263,0),2)/(INDEX('נתוני דוחות 2014'!$DW$10:$DY$263,MATCH('תשלומי ארנונה של המדינה'!C3,'נתוני דוחות 2014'!$DW$10:$DW$263,0),2)+INDEX('נתוני דוחות 2014'!$DW$10:$DY$263,MATCH('תשלומי ארנונה של המדינה'!C3,'נתוני דוחות 2014'!$DW$10:$DW$263,0),3)-H3/1000) -> 0.46992513 | Z3: =INDEX('נתוני דוחות 2014'!$DW$10:$DY$263,MATCH('תשלומי ארנונה של המדינה'!C3,'נתוני דוחות 2014'!$DW$10:$DW$263,0),2)/(INDEX('נתוני דוחות 2014'!$DW$10:$DY$263,MATCH('תשלומי ארנונה של המדינה'!C3,'נתוני דוחות 2014'!$DW$10:$DW$263,0),2)+INDEX('נתוני דוחות 2014'!$DW$10:$DY$263,MATCH('תשלומי ארנונה של המדינה'!C3,'נתוני דוחות 2014'!$DW$10:$DW$263,0),3)-N3/1000) -> 0.50693199 | AA3: =Z3-X3 -> 0.040566476 | AB3: =N3/T3 -> 0.1499594 | AC3: =N3/S3 -> 0.050356003 | AD3: =N3/R3 -> 0.032783929 | AE3: =INDEX(רשויות!$AC$4:$AL$258,MATCH($C3,רשויות!$AC$4:$AC$258,0),10) -> 4 | AF3: =IF(INDEX(רשויות!$AN$4:$AR$258,MATCH($C3,רשויות!$AO$4:$AO$258,0),4)>0,"נתמכת","עצמאית") -> עצמאית | AN3: אבו סנאן | AO3: 13000 | AQ3: אל קסום | AR3: 8.2 | AT3: "<50%" | AU3: =COUNTIFS($Z$3:$Z$172,"<50%",$AB$3:$AB$172,"<2%",$AB$3:$AB$172,">0") -> 34 | AV3: =COUNTIFS($Z$3:$Z$172,"<50%",$AB$3:$AB$172,">2%",$AB$3:$AB$172,"<5%") -> 13 | AW3: =COUNTIFS($Z$3:$Z$172,"<50%",$AB$3:$AB$172,">5%") -> 31 | AY3: "<50%" | AZ3: =SUMIFS($N$3:$N$172,$Z$3:$Z$172,"<50%",$AB$3:$AB$172,"<2%",$AB$3:$AB$172,">0") -> 28576976 | BA3: =SUMIFS($N$3:$N$172,$Z$3:$Z$172,"<50%",$AB$3:$AB$172,">2%",$AB$3:$AB$172,"<5%") -> 1.2941079e+08 | BB3: =SUMIFS($N$3:$N$172,$Z$3:$Z$172,"<50%",$AB$3:$AB$172,">5%") -> 4.3317087e+08 | BD3: =SUBTOTAL(9,AZ3:BB4) -> 9.128168e+08
A4: עיר עולים | B4: עיריית באר שבע | C4: באר שבע | D4: =VLOOKUP(C4,גודל_אוכלוסיה,2,FALSE) -> 199300 | E4: =IF(LEFT(B4,3)="עיר","עירייה",IF(LEFT(B4,7)="מועצה א","מועצה אזורית","מועצה מקומית")) -> עירייה | F4: =INDEX(רשות_מחוז,MATCH(TRIM(C4),רשויות!$G$3:$G$260,0),2) -> דרום | G4: 51592943 | H4: =G4*(1+3.36%) -> 53326466 | I4: =J4-H4 -> 0 | J4: =IF(OR(A4="עיר עולים",A4="בירה"),H4,H4/0.3) -> 53326466 | K4: =INDEX(מילמן,MATCH(C4,'המידע ממילמן'!$A$1:$A$145,0),2) -> 50969448 | L4: =M4-K4 -> 0 | M4: =IF(OR(A4="עיר עולים",A4="בירה"),K4,K4/0.55) -> 50969448 | N4: =K4+H4 -> 1.0429591e+08 | O4: =SUM(N$3:$N4)/SUM($N$3:$N$167) -> 0.27799015 | P4: =N4/D4 -> 523.31116 | Q4: =M4+J4 -> 1.0429591e+08 | R4: =INDEX(הכנסות_מבוקר,MATCH(C4,'נתוני דוחות 2014'!$C$10:$C$263,0),11)*1000 -> 1343950000 | S4: =INDEX(הכנסות_מבוקר,MATCH(C4,'נתוני דוחות 2014'!$C$10:$C$263,0),6)*1000 -> 926501000 | T4: =INDEX(ארנונה_מבוקר,MATCH(C4,'נתוני דוחות 2014'!$C$10:$C$263,0),7)*1000 -> 410520000 | U4: =H4/T4 -> 0.1298998 | V4: =H4/S4 -> 0.057556836 | W4: =H4/R4 -> 0.039678906 | X4: =INDEX('נתוני דוחות 2014'!$DW$10:$DY$263,MATCH('תשלומי ארנונה של המדינה'!C4,'נתוני דוחות 2014'!$DW$10:$DW$263,0),2)/(INDEX('נתוני דוחות 2014'!$DW$10:$DY$263,MATCH('תשלומי ארנונה של המדינה'!C4,'נתוני דוחות 2014'!$DW$10:$DW$263,0),2)+INDEX('נתוני דוחות 2014'!$DW$10:$DY$263,MATCH('תשלומי ארנונה של המדינה'!C4,'נתוני דוחות 2014'!$DW$10:$DW$263,0),3)) -> 0.37222543 | Y4: =INDEX('נתוני דוחות 2014'!$DW$10:$DY$263,MATCH('תשלומי ארנונה של המדינה'!C4,'נתוני דוחות 2014'!$DW$10:$DW$263,0),2)/(INDEX('נתוני דוחות 2014'!$DW$10:$DY$263,MATCH('תשלומי ארנונה של המדינה'!C4,'נתוני דוחות 2014'!$DW$10:$DW$263,0),2)+INDEX('נתוני דוחות 2014'!$DW$10:$DY$263,MATCH('תשלומי ארנונה של המדינה'!C4,'נתוני דוחות 2014'!$DW$10:$DW$263,0),3)-H4/1000) -> 0.40527468 | Z4: =INDEX('נתוני דוחות 2014'!$DW$10:$DY$263,MATCH('תשלומי ארנונה של המדינה'!C4,'נתוני דוחות 2014'!$DW$10:$DW$263,0),2)/(INDEX('נתוני דוחות 2014'!$DW$10:$DY$263,MATCH('תשלומי ארנונה של המדינה'!C4,'נתוני דוחות 2014'!$DW$10:$DW$263,0),2)+INDEX('נתוני דוחות 2014'!$DW$10:$DY$263,MATCH('תשלומי ארנונה של המדינה'!C4,'נתוני דוחות 2014'!$DW$10:$DW$263,0),3)-N4/1000) -> 0.44285726 | AA4: =Z4-X4 -> 0.070631831 | AB4: =N4/T4 -> 0.25405806 | AC4: =N4/S4 -> 0.11256967 | AD4: =N4/R4 -> 0.077604014 | AE4: =INDEX(רשויות!$AC$4:$AL$258,MATCH($C4,רשויות!$AC$4:$AC$258,0),10) -> 5 | AF4: =IF(INDEX(רשויות!$AN$4:$AR$258,MATCH($C4,רשויות!$AO$4:$AO$258,0),4)>0,"נתמכת","עצמאית") -> עצמאית | AN4: אבן יהודה | AO4: 12700 | AQ4: אל-בטוף | AR4: 7.1 | AT4: ">50%" | AU4: =COUNTIFS($Z$3:$Z$172,">50%",$AB$3:$AB$172,"<2%",$AB$3:$AB$172,">0") -> 41 | AV4: =COUNTIFS($Z$3:$Z$172,">50%",$AB$3:$AB$172,">2%",$AB$3:$AB$172,"<5%") -> 7 | AW4: =COUNTIFS($Z$3:$Z$172,">50%",$AB$3:$AB$172,">5%") -> 32 | AY4: ">50%" | AZ4: =SUMIFS($N$3:$N$172,$Z$3:$Z$172,">50%",$AB$3:$AB$172,"<2%",$AB$3:$AB$172,">0") -> 9639758.3 | BA4: =SUMIFS($N$3:$N$172,$Z$3:$Z$172,">50%",$AB$3:$AB$172,">2%",$AB$3:$AB$172,"<5%") -> 5310506 | BB4: =SUMIFS($N$3:$N$172,$Z$3:$Z$172,">50%",$AB$3:$AB$172,">5%") -> 3.0670791e+08
B5: עיריית תל אביב יפו | C5: תל אביב יפו | D5: =VLOOKUP(C5,גודל_אוכלוסיה,2,FALSE) -> 418600 | E5: =IF(LEFT(B5,3)="עיר","עירייה",IF(LEFT(B5,7)="מועצה א","מועצה אזורית","מועצה מקומית")) -> עירייה | F5: =INDEX(רשות_מחוז,MATCH(TRIM(C5),רשויות!$G$3:$G$260,0),2) -> תל אביב | G5: 34610258 | H5: =G5*(1+3.36%) -> 35773162 | I5: =J5-H5 -> 83470712 | J5: =IF(OR(A5="עיר עולים",A5="בירה"),H5,H5/0.3) -> 1.1924387e+08 | K5: =INDEX(מילמן,MATCH(C5,'המידע ממילמן'!$A$1:$A$145,0),2) -> 50440641 | L5: =M5-K5 -> 41269615 | M5: =IF(OR(A5="עיר עולים",A5="בירה"),K5,K5/0.55) -> 91710256 | N5: =K5+H5 -> 86213803 | O5: =SUM(N$3:$N5)/SUM($N$3:$N$167) -> 0.3723846 | P5: =N5/D5 -> 205.95748 | Q5: =M5+J5 -> 2.1095413e+08 | R5: =INDEX(הכנסות_מבוקר,MATCH(C5,'נתוני דוחות 2014'!$C$10:$C$263,0),11)*1000 -> 4272990000 | S5: =INDEX(הכנסות_מבוקר,MATCH(C5,'נתוני דוחות 2014'!$C$10:$C$263,0),6)*1000 -> 3625645000 | T5: =INDEX(ארנונה_מבוקר,MATCH(C5,'נתוני דוחות 2014'!$C$10:$C$263,0),7)*1000 -> 2087888000 | U5: =H5/T5 -> 0.01713366 | V5: =H5/S5 -> 0.0098667029 | W5: =H5/R5 -> 0.0083719274 | X5: =INDEX('נתוני דוחות 2014'!$DW$10:$DY$263,MATCH('תשלומי ארנונה של המדינה'!C5,'נתוני דוחות 2014'!$DW$10:$DW$263,0),2)/(INDEX('נתוני דוחות 2014'!$DW$10:$DY$263,MATCH('תשלומי ארנונה של המדינה'!C5,'נתוני דוחות 2014'!$DW$10:$DW$263,0),2)+INDEX('נתוני דוחות 2014'!$DW$10:$DY$263,MATCH('תשלומי ארנונה של המדינה'!C5,'נתוני דוחות 2014'!$DW$10:$DW$263,0),3)) -> 0.2642476 | Y5: =INDEX('נתוני דוחות 2014'!$DW$10:$DY$263,MATCH('תשלומי ארנונה של המדינה'!C5,'נתוני דוחות 2014'!$DW$10:$DW$263,0),2)/(INDEX('נתוני דוחות 2014'!$DW$10:$DY$263,MATCH('תשלומי ארנונה של המדינה'!C5,'נתוני דוחות 2014'!$DW$10:$DW$263,0),2)+INDEX('נתוני דוחות 2014'!$DW$10:$DY$263,MATCH('תשלומי ארנונה של המדינה'!C5,'נתוני דוחות 2014'!$DW$10:$DW$263,0),3)-H5/1000) -> 0.26762127 | Z5: =INDEX('נתוני דוחות 2014'!$DW$10:$DY$263,MATCH('תשלומי ארנונה של המדינה'!C5,'נתוני דוחות 2014'!$DW$10:$DW$263,0),2)/(INDEX('נתוני דוחות 2014'!$DW$10:$DY$263,MATCH('תשלומי ארנונה של המדינה'!C5,'נתוני דוחות 2014'!$DW$10:$DW$263,0),2)+INDEX('נתוני דוחות 2014'!$DW$10:$DY$263,MATCH('תשלומי ארנונה של המדינה'!C5,'נתוני דוחות 2014'!$DW$10:$DW$263,0),3)-N5/1000) -> 0.27252723 | AA5: =Z5-X5 -> 0.0082796352 | AB5: =N5/T5 -> 0.041292351 | AC5: =N5/S5 -> 0.023778887 | AD5: =N5/R5 -> 0.020176458 | AE5: =INDEX(רשויות!$AC$4:$AL$258,MATCH($C5,רשויות!$AC$4:$AC$258,0),10) -> 8 | AF5: =IF(INDEX(רשויות!$AN$4:$AR$258,MATCH($C5,רשויות!$AO$4:$AO$258,0),4)>0,"נתמכת","עצמאית") -> עצמאית | AG5: בשנת 2012 ניתן למשרד הבטחון פטור בהיקף של 82 מיליון שקלים (לפי דיווחי עיריית ת"א) | AN5: אום אל-פחם | AO5: 50600 | AQ5: אלונה | AR5: 2.2 | AT5: "-5%" | AU5: =COUNTIFS($AA$3:$AA$172,"<5%",$AB$3:$AB$172,"<2%",$AB$3:$AB$172,">0") -> 75 | AV5: =COUNTIFS($AA$3:$AA$172,"<5%",$AB$3:$AB$172,">2%",$AB$3:$AB$172,"<5%") -> 20 | AW5: =COUNTIFS($AA$3:$AA$172,"<5%",$AB$3:$AB$172,">5%") -> 41 | AY5: "-5%" | AZ5: =SUMIFS($N$3:$N$172,$AA$3:$AA$172,"<5%",$AB$3:$AB$172,"<=2%",$AB$3:$AB$172,">0") -> 38216735 | BA5: =SUMIFS($N$3:$N$172,$AA$3:$AA$172,"<5%",$AB$3:$AB$172,">2%",$AB$3:$AB$172,"<5%") -> 1.347213e+08 | BB5: =SUMIFS($N$3:$N$172,$AA$3:$AA$172,"<5%",$AB$3:$AB$172,">5%") -> 3.8691642e+08 | BD5: =SUBTOTAL(9,AZ5:BB6) -> 9.128168e+08
A6: עיר עולים | B6: מועצה אזורית רמת נגב | C6: רמת נגב | D6: =VLOOKUP(C6,גודל_אוכלוסיה,2,FALSE) -> 5900 | E6: =IF(LEFT(B6,3)="עיר","עירייה",IF(LEFT(B6,7)="מועצה א","מועצה אזורית","מועצה מקומית")) -> מועצה אזורית | F6: =INDEX(רשות_מחוז,MATCH(TRIM(C6),רשויות!$G$3:$G$260,0),2) -> דרום | G6: 37905335 | H6: =G6*(1+3.36%) -> 39178955 | I6: =J6-H6 -> 0 | J6: =IF(OR(A6="עיר עולים",A6="בירה"),H6,H6/0.3) -> 39178955 | K6: =INDEX(מילמן,MATCH(C6,'המידע ממילמן'!$A$1:$A$145,0),2) -> 6893652.6 | L6: =M6-K6 -> 0 | M6: =IF(OR(A6="עיר עולים",A6="בירה"),K6,K6/0.55) -> 6893652.6 | N6: =K6+H6 -> 46072607 | O6: =SUM(N$3:$N6)/SUM($N$3:$N$167) -> 0.42282894 | P6: =N6/D6 -> 7808.9165 | Q6: =M6+J6 -> 46072607 | R6: =INDEX(הכנסות_מבוקר,MATCH(C6,'נתוני דוחות 2014'!$C$10:$C$263,0),11)*1000 -> 102178000 | S6: =INDEX(הכנסות_מבוקר,MATCH(C6,'נתוני דוחות 2014'!$C$10:$C$263,0),6)*1000 -> 85782000 | T6: =INDEX(ארנונה_מבוקר,MATCH(C6,'נתוני דוחות 2014'!$C$10:$C$263,0),7)*1000 -> 56480700 | U6: =H6/T6 -> 0.69366978 | V6: =H6/S6 -> 0.45672699 | W6: =H6/R6 -> 0.38343826 | X6: =INDEX('נתוני דוחות 2014'!$DW$10:$DY$263,MATCH('תשלומי ארנונה של המדינה'!C6,'נתוני דוחות 2014'!$DW$10:$DW$263,0),2)/(INDEX('נתוני דוחות 2014'!$DW$10:$DY$263,MATCH('תשלומי ארנונה של המדינה'!C6,'נתוני דוחות 2014'!$DW$10:$DW$263,0),2)+INDEX('נתוני דוחות 2014'!$DW$10:$DY$263,MATCH('תשלומי ארנונה של המדינה'!C6,'נתוני דוחות 2014'!$DW$10:$DW$263,0),3)) -> 0.12816496 | Y6: =INDEX('נתוני דוחות 2014'!$DW$10:$DY$263,MATCH('תשלומי ארנונה של המדינה'!C6,'נתוני דוחות 2014'!$DW$10:$DW$263,0),2)/(INDEX('נתוני דוחות 2014'!$DW$10:$DY$263,MATCH('תשלומי ארנונה של המדינה'!C6,'נתוני דוחות 2014'!$DW$10:$DW$263,0),2)+INDEX('נתוני דוחות 2014'!$DW$10:$DY$263,MATCH('תשלומי ארנונה של המדינה'!C6,'נתוני דוחות 2014'!$DW$10:$DW$263,0),3)-H6/1000) -> 0.32427583 | Z6: =INDEX('נתוני דוחות 2014'!$DW$10:$DY$263,MATCH('תשלומי ארנונה של המדינה'!C6,'נתוני דוחות 2014'!$DW$10:$DW$263,0),2)/(INDEX('נתוני דוחות 2014'!$DW$10:$DY$263,MATCH('תשלומי ארנונה של המדינה'!C6,'נתוני דוחות 2014'!$DW$10:$DW$263,0),2)+INDEX('נתוני דוחות 2014'!$DW$10:$DY$263,MATCH('תשלומי ארנונה של המדינה'!C6,'נתוני דוחות 2014'!$DW$10:$DW$263,0),3)-N6/1000) -> 0.44374747 | AA6: =Z6-X6 -> 0.31558251 | AB6: =N6/T6 -> 0.81572302 | AC6: =N6/S6 -> 0.53708945 | AD6: =N6/R6 -> 0.45090535 | AE6: =INDEX(רשויות!$AC$4:$AL$258,MATCH($C6,רשויות!$AC$4:$AC$258,0),10) -> 5 | AF6: =IF(INDEX(רשויות!$AN$4:$AR$258,MATCH($C6,רשויות!$AO$4:$AO$258,0),4)>0,"נתמכת","עצמאית") -> עצמאית | AN6: אופקים | AO6: 25100 | AQ6: אשכול | AR6: 12 | AT6: "+5%" | AU6: =COUNTIFS($AA$3:$AA$172,">5%",$AB$3:$AB$172,"<2%",$AB$3:$AB$172,">0") -> 0 | AV6: =COUNTIFS($AA$3:$AA$172,">5%",$AB$3:$AB$172,">2%",$AB$3:$AB$172,"<5%") -> 0 | AW6: =COUNTIFS($AA$3:$AA$172,">5%",$AB$3:$AB$172,">5%") -> 22 | AY6: "+5%" | AZ6: =SUMIFS($N$3:$N$172,$AA$3:$AA$172,">5%",$AB$3:$AB$172,"<2%",$AB$3:$AB$172,">0") -> 0 | BA6: =SUMIFS($N$3:$N$172,$AA$3:$AA$172,">5%",$AB$3:$AB$172,">2%",$AB$3:$AB$172,"<5%") -> 0 | BB6: =SUMIFS($N$3:$N$172,$AA$3:$AA$172,">5%",$AB$3:$AB$172,">5%") -> 3.5296235e+08
B7: עיריית חיפה | C7: חיפה | D7: =VLOOKUP(C7,גודל_אוכלוסיה,2,FALSE) -> 273200 | E7: =IF(LEFT(B7,3)="עיר","עירייה",IF(LEFT(B7,7)="מועצה א","מועצה אזורית","מועצה מקומית")) -> עירייה | F7: =INDEX(רשות_מחוז,MATCH(TRIM(C7),רשויות!$G$3:$G$260,0),2) -> חיפה | G7: 15497594 | H7: =G7*(1+3.36%) -> 16018313 | I7: =J7-H7 -> 37376065 | J7: =IF(OR(A7="עיר עולים",A7="בירה"),H7,H7/0.3) -> 53394378 | K7: =INDEX(מילמן,MATCH(C7,'המידע ממילמן'!$A$1:$A$145,0),2) -> 26574274 | L7: =M7-K7 -> 21742588 | M7: =IF(OR(A7="עיר עולים",A7="בירה"),K7,K7/0.55) -> 48316862 | N7: =K7+H7 -> 42592588 | O7: =SUM(N$3:$N7)/SUM($N$3:$N$167) -> 0.46946305 | P7: =N7/D7 -> 155.90259 | Q7: =M7+J7 -> 1.0171124e+08 | R7: =INDEX(הכנסות_מבוקר,MATCH(C7,'נתוני דוחות 2014'!$C$10:$C$263,0),11)*1000 -> 2444999000 | S7: =INDEX(הכנסות_מבוקר,MATCH(C7,'נתוני דוחות 2014'!$C$10:$C$263,0),6)*1000 -> 1533376000 | T7: =INDEX(ארנונה_מבוקר,MATCH(C7,'נתוני דוחות 2014'!$C$10:$C$263,0),7)*1000 -> 671065000 | U7: =H7/T7 -> 0.023869988 | V7: =H7/S7 -> 0.010446435 | W7: =H7/R7 -> 0.0065514601 | X7: =INDEX('נתוני דוחות 2014'!$DW$10:$DY$263,MATCH('תשלומי ארנונה של המדינה'!C7,'נתוני דוחות 2014'!$DW$10:$DW$263,0),2)/(INDEX('נתוני דוחות 2014'!$DW$10:$DY$263,MATCH('תשלומי ארנונה של המדינה'!C7,'נתוני דוחות 2014'!$DW$10:$DW$263,0),2)+INDEX('נתוני דוחות 2014'!$DW$10:$DY$263,MATCH('תשלומי ארנונה של המדינה'!C7,'נתוני דוחות 2014'!$DW$10:$DW$263,0),3)) -> 0.39865926 | Y7: =INDEX('נתוני דוחות 2014'!$DW$10:$DY$263,MATCH('תשלומי ארנונה של המדינה'!C7,'נתוני דוחות 2014'!$DW$10:$DW$263,0),2)/(INDEX('נתוני דוחות 2014'!$DW$10:$DY$263,MATCH('תשלומי ארנונה של המדינה'!C7,'נתוני דוחות 2014'!$DW$10:$DW$263,0),2)+INDEX('נתוני דוחות 2014'!$DW$10:$DY$263,MATCH('תשלומי ארנונה של המדינה'!C7,'נתוני דוחות 2014'!$DW$10:$DW$263,0),3)-H7/1000) -> 0.40446494 | Z7: =INDEX('נתוני דוחות 2014'!$DW$10:$DY$263,MATCH('תשלומי ארנונה של המדינה'!C7,'נתוני דוחות 2014'!$DW$10:$DW$263,0),2)/(INDEX('נתוני דוחות 2014'!$DW$10:$DY$263,MATCH('תשלומי ארנונה של המדינה'!C7,'נתוני דוחות 2014'!$DW$10:$DW$263,0),2)+INDEX('נתוני דוחות 2014'!$DW$10:$DY$263,MATCH('תשלומי ארנונה של המדינה'!C7,'נתוני דוחות 2014'!$DW$10:$DW$263,0),3)-N7/1000) -> 0.41447874 | AA7: =Z7-X7 -> 0.015819485 | AB7: =N7/T7 -> 0.063470137 | AC7: =N7/S7 -> 0.027777002 | AD7: =N7/R7 -> 0.017420288 | AE7: =INDEX(רשויות!$AC$4:$AL$258,MATCH($C7,רשויות!$AC$4:$AC$258,0),10) -> 7 | AF7: =IF(INDEX(רשויות!$AN$4:$AR$258,MATCH($C7,רשויות!$AO$4:$AO$258,0),4)>0,"נתמכת","עצמאית") -> עצמאית | AN7: אור יהודה | AO7: 35500 | AQ7: באר טוביה | AR7: 21.4 | AW7: =SUM(AU3:AW6) -> 316 | BB7: =SUM(AZ4:BB6) -> 1.234475e+09
A8: עיר עולים | B8: מועצה אזורית חבל איילות | C8: חבל אילות | D8: =VLOOKUP(C8,גודל_אוכלוסיה,2,FALSE) -> 3500 | E8: =IF(LEFT(B8,3)="עיר","עירייה",IF(LEFT(B8,7)="מועצה א","מועצה אזורית","מועצה מקומית")) -> מועצה אזורית | F8: =INDEX(רשות_מחוז,MATCH(TRIM(C8),רשויות!$G$3:$G$260,0),2) -> דרום | G8: 26009146 | H8: =G8*(1+3.36%) -> 26883054 | I8: =J8-H8 -> 0 | J8: =IF(OR(A8="עיר עולים",A8="בירה"),H8,H8/0.3) -> 26883054 | K8: =INDEX(מילמן,MATCH(C8,'המידע ממילמן'!$A$1:$A$145,0),2) -> 3047.96 | L8: =M8-K8 -> 0 | M8: =IF(OR(A8="עיר עולים",A8="בירה"),K8,K8/0.55) -> 3047.96 | N8: =K8+H8 -> 26886102 | O8: =SUM(N$3:$N8)/SUM($N$3:$N$167) -> 0.49890032 | P8: =N8/D8 -> 7681.7433 | Q8: =M8+J8 -> 26886102 | R8: =INDEX(הכנסות_מבוקר,MATCH(C8,'נתוני דוחות 2014'!$C$10:$C$263,0),11)*1000 -> 90107000 | S8: =INDEX(הכנסות_מבוקר,MATCH(C8,'נתוני דוחות 2014'!$C$10:$C$263,0),6)*1000 -> 64029000 | T8: =INDEX(ארנונה_מבוקר,MATCH(C8,'נתוני דוחות 2014'!$C$10:$C$263,0),7)*1000 -> 37624000 | U8: =H8/T8 -> 0.71451876 | V8: =H8/S8 -> 0.41985747 | W8: =H8/R8 -> 0.2983459 | X8: =INDEX('נתוני דוחות 2014'!$DW$10:$DY$263,MATCH('תשלומי ארנונה של המדינה'!C8,'נתוני דוחות 2014'!$DW$10:$DW$263,0),2)/(INDEX('נתוני דוחות 2014'!$DW$10:$DY$263,MATCH('תשלומי ארנונה של המדינה'!C8,'נתוני דוחות 2014'!$DW$10:$DW$263,0),2)+INDEX('נתוני דוחות 2014'!$DW$10:$DY$263,MATCH('תשלומי ארנונה של המדינה'!C8,'נתוני דוחות 2014'!$DW$10:$DW$263,0),3)) -> 0.23719157 | Y8: =INDEX('נתוני דוחות 2014'!$DW$10:$DY$263,MATCH('תשלומי ארנונה של המדינה'!C8,'נתוני דוחות 2014'!$DW$10:$DW$263,0),2)/(INDEX('נתוני דוחות 2014'!$DW$10:$DY$263,MATCH('תשלומי ארנונה של המדינה'!C8,'נתוני דוחות 2014'!$DW$10:$DW$263,0),2)+INDEX('נתוני דוחות 2014'!$DW$10:$DY$263,MATCH('תשלומי ארנונה של המדינה'!C8,'נתוני דוחות 2014'!$DW$10:$DW$263,0),3)-H8/1000) -> 0.52134706 | Z8: =INDEX('נתוני דוחות 2014'!$DW$10:$DY$263,MATCH('תשלומי ארנונה של המדינה'!C8,'נתוני דוחות 2014'!$DW$10:$DW$263,0),2)/(INDEX('נתוני דוחות 2014'!$DW$10:$DY$263,MATCH('תשלומי ארנונה של המדינה'!C8,'נתוני דוחות 2014'!$DW$10:$DW$263,0),2)+INDEX('נתוני דוחות 2014'!$DW$10:$DY$263,MATCH('תשלומי ארנונה של המדינה'!C8,'נתוני דוחות 2014'!$DW$10:$DW$263,0),3)-N8/1000) -> 0.52141788 | AA8: =Z8-X8 -> 0.28422631 | AB8: =N8/T8 -> 0.71459977 | AC8: =N8/S8 -> 0.41990507 | AD8: =N8/R8 -> 0.29837972 | AE8: =INDEX(רשויות!$AC$4:$AL$258,MATCH($C8,רשויות!$AC$4:$AC$258,0),10) -> 5 | AF8: =IF(INDEX(רשויות!$AN$4:$AR$258,MATCH($C8,רשויות!$AO$4:$AO$258,0),4)>0,"נתמכת","עצמאית") -> עצמאית | AN8: אור עקיבא | AO8: 16600 | AQ8: בוסתן אל-מרג' | AR8: 7.2
B9: עיריית ראשון לציון | C9: ראשון לציון | D9: =VLOOKUP(C9,גודל_אוכלוסיה,2,FALSE) -> 237600 | E9: =IF(LEFT(B9,3)="עיר","עירייה",IF(LEFT(B9,7)="מועצה א","מועצה אזורית","מועצה מקומית")) -> עירייה | F9: =INDEX(רשות_מחוז,MATCH(TRIM(C9),רשויות!$G$3:$G$260,0),2) -> מרכז | G9: 9959306.6 | H9: =G9*(1+3.36%) -> 10293939 | I9: =J9-H9 -> 24019192 | J9: =IF(OR(A9="עיר עולים",A9="בירה"),H9,H9/0.3) -> 34313131 | K9: =INDEX(מילמן,MATCH(C9,'המידע ממילמן'!$A$1:$A$145,0),2) -> 13974932 | L9: =M9-K9 -> 11434035 | M9: =IF(OR(A9="עיר עולים",A9="בירה"),K9,K9/0.55) -> 25408967 | N9: =K9+H9 -> 24268871 | O9: =SUM(N$3:$N9)/SUM($N$3:$N$167) -> 0.52547202 | P9: =N9/D9 -> 102.14171 | Q9: =M9+J9 -> 59722098 | R9: =INDEX(הכנסות_מבוקר,MATCH(C9,'נתוני דוחות 2014'!$C$10:$C$263,0),11)*1000 -> 1522437000 | S9: =INDEX(הכנסות_מבוקר,MATCH(C9,'נתוני דוחות 2014'!$C$10:$C$263,0),6)*1000 -> 1081193000 | T9: =INDEX(ארנונה_מבוקר,MATCH(C9,'נתוני דוחות 2014'!$C$10:$C$263,0),7)*1000 -> 421683000 | U9: =H9/T9 -> 0.024411559 | V9: =H9/S9 -> 0.0095209082 | W9: =H9/R9 -> 0.0067614879 | X9: =INDEX('נתוני דוחות 2014'!$DW$10:$DY$263,MATCH('תשלומי ארנונה של המדינה'!C9,'נתוני דוחות 2014'!$DW$10:$DW$263,0),2)/(INDEX('נתוני דוחות 2014'!$DW$10:$DY$263,MATCH('תשלומי ארנונה של המדינה'!C9,'נתוני דוחות 2014'!$DW$10:$DW$263,0),2)+INDEX('נתוני דוחות 2014'!$DW$10:$DY$263,MATCH('תשלומי ארנונה של המדינה'!C9,'נתוני דוחות 2014'!$DW$10:$DW$263,0),3)) -> 0.46151056 | Y9: =INDEX('נתוני דוחות 2014'!$DW$10:$DY$263,MATCH('תשלומי ארנונה של המדינה'!C9,'נתוני דוחות 2014'!$DW$10:$DW$263,0),2)/(INDEX('נתוני דוחות 2014'!$DW$10:$DY$263,MATCH('תשלומי ארנונה של המדינה'!C9,'נתוני דוחות 2014'!$DW$10:$DW$263,0),2)+INDEX('נתוני דוחות 2014'!$DW$10:$DY$263,MATCH('תשלומי ארנונה של המדינה'!C9,'נתוני דוחות 2014'!$DW$10:$DW$263,0),3)-H9/1000) -> 0.4676581 | Z9: =INDEX('נתוני דוחות 2014'!$DW$10:$DY$263,MATCH('תשלומי ארנונה של המדינה'!C9,'נתוני דוחות 2014'!$DW$10:$DW$263,0),2)/(INDEX('נתוני דוחות 2014'!$DW$10:$DY$263,MATCH('תשלומי ארנונה של המדינה'!C9,'נתוני דוחות 2014'!$DW$10:$DW$263,0),2)+INDEX('נתוני דוחות 2014'!$DW$10:$DY$263,MATCH('תשלומי ארנונה של המדינה'!C9,'נתוני דוחות 2014'!$DW$10:$DW$263,0),3)-N9/1000) -> 0.47627085 | AA9: =Z9-X9 -> 0.014760283 | AB9: =N9/T9 -> 0.057552406 | AC9: =N9/S9 -> 0.022446382 | AD9: =N9/R9 -> 0.015940805 | AE9: =INDEX(רשויות!$AC$4:$AL$258,MATCH($C9,רשויות!$AC$4:$AC$258,0),10) -> 6 | AF9: =IF(INDEX(רשויות!$AN$4:$AR$258,MATCH($C9,רשויות!$AO$4:$AO$258,0),4)>0,"נתמכת","עצמאית") -> עצמאית | AN9: אורנית | AO9: 7600 | AQ9: בני שמעון | AR9: 8 | AT9: עצמאית | AU9: 2%> | AV9: 2%-5% | AW9: 5%< | AY9: עצמאית | AZ9: 2%> | BA9: 2%-5% | BB9: 5%<
A10: עיר עולים | B10: מועצה אזורית מרחבים | C10: מרחבים | D10: =VLOOKUP(C10,גודל_אוכלוסיה,2,FALSE) -> 11900 | E10: =IF(LEFT(B10,3)="עיר","עירייה",IF(LEFT(B10,7)="מועצה א","מועצה אזורית","מועצה מקומית")) -> מועצה אזורית | F10: =INDEX(רשות_מחוז,MATCH(TRIM(C10),רשויות!$G$3:$G$260,0),2) -> דרום | G10: 20258208 | H10: =G10*(1+3.36%) -> 20938884 | I10: =J10-H10 -> 0 | J10: =IF(OR(A10="עיר עולים",A10="בירה"),H10,H10/0.3) -> 20938884 | K10: =INDEX(מילמן,MATCH(C10,'המידע ממילמן'!$A$1:$A$145,0),2) -> 0 | L10: =M10-K10 -> 0 | M10: =IF(OR(A10="עיר עולים",A10="בירה"),K10,K10/0.55) -> 0 | N10: =K10+H10 -> 20938884 | O10: =SUM(N$3:$N10)/SUM($N$3:$N$167) -> 0.54839775 | P10: =N10/D10 -> 1759.5701 | Q10: =M10+J10 -> 20938884 | R10: =INDEX(הכנסות_מבוקר,MATCH(C10,'נתוני דוחות 2014'!$C$10:$C$263,0),11)*1000 -> 110129000 | S10: =INDEX(הכנסות_מבוקר,MATCH(C10,'נתוני דוחות 2014'!$C$10:$C$263,0),6)*1000 -> 55974000 | T10: =INDEX(ארנונה_מבוקר,MATCH(C10,'נתוני דוחות 2014'!$C$10:$C$263,0),7)*1000 -> 34461000 | U10: =H10/T10 -> 0.60761103 | V10: =H10/S10 -> 0.37408232 | W10: =H10/R10 -> 0.19013052 | X10: =INDEX('נתוני דוחות 2014'!$DW$10:$DY$263,MATCH('תשלומי ארנונה של המדינה'!C10,'נתוני דוחות 2014'!$DW$10:$DW$263,0),2)/(INDEX('נתוני דוחות 2014'!$DW$10:$DY$263,MATCH('תשלומי ארנונה של המדינה'!C10,'נתוני דוחות 2014'!$DW$10:$DW$263,0),2)+INDEX('נתוני דוחות 2014'!$DW$10:$DY$263,MATCH('תשלומי ארנונה של המדינה'!C10,'נתוני דוחות 2014'!$DW$10:$DW$263,0),3)) -> 0.24052893 | Y10: =INDEX('נתוני דוחות 2014'!$DW$10:$DY$263,MATCH('תשלומי ארנונה של המדינה'!C10,'נתוני דוחות 2014'!$DW$10:$DW$263,0),2)/(INDEX('נתוני דוחות 2014'!$DW$10:$DY$263,MATCH('תשלומי ארנונה של המדינה'!C10,'נתוני דוחות 2014'!$DW$10:$DW$263,0),2)+INDEX('נתוני דוחות 2014'!$DW$10:$DY$263,MATCH('תשלומי ארנונה של המדינה'!C10,'נתוני דוחות 2014'!$DW$10:$DW$263,0),3)-H10/1000) -> 0.44663398 | Z10: =INDEX('נתוני דוחות 2014'!$DW$10:$DY$263,MATCH('תשלומי ארנונה של המדינה'!C10,'נתוני דוחות 2014'!$DW$10:$DW$263,0),2)/(INDEX('נתוני דוחות 2014'!$DW$10:$DY$263,MATCH('תשלומי ארנונה של המדינה'!C10,'נתוני דוחות 2014'!$DW$10:$DW$263,0),2)+INDEX('נתוני דוחות 2014'!$DW$10:$DY$263,MATCH('תשלומי ארנונה של המדינה'!C10,'נתוני דוחות 2014'!$DW$10:$DW$263,0),3)-N10/1000) -> 0.44663398 | AA10: =Z10-X10 -> 0.20610506 | AB10: =N10/T10 -> 0.60761103 | AC10: =N10/S10 -> 0.37408232 | AD10: =N10/R10 -> 0.19013052 | AE10: =INDEX(רשויות!$AC$4:$AL$258,MATCH($C10,רשויות!$AC$4:$AC$258,0),10) -> 5 | AF10: =IF(INDEX(רשויות!$AN$4:$AR$258,MATCH($C10,רשויות!$AO$4:$AO$258,0),4)>0,"נתמכת","עצמאית") -> נתמכת | AN10: אזור | AO10: 11800 | AQ10: ברנר | AR10: 7.3 | AT10: "<50%" | AU10: =COUNTIFS($Z$3:$Z$172,"<50%",$AB$3:$AB$172,"<2%",$AB$3:$AB$172,">0",$AF$3:$AF$172,"עצמאית") -> 11 | AV10: =COUNTIFS($Z$3:$Z$172,"<50%",$AB$3:$AB$172,">2%",$AB$3:$AB$172,"<5%",$AF$3:$AF$172,"עצמאית") -> 5 | AW10: =COUNTIFS($Z$3:$Z$172,"<50%",$AB$3:$AB$172,">5%",$AF$3:$AF$172,"עצמאית") -> 15 | AY10: "<50%" | AZ10: =SUMIFS($N$3:$N$172,$Z$3:$Z$172,"<50%",$AB$3:$AB$172,"<2%",$AB$3:$AB$172,">0",$AF$3:$AF$172,"עצמאית") -> 23165528 | BA10: =SUMIFS($N$3:$N$172,$Z$3:$Z$172,"<50%",$AB$3:$AB$172,">2%",$AB$3:$AB$172,"<5%",$AF$3:$AF$172,"עצמאית") -> 1.1600202e+08 | BB10: =SUMIFS($N$3:$N$172,$Z$3:$Z$172,"<50%",$AB$3:$AB$172,">5%",$AF$3:$AF$172,"עצמאית") -> 3.0628069e+08
A11: עיר עולים | B11: עיריית רמת השרון | C11: רמת השרון | D11: =VLOOKUP(C11,גודל_אוכלוסיה,2,FALSE) -> 43800 | E11: =IF(LEFT(B11,3)="עיר","עירייה",IF(LEFT(B11,7)="מועצה א","מועצה אזורית","מועצה מקומית")) -> עירייה | F11: =INDEX(רשות_מחוז,MATCH(TRIM(C11),רשויות!$G$3:$G$260,0),2) -> תל אביב | G11: 16522206 | H11: =G11*(1+3.36%) -> 17077352 | I11: =J11-H11 -> 0 | J11: =IF(OR(A11="עיר עולים",A11="בירה"),H11,H11/0.3) -> 17077352 | K11: =INDEX(מילמן,MATCH(C11,'המידע ממילמן'!$A$1:$A$145,0),2) -> 335215.2 | L11: =M11-K11 -> 0 | M11: =IF(OR(A11="עיר עולים",A11="בירה"),K11,K11/0.55) -> 335215.2 | N11: =K11+H11 -> 17412567 | O11: =SUM(N$3:$N11)/SUM($N$3:$N$167) -> 0.56746256 | P11: =N11/D11 -> 397.5472 | Q11: =M11+J11 -> 17412567 | R11: =INDEX(הכנסות_מבוקר,MATCH(C11,'נתוני דוחות 2014'!$C$10:$C$263,0),11)*1000 -> 370866000 | S11: =INDEX(הכנסות_מבוקר,MATCH(C11,'נתוני דוחות 2014'!$C$10:$C$263,0),6)*1000 -> 288247000 | T11: =INDEX(ארנונה_מבוקר,MATCH(C11,'נתוני דוחות 2014'!$C$10:$C$263,0),7)*1000 -> 106183900 | U11: =H11/T11 -> 0.16082807 | V11: =H11/S11 -> 0.05924555 | W11: =H11/R11 -> 0.04604723 | X11: =INDEX('נתוני דוחות 2014'!$DW$10:$DY$263,MATCH('תשלומי ארנונה של המדינה'!C11,'נתוני דוחות 2014'!$DW$10:$DW$263,0),2)/(INDEX('נתוני דוחות 2014'!$DW$10:$DY$263,MATCH('תשלומי ארנונה של המדינה'!C11,'נתוני דוחות 2014'!$DW$10:$DW$263,0),2)+INDEX('נתוני דוחות 2014'!$DW$10:$DY$263,MATCH('תשלומי ארנונה של המדינה'!C11,'נתוני דוחות 2014'!$DW$10:$DW$263,0),3)) -> 0.51775363 | Y11: =INDEX('נתוני דוחות 2014'!$DW$10:$DY$263,MATCH('תשלומי ארנונה של המדינה'!C11,'נתוני דוחות 2014'!$DW$10:$DW$263,0),2)/(INDEX('נתוני דוחות 2014'!$DW$10:$DY$263,MATCH('תשלומי ארנונה של המדינה'!C11,'נתוני דוחות 2014'!$DW$10:$DW$263,0),2)+INDEX('נתוני דוחות 2014'!$DW$10:$DY$263,MATCH('תשלומי ארנונה של המדינה'!C11,'נתוני דוחות 2014'!$DW$10:$DW$263,0),3)-H11/1000) -> 0.56128629 | Z11: =INDEX('נתוני דוחות 2014'!$DW$10:$DY$263,MATCH('תשלומי ארנונה של המדינה'!C11,'נתוני דוחות 2014'!$DW$10:$DW$263,0),2)/(INDEX('נתוני דוחות 2014'!$DW$10:$DY$263,MATCH('תשלומי ארנונה של המדינה'!C11,'נתוני דוחות 2014'!$DW$10:$DW$263,0),2)+INDEX('נתוני דוחות 2014'!$DW$10:$DY$263,MATCH('תשלומי ארנונה של המדינה'!C11,'נתוני דוחות 2014'!$DW$10:$DW$263,0),3)-N11/1000) -> 0.56221418 | AA11: =Z11-X11 -> 0.044460558 | AB11: =N11/T11 -> 0.163985 | AC11: =N11/S11 -> 0.060408494 | AD11: =N11/R11 -> 0.046951102 | AE11: =INDEX(רשויות!$AC$4:$AL$258,MATCH($C11,רשויות!$AC$4:$AC$258,0),10) -> 9 | AF11: =IF(INDEX(רשויות!$AN$4:$AR$258,MATCH($C11,רשויות!$AO$4:$AO$258,0),4)>0,"נתמכת","עצמאית") -> עצמאית | AN11: אילת | AO11: 48100 | AQ11: גדרות | AR11: 4.9 | AT11: ">50%" | AU11: =COUNTIFS($Z$3:$Z$172,">50%",$AB$3:$AB$172,"<2%",$AB$3:$AB$172,">0",$AF$3:$AF$172,"עצמאית") -> 9 | AV11: =COUNTIFS($Z$3:$Z$172,">50%",$AB$3:$AB$172,">2%",$AB$3:$AB$172,"<5%",$AF$3:$AF$172,"עצמאית") -> 2 | AW11: =COUNTIFS($Z$3:$Z$172,">50%",$AB$3:$AB$172,">5%",$AF$3:$AF$172,"עצמאית") -> 9 | AY11: ">50%" | AZ11: =SUMIFS($N$3:$N$172,$Z$3:$Z$172,">50%",$AB$3:$AB$172,"<2%",$AB$3:$AB$172,">0",$AF$3:$AF$172,"עצמאית") -> 5404145.2 | BA11: =SUMIFS($N$3:$N$172,$Z$3:$Z$172,">50%",$AB$3:$AB$172,">2%",$AB$3:$AB$172,"<5%",$AF$3:$AF$172,"עצמאית") -> 4276781.7 | BB11: =SUMIFS($N$3:$N$172,$Z$3:$Z$172,">50%",$AB$3:$AB$172,">5%",$AF$3:$AF$172,"עצמאית") -> 2.242646e+08 | BD11: =SUM(AZ10:BB11) -> 6.7939376e+08
A12: עיר עולים | B12: מועצה אזורית עמק יזרעאל - 100 | C12: עמק יזרעאל | D12: =VLOOKUP(C12,גודל_אוכלוסיה,2,FALSE) -> 35200 | E12: =IF(LEFT(B12,3)="עיר","עירייה",IF(LEFT(B12,7)="מועצה א","מועצה אזורית","מועצה מקומית")) -> מועצה אזורית | F12: =INDEX(רשות_מחוז,MATCH(TRIM(C12),רשויות!$G$3:$G$260,0),2) -> צפון | G12: 16525967 | H12: =G12*(1+3.36%) -> 17081239 | I12: =J12-H12 -> 0 | J12: =IF(OR(A12="עיר עולים",A12="בירה"),H12,H12/0.3) -> 17081239 | N12: =K12+H12 -> 17081239 | O12: =SUM(N$3:$N12)/SUM($N$3:$N$167) -> 0.5861646 | P12: =N12/D12 -> 485.26248 | Q12: =M12+J12 -> 17081239 | R12: =INDEX(הכנסות_מבוקר,MATCH(C12,'נתוני דוחות 2014'!$C$10:$C$263,0),11)*1000 -> 285521000 | S12: =INDEX(הכנסות_מבוקר,MATCH(C12,'נתוני דוחות 2014'!$C$10:$C$263,0),6)*1000 -> 184435000 | T12: =INDEX(ארנונה_מבוקר,MATCH(C12,'נתוני דוחות 2014'!$C$10:$C$263,0),7)*1000 -> 74534000 | U12: =H12/T12 -> 0.22917379 | V12: =H12/S12 -> 0.09261387 | W12: =H12/R12 -> 0.059824809 | X12: =INDEX('נתוני דוחות 2014'!$DW$10:$DY$263,MATCH('תשלומי ארנונה של המדינה'!C12,'נתוני דוחות 2014'!$DW$10:$DW$263,0),2)/(INDEX('נתוני דוחות 2014'!$DW$10:$DY$263,MATCH('תשלומי ארנונה של המדינה'!C12,'נתוני דוחות 2014'!$DW$10:$DW$263,0),2)+INDEX('נתוני דוחות 2014'!$DW$10:$DY$263,MATCH('תשלומי ארנונה של המדינה'!C12,'נתוני דוחות 2014'!$DW$10:$DW$263,0),3)) -> 0.36318586 | Y12: =INDEX('נתוני דוחות 2014'!$DW$10:$DY$263,MATCH('תשלומי ארנונה של המדינה'!C12,'נתוני דוחות 2014'!$DW$10:$DW$263,0),2)/(INDEX('נתוני דוחות 2014'!$DW$10:$DY$263,MATCH('תשלומי ארנונה של המדינה'!C12,'נתוני דוחות 2014'!$DW$10:$DW$263,0),2)+INDEX('נתוני דוחות 2014'!$DW$10:$DY$263,MATCH('תשלומי ארנונה של המדינה'!C12,'נתוני דוחות 2014'!$DW$10:$DW$263,0),3)-H12/1000) -> 0.42524686 | Z12: =INDEX('נתוני דוחות 2014'!$DW$10:$DY$263,MATCH('תשלומי ארנונה של המדינה'!C12,'נתוני דוחות 2014'!$DW$10:$DW$263,0),2)/(INDEX('נתוני דוחות 2014'!$DW$10:$DY$263,MATCH('תשלומי ארנונה של המדינה'!C12,'נתוני דוחות 2014'!$DW$10:$DW$263,0),2)+INDEX('נתוני דוחות 2014'!$DW$10:$DY$263,MATCH('תשלומי ארנונה של המדינה'!C12,'נתוני דוחות 2014'!$DW$10:$DW$263,0),3)-N12/1000) -> 0.42524686 | AA12: =Z12-X12 -> 0.062060999 | AB12: =N12/T12 -> 0.22917379 | AC12: =N12/S12 -> 0.09261387 | AD12: =N12/R12 -> 0.059824809 | AE12: =INDEX(רשויות!$AC$4:$AL$258,MATCH($C12,רשויות!$AC$4:$AC$258,0),10) -> 7 | AF12: =IF(INDEX(רשויות!$AN$4:$AR$258,MATCH($C12,רשויות!$AO$4:$AO$258,0),4)>0,"נתמכת","עצמאית") -> עצמאית | AG12: שר הפנים קבע כי מועצה אזורית קישון תוגדר עיר עולים, אך היא מוזגה עם מועצה אזורית עמק יזרעאל. לפיכך, על הנכסים שבתחום השיפוט של מה שהיה בעבר מועצה אזורית קישון המדינה משלמת 111% ארנונה מערך הנכס, ובשאר היישובים שנמצאים בתחום השיפוט של המועצה האזורית עמק יזרעאל המדינה משלמת ארנונה בשיעור מופחת | AN12: אכסאל | AO12: 13100 | AQ12: גולן | AR12: 14 | AT12: "-5%" | AU12: =COUNTIFS($AA$3:$AA$172,"<5%",$AB$3:$AB$172,"<2%",$AB$3:$AB$172,">0",$AF$3:$AF$172,"עצמאית") -> 20 | AV12: =COUNTIFS($AA$3:$AA$172,"<5%",$AB$3:$AB$172,">2%",$AB$3:$AB$172,"<5%",$AF$3:$AF$172,"עצמאית") -> 7 | AW12: =COUNTIFS($AA$3:$AA$172,"<5%",$AB$3:$AB$172,">5%",$AF$3:$AF$172,"עצמאית") -> 17 | AY12: "-5%" | AZ12: =SUMIFS($N$3:$N$172,$AA$3:$AA$172,"<5%",$AB$3:$AB$172,"<2%",$AB$3:$AB$172,">0",$AF$3:$AF$172,"עצמאית") -> 28569673 | BA12: =SUMIFS($N$3:$N$172,$AA$3:$AA$172,"<5%",$AB$3:$AB$172,">2%",$AB$3:$AB$172,"<5%",$AF$3:$AF$172,"עצמאית") -> 1.202788e+08 | BB12: =SUMIFS($N$3:$N$172,$AA$3:$AA$172,"<5%",$AB$3:$AB$172,">5%",$AF$3:$AF$172,"עצמאית") -> 2.9866774e+08
A13: עיר עולים | B13: מועצה אזורית ברנר | C13: ברנר | D13: =VLOOKUP(C13,גודל_אוכלוסיה,2,FALSE) -> 7300 | E13: =IF(LEFT(B13,3)="עיר","עירייה",IF(LEFT(B13,7)="מועצה א","מועצה אזורית","מועצה מקומית")) -> מועצה אזורית | F13: =INDEX(רשות_מחוז,MATCH(TRIM(C13),רשויות!$G$3:$G$260,0),2) -> מרכז | G13: 15753498 | H13: =G13*(1+3.36%) -> 16282816 | I13: =J13-H13 -> 0 | J13: =IF(OR(A13="עיר עולים",A13="בירה"),H13,H13/0.3) -> 16282816 | N13: =K13+H13 -> 16282816 | O13: =SUM(N$3:$N13)/SUM($N$3:$N$167) -> 0.60399246 | P13: =N13/D13 -> 2230.5227 | Q13: =M13+J13 -> 16282816 | R13: =INDEX(הכנסות_מבוקר,MATCH(C13,'נתוני דוחות 2014'!$C$10:$C$263,0),11)*1000 -> 95516000 | S13: =INDEX(הכנסות_מבוקר,MATCH(C13,'נתוני דוחות 2014'!$C$10:$C$263,0),6)*1000 -> 50086000 | T13: =INDEX(ארנונה_מבוקר,MATCH(C13,'נתוני דוחות 2014'!$C$10:$C$263,0),7)*1000 -> 25081000 | U13: =H13/T13 -> 0.64920919 | V13: =H13/S13 -> 0.32509715 | W13: =H13/R13 -> 0.17047213 | X13: =INDEX('נתוני דוחות 2014'!$DW$10:$DY$263,MATCH('תשלומי ארנונה של המדינה'!C13,'נתוני דוחות 2014'!$DW$10:$DW$263,0),2)/(INDEX('נתוני דוחות 2014'!$DW$10:$DY$263,MATCH('תשלומי ארנונה של המדינה'!C13,'נתוני דוחות 2014'!$DW$10:$DW$263,0),2)+INDEX('נתוני דוחות 2014'!$DW$10:$DY$263,MATCH('תשלומי ארנונה של המדינה'!C13,'נתוני דוחות 2014'!$DW$10:$DW$263,0),3)) -> 0.28360468 | Y13: =INDEX('נתוני דוחות 2014'!$DW$10:$DY$263,MATCH('תשלומי ארנונה של המדינה'!C13,'נתוני דוחות 2014'!$DW$10:$DW$263,0),2)/(INDEX('נתוני דוחות 2014'!$DW$10:$DY$263,MATCH('תשלומי ארנונה של המדינה'!C13,'נתוני דוחות 2014'!$DW$10:$DW$263,0),2)+INDEX('נתוני דוחות 2014'!$DW$10:$DY$263,MATCH('תשלומי ארנונה של המדינה'!C13,'נתוני דוחות 2014'!$DW$10:$DW$263,0),3)-H13/1000) -> 0.53019182 | Z13: =INDEX('נתוני דוחות 2014'!$DW$10:$DY$263,MATCH('תשלומי ארנונה של המדינה'!C13,'נתוני דוחות 2014'!$DW$10:$DW$263,0),2)/(INDEX('נתוני דוחות 2014'!$DW$10:$DY$263,MATCH('תשלומי ארנונה של המדינה'!C13,'נתוני דוחות 2014'!$DW$10:$DW$263,0),2)+INDEX('נתוני דוחות 2014'!$DW$10:$DY$263,MATCH('תשלומי ארנונה של המדינה'!C13,'נתוני דוחות 2014'!$DW$10:$DW$263,0),3)-N13/1000) -> 0.53019182 | AA13: =Z13-X13 -> 0.24658714 | AB13: =N13/T13 -> 0.64920919 | AC13: =N13/S13 -> 0.32509715 | AD13: =N13/R13 -> 0.17047213 | AE13: =INDEX(רשויות!$AC$4:$AL$258,MATCH($C13,רשויות!$AC$4:$AC$258,0),10) -> 8 | AF13: =IF(INDEX(רשויות!$AN$4:$AR$258,MATCH($C13,רשויות!$AO$4:$AO$258,0),4)>0,"נתמכת","עצמאית") -> עצמאית | AN13: אליכין | AO13: 3400 | AQ13: גוש עציון | AR13: 20.1 | AT13: "+5%" | AU13: =COUNTIFS($AA$3:$AA$172,">5%",$AB$3:$AB$172,"<2%",$AB$3:$AB$172,">0",$AF$3:$AF$172,"עצמאית") -> 0 | AV13: =COUNTIFS($AA$3:$AA$172,">5%",$AB$3:$AB$172,">2%",$AB$3:$AB$172,"<5%",$AF$3:$AF$172,"עצמאית") -> 0 | AW13: =COUNTIFS($AA$3:$AA$172,">5%",$AB$3:$AB$172,">5%",$AF$3:$AF$172,"עצמאית") -> 7 | AY13: "+5%" | AZ13: =SUMIFS($N$3:$N$172,$AA$3:$AA$172,">5%",$AB$3:$AB$172,"<2%",$AB$3:$AB$172,">0",$AF$3:$AF$172,"עצמאית") -> 0 | BA13: =SUMIFS($N$3:$N$172,$AA$3:$AA$172,">5%",$AB$3:$AB$172,">2%",$AB$3:$AB$172,"<5%",$AF$3:$AF$172,"עצמאית") -> 0 | BB13: =SUMIFS($N$3:$N$172,$AA$3:$AA$172,">5%",$AB$3:$AB$172,">5%",$AF$3:$AF$172,"עצמאית") -> 2.3187755e+08 | BD13: =SUM(AZ12:BB13) -> 6.7939376e+08
A14: עיר עולים | B14: עיריית טירת הכרמל | C14: טירת כרמל | D14: =VLOOKUP(C14,גודל_אוכלוסיה,2,FALSE) -> 18700 | E14: =IF(LEFT(B14,3)="עיר","עירייה",IF(LEFT(B14,7)="מועצה א","מועצה אזורית","מועצה מקומית")) -> עירייה | F14: =INDEX(רשות_מחוז,MATCH(TRIM(C14),רשויות!$G$3:$G$260,0),2) -> חיפה | G14: 12756979 | H14: =G14*(1+3.36%) -> 13185614 | I14: =J14-H14 -> 0 | J14: =IF(OR(A14="עיר עולים",A14="בירה"),H14,H14/0.3) -> 13185614 | K14: =INDEX(מילמן,MATCH(C14,'המידע ממילמן'!$A$1:$A$145,0),2) -> 2708564.4 | L14: =M14-K14 -> 0 | M14: =IF(OR(A14="עיר עולים",A14="בירה"),K14,K14/0.55) -> 2708564.4 | N14: =K14+H14 -> 15894178 | O14: =SUM(N$3:$N14)/SUM($N$3:$N$167) -> 0.6213948 | P14: =N14/D14 -> 849.95606 | Q14: =M14+J14 -> 15894178 | R14: =INDEX(הכנסות_מבוקר,MATCH(C14,'נתוני דוחות 2014'!$C$10:$C$263,0),11)*1000 -> 184995000 | S14: =INDEX(הכנסות_מבוקר,MATCH(C14,'נתוני דוחות 2014'!$C$10:$C$263,0),6)*1000 -> 117930000 | T14: =INDEX(ארנונה_מבוקר,MATCH(C14,'נתוני דוחות 2014'!$C$10:$C$263,0),7)*1000 -> 62845000 | U14: =H14/T14 -> 0.20981166 | V14: =H14/S14 -> 0.11180882 | W14: =H14/R14 -> 0.071275515 | X14: =INDEX('נתוני דוחות 2014'!$DW$10:$DY$263,MATCH('תשלומי ארנונה של המדינה'!C14,'נתוני דוחות 2014'!$DW$10:$DW$263,0),2)/(INDEX('נתוני דוחות 2014'!$DW$10:$DY$263,MATCH('תשלומי ארנונה של המדינה'!C14,'נתוני דוחות 2014'!$DW$10:$DW$263,0),2)+INDEX('נתוני דוחות 2014'!$DW$10:$DY$263,MATCH('תשלומי ארנונה של המדינה'!C14,'נתוני דוחות 2014'!$DW$10:$DW$263,0),3)) -> 0.16622443 | Y14: =INDEX('נתוני דוחות 2014'!$DW$10:$DY$263,MATCH('תשלומי ארנונה של המדינה'!C14,'נתוני דוחות 2014'!$DW$10:$DW$263,0),2)/(INDEX('נתוני דוחות 2014'!$DW$10:$DY$263,MATCH('תשלומי ארנונה של המדינה'!C14,'נתוני דוחות 2014'!$DW$10:$DW$263,0),2)+INDEX('נתוני דוחות 2014'!$DW$10:$DY$263,MATCH('תשלומי ארנונה של המדינה'!C14,'נתוני דוחות 2014'!$DW$10:$DW$263,0),3)-H14/1000) -> 0.20146849 | Z14: =INDEX('נתוני דוחות 2014'!$DW$10:$DY$263,MATCH('תשלומי ארנונה של המדינה'!C14,'נתוני דוחות 2014'!$DW$10:$DW$263,0),2)/(INDEX('נתוני דוחות 2014'!$DW$10:$DY$263,MATCH('תשלומי ארנונה של המדינה'!C14,'נתוני דוחות 2014'!$DW$10:$DW$263,0),2)+INDEX('נתוני דוחות 2014'!$DW$10:$DY$263,MATCH('תשלומי ארנונה של המדינה'!C14,'נתוני דוחות 2014'!$DW$10:$DW$263,0),3)-N14/1000) -> 0.21064286 | AA14: =Z14-X14 -> 0.044418436 | AB14: =N14/T14 -> 0.25291078 | AC14: =N14/S14 -> 0.13477638 | AD14: =N14/R14 -> 0.085916799 | AE14: =INDEX(רשויות!$AC$4:$AL$258,MATCH($C14,רשויות!$AC$4:$AC$258,0),10) -> 4 | AF14: =IF(INDEX(רשויות!$AN$4:$AR$258,MATCH($C14,רשויות!$AO$4:$AO$258,0),4)>0,"נתמכת","עצמאית") -> נתמכת | AN14: אלעד | AO14: 42600 | AQ14: גזר | AR14: 24.4 | AW14: =SUM(AU10:AW13) -> 102
