Workbook

Sheet ריכוז נתונים
H1: מתוך נתוני למ"ס 2013
A2: מס' יחידות דיור שבהן גרים מקבלי הנחת ותיקים | B2: סה"כ יח' דיור בהן גרים מקבלי הנחת אזרח ותיק | C2: פוטנציאל באזורים יקרים ("מלא") | D2: פוטנציאל באזורים פחות יקרים ("חלקי") | E2: פוטנציאל | F2: פוטנציאל ראלי | H2: מס' יחידות דיור | I2: אחוז אוכלוסיה בני 65+ | J2: אחוז אוכלוסיה בין 65-75 | K2: אחוז אוכלוסיה בני 75+ | L2: סבירות להעדפת דיור מוגן | M2: פוטנציאל דירות (על פי אחוז החלק היחסי של האוכלוסיה) | N2: פונציאל מחושב ביחס למצב האמיתי (חשוב לזכור שיש פער של שנה בין הנתונים)
A3: סה"כ | B3: =SUM(B4:B11) -> 53293 | C3: =SUM(C4:C11) -> 15883 | D3: =SUM(D4:D11) -> 12309 | E3: =SUM(E4:E11) -> 19575.7 | F3: =SUM(F4:F11) -> 4596.1516 | G3: =F3/B3 -> 0.086243063
A4: גבעתיים | F4: =E4*L4 -> 0 | H4: 23454 | I4: 17.4 | J4: =I4-K4 -> 7.7 | K4: 9.7 | L4: =K4/I4*$J$15 -> 0.27873563 | M4: =H4*I4/100 -> 4080.996 | N4: =M4/B4 -> #DIV/0!
A5: הרצליה | F5: =E5*L5 -> 0 | H5: 34190 | I5: 17 | J5: =I5-K5 -> 9.6 | K5: 7.4 | L5: =K5/I5*$J$15 -> 0.21764706 | M5: =H5*I5/100 -> 5812.3 | N5: =M5/B5 -> #DIV/0!
A6: כפר סבא | B6: ='כפר סבא מסכם'!I10 -> 6628 | C6: ='כפר סבא מסכם'!I12 -> 4528 | D6: ='כפר סבא מסכם'!I13 -> 1303 | E6: =C6+D6*$J$14 -> 4918.9 | F6: =E6*L6 -> 1100.2803 | G6: =F6/B6 -> 0.16600487 | H6: 29873 | I6: 15.2 | J6: =I6-K6 -> 8.4 | K6: 6.8 | L6: =K6/I6*$J$15 -> 0.22368421 | M6: =H6*I6/100 -> 4540.696 | N6: =M6/B6 -> 0.68507785
A7: קרית אונו | F7: =E7*L7 -> 0 | H7: 11772 | I7: 13.6 | J7: =I7-K7 -> 7.4 | K7: 6.2 | L7: =K7/I7*$J$15 -> 0.22794118 | M7: =H7*I7/100 -> 1600.992 | N7: =M7/B7 -> #DIV/0!
A8: רמת גן | F8: =E8*L8 -> 0 | H8: 60606 | I8: 17.9 | J8: =I8-K8 -> 8 | K8: 9.9 | L8: =K8/I8*$J$15 -> 0.27653631 | M8: =H8*I8/100 -> 10848.474 | N8: =M8/B8 -> #DIV/0!
A9: רמת השרון | B9: ='רמת השרון מסכם'!B8 -> 2772 | C9: ='רמת השרון מסכם'!B10 -> 1947 | D9: ='רמת השרון מסכם'!B11 -> 650 | E9: =C9+D9*$J$14 -> 2142 | F9: =E9*L9 -> 494.30769 | G9: =F9/B9 -> 0.17832168 | H9: 14976 | I9: 16.9 | J9: =I9-K9 -> 9.1 | K9: 7.8 | L9: =K9/I9*$J$15 -> 0.23076923 | M9: =H9*I9/100 -> 2530.944 | N9: =M9/B9 -> 0.91303896
A10: רעננה | B10: ='רעננה מסכם'!F3 -> 3973 | C10: ='רעננה מסכם'!G9 -> 3075 | D10: ='רעננה מסכם'!G10 -> 699 | E10: =C10+D10*$J$14 -> 3284.7 | F10: =E10*L10 -> 631.67308 | G10: =F10/B10 -> 0.15899146 | H10: 22838 | I10: 14.3 | J10: =I10-K10 -> 8.8 | K10: 5.5 | L10: =K10/I10*$J$15 -> 0.19230769 | M10: =H10*I10/100 -> 3265.834 | N10: =M10/B10 -> 0.82200705
A11: תל אביב | B11: ='תל אביב מסכם'!G5 -> 39920 | C11: ='תל אביב מסכם'!G11 -> 6333 | D11: ='תל אביב מסכם'!G12 -> 9657 | E11: =C11+D11*$J$14 -> 9230.1 | F11: =E11*L11 -> 2369.8905 | G11: =F11/B11 -> 0.059365996 | H11: 193078 | I11: 14.8 | J11: =I11-K11 -> 7.2 | K11: 7.6 | L11: =K11/I11*$J$15 -> 0.25675676 | M11: =H11*I11/100 -> 28575.544 | N11: =M11/B11 -> 0.71582024
H12: =SUM(H4:H11) -> 390787 | M12: =SUM(M4:M11) -> 61255.78 | N12: =M12/0.8 -> 76569.725 | O12: =0.1*M12/0.8 -> 7656.9725
I14: יחס המרה לפוטנציאל מחלקי למלא | J14: 0.3
I15: יחס המרה לסבירות לדיור מוגן בתוך האוכלוסיה המבוגרת יותר | J15: 0.5

Sheet תל אביב מסכם
A2: נתונים בנוגע למספר יחידות דיור אשר מקבלות הנחת אזרח ותיק בתשלומי הארנונה בהתאם לאזור מס ושטח הנכס
A4: אזור מס | B4: 1 | C4: 2 | D4: 3 | E4: 4 | F4: 5 | G4: סכום כולל | I4: פוטנציאל "שלם" | J4: פוטנציאל "חלק"
A5: שטח/מס' יחידות דיור | B5: 14384 | C5: 10147 | D5: 6695 | E5: 8111 | F5: 583 | G5: 39920
A6: 0-75 | B6: 3581 | C6: 5349 | D6: 4196 | E6: 6410 | F6: 309 | G6: 19845
A7: 76-110 | B7: 5605 | C7: 3663 | D7: 2110 | E7: 1379 | F7: 186 | G7: 12943 | J7: =B7+C7 -> 9268 | K7: =I7+0.3*J7 -> 2780.4
A8: 111-150 | B8: 3596 | C8: 824 | D8: 294 | E8: 221 | F8: 50 | G8: 4985 | I8: =B8+C8 -> 4420 | J8: =D8 -> 294 | K8: =I8+0.3*J8 -> 4508.2
A9: 151+ | B9: 1602 | C9: 311 | D9: 95 | E9: 101 | F9: 38 | G9: 2147 | I9: =B9+C9 -> 1913 | J9: =D9 -> 95 | K9: =I9+0.3*J9 -> 1941.5
A11: פוטנציאל "שלם" | B11: =B9+B8 -> 5198 | C11: =C9+C8 -> 1135 | G11: =SUM(B11:D11) -> 6333
A12: פוטנציאל "חלק" | B12: =B7 -> 5605 | C12: =C7 -> 3663 | D12: =D9+D8 -> 389 | G12: =SUM(B12:D12) -> 9657 | I12: =SUM(I7:I11) -> 6333 | J12: =SUM(J7:J11) -> 9657 | K12: =I12+0.3*J12 -> 9230.1
A14: פוטנציאל | B14: =B11+0.3*B12 -> 6879.5 | C14: =C11+0.3*C12 -> 2233.9 | D14: =D11+0.3*D12 -> 116.7 | G14: =G11+0.3*G12 -> 9230.1

Sheet רעננה מסכם
A2: איזור < - גודל נכס | B2: 0 | C2: 1 | D2: 2 | E2: 5 | F2: סכום כולל
A3: סכום כולל | B3: =SUM(B4:B7) -> 1171 | C3: =SUM(C4:C7) -> 2565 | D3: =SUM(D4:D7) -> 206 | E3: =SUM(E4:E7) -> 31 | F3: =SUM(F4:F7) -> 3973
A4: 0-75 | B4: 47 | C4: 43 | D4: 31 | F4: =C4+B4+D4+E4 -> 121
A5: 76-110 | B5: 213 | C5: 358 | D5: 47 | E5: 13 | F5: =C5+B5+D5+E5 -> 631
A6: 111-150 | B6: 461 | C6: 1196 | D6: 50 | E6: 18 | F6: =C6+B6+D6+E6 -> 1725
A7: 151+ | B7: 450 | C7: 968 | D7: 78 | F7: =C7+B7+D7+E7 -> 1496
A9: פוטנציאל "שלם" | B9: =B7+B6 -> 911 | C9: =C7+C6 -> 2164 | G9: =SUM(B9:D9) -> 3075
A10: פוטנציאל "חלק" | B10: =B5 -> 213 | C10: =C5 -> 358 | D10: =D7+D6 -> 128 | G10: =SUM(B10:D10) -> 699
A12: פוטנציאל | B12: =B9+0.3*B10 -> 974.9 | C12: =C9+0.3*C10 -> 2271.4 | D12: =D9+0.3*D10 -> 38.4 | G12: =G9+0.3*G10 -> 3284.7

Sheet כפר סבא מסכם
B2: סוג נכס
B3: אזור 1 | E3: אזור 2 | G3: אזור 3
A4: סה"כ | B4: 6050 | E4: 501 | G4: 77
A5: גודל הנכס/קוד נכס | B5: 100 | C5: 111 | D5: 115 | E5: 112 | F5: 116 | G5: 113 | H5: 117 | I5: מספר נכסים
A6: 0-75 | B6: 20 | C6: 410 | D6: 5 | E6: 228 | F6: 11 | G6: 0 | H6: 0 | I6: 674
A7: 76-110 | B7: 135 | C7: 962 | D7: 39 | E7: 95 | F7: 28 | G7: 26 | H7: 2 | I7: 1287
A8: 111-150 | B8: 645 | C8: 1974 | D8: 289 | E8: 25 | F8: 54 | G8: 9 | H8: 19 | I8: 3015
A9: 150+ | B9: 747 | C9: 190 | D9: 634 | E9: 9 | F9: 51 | G9: 0 | H9: 21 | I9: 1652
A10: סה"כ | B10: 1547 | C10: 3536 | D10: 967 | E10: 357 | F10: 144 | G10: 35 | H10: 42 | I10: 6628
A12: פוטנציאל "שלם" | B12: =B9+B8 -> 1392 | C12: =C9+C8 -> 2164 | D12: =D9+D8 -> 923 | G12: =G9+G8 -> 9 | H12: =H9+H8 -> 40 | I12: =SUM(B12:H12) -> 4528
A13: פוטנציאל "חלק" | B13: =B7 -> 135 | C13: =C7 -> 962 | D13: =D7 -> 39 | E13: =E9+E8 -> 34 | F13: =F9+F8 -> 105 | G13: =G7 -> 26 | H13: =H7 -> 2 | I13: =SUM(B13:H13) -> 1303
A15: פוטנציאל | B15: =B12+0.3*B13 -> 1432.5 | C15: =C12+0.3*C13 -> 2452.6 | D15: =D12+0.3*D13 -> 934.7 | E15: =E12+0.3*E13 -> 10.2 | F15: =F12+0.3*F13 -> 31.5 | G15: =G12+0.3*G13 -> 16.8 | H15: =H12+0.3*H13 -> 40.6 | I15: =SUM(B15:H15) -> 4918.9

Sheet רמת השרון מסכם
A2: סה"כ
A3: גודל הנכס | B3: אזור 1
A4: 0-75 | B4: 175
A5: 76-110 | B5: 650
A6: 111-150 | B6: 940
A7: 150+ | B7: 1007
A8: סה"כ | B8: 2772
A10: פוטנציאל "שלם" | B10: =B7+B6 -> 1947
A11: פוטנציאל "חלק" | B11: =B5 -> 650
A13: פוטנציאל | B13: =B10+0.3*B11 -> 2142

Sheet תחום הדיור המוגן מתוך מצגת עזרי
