Workbook

Sheet נתוני 2014
A1: שם הרשות | B1: אשכול חברתי-כלכלי (1 נמוך, 10 גבוה) 2008 | C1: מדד חברתי-כלכלי 2008 -ערך | D1: סה"כ אוכלוסייה בסוף השנה 2014 (אלפים) | E1: סמל הרשות | F1: אשכול 2013 | G1: מדד 2013 | J1: אשכול 2013 לפי גבולות מדד 2008
A2: אבו גוש | B2: 2 | C2: -1.354 | D2: 6.8 | E2: 472 | F2: =INDEX(Sheet2!$J$2:$R$257,MATCH('נתוני 2014'!$E2,Sheet2!$J$2:$J$257,0),6) -> 3 | G2: =INDEX(Sheet2!$J$2:$R$257,MATCH('נתוני 2014'!$E2,Sheet2!$J$2:$J$257,0),4) -> -0.79957 | H2: =F2-B2 -> 1 | I2: =G2-C2 -> 0.55443 | J2: 3
A3: אבו סנאן | B3: 3 | C3: -0.97 | D3: 13.2 | E3: 473 | F3: =INDEX(Sheet2!$J$2:$R$257,MATCH('נתוני 2014'!$E3,Sheet2!$J$2:$J$257,0),6) -> 3 | G3: =INDEX(Sheet2!$J$2:$R$257,MATCH('נתוני 2014'!$E3,Sheet2!$J$2:$J$257,0),4) -> -0.76976 | H3: =F3-B3 -> 0 | J3: 3
A4: אבן יהודה | B4: 8 | C4: 1.37 | D4: 13 | E4: 182 | F4: =INDEX(Sheet2!$J$2:$R$257,MATCH('נתוני 2014'!$E4,Sheet2!$J$2:$J$257,0),6) -> 8 | G4: =INDEX(Sheet2!$J$2:$R$257,MATCH('נתוני 2014'!$E4,Sheet2!$J$2:$J$257,0),4) -> 1.56935 | H4: =F4-B4 -> 0 | J4: 8
A5: אום אל-פחם | B5: 2 | C5: -1.315 | D5: 51.4 | E5: 2710 | F5: =INDEX(Sheet2!$J$2:$R$257,MATCH('נתוני 2014'!$E5,Sheet2!$J$2:$J$257,0),6) -> 2 | G5: =INDEX(Sheet2!$J$2:$R$257,MATCH('נתוני 2014'!$E5,Sheet2!$J$2:$J$257,0),4) -> -1.29418 | H5: =F5-B5 -> 0 | J5: 2
A6: אופקים | B6: 3 | C6: -0.762 | D6: 25.3 | E6: 31 | F6: =INDEX(Sheet2!$J$2:$R$257,MATCH('נתוני 2014'!$E6,Sheet2!$J$2:$J$257,0),6) -> 3 | G6: =INDEX(Sheet2!$J$2:$R$257,MATCH('נתוני 2014'!$E6,Sheet2!$J$2:$J$257,0),4) -> -0.75719 | H6: =F6-B6 -> 0 | J6: 3
A7: אור יהודה | B7: 5 | C7: -0.1 | D7: 35.9 | E7: 2400 | F7: =INDEX(Sheet2!$J$2:$R$257,MATCH('נתוני 2014'!$E7,Sheet2!$J$2:$J$257,0),6) -> 5 | G7: =INDEX(Sheet2!$J$2:$R$257,MATCH('נתוני 2014'!$E7,Sheet2!$J$2:$J$257,0),4) -> 0.13258 | H7: =F7-B7 -> 0 | J7: 5
A8: אור עקיבא | B8: 4 | C8: -0.323 | D8: 16.8 | E8: 1020 | F8: =INDEX(Sheet2!$J$2:$R$257,MATCH('נתוני 2014'!$E8,Sheet2!$J$2:$J$257,0),6) -> 5 | G8: =INDEX(Sheet2!$J$2:$R$257,MATCH('נתוני 2014'!$E8,Sheet2!$J$2:$J$257,0),4) -> -0.09731 | H8: =F8-B8 -> 1 | I8: =G8-C8 -> 0.22569 | J8: 5
A9: אורנית | B9: 8 | C9: 1.435 | D9: 8.1 | E9: 3760 | F9: =INDEX(Sheet2!$J$2:$R$257,MATCH('נתוני 2014'!$E9,Sheet2!$J$2:$J$257,0),6) -> 8 | G9: =INDEX(Sheet2!$J$2:$R$257,MATCH('נתוני 2014'!$E9,Sheet2!$J$2:$J$257,0),4) -> 1.32136 | H9: =F9-B9 -> 0 | J9: 8
A10: אזור | B10: 6 | C10: 0.692 | D10: 12 | E10: 565 | F10: =INDEX(Sheet2!$J$2:$R$257,MATCH('נתוני 2014'!$E10,Sheet2!$J$2:$J$257,0),6) -> 7 | G10: =INDEX(Sheet2!$J$2:$R$257,MATCH('נתוני 2014'!$E10,Sheet2!$J$2:$J$257,0),4) -> 0.64348 | H10: =F10-B10 -> 1 | I10: =G10-C10 -> -0.04852 | J10: 6
A11: אילת | B11: 5 | C11: 0.223 | D11: 48.9 | E11: 2600 | F11: =INDEX(Sheet2!$J$2:$R$257,MATCH('נתוני 2014'!$E11,Sheet2!$J$2:$J$257,0),6) -> 6 | G11: =INDEX(Sheet2!$J$2:$R$257,MATCH('נתוני 2014'!$E11,Sheet2!$J$2:$J$257,0),4) -> 0.2468 | H11: =F11-B11 -> 1 | I11: =G11-C11 -> 0.0238 | J11: 5
A12: אכסאל | B12: 2 | C12: -1.149 | D12: 13.4 | E12: 478 | F12: =INDEX(Sheet2!$J$2:$R$257,MATCH('נתוני 2014'!$E12,Sheet2!$J$2:$J$257,0),6) -> 3 | G12: =INDEX(Sheet2!$J$2:$R$257,MATCH('נתוני 2014'!$E12,Sheet2!$J$2:$J$257,0),4) -> -0.74358 | H12: =F12-B12 -> 1 | I12: =G12-C12 -> 0.40542 | J12: 3
A13: אל-בטוף | B13: 1 | C13: -1.79 | D13: 7.3 | E13: 65 | F13: =INDEX(Sheet2!$J$2:$R$257,MATCH('נתוני 2014'!$E13,Sheet2!$J$2:$J$257,0),6) -> 5 | G13: =INDEX(Sheet2!$J$2:$R$257,MATCH('נתוני 2014'!$E13,Sheet2!$J$2:$J$257,0),4) -> -0.08407 | H13: =F13-B13 -> 4 | I13: =G13-C13 -> 1.70593 | J13: 5
A14: אל קסום | B14: 1 | D14: 8.5 | E14: 69 | F14: =INDEX(Sheet2!$J$2:$R$257,MATCH('נתוני 2014'!$E14+10000,Sheet2!$J$2:$J$257,0),6) -> 1 | G14: =INDEX(Sheet2!$J$2:$R$257,MATCH('נתוני 2014'!$E14+10000,Sheet2!$J$2:$J$257,0),4) -> -1.902 | H14: =F14-B14 -> 0 | J14: 1
A15: אלונה | B15: 7 | C15: 0.98 | D15: 2.2 | E15: 45 | F15: =INDEX(Sheet2!$J$2:$R$257,MATCH('נתוני 2014'!$E15+10000,Sheet2!$J$2:$J$257,0),6) -> 8 | G15: =INDEX(Sheet2!$J$2:$R$257,MATCH('נתוני 2014'!$E15+10000,Sheet2!$J$2:$J$257,0),4) -> 1.06673 | H15: =F15-B15 -> 1 | I15: =G15-C15 -> 0.08673 | J15: 7
A16: אליכין | B16: 5 | C16: 0.322 | D16: 3.4 | E16: 41 | F16: =INDEX(Sheet2!$J$2:$R$257,MATCH('נתוני 2014'!$E16,Sheet2!$J$2:$J$257,0),6) -> 6 | G16: =INDEX(Sheet2!$J$2:$R$257,MATCH('נתוני 2014'!$E16,Sheet2!$J$2:$J$257,0),4) -> 0.24412 | H16: =F16-B16 -> 1 | I16: =G16-C16 -> -0.07788 | J16: 5
A17: אלעד | B17: 2 | C17: -1.212 | D17: 43.6 | E17: 1309 | F17: =INDEX(Sheet2!$J$2:$R$257,MATCH('נתוני 2014'!$E17,Sheet2!$J$2:$J$257,0),6) -> 2 | G17: =INDEX(Sheet2!$J$2:$R$257,MATCH('נתוני 2014'!$E17,Sheet2!$J$2:$J$257,0),4) -> -1.49305 | H17: =F17-B17 -> 0 | J17: 2
A18: אלפי מנשה | B18: 8 | C18: 1.327 | D18: 7.6 | E18: 3750 | F18: =INDEX(Sheet2!$J$2:$R$257,MATCH('נתוני 2014'!$E18,Sheet2!$J$2:$J$257,0),6) -> 8 | G18: =INDEX(Sheet2!$J$2:$R$257,MATCH('נתוני 2014'!$E18,Sheet2!$J$2:$J$257,0),4) -> 1.16735 | H18: =F18-B18 -> 0 | J18: 8
A19: אלקנה | B19: 8 | C19: 1.542 | D19: 3.9 | E19: 3560 | F19: =INDEX(Sheet2!$J$2:$R$257,MATCH('נתוני 2014'!$E19,Sheet2!$J$2:$J$257,0),6) -> 7 | G19: =INDEX(Sheet2!$J$2:$R$257,MATCH('נתוני 2014'!$E19,Sheet2!$J$2:$J$257,0),4) -> 0.88766 | H19: =F19-B19 -> -1 | I19: =G19-C19 -> -0.65434 | J19: 7
A20: אעבלין | B20: 3 | C20: -0.834 | D20: 12.5 | E20: 529 | F20: =INDEX(Sheet2!$J$2:$R$257,MATCH('נתוני 2014'!$E20,Sheet2!$J$2:$J$257,0),6) -> 3 | G20: =INDEX(Sheet2!$J$2:$R$257,MATCH('נתוני 2014'!$E20,Sheet2!$J$2:$J$257,0),4) -> -0.7899 | H20: =F20-B20 -> 0 | J20: 3
A21: אפרת | B21: 7 | C21: 0.985 | D21: 8.1 | E21: 3650 | F21: =INDEX(Sheet2!$J$2:$R$257,MATCH('נתוני 2014'!$E21,Sheet2!$J$2:$J$257,0),6) -> 6 | G21: =INDEX(Sheet2!$J$2:$R$257,MATCH('נתוני 2014'!$E21,Sheet2!$J$2:$J$257,0),4) -> 0.45991 | H21: =F21-B21 -> -1 | I21: =G21-C21 -> -0.52509 | J21: 6
A22: אריאל | B22: 5 | C22: 0.244 | D22: 18.4 | E22: 3570 | F22: =INDEX(Sheet2!$J$2:$R$257,MATCH('נתוני 2014'!$E22,Sheet2!$J$2:$J$257,0),6) -> 6 | G22: =INDEX(Sheet2!$J$2:$R$257,MATCH('נתוני 2014'!$E22,Sheet2!$J$2:$J$257,0),4) -> 0.37779 | H22: =F22-B22 -> 1 | I22: =G22-C22 -> 0.13379 | J22: 5
A23: אשדוד | B23: 5 | C23: -0.104 | D23: 218 | E23: 70 | F23: =INDEX(Sheet2!$J$2:$R$257,MATCH('נתוני 2014'!$E23,Sheet2!$J$2:$J$257,0),6) -> 5 | G23: =INDEX(Sheet2!$J$2:$R$257,MATCH('נתוני 2014'!$E23,Sheet2!$J$2:$J$257,0),4) -> -0.10874 | H23: =F23-B23 -> 0 | J23: 5
A24: אשכול | B24: 6 | C24: 0.445 | D24: 12.8 | E24: 38 | F24: =INDEX(Sheet2!$J$2:$R$257,MATCH('נתוני 2014'!$E24+10000,Sheet2!$J$2:$J$257,0),6) -> 6 | G24: =INDEX(Sheet2!$J$2:$R$257,MATCH('נתוני 2014'!$E24+10000,Sheet2!$J$2:$J$257,0),4) -> 0.42414 | H24: =F24-B24 -> 0 | J24: 5
A25: אשקלון | B25: 5 | C25: 0.015 | D25: 126.8 | E25: 7100 | F25: =INDEX(Sheet2!$J$2:$R$257,MATCH('נתוני 2014'!$E25,Sheet2!$J$2:$J$257,0),6) -> 5 | G25: =INDEX(Sheet2!$J$2:$R$257,MATCH('נתוני 2014'!$E25,Sheet2!$J$2:$J$257,0),4) -> -0.03155 | H25: =F25-B25 -> 0 | J25: 5
A26: באקה אל-גרביה | B26: 3 | C26: -0.872 | D26: 27.5 | E26: 6000 | F26: =INDEX(Sheet2!$J$2:$R$257,MATCH('נתוני 2014'!$E26,Sheet2!$J$2:$J$257,0),6) -> 3 | G26: =INDEX(Sheet2!$J$2:$R$257,MATCH('נתוני 2014'!$E26,Sheet2!$J$2:$J$257,0),4) -> -0.73625 | H26: =F26-B26 -> 0 | J26: 3
A27: באר טוביה | B27: 6 | C27: 0.715 | D27: 21.9 | E27: 33 | F27: =INDEX(Sheet2!$J$2:$R$257,MATCH('נתוני 2014'!$E27+10000,Sheet2!$J$2:$J$257,0),6) -> 7 | G27: =INDEX(Sheet2!$J$2:$R$257,MATCH('נתוני 2014'!$E27+10000,Sheet2!$J$2:$J$257,0),4) -> 0.79929 | H27: =F27-B27 -> 1 | I27: =G27-C27 -> 0.08429 | J27: 7
A28: באר יעקב | B28: 6 | C28: 0.587 | D28: 17.6 | E28: 2530 | F28: =INDEX(Sheet2!$J$2:$R$257,MATCH('נתוני 2014'!$E28,Sheet2!$J$2:$J$257,0),6) -> 7 | G28: =INDEX(Sheet2!$J$2:$R$257,MATCH('נתוני 2014'!$E28,Sheet2!$J$2:$J$257,0),4) -> 0.62234 | H28: =F28-B28 -> 1 | I28: =G28-C28 -> 0.03534 | J28: 6
A29: באר שבע | B29: 5 | C29: 0.172 | D29: 201.1 | E29: 9000 | F29: =INDEX(Sheet2!$J$2:$R$257,MATCH('נתוני 2014'!$E29,Sheet2!$J$2:$J$257,0),6) -> 5 | G29: =INDEX(Sheet2!$J$2:$R$257,MATCH('נתוני 2014'!$E29,Sheet2!$J$2:$J$257,0),4) -> 0.03537 | H29: =F29-B29 -> 0 | J29: 5
A30: בוסתן אל-מרג' | B30: 2 | C30: -1.171 | D30: 7.3 | E30: 66 | F30: =INDEX(Sheet2!$J$2:$R$257,MATCH('נתוני 2014'!$E30+10000,Sheet2!$J$2:$J$257,0),6) -> 2 | G30: =INDEX(Sheet2!$J$2:$R$257,MATCH('נתוני 2014'!$E30+10000,Sheet2!$J$2:$J$257,0),4) -> -0.94461 | H30: =F30-B30 -> 0 | J30: 3
A31: בועיינה-נוג'ידאת | B31: 2 | C31: -1.174 | D31: 8.9 | E31: 482 | F31: =INDEX(Sheet2!$J$2:$R$257,MATCH('נתוני 2014'!$E31,Sheet2!$J$2:$J$257,0),6) -> 2 | G31: =INDEX(Sheet2!$J$2:$R$257,MATCH('נתוני 2014'!$E31,Sheet2!$J$2:$J$257,0),4) -> -1.08386 | H31: =F31-B31 -> 0 | J31: 2
A32: בוקעאתא | B32: 2 | C32: -1.507 | D32: 6.2 | E32: 4001 | F32: =INDEX(Sheet2!$J$2:$R$257,MATCH('נתוני 2014'!$E32,Sheet2!$J$2:$J$257,0),6) -> 2 | G32: =INDEX(Sheet2!$J$2:$R$257,MATCH('נתוני 2014'!$E32,Sheet2!$J$2:$J$257,0),4) -> -1.06215 | H32: =F32-B32 -> 0 | J32: 2
A33: ביר אל-מכסור | B33: 2 | C33: -1.251 | D33: 8.5 | E33: 998 | F33: =INDEX(Sheet2!$J$2:$R$257,MATCH('נתוני 2014'!$E33,Sheet2!$J$2:$J$257,0),6) -> 2 | G33: =INDEX(Sheet2!$J$2:$R$257,MATCH('נתוני 2014'!$E33,Sheet2!$J$2:$J$257,0),4) -> -1.23809 | H33: =F33-B33 -> 0 | J33: 2
A34: בית אל | B34: 5 | C34: 0.069 | D34: 6 | E34: 3574 | F34: =INDEX(Sheet2!$J$2:$R$257,MATCH('נתוני 2014'!$E34,Sheet2!$J$2:$J$257,0),6) -> 3 | G34: =INDEX(Sheet2!$J$2:$R$257,MATCH('נתוני 2014'!$E34,Sheet2!$J$2:$J$257,0),4) -> -0.80715 | H34: =F34-B34 -> -2 | I34: =G34-C34 -> -0.87615 | J34: 3
A35: בית אריה | B35: 7 | C35: 0.869 | D35: 4.5 | E35: 3652 | F35: =INDEX(Sheet2!$J$2:$R$257,MATCH('נתוני 2014'!$E35,Sheet2!$J$2:$J$257,0),6) -> 7 | G35: =INDEX(Sheet2!$J$2:$R$257,MATCH('נתוני 2014'!$E35,Sheet2!$J$2:$J$257,0),4) -> 0.86942 | H35: =F35-B35 -> 0 | J35: 7
A36: בית ג'ן | B36: 2 | C36: -1.108 | D36: 11.3 | E36: 480 | F36: =INDEX(Sheet2!$J$2:$R$257,MATCH('נתוני 2014'!$E36,Sheet2!$J$2:$J$257,0),6) -> 3 | G36: =INDEX(Sheet2!$J$2:$R$257,MATCH('נתוני 2014'!$E36,Sheet2!$J$2:$J$257,0),4) -> -0.69495 | H36: =F36-B36 -> 1 | I36: =G36-C36 -> 0.41305 | J36: 3
A37: בית דגן | B37: 7 | C37: 0.969 | D37: 7.1 | E37: 466 | F37: =INDEX(Sheet2!$J$2:$R$257,MATCH('נתוני 2014'!$E37,Sheet2!$J$2:$J$257,0),6) -> 7 | G37: =INDEX(Sheet2!$J$2:$R$257,MATCH('נתוני 2014'!$E37,Sheet2!$J$2:$J$257,0),4) -> 0.61457 | H37: =F37-B37 -> 0 | J37: 6
A38: בית שאן | B38: 4 | C38: -0.336 | D38: 17.3 | E38: 9200 | F38: =INDEX(Sheet2!$J$2:$R$257,MATCH('נתוני 2014'!$E38,Sheet2!$J$2:$J$257,0),6) -> 4 | G38: =INDEX(Sheet2!$J$2:$R$257,MATCH('נתוני 2014'!$E38,Sheet2!$J$2:$J$257,0),4) -> -0.27677 | H38: =F38-B38 -> 0 | J38: 4
A39: בית שמש | B39: 3 | C39: -0.705 | D39: 98.1 | E39: 2610 | F39: =INDEX(Sheet2!$J$2:$R$257,MATCH('נתוני 2014'!$E39,Sheet2!$J$2:$J$257,0),6) -> 2 | G39: =INDEX(Sheet2!$J$2:$R$257,MATCH('נתוני 2014'!$E39,Sheet2!$J$2:$J$257,0),4) -> -1.14924 | H39: =F39-B39 -> -1 | I39: =G39-C39 -> -0.44424 | J39: 2
A40: ביתר עילית | B40: 1 | C40: -1.659 | D40: 46.9 | E40: 3780 | F40: =INDEX(Sheet2!$J$2:$R$257,MATCH('נתוני 2014'!$E40,Sheet2!$J$2:$J$257,0),6) -> 1 | G40: =INDEX(Sheet2!$J$2:$R$257,MATCH('נתוני 2014'!$E40,Sheet2!$J$2:$J$257,0),4) -> -1.9504 | H40: =F40-B40 -> 0 | J40: 1
A41: בני ברק | B41: 3 | C41: -0.869 | D41: 178.3 | E41: 6100 | F41: =INDEX(Sheet2!$J$2:$R$257,MATCH('נתוני 2014'!$E41,Sheet2!$J$2:$J$257,0),6) -> 2 | G41: =INDEX(Sheet2!$J$2:$R$257,MATCH('נתוני 2014'!$E41,Sheet2!$J$2:$J$257,0),4) -> -1.30407 | H41: =F41-B41 -> -1 | I41: =G41-C41 -> -0.43507 | J41: 2
A42: בני עי"ש | B42: 5 | C42: 0.099 | D42: 6.9 | E42: 1066 | F42: =INDEX(Sheet2!$J$2:$R$257,MATCH('נתוני 2014'!$E42,Sheet2!$J$2:$J$257,0),6) -> 5 | G42: =INDEX(Sheet2!$J$2:$R$257,MATCH('נתוני 2014'!$E42,Sheet2!$J$2:$J$257,0),4) -> 0.14164 | H42: =F42-B42 -> 0 | J42: 5
A43: בני שמעון | B43: 7 | C43: 0.868 | D43: 8.5 | E43: 41 | F43: =INDEX(Sheet2!$J$2:$R$257,MATCH('נתוני 2014'!$E43,Sheet2!$J$2:$J$257,0),6) -> 6 | G43: =INDEX(Sheet2!$J$2:$R$257,MATCH('נתוני 2014'!$E43,Sheet2!$J$2:$J$257,0),4) -> 0.24412 | H43: =F43-B43 -> -1 | I43: =G43-C43 -> -0.62388 | J43: 5
A44: בנימינה-גבעת עדה* | B44: 8 | C44: 1.384 | D44: 14.5 | E44: 9800 | F44: =INDEX(Sheet2!$J$2:$R$257,MATCH('נתוני 2014'!$E44,Sheet2!$J$2:$J$257,0),6) -> 8 | G44: =INDEX(Sheet2!$J$2:$R$257,MATCH('נתוני 2014'!$E44,Sheet2!$J$2:$J$257,0),4) -> 1.3008 | H44: =F44-B44 -> 0 | J44: 8
A45: בסמ"ה | B45: 2 | C45: -1.215 | D45: 8.7 | E45: 1326 | F45: =INDEX(Sheet2!$J$2:$R$257,MATCH('נתוני 2014'!$E45,Sheet2!$J$2:$J$257,0),6) -> 2 | G45: =INDEX(Sheet2!$J$2:$R$257,MATCH('נתוני 2014'!$E45,Sheet2!$J$2:$J$257,0),4) -> -1.10693 | H45: =F45-B45 -> 0 | J45: 2
A46: בסמת טבעון | B46: 2 | C46: -1.044 | D46: 7.3 | E46: 944 | F46: =INDEX(Sheet2!$J$2:$R$257,MATCH('נתוני 2014'!$E46,Sheet2!$J$2:$J$257,0),6) -> 2 | G46: =INDEX(Sheet2!$J$2:$R$257,MATCH('נתוני 2014'!$E46,Sheet2!$J$2:$J$257,0),4) -> -0.96703 | H46: =F46-B46 -> 0 | J46: 3
A47: בענה | B47: 2 | C47: -1.405 | D47: 7.8 | E47: 483 | F47: =INDEX(Sheet2!$J$2:$R$257,MATCH('נתוני 2014'!$E47,Sheet2!$J$2:$J$257,0),6) -> 2 | G47: =INDEX(Sheet2!$J$2:$R$257,MATCH('נתוני 2014'!$E47,Sheet2!$J$2:$J$257,0),4) -> -1.19349 | H47: =F47-B47 -> 0 | J47: 2
A48: ברנר | B48: 8 | C48: 1.226 | D48: 7.5 | E48: 28 | F48: =INDEX(Sheet2!$J$2:$R$257,MATCH('נתוני 2014'!$E48,Sheet2!$J$2:$J$257,0),6) -> 8 | G48: =INDEX(Sheet2!$J$2:$R$257,MATCH('נתוני 2014'!$E48,Sheet2!$J$2:$J$257,0),4) -> 1.1924 | H48: =F48-B48 -> 0 | J48: 8
A49: בת ים | B49: 5 | C49: -0.04 | D49: 128.5 | E49: 6200 | F49: =INDEX(Sheet2!$J$2:$R$257,MATCH('נתוני 2014'!$E49,Sheet2!$J$2:$J$257,0),6) -> 5 | G49: =INDEX(Sheet2!$J$2:$R$257,MATCH('נתוני 2014'!$E49,Sheet2!$J$2:$J$257,0),4) -> -0.02531 | H49: =F49-B49 -> 0 | J49: 5
A50: ג'דיידה-מכר | B50: 2 | C50: -1.023 | D50: 19.7 | E50: 1292 | F50: =INDEX(Sheet2!$J$2:$R$257,MATCH('נתוני 2014'!$E50,Sheet2!$J$2:$J$257,0),6) -> 2 | G50: =INDEX(Sheet2!$J$2:$R$257,MATCH('נתוני 2014'!$E50,Sheet2!$J$2:$J$257,0),4) -> -1.08383 | H50: =F50-B50 -> 0 | J50: 2
A51: ג'ולס | B51: 3 | C51: -0.844 | D51: 6 | E51: 485 | F51: =INDEX(Sheet2!$J$2:$R$257,MATCH('נתוני 2014'!$E51,Sheet2!$J$2:$J$257,0),6) -> 4 | G51: =INDEX(Sheet2!$J$2:$R$257,MATCH('נתוני 2014'!$E51,Sheet2!$J$2:$J$257,0),4) -> -0.42331 | H51: =F51-B51 -> 1 | I51: =G51-C51 -> 0.42069 | J51: 4
A52: ג'לג'וליה | B52: 2 | C52: -1.462 | D52: 9.2 | E52: 627 | F52: =INDEX(Sheet2!$J$2:$R$257,MATCH('נתוני 2014'!$E52,Sheet2!$J$2:$J$257,0),6) -> 2 | G52: =INDEX(Sheet2!$J$2:$R$257,MATCH('נתוני 2014'!$E52,Sheet2!$J$2:$J$257,0),4) -> -1.10409 | H52: =F52-B52 -> 0 | J52: 2
A53: ג'סר א-זרקא | B53: 1 | C53: -1.69 | D53: 13.7 | E53: 541 | F53: =INDEX(Sheet2!$J$2:$R$257,MATCH('נתוני 2014'!$E53,Sheet2!$J$2:$J$257,0),6) -> 2 | G53: =INDEX(Sheet2!$J$2:$R$257,MATCH('נתוני 2014'!$E53,Sheet2!$J$2:$J$257,0),4) -> -1.50929 | H53: =F53-B53 -> 1 | I53: =G53-C53 -> 0.18071 | J53: 2
A54: ג'ש (גוש חלב) | B54: 5 | C54: 0.105 | D54: 3 | E54: 487 | F54: =INDEX(Sheet2!$J$2:$R$257,MATCH('נתוני 2014'!$E54,Sheet2!$J$2:$J$257,0),6) -> 6 | G54: =INDEX(Sheet2!$J$2:$R$257,MATCH('נתוני 2014'!$E54,Sheet2!$J$2:$J$257,0),4) -> 0.22347 | H54: =F54-B54 -> 1 | I54: =G54-C54 -> 0.11847 | J54: 5
A55: ג'ת | B55: 3 | C55: -0.814 | D55: 10.9 | E55: 628 | F55: =INDEX(Sheet2!$J$2:$R$257,MATCH('נתוני 2014'!$E55,Sheet2!$J$2:$J$257,0),6) -> 4 | G55: =INDEX(Sheet2!$J$2:$R$257,MATCH('נתוני 2014'!$E55,Sheet2!$J$2:$J$257,0),4) -> -0.42462 | H55: =F55-B55 -> 1 | I55: =G55-C55 -> 0.38938 | J55: 4
A56: גבעת זאב | B56: 5 | C56: 0.107 | D56: 15.1 | E56: 3730 | F56: =INDEX(Sheet2!$J$2:$R$257,MATCH('נתוני 2014'!$E56,Sheet2!$J$2:$J$257,0),6) -> 6 | G56: =INDEX(Sheet2!$J$2:$R$257,MATCH('נתוני 2014'!$E56,Sheet2!$J$2:$J$257,0),4) -> 0.21665 | H56: =F56-B56 -> 1 | I56: =G56-C56 -> 0.10965 | J56: 5
A57: גבעת שמואל | B57: 8 | C57: 1.371 | D57: 24.7 | E57: 681 | F57: =INDEX(Sheet2!$J$2:$R$257,MATCH('נתוני 2014'!$E57,Sheet2!$J$2:$J$257,0),6) -> 8 | G57: =INDEX(Sheet2!$J$2:$R$257,MATCH('נתוני 2014'!$E57,Sheet2!$J$2:$J$257,0),4) -> 1.1237 | H57: =F57-B57 -> 0 | J57: 8
A58: גבעתיים | B58: 8 | C58: 1.497 | D58: 56.8 | E58: 6300 | F58: =INDEX(Sheet2!$J$2:$R$257,MATCH('נתוני 2014'!$E58,Sheet2!$J$2:$J$257,0),6) -> 8 | G58: =INDEX(Sheet2!$J$2:$R$257,MATCH('נתוני 2014'!$E58,Sheet2!$J$2:$J$257,0),4) -> 1.4174 | H58: =F58-B58 -> 0 | J58: 8
A59: גדרה | B59: 6 | C59: 0.637 | D59: 25.8 | E59: 2550 | F59: =INDEX(Sheet2!$J$2:$R$257,MATCH('נתוני 2014'!$E59,Sheet2!$J$2:$J$257,0),6) -> 7 | G59: =INDEX(Sheet2!$J$2:$R$257,MATCH('נתוני 2014'!$E59,Sheet2!$J$2:$J$257,0),4) -> 0.68309 | H59: =F59-B59 -> 1 | I59: =G59-C59 -> 0.04609 | J59: 6
A60: גדרות | B60: 8 | C60: 1.44 | D60: 5 | E60: 32 | F60: =INDEX(Sheet2!$J$2:$R$257,MATCH('נתוני 2014'!$E60+10000,Sheet2!$J$2:$J$257,0),6) -> 9 | G60: =INDEX(Sheet2!$J$2:$R$257,MATCH('נתוני 2014'!$E60+10000,Sheet2!$J$2:$J$257,0),4) -> 1.66098 | H60: =F60-B60 -> 1 | I60: =G60-C60 -> 0.22098 | J60: 8
A61: גולן | B61: 6 | C61: 0.538 | D61: 15.1 | E61: 71 | F61: =INDEX(Sheet2!$J$2:$R$257,MATCH('נתוני 2014'!$E61+10000,Sheet2!$J$2:$J$257,0),6) -> 6 | G61: =INDEX(Sheet2!$J$2:$R$257,MATCH('נתוני 2014'!$E61+10000,Sheet2!$J$2:$J$257,0),4) -> 0.3027 | H61: =F61-B61 -> 0 | J61: 5
A62: גוש עציון | B62: 5 | C62: 0.242 | D62: 21.2 | E62: 76 | F62: =INDEX(Sheet2!$J$2:$R$257,MATCH('נתוני 2014'!$E62+10000,Sheet2!$J$2:$J$257,0),6) -> 5 | G62: =INDEX(Sheet2!$J$2:$R$257,MATCH('נתוני 2014'!$E62+10000,Sheet2!$J$2:$J$257,0),4) -> -0.03058 | H62: =F62-B62 -> 0 | J62: 5
A63: גזר | B63: 7 | C63: 0.942 | D63: 24.9 | E63: 30 | F63: =INDEX(Sheet2!$J$2:$R$257,MATCH('נתוני 2014'!$E63+10000,Sheet2!$J$2:$J$257,0),6) -> 8 | G63: =INDEX(Sheet2!$J$2:$R$257,MATCH('נתוני 2014'!$E63+10000,Sheet2!$J$2:$J$257,0),4) -> 1.04605 | H63: =F63-B63 -> 1 | I63: =G63-C63 -> 0.10405 | J63: 7
A64: גן יבנה | B64: 6 | C64: 0.526 | D64: 21.8 | E64: 166 | F64: =INDEX(Sheet2!$J$2:$R$257,MATCH('נתוני 2014'!$E64,Sheet2!$J$2:$J$257,0),6) -> 7 | G64: =INDEX(Sheet2!$J$2:$R$257,MATCH('נתוני 2014'!$E64,Sheet2!$J$2:$J$257,0),4) -> 0.7369 | H64: =F64-B64 -> 1 | I64: =G64-C64 -> 0.2109 | J64: 6
A65: גן רווה | B65: 8 | C65: 1.366 | D65: 5.5 | E65: 27 | F65: =INDEX(Sheet2!$J$2:$R$257,MATCH('נתוני 2014'!$E65+10000,Sheet2!$J$2:$J$257,0),6) -> 8 | G65: =INDEX(Sheet2!$J$2:$R$257,MATCH('נתוני 2014'!$E65+10000,Sheet2!$J$2:$J$257,0),4) -> 1.4302 | H65: =F65-B65 -> 0 | J65: 8
A66: גני תקווה | B66: 8 | C66: 1.214 | D66: 15.6 | E66: 229 | F66: =INDEX(Sheet2!$J$2:$R$257,MATCH('נתוני 2014'!$E66,Sheet2!$J$2:$J$257,0),6) -> 8 | G66: =INDEX(Sheet2!$J$2:$R$257,MATCH('נתוני 2014'!$E66,Sheet2!$J$2:$J$257,0),4) -> 1.3311 | H66: =F66-B66 -> 0 | J66: 8
A67: דאלית אל-כרמל | B67: 3 | C67: -0.683 | D67: 16.6 | E67: 494 | F67: =INDEX(Sheet2!$J$2:$R$257,MATCH('נתוני 2014'!$E67,Sheet2!$J$2:$J$257,0),6) -> 4 | G67: =INDEX(Sheet2!$J$2:$R$257,MATCH('נתוני 2014'!$E67,Sheet2!$J$2:$J$257,0),4) -> -0.28157 | H67: =F67-B67 -> 1 | I67: =G67-C67 -> 0.40143 | J67: 4
A68: דבורייה | B68: 2 | C68: -1.081 | D68: 9.7 | E68: 489 | F68: =INDEX(Sheet2!$J$2:$R$257,MATCH('נתוני 2014'!$E68,Sheet2!$J$2:$J$257,0),6) -> 3 | G68: =INDEX(Sheet2!$J$2:$R$257,MATCH('נתוני 2014'!$E68,Sheet2!$J$2:$J$257,0),4) -> -0.65462 | H68: =F68-B68 -> 1 | I68: =G68-C68 -> 0.42638 | J68: 3
A69: דייר אל-אסד | B69: 2 | C69: -1.255 | D69: 11.5 | E69: 490 | F69: =INDEX(Sheet2!$J$2:$R$257,MATCH('נתוני 2014'!$E69,Sheet2!$J$2:$J$257,0),6) -> 3 | G69: =INDEX(Sheet2!$J$2:$R$257,MATCH('נתוני 2014'!$E69,Sheet2!$J$2:$J$257,0),4) -> -0.77222 | H69: =F69-B69 -> 1 | I69: =G69-C69 -> 0.48278 | J69: 3
A70: דייר חנא | B70: 3 | C70: -0.923 | D70: 9.6 | E70: 492 | F70: =INDEX(Sheet2!$J$2:$R$257,MATCH('נתוני 2014'!$E70,Sheet2!$J$2:$J$257,0),6) -> 3 | G70: =INDEX(Sheet2!$J$2:$R$257,MATCH('נתוני 2014'!$E70,Sheet2!$J$2:$J$257,0),4) -> -0.7698 | H70: =F70-B70 -> 0 | J70: 3
A71: דימונה | B71: 4 | C71: -0.212 | D71: 33.2 | E71: 2200 | F71: =INDEX(Sheet2!$J$2:$R$257,MATCH('נתוני 2014'!$E71,Sheet2!$J$2:$J$257,0),6) -> 4 | G71: =INDEX(Sheet2!$J$2:$R$257,MATCH('נתוני 2014'!$E71,Sheet2!$J$2:$J$257,0),4) -> -0.23492 | H71: =F71-B71 -> 0 | J71: 4
A72: דרום השרון | B72: 8 | C72: 1.254 | D72: 30.2 | E72: 20 | F72: =INDEX(Sheet2!$J$2:$R$257,MATCH('נתוני 2014'!$E72+10000,Sheet2!$J$2:$J$257,0),6) -> 8 | G72: =INDEX(Sheet2!$J$2:$R$257,MATCH('נתוני 2014'!$E72+10000,Sheet2!$J$2:$J$257,0),4) -> 1.44598 | H72: =F72-B72 -> 0 | J72: 8
A73: הגלבוע | B73: 5 | C73: 0.026 | D73: 28.3 | E73: 8 | F73: =INDEX(Sheet2!$J$2:$R$257,MATCH('נתוני 2014'!$E73+10000,Sheet2!$J$2:$J$257,0),6) -> 5 | G73: =INDEX(Sheet2!$J$2:$R$257,MATCH('נתוני 2014'!$E73+10000,Sheet2!$J$2:$J$257,0),4) -> -0.05327 | H73: =F73-B73 -> 0 | J73: 5
A74: הגליל העליון | B74: 6 | C74: 0.577 | D74: 17 | E74: 1 | F74: =INDEX(Sheet2!$J$2:$R$257,MATCH('נתוני 2014'!$E74+10000,Sheet2!$J$2:$J$257,0),6) -> 6 | G74: =INDEX(Sheet2!$J$2:$R$257,MATCH('נתוני 2014'!$E74+10000,Sheet2!$J$2:$J$257,0),4) -> 0.4067 | H74: =F74-B74 -> 0 | J74: 5
A75: הגליל התחתון | B75: 7 | C75: 0.812 | D75: 11.3 | E75: 3 | F75: =INDEX(Sheet2!$J$2:$R$257,MATCH('נתוני 2014'!$E75+10000,Sheet2!$J$2:$J$257,0),6) -> 6 | G75: =INDEX(Sheet2!$J$2:$R$257,MATCH('נתוני 2014'!$E75+10000,Sheet2!$J$2:$J$257,0),4) -> 0.48386 | H75: =F75-B75 -> -1 | I75: =G75-C75 -> -0.32814 | J75: 6
A76: הוד השרון | B76: 8 | C76: 1.539 | D76: 54.1 | E76: 9700 | F76: =INDEX(Sheet2!$J$2:$R$257,MATCH('נתוני 2014'!$E76,Sheet2!$J$2:$J$257,0),6) -> 8 | G76: =INDEX(Sheet2!$J$2:$R$257,MATCH('נתוני 2014'!$E76,Sheet2!$J$2:$J$257,0),4) -> 1.48543 | H76: =F76-B76 -> 0 | J76: 8
A77: הערבה התיכונה | B77: 7 | C77: 0.928 | D77: 3.1 | E77: 54 | F77: =INDEX(Sheet2!$J$2:$R$257,MATCH('נתוני 2014'!$E77+10000,Sheet2!$J$2:$J$257,0),6) -> 7 | G77: =INDEX(Sheet2!$J$2:$R$257,MATCH('נתוני 2014'!$E77+10000,Sheet2!$J$2:$J$257,0),4) -> 0.80346 | H77: =F77-B77 -> 0 | J77: 7
A78: הר אדר | B78: 9 | C78: 2.096 | D78: 3.8 | E78: 3769 | F78: =INDEX(Sheet2!$J$2:$R$257,MATCH('נתוני 2014'!$E78,Sheet2!$J$2:$J$257,0),6) -> 9 | G78: =INDEX(Sheet2!$J$2:$R$257,MATCH('נתוני 2014'!$E78,Sheet2!$J$2:$J$257,0),4) -> 1.93107 | H78: =F78-B78 -> 0 | J78: 9
A79: הר חברון | B79: 5 | C79: 0.035 | D79: 7.2 | E79: 78 | F79: =INDEX(Sheet2!$J$2:$R$257,MATCH('נתוני 2014'!$E79+10000,Sheet2!$J$2:$J$257,0),6) -> 4 | G79: =INDEX(Sheet2!$J$2:$R$257,MATCH('נתוני 2014'!$E79+10000,Sheet2!$J$2:$J$257,0),4) -> -0.31729 | H79: =F79-B79 -> -1 | I79: =G79-C79 -> -0.35229 | J79: 4
A80: הרצלייה | B80: 8 | C80: 1.304 | D80: 90.7 | E80: 6400 | F80: =INDEX(Sheet2!$J$2:$R$257,MATCH('נתוני 2014'!$E80,Sheet2!$J$2:$J$257,0),6) -> 8 | G80: =INDEX(Sheet2!$J$2:$R$257,MATCH('נתוני 2014'!$E80,Sheet2!$J$2:$J$257,0),4) -> 1.37345 | H80: =F80-B80 -> 0 | J80: 8
A81: זבולון | B81: 6 | C81: 0.682 | D81: 12.9 | E81: 12 | F81: =INDEX(Sheet2!$J$2:$R$257,MATCH('נתוני 2014'!$E81+10000,Sheet2!$J$2:$J$257,0),6) -> 6 | G81: =INDEX(Sheet2!$J$2:$R$257,MATCH('נתוני 2014'!$E81+10000,Sheet2!$J$2:$J$257,0),4) -> 0.20921 | H81: =F81-B81 -> 0 | J81: 5
A82: זכרון יעקב | B82: 8 | C82: 1.182 | D82: 22 | E82: 9300 | F82: =INDEX(Sheet2!$J$2:$R$257,MATCH('נתוני 2014'!$E82,Sheet2!$J$2:$J$257,0),6) -> 8 | G82: =INDEX(Sheet2!$J$2:$R$257,MATCH('נתוני 2014'!$E82,Sheet2!$J$2:$J$257,0),4) -> 1.24384 | H82: =F82-B82 -> 0 | J82: 8
A83: זמר | B83: 3 | C83: -0.778 | D83: 6.4 | E83: 1290 | F83: =INDEX(Sheet2!$J$2:$R$257,MATCH('נתוני 2014'!$E83,Sheet2!$J$2:$J$257,0),6) -> 3 | G83: =INDEX(Sheet2!$J$2:$R$257,MATCH('נתוני 2014'!$E83,Sheet2!$J$2:$J$257,0),4) -> -0.62617 | H83: =F83-B83 -> 0 | J83: 3
A84: זרזיר | B84: 2 | C84: -1.228 | D84: 7.2 | E84: 975 | F84: =INDEX(Sheet2!$J$2:$R$257,MATCH('נתוני 2014'!$E84,Sheet2!$J$2:$J$257,0),6) -> 2 | G84: =INDEX(Sheet2!$J$2:$R$257,MATCH('נתוני 2014'!$E84,Sheet2!$J$2:$J$257,0),4) -> -1.16518 | H84: =F84-B84 -> 0 | J84: 2
A85: חבל אילות | B85: 5 | C85: 0.053 | D85: 3.7 | E85: 53 | F85: =INDEX(Sheet2!$J$2:$R$257,MATCH('נתוני 2014'!$E85+10000,Sheet2!$J$2:$J$257,0),6) -> 5 | G85: =INDEX(Sheet2!$J$2:$R$257,MATCH('נתוני 2014'!$E85+10000,Sheet2!$J$2:$J$257,0),4) -> 0.072 | H85: =F85-B85 -> 0 | J85: 5
A86: חבל יבנה | B86: 7 | C86: 0.907 | D86: 6.4 | E86: 29 | F86: =INDEX(Sheet2!$J$2:$R$257,MATCH('נתוני 2014'!$E86,Sheet2!$J$2:$J$257,0),6) -> 8 | G86: =INDEX(Sheet2!$J$2:$R$257,MATCH('נתוני 2014'!$E86,Sheet2!$J$2:$J$257,0),4) -> 1.05324 | H86: =F86-B86 -> 1 | I86: =G86-C86 -> 0.14624 | J86: 7
A87: חבל מודיעין | B87: 7 | C87: 0.881 | D87: 22.8 | E87: 25 | F87: =INDEX(Sheet2!$J$2:$R$257,MATCH('נתוני 2014'!$E87+10000,Sheet2!$J$2:$J$257,0),6) -> 7 | G87: =INDEX(Sheet2!$J$2:$R$257,MATCH('נתוני 2014'!$E87+10000,Sheet2!$J$2:$J$257,0),4) -> 0.8203 | H87: =F87-B87 -> 0 | J87: 7
A88: חדרה | B88: 5 | C88: 0.288 | D88: 86.8 | E88: 6500 | F88: =INDEX(Sheet2!$J$2:$R$257,MATCH('נתוני 2014'!$E88,Sheet2!$J$2:$J$257,0),6) -> 6 | G88: =INDEX(Sheet2!$J$2:$R$257,MATCH('נתוני 2014'!$E88,Sheet2!$J$2:$J$257,0),4) -> 0.25483 | H88: =F88-B88 -> 1 | I88: =G88-C88 -> -0.03317 | J88: 5
A89: חולון | B89: 5 | C89: 0.389 | D89: 187.3 | E89: 6600 | F89: =INDEX(Sheet2!$J$2:$R$257,MATCH('נתוני 2014'!$E89,Sheet2!$J$2:$J$257,0),6) -> 6 | G89: =INDEX(Sheet2!$J$2:$R$257,MATCH('נתוני 2014'!$E89,Sheet2!$J$2:$J$257,0),4) -> 0.50914 | H89: =F89-B89 -> 1 | I89: =G89-C89 -> 0.12014 | J89: 6
A90: חוף אשקלון | B90: 6 | C90: 0.658 | D90: 15.6 | E90: 36 | F90: =INDEX(Sheet2!$J$2:$R$257,MATCH('נתוני 2014'!$E90+10000,Sheet2!$J$2:$J$257,0),6) -> 7 | G90: =INDEX(Sheet2!$J$2:$R$257,MATCH('נתוני 2014'!$E90+10000,Sheet2!$J$2:$J$257,0),4) -> 0.56097 | H90: =F90-B90 -> 1 | I90: =G90-C90 -> -0.09703 | J90: 6
A91: חוף הכרמל | B91: 8 | C91: 1.107 | D91: 28.5 | E91: 15 | F91: =INDEX(Sheet2!$J$2:$R$257,MATCH('נתוני 2014'!$E91+10000,Sheet2!$J$2:$J$257,0),6) -> 8 | G91: =INDEX(Sheet2!$J$2:$R$257,MATCH('נתוני 2014'!$E91+10000,Sheet2!$J$2:$J$257,0),4) -> 1.14771 | H91: =F91-B91 -> 0 | J91: 8
A92: חוף השרון | B92: 8 | C92: 1.247 | D92: 14.4 | E92: 19 | F92: =INDEX(Sheet2!$J$2:$R$257,MATCH('נתוני 2014'!$E92+10000,Sheet2!$J$2:$J$257,0),6) -> 8 | G92: =INDEX(Sheet2!$J$2:$R$257,MATCH('נתוני 2014'!$E92+10000,Sheet2!$J$2:$J$257,0),4) -> 1.54458 | H92: =F92-B92 -> 0 | J92: 8
A93: חורה | B93: 2 | C93: -1.311 | D93: 18.8 | E93: 1303 | F93: =INDEX(Sheet2!$J$2:$R$257,MATCH('נתוני 2014'!$E93,Sheet2!$J$2:$J$257,0),6) -> 1 | G93: =INDEX(Sheet2!$J$2:$R$257,MATCH('נתוני 2014'!$E93,Sheet2!$J$2:$J$257,0),4) -> -1.94836 | H93: =F93-B93 -> -1 | I93: =G93-C93 -> -0.63736 | J93: 1
A94: חורפיש | B94: 3 | C94: -0.691 | D94: 6 | E94: 496 | F94: =INDEX(Sheet2!$J$2:$R$257,MATCH('נתוני 2014'!$E94,Sheet2!$J$2:$J$257,0),6) -> 4 | G94: =INDEX(Sheet2!$J$2:$R$257,MATCH('נתוני 2014'!$E94,Sheet2!$J$2:$J$257,0),4) -> -0.44992 | H94: =F94-B94 -> 1 | I94: =G94-C94 -> 0.24108 | J94: 4
A95: חיפה | B95: 7 | C95: 0.77 | D95: 277.1 | E95: 4000 | F95: =INDEX(Sheet2!$J$2:$R$257,MATCH('נתוני 2014'!$E95,Sheet2!$J$2:$J$257,0),6) -> 7 | G95: =INDEX(Sheet2!$J$2:$R$257,MATCH('נתוני 2014'!$E95,Sheet2!$J$2:$J$257,0),4) -> 0.6519 | H95: =F95-B95 -> 0 | J95: 6
A96: חצור הגלילית | B96: 3 | C96: -0.703 | D96: 8.8 | E96: 2034 | F96: =INDEX(Sheet2!$J$2:$R$257,MATCH('נתוני 2014'!$E96,Sheet2!$J$2:$J$257,0),6) -> 4 | G96: =INDEX(Sheet2!$J$2:$R$257,MATCH('נתוני 2014'!$E96,Sheet2!$J$2:$J$257,0),4) -> -0.48998 | H96: =F96-B96 -> 1 | I96: =G96-C96 -> 0.21302 | J96: 4
A97: חריש | B97: 7 | C97: 0.853 | D97: 1 | E97: 1247 | F97: =INDEX(Sheet2!$J$2:$R$257,MATCH('נתוני 2014'!$E97,Sheet2!$J$2:$J$257,0),6) -> 3 | G97: =INDEX(Sheet2!$J$2:$R$257,MATCH('נתוני 2014'!$E97,Sheet2!$J$2:$J$257,0),4) -> -0.6589 | H97: =F97-B97 -> -4 | I97: =G97-C97 -> -1.5119 | J97: 3
A98: טבריה | B98: 4 | C98: -0.354 | D98: 42.3 | E98: 6700 | F98: =INDEX(Sheet2!$J$2:$R$257,MATCH('נתוני 2014'!$E98,Sheet2!$J$2:$J$257,0),6) -> 4 | G98: =INDEX(Sheet2!$J$2:$R$257,MATCH('נתוני 2014'!$E98,Sheet2!$J$2:$J$257,0),4) -> -0.37915 | H98: =F98-B98 -> 0 | J98: 4
A99: טובא-זנגרייה | B99: 2 | D99: 6.1 | E99: 962 | F99: =INDEX(Sheet2!$J$2:$R$257,MATCH('נתוני 2014'!$E99,Sheet2!$J$2:$J$257,0),6) -> 2 | G99: =INDEX(Sheet2!$J$2:$R$257,MATCH('נתוני 2014'!$E99,Sheet2!$J$2:$J$257,0),4) -> -0.994 | H99: =F99-B99 -> 0 | J99: 2
A100: טורעאן | B100: 3 | C100: -0.714 | D100: 13 | E100: 498 | F100: =INDEX(Sheet2!$J$2:$R$257,MATCH('נתוני 2014'!$E100,Sheet2!$J$2:$J$257,0),6) -> 3 | G100: =INDEX(Sheet2!$J$2:$R$257,MATCH('נתוני 2014'!$E100,Sheet2!$J$2:$J$257,0),4) -> -0.86008 | H100: =F100-B100 -> 0 | J100: 3
...

Sheet Sheet2
A1: NAME OF LOCALITY | B1: מדד | C1: דירוג | D1: שם יישוב | E1: סמל יישוב | F1: אשכול | J1: הרשויות המקומיות לפי סדר עולה של המדד החברתי-כלכלי 2013 - ערך מדד, דירוג וסיווג לאשכול, שינוי אשכול לעומת 2008
A2: TEL SHEVA | B2: -2.0900487 | C2: 1 | D2: תל שבע | E2: 1054 | F2: 1 | J2: סמל רשות מקומית [1] | K2: שם רשות מקומית | L2: אוכלוסיית המדד 2013 [2] | M2: ערך מדד 2013 [3] | N2: דירוג 2013 (מ-1 עד 255) | O2: אשכול 2013 [4] (מ-1 עד 10) | P2: דירוג 2008 (מ-1 עד 252) | Q2: אשכול 2008 (מ-1 עד 10) | R2: הפרש (אשכול 2013 פחות אשכול 2008)
A3: KUSEIFE | B3: -2.0472885 | C3: 2 | D3: כסיפה | E3: 1059 | F3: 1 | J3: 10068 | K3: נווה מדבר | L3: 6871 | M3: -2.344 | N3: 1 | O3: 1 | P3: .. | Q3: .. | R3: ..
A4: AR'ARA-BANEGEV | B4: -1.9546136 | C4: 3 | D4: ערערה-בנגב | E4: 1192 | F4: 1 | J4: 1286 | K4: שגב-שלום | L4: 8493.43 | M4: -2.13101 | N4: 2 | O4: 1 | P4: 28 | Q4: 2 | R4: =O4-Q4 -> -1
A5: SEGEV-SHALOM | B5: -1.9460708 | C5: 4 | D5: שגב-שלום | E5: 1286 | F5: 1 | J5: 1054 | K5: תל שבע | L5: 17529.14 | M5: -2.11845 | N5: 3 | O5: 1 | P5: 3 | Q5: 1 | R5: =O5-Q5 -> 0
A6: BETAR ILLIT | B6: -1.9343996 | C6: 5 | D6: ביתר עילית | E6: 3780 | F6: 1 | J6: 3797 | K6: מודיעין עילית | L6: 60045.63 | M6: -2.07451 | N6: 4 | O6: 1 | P6: 5 | Q6: 1 | R6: =O6-Q6 -> 0
A7: RAHAT | B7: -1.9276393 | C7: 6 | D7: רהט | E7: 1161 | F7: 1 | J7: 1192 | K7: ערערה-בנגב | L7: 14798.24 | M7: -2.01026 | N7: 5 | O7: 1 | P7: 10 | Q7: 2 | R7: =O7-Q7 -> -1
A8: MODI'IN ILLIT | B8: -1.8313867 | C8: 7 | D8: מודיעין עילית | E8: 3797 | F8: 1 | J8: 3780 | K8: ביתר עילית | L8: 44926.59 | M8: -1.9504 | N8: 6 | O8: 1 | P8: 6 | Q8: 1 | R8: =O8-Q8 -> 0
A9: HURA | B9: -1.7400715 | C9: 8 | D9: חורה | E9: 1303 | F9: 1 | J9: 1303 | K9: חורה | L9: 18271.22 | M9: -1.94836 | N9: 7 | O9: 1 | P9: 21 | Q9: 2 | R9: =O9-Q9 -> -1
A10: LAQYE | B10: -1.698982 | C10: 9 | D10: לקיה | E10: 1060 | F10: 1 | J10: 10069 | K10: אל קסום | L10: 8190 | M10: -1.902 | N10: 8 | O10: 1 | P10: .. | Q10: .. | R10: ..
A11: IMMANU'EL | B11: -1.4117813 | C11: 10 | D11: עמנואל | E11: 3660 | F11: 2 | J11: 1059 | K11: כסיפה | L11: 18076.25 | M11: -1.89201 | N11: 9 | O11: 1 | P11: 8 | Q11: 2 | R11: =O11-Q11 -> -1
A12: KAFAR MANDA | B12: -1.3678839 | C12: 11 | D12: כפר מנדא | E12: 510 | F12: 2 | J12: 1060 | K12: לקיה | L12: 10823.81 | M12: -1.87128 | N12: 10 | O12: 1 | P12: 1 | Q12: 1 | R12: =O12-Q12 -> 0
A13: EL'AD | B13: -1.3085665 | C13: 12 | D13: אלעד | E13: 1309 | F13: 2 | J13: 1161 | K13: רהט | L13: 58645.43 | M13: -1.84758 | N13: 11 | O13: 1 | P13: 16 | Q13: 2 | R13: =O13-Q13 -> -1
A14: REKHASIM | B14: -1.274688 | C14: 13 | D14: רכסים | E14: 922 | F14: 2 | J14: 3660 | K14: עמנואל | L14: 3115.13 | M14: -1.6654 | N14: 12 | O14: 2 | P14: 24 | Q14: 2 | R14: =O14-Q14 -> 0
A15: JISR AZ-ZARQA | B15: -1.2675367 | C15: 14 | D15: ג'סר א-זרקא | E15: 541 | F15: 2 | J15: 541 | K15: ג'סר א-זרקא | L15: 13429.3 | M15: -1.50929 | N15: 13 | O15: 2 | P15: 4 | Q15: 1 | R15: =O15-Q15 -> 1
A16: TUBA-ZANGARIYYE | B16: -1.2569042 | C16: 15 | D16: טובא-זנגרייה | E16: 962 | F16: 2 | J16: 1309 | K16: אלעד | L16: 42560.89 | M16: -1.49305 | N16: 14 | O16: 2 | P16: 35 | Q16: 2 | R16: =O16-Q16 -> 0
A17: BASMA | B17: -1.2154958 | C17: 16 | D17: בסמ"ה | E17: 1326 | F17: 2 | J17: 922 | K17: רכסים | L17: 10055.36 | M17: -1.43316 | N17: 15 | O17: 2 | P17: 42 | Q17: 2 | R17: =O17-Q17 -> 0
A18: EIN MAHEL | B18: -1.2074702 | C18: 17 | D18: עין מאהל | E18: 532 | F18: 2 | J18: 10065 | K18: אל-בטוף | L18: 7145.63 | M18: -1.34109 | N18: 16 | O18: 2 | P18: 2 | Q18: 1 | R18: =O18-Q18 -> 1
A19: BU'EINE-NUJEIDAT | B19: -1.1429372 | C19: 18 | D19: בועיינה-נוג'ידאת | E19: 482 | F19: 2 | J19: 6100 | K19: בני ברק | L19: 171567.1 | M19: -1.30407 | N19: 17 | O19: 2 | P19: 66 | Q19: 3 | R19: =O19-Q19 -> -1
A20: SHA'AB | B20: -1.1410565 | C20: 19 | D20: שעב | E20: 538 | F20: 2 | J20: 510 | K20: כפר מנדא | L20: 17714.24 | M20: -1.301 | N20: 18 | O20: 2 | P20: 22 | Q20: 2 | R20: =O20-Q20 -> 0
A21: BIR EL-MAKSUR | B21: -1.1370035 | C21: 20 | D21: ביר אל-מכסור | E21: 998 | F21: 2 | J21: 2710 | K21: אום אל-פחם | L21: 50596.68 | M21: -1.29418 | N21: 19 | O21: 2 | P21: 20 | Q21: 2 | R21: =O21-Q21 -> 0
A22: UMM AL-FAHM | B22: -1.135226 | C22: 21 | D22: אום אל-פחם | E22: 2710 | F22: 2 | J22: 522 | K22: נחף | L22: 11695.1 | M22: -1.23829 | N22: 20 | O22: 2 | P22: 13 | Q22: 2 | R22: =O22-Q22 -> 0
... A41: MUGHAR | B41: -0.89286474 | C41: 40 | D41: מגאר | E41: 481 | F41: 3 | J41: 537 | K41: פוריידיס | L41: 11867.51 | M41: -1.00092 | N41: 39 | O41: 2 | P41: 23 | Q41: 2 | R41: =O41-Q41 -> 0
A42: QIRYAT ARBA | B42: -0.88712973 | C42: 41 | D42: קריית ארבע | E42: 3611 | F42: 3 | J42: 962 | K42: טובא-זנגרייה | L42: 6029 | M42: -0.994 | N42: 40 | O42: 2 | P42: .. | Q42: .. | R42: ..
A43: BUQ'ATA | B43: -0.86951265 | C43: 42 | D43: בוקעאתא | E43: 4001 | F43: 3 | J43: 481 | K43: מגאר | L43: 21122.42 | M43: -0.98538 | N43: 41 | O43: 2 | P43: 33 | Q43: 2 | R43: =O43-Q43 -> 0
A44: KABUL | B44: -0.86033162 | C44: 43 | D44: כאבול | E44: 504 | F44: 3 | J44: 520 | K44: משהד | L44: 7594.09 | M44: -0.9846 | N44: 42 | O44: 2 | P44: 49 | Q44: 2 | R44: =O44-Q44 -> 0
A45: JALJULYE | B45: -0.85380815 | C45: 44 | D45: ג'לג'וליה | E45: 627 | F45: 3 | J45: 8900 | K45: טמרה | L45: 30854.95 | M45: -0.98344 | N45: 43 | O45: 2 | P45: 60 | Q45: 3 | R45: =O45-Q45 -> -1
A46: BASMAT TAB'UN | B46: -0.83301665 | C46: 45 | D46: בסמת טבעון | E46: 944 | F46: 3 | J46: 4203 | K46: מסעדה | L46: 3375.3 | M46: -0.97921 | N46: 44 | O46: 2 | P46: 9 | Q46: 2 | R46: =O46-Q46 -> 0
A47: TAYIBE | B47: -0.8283425 | C47: 46 | D47: טייבה | E47: 2730 | F47: 3 | J47: 516 | K47: מג'ד אל-כרום | L47: 14098.45 | M47: -0.97681 | N47: 45 | O47: 2 | P47: 40 | Q47: 2 | R47: =O47-Q47 -> 0
A48: EIN QINIYYE | B48: -0.82798573 | C48: 47 | D48: עין קנייא | E48: 4502 | F48: 3 | J48: 4502 | K48: עין קנייא | L48: 1892.18 | M48: -0.97418 | N48: 46 | O48: 2 | P48: 25 | Q48: 2 | R48: =O48-Q48 -> 0
A49: TUR'AN | B49: -0.79831314 | C49: 48 | D49: טורעאן | E49: 498 | F49: 3 | J49: 944 | K49: בסמת טבעון | L49: 7194.53 | M49: -0.96703 | N49: 47 | O49: 2 | P49: 51 | Q49: 2 | R49: =O49-Q49 -> 0
A50: KAOKAB ABU AL-HIJA | B50: -0.79780609 | C50: 49 | D50: כאוכב אבו אל-היג'א | E50: 505 | F50: 3 | J50: 3611 | K50: קריית ארבע | L50: 7165.67 | M50: -0.96492 | N50: 48 | O50: 2 | P50: 105 | Q50: 4 | R50: =O50-Q50 -> -2
A51: GHAJAR | B51: -0.79616443 | C51: 50 | D51: ע'ג'ר | E51: 4501 | F51: 3 | J51: 531 | K51: עראבה | L51: 23037.5 | M51: -0.94472 | N51: 49 | O51: 2 | P51: 41 | Q51: 2 | R51: =O51-Q51 -> 0
A52: KAFAR QASEM | B52: -0.79290479 | C52: 51 | D52: כפר קאסם | E52: 634 | F52: 3 | J52: 10066 | K52: בוסתן-אל-מרג' | L52: 7243.79 | M52: -0.94461 | N52: 50 | O52: 2 | P52: 38 | Q52: 2 | R52: =O52-Q52 -> 0
A53: I'BILLIN | B53: -0.77014523 | C53: 52 | D53: אעבלין | E53: 529 | F53: 3 | J53: 504 | K53: כאבול | L53: 12801.67 | M53: -0.93307 | N53: 51 | O53: 2 | P53: 52 | Q53: 2 | R53: =O53-Q53 -> 0
A54: FUREIDIS | B54: -0.76539523 | C54: 53 | D54: פוריידיס | E54: 537 | F54: 3 | J54: 542 | K54: ריינה | L54: 17758.63 | M54: -0.87864 | N54: 52 | O54: 3 | P54: 64 | Q54: 3 | R54: =O54-Q54 -> 0
... A59: MAJDAL SHAMS | B59: -0.69295755 | C59: 58 | D59: מג'דל שמס | E59: 4201 | F59: 3 | J59: 1296 | K59: כסרא-סמיע | L59: 7867.73 | M59: -0.83416 | N59: 57 | O59: 3 | P59: 27 | Q59: 2 | R59: =O59-Q59 -> 1
A60: SAJUR | B60: -0.68104122 | C60: 59 | D60: סאג'ור | E60: 525 | F60: 3 | J60: 4501 | K60: ע'ג'ר | L60: 2361 | M60: -0.816 | N60: 58 | O60: 3 | P60: .. | Q60: .. | R60: ..
A61: DABURIYYA | B61: -0.67754017 | C61: 60 | D61: דבורייה | E61: 489 | F61: 3 | J61: 913 | K61: שבלי - אום אל-גנם | L61: 5469.94 | M61: -0.8149 | N61: 59 | O61: 3 | P61: 36 | Q61: 2 | R61: =O61-Q61 -> 1
A62: MAS'ADE | B62: -0.6762006 | C62: 61 | D62: מסעדה | E62: 4203 | F62: 3 | J62: 3574 | K62: בית אל | L62: 5899.18 | M62: -0.80715 | N62: 60 | O62: 3 | P62: 128 | Q62: 5 | R62: =O62-Q62 -> -2
A63: YIRKA | B63: -0.67018544 | C63: 62 | D63: ירכא | E63: 502 | F63: 3 | J63: 3000 | K63: ירושלים | L63: 827804.12 | M63: -0.80164 | N63: 61 | O63: 3 | P63: 99 | Q63: 4 | R63: =O63-Q63 -> -1
A64: YAFI | B64: -0.65945977 | C64: 63 | D64: יפיע | E64: 499 | F64: 3 | J64: 472 | K64: אבו גוש | L64: 6538.67 | M64: -0.79957 | N64: 62 | O64: 3 | P64: 19 | Q64: 2 | R64: =O64-Q64 -> 1
A65: SHEFAR'AM | B65: -0.63871684 | C65: 64 | D65: שפרעם | E65: 8800 | F65: 3 | J65: 633 | K65: כפר ברא | L65: 3198.63 | M65: -0.79932 | N65: 63 | O65: 3 | P65: 63 | Q65: 3 | R65: =O65-Q65 -> 0
A66: NETIVOT | B66: -0.63672655 | C66: 65 | D66: נתיבות | E66: 246 | F66: 3 | J66: 529 | K66: אעבלין | L66: 12185.51 | M66: -0.7899 | N66: 64 | O66: 3 | P66: 72 | Q66: 3 | R66: =O66-Q66 -> 0
A67: MAZRA'A | B67: -0.63590786 | C67: 66 | D67: מזרעה | E67: 517 | F67: 3 | J67: 637 | K67: ערערה | L67: 23331.8 | M67: -0.78867 | N67: 65 | O67: 3 | P67: 55 | Q67: 2 | R67: =O67-Q67 -> 1
A68: YANUH-JAT | B68: -0.62795761 | C68: 67 | D68: יאנוח-ג'ת | E68: 1295 | F68: 3 | J68: 8800 | K68: שפרעם | L68: 38565.71 | M68: -0.78378 | N68: 66 | O68: 3 | P68: 67 | Q68: 3 | R68: =O68-Q68 -> 0
A69: AR'ARA | B69: -0.60578046 | C69: 68 | D69: ערערה | E69: 637 | F69: 3 | J69: 499 | K69: יפיע | L69: 17674.22 | M69: -0.78047 | N69: 67 | O69: 3 | P69: 69 | Q69: 3 | R69: =O69-Q69 -> 0
A70: KAFAR BARA | B70: -0.60251932 | C70: 69 | D70: כפר ברא | E70: 633 | F70: 3 | J70: 490 | K70: דייר אל-אסד | L70: 11302.63 | M70: -0.77222 | N70: 68 | O70: 3 | P70: 29 | Q70: 2 | R70: =O70-Q70 -> 1
A71: BEIT JANN | B71: -0.60018746 | C71: 70 | D71: בית ג'ן | E71: 480 | F71: 3 | J71: 492 | K71: דייר חנא | L71: 9526.28 | M71: -0.7698 | N71: 69 | O71: 3 | P71: 62 | Q71: 3 | R71: =O71-Q71 -> 0
A72: ZEFAT | B72: -0.58399068 | C72: 71 | D72: צפת | E72: 8000 | F72: 3 | J72: 473 | K72: אבו סנאן | L72: 13045.16 | M72: -0.76976 | N72: 70 | O72: 3 | P72: 56 | Q72: 3 | R72: =O72-Q72 -> 0
... A81: JULIS | B81: -0.38735401 | C81: 80 | D81: ג'ולס | E81: 485 | F81: 4 | J81: 480 | K81: בית ג'ן | L81: 11144.63 | M81: -0.69495 | N81: 79 | O81: 3 | P81: 43 | Q81: 2 | R81: =O81-Q81 -> 1
A82: NAZARETH | B82: -0.35006509 | C82: 81 | D82: נצרת | E82: 7300 | F82: 4 | J82: 1247 | K82: חריש | L82: 1000.59 | M82: -0.6589 | N82: 80 | O82: 3 | P82: .. | Q82: .. | R82: ..
A83: JERUSALEM | B83: -0.34489605 | C83: 82 | D83: ירושלים | E83: 3000 | F83: 4 | J83: 489 | K83: דבורייה | L83: 9551.3 | M83: -0.65462 | N83: 81 | O83: 3 | P83: 47 | Q83: 2 | R83: =O83-Q83 -> 1
A84: YEROHAM | B84: -0.30018383 | C84: 83 | D84: ירוחם | E84: 831 | F84: 4 | J84: 1290 | K84: זמר | L84: 6286.98 | M84: -0.62617 | N84: 82 | O84: 3 | P84: 74 | Q84: 3 | R84: =O84-Q84 -> 0
A85: AKKO | B85: -0.29905037 | C85: 84 | D85: עכו | E85: 7600 | F85: 4 | J85: 505 | K85: כאוכב אבו אל-היג'א | L85: 3157.11 | M85: -0.61965 | N85: 83 | O85: 3 | P85: 54 | Q85: 2 | R85: =O85-Q85 -> 1
A86: RAME | B86: -0.29098866 | C86: 85 | D86: ראמה | E86: 543 | F86: 4 | J86: 1295 | K86: יאנוח-ג'ת | L86: 6092.1 | M86: -0.59406 | N86: 84 | O86: 3 | P86: 57 | Q86: 3 | R86: =O86-Q86 -> 0
A87: EILABUN | B87: -0.28022576 | C87: 86 | D87: עיילבון | E87: 530 | F87: 4 | J87: 1034 | K87: קריית מלאכי | L87: 21226.41 | M87: -0.59394 | N87: 85 | O87: 3 | P87: 84 | Q87: 4 | R87: =O87-Q87 -> -1
A88: HURFEISH | B88: -0.27595083 | C88: 87 | D88: חורפיש | E88: 496 | F88: 4 | J88: 99 | K88: מצפה רמון | L88: 4999 | M88: -0.57496 | N88: 86 | O88: 3 | P88: 101 | Q88: 4 | R88: =O88-Q88 -> -1
A89: HAZOR HAGELILIT | B89: -0.2272354 | C89: 88 | D89: חצור הגלילית | E89: 2034 | F89: 4 | J89: 7300 | K89: נצרת | L89: 74246.79 | M89: -0.55763 | N89: 87 | O89: 3 | P89: 82 | Q89: 3 | R89: =O89-Q89 -> 0
A90: KAFAR YASIF | B90: -0.19747495 | C90: 89 | D90: כפר יאסיף | E90: 507 | F90: 4 | J90: 517 | K90: מזרעה | L90: 3547.42 | M90: -0.52145 | N90: 88 | O90: 4 | P90: 45 | Q90: 2 | R90: =O90-Q90 -> 2
A91: YAVNE'EL | B91: -0.19046311 | C91: 90 | D91: יבנאל | E91: 46 | F91: 4 | J91: 831 | K91: ירוחם | L91: 8752.28 | M91: -0.50321 | N91: 89 | O91: 4 | P91: 92 | Q91: 4 | R91: =O91-Q91 -> 0
A92: IR KARMEL | B92: -0.13342366 | C92: 91 | D92: עיר כרמל | E92: 494 | F92: 4 | J92: 2034 | K92: חצור הגלילית | L92: 8873.36 | M92: -0.48998 | N92: 90 | O92: 4 | P92: 79 | Q92: 3 | R92: =O92-Q92 -> 1
A93: LOD | B93: -0.1288818 | C93: 92 | D93: לוד | E93: 7000 | F93: 4 | J93: 2720 | K93: טירה | L93: 23947.42 | M93: -0.46887 | N93: 91 | O93: 4 | P93: 71 | Q93: 3 | R93: =O93-Q93 -> 1
A94: PEQI'IN (BUQEI'A) | B94: -0.12752278 | C94: 93 | D94: פקיעין (בוקייעה) | E94: 536 | F94: 4 | J94: 496 | K94: חורפיש | L94: 5873.91 | M94: -0.44992 | N94: 92 | O94: 4 | P94: 80 | Q94: 3 | R94: =O94-Q94 -> 1
... A163: NES ZIYYONA | B163: 1.0439825 | C163: 162 | D163: נס ציונה | E163: 7200 | F163: 7 | J163: 10006 | K163: עמק הירדן | L163: 11968.83 | M163: 0.36847 | N163: 161 | O163: 6 | P163: 135 | Q163: 5 | R163: =O163-Q163 -> 1
A164: GIV'AT ADA | B164: 1.1017131 | C164: 163 | D164: גבעת עדה | F164: 7 | J164: 3570 | K164: אריאל | L164: 18091.07 | M164: 0.37779 | N164: 162 | O164: 6 | P164: 149 | Q164: 5 | R164: =O164-Q164 -> 1
A165: KEFAR SAVA | B165: 1.1033321 | C165: 164 | D165: כפר סבא | E165: 6900 | F165: 7 | J165: 10050 | K165: לכיש | L165: 9756.9 | M165: 0.39325 | N165: 163 | O165: 6 | P165: 153 | Q165: 5 | R165: =O165-Q165 -> 1
A166: PARDESIYYA | B166: 1.1061438 | C166: 165 | D166: פרדסייה | E166: 171 | F166: 7 | J166: 10001 | K166: הגליל העליון | L166: 16706.11 | M166: 0.4067 | N166: 164 | O166: 6 | P166: 173 | Q166: 6 | R166: =O166-Q166 -> 0
A167: ORANIT | B167: 1.1431685 | C167: 166 | D167: אורנית | E167: 3760 | F167: 7 | J167: 10051 | K167: תמר | L167: 1324.87 | M167: 0.42289 | N167: 165 | O167: 6 | P167: 157 | Q167: 5 | R167: =O167-Q167 -> 1
A168: YEHUD | B168: 1.146036 | C168: 167 | D168: יהוד | E168: 9400 | F168: 7 | J168: 10038 | K168: אשכול | L168: 11959.77 | M168: 0.42414 | N168: 166 | O168: 6 | P168: 163 | Q168: 6 | R168: =O168-Q168 -> 0
A169: TEL MOND | B169: 1.207999 | C169: 168 | D169: תל מונד | E169: 154 | F169: 8 | J169: 9100 | K169: נהרייה | L169: 53277.54 | M169: 0.43627 | N169: 167 | O169: 6 | P169: 158 | Q169: 5 | R169: =O169-Q169 -> 1
A170: MAKKABBIM-RE'UT | B170: 1.2091867 | C170: 169 | D170: מכבים-רעות | F170: 8 | J170: 2660 | K170: יבנה | L170: 36506.28 | M170: 0.45535 | N170: 168 | O170: 6 | P170: 146 | Q170: 5 | R170: =O170-Q170 -> 1
A171: RAMAT GAN | B171: 1.2152884 | C171: 170 | D171: רמת גן | E171: 8600 | F171: 8 | J171: 3650 | K171: אפרת | L171: 7911.94 | M171: 0.45991 | N171: 169 | O171: 6 | P171: 209 | Q171: 7 | R171: =O171-Q171 -> -1
A172: TEL AVIV - YAFO | B172: 1.2463863 | C172: 171 | D172: תל אביב -יפו | E172: 5000 | F172: 8 | J172: 10003 | K172: הגליל התחתון | L172: 10933.96 | M172: 0.48386 | N172: 170 | O172: 6 | P172: 195 | Q172: 7 | R172: =O172-Q172 -> -1
A173: EVEN YEHUDA | B173: 1.2708887 | C173: 172 | D173: אבן יהודה | E173: 182 | F173: 8 | J173: 518 | K173: מעיליא | L173: 3002.77 | M173: 0.49223 | N173: 171 | O173: 6 | P173: 141 | Q173: 5 | R173: =O173-Q173 -> 1
A174: ALFE MENASHE | B174: 1.2719059 | C174: 173 | D174: אלפי מנשה | E174: 3750 | F174: 8 | J174: 6600 | K174: חולון | L174: 186193.23 | M174: 0.50914 | N174: 172 | O174: 6 | P174: 161 | Q174: 5 | R174: =O174-Q174 -> 1
A175: GANNE TIQWA | B175: 1.2795071 | C175: 174 | D175: גני תקווה | E175: 229 | F175: 8 | J175: 10014 | K175: מנשה | L175: 17203.38 | M175: 0.51239 | N175: 173 | O175: 6 | P175: 169 | Q175: 6 | R175: =O175-Q175 -> 0
A176: RAMAT YISHAY | B176: 1.29337 | C176: 175 | D176: רמת ישי | E176: 122 | F176: 8 | J176: 10004 | K176: מטה אשר | L176: 24758.48 | M176: 0.53802 | N176: 174 | O176: 6 | P176: 171 | Q176: 6 | R176: =O176-Q176 -> 0
A177: ELQANA | B177: 1.3354915 | C177: 176 | D177: אלקנה | E177: 3560 | F177: 8 | J177: 10036 | K177: חוף אשקלון | L177: 14980.85 | M177: 0.56097 | N177: 175 | O177: 7 | P177: 184 | Q177: 6 | R177: =O177-Q177 -> 1
A178: METULA | B178: 1.3448123 | C178: 177 | D178: מטולה | E178: 43 | F178: 8 | J178: 9500 | K178: קריית ביאליק | L178: 38546.75 | M178: 0.56723 | N178: 176 | O178: 7 | P178: 166 | Q178: 6 | R178: =O178-Q178 -> 1
A179: MEVASSERET ZIYYON | B179: 1.3478536 | C179: 178 | D179: מבשרת ציון | E179: 1015 | F179: 8 | J179: 2640 | K179: ראש העין | L179: 41182.94 | M179: 0.57779 | N179: 177 | O179: 7 | P179: 165 | Q179: 6 | R179: =O179-Q179 -> 1
A180: GIV'AT SHEMU'EL | B180: 1.3661256 | C180: 179 | D180: גבעת שמואל | E180: 681 | F180: 8 | J180: 8200 | K180: קריית מוצקין | L180: 39228.18 | M180: 0.59028 | N180: 178 | O180: 7 | P180: 178 | Q180: 6 | R180: =O180-Q180 -> 1
A181: HOD HASHARON | B181: 1.3754224 | C181: 180 | D181: הוד השרון | E181: 9700 | F181: 8 | J181: 466 | K181: בית דגן | L181: 7122.02 | M181: 0.61457 | N181: 179 | O181: 7 | P181: 206 | Q181: 7 | R181: =O181-Q181 -> 0
A182: SHOHAM | B182: 1.3946247 | C182: 181 | D182: שוהם | E182: 1304 | F182: 8 | J182: 2530 | K182: באר יעקב | L182: 17057.44 | M182: 0.62234 | N182: 180 | O182: 7 | P182: 175 | Q182: 6 | R182: =O182-Q182 -> 1
... A198: SAVYON | B198: 2.9334399 | C198: 197 | D198: סביון | E198: 587 | F198: 10 | J198: 2500 | K198: נשר | L198: 23314.72 | M198: 0.78259 | N198: 196 | O198: 7 | P198: 190 | Q198: 7 | R198: =O198-Q198 -> 0
A199: BINYAMINA- | D199: בנימינה- | E199: 9800 | F199: 7 | J199: 168 | K199: כפר יונה | L199: 20545.94 | M199: 0.78643 | N199: 197 | O199: 7 | P199: 202 | Q199: 7 | R199: =O199-Q199 -> 0
A200: MODI'IN- | D200: מודיעין- | E200: 1200 | F200: 8 | J200: 10033 | K200: באר טוביה | L200: 21377.98 | M200: 0.79929 | N200: 198 | O200: 7 | P200: 188 | Q200: 6 | R200: =O200-Q200 -> 1
J201: 240 | K201: יקנעם עילית | L201: 20760.13 | M201: 0.79974 | N201: 199 | O201: 7 | P201: 183 | Q201: 6 | R201: =O201-Q201 -> 1
J202: 10054 | K202: הערבה התיכונה | L202: 2963.6 | M202: 0.80346 | N202: 200 | O202: 7 | P202: 204 | Q202: 7 | R202: =O202-Q202 -> 0
J203: 10055 | K203: מבואות החרמון | L203: 6705.57 | M203: 0.80663 | N203: 201 | O203: 7 | P203: 176 | Q203: 6 | R203: =O203-Q203 -> 1
J204: 10025 | K204: חבל מודיעין | L204: 22415.46 | M204: 0.8203 | N204: 202 | O204: 7 | P204: 201 | Q204: 7 | R204: =O204-Q204 -> 0
J205: 3652 | K205: בית אריה | L205: 4321.97 | M205: 0.86942 | N205: 203 | O205: 7 | P205: 200 | Q205: 7 | R205: =O205-Q205 -> 0
J206: 8300 | K206: ראשון לציון | L206: 237406.12 | M206: 0.88608 | N206: 204 | O206: 7 | P206: 180 | Q206: 6 | R206: =O206-Q206 -> 1
J207: 3560 | K207: אלקנה | L207: 3870.93 | M207: 0.88766 | N207: 205 | O207: 7 | P207: 241 | Q207: 8 | R207: =O207-Q207 -> -1
J208: 10035 | K208: יואב | L208: 7478.18 | M208: 0.91097 | N208: 206 | O208: 7 | P208: 196 | Q208: 7 | R208: =O208-Q208 -> 0
J209: 9400 | K209: יהוד | L209: 28199.64 | M209: 1.03388 | N209: 207 | O209: 8 | P209: 191 | Q209: 7 | R209: =O209-Q209 -> 1
J210: 8600 | K210: רמת גן | L210: 149296.22 | M210: 1.04131 | N210: 208 | O210: 8 | P210: 210 | Q210: 7 | R210: =O210-Q210 -> 1
J211: 10030 | K211: גזר | L211: 24356.09 | M211: 1.04605 | N211: 209 | O211: 8 | P211: 205 | Q211: 7 | R211: =O211-Q211 -> 1
J212: 29 | K212: יסוד המעלה | L212: 1637.72 | M212: 1.05324 | N212: 210 | O212: 8 | P212: 225 | Q212: 8 | R212: =O212-Q212 -> 0
... J257: 587 | K257: סביון | L257: 3468.69 | M257: 3.05835 | N257: 255 | O257: 10 | P257: 252 | Q257: 10 | R257: =O257-Q257 -> 0
...
