Workbook

Sheet נתוני 2014
A1: שם הרשות | B1: אשכול חברתי-כלכלי (1 נמוך, 10 גבוה) 2008 | C1: מדד חברתי-כלכלי 2008 -ערך | D1: סה"כ אוכלוסייה בסוף השנה 2014 (אלפים) | E1: סמל הרשות | F1: אשכול 2013 | G1: מדד 2013 | J1: אשכול 2013 לפי גבולות מדד 2008
A2: אבו גוש | B2: 2 | C2: -1.354 | D2: 6.8 | E2: 472 | F2: =INDEX(Sheet2!$J$2:$R$257,MATCH('נתוני 2014'!$E2,Sheet2!$J$2:$J$257,0),6) -> 3 | G2: =INDEX(Sheet2!$J$2:$R$257,MATCH('נתוני 2014'!$E2,Sheet2!$J$2:$J$257,0),4) -> -0.79957 | H2: =F2-B2 -> 1 | I2: =G2-C2 -> 0.55443 | J2: 3
A3: אבו סנאן | B3: 3 | C3: -0.97 | D3: 13.2 | E3: 473 | F3: =INDEX(Sheet2!$J$2:$R$257,MATCH('נתוני 2014'!$E3,Sheet2!$J$2:$J$257,0),6) -> 3 | G3: =INDEX(Sheet2!$J$2:$R$257,MATCH('נתוני 2014'!$E3,Sheet2!$J$2:$J$257,0),4) -> -0.76976 | H3: =F3-B3 -> 0 | J3: 3
A4: אבן יהודה | B4: 8 | C4: 1.37 | D4: 13 | E4: 182 | F4: =INDEX(Sheet2!$J$2:$R$257,MATCH('נתוני 2014'!$E4,Sheet2!$J$2:$J$257,0),6) -> 8 | G4: =INDEX(Sheet2!$J$2:$R$257,MATCH('נתוני 2014'!$E4,Sheet2!$J$2:$J$257,0),4) -> 1.56935 | H4: =F4-B4 -> 0 | J4: 8
A5: אום אל-פחם | B5: 2 | C5: -1.315 | D5: 51.4 | E5: 2710 | F5: =INDEX(Sheet2!$J$2:$R$257,MATCH('נתוני 2014'!$E5,Sheet2!$J$2:$J$257,0),6) -> 2 | G5: =INDEX(Sheet2!$J$2:$R$257,MATCH('נתוני 2014'!$E5,Sheet2!$J$2:$J$257,0),4) -> -1.29418 | H5: =F5-B5 -> 0 | J5: 2
A6: אופקים | B6: 3 | C6: -0.762 | D6: 25.3 | E6: 31 | F6: =INDEX(Sheet2!$J$2:$R$257,MATCH('נתוני 2014'!$E6,Sheet2!$J$2:$J$257,0),6) -> 3 | G6: =INDEX(Sheet2!$J$2:$R$257,MATCH('נתוני 2014'!$E6,Sheet2!$J$2:$J$257,0),4) -> -0.75719 | H6: =F6-B6 -> 0 | J6: 3
A7: אור יהודה | B7: 5 | C7: -0.1 | D7: 35.9 | E7: 2400 | F7: =INDEX(Sheet2!$J$2:$R$257,MATCH('נתוני 2014'!$E7,Sheet2!$J$2:$J$257,0),6) -> 5 | G7: =INDEX(Sheet2!$J$2:$R$257,MATCH('נתוני 2014'!$E7,Sheet2!$J$2:$J$257,0),4) -> 0.13258 | H7: =F7-B7 -> 0 | J7: 5
A8: אור עקיבא | B8: 4 | C8: -0.323 | D8: 16.8 | E8: 1020 | F8: =INDEX(Sheet2!$J$2:$R$257,MATCH('נתוני 2014'!$E8,Sheet2!$J$2:$J$257,0),6) -> 5 | G8: =INDEX(Sheet2!$J$2:$R$257,MATCH('נתוני 2014'!$E8,Sheet2!$J$2:$J$257,0),4) -> -0.09731 | H8: =F8-B8 -> 1 | I8: =G8-C8 -> 0.22569 | J8: 5
A9: אורנית | B9: 8 | C9: 1.435 | D9: 8.1 | E9: 3760 | F9: =INDEX(Sheet2!$J$2:$R$257,MATCH('נתוני 2014'!$E9,Sheet2!$J$2:$J$257,0),6) -> 8 | G9: =INDEX(Sheet2!$J$2:$R$257,MATCH('נתוני 2014'!$E9,Sheet2!$J$2:$J$257,0),4) -> 1.32136 | H9: =F9-B9 -> 0 | J9: 8
A10: אזור | B10: 6 | C10: 0.692 | D10: 12 | E10: 565 | F10: =INDEX(Sheet2!$J$2:$R$257,MATCH('נתוני 2014'!$E10,Sheet2!$J$2:$J$257,0),6) -> 7 | G10: =INDEX(Sheet2!$J$2:$R$257,MATCH('נתוני 2014'!$E10,Sheet2!$J$2:$J$257,0),4) -> 0.64348 | H10: =F10-B10 -> 1 | I10: =G10-C10 -> -0.04852 | J10: 6
A11: אילת | B11: 5 | C11: 0.223 | D11: 48.9 | E11: 2600 | F11: =INDEX(Sheet2!$J$2:$R$257,MATCH('נתוני 2014'!$E11,Sheet2!$J$2:$J$257,0),6) -> 6 | G11: =INDEX(Sheet2!$J$2:$R$257,MATCH('נתוני 2014'!$E11,Sheet2!$J$2:$J$257,0),4) -> 0.2468 | H11: =F11-B11 -> 1 | I11: =G11-C11 -> 0.0238 | J11: 5
A12: אכסאל | B12: 2 | C12: -1.149 | D12: 13.4 | E12: 478 | F12: =INDEX(Sheet2!$J$2:$R$257,MATCH('נתוני 2014'!$E12,Sheet2!$J$2:$J$257,0),6) -> 3 | G12: =INDEX(Sheet2!$J$2:$R$257,MATCH('נתוני 2014'!$E12,Sheet2!$J$2:$J$257,0),4) -> -0.74358 | H12: =F12-B12 -> 1 | I12: =G12-C12 -> 0.40542 | J12: 3
A13: אל-בטוף | B13: 1 | C13: -1.79 | D13: 7.3 | E13: 65 | F13: =INDEX(Sheet2!$J$2:$R$257,MATCH('נתוני 2014'!$E13,Sheet2!$J$2:$J$257,0),6) -> 5 | G13: =INDEX(Sheet2!$J$2:$R$257,MATCH('נתוני 2014'!$E13,Sheet2!$J$2:$J$257,0),4) -> -0.08407 | H13: =F13-B13 -> 4 | I13: =G13-C13 -> 1.70593 | J13: 5
A14: אל קסום | B14: 1 | D14: 8.5 | E14: 69 | F14: =INDEX(Sheet2!$J$2:$R$257,MATCH('נתוני 2014'!$E14+10000,Sheet2!$J$2:$J$257,0),6) -> 1 | G14: =INDEX(Sheet2!$J$2:$R$257,MATCH('נתוני 2014'!$E14+10000,Sheet2!$J$2:$J$257,0),4) -> -1.902 | H14: =F14-B14 -> 0 | J14: 1
A15: אלונה | B15: 7 | C15: 0.98 | D15: 2.2 | E15: 45 | F15: =INDEX(Sheet2!$J$2:$R$257,MATCH('נתוני 2014'!$E15+10000,Sheet2!$J$2:$J$257,0),6) -> 8 | G15: =INDEX(Sheet2!$J$2:$R$257,MATCH('נתוני 2014'!$E15+10000,Sheet2!$J$2:$J$257,0),4) -> 1.06673 | H15: =F15-B15 -> 1 | I15: =G15-C15 -> 0.08673 | J15: 7
A16: אליכין | B16: 5 | C16: 0.322 | D16: 3.4 | E16: 41 | F16: =INDEX(Sheet2!$J$2:$R$257,MATCH('נתוני 2014'!$E16,Sheet2!$J$2:$J$257,0),6) -> 6 | G16: =INDEX(Sheet2!$J$2:$R$257,MATCH('נתוני 2014'!$E16,Sheet2!$J$2:$J$257,0),4) -> 0.24412 | H16: =F16-B16 -> 1 | I16: =G16-C16 -> -0.07788 | J16: 5
A17: אלעד | B17: 2 | C17: -1.212 | D17: 43.6 | E17: 1309 | F17: =INDEX(Sheet2!$J$2:$R$257,MATCH('נתוני 2014'!$E17,Sheet2!$J$2:$J$257,0),6) -> 2 | G17: =INDEX(Sheet2!$J$2:$R$257,MATCH('נתוני 2014'!$E17,Sheet2!$J$2:$J$257,0),4) -> -1.49305 | H17: =F17-B17 -> 0 | J17: 2
A18: אלפי מנשה | B18: 8 | C18: 1.327 | D18: 7.6 | E18: 3750 | F18: =INDEX(Sheet2!$J$2:$R$257,MATCH('נתוני 2014'!$E18,Sheet2!$J$2:$J$257,0),6) -> 8 | G18: =INDEX(Sheet2!$J$2:$R$257,MATCH('נתוני 2014'!$E18,Sheet2!$J$2:$J$257,0),4) -> 1.16735 | H18: =F18-B18 -> 0 | J18: 8
A19: אלקנה | B19: 8 | C19: 1.542 | D19: 3.9 | E19: 3560 | F19: =INDEX(Sheet2!$J$2:$R$257,MATCH('נתוני 2014'!$E19,Sheet2!$J$2:$J$257,0),6) -> 7 | G19: =INDEX(Sheet2!$J$2:$R$257,MATCH('נתוני 2014'!$E19,Sheet2!$J$2:$J$257,0),4) -> 0.88766 | H19: =F19-B19 -> -1 | I19: =G19-C19 -> -0.65434 | J19: 7
A20: אעבלין | B20: 3 | C20: -0.834 | D20: 12.5 | E20: 529 | F20: =INDEX(Sheet2!$J$2:$R$257,MATCH('נתוני 2014'!$E20,Sheet2!$J$2:$J$257,0),6) -> 3 | G20: =INDEX(Sheet2!$J$2:$R$257,MATCH('נתוני 2014'!$E20,Sheet2!$J$2:$J$257,0),4) -> -0.7899 | H20: =F20-B20 -> 0 | J20: 3
A21: אפרת | B21: 7 | C21: 0.985 | D21: 8.1 | E21: 3650 | F21: =INDEX(Sheet2!$J$2:$R$257,MATCH('נתוני 2014'!$E21,Sheet2!$J$2:$J$257,0),6) -> 6 | G21: =INDEX(Sheet2!$J$2:$R$257,MATCH('נתוני 2014'!$E21,Sheet2!$J$2:$J$257,0),4) -> 0.45991 | H21: =F21-B21 -> -1 | I21: =G21-C21 -> -0.52509 | J21: 6
A22: אריאל | B22: 5 | C22: 0.244 | D22: 18.4 | E22: 3570 | F22: =INDEX(Sheet2!$J$2:$R$257,MATCH('נתוני 2014'!$E22,Sheet2!$J$2:$J$257,0),6) -> 6 | G22: =INDEX(Sheet2!$J$2:$R$257,MATCH('נתוני 2014'!$E22,Sheet2!$J$2:$J$257,0),4) -> 0.37779 | H22: =F22-B22 -> 1 | I22: =G22-C22 -> 0.13379 | J22: 5
A23: אשדוד | B23: 5 | C23: -0.104 | D23: 218 | E23: 70 | F23: =INDEX(Sheet2!$J$2:$R$257,MATCH('נתוני 2014'!$E23,Sheet2!$J$2:$J$257,0),6) -> 5 | G23: =INDEX(Sheet2!$J$2:$R$257,MATCH('נתוני 2014'!$E23,Sheet2!$J$2:$J$257,0),4) -> -0.10874 | H23: =F23-B23 -> 0 | J23: 5
A24: אשכול | B24: 6 | C24: 0.445 | D24: 12.8 | E24: 38 | F24: =INDEX(Sheet2!$J$2:$R$257,MATCH('נתוני 2014'!$E24+10000,Sheet2!$J$2:$J$257,0),6) -> 6 | G24: =INDEX(Sheet2!$J$2:$R$257,MATCH('נתוני 2014'!$E24+10000,Sheet2!$J$2:$J$257,0),4) -> 0.42414 | H24: =F24-B24 -> 0 | J24: 5
A25: אשקלון | B25: 5 | C25: 0.015 | D25: 126.8 | E25: 7100 | F25: =INDEX(Sheet2!$J$2:$R$257,MATCH('נתוני 2014'!$E25,Sheet2!$J$2:$J$257,0),6) -> 5 | G25: =INDEX(Sheet2!$J$2:$R$257,MATCH('נתוני 2014'!$E25,Sheet2!$J$2:$J$257,0),4) -> -0.03155 | H25: =F25-B25 -> 0 | J25: 5
A26: באקה אל-גרביה | B26: 3 | C26: -0.872 | D26: 27.5 | E26: 6000 | F26: =INDEX(Sheet2!$J$2:$R$257,MATCH('נתוני 2014'!$E26,Sheet2!$J$2:$J$257,0),6) -> 3 | G26: =INDEX(Sheet2!$J$2:$R$257,MATCH('נתוני 2014'!$E26,Sheet2!$J$2:$J$257,0),4) -> -0.73625 | H26: =F26-B26 -> 0 | J26: 3
A27: באר טוביה | B27: 6 | C27: 0.715 | D27: 21.9 | E27: 33 | F27: =INDEX(Sheet2!$J$2:$R$257,MATCH('נתוני 2014'!$E27+10000,Sheet2!$J$2:$J$257,0),6) -> 7 | G27: =INDEX(Sheet2!$J$2:$R$257,MATCH('נתוני 2014'!$E27+10000,Sheet2!$J$2:$J$257,0),4) -> 0.79929 | H27: =F27-B27 -> 1 | I27: =G27-C27 -> 0.08429 | J27: 7
A28: באר יעקב | B28: 6 | C28: 0.587 | D28: 17.6 | E28: 2530 | F28: =INDEX(Sheet2!$J$2:$R$257,MATCH('נתוני 2014'!$E28,Sheet2!$J$2:$J$257,0),6) -> 7 | G28: =INDEX(Sheet2!$J$2:$R$257,MATCH('נתוני 2014'!$E28,Sheet2!$J$2:$J$257,0),4) -> 0.62234 | H28: =F28-B28 -> 1 | I28: =G28-C28 -> 0.03534 | J28: 6
A29: באר שבע | B29: 5 | C29: 0.172 | D29: 201.1 | E29: 9000 | F29: =INDEX(Sheet2!$J$2:$R$257,MATCH('נתוני 2014'!$E29,Sheet2!$J$2:$J$257,0),6) -> 5 | G29: =INDEX(Sheet2!$J$2:$R$257,MATCH('נתוני 2014'!$E29,Sheet2!$J$2:$J$257,0),4) -> 0.03537 | H29: =F29-B29 -> 0 | J29: 5
A30: בוסתן אל-מרג' | B30: 2 | C30: -1.171 | D30: 7.3 | E30: 66 | F30: =INDEX(Sheet2!$J$2:$R$257,MATCH('נתוני 2014'!$E30+10000,Sheet2!$J$2:$J$257,0),6) -> 2 | G30: =INDEX(Sheet2!$J$2:$R$257,MATCH('נתוני 2014'!$E30+10000,Sheet2!$J$2:$J$257,0),4) -> -0.94461 | H30: =F30-B30 -> 0 | J30: 3
A31: בועיינה-נוג'ידאת | B31: 2 | C31: -1.174 | D31: 8.9 | E31: 482 | F31: =INDEX(Sheet2!$J$2:$R$257,MATCH('נתוני 2014'!$E31,Sheet2!$J$2:$J$257,0),6) -> 2 | G31: =INDEX(Sheet2!$J$2:$R$257,MATCH('נתוני 2014'!$E31,Sheet2!$J$2:$J$257,0),4) -> -1.08386 | H31: =F31-B31 -> 0 | J31: 2
A32: בוקעאתא | B32: 2 | C32: -1.507 | D32: 6.2 | E32: 4001 | F32: =INDEX(Sheet2!$J$2:$R$257,MATCH('נתוני 2014'!$E32,Sheet2!$J$2:$J$257,0),6) -> 2 | G32: =INDEX(Sheet2!$J$2:$R$257,MATCH('נתוני 2014'!$E32,Sheet2!$J$2:$J$257,0),4) -> -1.06215 | H32: =F32-B32 -> 0 | J32: 2
A33: ביר אל-מכסור | B33: 2 | C33: -1.251 | D33: 8.5 | E33: 998 | F33: =INDEX(Sheet2!$J$2:$R$257,MATCH('נתוני 2014'!$E33,Sheet2!$J$2:$J$257,0),6) -> 2 | G33: =INDEX(Sheet2!$J$2:$R$257,MATCH('נתוני 2014'!$E33,Sheet2!$J$2:$J$257,0),4) -> -1.23809 | H33: =F33-B33 -> 0 | J33: 2
A34: בית אל | B34: 5 | C34: 0.069 | D34: 6 | E34: 3574 | F34: =INDEX(Sheet2!$J$2:$R$257,MATCH('נתוני 2014'!$E34,Sheet2!$J$2:$J$257,0),6) -> 3 | G34: =INDEX(Sheet2!$J$2:$R$257,MATCH('נתוני 2014'!$E34,Sheet2!$J$2:$J$257,0),4) -> -0.80715 | H34: =F34-B34 -> -2 | I34: =G34-C34 -> -0.87615 | J34: 3
A35: בית אריה | B35: 7 | C35: 0.869 | D35: 4.5 | E35: 3652 | F35: =INDEX(Sheet2!$J$2:$R$257,MATCH('נתוני 2014'!$E35,Sheet2!$J$2:$J$257,0),6) -> 7 | G35: =INDEX(Sheet2!$J$2:$R$257,MATCH('נתוני 2014'!$E35,Sheet2!$J$2:$J$257,0),4) -> 0.86942 | H35: =F35-B35 -> 0 | J35: 7
A36: בית ג'ן | B36: 2 | C36: -1.108 | D36: 11.3 | E36: 480 | F36: =INDEX(Sheet2!$J$2:$R$257,MATCH('נתוני 2014'!$E36,Sheet2!$J$2:$J$257,0),6) -> 3 | G36: =INDEX(Sheet2!$J$2:$R$257,MATCH('נתוני 2014'!$E36,Sheet2!$J$2:$J$257,0),4) -> -0.69495 | H36: =F36-B36 -> 1 | I36: =G36-C36 -> 0.41305 | J36: 3
A37: בית דגן | B37: 7 | C37: 0.969 | D37: 7.1 | E37: 466 | F37: =INDEX(Sheet2!$J$2:$R$257,MATCH('נתוני 2014'!$E37,Sheet2!$J$2:$J$257,0),6) -> 7 | G37: =INDEX(Sheet2!$J$2:$R$257,MATCH('נתוני 2014'!$E37,Sheet2!$J$2:$J$257,0),4) -> 0.61457 | H37: =F37-B37 -> 0 | J37: 6
A38: בית שאן | B38: 4 | C38: -0.336 | D38: 17.3 | E38: 9200 | F38: =INDEX(Sheet2!$J$2:$R$257,MATCH('נתוני 2014'!$E38,Sheet2!$J$2:$J$257,0),6) -> 4 | G38: =INDEX(Sheet2!$J$2:$R$257,MATCH('נתוני 2014'!$E38,Sheet2!$J$2:$J$257,0),4) -> -0.27677 | H38: =F38-B38 -> 0 | J38: 4
A39: בית שמש | B39: 3 | C39: -0.705 | D39: 98.1 | E39: 2610 | F39: =INDEX(Sheet2!$J$2:$R$257,MATCH('נתוני 2014'!$E39,Sheet2!$J$2:$J$257,0),6) -> 2 | G39: =INDEX(Sheet2!$J$2:$R$257,MATCH('נתוני 2014'!$E39,Sheet2!$J$2:$J$257,0),4) -> -1.14924 | H39: =F39-B39 -> -1 | I39: =G39-C39 -> -0.44424 | J39: 2
A40: ביתר עילית | B40: 1 | C40: -1.659 | D40: 46.9 | E40: 3780 | F40: =INDEX(Sheet2!$J$2:$R$257,MATCH('נתוני 2014'!$E40,Sheet2!$J$2:$J$257,0),6) -> 1 | G40: =INDEX(Sheet2!$J$2:$R$257,MATCH('נתוני 2014'!$E40,Sheet2!$J$2:$J$257,0),4) -> -1.9504 | H40: =F40-B40 -> 0 | J40: 1
...

Sheet Sheet2
A1: NAME OF LOCALITY | B1: מדד | C1: דירוג | D1: שם יישוב | E1: סמל יישוב | F1: אשכול | J1: הרשויות המקומיות לפי סדר עולה של המדד החברתי-כלכלי 2013 - ערך מדד, דירוג וסיווג לאשכול, שינוי אשכול לעומת 2008
A2: TEL SHEVA | B2: -2.0900487 | C2: 1 | D2: תל שבע | E2: 1054 | F2: 1 | J2: סמל רשות מקומית [1] | K2: שם רשות מקומית | L2: אוכלוסיית המדד 2013 [2] | M2: ערך מדד 2013 [3] | N2: דירוג 2013 (מ-1 עד 255) | O2: אשכול 2013 [4] (מ-1 עד 10) | P2: דירוג 2008 (מ-1 עד 252) | Q2: אשכול 2008 (מ-1 עד 10) | R2: הפרש (אשכול 2013 פחות אשכול 2008)
A3: KUSEIFE | B3: -2.0472885 | C3: 2 | D3: כסיפה | E3: 1059 | F3: 1 | J3: 10068 | K3: נווה מדבר | L3: 6871 | M3: -2.344 | N3: 1 | O3: 1 | P3: .. | Q3: .. | R3: ..
A4: AR'ARA-BANEGEV | B4: -1.9546136 | C4: 3 | D4: ערערה-בנגב | E4: 1192 | F4: 1 | J4: 1286 | K4: שגב-שלום | L4: 8493.43 | M4: -2.13101 | N4: 2 | O4: 1 | P4: 28 | Q4: 2 | R4: =O4-Q4 -> -1
A5: SEGEV-SHALOM | B5: -1.9460708 | C5: 4 | D5: שגב-שלום | E5: 1286 | F5: 1 | J5: 1054 | K5: תל שבע | L5: 17529.14 | M5: -2.11845 | N5: 3 | O5: 1 | P5: 3 | Q5: 1 | R5: =O5-Q5 -> 0
A6: BETAR ILLIT | B6: -1.9343996 | C6: 5 | D6: ביתר עילית | E6: 3780 | F6: 1 | J6: 3797 | K6: מודיעין עילית | L6: 60045.63 | M6: -2.07451 | N6: 4 | O6: 1 | P6: 5 | Q6: 1 | R6: =O6-Q6 -> 0
A7: RAHAT | B7: -1.9276393 | C7: 6 | D7: רהט | E7: 1161 | F7: 1 | J7: 1192 | K7: ערערה-בנגב | L7: 14798.24 | M7: -2.01026 | N7: 5 | O7: 1 | P7: 10 | Q7: 2 | R7: =O7-Q7 -> -1
A8: MODI'IN ILLIT | B8: -1.8313867 | C8: 7 | D8: מודיעין עילית | E8: 3797 | F8: 1 | J8: 3780 | K8: ביתר עילית | L8: 44926.59 | M8: -1.9504 | N8: 6 | O8: 1 | P8: 6 | Q8: 1 | R8: =O8-Q8 -> 0
A9: HURA | B9: -1.7400715 | C9: 8 | D9: חורה | E9: 1303 | F9: 1 | J9: 1303 | K9: חורה | L9: 18271.22 | M9: -1.94836 | N9: 7 | O9: 1 | P9: 21 | Q9: 2 | R9: =O9-Q9 -> -1
A10: LAQYE | B10: -1.698982 | C10: 9 | D10: לקיה | E10: 1060 | F10: 1 | J10: 10069 | K10: אל קסום | L10: 8190 | M10: -1.902 | N10: 8 | O10: 1 | P10: .. | Q10: .. | R10: ..
A11: IMMANU'EL | B11: -1.4117813 | C11: 10 | D11: עמנואל | E11: 3660 | F11: 2 | J11: 1059 | K11: כסיפה | L11: 18076.25 | M11: -1.89201 | N11: 9 | O11: 1 | P11: 8 | Q11: 2 | R11: =O11-Q11 -> -1
A12: KAFAR MANDA | B12: -1.3678839 | C12: 11 | D12: כפר מנדא | E12: 510 | F12: 2 | J12: 1060 | K12: לקיה | L12: 10823.81 | M12: -1.87128 | N12: 10 | O12: 1 | P12: 1 | Q12: 1 | R12: =O12-Q12 -> 0
A13: EL'AD | B13: -1.3085665 | C13: 12 | D13: אלעד | E13: 1309 | F13: 2 | J13: 1161 | K13: רהט | L13: 58645.43 | M13: -1.84758 | N13: 11 | O13: 1 | P13: 16 | Q13: 2 | R13: =O13-Q13 -> -1
A14: REKHASIM | B14: -1.274688 | C14: 13 | D14: רכסים | E14: 922 | F14: 2 | J14: 3660 | K14: עמנואל | L14: 3115.13 | M14: -1.6654 | N14: 12 | O14: 2 | P14: 24 | Q14: 2 | R14: =O14-Q14 -> 0
A15: JISR AZ-ZARQA | B15: -1.2675367 | C15: 14 | D15: ג'סר א-זרקא | E15: 541 | F15: 2 | J15: 541 | K15: ג'סר א-זרקא | L15: 13429.3 | M15: -1.50929 | N15: 13 | O15: 2 | P15: 4 | Q15: 1 | R15: =O15-Q15 -> 1
A16: TUBA-ZANGARIYYE | B16: -1.2569042 | C16: 15 | D16: טובא-זנגרייה | E16: 962 | F16: 2 | J16: 1309 | K16: אלעד | L16: 42560.89 | M16: -1.49305 | N16: 14 | O16: 2 | P16: 35 | Q16: 2 | R16: =O16-Q16 -> 0
A17: BASMA | B17: -1.2154958 | C17: 16 | D17: בסמ"ה | E17: 1326 | F17: 2 | J17: 922 | K17: רכסים | L17: 10055.36 | M17: -1.43316 | N17: 15 | O17: 2 | P17: 42 | Q17: 2 | R17: =O17-Q17 -> 0
A18: EIN MAHEL | B18: -1.2074702 | C18: 17 | D18: עין מאהל | E18: 532 | F18: 2 | J18: 10065 | K18: אל-בטוף | L18: 7145.63 | M18: -1.34109 | N18: 16 | O18: 2 | P18: 2 | Q18: 1 | R18: =O18-Q18 -> 1
A19: BU'EINE-NUJEIDAT | B19: -1.1429372 | C19: 18 | D19: בועיינה-נוג'ידאת | E19: 482 | F19: 2 | J19: 6100 | K19: בני ברק | L19: 171567.1 | M19: -1.30407 | N19: 17 | O19: 2 | P19: 66 | Q19: 3 | R19: =O19-Q19 -> -1
A20: SHA'AB | B20: -1.1410565 | C20: 19 | D20: שעב | E20: 538 | F20: 2 | J20: 510 | K20: כפר מנדא | L20: 17714.24 | M20: -1.301 | N20: 18 | O20: 2 | P20: 22 | Q20: 2 | R20: =O20-Q20 -> 0
A21: BIR EL-MAKSUR | B21: -1.1370035 | C21: 20 | D21: ביר אל-מכסור | E21: 998 | F21: 2 | J21: 2710 | K21: אום אל-פחם | L21: 50596.68 | M21: -1.29418 | N21: 19 | O21: 2 | P21: 20 | Q21: 2 | R21: =O21-Q21 -> 0
A22: UMM AL-FAHM | B22: -1.135226 | C22: 21 | D22: אום אל-פחם | E22: 2710 | F22: 2 | J22: 522 | K22: נחף | L22: 11695.1 | M22: -1.23829 | N22: 20 | O22: 2 | P22: 13 | Q22: 2 | R22: =O22-Q22 -> 0
... A41: MUGHAR | B41: -0.89286474 | C41: 40 | D41: מגאר | E41: 481 | F41: 3 | J41: 537 | K41: פוריידיס | L41: 11867.51 | M41: -1.00092 | N41: 39 | O41: 2 | P41: 23 | Q41: 2 | R41: =O41-Q41 -> 0
A42: QIRYAT ARBA | B42: -0.88712973 | C42: 41 | D42: קריית ארבע | E42: 3611 | F42: 3 | J42: 962 | K42: טובא-זנגרייה | L42: 6029 | M42: -0.994 | N42: 40 | O42: 2 | P42: .. | Q42: .. | R42: ..
A43: BUQ'ATA | B43: -0.86951265 | C43: 42 | D43: בוקעאתא | E43: 4001 | F43: 3 | J43: 481 | K43: מגאר | L43: 21122.42 | M43: -0.98538 | N43: 41 | O43: 2 | P43: 33 | Q43: 2 | R43: =O43-Q43 -> 0
A44: KABUL | B44: -0.86033162 | C44: 43 | D44: כאבול | E44: 504 | F44: 3 | J44: 520 | K44: משהד | L44: 7594.09 | M44: -0.9846 | N44: 42 | O44: 2 | P44: 49 | Q44: 2 | R44: =O44-Q44 -> 0
A45: JALJULYE | B45: -0.85380815 | C45: 44 | D45: ג'לג'וליה | E45: 627 | F45: 3 | J45: 8900 | K45: טמרה | L45: 30854.95 | M45: -0.98344 | N45: 43 | O45: 2 | P45: 60 | Q45: 3 | R45: =O45-Q45 -> -1
A46: BASMAT TAB'UN | B46: -0.83301665 | C46: 45 | D46: בסמת טבעון | E46: 944 | F46: 3 | J46: 4203 | K46: מסעדה | L46: 3375.3 | M46: -0.97921 | N46: 44 | O46: 2 | P46: 9 | Q46: 2 | R46: =O46-Q46 -> 0
A47: TAYIBE | B47: -0.8283425 | C47: 46 | D47: טייבה | E47: 2730 | F47: 3 | J47: 516 | K47: מג'ד אל-כרום | L47: 14098.45 | M47: -0.97681 | N47: 45 | O47: 2 | P47: 40 | Q47: 2 | R47: =O47-Q47 -> 0
A48: EIN QINIYYE | B48: -0.82798573 | C48: 47 | D48: עין קנייא | E48: 4502 | F48: 3 | J48: 4502 | K48: עין קנייא | L48: 1892.18 | M48: -0.97418 | N48: 46 | O48: 2 | P48: 25 | Q48: 2 | R48: =O48-Q48 -> 0
A49: TUR'AN | B49: -0.79831314 | C49: 48 | D49: טורעאן | E49: 498 | F49: 3 | J49: 944 | K49: בסמת טבעון | L49: 7194.53 | M49: -0.96703 | N49: 47 | O49: 2 | P49: 51 | Q49: 2 | R49: =O49-Q49 -> 0
A50: KAOKAB ABU AL-HIJA | B50: -0.79780609 | C50: 49 | D50: כאוכב אבו אל-היג'א | E50: 505 | F50: 3 | J50: 3611 | K50: קריית ארבע | L50: 7165.67 | M50: -0.96492 | N50: 48 | O50: 2 | P50: 105 | Q50: 4 | R50: =O50-Q50 -> -2
A51: GHAJAR | B51: -0.79616443 | C51: 50 | D51: ע'ג'ר | E51: 4501 | F51: 3 | J51: 531 | K51: עראבה | L51: 23037.5 | M51: -0.94472 | N51: 49 | O51: 2 | P51: 41 | Q51: 2 | R51: =O51-Q51 -> 0
A52: KAFAR QASEM | B52: -0.79290479 | C52: 51 | D52: כפר קאסם | E52: 634 | F52: 3 | J52: 10066 | K52: בוסתן-אל-מרג' | L52: 7243.79 | M52: -0.94461 | N52: 50 | O52: 2 | P52: 38 | Q52: 2 | R52: =O52-Q52 -> 0
A53: I'BILLIN | B53: -0.77014523 | C53: 52 | D53: אעבלין | E53: 529 | F53: 3 | J53: 504 | K53: כאבול | L53: 12801.67 | M53: -0.93307 | N53: 51 | O53: 2 | P53: 52 | Q53: 2 | R53: =O53-Q53 -> 0
A54: FUREIDIS | B54: -0.76539523 | C54: 53 | D54: פוריידיס | E54: 537 | F54: 3 | J54: 542 | K54: ריינה | L54: 17758.63 | M54: -0.87864 | N54: 52 | O54: 3 | P54: 64 | Q54: 3 | R54: =O54-Q54 -> 0
... A59: MAJDAL SHAMS | B59: -0.69295755 | C59: 58 | D59: מג'דל שמס | E59: 4201 | F59: 3 | J59: 1296 | K59: כסרא-סמיע | L59: 7867.73 | M59: -0.83416 | N59: 57 | O59: 3 | P59: 27 | Q59: 2 | R59: =O59-Q59 -> 1
A60: SAJUR | B60: -0.68104122 | C60: 59 | D60: סאג'ור | E60: 525 | F60: 3 | J60: 4501 | K60: ע'ג'ר | L60: 2361 | M60: -0.816 | N60: 58 | O60: 3 | P60: .. | Q60: .. | R60: ..
A61: DABURIYYA | B61: -0.67754017 | C61: 60 | D61: דבורייה | E61: 489 | F61: 3 | J61: 913 | K61: שבלי - אום אל-גנם | L61: 5469.94 | M61: -0.8149 | N61: 59 | O61: 3 | P61: 36 | Q61: 2 | R61: =O61-Q61 -> 1
A62: MAS'ADE | B62: -0.6762006 | C62: 61 | D62: מסעדה | E62: 4203 | F62: 3 | J62: 3574 | K62: בית אל | L62: 5899.18 | M62: -0.80715 | N62: 60 | O62: 3 | P62: 128 | Q62: 5 | R62: =O62-Q62 -> -2
...
