Workbook

Sheet תוכניות בניין עיר
A1: שם הרשות | B1: שם התוכנית | C1: מספר התוכנית | D1: מספר מכרז | E1: סטטוס (מספר משמעותו שהקרקעות משווקות) | F1: מועד הסטטוס | G1: מספר יח"ד | H1: שטח מסחר/תעסוקה | I1: מלונאות/דיור מוגן | J1: יח"ד אקוויולנטי של המסחר/תעסוקה (1 יח"ד = 200 מ"ר עיקרי+שירות עילי, מלונאות - 1 יח"ד = 3 מעונות) | K1: חלק מהתוכנית מכלל העיר | L1: סך עלות תשתיות על עירוניות (אש"ח) | M1: סך עלות תשתיות על - אש"ח | N1: סה"כ תשתיות | O1: העמסה ליח"ד (בש"ח) | P1: עלויות העמסה (באש"ח) | Q1: תקורה גלובאליים (מקסימום) | R1: תקורה גלובאליים (מינימום) | S1: תקורה גלובאליים ליח"ד (מקסימום) | T1: תקורה גלובאליים ליח"ד (מינימום)
A2: אשקלון | B2: מ-8 הבלוט | C2: 192/3/4 | E2: מילוי תנאים להפקדה | F2: 2.9.16 | G2: 716 | I2: 1400 | J2: =H2/200+G2+I2/3 -> 1182.6667 | K2: =J2/SUMIFS($J$2:$J$16,$A$2:$A$16,"אשקלון") -> 0.04911455 | M2: 53594 | N2: =M2+L2 -> 53594 | O2: 45316 | P2: =O2*J2/1000 -> 53593.723 | Q2: =18.4%*$N2 -> 9861.296 | R2: =13.8%*$N2 -> 7395.972 | S2: =1000*$Q2/$J2 -> 8338.1871 | T2: =1000*$R2/$J2 -> 6253.6404 | U2: =SUM(Q$2:Q$8)/SUM(N$2:N$8) -> 0.15195106 | V2: =SUM(R$2:R$8)/SUM(N$2:N$8) -> 0.13158995
A3: אשקלון | B3: תוכנית מזרחית לבלוט | E3: מאושרת | F3: 2.9.16 | G3: 225 | J3: =H3/200+G3+I3/3 -> 225 | K3: =J3/SUMIFS($J$2:$J$16,$A$2:$A$16,"אשקלון") -> 0.0093439463 | M3: 10196 | N3: =M3+L3 -> 10196 | O3: 45316 | P3: =O3*J3/1000 -> 10196.1 | Q3: =18.8%*$N3 -> 1916.848 | R3: =13.88%*$N3 -> 1415.2048 | S3: =1000*$Q3/$J3 -> 8519.3244 | T3: =1000*$R3/$J3 -> 6289.7991 | U3: =SUM(Q$2:Q$8)/SUM(N$2:N$8) -> 0.15195106 | V3: =SUM(R$2:R$8)/SUM(N$2:N$8) -> 0.13158995
A4: אשקלון | B4: מ-7א, מ-7ב עיר היין | C4: תמל/1006 | E4: 311/2016/ים | F4: 2.9.16 | G4: 11000 | H4: 843619 | J4: =H4/200+G4+I4/3 -> 15218.095 | K4: =J4/SUMIFS($J$2:$J$16,$A$2:$A$16,"אשקלון") -> 0.63198694 | M4: 689624 | N4: =M4+L4 -> 689624 | O4: 45316 | P4: =O4*J4/1000 -> 689623.19 | Q4: =13.9%*$N4 -> 95857.736 | R4: =12.9%*$N4 -> 88961.496 | S4: =1000*$Q4/$J4 -> 6298.9314 | T4: =1000*$R4/$J4 -> 5845.7708 | U4: =SUM(Q$2:Q$8)/SUM(N$2:N$8) -> 0.15195106 | V4: =SUM(R$2:R$8)/SUM(N$2:N$8) -> 0.13158995
A5: אשקלון | B5: מתחם המתנחלים | C5: 604-0168252 | E5: בהכנה | F5: 2.9.16 | G5: 494 | I5: 270 | J5: =H5/200+G5+I5/3 -> 584 | K5: =J5/SUMIFS($J$2:$J$16,$A$2:$A$16,"אשקלון") -> 0.024252732 | M5: 26465 | N5: =M5+L5 -> 26465 | O5: 45316 | P5: =O5*J5/1000 -> 26464.544 | Q5: =18.65%*$N5 -> 4935.7225 | R5: =13.85%*$N5 -> 3665.4025 | S5: =1000*$Q5/$J5 -> 8451.5796 | T5: =1000*$R5/$J5 -> 6276.3741 | U5: =SUM(Q$2:Q$8)/SUM(N$2:N$8) -> 0.15195106 | V5: =SUM(R$2:R$8)/SUM(N$2:N$8) -> 0.13158995
A6: אשקלון | B6: אגמים מזרח | E6: בהכנה | F6: 2.9.16 | G6: 5000 | J6: =H6/200+G6+I6/3 -> 5000 | K6: =J6/SUMIFS($J$2:$J$16,$A$2:$A$16,"אשקלון") -> 0.20764325 | M6: 226580 | N6: =M6+L6 -> 226580 | O6: 45316 | P6: =O6*J6/1000 -> 226580 | Q6: =16.65%*$N6 -> 37725.57 | R6: =13.45%*$N6 -> 30475.01 | S6: =1000*$Q6/$J6 -> 7545.114 | T6: =1000*$R6/$J6 -> 6095.002 | U6: =SUM(Q$2:Q$8)/SUM(N$2:N$8) -> 0.15195106 | V6: =SUM(R$2:R$8)/SUM(N$2:N$8) -> 0.13158995
A7: אשקלון | B7: היי טק | C7: 165/101/02/4 | E7: מאושרת | F7: 2.9.16 | H7: 304000 | J7: =H7/200+G7+I7/3 -> 1520 | K7: =J7/SUMIFS($J$2:$J$16,$A$2:$A$16,"אשקלון") -> 0.063123548 | M7: 68890 | N7: =M7+L7 -> 68890 | O7: 45316 | P7: =O7*J7/1000 -> 68880.32 | Q7: =18.2%*$N7 -> 12537.98 | R7: =13.76%*$N7 -> 9479.264 | S7: =1000*$Q7/$J7 -> 8248.6711 | T7: =1000*$R7/$J7 -> 6236.3579 | U7: =SUM(Q$2:Q$8)/SUM(N$2:N$8) -> 0.15195106 | V7: =SUM(R$2:R$8)/SUM(N$2:N$8) -> 0.13158995
A8: אשקלון | B8: חישתיל - מזרחית לגן הלאומי | E8: בהכנה | F8: 2.9.16 | G8: 350 | J8: =H8/200+G8+I8/3 -> 350 | K8: =J8/SUMIFS($J$2:$J$16,$A$2:$A$16,"אשקלון") -> 0.014535028 | M8: 15861 | N8: =M8+L8 -> 15861 | O8: 45316 | P8: =O8*J8/1000 -> 15860.6 | Q8: =18.759%*$N8 -> 2975.365 | R8: =13.87%*$N8 -> 2199.9207 | S8: =1000*$Q8/$J8 -> 8501.0428 | T8: =1000*$R8/$J8 -> 6285.4877 | U8: =SUM(Q$2:Q$8)/SUM(N$2:N$8) -> 0.15195106 | V8: =SUM(R$2:R$8)/SUM(N$2:N$8) -> 0.13158995
A9: באר שבע | B9: נווה מנחם שלב א | C9: 222/03/200/5 | D9: בש/260/2016 | E9: מאושרת | F9: 1.10.15 | G9: 632 | H9: =128*100/2 -> 6400 | J9: =H9/100+G9+I9/3 -> 696 | K9: =J9/SUMIFS($J$2:$J$37,$A$2:$A$37,"באר שבע") -> 0.034180143 | L9: =13000*$G9+7500*$G9 -> 12956000 | N9: =M9+L9 -> 12956000
A10: באר שבע | B10: נווה מנחם שלב ב' | C10: 223/03/200/5 | E10: מאושרת | F10: 1.10.15 | G10: 652 | H10: =128*100/2 -> 6400 | J10: =H10/100+G10+I10/3 -> 716 | K10: =J10/SUMIFS($J$2:$J$37,$A$2:$A$37,"באר שבע") -> 0.035162331 | L10: =13000*$G10+7500*$G10 -> 13366000 | N10: =M10+L10 -> 13366000
A11: באר שבע | B11: מבואה מערבית | C11: 129/122/02/5 | E11: עודכנה תחת תוכנית 605-0407163 | F11: 1.10.15 | G11: =1.1*1094+408 -> 1611.4 | H11: =84*100 -> 8400 | J11: =H11/100+G11+I11/3 -> 1695.4 | K11: =J11/SUMIFS($J$2:$J$37,$A$2:$A$37,"באר שבע") -> 0.083260078 | L11: =13000*$G11+7500*$G11+7000*1094 -> 40691700 | N11: =M11+L11 -> 40691700
A12: באר שבע | B12: קריית גנים (מתחם האצטדיון) | C12: 114/102/02/5 | E12: מאושרת | F12: 1.10.15 | G12: =1.15*2000 -> 2300 | H12: =50*100 -> 5000 | J12: =H12/100+G12+I12/3 -> 2350 | K12: =J12/SUMIFS($J$2:$J$37,$A$2:$A$37,"באר שבע") -> 0.11540709 | L12: =20000*$G12+7500*$G12 -> 63250000 | N12: =M12+L12 -> 63250000
A13: באר שבע | B13: פלח 5 נווה זאב | C13: 98/102/02/5 | D13: בש/354/2013 | E13: מאושרת | F13: 1.10.15 | G13: =1.1*945+51 -> 1090.5 | H13: =7*100 -> 700 | J13: =H13/100+G13+I13/3 -> 1097.5 | K13: =J13/SUMIFS($J$2:$J$37,$A$2:$A$37,"באר שבע") -> 0.053897568 | L13: =13000*$G13+7500*$G13+7000*945 -> 28970250 | N13: =M13+L13 -> 28970250
A14: באר שבע | B14: רמות אצבעות א' | C14: 122/102/02/5 | E14: מאושרת | F14: 1.10.15 | G14: =1.2*1424 -> 1708.8 | H14: =23*100 -> 2300 | J14: =H14/100+G14+I14/3 -> 1731.8 | K14: =J14/SUMIFS($J$2:$J$37,$A$2:$A$37,"באר שבע") -> 0.085047661 | L14: =20000*$G14+7500*$G14 -> 46992000 | N14: =M14+L14 -> 46992000
A15: באר שבע | B15: רמות אצבעות ב' | C15: 148/102/02/5 | E15: מאושרת | F15: 1.10.15 | G15: =1.2*1202 -> 1442.4 | H15: =8*100 -> 800 | J15: =H15/100+G15+I15/3 -> 1450.4 | K15: =J15/SUMIFS($J$2:$J$37,$A$2:$A$37,"באר שבע") -> 0.071228275 | L15: =20000*$G15+7500*$G15 -> 39666000 | N15: =M15+L15 -> 39666000
A16: באר שבע | B16: רמות אצבעות ג' | C16: 128/102/02/5 | E16: מאושרת | F16: 1.10.15 | G16: =1.2*1088 -> 1305.6 | H16: =441*100 -> 44100 | J16: =H16/100+G16+I16/3 -> 1746.6 | K16: =J16/SUMIFS($J$2:$J$37,$A$2:$A$37,"באר שבע") -> 0.08577448 | L16: =20000*$G16+7500*$G16 -> 35904000 | N16: =M16+L16 -> 35904000
A17: באר שבע | B17: פרוייקט רגר | C17: תוכנית בתוקף בייעוד מסחר, יתאפשר שינוי תב"ע ע"י היזם | E17: 25/2017/בש | F17: 1.10.15 | G17: 420 | J17: =H17/100+G17+I17/3 -> 420 | K17: =J17/SUMIFS($J$2:$J$37,$A$2:$A$37,"באר שבע") -> 0.020625948 | L17: =13000*$G17+7500*$G17 -> 8610000 | N17: =M17+L17 -> 8610000
A18: באר שבע | B18: מבואה צפונית - מרת"ח | C18: 605-0296064 | E18: לקראת דיון בועדה המקומית | F18: 1.10.15 | G18: 4088 | H18: =40*100 -> 4000 | J18: =H18/100+G18+I18/3 -> 4128 | K18: =J18/SUMIFS($J$2:$J$37,$A$2:$A$37,"באר שבע") -> 0.20272361 | L18: =20000*$G18+7500*$G18 -> 112420000 | N18: =M18+L18 -> 112420000
A19: באר שבע | B19: שכונת פארק | C19: 605-0225284 | D19: בש/396/2016 , בש/203/2016 | E19: מאושרת | F19: בבדיקת מכרזים | G19: 4136 | H19: =195*100 -> 19500 | J19: =H19/100+G19+I19/3 -> 4331 | K19: =J19/SUMIFS($J$2:$J$37,$A$2:$A$37,"באר שבע") -> 0.21269282 | L19: =20000*$G19+7500*$G19 -> 113740000 | N19: =M19+L19 -> 113740000
A20: קריית ביאליק | B20: אפק | C20: ק/425 | E20: מאושרת | F20: מועד חתימת ההסכם | G20: 4573 | H20: =100*(87+49) -> 13600 | J20: =H20/100+G20+I20/3 -> 4709 | K20: =J20/SUMIFS($J$2:$J$37,$A$2:$A$37,"קריית ביאליק") -> 0.62173224 | L20: =7500*$G20+114405000 -> 148702500 | M20: 983243710 | N20: =M20+L20 -> 1131946210
A21: קריית ביאליק | B21: כפר ביאליק דרום | C21: 352-0094631 | E21: מאושרת | F21: תחילת 2016 | G21: 1917 | J21: =H21/100+G21+I21/3 -> 1917 | K21: =J21/SUMIFS($J$2:$J$37,$A$2:$A$37,"קריית ביאליק") -> 0.25310272 | L21: =7500*$G21 -> 14377500 | N21: =M21+L21 -> 14377500
A22: קריית ביאליק | B22: הרחבת גבעת הרקפות | C22: 301-0186817 | E22: מאושרת | F22: תחילת 2016 | G22: 948 | J22: =H22/100+G22+I22/3 -> 948 | K22: =J22/SUMIFS($J$2:$J$37,$A$2:$A$37,"קריית ביאליק") -> 0.12516504 | L22: =7500*$G22 -> 7110000 | N22: =M22+L22 -> 7110000
A23: מודיעין | B23: נופים N | C23: מד/1/9 | E23: בתוקף | F23: 22.1.14 | G23: =1845-120 -> 1725 | I23: 120 | J23: =H23/100+G23+I23/3 -> 1765 | K23: =J23/SUMIFS($J$2:$J$37,$A$2:$A$37,"מודיעין") -> 0.15054589 | L23: =7500*$G23 -> 12937500
A24: מודיעין | B24: מע"ר + אמת המים | C24: 420-0138651 | E24: בתוקף ברבעון 4 2014 | F24: 22.1.14 | G24: 1450 | J24: =H24/100+G24+I24/3 -> 1450 | K24: =J24/SUMIFS($J$2:$J$37,$A$2:$A$37,"מודיעין") -> 0.12367793 | L24: =7500*$G24 -> 10875000
A25: מודיעין | B25: שכונת מורשת P | C25: 420-0241646 | E25: בתוקף ברבעון 2 2015 | F25: 22.1.14 | G25: 3867 | J25: =H25/100+G25+I25/3 -> 3867 | K25: =J25/SUMIFS($J$2:$J$37,$A$2:$A$37,"מודיעין") -> 0.32983623 | L25: =7500*$G25 -> 29002500
A26: מודיעין | B26: שכונת גבעת שר L | C26: מד/10 | E26: בתוקף ברבעון 1 2016 | F26: 22.1.14 | G26: 4642 | J26: =H26/100+G26+I26/3 -> 4642 | K26: =J26/SUMIFS($J$2:$J$37,$A$2:$A$37,"מודיעין") -> 0.39593995 | L26: =7500*$G26 -> 34815000
A27: עפולה | B27: מול העמק | C27: ג/17000 תמל/1021 | E27: בתוקף בהפקדה | F27: 8.9.16 | G27: 1581 | H27: 2100 | J27: =H27/400+G27+I27/3 -> 1586.25 | K27: =J27/SUMIFS($J$2:$J$37,$A$2:$A$37,"עפולה") -> 0.11446023 | L27: =7500*$G27 -> 11857500 | M27: 70138000 | N27: =M27+L27 -> 81995500 | O27: 44220 | P27: =O27*J27/1000 -> 70143.975 | Q27: =18.2%*$N27 -> 14923181 | R27: =13.74%*$N27 -> 11266182 | S27: =1000*$Q27/$J27 -> 9407836.7 | T27: =1000*$R27/$J27 -> 7102399.8 | U27: =SUM(Q$27:Q$33)/SUM(N$27:$N$33) -> 0.16148479 | V27: =SUM(R$27:R$33)/SUM($N$27:N$33) -> 0.13324353
A28: עפולה | B28: ביה"ס חקלאי ניר העמק ואזור תעשייה מרחביה | E28: מפורטת בהכנה | F28: 8.9.16 | G28: 7000 | H28: 250000 | J28: =H28/400+G28+I28/3 -> 7625 | K28: =J28/SUMIFS($J$2:$J$37,$A$2:$A$37,"עפולה") -> 0.55020285 | L28: =7500*$G28 -> 52500000 | M28: 337147000 | N28: =M28+L28 -> 389647000 | O28: 44220 | P28: =O28*J28/1000 -> 337177.5 | Q28: =15%*$N28 -> 58447050 | R28: =13.1%*$N28 -> 51043757 | S28: =1000*$Q28/$J28 -> 7665186.9 | T28: =1000*$R28/$J28 -> 6694263.2 | U28: =SUM(Q$27:Q$33)/SUM(N$27:$N$33) -> 0.16148479 | V28: =SUM(R$27:R$33)/SUM($N$27:N$33) -> 0.13324353
A29: עפולה | B29: כפר הילדים | C29: 215-0426858 | E29: מפורטת בהכנה | F29: 8.9.16 | G29: 250 | J29: =H29/400+G29+I29/3 -> 250 | K29: =J29/SUMIFS($J$2:$J$37,$A$2:$A$37,"עפולה") -> 0.018039438 | L29: =7500*$G29 -> 1875000 | M29: 11054000 | N29: =M29+L29 -> 12929000 | O29: 44220 | P29: =O29*J29/1000 -> 11055 | Q29: =18.8%*$N29 -> 2430652 | R29: =13.88%*$N29 -> 1794545.2 | S29: =1000*$Q29/$J29 -> 9722608 | T29: =1000*$R29/$J29 -> 7178180.8 | U29: =SUM(Q$27:Q$33)/SUM(N$27:$N$33) -> 0.16148479 | V29: =SUM(R$27:R$33)/SUM($N$27:N$33) -> 0.13324353
A30: עפולה | B30: מתחם המשטרה | E30: מפורטת בהכנה | F30: 8.9.16 | G30: 120 | J30: =H30/400+G30+I30/3 -> 120 | K30: =J30/SUMIFS($J$2:$J$37,$A$2:$A$37,"עפולה") -> 0.0086589302 | L30: =7500*$G30 -> 900000 | M30: 5306000 | N30: =M30+L30 -> 6206000 | O30: 44220 | P30: =O30*J30/1000 -> 5306.4 | Q30: =18.85%*$N30 -> 1169831 | R30: =13.89%*$N30 -> 862013.4 | S30: =1000*$Q30/$J30 -> 9748591.7 | T30: =1000*$R30/$J30 -> 7183445 | U30: =SUM(Q$27:Q$33)/SUM(N$27:$N$33) -> 0.16148479 | V30: =SUM(R$27:R$33)/SUM($N$27:N$33) -> 0.13324353
A31: עפולה | B31: יתרת C1 | C31: עפ/מק/2/20010 | E31: בתוקף | F31: 8.9.16 | G31: 185 | H31: 1219 | J31: =H31/400+G31+I31/3 -> 188.0475 | K31: =J31/SUMIFS($J$2:$J$37,$A$2:$A$37,"עפולה") -> 0.013569085 | L31: =7500*$G31 -> 1387500 | M31: 8315000 | N31: =M31+L31 -> 9702500 | O31: 44220 | P31: =O31*J31/1000 -> 8315.4605 | Q31: =18.8%*$N31 -> 1824070 | R31: =13.88%*$N31 -> 1346707 | S31: =1000*$Q31/$J31 -> 9700049.2 | T31: =1000*$R31/$J31 -> 7161525.7 | U31: =SUM(Q$27:Q$33)/SUM(N$27:$N$33) -> 0.16148479 | V31: =SUM(R$27:R$33)/SUM($N$27:N$33) -> 0.13324353
A32: עפולה | B32: מתחם התחנה | C32: תת"ל 13/6/2 (מוגדר כאזור לשימור) | E32: בתוקף | F32: 8.9.16 | H32: 1500 | J32: =H32/400+G32+I32/3 -> 3.75 | K32: =J32/SUMIFS($J$2:$J$37,$A$2:$A$37,"עפולה") -> 0.00027059157 | L32: =7500*$G32 -> 0 | M32: 166000 | N32: =M32+L32 -> 166000 | O32: 44220 | P32: =O32*J32/1000 -> 165.825 | Q32: =18.9%*$N32 -> 31374 | R32: =13.9%*$N32 -> 23074 | S32: =1000*$Q32/$J32 -> 8366400 | T32: =1000*$R32/$J32 -> 6153066.7 | U32: =SUM(Q$27:Q$33)/SUM(N$27:$N$33) -> 0.16148479 | V32: =SUM(R$27:R$33)/SUM($N$27:N$33) -> 0.13324353
A33: עפולה | B33: B1, B2 | C33: עפ/מק/6/12567 (טרם התקבל מס' תוכנית חדשה | E33: בהכנה | F33: 8.9.16 | G33: 4000 | H33: 34191 | J33: =H33/400+G33+I33/3 -> 4085.4775 | K33: =J33/SUMIFS($J$2:$J$37,$A$2:$A$37,"עפולה") -> 0.29479887 | L33: =7500*$G33 -> 30000000 | M33: 63913000 | N33: =M33+L33 -> 93913000 | O33: 44220 | P33: =O33*J33/1000 -> 180659.82 | Q33: =18.3%*$N33 -> 17186079 | R33: =13.72%*$N33 -> 12884864 | S33: =1000*$Q33/$J33 -> 4206626.8 | T33: =1000*$R33/$J33 -> 3153820.7 | U33: =SUM(Q$27:Q$33)/SUM(N$27:$N$33) -> 0.16148479 | V33: =SUM(R$27:R$33)/SUM($N$27:N$33) -> 0.13324353
A34: קריית גת | B34: מתחם 07 | C34: 2/140/02/9 | D34: ים/388/2013, ים/142/2014 , ים/234/2015 , ים/90/2016 , ים/387/2013 , ים/10/2016 | E34: מאושרת | F34: 26.11.13 | G34: 936 | L34: =7500*$G34 -> 7020000
A35: קריית גת | B35: מתחם 02 | C35: 4/140/03/9 | D35: ים/235/2015, ים/161/2014, ים/197/2016 , ים/21/2016 | E35: מאושרת | F35: 26.11.13 | G35: 1320 | L35: =7500*$G35 -> 9900000
A36: קריית גת | B36: מתחם 03,04 | C36: 3/140/03/9 | D36: ים/46/2016, ים/118/2016, ים/138/2016, ים/95/2016, ים/160/2014 | E36: מאושרת | F36: 26.11.13 | G36: 2553 | L36: =7500*$G36 -> 19147500
A37: קריית גת | B37: מתחם 01 | C37: 1/140/02/9 | D37: ים/364/2014, ים/20/2016 , ים/363/2014 | E37: מאושרת | F37: 26.11.13 | G37: 1633 | L37: =7500*$G37 -> 12247500
A38: ראש העין | B38: מתחם A | C38: רנ/265/א' רנ/265/ב' | D38: מר/241/2015 , מר/365/2014 , מר/366/2010 | E38: מאושרת | G38: 2940 | L38: =7500*$G38 -> 22050000
A39: ראש העין | B39: מתחם B | C39: רנ/50 א | D39: מר/242/2015 , מר/184/2015 , מר/417/2014 , מר/313/2011 , מר/201/2011 | E39: מאושרת | G39: 4613 | L39: =7500*$G39 -> 34597500
A40: ראש העין | B40: מתחם C | C40: רנ/250 א | E40: מאושרת | G40: 1363 | L40: =7500*$G40 -> 10222500
...

Sheet ריכוז נתונים מההסכמים
A1: שם הרשות | B1: מספר תושבים בסוף 2015 (למ"ס) | C1: סה"כ יח"ד באמצע 2016 (מרשם הדירות, נתוני למ"ס) | D1: סה"כ יחידות דיור במסגרת ההסכם | E1: יח' דיור שלב א' | F1: יח' דיור שלב ב' ומעלה | G1: מס' יחידות דיור לשנה (ממוצע) | H1: שנת כניסת ההסכם לתוקף | I1: מס' יחידות דיור בשנה א' | J1: מס' יחידות דיור בשנה ב' | K1: מס' יחידות דיור בשנה ג' | L1: מס' יחידות דיור בשנה ד' | M1: מס' יחידות דיור בשנה ה' ומעלה | N1: יחס יח"ד קטנות | O1: סה"כ יחידות במחיר למשתכן | P1: סה"כ יחידות להשכרה | Q1: מרכיב התחדשות עירונית | R1: הכנסות העירייה על כל 10 מש"ח מעלויות הפיתוח בפרויקט | S1: השתתפות שנתית בהוצאות מנהלת | T1: השתתפות בהתחדשות בינוי קיים (ש"ח ליח"ד בהסכם) | U1: מגבלת השתתפות (יח"ד) | V1: שטחי מסחר ותעסוקה | W1: יחס תעסוקה ליח"ד | X1: יחס תעסוקה למגורים | Y1: ישן מול חדש | Z1: עבודות באחריות העירייה | AA1: דמי ניהול ממוצעים לעירייה | AB1: עבודות צד ג' | AC1: הכנסות כנגד תמיכה בעבודות צד ג' | AD1: הכנסות דמי ניהול לעירייה | AE1: הכנסה מארנונה למגורים ליח"ד | AF1: שטח יח"ד בישוב | AG1: שטח ממוצע ליח"ד בפרויקטים (מותאם לשיטת החישוב) | AH1: הכנסה צפויה מארנונה ליח"ד בפרויקטים | AI1: גרעון כולל ליח"ד | AJ1: גרעון ליח"ד בהכנסות עצמיות | AK1: גרעון ליח"ד בהוצאה עירונית | AL1: הכנסה ממוצעת למ"ר תעסוקה | AM1: משקל ההכנסות שאינן מארנונה בעצמיות | AN1: הכנסה עצמית שאינה מארנונה ליח"ד | AO1: תוספת עלויות שנתית לעירייה | AP1: הכנסות שנתיות לעירייה (לפי 10 שנים) | AQ1: מימוש שנתי של תעסוקה על פני זמן הבינוי | AR1: ההפרש בהכנסה ליח"ד לפני ואחרי הבינוי (כמה פחות אפשר להשקיע ליח"ד לאחר תוספת הבינוי) - ללא התחשבות בהכנסות עצמית שאינן מארנונה | AS1: ההפרש בהכנסה ליח"ד לפני ואחרי הבינוי (כמה פחות אפשר להשקיע ליח"ד לאחר תוספת הבינוי) - כולל התחשבות בהכנסות עצמיות שאינן מארנונה | AT1: היקף התעסוקה הכולל לאיזון התוכנית שלב א' (מ"ר) | AU1: זמן למימוש הבינוי לפי קצב של 1,500 יח"ד בשנה | AV1: קצב בינוי השנתי לתעסוקה הנדרש לאיזון התוכנית לשלב א' לפי קצב בינוי של 1500 יח"ד בשנה | AW1: היקף התעסוקה הנוכחי בעיר (עסקים, מלאכה ותעשייה, מלונאות ובנקים) | AX1: היקף הגידול בתעסוקה | AY1: היקף הגידול השנתי ביחס לקיים | AZ1: השתתפויות נוספות | BA1: סעיפי השתתפויות נוספות | BB1: סה"כ שווי לעירייה | BC1: שווי ליח"ד | BD1: הוצאות פיתוח בהסכם | BE1: הוצאה כוללת ליח"ד (שלב א') | BF1: הכנסות עד כה | BG1: סה"כ יח"ד ששווקו עד יוני 2017 | BH1: הכנסות בפועל ליח"ד
A2: אשקלון | B2: 130.7 | C2: 45151 | D2: =E2+F2 -> 31791 | E2: 18191 | F2: 13600 | G2: 2000 | H2: אוקטובר 2015 | I2: 2000 | J2: 2000 | K2: 2000 | L2: 2000 | M2: =E2-I2-J2-K2-L2 -> 10191 | N2: 0.3 | O2: 0 | P2: 0 | Q2: 0.1 | R2: 1.3-1.9 מש"ח | S2: =500000*12 -> 6000000 | T2: 2000 | U2: 18000 | V2: 1250000 | W2: =V2/E2 -> 68.715299 | X2: =V2/(E2*100) -> 0.68715299 | Z2: 1091200000 | AA2: 0.125 | AC2: 0.005 | AD2: =Z2*AA2+AB2*AC2 -> 136400000 | AE2: 2575.3582 | AF2: 96.166198 | AG2: =$AE$22*1.2 -> 120 | AH2: =AE2*AG2/AF2 -> 3213.6343 | AI2: 14965.626 | AJ2: 8612.7882 | AK2: 6067.2632 | AL2: 200 | AM2: 0.30130296 | AN2: =AM2*(AJ2+AE2) -> 3371.0217 | AO2: =AJ2*G2 -> 17225576 | AP2: =AD2/10 -> 13640000 | AQ2: =V2/AU2 -> 82631.88 | AR2: =-($AJ2+$AE2)+($C2*($AJ2+$AE2)+$E2*$AH2)/($C2+$E2) -> -2290.1764 | AS2: =-($AJ2+$AE2)+($C2*($AJ2+$AE2)+$E2*$AH2+$E2*$AN2)/($C2+$E2) -> -1322.0627 | AT2: =-AS2*(E2+C2)/AL2 -> 418710.48 | AU2: =E2/1500+3 -> 15.127333 | AV2: =AT2/AU2 -> 27679.067 | AW2: 1328600 | AX2: =(AW2+AT2)/AW2 -> 1.3151516 | AY2: =AV2/AW2 -> 0.020833259 | BB2: =AD2+Y2+AZ2 -> 136400000 | BC2: =BB2/D2 -> 4290.5225 | BD2: =Z2+AB2+S2*E2/G2+BB2 -> 1282173000 | BE2: =BD2/D2 -> 40331.32 | BF2: =GETPIVOTDATA("הוצאות פיתוח",'עיבוד נתוני מכרזים'!$A$53,"ישוב","אשקלון") -> 86111179 | BG2: =GETPIVOTDATA("מס' יח""ד",'עיבוד נתוני מכרזים'!$A$29,"ישוב","אשקלון") -> 917 | BH2: =BF2/BG2 -> 93905.321 | BJ2: =E2/C2 -> 0.40289252 | BM2: ="עיקרי הסכם הגג של "&$BK$3 -> עיקרי הסכם הגג של ראש העין | BQ2: מס' יחידות דיור בשנה א' | BR2: =INDEX($A$1:$BH$13,MATCH($BK$3,$A$1:$A$13,0),MATCH($BQ2,$A$1:$BH$1,0)) -> 3000
A3: באר שבע | B3: 203.6 | C3: 74581 | D3: =E3+F3 -> 19290 | E3: 18140 | F3: =19290-E3 -> 1150 | G3: =D3/6 -> 3215 | H3: אוקטובר 2015 (תקף ליח"ד ששווקו ב-2014) | I3: 6202 | J3: 3711 | K3: 4136 | L3: =4088/2 -> 2044 | M3: =D3-SUM(I3:L3) -> 3197 | N3: 0 | O3: 0 | P3: 0 | Q3: 0 | S3: =500000*12 -> 6000000 | T3: 0 | U3: 0 | V3: =SUMIFS('תוכניות בניין עיר'!$H$2:$H$47,'תוכניות בניין עיר'!$A$2:$A$47,'ריכוז נתונים מההסכמים'!$A3) -> 97600 | W3: =V3/E3 -> 5.3803749 | X3: =V3/(E3*100) -> 0.053803749 | Y3: 50000000 | Z3: 1070629097 | AA3: 0.075 | AC3: 0.01 | AD3: =Z3*AA3+AB3*AC3 -> 80297182 | AE3: 3319.9608 | AF3: 103.44592 | AG3: =$AE$22*1.2 -> 120 | AH3: =AE3*AG3/AF3 -> 3851.2424 | AI3: 16210.912 | AJ3: 10298.467 | AK3: 7513.187 | AL3: 220 | AM3: 0.32371445 | AN3: =AM3*(AJ3+AE3) -> 4408.4821 | AO3: =AJ3*G3 -> 33109573 | AP3: =AD3/10 -> 8029718.2 | AQ3: =V3/AU3 -> 6466.4311 | AR3: =-($AJ3+$AE3)+($C3*($AJ3+$AE3)+$E3*$AH3)/($C3+$E3) -> -1910.8589 | AS3: =-($AJ3+$AE3)+($C3*($AJ3+$AE3)+$E3*$AH3+$E3*$AN3)/($C3+$E3) -> -1048.3805 | AT3: =-AS3*(E3+C3)/AL3 -> 441849.49 | AU3: =E3/1500+3 -> 15.093333 | AV3: =AT3/AU3 -> 29274.48 | AW3: 1683700 | AX3: =(AW3+AT3)/AW3 -> 1.2624277 | AY3: =AV3/AW3 -> 0.017386993 | AZ3: =30000000+140000000 -> 170000000 | BA3: שדרות רגר + השתתפויות נוספות | BB3: =AD3+Y3+AZ3 -> 3.0029718e+08 | BC3: =BB3/D3 -> 15567.506 | BD3: =Z3+AB3+S3*E3/G3+BB3 -> 1.4047801e+09 | BE3: =BD3/D3 -> 72824.266 | BF3: =GETPIVOTDATA("הוצאות פיתוח",'עיבוד נתוני מכרזים'!$A$53,"ישוב","באר שבע") -> 1219402838 | BG3: =GETPIVOTDATA("מס' יח""ד",'עיבוד נתוני מכרזים'!$A$29,"ישוב","באר שבע") -> 4842 | BH3: =BF3/BG3 -> 251838.67 | BJ3: =E3/C3 -> 0.24322549 | BK3: ראש העין | BM3: יח' דיור שלב א' | BN3: =INDEX($A$1:$BH$13,MATCH($BK$3,$A$1:$A$13,0),MATCH($BM3,$A$1:$BH$1,0)) -> 9436 | BQ3: מס' יחידות דיור בשנה ב' | BR3: =INDEX($A$1:$BH$13,MATCH($BK$3,$A$1:$A$13,0),MATCH($BQ3,$A$1:$BH$1,0)) -> 2800
A4: קריית ביאליק | B4: 39.1 | C4: 15583 | D4: 7300 | E4: ='תוכניות בניין עיר'!G20 -> 4573 | F4: ='תוכניות בניין עיר'!G21+'תוכניות בניין עיר'!G22 -> 2865 | G4: =E4/5 -> 914.6 | H4: ינואר 2014 | I4: 1089 | J4: 886 | K4: =578+1671+337 -> 2586 | L4: 2000 | M4: =D4-SUM(I4:L4) -> 739 | N4: 0.2 | O4: 0 | P4: 0 | Q4: 0 | V4: =SUMIFS('תוכניות בניין עיר'!$H$2:$H$47,'תוכניות בניין עיר'!$A$2:$A$47,'ריכוז נתונים מההסכמים'!$A4) -> 13600 | W4: =V4/E4 -> 2.9739777 | X4: =V4/(E4*100) -> 0.029739777 | Y4: 27118000 | Z4: 549767036 | AA4: 0.065 | AB4: 277266027 | AC4: 0.005 | AD4: =Z4*AA4+AB4*AC4 -> 37121187 | AE4: 3675.5439 | AF4: 99.691972 | AG4: =$AE$22*1.2 -> 120 | AH4: =AE4*AG4/AF4 -> 4424.2807 | AI4: 13531.348 | AJ4: 9544.4395 | AK4: 5827.1835 | AL4: 140 | AM4: 0.43573762 | AN4: =AM4*(AJ4+AE4) -> 5760.4441 | AO4: =AJ4*G4 -> 8729344.3 | AP4: =AD4/10 -> 3712118.7 | AQ4: =V4/AU4 -> 2248.4294 | AR4: =-($AJ4+$AE4)+($C4*($AJ4+$AE4)+$E4*$AH4)/($C4+$E4) -> -1995.572 | AS4: =-($AJ4+$AE4)+($C4*($AJ4+$AE4)+$E4*$AH4+$E4*$AN4)/($C4+$E4) -> -688.64048 | AT4: =-AS4*(E4+C4)/AL4 -> 99144.554 | AU4: =E4/1500+3 -> 6.0486667 | AV4: =AT4/AU4 -> 16391.142 | AW4: 437900 | AX4: =(AW4+AT4)/AW4 -> 1.2264091 | AY4: =AV4/AW4 -> 0.037431244 | AZ4: =141580000-114405000+44300000 -> 71475000 | BA4: השתתפות במוסדות חינוך ואחרים | BB4: =AD4+Y4+AZ4 -> 1.3571419e+08 | BC4: =BB4/D4 -> 18590.985 | BD4: =(AD4+Z4+AB4+S4*E4/G4)*1.18 -> 1.019702e+09 | BE4: =BD4/D4 -> 139685.21 | BF4: =GETPIVOTDATA("הוצאות פיתוח",'עיבוד נתוני מכרזים'!$A$53,"ישוב","קרית ביאליק") -> 373691532 | BG4: =GETPIVOTDATA("מס' יח""ד",'עיבוד נתוני מכרזים'!$A$29,"ישוב","קרית ביאליק") -> 1910 | BH4: =BF4/BG4 -> 195650.02 | BJ4: =E4/C4 -> 0.29346082 | BM4: מס' יחידות דיור בשנה א' עד ג' | BN4: =SUM(BR2:BR4) -> 8300 | BQ4: מס' יחידות דיור בשנה ג' | BR4: =INDEX($A$1:$BH$13,MATCH($BK$3,$A$1:$A$13,0),MATCH($BQ4,$A$1:$BH$1,0)) -> 2500
A5: מודיעין-מכבים-רעות | B5: 88.7 | C5: 23028 | D5: =I5+J5+K5 -> 11684 | E5: =D5 -> 11684 | F5: 0 | G5: =D5/3 -> 3894.6667 | H5: ינואר 2014 | I5: ='תוכניות בניין עיר'!G23+'תוכניות בניין עיר'!G24 -> 3175 | J5: ='תוכניות בניין עיר'!G25 -> 3867 | K5: ='תוכניות בניין עיר'!G26 -> 4642 | L5: 0 | N5: 0 | O5: 0 | P5: 0 | Q5: 0 | T5: 0 | U5: 0 | AA5: 0.065 | AE5: 5979.6769 | AF5: 158.7285 | AG5: =$AE$22*1.2 -> 120 | AH5: =AE5*AG5/AF5 -> 4520.6829 | AI5: 15758.077 | AJ5: 6661.8464 | AK5: 3029.8332 | AL5: 140 | AM5: 0.26723667 | AN5: =AM5*(AJ5+AE5) -> 3378.2786 | AO5: =AJ5*G5 -> 25945671 | AP5: =AD5/10 -> 0 | AQ5: =V5/AU5 -> 0 | AR5: =-($AJ5+$AE5)+($C5*($AJ5+$AE5)+$E5*$AH5)/($C5+$E5) -> -2733.4611 | AS5: =-($AJ5+$AE5)+($C5*($AJ5+$AE5)+$E5*$AH5+$E5*$AN5)/($C5+$E5) -> -1596.3382 | AT5: =-AS5*(E5+C5)/AL5 -> 395800.66 | AU5: =E5/1500+3 -> 10.789333 | AV5: =AT5/AU5 -> 36684.441 | AW5: 483200 | AX5: =(AW5+AT5)/AW5 -> 1.8191239 | AY5: =AV5/AW5 -> 0.075919787 | BC5: =BB5/D5 -> 0 | BD5: =Z5+AB5+S5*E5/G5+BB5 -> 0 | BF5: =GETPIVOTDATA("הוצאות פיתוח",'עיבוד נתוני מכרזים'!$A$53,"ישוב","מודיעין-מכבים-רעות") -> 1447137260 | BG5: =GETPIVOTDATA("מס' יח""ד",'עיבוד נתוני מכרזים'!$A$29,"ישוב","מודיעין-מכבים-רעות") -> 6789 | BH5: =BF5/BG5 -> 213159.12 | BJ5: =E5/C5 -> 0.50738232 | BM5: מס' יחידות דיור לשנה (ממוצע) | BN5: =INDEX($A$1:$BH$13,MATCH($BK$3,$A$1:$A$13,0),MATCH($BM5,$A$1:$BH$1,0)) -> 2359 | BQ5: מס' יחידות דיור בשנה ד' | BR5: =INDEX($A$1:$BH$13,MATCH($BK$3,$A$1:$A$13,0),MATCH($BQ5,$A$1:$BH$1,0)) -> 1227
A6: עפולה | B6: 44.9 | C6: 16574 | D6: =SUMIFS('תוכניות בניין עיר'!$G$2:$G$63,'תוכניות בניין עיר'!$A$2:$A$63,'ריכוז נתונים מההסכמים'!$A6) -> 13136 | E6: =D6 -> 13136 | F6: 0 | G6: 2000 | H6: ספטמבר 2016 | I6: 1766 | J6: 1000 | K6: 2000 | L6: 2000 | M6: =D6-SUM(I6:L6) -> 6370 | N6: 0.3 | O6: 0 | P6: 0 | Q6: 0.1 | S6: =12*320000 -> 3840000 | U6: 0 | V6: =SUMIFS('תוכניות בניין עיר'!$H$2:$H$57,'תוכניות בניין עיר'!$A$2:$A$57,'ריכוז נתונים מההסכמים'!$A6) -> 289010 | W6: =V6/E6 -> 22.00137 | X6: =V6/(E6*100) -> 0.2200137 | Z6: 385889000 | AA6: 0.14 | AD6: 93324000 | AE6: 2736.153 | AF6: 107.554 | AG6: =$AE$22*1.2 -> 120 | AH6: =AE6*AG6/AF6 -> 3052.7768 | AI6: 15352.178 | AJ6: 8559.4908 | AK6: 6251.6592 | AL6: 185 | AM6: 0.33914665 | AN6: =AM6*(AJ6+AE6) -> 3830.8797 | AO6: =AJ6*G6 -> 17118982 | AP6: =AD6/10 -> 9332400 | AQ6: =V6/AU6 -> 24581.254 | AR6: =-($AJ6+$AE6)+($C6*($AJ6+$AE6)+$E6*$AH6)/($C6+$E6) -> -3644.5069 | AS6: =-($AJ6+$AE6)+($C6*($AJ6+$AE6)+$E6*$AH6+$E6*$AN6)/($C6+$E6) -> -1950.7191 | AT6: =-AS6*(E6+C6)/AL6 -> 313274.94 | AU6: =E6/1500+3 -> 11.757333 | AV6: =AT6/AU6 -> 26645.068 | AW6: 523700 | AX6: =(AW6+AT6)/AW6 -> 1.5981954 | AY6: =AV6/AW6 -> 0.050878495 | BB6: =AD6+Y6+AZ6 -> 93324000 | BC6: =BB6/D6 -> 7104.4458 | BD6: =Z6+AB6+S6*E6/G6+BB6 -> 504434120 | BE6: =BD6/D6 -> 38400.892 | BF6: =GETPIVOTDATA("הוצאות פיתוח",'עיבוד נתוני מכרזים'!$A$53,"ישוב","עפולה") -> 7129854 | BG6: =GETPIVOTDATA("מס' יח""ד",'עיבוד נתוני מכרזים'!$A$29,"ישוב","עפולה") -> 92 | BH6: =BF6/BG6 -> 77498.413 | BJ6: =E6/C6 -> 0.79256667 | BM6: הוצאות פיתוח בהסכם | BN6: =INDEX($A$1:$BH$13,MATCH($BK$3,$A$1:$A$13,0),MATCH($BM6,$A$1:$BH$1,0)) -> 125100000 | BQ6: מס' יחידות דיור בשנה ה' ומעלה | BR6: =INDEX($A$1:$BH$13,MATCH($BK$3,$A$1:$A$13,0),MATCH($BQ6,$A$1:$BH$1,0)) -> 0
A7: קריית גת | B7: 51.5 | C7: 15910 | D7: 6442 | E7: =D7 -> 6442 | F7: =1001+1469+1877+2807-E7 -> 712 | G7: =E7/3 -> 2147.3333 | H7: נובמבר 2013 | I7: =$E$7/3 -> 2147.3333 | J7: =$E$7/3 -> 2147.3333 | K7: =$E$7/3 -> 2147.3333 | L7: 0 | N7: 0 | O7: 0 | P7: 0 | Q7: 0 | Y7: 46024000 | Z7: =(1426696-300000)*1000 -> 1126696000 | AA7: 0.065 | AB7: 300000000 | AC7: 0 | AD7: =Z7*AA7+AB7*AC7 -> 73235240 | AE7: 2421.116 | AF7: 96.250554 | AG7: =$AE$22*1.2 -> 120 | AH7: =AE7*AG7/AF7 -> 3018.5168 | AI7: 23732.345 | AJ7: 13862.689 | AK7: 11222.877 | AL7: 142 | AM7: 0.35112114 | AN7: =AM7*(AJ7+AE7) -> 5717.5882 | AO7: =AJ7*G7 -> 29767815 | AP7: =AD7/10 -> 7323524 | AQ7: =V7/AU7 -> 0 | AR7: =-($AJ7+$AE7)+($C7*($AJ7+$AE7)+$E7*$AH7)/($C7+$E7) -> -3823.1473 | AS7: =-($AJ7+$AE7)+($C7*($AJ7+$AE7)+$E7*$AH7+$E7*$AN7)/($C7+$E7) -> -2175.2991 | AT7: =-AS7*(E7+C7)/AL7 -> 342410.45 | AU7: =E7/1500+3 -> 7.2946667 | AV7: =AT7/AU7 -> 46939.836 | AW7: 633000 | AX7: =(AW7+AT7)/AW7 -> 1.5409328 | AY7: =AV7/AW7 -> 0.074154559 | BB7: =AD7+Y7+AZ7 -> 119259240 | BC7: =BB7/D7 -> 18512.766 | BD7: =Z7+AB7+S7*E7/G7+BB7 -> 1545955240 | BE7: =BD7/D7 -> 239980.63 | BF7: =GETPIVOTDATA("הוצאות פיתוח",'עיבוד נתוני מכרזים'!$A$53,"ישוב","קרית גת") -> 837753583 | BG7: =GETPIVOTDATA("מס' יח""ד",'עיבוד נתוני מכרזים'!$A$29,"ישוב","קרית גת") -> 5160 | BH7: =BF7/BG7 -> 162355.35 | BJ7: =E7/C7 -> 0.40490258 | BM7: הוצאה כוללת ליח"ד (שלב א') | BN7: =INDEX($A$1:$BH$13,MATCH($BK$3,$A$1:$A$13,0),MATCH($BM7,$A$1:$BH$1,0)) -> 6974.7993
A8: ראש העין | B8: 42.9 | C8: 12334 | D8: 17936 | E8: 9436 | F8: =D8-E8 -> 8500 | G8: =E8/4 -> 2359 | H8: פברואר 2014 | I8: 3000 | J8: 2800 | K8: 2500 | L8: 1227 | N8: 0 | O8: 0 | P8: 0 | S8: =700000*12 -> 8400000 | Y8: 44000000 | AA8: 0.065 | AC8: 0.01 | AD8: =Z8*AA8+AB8*AC8 -> 0 | AE8: 4177.9634 | AF8: 118.25036 | AG8: =$AE$22*1.2 -> 120 | AH8: =AE8*AG8/AF8 -> 4239.7806 | AI8: 20583.59 | AJ8: 12858.278 | AK8: 7611.8048 | AL8: 145 | AM8: 0.317768 | AN8: =AM8*(AJ8+AE8) -> 5413.5722 | AO8: =AJ8*G8 -> 30332678 | AP8: =AD8/10 -> 0 | AQ8: =V8/AU8 -> 0 | AR8: =-($AJ8+$AE8)+($C8*($AJ8+$AE8)+$E8*$AH8)/($C8+$E8) -> -5546.5045 | AS8: =-($AJ8+$AE8)+($C8*($AJ8+$AE8)+$E8*$AH8+$E8*$AN8)/($C8+$E8) -> -3200.043 | AT8: =-AS8*(E8+C8)/AL8 -> 480447.83 | AU8: =E8/1500+3 -> 9.2906667 | AV8: =AT8/AU8 -> 51712.955 | AW8: 495300 | AX8: =(AW8+AT8)/AW8 -> 1.9700138 | AY8: =AV8/AW8 -> 0.10440734 | AZ8: =10000000+37500000 -> 47500000 | BA8: מחצית מיחידות הדיור הן לבני המקום, הסטת מסלולי הנחיתה של נתב"ג, הסטת קווי מתח גבוה (בהתאם להכנסות), 10 מיליון לשיפוץ רחוב שבזי, 37.5 לטובת כביש הגישה לאזור התעשייה | BB8: =AD8+Y8+AZ8 -> 91500000 | BC8: =BB8/D8 -> 5101.4719 | BD8: =Z8+AB8+S8*E8/G8+BB8 -> 125100000 | BE8: =BD8/D8 -> 6974.7993 | BF8: =GETPIVOTDATA("הוצאות פיתוח",'עיבוד נתוני מכרזים'!$A$53,"ישוב","ראש העין") -> 1027018719 | BG8: =GETPIVOTDATA("מס' יח""ד",'עיבוד נתוני מכרזים'!$A$29,"ישוב","ראש העין") -> 4576 | BH8: =BF8/BG8 -> 224435.91 | BJ8: =E8/C8 -> 0.76503973 | BM8: עבודות באחריות העירייה | BN8: =INDEX($A$1:$BH$13,MATCH($BK$3,$A$1:$A$13,0),MATCH($BM8,$A$1:$BH$1,0)) -> 0
A9: ראשון לציון | B9: 244 | C9: 77688 | D9: 18000 | E9: 16393 | G9: =E9/4 -> 4098.25 | H9: נובמבר 2014 | I9: =1389+'תוכניות בניין עיר'!G53 -> 1389 | J9: =2700+1300+3500 -> 7500 | K9: =1700+2300 -> 4000 | L9: =3500+'תוכניות בניין עיר'!G55 -> 4406 | V9: ='תוכניות בניין עיר'!H47+'תוכניות בניין עיר'!H49+'תוכניות בניין עיר'!H53 -> 663196 | Z9: =1343113000-63274000 -> 1279839000 | AA9: 0.065 | AB9: 302039000 | AC9: 0.005 | AD9: =15152000+63274000 -> 78426000 | AE9: 4807.8339 | AF9: 104.55926 | AG9: =$AE$22*1.1 -> 110 | AH9: =AE9*AG9/AF9 -> 5058.0094 | AI9: 19689.386 | AJ9: 9682.5378 | AK9: 10593.271 | AL9: 217 | AM9: 0.28766807 | AN9: =AM9*(AJ9+AE9) -> 4168.4173 | AO9: =AJ9*G9 -> 39681461 | AP9: =AD9/10 -> 7842600 | AQ9: =V9/AU9 -> 47613.746 | AR9: =-($AJ9+$AE9)+($C9*($AJ9+$AE9)+$E9*$AH9)/($C9+$E9) -> -1643.5276 | AS9: =-($AJ9+$AE9)+($C9*($AJ9+$AE9)+$E9*$AH9+$E9*$AN9)/($C9+$E9) -> -917.20807 | AT9: =-AS9*(E9+C9)/AL9 -> 397658.31 | AU9: =E9/1500+3 -> 13.928667 | AV9: =AT9/AU9 -> 28549.632 | AW9: 1943600 | AX9: =(AW9+AT9)/AW9 -> 1.2045988 | AY9: =AV9/AW9 -> 0.014689047 | BA9: אישור מתחם 1000 מהווה תנאי לקצב השיווק | BB9: =AD9+Y9+AZ9 -> 78426000 | BC9: =BB9/D9 -> 4357 | BD9: =AD9+AB9+Z9 -> 1660304000 | BE9: =BD9/D9 -> 92239.111 | BF9: =GETPIVOTDATA("הוצאות פיתוח",'עיבוד נתוני מכרזים'!$A$53,"ישוב","ראשון לציון") -> 618942105 | BG9: =GETPIVOTDATA("מס' יח""ד",'עיבוד נתוני מכרזים'!$A$29,"ישוב","ראשון לציון") -> 4478 | BH9: =BF9/BG9 -> 138218.42 | BJ9: =E9/C9 -> 0.21101071 | BM9: הכנסות דמי ניהול לעירייה | BN9: =INDEX($A$1:$BH$13,MATCH($BK$3,$A$1:$A$13,0),MATCH($BM9,$A$1:$BH$1,0)) -> 0
A10: רמלה | B10: 73.7 | C10: 21284 | D10: 7500 | E10: =SUM('תוכניות בניין עיר'!G57:G65) -> 7483 | F10: 1400 | G10: =E10/3 -> 2494.3333 | H10: יולי 2015 | I10: 2000 | J10: =('תוכניות בניין עיר'!G57+'תוכניות בניין עיר'!G59-2000+'תוכניות בניין עיר'!G61)+227+'תוכניות בניין עיר'!G60+'תוכניות בניין עיר'!G62 -> 2922 | K10: ='תוכניות בניין עיר'!G65+'תוכניות בניין עיר'!G64+'תוכניות בניין עיר'!G63+661 -> 2561 | L10: =E10-SUM(I10:K10) -> 0 | N10: 0.3 | Q10: 0.1 | V10: ='תוכניות בניין עיר'!H57+'תוכניות בניין עיר'!H58+'תוכניות בניין עיר'!H59 -> 166048 | W10: =V10/E10 -> 22.190031 | X10: =V10/(E10*100) -> 0.22190031 | Z10: =SUM('תוכניות בניין עיר'!M57:M65) -> 557778459 | AA10: 0.065 | AC10: 0.005 | AD10: =Z10*AA10+AB10*AC10 -> 36255600 | AE10: 2979.1862 | AF10: 95.752678 | AG10: =$AE$22*1.2 -> 120 | AH10: =AE10*AG10/AF10 -> 3733.6016 | AI10: 17654.576 | AJ10: 9489.5696 | AK10: 8205.1306 | AL10: 150 | AM10: 0.30442941 | AN10: =AM10*(AJ10+AE10) -> 3795.856 | AO10: =AJ10*G10 -> 23670150 | AP10: =AD10/10 -> 3625560 | AQ10: =V10/AU10 -> 20785.446 | AR10: =-($AJ10+$AE10)+($C10*($AJ10+$AE10)+$E10*$AH10)/($C10+$E10) -> -2272.2272 | AS10: =-($AJ10+$AE10)+($C10*($AJ10+$AE10)+$E10*$AH10+$E10*$AN10)/($C10+$E10) -> -1284.8322 | AT10: =-AS10*(E10+C10)/AL10 -> 246405.13 | AU10: =E10/1500+3 -> 7.9886667 | AV10: =AT10/AU10 -> 30844.337 | AW10: 773000 | AX10: =(AW10+AT10)/AW10 -> 1.3187647 | AY10: =AV10/AW10 -> 0.039902118 | BD10: =Z10+AB10+S10*E10/G10+BB10 -> 557778459 | BE10: =BD10/D10 -> 74370.461 | BF10: =GETPIVOTDATA("הוצאות פיתוח",'עיבוד נתוני מכרזים'!$A$53,"ישוב","רמלה") -> 113657187 | BG10: =GETPIVOTDATA("מס' יח""ד",'עיבוד נתוני מכרזים'!$A$29,"ישוב","רמלה") -> 802 | BH10: =BF10/BG10 -> 141717.19 | BJ10: =E10/C10 -> 0.35157865 | BM10: הכנסות עד כה | BN10: =INDEX($A$1:$BH$13,MATCH($BK$3,$A$1:$A$13,0),MATCH($BM10,$A$1:$BH$1,0)) -> 1027018719
A11: נתניה | B11: 207.9 | C11: 72542 | D11: 12288 | E11: =D11 -> 12288 | G11: 2000 | H11: אפריל 2016 | I11: 2000 | J11: 2000 | K11: 2000 | L11: 2000 | M11: =D11-SUM(I11:L11) -> 4288 | N11: 0.3 | Q11: 0.1 | T11: =3000 -> 3000 | U11: 18000 | V11: =SUM('תוכניות בניין עיר'!H66:H79) -> 1778707 | W11: =V11/E11 -> 144.75155 | X11: =V11/(E11*100) -> 1.4475155 | Y11: =3000*D11 -> 36864000 | Z11: =451994314+28961072*E11/1000 -> 8.0786797e+08 | AA11: 0.14 | AC11: 0.005 | AD11: =Z11*AA11+AB11*AC11 -> 1.1310152e+08 | AE11: 4523.7104 | AF11: 97.692371 | AG11: =$AE$22*1.2 -> 120 | AH11: =AE11*AG11/AF11 -> 5556.68 | AI11: 14199.443 | AJ11: 8458.1208 | AK11: 5239.0064 | AL11: 165 | AM11: 0.34405794 | AN11: =AM11*(AJ11+AE11) -> 4466.5022 | AO11: =AJ11*G11 -> 16916242 | AP11: =AD11/10 -> 11310152 | AQ11: =V11/AU11 -> 158926.64 | AR11: =-($AJ11+$AE11)+($C11*($AJ11+$AE11)+$E11*$AH11)/($C11+$E11) -> -1075.5659 | AS11: =-($AJ11+$AE11)+($C11*($AJ11+$AE11)+$E11*$AH11+$E11*$AN11)/($C11+$E11) -> -428.57337 | AT11: =-AS11*(E11+C11)/AL11 -> 220338.66 | AU11: =E11/1500+3 -> 11.192 | AV11: =AT11/AU11 -> 19687.157 | AW11: 1638900 | AX11: =(AW11+AT11)/AW11 -> 1.134443 | AY11: =AV11/AW11 -> 0.012012421 | BB11: =AD11+Y11+AZ11 -> 1.4996552e+08 | BC11: =BB11/D11 -> 12204.225 | BD11: =Z11+AB11+S11*E11/G11+BB11 -> 9.5783348e+08 | BE11: =BD11/D11 -> 77948.688 | BF11: =GETPIVOTDATA("הוצאות פיתוח",'עיבוד נתוני מכרזים'!$A$53,"ישוב","נתניה") -> 61098745 | BG11: =GETPIVOTDATA("מס' יח""ד",'עיבוד נתוני מכרזים'!$A$29,"ישוב","נתניה") -> 406 | BH11: =BF11/BG11 -> 150489.52 | BJ11: =E11/C11 -> 0.16939152 | BM11: סה"כ יח"ד ששווקו עד יוני 2017 | BN11: =INDEX($A$1:$BH$13,MATCH($BK$3,$A$1:$A$13,0),MATCH($BM11,$A$1:$BH$1,0)) -> 4576
A12: יבנה | B12: 42.3 | C12: 12650 | D12: 12699 | E12: =D12 -> 12699 | G12: 2000 | H12: אוגוסט 2016 | I12: 2000 | J12: 2000 | K12: 2000 | L12: 2000 | M12: =E12-I12-J12-K12-L12 -> 4699 | N12: 0.3 | Q12: 0.1 | S12: 6000000 | V12: =SUM('תוכניות בניין עיר'!H85:H88) -> 331450 | W12: =V12/E12 -> 26.10048 | X12: =V12/(E12*100) -> 0.2610048 | Z12: =1521945121*(1/1.075) -> 1.4157629e+09 | AA12: 0.075 | AC12: 0.005 | AD12: =Z12*AA12+AB12*AC12 -> 1.0618222e+08 | AE12: 4904.4269 | AF12: 122.96443 | AG12: =$AE$22*1.2 -> 120 | AH12: =AE12*AG12/AF12 -> 4786.1909 | AI12: 16820.395 | AJ12: 9702.2134 | AK12: 6819.3676 | AL12: 110 | AM12: 0.18099949 | AN12: =AM12*(AJ12+AE12) -> 2643.7945 | AO12: =AJ12*G12 -> 19404427 | AP12: =AD12/10 -> 10618222 | AQ12: =V12/AU12 -> 28907.204 | AR12: =-($AJ12+$AE12)+($C12*($AJ12+$AE12)+$E12*$AH12)/($C12+$E12) -> -4919.7162 | AS12: =-($AJ12+$AE12)+($C12*($AJ12+$AE12)+$E12*$AH12+$E12*$AN12)/($C12+$E12) -> -3595.2637 | AT12: =-AS12*(E12+C12)/AL12 -> 828512.19 | AU12: =E12/1500+3 -> 11.466 | AV12: =AT12/AU12 -> 72258.171 | AW12: 712700 | AX12: =(AW12+AT12)/AW12 -> 2.1624978 | AY12: =AV12/AW12 -> 0.10138652 | BB12: =AD12+Y12+AZ12 -> 1.0618222e+08 | BC12: =BB12/D12 -> 8361.4629 | BD12: =Z12+AB12+S12*E12/G12+BB12 -> 1.5600421e+09 | BE12: =BD12/D12 -> 122847.64 | BF12: =GETPIVOTDATA("הוצאות פיתוח",'עיבוד נתוני מכרזים'!$A$53,"ישוב","יבנה") -> 532407632 | BG12: =GETPIVOTDATA("מס' יח""ד",'עיבוד נתוני מכרזים'!$A$29,"ישוב","יבנה") -> 2035 | BH12: =BF12/BG12 -> 261625.37 | BJ12: =E12/C12 -> 1.0038735
A13: טירת הכרמל | B13: 19.4 | C13: 7136 | D13: 10160 | E13: =D13 -> 10160 | F13: 2407 | G13: 2000 | H13: ספטמבר 2016 (תקף ליחידות ששווקו ב-2015) | I13: 2232 | J13: 1651 | K13: 2500 | L13: 2000 | M13: =D13-SUM(I13:L13) -> 1777 | V13: =SUM('תוכניות בניין עיר'!H80:H84) -> 228120 | W13: =V13/E13 -> 22.452756 | X13: =V13/(E13*100) -> 0.22452756 | Y13: 101931615 | Z13: =20396*5000+1777*13094+92519774 -> 217767812 | AA13: 0.075 | AC13: 0.015 | AD13: =Z13*AA13+AB13*AC13 -> 16332586 | AE13: 2037.8363 | AF13: 84.403027 | AG13: =$AE$22*1.2 -> 120 | AH13: =AE13*AG13/AF13 -> 2897.2937 | AI13: 26187.36 | AJ13: 16187.08 | AK13: 11112.668 | AL13: 130 | AM13: 0.27196604 | AN13: =AM13*(AJ13+AE13) -> 4956.5583 | AO13: =AJ13*G13 -> 32374159 | AP13: =AD13/10 -> 1633258.6 | AQ13: =V13/AU13 -> 23341.064 | AR13: =-($AJ13+$AE13)+($C13*($AJ13+$AE13)+$E13*$AH13)/($C13+$E13) -> -9003.7374 | AS13: =-($AJ13+$AE13)+($C13*($AJ13+$AE13)+$E13*$AH13+$E13*$AN13)/($C13+$E13) -> -6092.1606 | AT13: =-AS13*(E13+C13)/AL13 -> 810538.53 | AU13: =E13/1500+3 -> 9.7733333 | AV13: =AT13/AU13 -> 82933.684 | AW13: 259200 | AX13: =(AW13+AT13)/AW13 -> 4.1270777 | AY13: =AV13/AW13 -> 0.3199602 | AZ13: =1693*E13 -> 17200880 | BA13: תמריץ מחיר למשתכן | BD13: =Z13+AB13+S13*E13/G13+BB13 -> 217767812 | BE13: =BD13/D13 -> 21433.84 | BF13: =GETPIVOTDATA("הוצאות פיתוח",'עיבוד נתוני מכרזים'!$A$53,"ישוב","טירת הכרמל") -> 367740603 | BG13: =GETPIVOTDATA("מס' יח""ד",'עיבוד נתוני מכרזים'!$A$29,"ישוב","טירת הכרמל") -> 2583 | BH13: =BF13/BG13 -> 142369.57 | BJ13: =E13/C13 -> 1.4237668
E14: =SUMIF(BD2:BD13,">0",E2:E13) -> 128941 | BD14: =SUM(BD2:BD13) -> 1.083587e+10 | BE14: =BD14/E14 -> 84037.431
C16: החלטה מס' | D16: הקשר
C17: 1238 | D17: ישן מול חדש | E17: בוטלה ע"י 1413
C18: 1413 | D18: ישן מול חדש | E18: בוטלה ע"י 1444
C19: 1416 | D19: הפסד היטלי השבחה עקב מחיר מטרה | E19: 15,000-18,000 ליח"ד במסגרת הסכמי גג | F19: 3,000 ש"ח ליח"ד שלא במסגרת הסכם גג
C20: 1439 | D20: קצב שיווק/הסכמי גג | E20: 2000 יח"ד לשנה לשיווק
C21: 1442 | D21: העדפה לבני המקום | E21: קודמות שבוטלו: 1479, 1476, 1465
C22: 1436 | D22: גביית הוצאות פיתוח לטובת מוסדות הרשות | AD22: שטח ליח"ד (נטו) | AE22: 100
C23: 1444 | D23: ישן מול חדש, ללא סעיף 5.1
A31: שם הרשות | B31: מספר תושבים בסוף 2015 (למ"ס) | C31: סה"כ יח"ד באמצע 2016 (מרשם הדירות, נתוני למ"ס) | D31: שנת כניסת ההסכם לתוקף | E31: 2013 | F31: 2014 | G31: 2015 | H31: 2016 | I31: 2017 | J31: 2018 | K31: 2019 | L31: 2020 | M31: 2021 וצפונה | N31: סה"כ יחידות דיור | O31: יח' דיור שלב א' | P31: יח' דיור שלב ב' ומעלה | Q31: מס' יחידות דיור לשנה (ממוצע)
A32: אור יהודה | B32: 36.2 | C32: 10535 | D32: =VLOOKUP(A32,$A$2:$H$13,8,FALSE) -> #N/A | N32: =D2 -> 31791 | O32: =E2 -> 18191 | P32: =F2 -> 13600 | Q32: =G2 -> 2000
A33: אילת | B33: 49.7 | C33: 18323 | D33: =VLOOKUP(A33,$A$2:$H$13,8,FALSE) -> #N/A | N33: =D3 -> 19290 | O33: =E3 -> 18140 | P33: =F3 -> 1150 | Q33: =G3 -> 3215
A34: אשקלון | B34: 130.7 | C34: 45151 | D34: =VLOOKUP(A34,$A$2:$H$13,8,FALSE) -> אוקטובר 2015 | G34: 2000 | H34: 2000 | I34: 2000 | J34: 2000 | K34: 2000 | L34: 2000 | M34: =O34-G34-H34-I34-J34-K34-L34 -> -7427 | N34: =D4 -> 7300 | O34: =E4 -> 4573 | P34: =F4 -> 2865 | Q34: =G4 -> 914.6
A35: באר שבע | B35: 203.6 | C35: 74581 | D35: =VLOOKUP(A35,$A$2:$H$13,8,FALSE) -> אוקטובר 2015 (תקף ליח"ד ששווקו ב-2014) | F35: 6202 | G35: 3711 | H35: 4136 | I35: =4088/2 -> 2044 | J35: =N35-SUM(F35:I35) -> #REF! | N35: =#REF! -> #REF! | O35: =#REF! -> #REF! | P35: =#REF! -> #REF! | Q35: =#REF! -> #REF!
A36: בית שמש | B36: 103.9 | C36: 20700 | D36: =VLOOKUP(A36,$A$2:$H$13,8,FALSE) -> #N/A | I36: =5387+627 -> 6014 | J36: 940 | K36: 946 | L36: 2214 | M36: =N36-SUM(I36:L36) -> 1570 | N36: =D5 -> 11684 | O36: =E5 -> 11684 | P36: =F5 -> 0 | Q36: =G5 -> 3894.6667
A37: הרצליה | B37: 91.9 | C37: 34475 | D37: =VLOOKUP(A37,$A$2:$H$13,8,FALSE) -> #N/A | H37: 2000 | I37: 2000 | J37: 2000 | K37: 1400 | L37: =N37-SUM(H37:K37) -> 5736 | N37: =D6 -> 13136 | O37: =E6 -> 13136 | P37: =F6 -> 0 | Q37: =G6 -> 2000
A38: טירת הכרמל | B38: 19.4 | C38: 7136 | D38: =VLOOKUP(A38,$A$2:$H$13,8,FALSE) -> ספטמבר 2016 (תקף ליחידות ששווקו ב-2015) | G38: 2232 | H38: 1651 | I38: 2500 | J38: 2000 | K38: =N38-SUM(G38:J38) -> -1941 | N38: =D7 -> 6442 | O38: =E7 -> 6442 | P38: =F7 -> 712 | Q38: =G7 -> 2147.3333
A39: טמרה | B39: 32.4 | C39: 7057 | D39: =VLOOKUP(A39,$A$2:$H$13,8,FALSE) -> #N/A | N39: =D8 -> 17936 | O39: =E8 -> 9436 | P39: =F8 -> 8500 | Q39: =G8 -> 2359
A40: יבנה | B40: 42.3 | C40: 12650 | D40: =VLOOKUP(A40,$A$2:$H$13,8,FALSE) -> אוגוסט 2016 | H40: 2000 | I40: 2000 | J40: 2000 | K40: 2000 | L40: 2000 | M40: =O40-H40-I40-J40-K40-L40 -> 6393 | N40: =D9 -> 18000 | O40: =E9 -> 16393 | P40: =F9 -> 0 | Q40: =G9 -> 4098.25
A41: לוד | C41: 20000 | D41: =VLOOKUP(A41,$A$2:$H$13,8,FALSE) -> #N/A | N41: =D10 -> 7500 | O41: =E10 -> 7483 | P41: =F10 -> 1400 | Q41: =G10 -> 2494.3333
A42: מודיעין-מכבים-רעות | B42: 88.7 | C42: 23028 | D42: =VLOOKUP(A42,$A$2:$H$13,8,FALSE) -> ינואר 2014 | F42: ='תוכניות בניין עיר'!G71+'תוכניות בניין עיר'!G72 -> 1440 | G42: ='תוכניות בניין עיר'!G73 -> 900 | H42: ='תוכניות בניין עיר'!G74 -> 4000 | I42: 0 | N42: =D11 -> 12288 | O42: =E11 -> 12288 | P42: =F11 -> 0 | Q42: =G11 -> 2000
A43: מעלות תרשיחא | B43: 21.2 | C43: 6724 | D43: =VLOOKUP(A43,$A$2:$H$13,8,FALSE) -> #N/A | N43: =#REF! -> #REF! | O43: =#REF! -> #REF! | P43: =#REF! -> #REF! | Q43: =#REF! -> #REF!
A44: נתניה | B44: 207.9 | C44: 72542 | D44: =VLOOKUP(A44,$A$2:$H$13,8,FALSE) -> אפריל 2016 | H44: 2000 | I44: 2000 | J44: 2000 | K44: 2000 | L44: 2000 | M44: =N44-SUM(H44:L44) -> 2699 | N44: =D12 -> 12699 | O44: =E12 -> 12699 | P44: =F12 -> 0 | Q44: =G12 -> 2000
A45: עכו | B45: 47.7 | C45: 15802 | D45: =VLOOKUP(A45,$A$2:$H$13,8,FALSE) -> #N/A | I45: =427+1200+51+2000 -> 3678 | J45: =13+3000+210 -> 3223 | K45: =18+2000+400 -> 2418 | L45: =1150+460+1500 -> 3110 | N45: =D13 -> 10160 | O45: =E13 -> 10160 | P45: =F13 -> 2407 | Q45: =G13 -> 2000
A46: עפולה | B46: 44.9 | C46: 16574 | D46: =VLOOKUP(A46,$A$2:$H$13,8,FALSE) -> ספטמבר 2016 | H46: 1766 | I46: 1000 | J46: 2000 | K46: 2000 | L46: 2000 | M46: =N46-SUM(H46:K46)-L46 -> #REF! | N46: =#REF! -> #REF! | O46: =#REF! -> #REF! | P46: =#REF! -> #REF! | Q46: =#REF! -> #REF!
A47: קריית ביאליק | B47: 39.1 | C47: 15583 | D47: =VLOOKUP(A47,$A$2:$H$13,8,FALSE) -> ינואר 2014 | F47: 1089 | G47: 886 | H47: =578+1671+337 -> 2586 | I47: 2000 | J47: =N47-SUM(F47:I47) -> #REF! | N47: =#REF! -> #REF! | O47: =#REF! -> #REF! | P47: =#REF! -> #REF! | Q47: =#REF! -> #REF!
A48: קריית גת | B48: 51.5 | C48: 15910 | D48: =VLOOKUP(A48,$A$2:$H$13,8,FALSE) -> נובמבר 2013 | E48: =ROUNDDOWN($E$7/3,0) -> 2147 | F48: =ROUNDDOWN($E$7/3,0) -> 2147 | G48: =ROUNDDOWN($E$7/3,0) -> 2147 | H48: 0 | N48: =#REF! -> #REF! | O48: =#REF! -> #REF! | P48: =#REF! -> #REF! | Q48: =#REF! -> #REF!
...

Sheet עיבוד נתוני מכרזים
A1: רלבנטיות להסכם הגג | B1: כן
A2: מחיר סופי בש"ח ללא מע"מ | B2: (Multiple Items)
A3: יעוד | B3: (Multiple Items)
A5: Sum of הכנסות פיתוח מהמתחם | B5: Column Labels
A6: Row Labels | B6: 2014 | C6: 2015 | D6: 2016 | E6: 2017 | F6: Grand Total
A7: אשקלון | D7: 44914199 | F7: 44914199
A8: באר שבע | B8: 102637904 | C8: 61055619 | D8: 119733314 | E8: 14030425 | F8: 297457262
A9: בית שמש | E9: 4188800 | F9: 4188800
A10: הרצליה | D10: 862438525 | F10: 862438525
A11: טירת הכרמל | B11: 62888846 | C11: 38777999 | D11: 27854475 | F11: 129521320
A12: יבנה | E12: 315714800 | F12: 315714800
A13: מודיעין-מכבים-רעות | B13: 458562352 | C13: 411502164 | D13: 18888052 | E13: 756485125 | F13: 1645437693
A14: מעלות תרשיחא | E14: 1354777 | F14: 1354777
A15: נתניה | C15: 63290240 | D15: 51504750 | E15: 32150650 | F15: 146945640
A16: עפולה | D16: -14552200 | F16: -14552200
A17: קרית ביאליק | B17: 30139380 | C17: 135921783 | D17: 113500750 | F17: 279561913
A18: קרית גת | B18: 158787344 | C18: 141660492 | D18: 67418142 | F18: 367865978
A19: ראש העין | C19: 103498608 | D19: 252680475 | F19: 356179083
A20: ראשון לציון | C20: 240753336 | D20: 150766900 | E20: 622436500 | F20: 1013956736
A21: רמלה | C21: 717000 | D21: 124832150 | F21: 125549150
A22: Grand Total | B22: 813015826 | C22: 1197177241 | D22: 1819979532 | E22: 1746361077 | F22: 5576533676
A25: רלבנטיות להסכם הגג | B25: כן | L25: רלבנטיות להסכם הגג | M25: (All)
A26: מחיר סופי בש"ח ללא מע"מ | B26: (Multiple Items) | L26: מחיר סופי בש"ח ללא מע"מ | M26: (Multiple Items)
A27: יעוד | B27: (Multiple Items) | L27: יעוד | M27: (Multiple Items)
A29: Sum of מס' יח"ד | B29: Column Labels | L29: Sum of מס' יח"ד | M29: Column Labels
A30: Row Labels | B30: 2014 | C30: 2015 | D30: 2016 | E30: 2017 | F30: יח"ד ששווקו עד כה במסגרת הסכמי הגג | G30: סה"כ שיווקים בתחומי העיר מאז 2014 | H30: יח' שלב א' | I30: ='ריכוז נתונים מההסכמים'!G1 -> מס' יחידות דיור לשנה (ממוצע) | J30: מס' יחידות הדיור שהיו אמורות להיות משווקות עד כה לפי ההסכם | K30: ='ריכוז נתונים מההסכמים'!H1 -> שנת כניסת ההסכם לתוקף | L30: Row Labels | M30: 2007 | N30: 2008 | O30: 2009 | P30: 2010 | Q30: 2011 | R30: 2012 | S30: 2013 | T30: 2014 | U30: 2015 | V30: 2016 | W30: 2017 | X30: יח"ד ששווקו עד כה
A31: אשקלון | D31: 917 | F31: 917 | G31: =SUM(T31:W31) -> 3099 | H31: ='ריכוז נתונים מההסכמים'!E2 -> 18191 | I31: ='ריכוז נתונים מההסכמים'!G2 -> 2000 | K31: ='ריכוז נתונים מההסכמים'!H2 -> אוקטובר 2015 | L31: אשקלון | T31: 749 | U31: 1343 | V31: 1005 | W31: 2 | X31: 3099
A32: באר שבע | B32: 822 | C32: 537 | D32: 1427 | E32: 2056 | F32: 4842 | G32: =SUM(T32:W32) -> 5787 | H32: ='ריכוז נתונים מההסכמים'!E3 -> 18140 | I32: ='ריכוז נתונים מההסכמים'!G3 -> 3215 | K32: ='ריכוז נתונים מההסכמים'!H3 -> אוקטובר 2015 (תקף ליח"ד ששווקו ב-2014) | L32: באר שבע | T32: 1649 | U32: 538 | V32: 1544 | W32: 2056 | X32: 5787
A33: בית שמש | E33: 68 | F33: 68 | G33: =SUM(T33:W33) -> 68 | H33: ='ריכוז נתונים מההסכמים'!#REF! -> #REF! | I33: ='ריכוז נתונים מההסכמים'!#REF! -> #REF! | K33: ='ריכוז נתונים מההסכמים'!#REF! -> #REF! | L33: בית שמש | W33: 68 | X33: 68
A34: הרצליה | D34: 1468 | F34: 1468 | G34: =SUM(T34:W34) -> 1468 | H34: ='ריכוז נתונים מההסכמים'!#REF! -> #REF! | I34: ='ריכוז נתונים מההסכמים'!#REF! -> #REF! | K34: ='ריכוז נתונים מההסכמים'!#REF! -> #REF! | L34: הרצליה | V34: 1468 | X34: 1468
A35: טירת הכרמל | B35: 876 | C35: 117 | D35: 1590 | F35: 2583 | G35: =SUM(T37:W37) -> 2604 | H35: ='ריכוז נתונים מההסכמים'!E13 -> 10160 | I35: ='ריכוז נתונים מההסכמים'!G13 -> 2000 | K35: ='ריכוז נתונים מההסכמים'!H13 -> ספטמבר 2016 (תקף ליחידות ששווקו ב-2015) | L35: חדרה
A36: יבנה | E36: 2035 | F36: 2035 | G36: =SUM(T38:W38) -> 2267 | H36: ='ריכוז נתונים מההסכמים'!E12 -> 12699 | I36: ='ריכוז נתונים מההסכמים'!G12 -> 2000 | K36: ='ריכוז נתונים מההסכמים'!H12 -> אוגוסט 2016 | L36: חצור הגלילית
A37: מודיעין-מכבים-רעות | B37: 1725 | C37: 1337 | D37: 120 | E37: 3607 | F37: 6789 | G37: =SUM(T42:W42) -> 6789 | H37: ='ריכוז נתונים מההסכמים'!E5 -> 11684 | I37: ='ריכוז נתונים מההסכמים'!G5 -> 3894.6667 | K37: ='ריכוז נתונים מההסכמים'!H5 -> ינואר 2014 | L37: טירת הכרמל | T37: 876 | U37: 117 | V37: 1611 | X37: 2604
A38: מעלות תרשיחא | E38: 117 | F38: 117 | G38: =SUM(T43:W43) -> 117 | H38: ='ריכוז נתונים מההסכמים'!#REF! -> #REF! | I38: ='ריכוז נתונים מההסכמים'!#REF! -> #REF! | K38: ='ריכוז נתונים מההסכמים'!#REF! -> #REF! | L38: יבנה | T38: 224 | U38: 8 | W38: 2035 | X38: 2267
A39: נתניה | D39: 240 | E39: 166 | F39: 406 | G39: =SUM(T44:W44) -> 1606 | H39: ='ריכוז נתונים מההסכמים'!E11 -> 12288 | I39: ='ריכוז נתונים מההסכמים'!G11 -> 2000 | K39: ='ריכוז נתונים מההסכמים'!H11 -> אפריל 2016 | L39: כפר מנדא
A40: עפולה | D40: 92 | F40: 92 | G40: =SUM(T46:W46) -> 92 | H40: ='ריכוז נתונים מההסכמים'!E6 -> 13136 | I40: ='ריכוז נתונים מההסכמים'!G6 -> 2000 | K40: ='ריכוז נתונים מההסכמים'!H6 -> ספטמבר 2016 | L40: מבשרת ציון
A41: קרית ביאליק | B41: 100 | C41: 682 | D41: 1128 | F41: 1910 | G41: =SUM(T47:W47) -> 1910 | H41: ='ריכוז נתונים מההסכמים'!E4 -> 4573 | I41: ='ריכוז נתונים מההסכמים'!G4 -> 914.6 | K41: ='ריכוז נתונים מההסכמים'!H4 -> ינואר 2014 | L41: מג'ד אל כרום (שאג'ור)
A42: קרית גת | B42: 2242 | C42: 1609 | D42: 1309 | F42: 5160 | G42: =SUM(T48:W48) -> 5693 | H42: ='ריכוז נתונים מההסכמים'!E7 -> 6442 | I42: ='ריכוז נתונים מההסכמים'!G7 -> 2147.3333 | K42: ='ריכוז נתונים מההסכמים'!H7 -> נובמבר 2013 | L42: מודיעין-מכבים-רעות | T42: 1725 | U42: 1337 | V42: 120 | W42: 3607 | X42: 6789
A43: ראש העין | C43: 1903 | D43: 2673 | F43: 4576 | G43: =SUM(T50:W50) -> 4580 | H43: ='ריכוז נתונים מההסכמים'!E8 -> 9436 | I43: ='ריכוז נתונים מההסכמים'!G8 -> 2359 | K43: ='ריכוז נתונים מההסכמים'!H8 -> פברואר 2014 | L43: מעלות תרשיחא | W43: 117 | X43: 117
A44: ראשון לציון | C44: 1030 | D44: 654 | E44: 2794 | F44: 4478 | G44: =SUM(T51:W51) -> 4635.47 | H44: ='ריכוז נתונים מההסכמים'!E9 -> 16393 | I44: ='ריכוז נתונים מההסכמים'!G9 -> 4098.25 | K44: ='ריכוז נתונים מההסכמים'!H9 -> נובמבר 2014 | L44: נתניה | V44: 1440 | W44: 166 | X44: 1606
...

Sheet מכרזים מרמי
A1: שם הרשות | B1: מועד חתימה ההסכם | C1: מס' יחידות בהסכם | D1: מס' יח"ד ששווקו עד כה | E1: מס' יח"ד ששווקו עד כה במסגרת הסכמי הגג | F1: יח"ד ששווקו במחיר למשתכן | G1: הכנסות פיתוח לטובת הסכם הגג | H1: הכנסות ממכירת הקרקעות בהסכמי הגג | I1: הכנסות ליח"ד | J1: הערכת הכנסות כוללת על סמך הכנסות נוכחיות ליח"ד | K1: רווח יזם | L1: 0.25
A2: אשקלון | B2: ='ריכוז נתונים מההסכמים'!H2 -> אוקטובר 2015 | C2: ='ריכוז נתונים מההסכמים'!E2 -> 18191 | D2: =SUMIFS($Y$3:$Y$2418,$S$3:$S$2418,$A2) -> 3099 | E2: =SUMIFS($Y$3:$Y$2418,$S$3:$S$2418,$A2,$X$3:$X$2418,"כן",$M$3:$M$2418,">0") -> 917 | F2: =SUMIFS($Y$3:$Y$2418,$S$3:$S$2418,$A2,$P$3:$P$2418,"מחיר למשתכן") -> 891 | G2: =SUMIFS($N$3:$N$2418,$Y$3:$Y$2418,">0",$S$3:$S$2418,$A2,$X$3:$X$2418,"כן",$M$3:$M$2418,">0") -> 86111179 | H2: =SUMIFS($AA$3:$AA$2418,$Y$3:$Y$2418,">0",$S$3:$S$2418,$A2,$X$3:$X$2418,"כן",$M$3:$M$2418,">0") -> 44914199 | I2: =(H2+G2)/D2 -> 42279.89 | J2: =I2*C2 -> 7.6911347e+08 | K2: עלות בניית יח"ד | L2: 500000 | M2: מחיר סופי בש"ח ללא מע"מ | N2: הוצאות פיתוח | O2: יעוד | P2: סוג מכרז | Q2: מס' מגרש/מתחם | R2: ישוב, שכונה | S2: ישוב | T2: תאריך החלטה | U2: שנה | V2: חודש | W2: מס' מכרז | X2: רלבנטיות להסכם הגג | Y2: מס' יח"ד | Z2: מ"ר לפיתוח | AA2: הכנסות פיתוח מהמתחם | AE2: הפרסום | AF2: תאריך סגירה | AG2: תאריך פתיחה | AH2: תאריך פרסום | AI2: יעוד | AJ2: סוג מכרז | AK2: מס' מכרז | AL2: ישוב, שכונה | AM2: עודכן
A3: באר שבע | B3: ='ריכוז נתונים מההסכמים'!H3 -> אוקטובר 2015 (תקף ליח"ד ששווקו ב-2014) | C3: ='ריכוז נתונים מההסכמים'!E3 -> 18140 | D3: =SUMIFS($Y$3:$Y$2418,$S$3:$S$2418,$A3) -> 6881 | E3: =SUMIFS($Y$3:$Y$2418,$S$3:$S$2418,$A3,$X$3:$X$2418,"כן",$M$3:$M$2418,">0") -> 4737 | F3: =SUMIFS($Y$3:$Y$2418,$S$3:$S$2418,$A3,$P$3:$P$2418,"מחיר למשתכן") -> 3818 | G3: =SUMIFS($N$3:$N$2418,$Y$3:$Y$2418,">0",$S$3:$S$2418,$A3,$X$3:$X$2418,"כן",$M$3:$M$2418,">0") -> 1163266136 | H3: =SUMIFS($AA$3:$AA$2418,$Y$3:$Y$2418,">0",$S$3:$S$2418,$A3,$X$3:$X$2418,"כן",$M$3:$M$2418,">0") -> 297457262 | I3: =(H3+G3)/D3 -> 212283.59 | J3: =I3*C3 -> 3.8508244e+09 | M3: אין הצעות למתחם זה | N3: 9341011 | O3: בניה רוויה | Q3: 30445 | R3: אילת, שחמון 11 | S3: אילת | T3: 42829 | U3: =YEAR($T3) -> 2017 | V3: =MONTH($T3) -> 4 | W3: בש/165/2016 | X3: =MATCH($W3,$E$30:$E$125,0) -> #N/A | Y3: 18 | Z3: 6979 | AA3: =IF(M3<30000,Y3*100*M3*(1-$L$1)-$L$2*Y3,M3) -> אין הצעות למתחם זה | AF3: 42506 | AG3: 42471 | AH3: 42369 | AI3: בניה רוויה | AJ3: מחיר למשתכן | AK3: 337/2015/ים | AL3: אשקלון, הבלוט | AN3: מ-8 הבלוט | AO3: 192/3/4 | AP3: מילוי תנאים להפקדה
A4: קרית ביאליק | B4: ='ריכוז נתונים מההסכמים'!H4 -> ינואר 2014 | C4: ='ריכוז נתונים מההסכמים'!E4 -> 4573 | D4: =SUMIFS($Y$3:$Y$2418,$S$3:$S$2418,$A4) -> 1910 | E4: =SUMIFS($Y$3:$Y$2418,$S$3:$S$2418,$A4,$X$3:$X$2418,"כן",$M$3:$M$2418,">0") -> 1910 | F4: =SUMIFS($Y$3:$Y$2418,$S$3:$S$2418,$A4,$P$3:$P$2418,"מחיר למשתכן") -> 1042 | G4: =SUMIFS($N$3:$N$2418,$Y$3:$Y$2418,">0",$S$3:$S$2418,$A4,$X$3:$X$2418,"כן",$M$3:$M$2418,">0") -> 373691532 | H4: =SUMIFS($AA$3:$AA$2418,$Y$3:$Y$2418,">0",$S$3:$S$2418,$A4,$X$3:$X$2418,"כן",$M$3:$M$2418,">0") -> 279561913 | I4: =(H4+G4)/D4 -> 342017.51 | J4: =I4*C4 -> 1.5640461e+09 | M4: אין הצעות למתחם זה | N4: 25367885 | O4: בניה רוויה | Q4: 30446 | R4: אילת, שחמון 11 | S4: אילת | T4: 42829 | U4: =YEAR($T4) -> 2017 | V4: =MONTH($T4) -> 4 | W4: בש/165/2016 | X4: =MATCH($W4,$E$30:$E$125,0) -> #N/A | Y4: 51 | Z4: 18265 | AA4: =IF(M4<30000,Y4*100*M4*(1-$L$1)-$L$2*Y4,M4) -> אין הצעות למתחם זה | AF4: 42513 | AG4: 42446 | AH4: 42366 | AI4: בניה רוויה | AJ4: מחיר למשתכן | AK4: 313/2015/ים | AL4: אשקלון, אינפילים | AN4: תוכנית מזרחית לבלוט | AP4: מאושרת
A5: הרצליה | B5: ='ריכוז נתונים מההסכמים'!#REF! -> #REF! | C5: ='ריכוז נתונים מההסכמים'!#REF! -> #REF! | D5: =SUMIFS($Y$3:$Y$2418,$S$3:$S$2418,$A5) -> 1468 | E5: =SUMIFS($Y$3:$Y$2418,$S$3:$S$2418,$A5,$X$3:$X$2418,"כן",$M$3:$M$2418,">0") -> 1468 | F5: =SUMIFS($Y$3:$Y$2418,$S$3:$S$2418,$A5,$P$3:$P$2418,"מחיר למשתכן") -> 1468 | G5: =SUMIFS($N$3:$N$2418,$Y$3:$Y$2418,">0",$S$3:$S$2418,$A5,$X$3:$X$2418,"כן",$M$3:$M$2418,">0") -> 237957984 | H5: =SUMIFS($AA$3:$AA$2418,$Y$3:$Y$2418,">0",$S$3:$S$2418,$A5,$X$3:$X$2418,"כן",$M$3:$M$2418,">0") -> 862438525 | I5: =(H5+G5)/D5 -> 749588.9 | J5: =I5*C5 -> #REF! | M5: אין הצעות למתחם זה | N5: 7486724 | O5: בניה רוויה | Q5: 30447 | R5: אילת, שחמון 11 | S5: אילת | T5: 42829 | U5: =YEAR($T5) -> 2017 | V5: =MONTH($T5) -> 4 | W5: בש/165/2016 | X5: =MATCH($W5,$E$30:$E$125,0) -> #N/A | Y5: 15 | Z5: 5758 | AA5: =IF(M5<30000,Y5*100*M5*(1-$L$1)-$L$2*Y5,M5) -> אין הצעות למתחם זה | AF5: 42527 | AG5: 42445 | AH5: 42369 | AI5: בניה רוויה | AK5: 336/2015/ים | AL5: אשקלון, הבלוט | AN5: מ-7א, מ-7ב עיר היין | AO5: תמל/1006 | AP5: 311/2016/ים
A6: מודיעין-מכבים-רעות | B6: ='ריכוז נתונים מההסכמים'!H5 -> ינואר 2014 | C6: ='ריכוז נתונים מההסכמים'!E5 -> 11684 | D6: =SUMIFS($Y$3:$Y$2418,$S$3:$S$2418,$A6) -> 6789 | E6: =SUMIFS($Y$3:$Y$2418,$S$3:$S$2418,$A6,$X$3:$X$2418,"כן",$M$3:$M$2418,">0") -> 6789 | F6: =SUMIFS($Y$3:$Y$2418,$S$3:$S$2418,$A6,$P$3:$P$2418,"מחיר למשתכן") -> 3607 | G6: =SUMIFS($N$3:$N$2418,$Y$3:$Y$2418,">0",$S$3:$S$2418,$A6,$X$3:$X$2418,"כן",$M$3:$M$2418,">0") -> 1390431476 | H6: =SUMIFS($AA$3:$AA$2418,$Y$3:$Y$2418,">0",$S$3:$S$2418,$A6,$X$3:$X$2418,"כן",$M$3:$M$2418,">0") -> 1560403344 | I6: =(H6+G6)/D6 -> 434649.41 | J6: =I6*C6 -> 5.0784437e+09 | M6: 5926 | N6: 13851104 | O6: בניה רוויה | P6: מחיר למשתכן | Q6: 37969 | R6: אשקלון, אינפילים | S6: אשקלון | T6: 42513 | U6: =YEAR($T6) -> 2016 | V6: =MONTH($T6) -> 5 | W6: ים/313/2015 | X6: כן | Y6: 161 | Z6: 18530 | AA6: =IF(M6<30000,Y6*100*M6*(1-$L$1)-$L$2*Y6,M6) -> -8943550 | AF6: 42863 | AG6: 42830 | AH6: 42709 | AI6: בניה רוויה | AJ6: מחיר למשתכן | AK6: 311/2016/ים | AL6: אשקלון | AN6: מתחם המתנחלים | AO6: 604-0168252 | AP6: בהכנה
A7: עפולה | B7: ='ריכוז נתונים מההסכמים'!H6 -> ספטמבר 2016 | C7: ='ריכוז נתונים מההסכמים'!E6 -> 13136 | D7: =SUMIFS($Y$3:$Y$2418,$S$3:$S$2418,$A7) -> 92 | E7: =SUMIFS($Y$3:$Y$2418,$S$3:$S$2418,$A7,$X$3:$X$2418,"כן",$M$3:$M$2418,">0") -> 92 | F7: =SUMIFS($Y$3:$Y$2418,$S$3:$S$2418,$A7,$P$3:$P$2418,"מחיר למשתכן") -> 92 | G7: =SUMIFS($N$3:$N$2418,$Y$3:$Y$2418,">0",$S$3:$S$2418,$A7,$X$3:$X$2418,"כן",$M$3:$M$2418,">0") -> 7129854 | H7: =SUMIFS($AA$3:$AA$2418,$Y$3:$Y$2418,">0",$S$3:$S$2418,$A7,$X$3:$X$2418,"כן",$M$3:$M$2418,">0") -> -14552200 | I7: =(H7+G7)/D7 -> -80677.674 | J7: =I7*C7 -> -1.0597819e+09 | M7: 6126 | N7: 3891477 | O7: בניה רוויה | P7: מחיר למשתכן | Q7: 37968 | R7: אשקלון, כוכב הצפון - מגדל | S7: אשקלון | T7: 42478 | U7: =YEAR($T7) -> 2016 | V7: =MONTH($T7) -> 4 | W7: ים/314/2015 | X7: כן | Y7: 40 | Z7: 3723 | AA7: =IF(M7<30000,Y7*100*M7*(1-$L$1)-$L$2*Y7,M7) -> -1622000 | AN7: אגמים מזרח | AO7: בהכנה | AP7: בהכנה
A8: קרית גת | B8: ='ריכוז נתונים מההסכמים'!H7 -> נובמבר 2013 | C8: ='ריכוז נתונים מההסכמים'!E7 -> 6442 | D8: =SUMIFS($Y$3:$Y$2418,$S$3:$S$2418,$A8) -> 5967 | E8: =SUMIFS($Y$3:$Y$2418,$S$3:$S$2418,$A8,$X$3:$X$2418,"כן",$M$3:$M$2418,">0") -> 5160 | F8: =SUMIFS($Y$3:$Y$2418,$S$3:$S$2418,$A8,$P$3:$P$2418,"מחיר למשתכן") -> 1142 | G8: =SUMIFS($N$3:$N$2418,$Y$3:$Y$2418,">0",$S$3:$S$2418,$A8,$X$3:$X$2418,"כן",$M$3:$M$2418,">0") -> 830087830 | H8: =SUMIFS($AA$3:$AA$2418,$Y$3:$Y$2418,">0",$S$3:$S$2418,$A8,$X$3:$X$2418,"כן",$M$3:$M$2418,">0") -> 352865978 | I8: =(H8+G8)/D8 -> 198249.34 | J8: =I8*C8 -> 1.2771222e+09 | M8: 6926 | N8: 7404752 | O8: בניה רוויה | P8: מחיר למשתכן | Q8: ב | R8: אשקלון, הבלוט | S8: אשקלון | T8: 42506 | U8: =YEAR($T8) -> 2016 | V8: =MONTH($T8) -> 5 | W8: ים/337/2015 | X8: כן | Y8: 84 | Z8: 5998 | AA8: =IF(M8<30000,Y8*100*M8*(1-$L$1)-$L$2*Y8,M8) -> 1633800 | AN8: היי טק | AO8: 165/101/02/4 | AP8: מאושרת
A9: ראש העין | B9: ='ריכוז נתונים מההסכמים'!H8 -> פברואר 2014 | C9: ='ריכוז נתונים מההסכמים'!E8 -> 9436 | D9: =SUMIFS($Y$3:$Y$2418,$S$3:$S$2418,$A9) -> 8973 | E9: =SUMIFS($Y$3:$Y$2418,$S$3:$S$2418,$A9,$X$3:$X$2418,"כן",$M$3:$M$2418,">0") -> 4576 | F9: =SUMIFS($Y$3:$Y$2418,$S$3:$S$2418,$A9,$P$3:$P$2418,"מחיר למשתכן") -> 2972 | G9: =SUMIFS($N$3:$N$2418,$Y$3:$Y$2418,">0",$S$3:$S$2418,$A9,$X$3:$X$2418,"כן",$M$3:$M$2418,">0") -> 1027018719 | H9: =SUMIFS($AA$3:$AA$2418,$Y$3:$Y$2418,">0",$S$3:$S$2418,$A9,$X$3:$X$2418,"כן",$M$3:$M$2418,">0") -> 356179083 | M9: 7026 | N9: 7259313 | O9: בניה רוויה | P9: מחיר למשתכן | Q9: ד | R9: אשקלון, הבלוט | S9: אשקלון | T9: 42506 | U9: =YEAR($T9) -> 2016 | V9: =MONTH($T9) -> 5 | W9: ים/337/2015 | X9: כן | Y9: 84 | Z9: 5634 | AA9: =IF(M9<30000,Y9*100*M9*(1-$L$1)-$L$2*Y9,M9) -> 2263800 | AN9: חישתיל - מזרחית לגן הלאומי | AP9: בהכנה
A10: ראשון לציון | B10: ='ריכוז נתונים מההסכמים'!H9 -> נובמבר 2014 | C10: ='ריכוז נתונים מההסכמים'!E9 -> 16393 | D10: =SUMIFS($Y$3:$Y$2418,$S$3:$S$2418,$A10) -> 4635.47 | E10: =SUMIFS($Y$3:$Y$2418,$S$3:$S$2418,$A10,$X$3:$X$2418,"כן",$M$3:$M$2418,">0") -> 4478 | F10: =SUMIFS($Y$3:$Y$2418,$S$3:$S$2418,$A10,$P$3:$P$2418,"מחיר למשתכן") -> 4140 | G10: =SUMIFS($N$3:$N$2418,$Y$3:$Y$2418,">0",$S$3:$S$2418,$A10,$X$3:$X$2418,"כן",$M$3:$M$2418,">0") -> 618942105 | H10: =SUMIFS($AA$3:$AA$2418,$Y$3:$Y$2418,">0",$S$3:$S$2418,$A10,$X$3:$X$2418,"כן",$M$3:$M$2418,">0") -> 1013956736 | I10: =(H10+G10)/D10 -> 352261.76 | J10: =I10*C10 -> 5.7746271e+09 | M10: 7126 | N10: 7290421 | O10: בניה רוויה | P10: מחיר למשתכן | Q10: ו | R10: אשקלון, הבלוט | S10: אשקלון | T10: 42506 | U10: =YEAR($T10) -> 2016 | V10: =MONTH($T10) -> 5 | W10: ים/337/2015 | X10: כן | Y10: 84 | Z10: 5712 | AA10: =IF(M10<30000,Y10*100*M10*(1-$L$1)-$L$2*Y10,M10) -> 2893800
A11: רמלה | B11: ='ריכוז נתונים מההסכמים'!H10 -> יולי 2015 | C11: ='ריכוז נתונים מההסכמים'!E10 -> 7483 | D11: =SUMIFS($Y$3:$Y$2418,$S$3:$S$2418,$A11) -> 1594 | E11: =SUMIFS($Y$3:$Y$2418,$S$3:$S$2418,$A11,$X$3:$X$2418,"כן",$M$3:$M$2418,">0") -> 802 | F11: =SUMIFS($Y$3:$Y$2418,$S$3:$S$2418,$A11,$P$3:$P$2418,"מחיר למשתכן") -> 1592 | G11: =SUMIFS($N$3:$N$2418,$Y$3:$Y$2418,">0",$S$3:$S$2418,$A11,$X$3:$X$2418,"כן",$M$3:$M$2418,">0") -> 113657187 | H11: =SUMIFS($AA$3:$AA$2418,$Y$3:$Y$2418,">0",$S$3:$S$2418,$A11,$X$3:$X$2418,"כן",$M$3:$M$2418,">0") -> 125549150 | I11: =(H11+G11)/D11 -> 150066.71 | J11: =I11*C11 -> 1.1229492e+09 | M11: 7140 | N11: 5274130 | O11: בניה רוויה | P11: מחיר למשתכן | Q11: א | R11: אשקלון, הבלוט | S11: אשקלון | T11: 42506 | U11: =YEAR($T11) -> 2016 | V11: =MONTH($T11) -> 5 | W11: ים/337/2015 | X11: כן | Y11: 56 | Z11: 4673 | AA11: =IF(M11<30000,Y11*100*M11*(1-$L$1)-$L$2*Y11,M11) -> 1988000
A12: נתניה | B12: ='ריכוז נתונים מההסכמים'!H11 -> אפריל 2016 | C12: ='ריכוז נתונים מההסכמים'!E11 -> 12288 | D12: =SUMIFS($Y$3:$Y$2418,$S$3:$S$2418,$A12) -> 1818 | E12: =SUMIFS($Y$3:$Y$2418,$S$3:$S$2418,$A12,$X$3:$X$2418,"כן",$M$3:$M$2418,">0") -> 406 | F12: =SUMIFS($Y$3:$Y$2418,$S$3:$S$2418,$A12,$P$3:$P$2418,"מחיר למשתכן") -> 618 | G12: =SUMIFS($N$3:$N$2418,$Y$3:$Y$2418,">0",$S$3:$S$2418,$A12,$X$3:$X$2418,"כן",$M$3:$M$2418,">0") -> 54959719 | H12: =SUMIFS($AA$3:$AA$2418,$Y$3:$Y$2418,">0",$S$3:$S$2418,$A12,$X$3:$X$2418,"כן",$M$3:$M$2418,">0") -> 83655400 | M12: 7311 | N12: 10407526 | O12: בניה רוויה | P12: מחיר למשתכן | Q12: ג | R12: אשקלון, הבלוט | S12: אשקלון | T12: 42506 | U12: =YEAR($T12) -> 2016 | V12: =MONTH($T12) -> 5 | W12: ים/337/2015 | X12: כן | Y12: 100 | Z12: 7750 | AA12: =IF(M12<30000,Y12*100*M12*(1-$L$1)-$L$2*Y12,M12) -> 4832500
A13: עכו | B13: ='ריכוז נתונים מההסכמים'!#REF! -> #REF! | C13: ='ריכוז נתונים מההסכמים'!#REF! -> #REF! | D13: =SUMIFS($Y$3:$Y$2418,$S$3:$S$2418,$A13) -> 0 | E13: =SUMIFS($Y$3:$Y$2418,$S$3:$S$2418,$A13,$X$3:$X$2418,"כן",$M$3:$M$2418,">0") -> 0 | F13: =SUMIFS($Y$3:$Y$2418,$S$3:$S$2418,$A13,$P$3:$P$2418,"מחיר למשתכן") -> 0 | G13: =SUMIFS($N$3:$N$2418,$Y$3:$Y$2418,">0",$S$3:$S$2418,$A13,$X$3:$X$2418,"כן",$M$3:$M$2418,">0") -> 0 | H13: =SUMIFS($AA$3:$AA$2418,$Y$3:$Y$2418,">0",$S$3:$S$2418,$A13,$X$3:$X$2418,"כן",$M$3:$M$2418,">0") -> 0 | M13: 7339 | N13: 10501239 | O13: בניה רוויה | P13: מחיר למשתכן | Q13: ז | R13: אשקלון, הבלוט | S13: אשקלון | T13: 42506 | U13: =YEAR($T13) -> 2016 | V13: =MONTH($T13) -> 5 | W13: ים/337/2015 | X13: כן | Y13: 112 | Z13: 9242 | AA13: =IF(M13<30000,Y13*100*M13*(1-$L$1)-$L$2*Y13,M13) -> 5647600
