Workbook

Sheet הגדרות
B3: תיאור הנתונים | C3: נתונים על יחידות הדיור לפי סוג ושטחן מקורם בקובץ הארנונה העירוני. הנתונים לאורך זמן נותנים אינדיקציה על התפתחות העיר ושכונותיה, בדגש על מגורי התושבים ועל גודל היחידות למגורים (שטח) לאורך זמן.
B5: יחידה למגורים | C5: חדר או מערכת חדרים המיועדים למגורים, במבנה קבוע או ארעי ומובדלים משאר יחידות הדיור או החדרים במבנה זה ויש אליהם גישה מהרחוב או מכניסה משותפת או מחדר המדרגות של הבניין.
B6: יחידה לעסקים | C6: יחידות שאינן משמשות למגורים - חדר או מערכת חדרים שמיועדים לשימוש אחר, שאינו מגורים, במבנה קבוע או ארעי ומובדלים משאר היחידות או החדרים במבנה זה ויש אליהם גישה מהרחוב או מכניסה משותפת או מחדר המדרגות של הבניין.
B7: שטח | C7: השטח הבנוי, מתייחס לשטח רצפות וכולל: שטח הרצפה של היחידה (למגורים או לעסקים) הנמצאת בשימושו הבלעדי של המחזיק (כולל מרפסות) ומחוייב בתשלום ארנונה.
B9: מקור | C9: קובץ הארנונה, עיריית תל אביב יפו
B11: שנת 2009 | C11: לא הובאו הנתונים לפי שכונות משום שבאותה השנה הנתונים עובדו לפי חלוקה לשכונה אחרת (שונה מזו של הנתונים של השנים 2015-2010)
B13: שכונות | C13: החלוקה של יחידות הדיור לפי שכונות זהה לחלוקה של האוכלוסייה לפי שכונות פרט ל: בקובצי יחידות הדיור לא מופיעות יחידות הדיור בשכונת אורות.
C14: בקובץ יחידות הדיור שכונת צמרות איילון מופיעה כשכונה נפרדת משכונת הצפון החדש - החלק הדרומי לאורך כל השנים 2010-2015, בעוד שבקובצי האוכלוסייה זה מופיע בצורה נפרדת רק משנת 2015.
B16: סה"כ בעיר | C16: שורת הסה"כ בגיליונות הנתונים מציג את כלל יחידות הדיור בעיר ואת שטחן והוא אינו מהווה סיכום של השכונות המוצגות בלוח משום שבלוח הזה לא מופיעות שכונות דלות אוכלוסין.
A19: שכונה | B19: רובע
A20: 1 | B20: 1
A21: 2 | B21: 1
A22: 3 | B22: 1
A23: 4 | B23: 1
A24: 5 | B24: 1
A25: 6 | B25: 1
A26: 7 | B26: 1
A27: 8 | B27: 1
A28: 9 | B28: 1
A29: 10 | B29: 1
A30: 11 | B30: 1
A31: 12 | B31: 1
... A90: 71 | B90: 9

Sheet Dwelling Pivot 2010-2015.csv
A1: neighborhood_code | B1: name | C1: name_en | D1: Year | E1: Parameter | F1: Value | G1: Quadrant
A2: 37 | B2: לב תל-אביב | C2: Lev Hair | D2: 2010 | E2: סה"כ יחידות | F2: 25471 | G2: =VLOOKUP($A2,הגדרות!$A$20:$B$90,2,FALSE) -> 5
A3: 37 | B3: לב תל-אביב | C3: Lev Hair | D3: 2010 | E3: שטח בנוי | F3: 2583077 | G3: =VLOOKUP($A3,הגדרות!$A$20:$B$90,2,FALSE) -> 5
A4: 37 | B4: לב תל-אביב | C4: Lev Hair | D4: 2010 | E4: סה"כ יחידות דיור | F4: 16802 | G4: =VLOOKUP($A4,הגדרות!$A$20:$B$90,2,FALSE) -> 5
A5: 37 | B5: לב תל-אביב | C5: Lev Hair | D5: 2010 | E5: שטח בנוי מגורים | F5: 1168355 | G5: =VLOOKUP($A5,הגדרות!$A$20:$B$90,2,FALSE) -> 5
A6: 37 | B6: לב תל-אביב | C6: Lev Hair | D6: 2011 | E6: סה"כ יחידות | F6: 25801 | G6: =VLOOKUP($A6,הגדרות!$A$20:$B$90,2,FALSE) -> 5
A7: 37 | B7: לב תל-אביב | C7: Lev Hair | D7: 2011 | E7: שטח בנוי | F7: 2576230 | G7: =VLOOKUP($A7,הגדרות!$A$20:$B$90,2,FALSE) -> 5
A8: 37 | B8: לב תל-אביב | C8: Lev Hair | D8: 2011 | E8: סה"כ יחידות דיור | F8: 17002 | G8: =VLOOKUP($A8,הגדרות!$A$20:$B$90,2,FALSE) -> 5
A9: 37 | B9: לב תל-אביב | C9: Lev Hair | D9: 2011 | E9: שטח בנוי מגורים | F9: 1177598 | G9: =VLOOKUP($A9,הגדרות!$A$20:$B$90,2,FALSE) -> 5
A10: 37 | B10: לב תל-אביב | C10: Lev Hair | D10: 2012 | E10: סה"כ יחידות | F10: 25769 | G10: =VLOOKUP($A10,הגדרות!$A$20:$B$90,2,FALSE) -> 5
A11: 37 | B11: לב תל-אביב | C11: Lev Hair | D11: 2012 | E11: שטח בנוי | F11: 2565793 | G11: =VLOOKUP($A11,הגדרות!$A$20:$B$90,2,FALSE) -> 5
A12: 37 | B12: לב תל-אביב | C12: Lev Hair | D12: 2012 | E12: סה"כ יחידות דיור | F12: 17056 | G12: =VLOOKUP($A12,הגדרות!$A$20:$B$90,2,FALSE) -> 5
A13: 37 | B13: לב תל-אביב | C13: Lev Hair | D13: 2012 | E13: שטח בנוי מגורים | F13: 1190191 | G13: =VLOOKUP($A13,הגדרות!$A$20:$B$90,2,FALSE) -> 5
... A1369: 44 | B1369: יפו העתיקה נמל יפו | C1369: Old Yafo | D1369: 2015 | E1369: שטח בנוי מגורים | F1369: 46611 | G1369: =VLOOKUP($A1369,הגדרות!$A$20:$B$90,2,FALSE) -> 7
A1370: 1 | B1370: גלילות | C1370: Glilot | D1370: 2010 | E1370: סה"כ יחידות | G1370: =VLOOKUP($A1370,הגדרות!$A$20:$B$90,2,FALSE) -> 1
A1371: 1 | B1371: גלילות | C1371: Glilot | D1371: 2010 | E1371: שטח בנוי | G1371: =VLOOKUP($A1371,הגדרות!$A$20:$B$90,2,FALSE) -> 1
A1372: 1 | B1372: גלילות | C1372: Glilot | D1372: 2010 | E1372: סה"כ יחידות דיור | G1372: =VLOOKUP($A1372,הגדרות!$A$20:$B$90,2,FALSE) -> 1
A1373: 1 | B1373: גלילות | C1373: Glilot | D1373: 2010 | E1373: שטח בנוי מגורים | G1373: =VLOOKUP($A1373,הגדרות!$A$20:$B$90,2,FALSE) -> 1
A1374: 1 | B1374: גלילות | C1374: Glilot | D1374: 2011 | E1374: סה"כ יחידות | G1374: =VLOOKUP($A1374,הגדרות!$A$20:$B$90,2,FALSE) -> 1
A1375: 1 | B1375: גלילות | C1375: Glilot | D1375: 2011 | E1375: שטח בנוי | G1375: =VLOOKUP($A1375,הגדרות!$A$20:$B$90,2,FALSE) -> 1
A1376: 1 | B1376: גלילות | C1376: Glilot | D1376: 2011 | E1376: סה"כ יחידות דיור | G1376: =VLOOKUP($A1376,הגדרות!$A$20:$B$90,2,FALSE) -> 1
A1377: 1 | B1377: גלילות | C1377: Glilot | D1377: 2011 | E1377: שטח בנוי מגורים | G1377: =VLOOKUP($A1377,הגדרות!$A$20:$B$90,2,FALSE) -> 1
A1378: 1 | B1378: גלילות | C1378: Glilot | D1378: 2012 | E1378: סה"כ יחידות | G1378: =VLOOKUP($A1378,הגדרות!$A$20:$B$90,2,FALSE) -> 1
A1379: 1 | B1379: גלילות | C1379: Glilot | D1379: 2012 | E1379: שטח בנוי | G1379: =VLOOKUP($A1379,הגדרות!$A$20:$B$90,2,FALSE) -> 1
A1380: 1 | B1380: גלילות | C1380: Glilot | D1380: 2012 | E1380: סה"כ יחידות דיור | G1380: =VLOOKUP($A1380,הגדרות!$A$20:$B$90,2,FALSE) -> 1
A1381: 1 | B1381: גלילות | C1381: Glilot | D1381: 2012 | E1381: שטח בנוי מגורים | G1381: =VLOOKUP($A1381,הגדרות!$A$20:$B$90,2,FALSE) -> 1
... A1753: 66 | B1753: פארק דרום | C1753: Park HaDarom | D1753: 2015 | E1753: שטח בנוי מגורים | G1753: =VLOOKUP($A1753,הגדרות!$A$20:$B$90,2,FALSE) -> 9

Sheet Sheet2
A1: Parameter | B1: סה"כ יחידות דיור
A3: סה"כ יח"ד | B3: מס' רובע
A4: שנה | B4: 1 | C4: 2 | D4: 3 | E4: 4 | F4: 5 | G4: 6 | H4: 7 | I4: 8 | J4: 9 | K4: Grand Total
A5: 2010 | B5: 23115 | C5: 18458 | D5: 35514 | E5: 23408 | F5: 21940 | G5: 1581 | H5: 18630 | I5: 15517 | J5: 30017 | K5: 188180
A6: 2011 | B6: 23343 | C6: 18516 | D6: 35725 | E6: 23581 | F6: 22227 | G6: 1639 | H6: 18926 | I6: 15760 | J6: 30405 | K6: 190122
A7: 2012 | B7: 23789 | C7: 18125 | D7: 35731 | E7: 23573 | F7: 22316 | G7: 1632 | H7: 18821 | I7: 16046 | J7: 30388 | K7: 190421
A8: 2013 | B8: 24100 | C8: 18133 | D8: 35869 | E8: 23599 | F8: 22573 | G8: 1733 | H8: 19110.5 | I8: 16489 | J8: 30826 | K8: 192432.5
A9: 2014 | B9: 24699 | C9: 18757 | D9: 36058 | E9: 23760 | F9: 23019 | G9: 1770 | H9: 19900 | I9: 16959 | J9: 31550 | K9: 196472
A10: 2015 | B10: 25065 | C10: 18852 | D10: 36039 | E10: 24088 | F10: 23374 | G10: 2030 | H10: 20216 | I10: 17176 | J10: 31960 | K10: 198800
A11: Grand Total | B11: 144111 | C11: 110841 | D11: 214936 | E11: 142009 | F11: 135449 | G11: 10385 | H11: 115603.5 | I11: 97947 | J11: 185146 | K11: 1156427.5
B12: =B10-B5 -> 1950 | C12: =C10-C5 -> 394 | D12: =D10-D5 -> 525 | E12: =E10-E5 -> 680 | F12: =F10-F5 -> 1434 | G12: =G10-G5 -> 449 | H12: =H10-H5 -> 1586 | I12: =I10-I5 -> 1659 | ... K12: =K10-K5 -> 10620
A13: מגדלי יוקרה או מגורים יקרים מאד | B13: =B12 -> 1950 | C13: =K66 -> 191 | D13: =K83 -> 409 | E13: =K87 -> 500 | F13: =K94 -> 152 | G13: =K98 -> 221 | H13: =K101 -> 839 | I13: =K112 -> 1022 | J13: =K118 -> 644 | K13: =SUM(B13:J13) -> 5928
A14: כל השאר | B14: =B12-B13 -> 0 | C14: =C12-C13 -> 203 | D14: =D12-D13 -> 116 | E14: =E12-E13 -> 180 | F14: =F12-F13 -> 1282 | G14: =G12-G13 -> 228 | H14: =H12-H13 -> 747 | I14: =I12-I13 -> 637 | J14: =J12-J13 -> 1299 | K14: =SUM(B14:J14) -> 4692
D15: =D10+F10+H10 -> 79629 | F15: =D10+E10+F10 -> 83501
A16: Parameter | B16: סה"כ יחידות שאינן למגורים | F16: =F15*2 -> 167002
A18: Sum of Value | B18: Column Labels
A19: רובע | B19: 1 | C19: 2 | D19: 3 | E19: 4 | F19: 5 | G19: 6 | H19: 7 | I19: 8 | J19: 9 | K19: Grand Total
A20: 2010 | B20: =B35-B5 -> 1464 | C20: =C35-C5 -> 1276 | D20: =D35-D5 -> 5554 | E20: =E35-E5 -> 2655 | F20: =F35-F5 -> 11262 | G20: =G35-G5 -> 6566 | H20: =H35-H5 -> 6859 | I20: =I35-I5 -> 7746 | ... K20: =K35-K5 -> 47654
A21: 2011 | B21: =B36-B6 -> 1558 | C21: =C36-C6 -> 1331 | D21: =D36-D6 -> 5619 | E21: =E36-E6 -> 2768 | F21: =F36-F6 -> 11441 | G21: =G36-G6 -> 6799 | H21: =H36-H6 -> 7071 | I21: =I36-I6 -> 7842 | ... K21: =K36-K6 -> 48962
A22: 2012 | B22: =B37-B7 -> 1604 | C22: =C37-C7 -> 1197 | D22: =D37-D7 -> 5599 | E22: =E37-E7 -> 2753 | F22: =F37-F7 -> 11347 | G22: =G37-G7 -> 6885 | H22: =H37-H7 -> 7045 | I22: =I37-I7 -> 7823 | ... K22: =K37-K7 -> 48522
A23: 2013 | B23: =B38-B8 -> 1632 | C23: =C38-C8 -> 1329 | D23: =D38-D8 -> 5603 | E23: =E38-E8 -> 2794 | F23: =F38-F8 -> 11206 | G23: =G38-G8 -> 6721 | H23: =H38-H8 -> 7083 | I23: =I38-I8 -> 7862 | ... K23: =K38-K8 -> 48651
A24: 2014 | B24: =B39-B9 -> 1663 | C24: =C39-C9 -> 1360 | D24: =D39-D9 -> 5614 | E24: =E39-E9 -> 2895 | F24: =F39-F9 -> 11279 | G24: =G39-G9 -> 6813 | H24: =H39-H9 -> 7177 | I24: =I39-I9 -> 7837 | ... K24: =K39-K9 -> 49671
A25: 2015 | B25: =B40-B10 -> 1700 | C25: =C40-C10 -> 1383 | D25: =D40-D10 -> 5580 | E25: =E40-E10 -> 2927 | F25: =F40-F10 -> 11428 | G25: =G40-G10 -> 7166 | H25: =H40-H10 -> 7198 | I25: =I40-I10 -> 7848 | ... K25: =K40-K10 -> 50344
A26: Grand Total
B27: =B25-B20 -> 236 | C27: =C25-C20 -> 107 | D27: =D25-D20 -> 26 | E27: =E25-E20 -> 272 | F27: =F25-F20 -> 166 | G27: =G25-G20 -> 600 | H27: =H25-H20 -> 339 | I27: =I25-I20 -> 102 | ... K27: =K25-K20 -> 2690
A31: Parameter | B31: סה"כ יחידות
A33: Sum of Value | B33: Column Labels
A34: Row Labels | B34: 1 | C34: 2 | D34: 3 | E34: 4 | F34: 5 | G34: 6 | H34: 7 | I34: 8 | J34: 9 | K34: Grand Total
A35: 2010 | B35: 24579 | C35: 19734 | D35: 41068 | E35: 26063 | F35: 33202 | G35: 8147 | H35: 25489 | I35: 23263 | J35: 34289 | K35: 235834
A36: 2011 | B36: 24901 | C36: 19847 | D36: 41344 | E36: 26349 | F36: 33668 | G36: 8438 | H36: 25997 | I36: 23602 | J36: 34938 | K36: 239084
A37: 2012 | B37: 25393 | C37: 19322 | D37: 41330 | E37: 26326 | F37: 33663 | G37: 8517 | H37: 25866 | I37: 23869 | J37: 34657 | K37: 238943
A38: 2013 | B38: 25732 | C38: 19462 | D38: 41472 | E38: 26393 | F38: 33779 | G38: 8454 | H38: 26193.5 | I38: 24351 | J38: 35247 | K38: 241083.5
A39: 2014 | B39: 26362 | C39: 20117 | D39: 41672 | E39: 26655 | F39: 34298 | G39: 8583 | H39: 27077 | I39: 24796 | J39: 36583 | K39: 246143
A40: 2015 | B40: 26765 | C40: 20235 | D40: 41619 | E40: 27015 | F40: 34802 | G40: 9196 | H40: 27414 | I40: 25024 | J40: 37074 | K40: 249144
A41: Grand Total | B41: 153732 | C41: 118717 | D41: 248505 | E41: 158801 | F41: 203412 | G41: 51335 | H41: 158036.5 | I41: 144905 | J41: 212788 | K41: 1450231.5
B42: =B40-B35 -> 2186 | C42: =C40-C35 -> 501 | D42: =D40-D35 -> 551 | E42: =E40-E35 -> 952 | F42: =F40-F35 -> 1600 | G42: =G40-G35 -> 1049 | H42: =H40-H35 -> 1925 | I42: =I40-I35 -> 1761 | ... K42: =K40-K35 -> 13310
A48: Parameter | B48: סה"כ יחידות דיור
A50: Sum of Value | B50: Column Labels
A51: רובע | B51: 2010 | C51: 2011 | D51: 2012 | E51: 2013 | F51: 2014 | G51: 2015 | H51: Grand Total
A52: 1 | B52: 23115 | C52: 23343 | D52: 23789 | E52: 24100 | F52: 24699 | G52: 25065 | H52: 144111 | I52: =SUM(I53:I65) -> 1950 | K52: =SUM(K53:K65) -> 1900
A53: אוניברסיטת ת"א | I53: =G53-B53 -> 0
A54: אפקה | B54: 1010 | C54: 1016 | D54: 1014 | E54: 1016 | F54: 1019 | G54: 1013 | H54: 6088 | I54: =G54-B54 -> 3 | J54: =G54/B54 -> 1.0029703
A55: גלילות | I55: =G55-B55 -> 0
A56: גלילות, צוקי אביב ואזור שדה דב | B56: 2260 | C56: 2260 | D56: 2468 | E56: 2548 | F56: 2731 | G56: 2889 | H56: 15156 | I56: =G56-B56 -> 629 | J56: =G56/B56 -> 1.2783186 | K56: =I56 -> 629
A57: כוכב הצפון | B57: 1373 | C57: 1516 | D57: 1574 | E57: 1658 | F57: 1742 | G57: 1742 | H57: 9605 | I57: =G57-B57 -> 369 | J57: =G57/B57 -> 1.2687546 | K57: =I57 -> 369
A58: מרכז הירידים | I58: =G58-B58 -> 0
A59: נוה אביבים וסביבתה | B59: 5120 | C59: 5121 | D59: 5121 | E59: 5145 | F59: 5146 | G59: 5142 | H59: 30795 | I59: =G59-B59 -> 22 | J59: =G59/B59 -> 1.0042969
A60: נופי ים | B60: 3090 | C60: 3137 | D60: 3225 | E60: 3338 | F60: 3566 | G60: 3593 | H60: 19949 | I60: =G60-B60 -> 503 | J60: =G60/B60 -> 1.1627832 | K60: =I60 -> 503
A61: פארק הירקון | I61: =G61-B61 -> 0
A62: צוקי אביב | I62: =G62-B62 -> 0
A63: רמת-אביב | B63: 3746 | C63: 3738 | D63: 3778 | E63: 3786 | F63: 3771 | G63: 3771 | H63: 22590 | I63: =G63-B63 -> 25 | J63: =G63/B63 -> 1.0066738
A64: רמת אביב ג | B64: 4563 | C64: 4601 | D64: 4555 | E64: 4554 | F64: 4624 | G64: 4691 | H64: 27588 | I64: =G64-B64 -> 128 | J64: =G64/B64 -> 1.0280517 | K64: =I64 -> 128
A65: תכנית ל | B65: 1953 | C65: 1954 | D65: 2054 | E65: 2055 | F65: 2100 | G65: 2224 | H65: 12340 | I65: =G65-B65 -> 271 | J65: =G65/B65 -> 1.1387609 | K65: =I65 -> 271
A66: 2 | B66: 18458 | C66: 18516 | D66: 18125 | E66: 18133 | F66: 18757 | G66: 18852 | H66: 110841 | I66: =SUM(I67:I82) -> 394 | K66: =SUM(K67:K82) -> 191
A67: גני צהלה רמות צהלה | B67: 1444 | C67: 1456 | D67: 1472 | E67: 1492 | F67: 1529 | G67: 1533 | H67: 8926 | I67: =G67-B67 -> 89 | J67: =G67/B67 -> 1.0616343
A68: הדר-יוסף | B68: 2866 | C68: 2864 | D68: 2721 | E68: 2768 | F68: 2890 | G68: 2898 | H68: 17007 | I68: =G68-B68 -> 32 | J68: =G68/B68 -> 1.0111654
A69: המשתלה | B69: 1185 | C69: 1188 | D69: 1163 | E69: 1128 | F69: 1188 | G69: 1188 | H69: 7040 | I69: =G69-B69 -> 3 | J69: =G69/B69 -> 1.0025316
A70: מעוז אביב | I70: =G70-B70 -> 0
A71: נאות אפקה א | B71: 1210 | C71: 1210 | D71: 1173 | E71: 1179 | F71: 1247 | G71: 1250 | H71: 7269 | I71: =G71-B71 -> 40 | J71: =G71/B71 -> 1.0330579
A72: נאות אפקה ב | B72: 1806 | C72: 1809 | D72: 1745 | E72: 1749 | F72: 1827 | G72: 1827 | H72: 10763 | I72: =G72-B72 -> 21 | J72: =G72/B72 -> 1.0116279
A73: נוה דן | B73: 813 | C73: 817 | D73: 775 | E73: 777 | F73: 823 | G73: 821 | H73: 4826 | I73: =G73-B73 -> 8 | J73: =G73/B73 -> 1.0098401
A74: נווה שרת | B74: 2886 | C74: 2886 | D74: 2841 | E74: 2841 | F74: 2814 | G74: 2897 | H74: 17165 | I74: =G74-B74 -> 11 | J74: =G74/B74 -> 1.0038115
A75: עתידים | I75: =G75-B75 -> 0
A76: צהלה | B76: 633 | C76: 636 | D76: 617 | E76: 618 | F76: 635 | G76: 627 | H76: 3766 | I76: =G76-B76 -> -6 | J76: =G76/B76 -> 0.99052133
A77: קרית שאול | I77: =G77-B77 -> 0
A78: רביבים | B78: 1315 | C78: 1316 | D78: 1314 | E78: 1316 | F78: 1319 | G78: 1318 | H78: 7898 | I78: =G78-B78 -> 3 | J78: =G78/B78 -> 1.0022814
A79: רמת החייל | B79: 1409 | C79: 1416 | D79: 1323 | E79: 1323 | F79: 1410 | G79: 1411 | H79: 8292 | I79: =G79-B79 -> 2 | J79: =G79/B79 -> 1.0014194
A80: תל ברוך | I80: =G80-B80 -> 0
A81: תל ברוך צפון | I81: =G81-B81 -> 0
A82: תל ברוך צפון, תל ברוך ומעוז אביב | B82: 2891 | C82: 2918 | D82: 2981 | E82: 2942 | F82: 3075 | G82: 3082 | H82: 17889 | I82: =G82-B82 -> 191 | J82: =G82/B82 -> 1.0660671 | K82: =I82 -> 191
A83: 3 | B83: 35514 | C83: 35725 | D83: 35731 | E83: 35869 | F83: 36058 | G83: 36039 | H83: 214936 | I83: =SUM(I84:I86) -> 525 | K83: =SUM(K84:K86) -> 409
A84: הצפון הישן - החלק הדרומי | B84: 16726 | C84: 16861 | D84: 16899 | E84: 16990 | F84: 17139 | G84: 17135 | H84: 101750 | I84: =G84-B84 -> 409 | J84: =G84/B84 -> 1.0244529 | K84: =I84 -> 409
A85: הצפון הישן - החלק הצפוני | B85: 18788 | C85: 18864 | D85: 18832 | E85: 18879 | F85: 18919 | G85: 18904 | H85: 113186 | I85: =G85-B85 -> 116 | J85: =G85/B85 -> 1.0061742
A86: נמל תל-אביב | I86: =G86-B86 -> 0
A87: 4 | B87: 23408 | C87: 23581 | D87: 23573 | E87: 23599 | F87: 23760 | G87: 24088 | H87: 142009 | I87: =SUM(I88:I93) -> 680 | K87: =SUM(K88:K93) -> 500
A88: בבלי | B88: 3622 | C88: 3622 | D88: 3637 | E88: 3624 | F88: 3645 | G88: 3639 | H88: 21789 | I88: =G88-B88 -> 17 | J88: =G88/B88 -> 1.0046935
A89: הצפון החדש-סביבת ככר המדינה | B89: 7145 | C89: 7147 | D89: 7132 | E89: 7125 | F89: 7118 | G89: 7120 | H89: 42787 | I89: =G89-B89 -> -25 | J89: =G89/B89 -> 0.99650105
A90: הצפון החדש - החלק הדרומי | B90: 6645 | C90: 6700 | D90: 6707 | E90: 6767 | F90: 6777 | G90: 6839 | H90: 40435 | I90: =G90-B90 -> 194 | J90: =G90/B90 -> 1.0291949
A91: הצפון החדש - החלק הדרומי וצמרות איילון | I91: =G91-B91 -> 0
A92: הצפון החדש - החלק הצפוני | B92: 5193 | C92: 5195 | D92: 5182 | E92: 5173 | F92: 5193 | G92: 5187 | H92: 31123 | I92: =G92-B92 -> -6 | J92: =G92/B92 -> 0.9988446
A93: צמרות איילון | B93: 803 | C93: 917 | D93: 915 | E93: 910 | F93: 1027 | G93: 1303 | H93: 5875 | I93: =G93-B93 -> 500 | J93: =G93/B93 -> 1.622665 | K93: =I93 -> 500
A94: 5 | B94: 21940 | C94: 22227 | D94: 22316 | E94: 22573 | F94: 23019 | G94: 23374 | H94: 135449 | I94: =SUM(I95:I97) -> 1434 | K94: =SUM(K95:K97) -> 152
A95: כרם התימנים | B95: 2958 | C95: 3010 | D95: 3003 | E95: 3068 | F95: 3100 | G95: 3148 | H95: 18287 | I95: =G95-B95 -> 190 | J95: =G95/B95 -> 1.0642326
A96: לב תל-אביב | B96: 16802 | C96: 17002 | D96: 17056 | E96: 17217 | F96: 17590 | G96: 17894 | H96: 103561 | I96: =G96-B96 -> 1092 | J96: =G96/B96 -> 1.0649923
A97: נווה צדק | B97: 2180 | C97: 2215 | D97: 2257 | E97: 2288 | F97: 2329 | G97: 2332 | H97: 13601 | I97: =G97-B97 -> 152 | J97: =G97/B97 -> 1.0697248 | K97: =I97 -> 152
A98: 6 | B98: 1581 | C98: 1639 | D98: 1632 | E98: 1733 | F98: 1770 | G98: 2030 | H98: 10385 | I98: =SUM(I99:I100) -> 449 | K98: =SUM(K99:K100) -> 221
A99: גני שרונה | B99: 746 | C99: 747 | D99: 746 | E99: 749 | F99: 748 | G99: 967 | H99: 4703 | I99: =G99-B99 -> 221 | J99: =G99/B99 -> 1.2962466 | K99: =I99 -> 221
A100: מונטיפיורי | B100: 835 | C100: 892 | D100: 886 | E100: 984 | F100: 1022 | G100: 1063 | H100: 5682 | I100: =G100-B100 -> 228 | J100: =G100/B100 -> 1.2730539
A101: 7 | B101: 18630 | C101: 18926 | D101: 18821 | E101: 19110.5 | F101: 19900 | G101: 20216 | H101: 115603.5 | I101: =SUM(I102:I111) -> 1586 | K101: =SUM(K102:K111) -> 839
A102: אזור תעסוקה-צומת חולון | I102: =G102-B102 -> 0
A103: גבעת הרצל אזור המלאכה-יפו | B103: 720 | C103: 725 | D103: 728 | E103: 753.5 | F103: 779 | G103: 922 | H103: 4627.5 | I103: =G103-B103 -> 202 | J103: =G103/B103 -> 1.2805556
A104: יפו ג' ונוה גולן | B104: 2240 | C104: 2241 | D104: 2223 | E104: 2224 | F104: 2376 | G104: 2376 | H104: 13680 | I104: =G104-B104 -> 136 | J104: =G104/B104 -> 1.0607143
A105: יפו ד' | B105: 2503 | C105: 2504 | D105: 2485 | E105: 2471 | F105: 2523 | G105: 2524 | H105: 15010 | I105: =G105-B105 -> 21 | J105: =G105/B105 -> 1.0083899
A106: יפו העתיקה נמל יפו | B106: 363 | C106: 367 | D106: 366 | E106: 376 | F106: 393 | G106: 416 | H106: 2281 | I106: =G106-B106 -> 53 | J106: =G106/B106 -> 1.1460055
A107: מכללת יפו תל אביב ודקר | B107: 2166 | C107: 2174 | D107: 2137 | E107: 2154 | F107: 2195 | G107: 2194 | H107: 13020 | I107: =G107-B107 -> 28 | J107: =G107/B107 -> 1.0129271
A108: נוה עופר | B108: 3110 | C108: 3113 | D108: 3110 | E108: 3030 | F108: 2950 | G108: 2957 | H108: 18270 | I108: =G108-B108 -> -153 | J108: =G108/B108 -> 0.95080386
A109: עג'מי וגבעת עליה | B109: 1786 | C109: 1834 | D109: 1896 | E109: 1957 | F109: 2063 | G109: 2093 | H109: 11629 | I109: =G109-B109 -> 307 | J109: =G109/B109 -> 1.1718925
A110: צהלון ושיכוני חסכון | B110: 2802 | C110: 2821 | D110: 2744 | E110: 2795 | F110: 2928 | G110: 2955 | H110: 17045 | I110: =G110-B110 -> 153 | J110: =G110/B110 -> 1.0546039
A111: צפון יפו | B111: 2940 | C111: 3147 | D111: 3132 | E111: 3350 | F111: 3693 | G111: 3779 | H111: 20041 | I111: =G111-B111 -> 839 | J111: =G111/B111 -> 1.2853741 | K111: =I111 -> 839
A112: 8 | B112: 15517 | C112: 15760 | D112: 16046 | E112: 16489 | F112: 16959 | G112: 17176 | H112: 97947 | I112: =SUM(I113:I117) -> 1659 | K112: =SUM(K113:K117) -> 1022
...
