Workbook

Sheet PIVOT
A2: מגזר | B2: יהודי
A3: פיקוח | B3: מ"מ
A5: Sum of תלמידים | B5: Column Labels
A6: Row Labels | B6: 1 | C6: 2 | D6: 3 | E6: 4 | F6: 5 | G6: 6 | H6: 7 | I6: 8 | J6: 9 | K6: Grand Total
A7: 2002 | B7: 2539 | C7: 2816 | D7: 1728 | E7: 1108 | F7: 1055 | G7: 491 | H7: 1562 | I7: 897 | J7: 3485 | K7: 15681
A8: 2003 | B8: 2512 | C8: 2827 | D8: 1720 | E8: 1062 | F8: 1007 | G8: 497 | H8: 1542 | I8: 890 | J8: 3397 | K8: 15454
A9: 2004 | B9: 2516 | C9: 2958 | D9: 1691 | E9: 1111 | F9: 898 | G9: 488 | H9: 1464 | I9: 868 | J9: 3448 | K9: 15442
A10: 2005 | B10: 2484 | C10: 3006 | D10: 1651 | E10: 1154 | F10: 933 | G10: 486 | H10: 1390 | I10: 830 | J10: 3485 | K10: 15419
A11: 2006 | B11: 2507 | C11: 3134 | D11: 1619 | E11: 1170 | F11: 1032 | G11: 480 | H11: 1329 | I11: 807 | J11: 3473 | K11: 15551
A12: 2007 | B12: 2595 | C12: 3253 | D12: 1598 | E12: 1209 | F12: 1109 | G12: 470 | H12: 1257 | I12: 793 | J12: 3460 | K12: 15744
A13: 2008 | B13: 2663 | C13: 3378 | D13: 1659 | E13: 1240 | F13: 1146 | G13: 464 | H13: 1222 | I13: 814 | J13: 3419 | K13: 16005
A14: 2009 | B14: 2739 | C14: 3559 | D14: 1725 | E14: 1291 | F14: 1153 | G14: 475 | H14: 1160 | I14: 788 | J14: 3401 | K14: 16291
A15: 2010 | B15: 2839 | C15: 3731 | D15: 1823 | E15: 1339 | F15: 1181 | G15: 489 | H15: 1153 | I15: 794 | J15: 3414 | K15: 16763
A16: 2011 | B16: 2940 | C16: 3894 | D16: 1925 | E16: 1413 | F16: 1228 | G16: 486 | H16: 1114 | I16: 816 | J16: 3440 | K16: 17256
A17: 2012 | B17: 3072 | C17: 4047 | D17: 2033 | E17: 1508 | F17: 1266 | G17: 484 | H17: 1079 | I17: 788 | J17: 3417 | K17: 17694
A18: 2013 | B18: 3236 | C18: 4112 | D18: 2164 | E18: 1617 | F18: 1284 | G18: 489 | H18: 1064 | I18: 793 | J18: 3400 | K18: 18159
... A22: 2017 | B22: 4120 | C22: 4606 | D22: 2545 | E22: 2268 | F22: 1646 | G22: 525 | H22: 1031 | I22: 923 | J22: 3619 | K22: 21283
A23: Grand Total | B23: 47630 | C23: 58425 | D23: 31040 | E23: 23309 | F23: 19492 | G23: 7778 | H23: 19370 | I23: 13229 | J23: 55486 | K23: 275759
A25: מס' ילדים יהודיים במוסדות לימוד ממלכתיים | H25: מס' ילדים ערביים במוסדות לימוד ממלכתיים | L25: מס' ילדים יהודיים במוסדות לימוד ממלכתי דתי
A26: שנה | B26: צפון ת"א | C26: מרכז ת"א | D26: דרום ת"א | E26: מזרח ת"א | H26: שנה | I26: דרום ת"א | L26: שנה | M26: צפון ת"א | N26: מרכז ת"א | O26: דרום ת"א | P26: מזרח ת"א
A27: 2002 | B27: 5355 | C27: 4382 | D27: 2459 | E27: 3485 | H27: 2002 | I27: 835 | L27: 2002 | M27: 157 | N27: 472 | O27: 561 | P27: 1086
A28: 2003 | B28: 5339 | C28: 4286 | D28: 2432 | E28: 3397 | H28: 2003 | I28: 940 | L28: 2003 | M28: 156 | N28: 447 | O28: 512 | P28: 1030
A29: 2004 | B29: 5474 | C29: 4188 | D29: 2332 | E29: 3448 | H29: 2004 | I29: 1033 | L29: 2004 | M29: 155 | N29: 440 | O29: 535 | P29: 1031
A30: 2005 | B30: 5490 | C30: 4224 | D30: 2220 | E30: 3485 | H30: 2005 | I30: 1143 | L30: 2005 | M30: 145 | N30: 419 | O30: 567 | P30: 957
A31: 2006 | B31: 5641 | C31: 4301 | D31: 2136 | E31: 3473 | H31: 2006 | I31: 1216 | L31: 2006 | M31: 141 | N31: 412 | O31: 570 | P31: 949
A32: 2007 | B32: 5848 | C32: 4386 | D32: 2050 | E32: 3460 | H32: 2007 | I32: 1190 | L32: 2007 | M32: 133 | N32: 431 | O32: 634 | P32: 999
A33: 2008 | B33: 6041 | C33: 4509 | D33: 2036 | E33: 3419 | H33: 2008 | I33: 1234 | L33: 2008 | M33: 132 | N33: 428 | O33: 659 | P33: 962
A34: 2009 | B34: 6298 | C34: 4644 | D34: 1948 | E34: 3401 | H34: 2009 | I34: 1295 | L34: 2009 | M34: 145 | N34: 465 | O34: 683 | P34: 943
A35: 2010 | B35: 6570 | C35: 4832 | D35: 1947 | E35: 3414 | H35: 2010 | I35: 1335 | L35: 2010 | M35: 156 | N35: 507 | O35: 700 | P35: 950
A36: 2011 | B36: 6834 | C36: 5052 | D36: 1930 | E36: 3440 | H36: 2011 | I36: 1329 | L36: 2011 | M36: 152 | N36: 514 | O36: 702 | P36: 939
A37: 2012 | B37: 7119 | C37: 5291 | D37: 1867 | E37: 3417 | H37: 2012 | I37: 1359 | L37: 2012 | M37: 172 | N37: 530 | O37: 790 | P37: 897
A38: 2013 | B38: 7348 | C38: 5554 | D38: 1857 | E38: 3400 | H38: 2013 | I38: 1349 | L38: 2013 | M38: 173 | N38: 554 | O38: 820 | P38: 899
... A42: 2017 | B42: 8726 | C42: 6984 | D42: 1954 | E42: 3619 | H42: 2017 | I42: 1196 | L42: 2017 | M42: 296 | N42: 636 | O42: 937 | P42: 1017

Sheet תל אביב
A1: שנ"ל | B1: מגזר | C1: מעמד משפטי | D1: פיקוח | E1: שלבי חינוך במוסד | F1: שם ישוב | G1: שם מוסד | H1: תלמידים במוסד | I1: שם מוטב | J1: מוסדות | K1: תלמידים | L1: כתובת המוסד | M1: רובע
A2: 2017 | B2: יהודי | C2: רשמי | D2: חמ"ד | E2: גן ויסודי | F2: תל אביב - יפו | G2: אלומות מד | H2: 296 | I2: עירית תל אביב | J2: 1 | K2: 296 | L2: =VLOOKUP($G2,'מוסדות 2017'!$C$87:$AA$272,25,FALSE) -> רדינג 35 | M2: =VLOOKUP($G2,'התאמת רובע למוסד'!$A$2:$C$75,3,FALSE) -> 1
A3: 2017 | B3: יהודי | C3: רשמי | D3: חמ"ד | E3: גן ויסודי | F3: תל אביב - יפו | G3: בעל שם טוב מד | H3: 322 | I3: עירית תל אביב | J3: 1 | K3: 322 | L3: =VLOOKUP($G3,'מוסדות 2017'!$C$87:$AA$272,25,FALSE) -> לובטקין צביה 35 | M3: =VLOOKUP($G3,'התאמת רובע למוסד'!$A$2:$C$75,3,FALSE) -> 9
A4: 2017 | B4: יהודי | C4: רשמי | D4: חמ"ד | E4: גן ויסודי | F4: תל אביב - יפו | G4: עמיאל רמב"ם מד | H4: 202 | I4: עירית תל אביב | J4: 1 | K4: 202 | L4: =VLOOKUP($G4,'מוסדות 2017'!$C$87:$AA$272,25,FALSE) -> אורים 41 | M4: =VLOOKUP($G4,'התאמת רובע למוסד'!$A$2:$C$75,3,FALSE) -> 9
A5: 2017 | B5: יהודי | C5: רשמי | D5: חמ"ד | E5: יסודי בלבד | F5: תל אביב - יפו | G5: דיזנגוף | H5: 373 | I5: עירית תל אביב | J5: 1 | K5: 373 | L5: =VLOOKUP($G5,'מוסדות 2017'!$C$87:$AA$272,25,FALSE) -> קפלנסקי 2 | M5: =VLOOKUP($G5,'התאמת רובע למוסד'!$A$2:$C$75,3,FALSE) -> 8
A6: 2017 | B6: יהודי | C6: רשמי | D6: חמ"ד | E6: יסודי בלבד | F6: תל אביב - יפו | G6: חב"ד בנות | H6: 187 | I6: עירית תל אביב | J6: 1 | K6: 187 | L6: =VLOOKUP($G6,'מוסדות 2017'!$C$87:$AA$272,25,FALSE) -> נחל שורק 5 | M6: =VLOOKUP($G6,'התאמת רובע למוסד'!$A$2:$C$75,3,FALSE) -> 7
A7: 2017 | B7: יהודי | C7: רשמי | D7: חמ"ד | E7: יסודי בלבד | F7: תל אביב - יפו | G7: יפה נוף | H7: 153 | I7: עירית תל אביב | J7: 1 | K7: 153 | L7: =VLOOKUP($G7,'מוסדות 2017'!$C$87:$AA$272,25,FALSE) -> נחל שורק 5 | M7: =VLOOKUP($G7,'התאמת רובע למוסד'!$A$2:$C$75,3,FALSE) -> 7
A8: 2017 | B8: יהודי | C8: רשמי | D8: חמ"ד | E8: יסודי בלבד | F8: תל אביב - יפו | G8: מודיעים מד | H8: 160 | I8: עירית תל אביב | J8: 1 | K8: 160 | L8: =VLOOKUP($G8,'מוסדות 2017'!$C$87:$AA$272,25,FALSE) -> אלון יגאל 31 | M8: =VLOOKUP($G8,'התאמת רובע למוסד'!$A$2:$C$75,3,FALSE) -> 9
A9: 2017 | B9: יהודי | C9: רשמי | D9: חמ"ד | E9: יסודי בלבד | F9: תל אביב - יפו | G9: מוריה מד | H9: 336 | I9: עירית תל אביב | J9: 1 | K9: 336 | L9: =VLOOKUP($G9,'מוסדות 2017'!$C$87:$AA$272,25,FALSE) -> צייטלין 24 | M9: =VLOOKUP($G9,'התאמת רובע למוסד'!$A$2:$C$75,3,FALSE) -> 4
A10: 2017 | B10: יהודי | C10: רשמי | D10: חמ"ד | E10: יסודי בלבד | F10: תל אביב - יפו | G10: מירון מד | H10: 300 | I10: עירית תל אביב | J10: 1 | K10: 300 | L10: =VLOOKUP($G10,'מוסדות 2017'!$C$87:$AA$272,25,FALSE) -> בני דן 40 | M10: =VLOOKUP($G10,'התאמת רובע למוסד'!$A$2:$C$75,3,FALSE) -> 4
A11: 2017 | B11: יהודי | C11: רשמי | D11: חמ"ד | E11: יסודי בלבד | F11: תל אביב - יפו | G11: עציון מד | H11: 333 | I11: עירית תל אביב | J11: 1 | K11: 333 | L11: =VLOOKUP($G11,'מוסדות 2017'!$C$87:$AA$272,25,FALSE) -> ברנפלד שמעון 15 | M11: =VLOOKUP($G11,'התאמת רובע למוסד'!$A$2:$C$75,3,FALSE) -> 9
A12: 2017 | B12: יהודי | C12: רשמי | D12: חמ"ד | E12: יסודי בלבד | F12: תל אביב - יפו | G12: שרשים מד | H12: 224 | I12: עירית תל אביב | J12: 1 | K12: 224 | L12: דרך שלמה 156 | M12: =VLOOKUP($G12,'התאמת רובע למוסד'!$A$2:$C$75,3,FALSE) -> 8
A13: 2017 | B13: יהודי | C13: רשמי | D13: מ"מ | E13: גן ויסודי | F13: תל אביב - יפו | G13: אביב | H13: 436 | I13: עירית תל אביב | J13: 1 | K13: 436 | L13: =VLOOKUP($G13,'מוסדות 2017'!$C$87:$AA$272,25,FALSE) -> אשכול לוי 94 | M13: =VLOOKUP($G13,'התאמת רובע למוסד'!$A$2:$C$75,3,FALSE) -> 1
A14: 2017 | B14: יהודי | C14: רשמי | D14: מ"מ | E14: גן ויסודי | F14: תל אביב - יפו | G14: ביה"ס הפתוח | H14: 208 | I14: עירית תל אביב | J14: 1 | K14: 208 | L14: =VLOOKUP($G14,'מוסדות 2017'!$C$87:$AA$272,25,FALSE) -> נועם 8 | M14: =VLOOKUP($G14,'התאמת רובע למוסד'!$A$2:$C$75,3,FALSE) -> 7
A15: 2017 | B15: יהודי | C15: רשמי | D15: מ"מ | E15: גן ויסודי | F15: תל אביב - יפו | G15: דוד בלוך | H15: 413 | I15: עירית תל אביב | J15: 1 | K15: 413 | L15: =VLOOKUP($G15,'מוסדות 2017'!$C$87:$AA$272,25,FALSE) -> ביצרון 19 | M15: =VLOOKUP($G15,'התאמת רובע למוסד'!$A$2:$C$75,3,FALSE) -> 9
A16: 2017 | B16: יהודי | C16: רשמי | D16: מ"מ | E16: גן ויסודי | F16: תל אביב - יפו | G16: ע"ש נעמי שמר | H16: 588 | I16: עירית תל אביב | J16: 1 | K16: 588 | L16: =VLOOKUP($G16,'מוסדות 2017'!$C$87:$AA$272,25,FALSE) -> בקר אהרון 10 | M16: =VLOOKUP($G16,'התאמת רובע למוסד'!$A$2:$C$75,3,FALSE) -> 2
A17: 2017 | B17: יהודי | C17: רשמי | D17: מ"מ | E17: יסודי בלבד | F17: תל אביב - יפו | G17: א. ד. גורדון | H17: 449 | I17: עירית תל אביב | J17: 1 | K17: 449 | L17: =VLOOKUP($G17,'מוסדות 2017'!$C$87:$AA$272,25,FALSE) -> הירקון 248 | M17: =VLOOKUP($G17,'התאמת רובע למוסד'!$A$2:$C$75,3,FALSE) -> 3
A18: 2017 | B18: יהודי | C18: רשמי | D18: מ"מ | E18: יסודי בלבד | F18: תל אביב - יפו | G18: אהבת ציון | H18: 661 | I18: עירית תל אביב | J18: 1 | K18: 661 | L18: =VLOOKUP($G18,'מוסדות 2017'!$C$87:$AA$272,25,FALSE) -> כהנשטם 61 | M18: =VLOOKUP($G18,'התאמת רובע למוסד'!$A$2:$C$75,3,FALSE) -> 4
A19: 2017 | B19: יהודי | C19: רשמי | D19: מ"מ | E19: יסודי בלבד | F19: תל אביב - יפו | G19: אוסישקין | H19: 262 | I19: עירית תל אביב | J19: 1 | K19: 262 | L19: =VLOOKUP($G19,'מוסדות 2017'!$C$87:$AA$272,25,FALSE) -> אוסישקין 65 | M19: =VLOOKUP($G19,'התאמת רובע למוסד'!$A$2:$C$75,3,FALSE) -> 3
A20: 2017 | B20: יהודי | C20: רשמי | D20: מ"מ | E20: יסודי בלבד | F20: תל אביב - יפו | G20: אילון | H20: 438 | I20: עירית תל אביב | J20: 1 | K20: 438 | L20: =VLOOKUP($G20,'מוסדות 2017'!$C$87:$AA$272,25,FALSE) -> נחלת יצחק 35 | M20: =VLOOKUP($G20,'התאמת רובע למוסד'!$A$2:$C$75,3,FALSE) -> 9
A21: 2017 | B21: יהודי | C21: רשמי | D21: מ"מ | E21: יסודי בלבד | F21: תל אביב - יפו | G21: אילנות | H21: 482 | I21: עירית תל אביב | J21: 1 | K21: 482 | L21: =VLOOKUP($G21,'מוסדות 2017'!$C$87:$AA$272,25,FALSE) -> גרונימן 11 | M21: =VLOOKUP($G21,'התאמת רובע למוסד'!$A$2:$C$75,3,FALSE) -> 1
A22: 2017 | B22: יהודי | C22: רשמי | D22: מ"מ | E22: יסודי בלבד | F22: תל אביב - יפו | G22: איתמר בן אבי | H22: 300 | I22: עירית תל אביב | J22: 1 | K22: 300 | L22: =VLOOKUP($G22,'מוסדות 2017'!$C$87:$AA$272,25,FALSE) -> קהילת קנדה 3 | M22: =VLOOKUP($G22,'התאמת רובע למוסד'!$A$2:$C$75,3,FALSE) -> 7
A23: 2017 | B23: יהודי | C23: רשמי | D23: מ"מ | E23: יסודי בלבד | F23: תל אביב - יפו | G23: אלחריזי | H23: 603 | I23: עירית תל אביב | J23: 1 | K23: 603 | L23: =VLOOKUP($G23,'מוסדות 2017'!$C$87:$AA$272,25,FALSE) -> מגדל שרשן 17 | M23: =VLOOKUP($G23,'התאמת רובע למוסד'!$A$2:$C$75,3,FALSE) -> 2
A24: 2017 | B24: יהודי | C24: רשמי | D24: מ"מ | E24: יסודי בלבד | F24: תל אביב - יפו | G24: ארזים | H24: 539 | I24: עירית תל אביב | J24: 1 | K24: 539 | L24: =VLOOKUP($G24,'מוסדות 2017'!$C$87:$AA$272,25,FALSE) -> לויטן יצחק 7 | M24: =VLOOKUP($G24,'התאמת רובע למוסד'!$A$2:$C$75,3,FALSE) -> 1
... A64: 2017 | B64: ערבי | C64: רשמי | D64: מ"מ | E64: גן ויסודי | F64: תל אביב - יפו | G64: יסודי ערבי חדש | H64: 290 | I64: עירית תל אביב | J64: 1 | K64: 290 | L64: =VLOOKUP($G64,'מוסדות 2017'!$C$87:$AA$272,25,FALSE) -> עבודת ישראל 16 | M64: =VLOOKUP($G64,'התאמת רובע למוסד'!$A$2:$C$75,3,FALSE) -> 7
A65: 2017 | B65: ערבי | C65: רשמי | D65: מ"מ | E65: גן ויסודי | F65: תל אביב - יפו | G65: לב יפו | H65: 233 | I65: עירית תל אביב | J65: 1 | K65: 233 | L65: פסטלוצי 35 | M65: =VLOOKUP($G65,'התאמת רובע למוסד'!$A$2:$C$75,3,FALSE) -> 7
A66: 2016 | B66: יהודי | C66: רשמי | D66: חמ"ד | E66: גן ויסודי | F66: תל אביב - יפו | G66: אלומות מד | H66: 269 | I66: עירית תל אביב | J66: 1 | K66: 269 | L66: =VLOOKUP($G66,'מוסדות 2017'!$C$87:$AA$272,25,FALSE) -> רדינג 35 | M66: =VLOOKUP($G66,'התאמת רובע למוסד'!$A$2:$C$75,3,FALSE) -> 1
A67: 2016 | B67: יהודי | C67: רשמי | D67: חמ"ד | E67: גן ויסודי | F67: תל אביב - יפו | G67: בעל שם טוב מד | H67: 301 | I67: עירית תל אביב | J67: 1 | K67: 301 | L67: =VLOOKUP($G67,'מוסדות 2017'!$C$87:$AA$272,25,FALSE) -> לובטקין צביה 35 | M67: =VLOOKUP($G67,'התאמת רובע למוסד'!$A$2:$C$75,3,FALSE) -> 9
A68: 2016 | B68: יהודי | C68: רשמי | D68: חמ"ד | E68: גן ויסודי | F68: תל אביב - יפו | G68: עמיאל רמב"ם מד | H68: 191 | I68: עירית תל אביב | J68: 1 | K68: 191 | L68: =VLOOKUP($G68,'מוסדות 2017'!$C$87:$AA$272,25,FALSE) -> אורים 41 | M68: =VLOOKUP($G68,'התאמת רובע למוסד'!$A$2:$C$75,3,FALSE) -> 9
A69: 2016 | B69: יהודי | C69: רשמי | D69: חמ"ד | E69: יסודי בלבד | F69: תל אביב - יפו | G69: דיזנגוף | H69: 331 | I69: עירית תל אביב | J69: 1 | K69: 331 | L69: =VLOOKUP($G69,'מוסדות 2017'!$C$87:$AA$272,25,FALSE) -> קפלנסקי 2 | M69: =VLOOKUP($G69,'התאמת רובע למוסד'!$A$2:$C$75,3,FALSE) -> 8
A70: 2016 | B70: יהודי | C70: רשמי | D70: חמ"ד | E70: יסודי בלבד | F70: תל אביב - יפו | G70: חב"ד בנות | H70: 195 | I70: עירית תל אביב | J70: 1 | K70: 195 | L70: =VLOOKUP($G70,'מוסדות 2017'!$C$87:$AA$272,25,FALSE) -> נחל שורק 5 | M70: =VLOOKUP($G70,'התאמת רובע למוסד'!$A$2:$C$75,3,FALSE) -> 7
A71: 2016 | B71: יהודי | C71: רשמי | D71: חמ"ד | E71: יסודי בלבד | F71: תל אביב - יפו | G71: יפה נוף | H71: 144 | I71: עירית תל אביב | J71: 1 | K71: 144 | L71: =VLOOKUP($G71,'מוסדות 2017'!$C$87:$AA$272,25,FALSE) -> נחל שורק 5 | M71: =VLOOKUP($G71,'התאמת רובע למוסד'!$A$2:$C$75,3,FALSE) -> 7
A72: 2016 | B72: יהודי | C72: רשמי | D72: חמ"ד | E72: יסודי בלבד | F72: תל אביב - יפו | G72: מודיעים מד | H72: 152 | I72: עירית תל אביב | J72: 1 | K72: 152 | L72: =VLOOKUP($G72,'מוסדות 2017'!$C$87:$AA$272,25,FALSE) -> אלון יגאל 31 | M72: =VLOOKUP($G72,'התאמת רובע למוסד'!$A$2:$C$75,3,FALSE) -> 9
A73: 2016 | B73: יהודי | C73: רשמי | D73: חמ"ד | E73: יסודי בלבד | F73: תל אביב - יפו | G73: מוריה מד | H73: 343 | I73: עירית תל אביב | J73: 1 | K73: 343 | L73: =VLOOKUP($G73,'מוסדות 2017'!$C$87:$AA$272,25,FALSE) -> צייטלין 24 | M73: =VLOOKUP($G73,'התאמת רובע למוסד'!$A$2:$C$75,3,FALSE) -> 4
A74: 2016 | B74: יהודי | C74: רשמי | D74: חמ"ד | E74: יסודי בלבד | F74: תל אביב - יפו | G74: מירון מד | H74: 288 | I74: עירית תל אביב | J74: 1 | K74: 288 | L74: =VLOOKUP($G74,'מוסדות 2017'!$C$87:$AA$272,25,FALSE) -> בני דן 40 | M74: =VLOOKUP($G74,'התאמת רובע למוסד'!$A$2:$C$75,3,FALSE) -> 4
A75: 2016 | B75: יהודי | C75: רשמי | D75: חמ"ד | E75: יסודי בלבד | F75: תל אביב - יפו | G75: עציון מד | H75: 330 | I75: עירית תל אביב | J75: 1 | K75: 330 | L75: =VLOOKUP($G75,'מוסדות 2017'!$C$87:$AA$272,25,FALSE) -> ברנפלד שמעון 15 | M75: =VLOOKUP($G75,'התאמת רובע למוסד'!$A$2:$C$75,3,FALSE) -> 9
A76: 2016 | B76: יהודי | C76: רשמי | D76: חמ"ד | E76: יסודי בלבד | F76: תל אביב - יפו | G76: שרשים מד | H76: 226 | I76: עירית תל אביב | J76: 1 | K76: 226 | L76: דרך שלמה 156 | M76: =VLOOKUP($G76,'התאמת רובע למוסד'!$A$2:$C$75,3,FALSE) -> 8
A77: 2016 | B77: יהודי | C77: רשמי | D77: מ"מ | E77: גן ויסודי | F77: תל אביב - יפו | G77: אביב | H77: 486 | I77: עירית תל אביב | J77: 1 | K77: 486 | L77: =VLOOKUP($G77,'מוסדות 2017'!$C$87:$AA$272,25,FALSE) -> אשכול לוי 94 | M77: =VLOOKUP($G77,'התאמת רובע למוסד'!$A$2:$C$75,3,FALSE) -> 1
A78: 2016 | B78: יהודי | C78: רשמי | D78: מ"מ | E78: גן ויסודי | F78: תל אביב - יפו | G78: ביה"ס הפתוח | H78: 203 | I78: עירית תל אביב | J78: 1 | K78: 203 | L78: =VLOOKUP($G78,'מוסדות 2017'!$C$87:$AA$272,25,FALSE) -> נועם 8 | M78: =VLOOKUP($G78,'התאמת רובע למוסד'!$A$2:$C$75,3,FALSE) -> 7
A79: 2016 | B79: יהודי | C79: רשמי | D79: מ"מ | E79: גן ויסודי | F79: תל אביב - יפו | G79: גבריאלי-הכרמל | H79: 707 | I79: עירית תל אביב | J79: 1 | K79: 707 | L79: =VLOOKUP($G79,'מוסדות 2017'!$C$87:$AA$272,25,FALSE) -> שפירא צבי 21 | M79: =VLOOKUP($G79,'התאמת רובע למוסד'!$A$2:$C$75,3,FALSE) -> 3
...

Sheet התאמת רובע למוסד
A1: שם מוסד | B1: כתובת המוסד | C1: רובע
A2: א. ד. גורדון | B2: הירקון 248 | C2: 3
A3: אביב | B3: אשכול לוי 94 | C3: 1
A4: אביגל | B4: 20 רובינשטיין | C4: 7
A5: אהבת ציון | B5: כהנשטם 61 | C5: 4
A6: אוסישקין | B6: אוסישקין 65 | C6: 3
A7: אחוה יפו | B7: פייר מנדס פרנס 17 | C7: 7
A8: אילון | B8: נחלת יצחק 35 | C8: 9
A9: אילנות | B9: גרונימן 11 | C9: 1
A10: איתמר בן אבי | B10: קהילת קנדה 3 | C10: 7
A11: אלומות מד | B11: רדינג 35 | C11: 1
A12: אלחריזי | B12: מגדל שרשן 17 | C12: 2
A13: ארזים | B13: לויטן יצחק 7 | C13: 1
... A75: תל חי | B75: מעפילי אגוז 74 | C75: 9

Sheet 2017
A1: שנ"ל | B1: מגזר | C1: מעמד משפטי | D1: פיקוח | E1: שלבי חינוך במוסד | F1: שם ישוב | G1: שם מוסד | H1: תלמידים במוסד | I1: שם מוטב | J1: מוסדות | K1: תלמידים
A2: סה"כ | J2: 275 | K2: 121658
A3: 2017 | B3: יהודי | C3: רשמי | D3: חמ"ד | E3: גן ויסודי | F3: אור יהודה | G3: סעדיה גאון מד | H3: 248 | I3: עירית אור יהודה | J3: 1 | K3: 248
A4: 2017 | B4: יהודי | C4: רשמי | D4: חמ"ד | E4: גן ויסודי | F4: אזור | G4: מימון מד | H4: 130 | I4: מ. מקומית אזור | J4: 1 | K4: 130
A5: 2017 | B5: יהודי | C5: רשמי | D5: חמ"ד | E5: גן ויסודי | F5: בת ים | G5: הראל מד | H5: 314 | I5: עירית בת ים | J5: 1 | K5: 314
A6: 2017 | B6: יהודי | C6: רשמי | D6: חמ"ד | E6: גן ויסודי | F6: הרצליה | G6: בר אילן מד | H6: 336 | I6: עירית הרצליה | J6: 1 | K6: 336
A7: 2017 | B7: יהודי | C7: רשמי | D7: חמ"ד | E7: גן ויסודי | F7: הרצליה | G7: רמבם מד | H7: 137 | I7: עירית הרצליה | J7: 1 | K7: 137
A8: 2017 | B8: יהודי | C8: רשמי | D8: חמ"ד | E8: גן ויסודי | F8: קרית אונו | G8: שילה מד | H8: 130 | I8: עירית קרית אונו | J8: 1 | K8: 130
A9: 2017 | B9: יהודי | C9: רשמי | D9: חמ"ד | E9: גן ויסודי | F9: רמת גן | G9: אושא מד | H9: 132 | I9: עירית רמת גן | J9: 1 | K9: 132
A10: 2017 | B10: יהודי | C10: רשמי | D10: חמ"ד | E10: גן ויסודי | F10: תל אביב - יפו | G10: אלומות מד | H10: 296 | I10: עירית תל אביב | J10: 1 | K10: 296
A11: 2017 | B11: יהודי | C11: רשמי | D11: חמ"ד | E11: גן ויסודי | F11: תל אביב - יפו | G11: בעל שם טוב מד | H11: 322 | I11: עירית תל אביב | J11: 1 | K11: 322
A12: 2017 | B12: יהודי | C12: רשמי | D12: חמ"ד | E12: גן ויסודי | F12: תל אביב - יפו | G12: עמיאל רמב"ם מד | H12: 202 | I12: עירית תל אביב | J12: 1 | K12: 202
A13: 2017 | B13: יהודי | C13: רשמי | D13: חמ"ד | E13: יסודי בלבד | F13: אור יהודה | G13: אור מנחם | H13: 123 | I13: עירית אור יהודה | J13: 1 | K13: 123
A14: 2017 | B14: יהודי | C14: רשמי | D14: חמ"ד | E14: יסודי בלבד | F14: אור יהודה | G14: אורות בנות | H14: 157 | I14: עירית אור יהודה | J14: 1 | K14: 157
... A277: 2017 | B277: ערבי | C277: רשמי | D277: מ"מ | E277: גן ויסודי | F277: תל אביב - יפו | G277: לב יפו | H277: 233 | I277: עירית תל אביב | J277: 1 | K277: 233

Sheet 2016
A1: שנ"ל | B1: מגזר | C1: מעמד משפטי | D1: פיקוח | E1: שלבי חינוך במוסד | F1: שם ישוב | G1: שם מוסד | H1: תלמידים במוסד | I1: שם מוטב | J1: מוסדות | K1: תלמידים
A2: סה"כ | J2: 270 | K2: 117998
A3: 2016 | B3: יהודי | C3: רשמי | D3: חמ"ד | E3: גן ויסודי | F3: אור יהודה | G3: סעדיה גאון מד | H3: 224 | I3: עירית אור יהודה | J3: 1 | K3: 224
A4: 2016 | B4: יהודי | C4: רשמי | D4: חמ"ד | E4: גן ויסודי | F4: אזור | G4: מימון מד | H4: 132 | I4: מ. מקומית אזור | J4: 1 | K4: 132
A5: 2016 | B5: יהודי | C5: רשמי | D5: חמ"ד | E5: גן ויסודי | F5: בת ים | G5: הראל מד | H5: 314 | I5: עירית בת ים | J5: 1 | K5: 314
A6: 2016 | B6: יהודי | C6: רשמי | D6: חמ"ד | E6: גן ויסודי | F6: הרצליה | G6: בר אילן מד | H6: 358 | I6: עירית הרצליה | J6: 1 | K6: 358
A7: 2016 | B7: יהודי | C7: רשמי | D7: חמ"ד | E7: גן ויסודי | F7: הרצליה | G7: רמבם מד | H7: 137 | I7: עירית הרצליה | J7: 1 | K7: 137
A8: 2016 | B8: יהודי | C8: רשמי | D8: חמ"ד | E8: גן ויסודי | F8: קרית אונו | G8: שילה מד | H8: 174 | I8: עירית קרית אונו | J8: 1 | K8: 174
A9: 2016 | B9: יהודי | C9: רשמי | D9: חמ"ד | E9: גן ויסודי | F9: רמת גן | G9: אושא מד | H9: 106 | I9: עירית רמת גן | J9: 1 | K9: 106
A10: 2016 | B10: יהודי | C10: רשמי | D10: חמ"ד | E10: גן ויסודי | F10: תל אביב - יפו | G10: אלומות מד | H10: 269 | I10: עירית תל אביב | J10: 1 | K10: 269
A11: 2016 | B11: יהודי | C11: רשמי | D11: חמ"ד | E11: גן ויסודי | F11: תל אביב - יפו | G11: בעל שם טוב מד | H11: 301 | I11: עירית תל אביב | J11: 1 | K11: 301
A12: 2016 | B12: יהודי | C12: רשמי | D12: חמ"ד | E12: גן ויסודי | F12: תל אביב - יפו | G12: עמיאל רמב"ם מד | H12: 191 | I12: עירית תל אביב | J12: 1 | K12: 191
A13: 2016 | B13: יהודי | C13: רשמי | D13: חמ"ד | E13: יסודי בלבד | F13: אור יהודה | G13: אורות בנות | H13: 149 | I13: עירית אור יהודה | J13: 1 | K13: 149
A14: 2016 | B14: יהודי | C14: רשמי | D14: חמ"ד | E14: יסודי בלבד | F14: אור יהודה | G14: עמרם גאון מד | H14: 126 | I14: עירית אור יהודה | J14: 1 | K14: 126
... A272: 2016 | B272: ערבי | C272: רשמי | D272: מ"מ | E272: גן ויסודי | F272: תל אביב - יפו | G272: לב יפו | H272: 234 | I272: עירית תל אביב | J272: 1 | K272: 234

Sheet 2015
A1: שנ"ל | B1: מגזר | C1: מעמד משפטי | D1: פיקוח | E1: שלבי חינוך במוסד | F1: שם ישוב | G1: שם מוסד | H1: תלמידים במוסד | I1: שם מוטב | J1: מוסדות | K1: תלמידים
A2: סה"כ | J2: 267 | K2: 113914
A3: 2015 | B3: יהודי | C3: רשמי | D3: חמ"ד | E3: גן ויסודי | F3: אור יהודה | G3: סעדיה גאון מד | H3: 209 | I3: עירית אור יהודה | J3: 1 | K3: 209
A4: 2015 | B4: יהודי | C4: רשמי | D4: חמ"ד | E4: גן ויסודי | F4: אזור | G4: מימון מד | H4: 124 | I4: מ. מקומית אזור | J4: 1 | K4: 124
A5: 2015 | B5: יהודי | C5: רשמי | D5: חמ"ד | E5: גן ויסודי | F5: בת ים | G5: הראל מד | H5: 309 | I5: עירית בת ים | J5: 1 | K5: 309
A6: 2015 | B6: יהודי | C6: רשמי | D6: חמ"ד | E6: גן ויסודי | F6: הרצליה | G6: בר אילן מד | H6: 340 | I6: עירית הרצליה | J6: 1 | K6: 340
A7: 2015 | B7: יהודי | C7: רשמי | D7: חמ"ד | E7: גן ויסודי | F7: הרצליה | G7: רמבם מד | H7: 124 | I7: עירית הרצליה | J7: 1 | K7: 124
A8: 2015 | B8: יהודי | C8: רשמי | D8: חמ"ד | E8: גן ויסודי | F8: קרית אונו | G8: שילה מד | H8: 192 | I8: עירית קרית אונו | J8: 1 | K8: 192
A9: 2015 | B9: יהודי | C9: רשמי | D9: חמ"ד | E9: גן ויסודי | F9: רמת גן | G9: אושא מד | H9: 86 | I9: עירית רמת גן | J9: 1 | K9: 86
A10: 2015 | B10: יהודי | C10: רשמי | D10: חמ"ד | E10: גן ויסודי | F10: תל אביב - יפו | G10: אלומות מד | H10: 227 | I10: עירית תל אביב | J10: 1 | K10: 227
A11: 2015 | B11: יהודי | C11: רשמי | D11: חמ"ד | E11: גן ויסודי | F11: תל אביב - יפו | G11: בעל שם טוב מד | H11: 244 | I11: עירית תל אביב | J11: 1 | K11: 244
A12: 2015 | B12: יהודי | C12: רשמי | D12: חמ"ד | E12: גן ויסודי | F12: תל אביב - יפו | G12: עמיאל רמב"ם מד | H12: 192 | I12: עירית תל אביב | J12: 1 | K12: 192
A13: 2015 | B13: יהודי | C13: רשמי | D13: חמ"ד | E13: חט"ב בלבד | F13: פתח תקווה | G13: אולפנת רעות | H13: 48 | I13: עירית פתח תקוה | J13: 1 | K13: 0
A14: 2015 | B14: יהודי | C14: רשמי | D14: חמ"ד | E14: יסודי בלבד | F14: אור יהודה | G14: אורות בנות | H14: 132 | I14: עירית אור יהודה | J14: 1 | K14: 132
... A269: 2015 | B269: ערבי | C269: רשמי | D269: מ"מ | E269: גן ויסודי | F269: תל אביב - יפו | G269: לב יפו | H269: 258 | I269: עירית תל אביב | J269: 1 | K269: 258

Sheet 2014
A1: שנ"ל | B1: מגזר | C1: מעמד משפטי | D1: פיקוח | E1: שלבי חינוך במוסד | F1: שם ישוב | G1: שם מוסד | H1: תלמידים במוסד | I1: שם מוטב | J1: מוסדות | K1: תלמידים
A2: סה"כ | J2: 262 | K2: 109532
A3: 2014 | B3: יהודי | C3: רשמי | D3: חמ"ד | E3: גן ויסודי | F3: אור יהודה | G3: סעדיה גאון מד | H3: 192 | I3: עירית אור יהודה | J3: 1 | K3: 192
A4: 2014 | B4: יהודי | C4: רשמי | D4: חמ"ד | E4: גן ויסודי | F4: אזור | G4: מימון מד | H4: 101 | I4: מ. מקומית אזור | J4: 1 | K4: 101
A5: 2014 | B5: יהודי | C5: רשמי | D5: חמ"ד | E5: גן ויסודי | F5: בת ים | G5: הראל מד | H5: 331 | I5: עירית בת ים | J5: 1 | K5: 331
A6: 2014 | B6: יהודי | C6: רשמי | D6: חמ"ד | E6: גן ויסודי | F6: הרצליה | G6: בר אילן מד | H6: 307 | I6: עירית הרצליה | J6: 1 | K6: 307
A7: 2014 | B7: יהודי | C7: רשמי | D7: חמ"ד | E7: גן ויסודי | F7: הרצליה | G7: רמבם מד | H7: 139 | I7: עירית הרצליה | J7: 1 | K7: 139
A8: 2014 | B8: יהודי | C8: רשמי | D8: חמ"ד | E8: גן ויסודי | F8: קרית אונו | G8: שילה מד | H8: 214 | I8: עירית קרית אונו | J8: 1 | K8: 214
A9: 2014 | B9: יהודי | C9: רשמי | D9: חמ"ד | E9: גן ויסודי | F9: רמת גן | G9: אושא מד | H9: 85 | I9: עירית רמת גן | J9: 1 | K9: 85
A10: 2014 | B10: יהודי | C10: רשמי | D10: חמ"ד | E10: גן ויסודי | F10: רמת השרון | G10: אור השחר | H10: 94 | I10: עירית רמת השרון | J10: 1 | K10: 94
A11: 2014 | B11: יהודי | C11: רשמי | D11: חמ"ד | E11: גן ויסודי | F11: תל אביב - יפו | G11: אלומות מד | H11: 219 | I11: עירית תל אביב | J11: 1 | K11: 219
A12: 2014 | B12: יהודי | C12: רשמי | D12: חמ"ד | E12: גן ויסודי | F12: תל אביב - יפו | G12: בעל שם טוב מד | H12: 218 | I12: עירית תל אביב | J12: 1 | K12: 218
A13: 2014 | B13: יהודי | C13: רשמי | D13: חמ"ד | E13: גן ויסודי | F13: תל אביב - יפו | G13: עמיאל רמב"ם מד | H13: 194 | I13: עירית תל אביב | J13: 1 | K13: 194
A14: 2014 | B14: יהודי | C14: רשמי | D14: חמ"ד | E14: יסודי בלבד | F14: אור יהודה | G14: (אורות (בנות | H14: 129 | I14: עירית אור יהודה | J14: 1 | K14: 129
... A264: 2014 | B264: ערבי | C264: רשמי | D264: מ"מ | E264: גן ויסודי | F264: תל אביב - יפו | G264: לב יפו | H264: 264 | I264: עירית תל אביב | J264: 1 | K264: 264

Sheet 2013
A1: שנ"ל | B1: מגזר | C1: מעמד משפטי | D1: פיקוח | E1: שלבי חינוך במוסד | F1: שם ישוב | G1: שם מוסד | H1: תלמידים במוסד | I1: שם מוטב | J1: מוסדות | K1: תלמידים
A2: סה"כ | J2: 256 | K2: 106539
A3: 2013 | B3: יהודי | C3: רשמי | D3: חמ"ד | E3: גן ויסודי | F3: אור יהודה | G3: סעדיה גאון מד | H3: 177 | I3: עירית אור יהודה | J3: 1 | K3: 177
A4: 2013 | B4: יהודי | C4: רשמי | D4: חמ"ד | E4: גן ויסודי | F4: אזור | G4: מימון מד | H4: 102 | I4: מ. מקומית אזור | J4: 1 | K4: 102
A5: 2013 | B5: יהודי | C5: רשמי | D5: חמ"ד | E5: גן ויסודי | F5: בת ים | G5: הראל מד | H5: 331 | I5: עירית בת ים | J5: 1 | K5: 331
A6: 2013 | B6: יהודי | C6: רשמי | D6: חמ"ד | E6: גן ויסודי | F6: הרצליה | G6: בר אילן מד | H6: 300 | I6: עירית הרצליה | J6: 1 | K6: 300
A7: 2013 | B7: יהודי | C7: רשמי | D7: חמ"ד | E7: גן ויסודי | F7: הרצליה | G7: רמבם מד | H7: 136 | I7: עירית הרצליה | J7: 1 | K7: 136
A8: 2013 | B8: יהודי | C8: רשמי | D8: חמ"ד | E8: גן ויסודי | F8: קרית אונו | G8: שילה מד | H8: 395 | I8: עירית קרית אונו | J8: 1 | K8: 395
A9: 2013 | B9: יהודי | C9: רשמי | D9: חמ"ד | E9: גן ויסודי | F9: רמת גן | G9: אושא מד | H9: 102 | I9: עירית רמת גן | J9: 1 | K9: 102
A10: 2013 | B10: יהודי | C10: רשמי | D10: חמ"ד | E10: גן ויסודי | F10: רמת השרון | G10: אור השחר | H10: 87 | I10: עירית רמת השרון | J10: 1 | K10: 87
A11: 2013 | B11: יהודי | C11: רשמי | D11: חמ"ד | E11: גן ויסודי | F11: תל אביב - יפו | G11: אלומות מד | H11: 173 | I11: עירית תל אביב | J11: 1 | K11: 173
A12: 2013 | B12: יהודי | C12: רשמי | D12: חמ"ד | E12: גן ויסודי | F12: תל אביב - יפו | G12: בעל שם טוב מד | H12: 175 | I12: עירית תל אביב | J12: 1 | K12: 175
A13: 2013 | B13: יהודי | C13: רשמי | D13: חמ"ד | E13: גן ויסודי | F13: תל אביב - יפו | G13: עמיאל רמב"ם מד | H13: 188 | I13: עירית תל אביב | J13: 1 | K13: 188
A14: 2013 | B14: יהודי | C14: רשמי | D14: חמ"ד | E14: יסודי בלבד | F14: אור יהודה | G14: (אורות (בנות | H14: 118 | I14: עירית אור יהודה | J14: 1 | K14: 118
... A258: 2013 | B258: ערבי | C258: רשמי | D258: מ"מ | E258: גן ויסודי | F258: תל אביב - יפו | G258: לב יפו | H258: 267 | I258: עירית תל אביב | J258: 1 | K258: 267

Sheet 2012
A1: שנ"ל | B1: מגזר | C1: מעמד משפטי | D1: פיקוח | E1: שלבי חינוך במוסד | F1: שם ישוב | G1: שם מוסד | H1: תלמידים במוסד | I1: שם מוטב | J1: מוסדות | K1: תלמידים
A2: סה"כ | J2: 185 | K2: 74719
A3: 2012 | B3: יהודי | C3: רשמי | D3: חמ"ד | E3: גן ויסודי | F3: אור יהודה | G3: סעדיה גאון מד | H3: 210 | I3: עירית אור יהודה | J3: 1 | K3: 210
A4: 2012 | B4: יהודי | C4: רשמי | D4: חמ"ד | E4: גן ויסודי | F4: אזור | G4: מימון מד | H4: 85 | I4: מ. מקומית אזור | J4: 1 | K4: 85
A5: 2012 | B5: יהודי | C5: רשמי | D5: חמ"ד | E5: גן ויסודי | F5: בת ים | G5: הראל מד | H5: 318 | I5: עירית בת ים | J5: 1 | K5: 318
A6: 2012 | B6: יהודי | C6: רשמי | D6: חמ"ד | E6: גן ויסודי | F6: הרצליה | G6: בר אילן מד | H6: 297 | I6: עירית הרצליה | J6: 1 | K6: 297
A7: 2012 | B7: יהודי | C7: רשמי | D7: חמ"ד | E7: גן ויסודי | F7: הרצליה | G7: רמבם מד | H7: 147 | I7: עירית הרצליה | J7: 1 | K7: 147
A8: 2012 | B8: יהודי | C8: רשמי | D8: חמ"ד | E8: גן ויסודי | F8: קרית אונו | G8: שילה מד | H8: 388 | I8: עירית קרית אונו | J8: 1 | K8: 388
A9: 2012 | B9: יהודי | C9: רשמי | D9: חמ"ד | E9: גן ויסודי | F9: רמת גן | G9: אושא מד | H9: 103 | I9: עירית רמת גן | J9: 1 | K9: 103
A10: 2012 | B10: יהודי | C10: רשמי | D10: חמ"ד | E10: גן ויסודי | F10: רמת השרון | G10: אור השחר | H10: 70 | I10: עירית רמת השרון | J10: 1 | K10: 70
A11: 2012 | B11: יהודי | C11: רשמי | D11: חמ"ד | E11: גן ויסודי | F11: תל אביב - יפו | G11: אלומות מד | H11: 172 | I11: עירית תל אביב | J11: 1 | K11: 172
A12: 2012 | B12: יהודי | C12: רשמי | D12: חמ"ד | E12: גן ויסודי | F12: תל אביב - יפו | G12: בעל שם טוב מד | H12: 149 | I12: עירית תל אביב | J12: 1 | K12: 149
A13: 2012 | B13: יהודי | C13: רשמי | D13: חמ"ד | E13: גן ויסודי | F13: תל אביב - יפו | G13: עמיאל רמב"ם מד | H13: 172 | I13: עירית תל אביב | J13: 1 | K13: 172
A14: 2012 | B14: יהודי | C14: רשמי | D14: חמ"ד | E14: יסודי בלבד | F14: אור יהודה | G14: (אורות (בנות | H14: 124 | I14: עירית אור יהודה | J14: 1 | K14: 124
... A187: 2012 | B187: ערבי | C187: רשמי | D187: מ"מ | E187: גן ויסודי | F187: תל אביב - יפו | G187: לב יפו | H187: 277 | I187: עירית תל אביב | J187: 1 | K187: 277

Sheet 2011
A1: שנ"ל | B1: מגזר | C1: מעמד משפטי | D1: פיקוח | E1: שלבי חינוך במוסד | F1: שם ישוב | G1: שם מוסד | H1: תלמידים במוסד | I1: שם מוטב | J1: מוסדות | K1: תלמידים
A2: סה"כ | J2: 182 | K2: 72782
A3: 2011 | B3: יהודי | C3: רשמי | D3: חמ"ד | E3: גן ויסודי | F3: אור יהודה | G3: סעדיה גאון מד | H3: 220 | I3: עירית אור יהודה | J3: 1 | K3: 220
A4: 2011 | B4: יהודי | C4: רשמי | D4: חמ"ד | E4: גן ויסודי | F4: אזור | G4: מימון מד | H4: 71 | I4: מ. מקומית אזור | J4: 1 | K4: 71
A5: 2011 | B5: יהודי | C5: רשמי | D5: חמ"ד | E5: גן ויסודי | F5: בת ים | G5: הראל מד | H5: 320 | I5: עירית בת ים | J5: 1 | K5: 320
A6: 2011 | B6: יהודי | C6: רשמי | D6: חמ"ד | E6: גן ויסודי | F6: בת ים | G6: עקיבא מד | H6: 205 | I6: עירית בת ים | J6: 1 | K6: 205
A7: 2011 | B7: יהודי | C7: רשמי | D7: חמ"ד | E7: גן ויסודי | F7: הרצליה | G7: בר אילן מד | H7: 297 | I7: עירית הרצליה | J7: 1 | K7: 297
A8: 2011 | B8: יהודי | C8: רשמי | D8: חמ"ד | E8: גן ויסודי | F8: הרצליה | G8: רמבם מד | H8: 150 | I8: עירית הרצליה | J8: 1 | K8: 150
A9: 2011 | B9: יהודי | C9: רשמי | D9: חמ"ד | E9: גן ויסודי | F9: קרית אונו | G9: שילה מד | H9: 360 | I9: עירית קרית אונו | J9: 1 | K9: 360
A10: 2011 | B10: יהודי | C10: רשמי | D10: חמ"ד | E10: גן ויסודי | F10: רמת גן | G10: אושא מד | H10: 102 | I10: עירית רמת גן | J10: 1 | K10: 102
A11: 2011 | B11: יהודי | C11: רשמי | D11: חמ"ד | E11: גן ויסודי | F11: רמת השרון | G11: אור השחר | H11: 89 | I11: עירית רמת השרון | J11: 1 | K11: 89
A12: 2011 | B12: יהודי | C12: רשמי | D12: חמ"ד | E12: גן ויסודי | F12: תל אביב - יפו | G12: אלומות מד | H12: 152 | I12: עירית תל אביב | J12: 1 | K12: 152
A13: 2011 | B13: יהודי | C13: רשמי | D13: חמ"ד | E13: גן ויסודי | F13: תל אביב - יפו | G13: בעל שם טוב מד | H13: 164 | I13: עירית תל אביב | J13: 1 | K13: 164
A14: 2011 | B14: יהודי | C14: רשמי | D14: חמ"ד | E14: גן ויסודי | F14: תל אביב - יפו | G14: עמיאל רמב"ם מד | H14: 167 | I14: עירית תל אביב | J14: 1 | K14: 167
... A184: 2011 | B184: ערבי | C184: רשמי | D184: מ"מ | E184: גן ויסודי | F184: תל אביב - יפו | G184: לב יפו | H184: 265 | I184: עירית תל אביב | J184: 1 | K184: 265

Sheet 2010
A1: שנ"ל | B1: מגזר | C1: מעמד משפטי | D1: פיקוח | E1: שלבי חינוך במוסד | F1: שם ישוב | G1: שם מוסד | H1: תלמידים במוסד | I1: שם מוטב | J1: מוסדות | K1: תלמידים
A2: סה"כ | J2: 182 | K2: 71414
A3: 2010 | B3: יהודי | C3: רשמי | D3: חמ"ד | E3: גן ויסודי | F3: אור יהודה | G3: סעדיה גאון מד | H3: 243 | I3: עירית אור יהודה | J3: 1 | K3: 243
A4: 2010 | B4: יהודי | C4: רשמי | D4: חמ"ד | E4: גן ויסודי | F4: אזור | G4: מימון מד | H4: 65 | I4: מ. מקומית אזור | J4: 1 | K4: 65
A5: 2010 | B5: יהודי | C5: רשמי | D5: חמ"ד | E5: גן ויסודי | F5: בת ים | G5: הראל מד | H5: 307 | I5: עירית בת ים | J5: 1 | K5: 307
A6: 2010 | B6: יהודי | C6: רשמי | D6: חמ"ד | E6: גן ויסודי | F6: בת ים | G6: עקיבא מד | H6: 215 | I6: עירית בת ים | J6: 1 | K6: 215
A7: 2010 | B7: יהודי | C7: רשמי | D7: חמ"ד | E7: גן ויסודי | F7: הרצליה | G7: בר אילן מד | H7: 292 | I7: עירית הרצליה | J7: 1 | K7: 292
A8: 2010 | B8: יהודי | C8: רשמי | D8: חמ"ד | E8: גן ויסודי | F8: הרצליה | G8: רמבם מד | H8: 158 | I8: עירית הרצליה | J8: 1 | K8: 158
A9: 2010 | B9: יהודי | C9: רשמי | D9: חמ"ד | E9: גן ויסודי | F9: קרית אונו | G9: שילה מד | H9: 341 | I9: עירית קרית אונו | J9: 1 | K9: 341
A10: 2010 | B10: יהודי | C10: רשמי | D10: חמ"ד | E10: גן ויסודי | F10: רמת גן | G10: אושא מד | H10: 101 | I10: עירית רמת גן | J10: 1 | K10: 101
A11: 2010 | B11: יהודי | C11: רשמי | D11: חמ"ד | E11: גן ויסודי | F11: רמת השרון | G11: אור השחר | H11: 93 | I11: עירית רמת השרון | J11: 1 | K11: 93
A12: 2010 | B12: יהודי | C12: רשמי | D12: חמ"ד | E12: גן ויסודי | F12: תל אביב - יפו | G12: אלומות מד | H12: 156 | I12: עירית תל אביב | J12: 1 | K12: 156
A13: 2010 | B13: יהודי | C13: רשמי | D13: חמ"ד | E13: גן ויסודי | F13: תל אביב - יפו | G13: בעל שם טוב מד | H13: 162 | I13: עירית תל אביב | J13: 1 | K13: 162
A14: 2010 | B14: יהודי | C14: רשמי | D14: חמ"ד | E14: גן ויסודי | F14: תל אביב - יפו | G14: עמיאל רמב"ם מד | H14: 158 | I14: עירית תל אביב | J14: 1 | K14: 158
... A184: 2010 | B184: ערבי | C184: רשמי | D184: מ"מ | E184: גן ויסודי | F184: תל אביב - יפו | G184: לב יפו | H184: 291 | I184: עירית תל אביב | J184: 1 | K184: 291

Sheet 2009
A1: שנ"ל | B1: מגזר | C1: מעמד משפטי | D1: פיקוח | E1: שלבי חינוך במוסד | F1: שם ישוב | G1: שם מוסד | H1: תלמידים במוסד | I1: שם מוטב | J1: מוסדות | K1: תלמידים
A2: סה"כ | J2: 181 | K2: 69591
A3: 2009 | B3: יהודי | C3: רשמי | D3: חמ"ד | E3: גן ויסודי | F3: אור יהודה | G3: סעדיה גאון מד | H3: 257 | I3: עירית אור יהודה | J3: 1 | K3: 257
A4: 2009 | B4: יהודי | C4: רשמי | D4: חמ"ד | E4: גן ויסודי | F4: אזור | G4: מימון מד | H4: 64 | I4: מ. מקומית אזור | J4: 1 | K4: 64
A5: 2009 | B5: יהודי | C5: רשמי | D5: חמ"ד | E5: גן ויסודי | F5: בת ים | G5: הראל מד | H5: 308 | I5: עירית בת ים | J5: 1 | K5: 308
A6: 2009 | B6: יהודי | C6: רשמי | D6: חמ"ד | E6: גן ויסודי | F6: בת ים | G6: עקיבא מד | H6: 229 | I6: עירית בת ים | J6: 1 | K6: 229
A7: 2009 | B7: יהודי | C7: רשמי | D7: חמ"ד | E7: גן ויסודי | F7: הרצליה | G7: בר אילן מד | H7: 282 | I7: עירית הרצליה | J7: 1 | K7: 282
A8: 2009 | B8: יהודי | C8: רשמי | D8: חמ"ד | E8: גן ויסודי | F8: הרצליה | G8: רמבם מד | H8: 154 | I8: עירית הרצליה | J8: 1 | K8: 154
A9: 2009 | B9: יהודי | C9: רשמי | D9: חמ"ד | E9: גן ויסודי | F9: קרית אונו | G9: שילה מד | H9: 328 | I9: עירית קרית אונו | J9: 1 | K9: 328
A10: 2009 | B10: יהודי | C10: רשמי | D10: חמ"ד | E10: גן ויסודי | F10: רמת גן | G10: אושא מד | H10: 92 | I10: עירית רמת גן | J10: 1 | K10: 92
A11: 2009 | B11: יהודי | C11: רשמי | D11: חמ"ד | E11: גן ויסודי | F11: רמת השרון | G11: אור השחר | H11: 103 | I11: עירית רמת השרון | J11: 1 | K11: 103
A12: 2009 | B12: יהודי | C12: רשמי | D12: חמ"ד | E12: גן ויסודי | F12: תל אביב - יפו | G12: אלומות מד | H12: 145 | I12: עירית תל אביב | J12: 1 | K12: 145
A13: 2009 | B13: יהודי | C13: רשמי | D13: חמ"ד | E13: גן ויסודי | F13: תל אביב - יפו | G13: בעל שם טוב מד | H13: 177 | I13: עירית תל אביב | J13: 1 | K13: 177
A14: 2009 | B14: יהודי | C14: רשמי | D14: חמ"ד | E14: גן ויסודי | F14: תל אביב - יפו | G14: עמיאל רמב"ם מד | H14: 156 | I14: עירית תל אביב | J14: 1 | K14: 156
... A183: 2009 | B183: ערבי | C183: רשמי | D183: מ"מ | E183: גן ויסודי | F183: תל אביב - יפו | G183: לב יפו | H183: 289 | I183: עירית תל אביב | J183: 1 | K183: 289

Sheet 2008
A1: שנ"ל | B1: מגזר | C1: מעמד משפטי | D1: פיקוח | E1: שלבי חינוך במוסד | F1: שם ישוב | G1: שם מוסד | H1: תלמידים במוסד | I1: שם מוטב | J1: מוסדות | K1: תלמידים
A2: סה"כ | J2: 179 | K2: 68529
A3: 2008 | B3: יהודי | C3: רשמי | D3: חמ"ד | E3: גן ויסודי | F3: אור יהודה | G3: סעדיה גאון מד | H3: 265 | I3: עירית אור יהודה | J3: 1 | K3: 265
A4: 2008 | B4: יהודי | C4: רשמי | D4: חמ"ד | E4: גן ויסודי | F4: אזור | G4: מימון מד | H4: 74 | I4: מ. מקומית אזור | J4: 1 | K4: 74
A5: 2008 | B5: יהודי | C5: רשמי | D5: חמ"ד | E5: גן ויסודי | F5: בת ים | G5: הראל מד | H5: 311 | I5: עירית בת ים | J5: 1 | K5: 311
A6: 2008 | B6: יהודי | C6: רשמי | D6: חמ"ד | E6: גן ויסודי | F6: בת ים | G6: עקיבא מד | H6: 222 | I6: עירית בת ים | J6: 1 | K6: 222
A7: 2008 | B7: יהודי | C7: רשמי | D7: חמ"ד | E7: גן ויסודי | F7: הרצליה | G7: בר אילן מד | H7: 284 | I7: עירית הרצליה | J7: 1 | K7: 284
A8: 2008 | B8: יהודי | C8: רשמי | D8: חמ"ד | E8: גן ויסודי | F8: הרצליה | G8: רמבם מד | H8: 163 | I8: עירית הרצליה | J8: 1 | K8: 163
A9: 2008 | B9: יהודי | C9: רשמי | D9: חמ"ד | E9: גן ויסודי | F9: קרית אונו | G9: שילה מד | H9: 337 | I9: עירית קרית אונו | J9: 1 | K9: 337
A10: 2008 | B10: יהודי | C10: רשמי | D10: חמ"ד | E10: גן ויסודי | F10: רמת גן | G10: אושא מד | H10: 90 | I10: עירית רמת גן | J10: 1 | K10: 90
A11: 2008 | B11: יהודי | C11: רשמי | D11: חמ"ד | E11: גן ויסודי | F11: רמת השרון | G11: אור השחר | H11: 106 | I11: עירית רמת השרון | J11: 1 | K11: 106
A12: 2008 | B12: יהודי | C12: רשמי | D12: חמ"ד | E12: גן ויסודי | F12: תל אביב - יפו | G12: אלומות מד | H12: 132 | I12: עירית תל אביב | J12: 1 | K12: 132
A13: 2008 | B13: יהודי | C13: רשמי | D13: חמ"ד | E13: גן ויסודי | F13: תל אביב - יפו | G13: בעל שם טוב מד | H13: 171 | I13: עירית תל אביב | J13: 1 | K13: 171
A14: 2008 | B14: יהודי | C14: רשמי | D14: חמ"ד | E14: גן ויסודי | F14: תל אביב - יפו | G14: עמיאל רמב"ם מד | H14: 179 | I14: עירית תל אביב | J14: 1 | K14: 179
... A181: 2008 | B181: ערבי | C181: רשמי | D181: מ"מ | E181: גן ויסודי | F181: תל אביב - יפו | G181: לב יפו | H181: 305 | I181: עירית תל אביב | J181: 1 | K181: 305

Sheet 2007
A1: שנ"ל | B1: מגזר | C1: מעמד משפטי | D1: פיקוח | E1: שלבי חינוך במוסד | F1: שם ישוב | G1: שם מוסד | H1: תלמידים במוסד | I1: שם מוטב | J1: מוסדות | K1: תלמידים
A2: סה"כ | J2: 179 | K2: 68214
A3: 2007 | B3: יהודי | C3: רשמי | D3: חמ"ד | E3: גן ויסודי | F3: אור יהודה | G3: סעדיה גאון מד | H3: 278 | I3: עירית אור יהודה | J3: 1 | K3: 278
A4: 2007 | B4: יהודי | C4: רשמי | D4: חמ"ד | E4: גן ויסודי | F4: אזור | G4: מימון מד | H4: 78 | I4: מ. מקומית אזור | J4: 1 | K4: 78
A5: 2007 | B5: יהודי | C5: רשמי | D5: חמ"ד | E5: גן ויסודי | F5: בת ים | G5: הראל מד | H5: 310 | I5: עירית בת ים | J5: 1 | K5: 310
A6: 2007 | B6: יהודי | C6: רשמי | D6: חמ"ד | E6: גן ויסודי | F6: בת ים | G6: עקיבא מד | H6: 225 | I6: עירית בת ים | J6: 1 | K6: 225
A7: 2007 | B7: יהודי | C7: רשמי | D7: חמ"ד | E7: גן ויסודי | F7: הרצליה | G7: בר אילן מד | H7: 289 | I7: עירית הרצליה | J7: 1 | K7: 289
A8: 2007 | B8: יהודי | C8: רשמי | D8: חמ"ד | E8: גן ויסודי | F8: הרצליה | G8: רמבם מד | H8: 162 | I8: עירית הרצליה | J8: 1 | K8: 162
A9: 2007 | B9: יהודי | C9: רשמי | D9: חמ"ד | E9: גן ויסודי | F9: קרית אונו | G9: שילה מד | H9: 304 | I9: עירית קרית אונו | J9: 1 | K9: 304
A10: 2007 | B10: יהודי | C10: רשמי | D10: חמ"ד | E10: גן ויסודי | F10: רמת גן | G10: אושא מד | H10: 79 | I10: עירית רמת גן | J10: 1 | K10: 79
A11: 2007 | B11: יהודי | C11: רשמי | D11: חמ"ד | E11: גן ויסודי | F11: רמת השרון | G11: אור השחר | H11: 115 | I11: עירית רמת השרון | J11: 1 | K11: 115
A12: 2007 | B12: יהודי | C12: רשמי | D12: חמ"ד | E12: גן ויסודי | F12: תל אביב - יפו | G12: אלומות מד | H12: 133 | I12: עירית תל אביב | J12: 1 | K12: 133
A13: 2007 | B13: יהודי | C13: רשמי | D13: חמ"ד | E13: גן ויסודי | F13: תל אביב - יפו | G13: בעל שם טוב מד | H13: 167 | I13: עירית תל אביב | J13: 1 | K13: 167
A14: 2007 | B14: יהודי | C14: רשמי | D14: חמ"ד | E14: גן ויסודי | F14: תל אביב - יפו | G14: עמיאל רמב"ם מד | H14: 205 | I14: עירית תל אביב | J14: 1 | K14: 205
... A181: 2007 | B181: ערבי | C181: רשמי | D181: מ"מ | E181: גן ויסודי | F181: תל אביב - יפו | G181: לב יפו | H181: 328 | I181: עירית תל אביב | J181: 1 | K181: 328

Sheet מוסדות 2002
A1: שנה | B1: סמל מוסד | C1: שם מוסד | D1: סה"כ תלמידים במוסד | E1: סמל רשות | F1: שם רשות | G1: סמל ישוב | H1: שם ישוב | I1: מגזר | J1: פיקוח | K1: מעמד משפטי | L1: גורם מדווח | M1: מחוז גאוגרפי | N1: סוג חינוך מוסד | O1: קוד סוג מסגרת אירגונית | P1: סוג מסגרת אירגונית | Q1: קוד סוג מוסד | R1: סוג מוסד | S1: קוד שלבי חינוך במוסד | T1: שלבי חינוך במוסד | U1: משכבה | V1: עד שכבה | W1: שם מנהל | X1: שם מפקח | Y1: טלפון | Z1: פקס | AA1: כתובת גאוגרפית | AB1: בית | AC1: סמל רחוב | AD1: מיקוד | AE1: כתובת דואר | AF1: סמל ישוב דואר | AG1: שם ישוב דואר | AH1: דואר אלקטרוני של המנהל | AI1: דואר אלקטרוני של מוסד | AJ1: שנת יסוד | AK1: זכאי תשלום בגין מקיף | AL1: זכאי שיקום שכונות | AM1: זכאי רווחה | AN1: זכאי לשכר לימוד | AO1: קוד הכרה בציונים לבגרות | AP1: זכאי גמול הכנה לבגרות | AQ1: מגיש לבגרות | AR1: סוג חינוך לבגרות | AS1: גמולים חט"ע | AT1: תאור יוח"א | AU1: תוקף רשיון מאת | AV1: תוקף רשיון עד | AW1: קוד מחוז גאוגרפי | AX1: קוד גורם מדווח | AY1: קוד מעמד משפטי | AZ1: קוד מגזר | BA1: קוד סוג פיקוח | BB1: קוד יוח"א | BC1: קוד סוג חינוך מוסד | BD1: פרופיל מורים | BE1: אחוז רמת שרות
A2: 2002 | B2: 510982 | C2: אהבת ציון | D2: 409 | E2: 50005 | F2: תל אביב-יפו | G2: 50005 | H2: תל אביב - יפו | I2: יהודי | J2: מ"מ | K2: רשמי | L2: תל אביב | M2: תל אביב | N2: רגיל | O2: 11 | P2: בית ספר | Q2: 1 | R2: רגיל | S2: 10 | T2: יסודי בלבד | U2: 1 | V2: 6 | W2: ברורה מטרסו | X2: הלמר אסתר | Y2: 03-605-5475 | Z2: 03-604-9986 | AA2: 16 רח כהנשטם | AC2: 942 | AD2: 62193 | AE2: 16 רח כהנשטם | AF2: 50005 | AG2: תל אביב - יפו | AI2: Y-ahavat-tlv-M@kishurim.k12.il | AJ2: 1950 | AK2: 0 | AL2: 0 | AM2: 0 | AN2: 0 | AO2: 0 | AP2: 0 | AQ2: 0 | AR2: 0 | AS2: 0 | AW2: 5 | AX2: 5 | AY2: 1 | AZ2: 1 | BA2: 1 | BC2: 1 | BD2: 0 | BE2: 0
A3: 2002 | B3: 511006 | C3: אוסישקין | D3: 184 | E3: 50005 | F3: תל אביב-יפו | G3: 50005 | H3: תל אביב - יפו | I3: יהודי | J3: מ"מ | K3: רשמי | L3: תל אביב | M3: תל אביב | N3: רגיל | O3: 11 | P3: בית ספר | Q3: 1 | R3: רגיל | S3: 10 | T3: יסודי בלבד | U3: 1 | V3: 6 | W3: ענת גואטה | X3: הלמר אסתר | Y3: 03-604-4362 | Z3: 03-602-0623 | AA3: 31 שמעון התרסי | AC3: 6007 | AD3: 62492 | AE3: 31 שמעון התרסי | AF3: 50005 | AG3: תל אביב - יפו | AI3: Y-osishk-tlv-M@kishurim.k12.il | AJ3: 1950 | AK3: 0 | AL3: 0 | AM3: 0 | AN3: 0 | AO3: 0 | AP3: 0 | AQ3: 0 | AR3: 0 | AS3: 0 | AW3: 5 | AX3: 5 | AY3: 1 | AZ3: 1 | BA3: 1 | BC3: 1 | BD3: 0 | BE3: 0
A4: 2002 | B4: 511030 | C4: אילון | D4: 385 | E4: 50005 | F4: תל אביב-יפו | G4: 50005 | H4: תל אביב - יפו | I4: יהודי | J4: מ"מ | K4: רשמי | L4: תל אביב | M4: תל אביב | N4: רגיל | O4: 11 | P4: בית ספר | Q4: 1 | R4: רגיל | S4: 10 | T4: יסודי בלבד | U4: 1 | V4: 6 | W4: כדן קרלמן | X4: לוטן קרבר שרה | Y4: 03-695-3845 | Z4: 03-696-4092 | AA4: 35 נחלת יצחק | AC4: 2506 | AD4: 67449 | AE4: 35 נחלת יצחק | AF4: 50005 | AG4: תל אביב - יפו | AI4: Y-Ayalon-tlv-C@kishurim.k12.il | AJ4: 1960 | AK4: 0 | AL4: 0 | AM4: 0 | AN4: 0 | AO4: 0 | AP4: 0 | AQ4: 0 | AR4: 0 | AS4: 0 | AW4: 5 | AX4: 5 | AY4: 1 | AZ4: 1 | BA4: 1 | BC4: 1 | BD4: 0 | BE4: 0
A5: 2002 | B5: 511048 | C5: אילנות | D5: 308 | E5: 50005 | F5: תל אביב-יפו | G5: 50005 | H5: תל אביב - יפו | I5: יהודי | J5: מ"מ | K5: רשמי | L5: תל אביב | M5: תל אביב | N5: רגיל | O5: 11 | P5: בית ספר | Q5: 1 | R5: רגיל | S5: 10 | T5: יסודי בלבד | U5: 0 | V5: 6 | W5: עירית ויטל | X5: הלמר אסתר | Y5: 03-641-3567 | Z5: 03-642-8626 | AA5: 11 רח גרונימן | AC5: 117 | AD5: 69972 | AE5: 11 רח גרונימן | AF5: 50005 | AG5: תל אביב - יפו | AI5: Y-ilano-tlv-S@kishurim.k12.il | AJ5: 1950 | AK5: 0 | AL5: 0 | AM5: 0 | AN5: 0 | AO5: 0 | AP5: 0 | AQ5: 0 | AR5: 0 | AS5: 0 | AW5: 5 | AX5: 5 | AY5: 1 | AZ5: 1 | BA5: 1 | BC5: 1 | BD5: 0 | BE5: 0
A6: 2002 | B6: 511071 | C6: אלחריזי | D6: 598 | E6: 50005 | F6: תל אביב-יפו | G6: 50005 | H6: תל אביב - יפו | I6: יהודי | J6: מ"מ | K6: רשמי | L6: תל אביב | M6: תל אביב | N6: רגיל | O6: 11 | P6: בית ספר | Q6: 1 | R6: רגיל | S6: 10 | T6: יסודי בלבד | U6: 1 | V6: 6 | W6: יעל ליברמן | X6: לוטן קרבר שרה | Y6: 03-647-9992 | Z6: 03-648-7999 | AA6: מגדל שרשן 17 , תל-בר | AC6: 216 | AD6: 69015 | AE6: מגדל שרשן 17 , תל-בר | AF6: 50005 | AG6: תל אביב - יפו | AI6: Y-elchar-tlv-M@kishurim.k12.il | AJ6: 1950 | AK6: 0 | AL6: 0 | AM6: 0 | AN6: 0 | AO6: 0 | AP6: 0 | AQ6: 0 | AR6: 0 | AS6: 0 | AW6: 5 | AX6: 5 | AY6: 1 | AZ6: 1 | BA6: 1 | BC6: 1 | BD6: 0 | BE6: 0
A7: 2002 | B7: 511113 | C7: ביאליק | D7: 243 | E7: 50005 | F7: תל אביב-יפו | G7: 50005 | H7: תל אביב - יפו | I7: יהודי | J7: מ"מ | K7: רשמי | L7: תל אביב | M7: תל אביב | N7: רגיל | O7: 11 | P7: בית ספר | Q7: 1 | R7: רגיל | S7: 10 | T7: יסודי בלבד | U7: 1 | V7: 6 | W7: עמירה יהלום | X7: לוטן קרבר שרה | Y7: 03-687-1606 | Z7: 03-687-1606 | AA7: 95 לוינסקי | AC7: 2235 | AD7: 66052 | AE7: 95 לוינסקי | AF7: 50005 | AG7: תל אביב - יפו | AI7: Y-bialik-tlv-C@kishurim.k12.il | AJ7: 1950 | AK7: 0 | AL7: 1 | AM7: 1 | AN7: 0 | AO7: 0 | AP7: 0 | AQ7: 0 | AR7: 0 | AS7: 0 | AT7: יוחא מלא | AW7: 5 | AX7: 5 | AY7: 1 | AZ7: 1 | BA7: 1 | BB7: 1 | BC7: 1 | BD7: 0 | BE7: 0
A8: 2002 | B8: 511121 | C8: בלפור | D8: 406 | E8: 50005 | F8: תל אביב-יפו | G8: 50005 | H8: תל אביב - יפו | I8: יהודי | J8: מ"מ | K8: רשמי | L8: תל אביב | M8: תל אביב | N8: רגיל | O8: 11 | P8: בית ספר | Q8: 1 | R8: רגיל | S8: 10 | T8: יסודי בלבד | U8: 1 | V8: 6 | W8: אורלי פרלמן | X8: לוטן קרבר שרה | Y8: 03-629-8285 | Z8: 03-525-6748 | AA8: 12 בלפור | AC8: 1265 | AD8: 65211 | AE8: 12 בלפור | AF8: 50005 | AG8: תל אביב - יפו | AI8: Y-balfur-tlv-M@kishurim.k12.il | AJ8: 1950 | AK8: 0 | AL8: 0 | AM8: 0 | AN8: 0 | AO8: 0 | AP8: 0 | AQ8: 0 | AR8: 0 | AS8: 0 | AW8: 5 | AX8: 5 | AY8: 1 | AZ8: 1 | BA8: 1 | BC8: 1 | BD8: 0 | BE8: 0
A9: 2002 | B9: 511162 | C9: ברנר | D9: 281 | E9: 50005 | F9: תל אביב-יפו | G9: 50005 | H9: תל אביב - יפו | I9: יהודי | J9: מ"מ | K9: רשמי | L9: תל אביב | M9: תל אביב | N9: רגיל | O9: 11 | P9: בית ספר | Q9: 1 | R9: רגיל | S9: 10 | T9: יסודי בלבד | U9: 1 | V9: 6 | W9: רבקה לוי | X9: הלמר אסתר | Y9: 03-682-3001 | Z9: 03-518-2695 | AA9: דקל 2 נוה עופר | AC9: 3009 | AD9: 68106 | AE9: דקל 2 נוה עופר | AF9: 50005 | AG9: תל אביב - יפו | AI9: Y-brener-tlv-M@kishurim.k12.il | AJ9: 1960 | AK9: 0 | AL9: 1 | AM9: 1 | AN9: 0 | AO9: 0 | AP9: 0 | AQ9: 0 | AR9: 0 | AS9: 0 | AT9: יוחא מלא | AW9: 5 | AX9: 5 | AY9: 1 | AZ9: 1 | BA9: 1 | BB9: 1 | BC9: 1 | BD9: 0 | BE9: 0
A10: 2002 | B10: 511170 | C10: גבורי ישראל | D10: 360 | E10: 50005 | F10: תל אביב-יפו | G10: 50005 | H10: תל אביב - יפו | I10: יהודי | J10: מ"מ | K10: רשמי | L10: תל אביב | M10: תל אביב | N10: רגיל | O10: 11 | P10: בית ספר | Q10: 1 | R10: רגיל | S10: 10 | T10: יסודי בלבד | U10: 1 | V10: 6 | W10: כרמלה מרוז | X10: דרן רונית | Y10: 03-739-7453 | Z10: 03-739-7453 | AA10: 18 שד' יד לבנים | AC10: 2642 | AD10: 67224 | AE10: 18 שד' יד לבנים | AF10: 50005 | AG10: תל אביב - יפו | AI10: Y-gibore-tlv-M@kishurim.k12.il | AJ10: 1960 | AK10: 0 | AL10: 0 | AM10: 0 | AN10: 0 | AO10: 0 | AP10: 0 | AQ10: 0 | AR10: 0 | AS10: 0 | AW10: 5 | AX10: 5 | AY10: 1 | AZ10: 1 | BA10: 1 | BC10: 1 | BD10: 0 | BE10: 0
A11: 2002 | B11: 511188 | C11: גבעת השלום | D11: 194 | E11: 50005 | F11: תל אביב-יפו | G11: 50005 | H11: תל אביב - יפו | I11: יהודי | J11: מ"מ | K11: רשמי | L11: תל אביב | M11: תל אביב | N11: רגיל | O11: 11 | P11: בית ספר | Q11: 1 | R11: רגיל | S11: 10 | T11: יסודי בלבד | U11: 1 | V11: 6 | W11: חנה אבני | X11: דרן רונית | Y11: 03-681-4751 | Z11: 03-682-6901 | AA11: רח החצוצרה 8 ק-שלום | AC11: 2418 | AD11: 66761 | AE11: רח החצוצרה 8 ק-שלום | AF11: 50005 | AG11: תל אביב - יפו | AI11: Y-shalom-tlv-M@kishurim.k12.il | AJ11: 1960 | AK11: 0 | AL11: 0 | AM11: 1 | AN11: 0 | AO11: 0 | AP11: 0 | AQ11: 0 | AR11: 0 | AS11: 0 | AW11: 5 | AX11: 5 | AY11: 1 | AZ11: 1 | BA11: 1 | BC11: 1 | BD11: 0 | BE11: 0
A12: 2002 | B12: 511196 | C12: גבעת התמרים | D12: 255 | E12: 50005 | F12: תל אביב-יפו | G12: 50005 | H12: תל אביב - יפו | I12: יהודי | J12: מ"מ | K12: רשמי | L12: תל אביב | M12: תל אביב | N12: רגיל | O12: 11 | P12: בית ספר | Q12: 1 | R12: רגיל | S12: 10 | T12: יסודי בלבד | U12: 1 | V12: 6 | W12: רון נתן | X12: דרן רונית | Y12: 03-506-3463 | Z12: 03-659-8242 | AA12: קהילת קנדה 3 , יפו | AC12: 3004 | AD12: 68077 | AE12: קהילת קנדה 3 , יפו | AF12: 50005 | AG12: תל אביב - יפו | AI12: Y-hatmar-tlv-M@kishurim.k12.il | AJ12: 1960 | AK12: 0 | AL12: 0 | AM12: 1 | AN12: 0 | AO12: 0 | AP12: 0 | AQ12: 0 | AR12: 0 | AS12: 0 | AW12: 5 | AX12: 5 | AY12: 1 | AZ12: 1 | BA12: 1 | BC12: 1 | BD12: 0 | BE12: 0
A13: 2002 | B13: 511204 | C13: גולומב | D13: 270 | E13: 50005 | F13: תל אביב-יפו | G13: 50005 | H13: תל אביב - יפו | I13: יהודי | J13: מ"מ | K13: רשמי | L13: תל אביב | M13: תל אביב | N13: רגיל | O13: 11 | P13: בית ספר | Q13: 1 | R13: רגיל | S13: 10 | T13: יסודי בלבד | U13: 1 | V13: 6 | W13: ג'ינה אלישקביץ | X13: לוטן קרבר שרה | Y13: 03-739-5858 | Z13: 03-631-6088 | AA13: 186 דרך חיים בר-לב | AC13: 2964 | AD13: 67291 | AE13: 186 דרך חיים בר-לב | AF13: 50005 | AG13: תל אביב - יפו | AI13: Y-golomb-tlv-M@kishurim.k12.il | AJ13: 1960 | AK13: 0 | AL13: 1 | AM13: 1 | AN13: 0 | AO13: 0 | AP13: 0 | AQ13: 0 | AR13: 0 | AS13: 0 | AW13: 5 | AX13: 5 | AY13: 1 | AZ13: 1 | BA13: 1 | BC13: 1 | BD13: 0 | BE13: 0
A14: 2002 | B14: 511212 | C14: א. ד. גורדון | D14: 417 | E14: 50005 | F14: תל אביב-יפו | G14: 50005 | H14: תל אביב - יפו | I14: יהודי | J14: מ"מ | K14: רשמי | L14: תל אביב | M14: תל אביב | N14: רגיל | O14: 11 | P14: בית ספר | Q14: 1 | R14: רגיל | S14: 10 | T14: יסודי בלבד | U14: 1 | V14: 6 | W14: מדלנה טרייסטר | X14: הלמר אסתר | Y14: 03-546-5869 | Z14: 03-544-0383 | AA14: 248 הירקון | AC14: 461 | AD14: 63409 | AE14: 248 הירקון | AF14: 50005 | AG14: תל אביב - יפו | AI14: Y-gordon-tlv-M@kishurim.k12.il | AJ14: 1950 | AK14: 0 | AL14: 0 | AM14: 0 | AN14: 0 | AO14: 0 | AP14: 0 | AQ14: 0 | AR14: 0 | AS14: 0 | AW14: 5 | AX14: 5 | AY14: 1 | AZ14: 1 | BA14: 1 | BC14: 1 | BD14: 0 | BE14: 0
A15: 2002 | B15: 511220 | C15: גרץ | D15: 402 | E15: 50005 | F15: תל אביב-יפו | G15: 50005 | H15: תל אביב - יפו | I15: יהודי | J15: מ"מ | K15: רשמי | L15: תל אביב | M15: תל אביב | N15: רגיל | O15: 11 | P15: בית ספר | Q15: 1 | R15: רגיל | S15: 10 | T15: יסודי בלבד | U15: 1 | V15: 6 | W15: מוניקה קורנבליט | X15: הלמר אסתר | Y15: 03-522-0034 | Z15: 03-527-0604 | AA15: 5 אדם הכהן | AC15: 533 | AD15: 64585 | AE15: 5 אדם הכהן | AF15: 50005 | AG15: תל אביב - יפו | AI15: Y-gretz-tlv-M@kishurim.k12.il | AJ15: 1960 | AK15: 0 | AL15: 0 | AM15: 0 | AN15: 0 | AO15: 0 | AP15: 0 | AQ15: 0 | AR15: 0 | AS15: 0 | AW15: 5 | AX15: 5 | AY15: 1 | AZ15: 1 | BA15: 1 | BC15: 1 | BD15: 0 | BE15: 0
A16: 2002 | B16: 511246 | C16: דוד ילין | D16: 357 | E16: 50005 | F16: תל אביב-יפו | G16: 50005 | H16: תל אביב - יפו | I16: יהודי | J16: מ"מ | K16: רשמי | L16: תל אביב | M16: תל אביב | N16: רגיל | O16: 11 | P16: בית ספר | Q16: 1 | R16: רגיל | S16: 10 | T16: יסודי בלבד | U16: 1 | V16: 6 | W16: עירית ימיני | X16: לוטן קרבר שרה | Y16: 03-647-8878 | Z16: 03-648-6352 | AA16: 12 קהילת ורשה | AC16: 230 | AD16: 69700 | AE16: 12 קהילת ורשה | AF16: 50005 | AG16: תל אביב - יפו | AI16: Y-davidy-tlv-C@kishurim.k12.il | AJ16: 1960 | AK16: 0 | AL16: 0 | AM16: 0 | AN16: 0 | AO16: 0 | AP16: 0 | AQ16: 0 | AR16: 0 | AS16: 0 | AW16: 5 | AX16: 5 | AY16: 1 | AZ16: 1 | BA16: 1 | BC16: 1 | BD16: 0 | BE16: 0
A17: 2002 | B17: 511261 | C17: דוד בלוך | D17: 185 | E17: 50005 | F17: תל אביב-יפו | G17: 50005 | H17: תל אביב - יפו | I17: יהודי | J17: מ"מ | K17: רשמי | L17: תל אביב | M17: תל אביב | N17: רגיל | O17: 11 | P17: בית ספר | Q17: 1 | R17: רגיל | S17: 10 | T17: יסודי בלבד | U17: 0 | V17: 6 | W17: רעות גורדון | X17: לוטן קרבר שרה | Y17: 03-562-4991 | Z17: 03-561-8306 | AA17: 19 בצרון | AC17: 0 | AD17: 67895 | AE17: 19 בצרון | AF17: 50005 | AG17: תל אביב - יפו | AI17: Y-bloch-tlv-M@kishurim.k12.il | AJ17: 1960 | AK17: 0 | AL17: 0 | AM17: 0 | AN17: 0 | AO17: 0 | AP17: 0 | AQ17: 0 | AR17: 0 | AS17: 0 | AW17: 5 | AX17: 5 | AY17: 1 | AZ17: 1 | BA17: 1 | BC17: 1 | BD17: 0 | BE17: 0
A18: 2002 | B18: 511279 | C18: הגליל | D18: 362 | E18: 50005 | F18: תל אביב-יפו | G18: 50005 | H18: תל אביב - יפו | I18: יהודי | J18: מ"מ | K18: רשמי | L18: תל אביב | M18: תל אביב | N18: רגיל | O18: 11 | P18: בית ספר | Q18: 1 | R18: רגיל | S18: 10 | T18: יסודי בלבד | U18: 1 | V18: 6 | W18: ברכה ברגר | X18: לוטן קרבר שרה | Y18: 03-739-3504 | Z18: 03-631-6132 | AA18: 4 גבעתי | AC18: 2632 | AD18: 67651 | AE18: 4 גבעתי | AF18: 50005 | AG18: תל אביב - יפו | AI18: Y-hagali-tlv-M@kishurim.k12.il | AJ18: 1960 | AK18: 0 | AL18: 1 | AM18: 0 | AN18: 0 | AO18: 0 | AP18: 0 | AQ18: 0 | AR18: 0 | AS18: 0 | AT18: יוחא מלא | AW18: 5 | AX18: 5 | AY18: 1 | AZ18: 1 | BA18: 1 | BB18: 1 | BC18: 1 | BD18: 0 | BE18: 0
A19: 2002 | B19: 511303 | C19: החי"ל | D19: 200 | E19: 50005 | F19: תל אביב-יפו | G19: 50005 | H19: תל אביב - יפו | I19: יהודי | J19: מ"מ | K19: רשמי | L19: תל אביב | M19: תל אביב | N19: רגיל | O19: 11 | P19: בית ספר | Q19: 1 | R19: רגיל | S19: 10 | T19: יסודי בלבד | U19: 0 | V19: 6 | W19: מיכל חן-חלפון | X19: לוטן קרבר שרה | Y19: 03-537-2902 | Z19: 03-639-3169 | AA19: התשעים ושלוש יד-אליה | AC19: 2654 | AD19: 67617 | AE19: התשעים ושלוש יד-אליה | AF19: 50005 | AG19: תל אביב - יפו | AJ19: 1960 | AK19: 0 | AL19: 1 | AM19: 1 | AN19: 0 | AO19: 0 | AP19: 0 | AQ19: 0 | AR19: 0 | AS19: 0 | AW19: 5 | AX19: 5 | AY19: 1 | AZ19: 1 | BA19: 1 | BC19: 1 | BD19: 0 | BE19: 0
A20: 2002 | B20: 511329 | C20: היובל | D20: 299 | E20: 50005 | F20: תל אביב-יפו | G20: 50005 | H20: תל אביב - יפו | I20: יהודי | J20: מ"מ | K20: רשמי | L20: תל אביב | M20: תל אביב | N20: רגיל | O20: 11 | P20: בית ספר | Q20: 1 | R20: רגיל | S20: 10 | T20: יסודי בלבד | U20: 1 | V20: 6 | W20: דוד רונן | X20: הלמר אסתר | Y20: 03-696-5747 | Z20: 03-522-9042 | AA20: 19 מודליאני | AC20: 1019 | AD20: 64687 | AE20: 19 מודליאני | AF20: 50005 | AG20: תל אביב - יפו | AI20: Y-hayove-tlv-M@kishurim.k12.il | AJ20: 1950 | AK20: 0 | AL20: 0 | AM20: 0 | AN20: 0 | AO20: 0 | AP20: 0 | AQ20: 0 | AR20: 0 | AS20: 0 | AW20: 5 | AX20: 5 | AY20: 1 | AZ20: 1 | BA20: 1 | BC20: 1 | BD20: 0 | BE20: 0
A21: 2002 | B21: 511337 | C21: הירדן | D21: 263 | E21: 50005 | F21: תל אביב-יפו | G21: 50005 | H21: תל אביב - יפו | I21: יהודי | J21: מ"מ | K21: רשמי | L21: תל אביב | M21: תל אביב | N21: רגיל | O21: 11 | P21: בית ספר | Q21: 1 | R21: רגיל | S21: 10 | T21: יסודי בלבד | U21: 0 | V21: 6 | W21: ציפי אברהמי | X21: לוטן קרבר שרה | Y21: 03-688-2931 | Z21: 03-537-5549 | AA21: המושיע 21 , שכ' התקו | AC21: 2743 | AD21: 67635 | AE21: המושיע 21 , שכ' התקו | AF21: 50005 | AG21: תל אביב - יפו | AI21: Y-hayard-tlv-M@kishurim.k12.il | AJ21: 1950 | AK21: 0 | AL21: 1 | AM21: 1 | AN21: 0 | AO21: 0 | AP21: 0 | AQ21: 0 | AR21: 0 | AS21: 0 | AT21: יוחא מלא | AW21: 5 | AX21: 5 | AY21: 1 | AZ21: 1 | BA21: 1 | BB21: 1 | BC21: 1 | BD21: 0 | BE21: 0
A22: 2002 | B22: 511352 | C22: גבריאלי-הכרמל | D22: 449 | E22: 50005 | F22: תל אביב-יפו | G22: 50005 | H22: תל אביב - יפו | I22: יהודי | J22: מ"מ | K22: רשמי | L22: תל אביב | M22: תל אביב | N22: רגיל | O22: 11 | P22: בית ספר | Q22: 1 | R22: רגיל | S22: 10 | T22: יסודי בלבד | U22: 0 | V22: 6 | W22: יפה אלון | X22: הלמר אסתר | Y22: 03-528-8331 | Z22: 03-525-0240 | AA22: 21 שפירא | AC22: 0 | AD22: 64358 | AE22: 21 שפירא | AF22: 50005 | AG22: תל אביב - יפו | AI22: Y-gavrie-tlv-S@kishurim.k12.il | AJ22: 1960 | AK22: 0 | AL22: 0 | AM22: 0 | AN22: 0 | AO22: 0 | AP22: 0 | AQ22: 0 | AR22: 0 | AS22: 0 | AW22: 5 | AX22: 5 | AY22: 1 | AZ22: 1 | BA22: 1 | BC22: 1 | BD22: 0 | BE22: 0
A23: 2002 | B23: 511386 | C23: משה הס | D23: 183 | E23: 50005 | F23: תל אביב-יפו | G23: 50005 | H23: תל אביב - יפו | I23: יהודי | J23: מ"מ | K23: רשמי | L23: תל אביב | M23: תל אביב | N23: רגיל | O23: 11 | P23: בית ספר | Q23: 1 | R23: רגיל | S23: 10 | T23: יסודי בלבד | U23: 0 | V23: 6 | W23: אלונה לפידות | X23: לוטן קרבר שרה | Y23: 03-571-1871 | Z23: 03-573-1984 | AA23: 50 עמישב | AC23: 2604 | AD23: 67192 | AE23: 50 עמישב | AF23: 50005 | AG23: תל אביב - יפו | AJ23: 1960 | AK23: 0 | AL23: 0 | AM23: 0 | AN23: 0 | AO23: 0 | AP23: 0 | AQ23: 0 | AR23: 0 | AS23: 0 | AW23: 5 | AX23: 5 | AY23: 1 | AZ23: 1 | BA23: 1 | BC23: 1 | BD23: 0 | BE23: 0
A24: 2002 | B24: 511451 | C24: שרת | D24: 301 | E24: 50005 | F24: תל אביב-יפו | G24: 50005 | H24: תל אביב - יפו | I24: יהודי | J24: מ"מ | K24: רשמי | L24: תל אביב | M24: תל אביב | N24: רגיל | O24: 11 | P24: בית ספר | Q24: 1 | R24: רגיל | S24: 10 | T24: יסודי בלבד | U24: 1 | V24: 6 | W24: לאה זיידה | X24: לוטן קרבר שרה | Y24: 03-647-4683 | Z24: 03-648-2318 | AA24: בית אל 45 , נוה שרת | AC24: 639 | AD24: 69087 | AE24: בית אל 45 , נוה שרת | AF24: 50005 | AG24: תל אביב - יפו | AI24: Y-sharet-tlv-M@kishurim.k12.il | AJ24: 1960 | AK24: 0 | AL24: 0 | AM24: 1 | AN24: 0 | AO24: 0 | AP24: 0 | AQ24: 0 | AR24: 0 | AS24: 0 | AW24: 5 | AX24: 5 | AY24: 1 | AZ24: 1 | BA24: 1 | BC24: 1 | BD24: 0 | BE24: 0
A25: 2002 | B25: 511477 | C25: הנשיא ויצמן | D25: 342 | E25: 50005 | F25: תל אביב-יפו | G25: 50005 | H25: תל אביב - יפו | I25: יהודי | J25: מ"מ | K25: רשמי | L25: תל אביב | M25: תל אביב | N25: רגיל | O25: 11 | P25: בית ספר | Q25: 1 | R25: רגיל | S25: 10 | T25: יסודי בלבד | U25: 0 | V25: 6 | W25: שרה שרון | X25: דרן רונית | Y25: 03-682-3450 | Z25: 03-682-3450 | AA25: פסטלוצ'י 34 , יפו | AC25: 1968 | AD25: 68095 | AE25: פסטלוצ'י 34 , יפו | AF25: 50005 | AG25: תל אביב - יפו | AI25: Y-weizma-tlv-M@kishurim.k12.il | AJ25: 1960 | AK25: 0 | AL25: 1 | AM25: 0 | AN25: 0 | AO25: 0 | AP25: 0 | AQ25: 0 | AR25: 0 | AS25: 0 | AT25: יוחא מלא | AW25: 5 | AX25: 5 | AY25: 1 | AZ25: 1 | BA25: 1 | BB25: 1 | BC25: 1 | BD25: 0 | BE25: 0
A26: 2002 | B26: 511576 | C26: מגן | D26: 419 | E26: 50005 | F26: תל אביב-יפו | G26: 50005 | H26: תל אביב - יפו | I26: יהודי | J26: מ"מ | K26: רשמי | L26: תל אביב | M26: תל אביב | N26: רגיל | O26: 11 | P26: בית ספר | Q26: 1 | R26: רגיל | S26: 10 | T26: יסודי בלבד | U26: 1 | V26: 6 | W26: ניר אורנה | X26: לוטן קרבר שרה | Y26: 03-647-9130 | Z26: 03-647-2712 | AA26: קדש ברנע 4 , מעוז אב | AC26: 263 | AD26: 69986 | AE26: קדש ברנע 4 , מעוז אב | AF26: 50005 | AG26: תל אביב - יפו | AI26: Y-magen-tlv-M@kishurim.k12.il | AJ26: 1960 | AK26: 0 | AL26: 0 | AM26: 0 | AN26: 0 | AO26: 0 | AP26: 0 | AQ26: 0 | AR26: 0 | AS26: 0 | AW26: 5 | AX26: 5 | AY26: 1 | AZ26: 1 | BA26: 1 | BC26: 1 | BD26: 0 | BE26: 0
A27: 2002 | B27: 511634 | C27: צהלה | D27: 529 | E27: 50005 | F27: תל אביב-יפו | G27: 50005 | H27: תל אביב - יפו | I27: יהודי | J27: מ"מ | K27: רשמי | L27: תל אביב | M27: תל אביב | N27: רגיל | O27: 11 | P27: בית ספר | Q27: 1 | R27: רגיל | S27: 10 | T27: יסודי בלבד | U27: 1 | V27: 6 | W27: אירית שקדי | X27: לוטן קרבר שרה | Y27: 03-647-2593 | Z27: 03-648-2353 | AA27: עשהאל 3 , צהלה | AC27: 321 | AD27: 69803 | AE27: עשהאל 3 , צהלה | AF27: 50005 | AG27: תל אביב - יפו | AI27: Y-zahala-tlv-M@kishurim.k12.il | AJ27: 1960 | AK27: 0 | AL27: 0 | AM27: 0 | AN27: 0 | AO27: 0 | AP27: 0 | AQ27: 0 | AR27: 0 | AS27: 0 | AW27: 5 | AX27: 5 | AY27: 1 | AZ27: 1 | BA27: 1 | BC27: 1 | BD27: 0 | BE27: 0
A28: 2002 | B28: 511642 | C28: רוקח | D28: 295 | E28: 50005 | F28: תל אביב-יפו | G28: 50005 | H28: תל אביב - יפו | I28: יהודי | J28: מ"מ | K28: רשמי | L28: תל אביב | M28: תל אביב | N28: רגיל | O28: 11 | P28: בית ספר | Q28: 1 | R28: רגיל | S28: 10 | T28: יסודי בלבד | U28: 1 | V28: 6 | W28: אדית דסקל | X28: דרן רונית | Y28: 03-739-6287 | Z28: 03-739-6287 | AA28: החי"ל 29 , יד-אליהו | AC28: 2665 | AD28: 67315 | AE28: החי"ל 29 , יד-אליהו | AF28: 50005 | AG28: תל אביב - יפו | AI28: Y-rokach-tlv-M@kishurim.k12.il | AJ28: 1960 | AK28: 0 | AL28: 0 | AM28: 0 | AN28: 0 | AO28: 0 | AP28: 0 | AQ28: 0 | AR28: 0 | AS28: 0 | AW28: 5 | AX28: 5 | AY28: 1 | AZ28: 1 | BA28: 1 | BC28: 1 | BD28: 0 | BE28: 0
A29: 2002 | B29: 511659 | C29: רמז | D29: 229 | E29: 50005 | F29: תל אביב-יפו | G29: 50005 | H29: תל אביב - יפו | I29: יהודי | J29: מ"מ | K29: רשמי | L29: תל אביב | M29: תל אביב | N29: רגיל | O29: 11 | P29: בית ספר | Q29: 1 | R29: רגיל | S29: 10 | T29: יסודי בלבד | U29: 1 | V29: 6 | W29: אריה גרינברגר | X29: דרן רונית | Y29: 03-682-1935 | Z29: 03-682-4897 | AA29: קפלנסקי 2 , ק-שלום | AC29: 2418 | AD29: 66870 | AE29: קפלנסקי 2 , ק-שלום | AF29: 50005 | AG29: תל אביב - יפו | AJ29: 1960 | AK29: 0 | AL29: 0 | AM29: 1 | AN29: 0 | AO29: 0 | AP29: 0 | AQ29: 0 | AR29: 0 | AS29: 0 | AW29: 5 | AX29: 5 | AY29: 1 | AZ29: 1 | BA29: 1 | BC29: 1 | BD29: 0 | BE29: 0
A30: 2002 | B30: 511667 | C30: רמת החיל | D30: 256 | E30: 50005 | F30: תל אביב-יפו | G30: 50005 | H30: תל אביב - יפו | I30: יהודי | J30: מ"מ | K30: רשמי | L30: תל אביב | M30: תל אביב | N30: רגיל | O30: 11 | P30: בית ספר | Q30: 1 | R30: רגיל | S30: 10 | T30: יסודי בלבד | U30: 1 | V30: 6 | W30: דליה כרמון | X30: לוטן קרבר שרה | Y30: 03-647-6316 | Z30: 03-647-4384 | AA30: רח ק"ם 65 , רמת-החיי | AC30: 367 | AD30: 69278 | AE30: רח ק"ם 65 , רמת-החיי | AF30: 50005 | AG30: תל אביב - יפו | AI30: Y-hachay-tlv-M@kishurim.k12.il | AJ30: 1950 | AK30: 0 | AL30: 0 | AM30: 0 | AN30: 0 | AO30: 0 | AP30: 0 | AQ30: 0 | AR30: 0 | AS30: 0 | AW30: 5 | AX30: 5 | AY30: 1 | AZ30: 1 | BA30: 1 | BC30: 1 | BD30: 0 | BE30: 0
