Workbook

Sheet PIVOT
A2: מגזר | B2: יהודי
A3: פיקוח | B3: מ"מ
A5: Sum of תלמידים | B5: Column Labels
A6: Row Labels | B6: 1 | C6: 2 | D6: 3 | E6: 4 | F6: 5 | G6: 6 | H6: 7 | I6: 8 | J6: 9 | K6: Grand Total
A7: 2002 | B7: 2539 | C7: 2816 | D7: 1728 | E7: 1108 | F7: 1055 | G7: 491 | H7: 1562 | I7: 897 | J7: 3485 | K7: 15681
A8: 2003 | B8: 2512 | C8: 2827 | D8: 1720 | E8: 1062 | F8: 1007 | G8: 497 | H8: 1542 | I8: 890 | J8: 3397 | K8: 15454
A9: 2004 | B9: 2516 | C9: 2958 | D9: 1691 | E9: 1111 | F9: 898 | G9: 488 | H9: 1464 | I9: 868 | J9: 3448 | K9: 15442
A10: 2005 | B10: 2484 | C10: 3006 | D10: 1651 | E10: 1154 | F10: 933 | G10: 486 | H10: 1390 | I10: 830 | J10: 3485 | K10: 15419
A11: 2006 | B11: 2507 | C11: 3134 | D11: 1619 | E11: 1170 | F11: 1032 | G11: 480 | H11: 1329 | I11: 807 | J11: 3473 | K11: 15551
A12: 2007 | B12: 2595 | C12: 3253 | D12: 1598 | E12: 1209 | F12: 1109 | G12: 470 | H12: 1257 | I12: 793 | J12: 3460 | K12: 15744
A13: 2008 | B13: 2663 | C13: 3378 | D13: 1659 | E13: 1240 | F13: 1146 | G13: 464 | H13: 1222 | I13: 814 | J13: 3419 | K13: 16005
A14: 2009 | B14: 2739 | C14: 3559 | D14: 1725 | E14: 1291 | F14: 1153 | G14: 475 | H14: 1160 | I14: 788 | J14: 3401 | K14: 16291
A15: 2010 | B15: 2839 | C15: 3731 | D15: 1823 | E15: 1339 | F15: 1181 | G15: 489 | H15: 1153 | I15: 794 | J15: 3414 | K15: 16763
A16: 2011 | B16: 2940 | C16: 3894 | D16: 1925 | E16: 1413 | F16: 1228 | G16: 486 | H16: 1114 | I16: 816 | J16: 3440 | K16: 17256
A17: 2012 | B17: 3072 | C17: 4047 | D17: 2033 | E17: 1508 | F17: 1266 | G17: 484 | H17: 1079 | I17: 788 | J17: 3417 | K17: 17694
A18: 2013 | B18: 3236 | C18: 4112 | D18: 2164 | E18: 1617 | F18: 1284 | G18: 489 | H18: 1064 | I18: 793 | J18: 3400 | K18: 18159
... A22: 2017 | B22: 4120 | C22: 4606 | D22: 2545 | E22: 2268 | F22: 1646 | G22: 525 | H22: 1031 | I22: 923 | J22: 3619 | K22: 21283
A23: Grand Total | B23: 47630 | C23: 58425 | D23: 31040 | E23: 23309 | F23: 19492 | G23: 7778 | H23: 19370 | I23: 13229 | J23: 55486 | K23: 275759
A25: מס' ילדים יהודיים במוסדות לימוד ממלכתיים | H25: מס' ילדים ערביים במוסדות לימוד ממלכתיים | L25: מס' ילדים יהודיים במוסדות לימוד ממלכתי דתי
A26: שנה | B26: צפון ת"א | C26: מרכז ת"א | D26: דרום ת"א | E26: מזרח ת"א | H26: שנה | I26: דרום ת"א | L26: שנה | M26: צפון ת"א | N26: מרכז ת"א | O26: דרום ת"א | P26: מזרח ת"א
A27: 2002 | B27: 5355 | C27: 4382 | D27: 2459 | E27: 3485 | H27: 2002 | I27: 835 | L27: 2002 | M27: 157 | N27: 472 | O27: 561 | P27: 1086
A28: 2003 | B28: 5339 | C28: 4286 | D28: 2432 | E28: 3397 | H28: 2003 | I28: 940 | L28: 2003 | M28: 156 | N28: 447 | O28: 512 | P28: 1030
A29: 2004 | B29: 5474 | C29: 4188 | D29: 2332 | E29: 3448 | H29: 2004 | I29: 1033 | L29: 2004 | M29: 155 | N29: 440 | O29: 535 | P29: 1031
A30: 2005 | B30: 5490 | C30: 4224 | D30: 2220 | E30: 3485 | H30: 2005 | I30: 1143 | L30: 2005 | M30: 145 | N30: 419 | O30: 567 | P30: 957
A31: 2006 | B31: 5641 | C31: 4301 | D31: 2136 | E31: 3473 | H31: 2006 | I31: 1216 | L31: 2006 | M31: 141 | N31: 412 | O31: 570 | P31: 949
A32: 2007 | B32: 5848 | C32: 4386 | D32: 2050 | E32: 3460 | H32: 2007 | I32: 1190 | L32: 2007 | M32: 133 | N32: 431 | O32: 634 | P32: 999
A33: 2008 | B33: 6041 | C33: 4509 | D33: 2036 | E33: 3419 | H33: 2008 | I33: 1234 | L33: 2008 | M33: 132 | N33: 428 | O33: 659 | P33: 962
A34: 2009 | B34: 6298 | C34: 4644 | D34: 1948 | E34: 3401 | H34: 2009 | I34: 1295 | L34: 2009 | M34: 145 | N34: 465 | O34: 683 | P34: 943
A35: 2010 | B35: 6570 | C35: 4832 | D35: 1947 | E35: 3414 | H35: 2010 | I35: 1335 | L35: 2010 | M35: 156 | N35: 507 | O35: 700 | P35: 950
A36: 2011 | B36: 6834 | C36: 5052 | D36: 1930 | E36: 3440 | H36: 2011 | I36: 1329 | L36: 2011 | M36: 152 | N36: 514 | O36: 702 | P36: 939
A37: 2012 | B37: 7119 | C37: 5291 | D37: 1867 | E37: 3417 | H37: 2012 | I37: 1359 | L37: 2012 | M37: 172 | N37: 530 | O37: 790 | P37: 897
A38: 2013 | B38: 7348 | C38: 5554 | D38: 1857 | E38: 3400 | H38: 2013 | I38: 1349 | L38: 2013 | M38: 173 | N38: 554 | O38: 820 | P38: 899
... A42: 2017 | B42: 8726 | C42: 6984 | D42: 1954 | E42: 3619 | H42: 2017 | I42: 1196 | L42: 2017 | M42: 296 | N42: 636 | O42: 937 | P42: 1017

Sheet תל אביב
A1: שנ"ל | B1: מגזר | C1: מעמד משפטי | D1: פיקוח | E1: שלבי חינוך במוסד | F1: שם ישוב | G1: שם מוסד | H1: תלמידים במוסד | I1: שם מוטב | J1: מוסדות | K1: תלמידים | L1: כתובת המוסד | M1: רובע
A2: 2017 | B2: יהודי | C2: רשמי | D2: חמ"ד | E2: גן ויסודי | F2: תל אביב - יפו | G2: אלומות מד | H2: 296 | I2: עירית תל אביב | J2: 1 | K2: 296 | L2: =VLOOKUP($G2,'מוסדות 2017'!$C$87:$AA$272,25,FALSE) -> רדינג 35 | M2: =VLOOKUP($G2,'התאמת רובע למוסד'!$A$2:$C$75,3,FALSE) -> 1
A3: 2017 | B3: יהודי | C3: רשמי | D3: חמ"ד | E3: גן ויסודי | F3: תל אביב - יפו | G3: בעל שם טוב מד | H3: 322 | I3: עירית תל אביב | J3: 1 | K3: 322 | L3: =VLOOKUP($G3,'מוסדות 2017'!$C$87:$AA$272,25,FALSE) -> לובטקין צביה 35 | M3: =VLOOKUP($G3,'התאמת רובע למוסד'!$A$2:$C$75,3,FALSE) -> 9
A4: 2017 | B4: יהודי | C4: רשמי | D4: חמ"ד | E4: גן ויסודי | F4: תל אביב - יפו | G4: עמיאל רמב"ם מד | H4: 202 | I4: עירית תל אביב | J4: 1 | K4: 202 | L4: =VLOOKUP($G4,'מוסדות 2017'!$C$87:$AA$272,25,FALSE) -> אורים 41 | M4: =VLOOKUP($G4,'התאמת רובע למוסד'!$A$2:$C$75,3,FALSE) -> 9
A5: 2017 | B5: יהודי | C5: רשמי | D5: חמ"ד | E5: יסודי בלבד | F5: תל אביב - יפו | G5: דיזנגוף | H5: 373 | I5: עירית תל אביב | J5: 1 | K5: 373 | L5: =VLOOKUP($G5,'מוסדות 2017'!$C$87:$AA$272,25,FALSE) -> קפלנסקי 2 | M5: =VLOOKUP($G5,'התאמת רובע למוסד'!$A$2:$C$75,3,FALSE) -> 8
A6: 2017 | B6: יהודי | C6: רשמי | D6: חמ"ד | E6: יסודי בלבד | F6: תל אביב - יפו | G6: חב"ד בנות | H6: 187 | I6: עירית תל אביב | J6: 1 | K6: 187 | L6: =VLOOKUP($G6,'מוסדות 2017'!$C$87:$AA$272,25,FALSE) -> נחל שורק 5 | M6: =VLOOKUP($G6,'התאמת רובע למוסד'!$A$2:$C$75,3,FALSE) -> 7
A7: 2017 | B7: יהודי | C7: רשמי | D7: חמ"ד | E7: יסודי בלבד | F7: תל אביב - יפו | G7: יפה נוף | H7: 153 | I7: עירית תל אביב | J7: 1 | K7: 153 | L7: =VLOOKUP($G7,'מוסדות 2017'!$C$87:$AA$272,25,FALSE) -> נחל שורק 5 | M7: =VLOOKUP($G7,'התאמת רובע למוסד'!$A$2:$C$75,3,FALSE) -> 7
A8: 2017 | B8: יהודי | C8: רשמי | D8: חמ"ד | E8: יסודי בלבד | F8: תל אביב - יפו | G8: מודיעים מד | H8: 160 | I8: עירית תל אביב | J8: 1 | K8: 160 | L8: =VLOOKUP($G8,'מוסדות 2017'!$C$87:$AA$272,25,FALSE) -> אלון יגאל 31 | M8: =VLOOKUP($G8,'התאמת רובע למוסד'!$A$2:$C$75,3,FALSE) -> 9
A9: 2017 | B9: יהודי | C9: רשמי | D9: חמ"ד | E9: יסודי בלבד | F9: תל אביב - יפו | G9: מוריה מד | H9: 336 | I9: עירית תל אביב | J9: 1 | K9: 336 | L9: =VLOOKUP($G9,'מוסדות 2017'!$C$87:$AA$272,25,FALSE) -> צייטלין 24 | M9: =VLOOKUP($G9,'התאמת רובע למוסד'!$A$2:$C$75,3,FALSE) -> 4
A10: 2017 | B10: יהודי | C10: רשמי | D10: חמ"ד | E10: יסודי בלבד | F10: תל אביב - יפו | G10: מירון מד | H10: 300 | I10: עירית תל אביב | J10: 1 | K10: 300 | L10: =VLOOKUP($G10,'מוסדות 2017'!$C$87:$AA$272,25,FALSE) -> בני דן 40 | M10: =VLOOKUP($G10,'התאמת רובע למוסד'!$A$2:$C$75,3,FALSE) -> 4
A11: 2017 | B11: יהודי | C11: רשמי | D11: חמ"ד | E11: יסודי בלבד | F11: תל אביב - יפו | G11: עציון מד | H11: 333 | I11: עירית תל אביב | J11: 1 | K11: 333 | L11: =VLOOKUP($G11,'מוסדות 2017'!$C$87:$AA$272,25,FALSE) -> ברנפלד שמעון 15 | M11: =VLOOKUP($G11,'התאמת רובע למוסד'!$A$2:$C$75,3,FALSE) -> 9
A12: 2017 | B12: יהודי | C12: רשמי | D12: חמ"ד | E12: יסודי בלבד | F12: תל אביב - יפו | G12: שרשים מד | H12: 224 | I12: עירית תל אביב | J12: 1 | K12: 224 | L12: דרך שלמה 156 | M12: =VLOOKUP($G12,'התאמת רובע למוסד'!$A$2:$C$75,3,FALSE) -> 8
A13: 2017 | B13: יהודי | C13: רשמי | D13: מ"מ | E13: גן ויסודי | F13: תל אביב - יפו | G13: אביב | H13: 436 | I13: עירית תל אביב | J13: 1 | K13: 436 | L13: =VLOOKUP($G13,'מוסדות 2017'!$C$87:$AA$272,25,FALSE) -> אשכול לוי 94 | M13: =VLOOKUP($G13,'התאמת רובע למוסד'!$A$2:$C$75,3,FALSE) -> 1
A14: 2017 | B14: יהודי | C14: רשמי | D14: מ"מ | E14: גן ויסודי | F14: תל אביב - יפו | G14: ביה"ס הפתוח | H14: 208 | I14: עירית תל אביב | J14: 1 | K14: 208 | L14: =VLOOKUP($G14,'מוסדות 2017'!$C$87:$AA$272,25,FALSE) -> נועם 8 | M14: =VLOOKUP($G14,'התאמת רובע למוסד'!$A$2:$C$75,3,FALSE) -> 7
A15: 2017 | B15: יהודי | C15: רשמי | D15: מ"מ | E15: גן ויסודי | F15: תל אביב - יפו | G15: דוד בלוך | H15: 413 | I15: עירית תל אביב | J15: 1 | K15: 413 | L15: =VLOOKUP($G15,'מוסדות 2017'!$C$87:$AA$272,25,FALSE) -> ביצרון 19 | M15: =VLOOKUP($G15,'התאמת רובע למוסד'!$A$2:$C$75,3,FALSE) -> 9
A16: 2017 | B16: יהודי | C16: רשמי | D16: מ"מ | E16: גן ויסודי | F16: תל אביב - יפו | G16: ע"ש נעמי שמר | H16: 588 | I16: עירית תל אביב | J16: 1 | K16: 588 | L16: =VLOOKUP($G16,'מוסדות 2017'!$C$87:$AA$272,25,FALSE) -> בקר אהרון 10 | M16: =VLOOKUP($G16,'התאמת רובע למוסד'!$A$2:$C$75,3,FALSE) -> 2
A17: 2017 | B17: יהודי | C17: רשמי | D17: מ"מ | E17: יסודי בלבד | F17: תל אביב - יפו | G17: א. ד. גורדון | H17: 449 | I17: עירית תל אביב | J17: 1 | K17: 449 | L17: =VLOOKUP($G17,'מוסדות 2017'!$C$87:$AA$272,25,FALSE) -> הירקון 248 | M17: =VLOOKUP($G17,'התאמת רובע למוסד'!$A$2:$C$75,3,FALSE) -> 3
A18: 2017 | B18: יהודי | C18: רשמי | D18: מ"מ | E18: יסודי בלבד | F18: תל אביב - יפו | G18: אהבת ציון | H18: 661 | I18: עירית תל אביב | J18: 1 | K18: 661 | L18: =VLOOKUP($G18,'מוסדות 2017'!$C$87:$AA$272,25,FALSE) -> כהנשטם 61 | M18: =VLOOKUP($G18,'התאמת רובע למוסד'!$A$2:$C$75,3,FALSE) -> 4
A19: 2017 | B19: יהודי | C19: רשמי | D19: מ"מ | E19: יסודי בלבד | F19: תל אביב - יפו | G19: אוסישקין | H19: 262 | I19: עירית תל אביב | J19: 1 | K19: 262 | L19: =VLOOKUP($G19,'מוסדות 2017'!$C$87:$AA$272,25,FALSE) -> אוסישקין 65 | M19: =VLOOKUP($G19,'התאמת רובע למוסד'!$A$2:$C$75,3,FALSE) -> 3
A20: 2017 | B20: יהודי | C20: רשמי | D20: מ"מ | E20: יסודי בלבד | F20: תל אביב - יפו | G20: אילון | H20: 438 | I20: עירית תל אביב | J20: 1 | K20: 438 | L20: =VLOOKUP($G20,'מוסדות 2017'!$C$87:$AA$272,25,FALSE) -> נחלת יצחק 35 | M20: =VLOOKUP($G20,'התאמת רובע למוסד'!$A$2:$C$75,3,FALSE) -> 9
A21: 2017 | B21: יהודי | C21: רשמי | D21: מ"מ | E21: יסודי בלבד | F21: תל אביב - יפו | G21: אילנות | H21: 482 | I21: עירית תל אביב | J21: 1 | K21: 482 | L21: =VLOOKUP($G21,'מוסדות 2017'!$C$87:$AA$272,25,FALSE) -> גרונימן 11 | M21: =VLOOKUP($G21,'התאמת רובע למוסד'!$A$2:$C$75,3,FALSE) -> 1
A22: 2017 | B22: יהודי | C22: רשמי | D22: מ"מ | E22: יסודי בלבד | F22: תל אביב - יפו | G22: איתמר בן אבי | H22: 300 | I22: עירית תל אביב | J22: 1 | K22: 300 | L22: =VLOOKUP($G22,'מוסדות 2017'!$C$87:$AA$272,25,FALSE) -> קהילת קנדה 3 | M22: =VLOOKUP($G22,'התאמת רובע למוסד'!$A$2:$C$75,3,FALSE) -> 7
A23: 2017 | B23: יהודי | C23: רשמי | D23: מ"מ | E23: יסודי בלבד | F23: תל אביב - יפו | G23: אלחריזי | H23: 603 | I23: עירית תל אביב | J23: 1 | K23: 603 | L23: =VLOOKUP($G23,'מוסדות 2017'!$C$87:$AA$272,25,FALSE) -> מגדל שרשן 17 | M23: =VLOOKUP($G23,'התאמת רובע למוסד'!$A$2:$C$75,3,FALSE) -> 2
A24: 2017 | B24: יהודי | C24: רשמי | D24: מ"מ | E24: יסודי בלבד | F24: תל אביב - יפו | G24: ארזים | H24: 539 | I24: עירית תל אביב | J24: 1 | K24: 539 | L24: =VLOOKUP($G24,'מוסדות 2017'!$C$87:$AA$272,25,FALSE) -> לויטן יצחק 7 | M24: =VLOOKUP($G24,'התאמת רובע למוסד'!$A$2:$C$75,3,FALSE) -> 1
... A64: 2017 | B64: ערבי | C64: רשמי | D64: מ"מ | E64: גן ויסודי | F64: תל אביב - יפו | G64: יסודי ערבי חדש | H64: 290 | I64: עירית תל אביב | J64: 1 | K64: 290 | L64: =VLOOKUP($G64,'מוסדות 2017'!$C$87:$AA$272,25,FALSE) -> עבודת ישראל 16 | M64: =VLOOKUP($G64,'התאמת רובע למוסד'!$A$2:$C$75,3,FALSE) -> 7
A65: 2017 | B65: ערבי | C65: רשמי | D65: מ"מ | E65: גן ויסודי | F65: תל אביב - יפו | G65: לב יפו | H65: 233 | I65: עירית תל אביב | J65: 1 | K65: 233 | L65: פסטלוצי 35 | M65: =VLOOKUP($G65,'התאמת רובע למוסד'!$A$2:$C$75,3,FALSE) -> 7
A66: 2016 | B66: יהודי | C66: רשמי | D66: חמ"ד | E66: גן ויסודי | F66: תל אביב - יפו | G66: אלומות מד | H66: 269 | I66: עירית תל אביב | J66: 1 | K66: 269 | L66: =VLOOKUP($G66,'מוסדות 2017'!$C$87:$AA$272,25,FALSE) -> רדינג 35 | M66: =VLOOKUP($G66,'התאמת רובע למוסד'!$A$2:$C$75,3,FALSE) -> 1
A67: 2016 | B67: יהודי | C67: רשמי | D67: חמ"ד | E67: גן ויסודי | F67: תל אביב - יפו | G67: בעל שם טוב מד | H67: 301 | I67: עירית תל אביב | J67: 1 | K67: 301 | L67: =VLOOKUP($G67,'מוסדות 2017'!$C$87:$AA$272,25,FALSE) -> לובטקין צביה 35 | M67: =VLOOKUP($G67,'התאמת רובע למוסד'!$A$2:$C$75,3,FALSE) -> 9
A68: 2016 | B68: יהודי | C68: רשמי | D68: חמ"ד | E68: גן ויסודי | F68: תל אביב - יפו | G68: עמיאל רמב"ם מד | H68: 191 | I68: עירית תל אביב | J68: 1 | K68: 191 | L68: =VLOOKUP($G68,'מוסדות 2017'!$C$87:$AA$272,25,FALSE) -> אורים 41 | M68: =VLOOKUP($G68,'התאמת רובע למוסד'!$A$2:$C$75,3,FALSE) -> 9
A69: 2016 | B69: יהודי | C69: רשמי | D69: חמ"ד | E69: יסודי בלבד | F69: תל אביב - יפו | G69: דיזנגוף | H69: 331 | I69: עירית תל אביב | J69: 1 | K69: 331 | L69: =VLOOKUP($G69,'מוסדות 2017'!$C$87:$AA$272,25,FALSE) -> קפלנסקי 2 | M69: =VLOOKUP($G69,'התאמת רובע למוסד'!$A$2:$C$75,3,FALSE) -> 8
A70: 2016 | B70: יהודי | C70: רשמי | D70: חמ"ד | E70: יסודי בלבד | F70: תל אביב - יפו | G70: חב"ד בנות | H70: 195 | I70: עירית תל אביב | J70: 1 | K70: 195 | L70: =VLOOKUP($G70,'מוסדות 2017'!$C$87:$AA$272,25,FALSE) -> נחל שורק 5 | M70: =VLOOKUP($G70,'התאמת רובע למוסד'!$A$2:$C$75,3,FALSE) -> 7
A71: 2016 | B71: יהודי | C71: רשמי | D71: חמ"ד | E71: יסודי בלבד | F71: תל אביב - יפו | G71: יפה נוף | H71: 144 | I71: עירית תל אביב | J71: 1 | K71: 144 | L71: =VLOOKUP($G71,'מוסדות 2017'!$C$87:$AA$272,25,FALSE) -> נחל שורק 5 | M71: =VLOOKUP($G71,'התאמת רובע למוסד'!$A$2:$C$75,3,FALSE) -> 7
A72: 2016 | B72: יהודי | C72: רשמי | D72: חמ"ד | E72: יסודי בלבד | F72: תל אביב - יפו | G72: מודיעים מד | H72: 152 | I72: עירית תל אביב | J72: 1 | K72: 152 | L72: =VLOOKUP($G72,'מוסדות 2017'!$C$87:$AA$272,25,FALSE) -> אלון יגאל 31 | M72: =VLOOKUP($G72,'התאמת רובע למוסד'!$A$2:$C$75,3,FALSE) -> 9
A73: 2016 | B73: יהודי | C73: רשמי | D73: חמ"ד | E73: יסודי בלבד | F73: תל אביב - יפו | G73: מוריה מד | H73: 343 | I73: עירית תל אביב | J73: 1 | K73: 343 | L73: =VLOOKUP($G73,'מוסדות 2017'!$C$87:$AA$272,25,FALSE) -> צייטלין 24 | M73: =VLOOKUP($G73,'התאמת רובע למוסד'!$A$2:$C$75,3,FALSE) -> 4
A74: 2016 | B74: יהודי | C74: רשמי | D74: חמ"ד | E74: יסודי בלבד | F74: תל אביב - יפו | G74: מירון מד | H74: 288 | I74: עירית תל אביב | J74: 1 | K74: 288 | L74: =VLOOKUP($G74,'מוסדות 2017'!$C$87:$AA$272,25,FALSE) -> בני דן 40 | M74: =VLOOKUP($G74,'התאמת רובע למוסד'!$A$2:$C$75,3,FALSE) -> 4
A75: 2016 | B75: יהודי | C75: רשמי | D75: חמ"ד | E75: יסודי בלבד | F75: תל אביב - יפו | G75: עציון מד | H75: 330 | I75: עירית תל אביב | J75: 1 | K75: 330 | L75: =VLOOKUP($G75,'מוסדות 2017'!$C$87:$AA$272,25,FALSE) -> ברנפלד שמעון 15 | M75: =VLOOKUP($G75,'התאמת רובע למוסד'!$A$2:$C$75,3,FALSE) -> 9
A76: 2016 | B76: יהודי | C76: רשמי | D76: חמ"ד | E76: יסודי בלבד | F76: תל אביב - יפו | G76: שרשים מד | H76: 226 | I76: עירית תל אביב | J76: 1 | K76: 226 | L76: דרך שלמה 156 | M76: =VLOOKUP($G76,'התאמת רובע למוסד'!$A$2:$C$75,3,FALSE) -> 8
A77: 2016 | B77: יהודי | C77: רשמי | D77: מ"מ | E77: גן ויסודי | F77: תל אביב - יפו | G77: אביב | H77: 486 | I77: עירית תל אביב | J77: 1 | K77: 486 | L77: =VLOOKUP($G77,'מוסדות 2017'!$C$87:$AA$272,25,FALSE) -> אשכול לוי 94 | M77: =VLOOKUP($G77,'התאמת רובע למוסד'!$A$2:$C$75,3,FALSE) -> 1
A78: 2016 | B78: יהודי | C78: רשמי | D78: מ"מ | E78: גן ויסודי | F78: תל אביב - יפו | G78: ביה"ס הפתוח | H78: 203 | I78: עירית תל אביב | J78: 1 | K78: 203 | L78: =VLOOKUP($G78,'מוסדות 2017'!$C$87:$AA$272,25,FALSE) -> נועם 8 | M78: =VLOOKUP($G78,'התאמת רובע למוסד'!$A$2:$C$75,3,FALSE) -> 7
A79: 2016 | B79: יהודי | C79: רשמי | D79: מ"מ | E79: גן ויסודי | F79: תל אביב - יפו | G79: גבריאלי-הכרמל | H79: 707 | I79: עירית תל אביב | J79: 1 | K79: 707 | L79: =VLOOKUP($G79,'מוסדות 2017'!$C$87:$AA$272,25,FALSE) -> שפירא צבי 21 | M79: =VLOOKUP($G79,'התאמת רובע למוסד'!$A$2:$C$75,3,FALSE) -> 3
A80: 2016 | B80: יהודי | C80: רשמי | D80: מ"מ | E80: גן ויסודי | F80: תל אביב - יפו | G80: דוד בלוך | H80: 406 | I80: עירית תל אביב | J80: 1 | K80: 406 | L80: =VLOOKUP($G80,'מוסדות 2017'!$C$87:$AA$272,25,FALSE) -> ביצרון 19 | M80: =VLOOKUP($G80,'התאמת רובע למוסד'!$A$2:$C$75,3,FALSE) -> 9
A81: 2016 | B81: יהודי | C81: רשמי | D81: מ"מ | E81: גן ויסודי | F81: תל אביב - יפו | G81: הירדן | H81: 317 | I81: עירית תל אביב | J81: 1 | K81: 317 | L81: =VLOOKUP($G81,'מוסדות 2017'!$C$87:$AA$272,25,FALSE) -> מושיע 21 | M81: =VLOOKUP($G81,'התאמת רובע למוסד'!$A$2:$C$75,3,FALSE) -> 9
A82: 2016 | B82: יהודי | C82: רשמי | D82: מ"מ | E82: גן ויסודי | F82: תל אביב - יפו | G82: ע"ש נעמי שמר | H82: 596 | I82: עירית תל אביב | J82: 1 | K82: 596 | L82: =VLOOKUP($G82,'מוסדות 2017'!$C$87:$AA$272,25,FALSE) -> בקר אהרון 10 | M82: =VLOOKUP($G82,'התאמת רובע למוסד'!$A$2:$C$75,3,FALSE) -> 2
A83: 2016 | B83: יהודי | C83: רשמי | D83: מ"מ | E83: יסודי בלבד | F83: תל אביב - יפו | G83: א. ד. גורדון | H83: 465 | I83: עירית תל אביב | J83: 1 | K83: 465 | L83: =VLOOKUP($G83,'מוסדות 2017'!$C$87:$AA$272,25,FALSE) -> הירקון 248 | M83: =VLOOKUP($G83,'התאמת רובע למוסד'!$A$2:$C$75,3,FALSE) -> 3
A84: 2016 | B84: יהודי | C84: רשמי | D84: מ"מ | E84: יסודי בלבד | F84: תל אביב - יפו | G84: אהבת ציון | H84: 653 | I84: עירית תל אביב | J84: 1 | K84: 653 | L84: =VLOOKUP($G84,'מוסדות 2017'!$C$87:$AA$272,25,FALSE) -> כהנשטם 61 | M84: =VLOOKUP($G84,'התאמת רובע למוסד'!$A$2:$C$75,3,FALSE) -> 4
A85: 2016 | B85: יהודי | C85: רשמי | D85: מ"מ | E85: יסודי בלבד | F85: תל אביב - יפו | G85: אוסישקין | H85: 264 | I85: עירית תל אביב | J85: 1 | K85: 264 | L85: =VLOOKUP($G85,'מוסדות 2017'!$C$87:$AA$272,25,FALSE) -> אוסישקין 65 | M85: =VLOOKUP($G85,'התאמת רובע למוסד'!$A$2:$C$75,3,FALSE) -> 3
A86: 2016 | B86: יהודי | C86: רשמי | D86: מ"מ | E86: יסודי בלבד | F86: תל אביב - יפו | G86: אילון | H86: 423 | I86: עירית תל אביב | J86: 1 | K86: 423 | L86: =VLOOKUP($G86,'מוסדות 2017'!$C$87:$AA$272,25,FALSE) -> נחלת יצחק 35 | M86: =VLOOKUP($G86,'התאמת רובע למוסד'!$A$2:$C$75,3,FALSE) -> 9
A87: 2016 | B87: יהודי | C87: רשמי | D87: מ"מ | E87: יסודי בלבד | F87: תל אביב - יפו | G87: אילנות | H87: 468 | I87: עירית תל אביב | J87: 1 | K87: 468 | L87: =VLOOKUP($G87,'מוסדות 2017'!$C$87:$AA$272,25,FALSE) -> גרונימן 11 | M87: =VLOOKUP($G87,'התאמת רובע למוסד'!$A$2:$C$75,3,FALSE) -> 1
A88: 2016 | B88: יהודי | C88: רשמי | D88: מ"מ | E88: יסודי בלבד | F88: תל אביב - יפו | G88: איתמר בן אבי | H88: 278 | I88: עירית תל אביב | J88: 1 | K88: 278 | L88: =VLOOKUP($G88,'מוסדות 2017'!$C$87:$AA$272,25,FALSE) -> קהילת קנדה 3 | M88: =VLOOKUP($G88,'התאמת רובע למוסד'!$A$2:$C$75,3,FALSE) -> 7
... A125: 2016 | B125: ערבי | C125: רשמי | D125: מ"מ | E125: גן ויסודי | F125: תל אביב - יפו | G125: יסודי ערבי חדש | H125: 307 | I125: עירית תל אביב | J125: 1 | K125: 307 | L125: =VLOOKUP($G125,'מוסדות 2017'!$C$87:$AA$272,25,FALSE) -> עבודת ישראל 16 | M125: =VLOOKUP($G125,'התאמת רובע למוסד'!$A$2:$C$75,3,FALSE) -> 7
A126: 2016 | B126: ערבי | C126: רשמי | D126: מ"מ | E126: גן ויסודי | F126: תל אביב - יפו | G126: לב יפו | H126: 234 | I126: עירית תל אביב | J126: 1 | K126: 234 | L126: פסטלוצי 35 | M126: =VLOOKUP($G126,'התאמת רובע למוסד'!$A$2:$C$75,3,FALSE) -> 7
A127: 2015 | B127: יהודי | C127: רשמי | D127: חמ"ד | E127: גן ויסודי | F127: תל אביב - יפו | G127: אלומות מד | H127: 227 | I127: עירית תל אביב | J127: 1 | K127: 227 | L127: =VLOOKUP($G127,'מוסדות 2017'!$C$87:$AA$272,25,FALSE) -> רדינג 35 | M127: =VLOOKUP($G127,'התאמת רובע למוסד'!$A$2:$C$75,3,FALSE) -> 1
A128: 2015 | B128: יהודי | C128: רשמי | D128: חמ"ד | E128: גן ויסודי | F128: תל אביב - יפו | G128: בעל שם טוב מד | H128: 244 | I128: עירית תל אביב | J128: 1 | K128: 244 | L128: =VLOOKUP($G128,'מוסדות 2017'!$C$87:$AA$272,25,FALSE) -> לובטקין צביה 35 | M128: =VLOOKUP($G128,'התאמת רובע למוסד'!$A$2:$C$75,3,FALSE) -> 9
A129: 2015 | B129: יהודי | C129: רשמי | D129: חמ"ד | E129: גן ויסודי | F129: תל אביב - יפו | G129: עמיאל רמב"ם מד | H129: 192 | I129: עירית תל אביב | J129: 1 | K129: 192 | L129: =VLOOKUP($G129,'מוסדות 2017'!$C$87:$AA$272,25,FALSE) -> אורים 41 | M129: =VLOOKUP($G129,'התאמת רובע למוסד'!$A$2:$C$75,3,FALSE) -> 9
A130: 2015 | B130: יהודי | C130: רשמי | D130: חמ"ד | E130: יסודי בלבד | F130: תל אביב - יפו | G130: דיזנגוף | H130: 280 | I130: עירית תל אביב | J130: 1 | K130: 280 | L130: =VLOOKUP($G130,'מוסדות 2017'!$C$87:$AA$272,25,FALSE) -> קפלנסקי 2 | M130: =VLOOKUP($G130,'התאמת רובע למוסד'!$A$2:$C$75,3,FALSE) -> 8
A131: 2015 | B131: יהודי | C131: רשמי | D131: חמ"ד | E131: יסודי בלבד | F131: תל אביב - יפו | G131: חב"ד בנות | H131: 185 | I131: עירית תל אביב | J131: 1 | K131: 185 | L131: =VLOOKUP($G131,'מוסדות 2017'!$C$87:$AA$272,25,FALSE) -> נחל שורק 5 | M131: =VLOOKUP($G131,'התאמת רובע למוסד'!$A$2:$C$75,3,FALSE) -> 7
A132: 2015 | B132: יהודי | C132: רשמי | D132: חמ"ד | E132: יסודי בלבד | F132: תל אביב - יפו | G132: יפה נוף | H132: 128 | I132: עירית תל אביב | J132: 1 | K132: 128 | L132: =VLOOKUP($G132,'מוסדות 2017'!$C$87:$AA$272,25,FALSE) -> נחל שורק 5 | M132: =VLOOKUP($G132,'התאמת רובע למוסד'!$A$2:$C$75,3,FALSE) -> 7
A133: 2015 | B133: יהודי | C133: רשמי | D133: חמ"ד | E133: יסודי בלבד | F133: תל אביב - יפו | G133: מודיעים מד | H133: 152 | I133: עירית תל אביב | J133: 1 | K133: 152 | L133: =VLOOKUP($G133,'מוסדות 2017'!$C$87:$AA$272,25,FALSE) -> אלון יגאל 31 | M133: =VLOOKUP($G133,'התאמת רובע למוסד'!$A$2:$C$75,3,FALSE) -> 9
A134: 2015 | B134: יהודי | C134: רשמי | D134: חמ"ד | E134: יסודי בלבד | F134: תל אביב - יפו | G134: מוריה מד | H134: 324 | I134: עירית תל אביב | J134: 1 | K134: 324 | L134: =VLOOKUP($G134,'מוסדות 2017'!$C$87:$AA$272,25,FALSE) -> צייטלין 24 | M134: =VLOOKUP($G134,'התאמת רובע למוסד'!$A$2:$C$75,3,FALSE) -> 4
A135: 2015 | B135: יהודי | C135: רשמי | D135: חמ"ד | E135: יסודי בלבד | F135: תל אביב - יפו | G135: מירון מד | H135: 299 | I135: עירית תל אביב | J135: 1 | K135: 299 | L135: =VLOOKUP($G135,'מוסדות 2017'!$C$87:$AA$272,25,FALSE) -> בני דן 40 | M135: =VLOOKUP($G135,'התאמת רובע למוסד'!$A$2:$C$75,3,FALSE) -> 4
A136: 2015 | B136: יהודי | C136: רשמי | D136: חמ"ד | E136: יסודי בלבד | F136: תל אביב - יפו | G136: עציון מד | H136: 378 | I136: עירית תל אביב | J136: 1 | K136: 378 | L136: =VLOOKUP($G136,'מוסדות 2017'!$C$87:$AA$272,25,FALSE) -> ברנפלד שמעון 15 | M136: =VLOOKUP($G136,'התאמת רובע למוסד'!$A$2:$C$75,3,FALSE) -> 9
A137: 2015 | B137: יהודי | C137: רשמי | D137: חמ"ד | E137: יסודי בלבד | F137: תל אביב - יפו | G137: שרשים מד | H137: 227 | I137: עירית תל אביב | J137: 1 | K137: 227 | L137: דרך שלמה 156 | M137: =VLOOKUP($G137,'התאמת רובע למוסד'!$A$2:$C$75,3,FALSE) -> 8
A138: 2015 | B138: יהודי | C138: רשמי | D138: מ"מ | E138: גן ויסודי | F138: תל אביב - יפו | G138: אביב | H138: 548 | I138: עירית תל אביב | J138: 1 | K138: 548 | L138: =VLOOKUP($G138,'מוסדות 2017'!$C$87:$AA$272,25,FALSE) -> אשכול לוי 94 | M138: =VLOOKUP($G138,'התאמת רובע למוסד'!$A$2:$C$75,3,FALSE) -> 1
A139: 2015 | B139: יהודי | C139: רשמי | D139: מ"מ | E139: גן ויסודי | F139: תל אביב - יפו | G139: אילנות | H139: 437 | I139: עירית תל אביב | J139: 1 | K139: 437 | L139: =VLOOKUP($G139,'מוסדות 2017'!$C$87:$AA$272,25,FALSE) -> גרונימן 11 | M139: =VLOOKUP($G139,'התאמת רובע למוסד'!$A$2:$C$75,3,FALSE) -> 1
A140: 2015 | B140: יהודי | C140: רשמי | D140: מ"מ | E140: גן ויסודי | F140: תל אביב - יפו | G140: ביה"ס הפתוח | H140: 198 | I140: עירית תל אביב | J140: 1 | K140: 198 | L140: =VLOOKUP($G140,'מוסדות 2017'!$C$87:$AA$272,25,FALSE) -> נועם 8 | M140: =VLOOKUP($G140,'התאמת רובע למוסד'!$A$2:$C$75,3,FALSE) -> 7
A141: 2015 | B141: יהודי | C141: רשמי | D141: מ"מ | E141: גן ויסודי | F141: תל אביב - יפו | G141: גבריאלי-הכרמל | H141: 707 | I141: עירית תל אביב | J141: 1 | K141: 707 | L141: =VLOOKUP($G141,'מוסדות 2017'!$C$87:$AA$272,25,FALSE) -> שפירא צבי 21 | M141: =VLOOKUP($G141,'התאמת רובע למוסד'!$A$2:$C$75,3,FALSE) -> 3
A142: 2015 | B142: יהודי | C142: רשמי | D142: מ"מ | E142: גן ויסודי | F142: תל אביב - יפו | G142: דוד בלוך | H142: 389 | I142: עירית תל אביב | J142: 1 | K142: 389 | L142: =VLOOKUP($G142,'מוסדות 2017'!$C$87:$AA$272,25,FALSE) -> ביצרון 19 | M142: =VLOOKUP($G142,'התאמת רובע למוסד'!$A$2:$C$75,3,FALSE) -> 9
A143: 2015 | B143: יהודי | C143: רשמי | D143: מ"מ | E143: גן ויסודי | F143: תל אביב - יפו | G143: הירדן | H143: 272 | I143: עירית תל אביב | J143: 1 | K143: 272 | L143: =VLOOKUP($G143,'מוסדות 2017'!$C$87:$AA$272,25,FALSE) -> מושיע 21 | M143: =VLOOKUP($G143,'התאמת רובע למוסד'!$A$2:$C$75,3,FALSE) -> 9
A144: 2015 | B144: יהודי | C144: רשמי | D144: מ"מ | E144: גן ויסודי | F144: תל אביב - יפו | G144: ע"ש נעמי שמר | H144: 605 | I144: עירית תל אביב | J144: 1 | K144: 605 | L144: =VLOOKUP($G144,'מוסדות 2017'!$C$87:$AA$272,25,FALSE) -> בקר אהרון 10 | M144: =VLOOKUP($G144,'התאמת רובע למוסד'!$A$2:$C$75,3,FALSE) -> 2
A145: 2015 | B145: יהודי | C145: רשמי | D145: מ"מ | E145: גן ויסודי | F145: תל אביב - יפו | G145: תל-נורדוי | H145: 400 | I145: עירית תל אביב | J145: 1 | K145: 400 | L145: =VLOOKUP($G145,'מוסדות 2017'!$C$87:$AA$272,25,FALSE) -> מנדלי מוכר ספרים 19 | M145: =VLOOKUP($G145,'התאמת רובע למוסד'!$A$2:$C$75,3,FALSE) -> 3
A146: 2015 | B146: יהודי | C146: רשמי | D146: מ"מ | E146: יסודי בלבד | F146: תל אביב - יפו | G146: א. ד. גורדון | H146: 469 | I146: עירית תל אביב | J146: 1 | K146: 469 | L146: =VLOOKUP($G146,'מוסדות 2017'!$C$87:$AA$272,25,FALSE) -> הירקון 248 | M146: =VLOOKUP($G146,'התאמת רובע למוסד'!$A$2:$C$75,3,FALSE) -> 3
A147: 2015 | B147: יהודי | C147: רשמי | D147: מ"מ | E147: יסודי בלבד | F147: תל אביב - יפו | G147: אהבת ציון | H147: 646 | I147: עירית תל אביב | J147: 1 | K147: 646 | L147: =VLOOKUP($G147,'מוסדות 2017'!$C$87:$AA$272,25,FALSE) -> כהנשטם 61 | M147: =VLOOKUP($G147,'התאמת רובע למוסד'!$A$2:$C$75,3,FALSE) -> 4
A148: 2015 | B148: יהודי | C148: רשמי | D148: מ"מ | E148: יסודי בלבד | F148: תל אביב - יפו | G148: אוסישקין | H148: 256 | I148: עירית תל אביב | J148: 1 | K148: 256 | L148: =VLOOKUP($G148,'מוסדות 2017'!$C$87:$AA$272,25,FALSE) -> אוסישקין 65 | M148: =VLOOKUP($G148,'התאמת רובע למוסד'!$A$2:$C$75,3,FALSE) -> 3
A149: 2015 | B149: יהודי | C149: רשמי | D149: מ"מ | E149: יסודי בלבד | F149: תל אביב - יפו | G149: אילון | H149: 421 | I149: עירית תל אביב | J149: 1 | K149: 421 | L149: =VLOOKUP($G149,'מוסדות 2017'!$C$87:$AA$272,25,FALSE) -> נחלת יצחק 35 | M149: =VLOOKUP($G149,'התאמת רובע למוסד'!$A$2:$C$75,3,FALSE) -> 9
... A185: 2015 | B185: ערבי | C185: רשמי | D185: מ"מ | E185: גן ויסודי | F185: תל אביב - יפו | G185: יסודי ערבי חדש | H185: 323 | I185: עירית תל אביב | J185: 1 | K185: 323 | L185: =VLOOKUP($G185,'מוסדות 2017'!$C$87:$AA$272,25,FALSE) -> עבודת ישראל 16 | M185: =VLOOKUP($G185,'התאמת רובע למוסד'!$A$2:$C$75,3,FALSE) -> 7
A186: 2015 | B186: ערבי | C186: רשמי | D186: מ"מ | E186: גן ויסודי | F186: תל אביב - יפו | G186: לב יפו | H186: 258 | I186: עירית תל אביב | J186: 1 | K186: 258 | L186: פסטלוצי 35 | M186: =VLOOKUP($G186,'התאמת רובע למוסד'!$A$2:$C$75,3,FALSE) -> 7
A187: 2014 | B187: יהודי | C187: רשמי | D187: חמ"ד | E187: גן ויסודי | F187: תל אביב - יפו | G187: אלומות מד | H187: 219 | I187: עירית תל אביב | J187: 1 | K187: 219 | L187: =VLOOKUP($G187,'מוסדות 2017'!$C$87:$AA$272,25,FALSE) -> רדינג 35 | M187: =VLOOKUP($G187,'התאמת רובע למוסד'!$A$2:$C$75,3,FALSE) -> 1
A188: 2014 | B188: יהודי | C188: רשמי | D188: חמ"ד | E188: גן ויסודי | F188: תל אביב - יפו | G188: בעל שם טוב מד | H188: 218 | I188: עירית תל אביב | J188: 1 | K188: 218 | L188: =VLOOKUP($G188,'מוסדות 2017'!$C$87:$AA$272,25,FALSE) -> לובטקין צביה 35 | M188: =VLOOKUP($G188,'התאמת רובע למוסד'!$A$2:$C$75,3,FALSE) -> 9
A189: 2014 | B189: יהודי | C189: רשמי | D189: חמ"ד | E189: גן ויסודי | F189: תל אביב - יפו | G189: עמיאל רמב"ם מד | H189: 194 | I189: עירית תל אביב | J189: 1 | K189: 194 | L189: =VLOOKUP($G189,'מוסדות 2017'!$C$87:$AA$272,25,FALSE) -> אורים 41 | M189: =VLOOKUP($G189,'התאמת רובע למוסד'!$A$2:$C$75,3,FALSE) -> 9
A190: 2014 | B190: יהודי | C190: רשמי | D190: חמ"ד | E190: יסודי בלבד | F190: תל אביב - יפו | G190: דיזנגוף | H190: 296 | I190: עירית תל אביב | J190: 1 | K190: 296 | L190: =VLOOKUP($G190,'מוסדות 2017'!$C$87:$AA$272,25,FALSE) -> קפלנסקי 2 | M190: =VLOOKUP($G190,'התאמת רובע למוסד'!$A$2:$C$75,3,FALSE) -> 8
A191: 2014 | B191: יהודי | C191: רשמי | D191: חמ"ד | E191: יסודי בלבד | F191: תל אביב - יפו | G191: חב"ד בנות | H191: 176 | I191: עירית תל אביב | J191: 1 | K191: 176 | L191: =VLOOKUP($G191,'מוסדות 2017'!$C$87:$AA$272,25,FALSE) -> נחל שורק 5 | M191: =VLOOKUP($G191,'התאמת רובע למוסד'!$A$2:$C$75,3,FALSE) -> 7
A192: 2014 | B192: יהודי | C192: רשמי | D192: חמ"ד | E192: יסודי בלבד | F192: תל אביב - יפו | G192: יפה נוף | H192: 96 | I192: עירית תל אביב | J192: 1 | K192: 96 | L192: =VLOOKUP($G192,'מוסדות 2017'!$C$87:$AA$272,25,FALSE) -> נחל שורק 5 | M192: =VLOOKUP($G192,'התאמת רובע למוסד'!$A$2:$C$75,3,FALSE) -> 7
A193: 2014 | B193: יהודי | C193: רשמי | D193: חמ"ד | E193: יסודי בלבד | F193: תל אביב - יפו | G193: מודיעים מד | H193: 148 | I193: עירית תל אביב | J193: 1 | K193: 148 | L193: =VLOOKUP($G193,'מוסדות 2017'!$C$87:$AA$272,25,FALSE) -> אלון יגאל 31 | M193: =VLOOKUP($G193,'התאמת רובע למוסד'!$A$2:$C$75,3,FALSE) -> 9
A194: 2014 | B194: יהודי | C194: רשמי | D194: חמ"ד | E194: יסודי בלבד | F194: תל אביב - יפו | G194: מוריה מד | H194: 321 | I194: עירית תל אביב | J194: 1 | K194: 321 | L194: =VLOOKUP($G194,'מוסדות 2017'!$C$87:$AA$272,25,FALSE) -> צייטלין 24 | M194: =VLOOKUP($G194,'התאמת רובע למוסד'!$A$2:$C$75,3,FALSE) -> 4
A195: 2014 | B195: יהודי | C195: רשמי | D195: חמ"ד | E195: יסודי בלבד | F195: תל אביב - יפו | G195: מירון מד | H195: 257 | I195: עירית תל אביב | J195: 1 | K195: 257 | L195: =VLOOKUP($G195,'מוסדות 2017'!$C$87:$AA$272,25,FALSE) -> בני דן 40 | M195: =VLOOKUP($G195,'התאמת רובע למוסד'!$A$2:$C$75,3,FALSE) -> 4
A196: 2014 | B196: יהודי | C196: רשמי | D196: חמ"ד | E196: יסודי בלבד | F196: תל אביב - יפו | G196: עציון מד | H196: 377 | I196: עירית תל אביב | J196: 1 | K196: 377 | L196: =VLOOKUP($G196,'מוסדות 2017'!$C$87:$AA$272,25,FALSE) -> ברנפלד שמעון 15 | M196: =VLOOKUP($G196,'התאמת רובע למוסד'!$A$2:$C$75,3,FALSE) -> 9
A197: 2014 | B197: יהודי | C197: רשמי | D197: חמ"ד | E197: יסודי בלבד | F197: תל אביב - יפו | G197: שרשים מד | H197: 251 | I197: עירית תל אביב | J197: 1 | K197: 251 | L197: דרך שלמה 156 | M197: =VLOOKUP($G197,'התאמת רובע למוסד'!$A$2:$C$75,3,FALSE) -> 8
A198: 2014 | B198: יהודי | C198: רשמי | D198: מ"מ | E198: גן ויסודי | F198: תל אביב - יפו | G198: אביב | H198: 579 | I198: עירית תל אביב | J198: 1 | K198: 579 | L198: =VLOOKUP($G198,'מוסדות 2017'!$C$87:$AA$272,25,FALSE) -> אשכול לוי 94 | M198: =VLOOKUP($G198,'התאמת רובע למוסד'!$A$2:$C$75,3,FALSE) -> 1
A199: 2014 | B199: יהודי | C199: רשמי | D199: מ"מ | E199: גן ויסודי | F199: תל אביב - יפו | G199: אילנות | H199: 400 | I199: עירית תל אביב | J199: 1 | K199: 400 | L199: =VLOOKUP($G199,'מוסדות 2017'!$C$87:$AA$272,25,FALSE) -> גרונימן 11 | M199: =VLOOKUP($G199,'התאמת רובע למוסד'!$A$2:$C$75,3,FALSE) -> 1
A200: 2014 | B200: יהודי | C200: רשמי | D200: מ"מ | E200: גן ויסודי | F200: תל אביב - יפו | G200: ביאליק | H200: 562 | I200: עירית תל אביב | J200: 1 | K200: 562 | L200: =VLOOKUP($G200,'מוסדות 2017'!$C$87:$AA$272,25,FALSE) -> ביאליק 21 | M200: =VLOOKUP($G200,'התאמת רובע למוסד'!$A$2:$C$75,3,FALSE) -> 5
A201: 2014 | B201: יהודי | C201: רשמי | D201: מ"מ | E201: גן ויסודי | F201: תל אביב - יפו | G201: ביה"ס הפתוח | H201: 185 | I201: עירית תל אביב | J201: 1 | K201: 185 | L201: =VLOOKUP($G201,'מוסדות 2017'!$C$87:$AA$272,25,FALSE) -> נועם 8 | M201: =VLOOKUP($G201,'התאמת רובע למוסד'!$A$2:$C$75,3,FALSE) -> 7
A202: 2014 | B202: יהודי | C202: רשמי | D202: מ"מ | E202: גן ויסודי | F202: תל אביב - יפו | G202: גבריאלי-הכרמל | H202: 643 | I202: עירית תל אביב | J202: 1 | K202: 643 | L202: =VLOOKUP($G202,'מוסדות 2017'!$C$87:$AA$272,25,FALSE) -> שפירא צבי 21 | M202: =VLOOKUP($G202,'התאמת רובע למוסד'!$A$2:$C$75,3,FALSE) -> 3
A203: 2014 | B203: יהודי | C203: רשמי | D203: מ"מ | E203: גן ויסודי | F203: תל אביב - יפו | G203: דוד בלוך | H203: 373 | I203: עירית תל אביב | J203: 1 | K203: 373 | L203: =VLOOKUP($G203,'מוסדות 2017'!$C$87:$AA$272,25,FALSE) -> ביצרון 19 | M203: =VLOOKUP($G203,'התאמת רובע למוסד'!$A$2:$C$75,3,FALSE) -> 9
A204: 2014 | B204: יהודי | C204: רשמי | D204: מ"מ | E204: גן ויסודי | F204: תל אביב - יפו | G204: הירדן | H204: 256 | I204: עירית תל אביב | J204: 1 | K204: 256 | L204: =VLOOKUP($G204,'מוסדות 2017'!$C$87:$AA$272,25,FALSE) -> מושיע 21 | M204: =VLOOKUP($G204,'התאמת רובע למוסד'!$A$2:$C$75,3,FALSE) -> 9
A205: 2014 | B205: יהודי | C205: רשמי | D205: מ"מ | E205: גן ויסודי | F205: תל אביב - יפו | G205: הנשיא ויצמן | H205: 211 | I205: עירית תל אביב | J205: 1 | K205: 211 | L205: פסטלוצי 34 | M205: =VLOOKUP($G205,'התאמת רובע למוסד'!$A$2:$C$75,3,FALSE) -> 7
A206: 2014 | B206: יהודי | C206: רשמי | D206: מ"מ | E206: גן ויסודי | F206: תל אביב - יפו | G206: ע"ש נעמי שמר | H206: 629 | I206: עירית תל אביב | J206: 1 | K206: 629 | L206: =VLOOKUP($G206,'מוסדות 2017'!$C$87:$AA$272,25,FALSE) -> בקר אהרון 10 | M206: =VLOOKUP($G206,'התאמת רובע למוסד'!$A$2:$C$75,3,FALSE) -> 2
A207: 2014 | B207: יהודי | C207: רשמי | D207: מ"מ | E207: גן ויסודי | F207: תל אביב - יפו | G207: תל-נורדוי | H207: 355 | I207: עירית תל אביב | J207: 1 | K207: 355 | L207: =VLOOKUP($G207,'מוסדות 2017'!$C$87:$AA$272,25,FALSE) -> מנדלי מוכר ספרים 19 | M207: =VLOOKUP($G207,'התאמת רובע למוסד'!$A$2:$C$75,3,FALSE) -> 3
A208: 2014 | B208: יהודי | C208: רשמי | D208: מ"מ | E208: יסודי בלבד | F208: תל אביב - יפו | G208: א. ד. גורדון | H208: 463 | I208: עירית תל אביב | J208: 1 | K208: 463 | L208: =VLOOKUP($G208,'מוסדות 2017'!$C$87:$AA$272,25,FALSE) -> הירקון 248 | M208: =VLOOKUP($G208,'התאמת רובע למוסד'!$A$2:$C$75,3,FALSE) -> 3
A209: 2014 | B209: יהודי | C209: רשמי | D209: מ"מ | E209: יסודי בלבד | F209: תל אביב - יפו | G209: אהבת ציון | H209: 638 | I209: עירית תל אביב | J209: 1 | K209: 638 | L209: =VLOOKUP($G209,'מוסדות 2017'!$C$87:$AA$272,25,FALSE) -> כהנשטם 61 | M209: =VLOOKUP($G209,'התאמת רובע למוסד'!$A$2:$C$75,3,FALSE) -> 4
A210: 2014 | B210: יהודי | C210: רשמי | D210: מ"מ | E210: יסודי בלבד | F210: תל אביב - יפו | G210: אוסישקין | H210: 254 | I210: עירית תל אביב | J210: 1 | K210: 254 | L210: =VLOOKUP($G210,'מוסדות 2017'!$C$87:$AA$272,25,FALSE) -> אוסישקין 65 | M210: =VLOOKUP($G210,'התאמת רובע למוסד'!$A$2:$C$75,3,FALSE) -> 3
...

Sheet התאמת רובע למוסד
A1: שם מוסד | B1: כתובת המוסד | C1: רובע
A2: א. ד. גורדון | B2: הירקון 248 | C2: 3
A3: אביב | B3: אשכול לוי 94 | C3: 1
A4: אביגל | B4: 20 רובינשטיין | C4: 7
A5: אהבת ציון | B5: כהנשטם 61 | C5: 4
A6: אוסישקין | B6: אוסישקין 65 | C6: 3
A7: אחוה יפו | B7: פייר מנדס פרנס 17 | C7: 7
A8: אילון | B8: נחלת יצחק 35 | C8: 9
A9: אילנות | B9: גרונימן 11 | C9: 1
A10: איתמר בן אבי | B10: קהילת קנדה 3 | C10: 7
A11: אלומות מד | B11: רדינג 35 | C11: 1
A12: אלחריזי | B12: מגדל שרשן 17 | C12: 2
A13: ארזים | B13: לויטן יצחק 7 | C13: 1
... A75: תל חי | B75: מעפילי אגוז 74 | C75: 9

Sheet 2017
A1: שנ"ל | B1: מגזר | C1: מעמד משפטי | D1: פיקוח | E1: שלבי חינוך במוסד | F1: שם ישוב | G1: שם מוסד | H1: תלמידים במוסד | I1: שם מוטב | J1: מוסדות | K1: תלמידים
A2: סה"כ | J2: 275 | K2: 121658
A3: 2017 | B3: יהודי | C3: רשמי | D3: חמ"ד | E3: גן ויסודי | F3: אור יהודה | G3: סעדיה גאון מד | H3: 248 | I3: עירית אור יהודה | J3: 1 | K3: 248
A4: 2017 | B4: יהודי | C4: רשמי | D4: חמ"ד | E4: גן ויסודי | F4: אזור | G4: מימון מד | H4: 130 | I4: מ. מקומית אזור | J4: 1 | K4: 130
A5: 2017 | B5: יהודי | C5: רשמי | D5: חמ"ד | E5: גן ויסודי | F5: בת ים | G5: הראל מד | H5: 314 | I5: עירית בת ים | J5: 1 | K5: 314
A6: 2017 | B6: יהודי | C6: רשמי | D6: חמ"ד | E6: גן ויסודי | F6: הרצליה | G6: בר אילן מד | H6: 336 | I6: עירית הרצליה | J6: 1 | K6: 336
A7: 2017 | B7: יהודי | C7: רשמי | D7: חמ"ד | E7: גן ויסודי | F7: הרצליה | G7: רמבם מד | H7: 137 | I7: עירית הרצליה | J7: 1 | K7: 137
A8: 2017 | B8: יהודי | C8: רשמי | D8: חמ"ד | E8: גן ויסודי | F8: קרית אונו | G8: שילה מד | H8: 130 | I8: עירית קרית אונו | J8: 1 | K8: 130
A9: 2017 | B9: יהודי | C9: רשמי | D9: חמ"ד | E9: גן ויסודי | F9: רמת גן | G9: אושא מד | H9: 132 | I9: עירית רמת גן | J9: 1 | K9: 132
A10: 2017 | B10: יהודי | C10: רשמי | D10: חמ"ד | E10: גן ויסודי | F10: תל אביב - יפו | G10: אלומות מד | H10: 296 | I10: עירית תל אביב | J10: 1 | K10: 296
A11: 2017 | B11: יהודי | C11: רשמי | D11: חמ"ד | E11: גן ויסודי | F11: תל אביב - יפו | G11: בעל שם טוב מד | H11: 322 | I11: עירית תל אביב | J11: 1 | K11: 322
A12: 2017 | B12: יהודי | C12: רשמי | D12: חמ"ד | E12: גן ויסודי | F12: תל אביב - יפו | G12: עמיאל רמב"ם מד | H12: 202 | I12: עירית תל אביב | J12: 1 | K12: 202
A13: 2017 | B13: יהודי | C13: רשמי | D13: חמ"ד | E13: יסודי בלבד | F13: אור יהודה | G13: אור מנחם | H13: 123 | I13: עירית אור יהודה | J13: 1 | K13: 123
A14: 2017 | B14: יהודי | C14: רשמי | D14: חמ"ד | E14: יסודי בלבד | F14: אור יהודה | G14: אורות בנות | H14: 157 | I14: עירית אור יהודה | J14: 1 | K14: 157
... A277: 2017 | B277: ערבי | C277: רשמי | D277: מ"מ | E277: גן ויסודי | F277: תל אביב - יפו | G277: לב יפו | H277: 233 | I277: עירית תל אביב | J277: 1 | K277: 233

Sheet 2016
A1: שנ"ל | B1: מגזר | C1: מעמד משפטי | D1: פיקוח | E1: שלבי חינוך במוסד | F1: שם ישוב | G1: שם מוסד | H1: תלמידים במוסד | I1: שם מוטב | J1: מוסדות | K1: תלמידים
A2: סה"כ | J2: 270 | K2: 117998
A3: 2016 | B3: יהודי | C3: רשמי | D3: חמ"ד | E3: גן ויסודי | F3: אור יהודה | G3: סעדיה גאון מד | H3: 224 | I3: עירית אור יהודה | J3: 1 | K3: 224
A4: 2016 | B4: יהודי | C4: רשמי | D4: חמ"ד | E4: גן ויסודי | F4: אזור | G4: מימון מד | H4: 132 | I4: מ. מקומית אזור | J4: 1 | K4: 132
A5: 2016 | B5: יהודי | C5: רשמי | D5: חמ"ד | E5: גן ויסודי | F5: בת ים | G5: הראל מד | H5: 314 | I5: עירית בת ים | J5: 1 | K5: 314
A6: 2016 | B6: יהודי | C6: רשמי | D6: חמ"ד | E6: גן ויסודי | F6: הרצליה | G6: בר אילן מד | H6: 358 | I6: עירית הרצליה | J6: 1 | K6: 358
A7: 2016 | B7: יהודי | C7: רשמי | D7: חמ"ד | E7: גן ויסודי | F7: הרצליה | G7: רמבם מד | H7: 137 | I7: עירית הרצליה | J7: 1 | K7: 137
A8: 2016 | B8: יהודי | C8: רשמי | D8: חמ"ד | E8: גן ויסודי | F8: קרית אונו | G8: שילה מד | H8: 174 | I8: עירית קרית אונו | J8: 1 | K8: 174
A9: 2016 | B9: יהודי | C9: רשמי | D9: חמ"ד | E9: גן ויסודי | F9: רמת גן | G9: אושא מד | H9: 106 | I9: עירית רמת גן | J9: 1 | K9: 106
A10: 2016 | B10: יהודי | C10: רשמי | D10: חמ"ד | E10: גן ויסודי | F10: תל אביב - יפו | G10: אלומות מד | H10: 269 | I10: עירית תל אביב | J10: 1 | K10: 269
A11: 2016 | B11: יהודי | C11: רשמי | D11: חמ"ד | E11: גן ויסודי | F11: תל אביב - יפו | G11: בעל שם טוב מד | H11: 301 | I11: עירית תל אביב | J11: 1 | K11: 301
A12: 2016 | B12: יהודי | C12: רשמי | D12: חמ"ד | E12: גן ויסודי | F12: תל אביב - יפו | G12: עמיאל רמב"ם מד | H12: 191 | I12: עירית תל אביב | J12: 1 | K12: 191
A13: 2016 | B13: יהודי | C13: רשמי | D13: חמ"ד | E13: יסודי בלבד | F13: אור יהודה | G13: אורות בנות | H13: 149 | I13: עירית אור יהודה | J13: 1 | K13: 149
A14: 2016 | B14: יהודי | C14: רשמי | D14: חמ"ד | E14: יסודי בלבד | F14: אור יהודה | G14: עמרם גאון מד | H14: 126 | I14: עירית אור יהודה | J14: 1 | K14: 126
... A272: 2016 | B272: ערבי | C272: רשמי | D272: מ"מ | E272: גן ויסודי | F272: תל אביב - יפו | G272: לב יפו | H272: 234 | I272: עירית תל אביב | J272: 1 | K272: 234

Sheet 2015
A1: שנ"ל | B1: מגזר | C1: מעמד משפטי | D1: פיקוח | E1: שלבי חינוך במוסד | F1: שם ישוב | G1: שם מוסד | H1: תלמידים במוסד | I1: שם מוטב | J1: מוסדות | K1: תלמידים
A2: סה"כ | J2: 267 | K2: 113914
A3: 2015 | B3: יהודי | C3: רשמי | D3: חמ"ד | E3: גן ויסודי | F3: אור יהודה | G3: סעדיה גאון מד | H3: 209 | I3: עירית אור יהודה | J3: 1 | K3: 209
A4: 2015 | B4: יהודי | C4: רשמי | D4: חמ"ד | E4: גן ויסודי | F4: אזור | G4: מימון מד | H4: 124 | I4: מ. מקומית אזור | J4: 1 | K4: 124
A5: 2015 | B5: יהודי | C5: רשמי | D5: חמ"ד | E5: גן ויסודי | F5: בת ים | G5: הראל מד | H5: 309 | I5: עירית בת ים | J5: 1 | K5: 309
A6: 2015 | B6: יהודי | C6: רשמי | D6: חמ"ד | E6: גן ויסודי | F6: הרצליה | G6: בר אילן מד | H6: 340 | I6: עירית הרצליה | J6: 1 | K6: 340
A7: 2015 | B7: יהודי | C7: רשמי | D7: חמ"ד | E7: גן ויסודי | F7: הרצליה | G7: רמבם מד | H7: 124 | I7: עירית הרצליה | J7: 1 | K7: 124
A8: 2015 | B8: יהודי | C8: רשמי | D8: חמ"ד | E8: גן ויסודי | F8: קרית אונו | G8: שילה מד | H8: 192 | I8: עירית קרית אונו | J8: 1 | K8: 192
A9: 2015 | B9: יהודי | C9: רשמי | D9: חמ"ד | E9: גן ויסודי | F9: רמת גן | G9: אושא מד | H9: 86 | I9: עירית רמת גן | J9: 1 | K9: 86
A10: 2015 | B10: יהודי | C10: רשמי | D10: חמ"ד | E10: גן ויסודי | F10: תל אביב - יפו | G10: אלומות מד | H10: 227 | I10: עירית תל אביב | J10: 1 | K10: 227
A11: 2015 | B11: יהודי | C11: רשמי | D11: חמ"ד | E11: גן ויסודי | F11: תל אביב - יפו | G11: בעל שם טוב מד | H11: 244 | I11: עירית תל אביב | J11: 1 | K11: 244
A12: 2015 | B12: יהודי | C12: רשמי | D12: חמ"ד | E12: גן ויסודי | F12: תל אביב - יפו | G12: עמיאל רמב"ם מד | H12: 192 | I12: עירית תל אביב | J12: 1 | K12: 192
A13: 2015 | B13: יהודי | C13: רשמי | D13: חמ"ד | E13: חט"ב בלבד | F13: פתח תקווה | G13: אולפנת רעות | H13: 48 | I13: עירית פתח תקוה | J13: 1 | K13: 0
A14: 2015 | B14: יהודי | C14: רשמי | D14: חמ"ד | E14: יסודי בלבד | F14: אור יהודה | G14: אורות בנות | H14: 132 | I14: עירית אור יהודה | J14: 1 | K14: 132
... A269: 2015 | B269: ערבי | C269: רשמי | D269: מ"מ | E269: גן ויסודי | F269: תל אביב - יפו | G269: לב יפו | H269: 258 | I269: עירית תל אביב | J269: 1 | K269: 258

Sheet 2014
A1: שנ"ל | B1: מגזר | C1: מעמד משפטי | D1: פיקוח | E1: שלבי חינוך במוסד | F1: שם ישוב | G1: שם מוסד | H1: תלמידים במוסד | I1: שם מוטב | J1: מוסדות | K1: תלמידים
A2: סה"כ | J2: 262 | K2: 109532
A3: 2014 | B3: יהודי | C3: רשמי | D3: חמ"ד | E3: גן ויסודי | F3: אור יהודה | G3: סעדיה גאון מד | H3: 192 | I3: עירית אור יהודה | J3: 1 | K3: 192
A4: 2014 | B4: יהודי | C4: רשמי | D4: חמ"ד | E4: גן ויסודי | F4: אזור | G4: מימון מד | H4: 101 | I4: מ. מקומית אזור | J4: 1 | K4: 101
A5: 2014 | B5: יהודי | C5: רשמי | D5: חמ"ד | E5: גן ויסודי | F5: בת ים | G5: הראל מד | H5: 331 | I5: עירית בת ים | J5: 1 | K5: 331
A6: 2014 | B6: יהודי | C6: רשמי | D6: חמ"ד | E6: גן ויסודי | F6: הרצליה | G6: בר אילן מד | H6: 307 | I6: עירית הרצליה | J6: 1 | K6: 307
A7: 2014 | B7: יהודי | C7: רשמי | D7: חמ"ד | E7: גן ויסודי | F7: הרצליה | G7: רמבם מד | H7: 139 | I7: עירית הרצליה | J7: 1 | K7: 139
A8: 2014 | B8: יהודי | C8: רשמי | D8: חמ"ד | E8: גן ויסודי | F8: קרית אונו | G8: שילה מד | H8: 214 | I8: עירית קרית אונו | J8: 1 | K8: 214
A9: 2014 | B9: יהודי | C9: רשמי | D9: חמ"ד | E9: גן ויסודי | F9: רמת גן | G9: אושא מד | H9: 85 | I9: עירית רמת גן | J9: 1 | K9: 85
A10: 2014 | B10: יהודי | C10: רשמי | D10: חמ"ד | E10: גן ויסודי | F10: רמת השרון | G10: אור השחר | H10: 94 | I10: עירית רמת השרון | J10: 1 | K10: 94
A11: 2014 | B11: יהודי | C11: רשמי | D11: חמ"ד | E11: גן ויסודי | F11: תל אביב - יפו | G11: אלומות מד | H11: 219 | I11: עירית תל אביב | J11: 1 | K11: 219
A12: 2014 | B12: יהודי | C12: רשמי | D12: חמ"ד | E12: גן ויסודי | F12: תל אביב - יפו | G12: בעל שם טוב מד | H12: 218 | I12: עירית תל אביב | J12: 1 | K12: 218
A13: 2014 | B13: יהודי | C13: רשמי | D13: חמ"ד | E13: גן ויסודי | F13: תל אביב - יפו | G13: עמיאל רמב"ם מד | H13: 194 | I13: עירית תל אביב | J13: 1 | K13: 194
A14: 2014 | B14: יהודי | C14: רשמי | D14: חמ"ד | E14: יסודי בלבד | F14: אור יהודה | G14: (אורות (בנות | H14: 129 | I14: עירית אור יהודה | J14: 1 | K14: 129
... A264: 2014 | B264: ערבי | C264: רשמי | D264: מ"מ | E264: גן ויסודי | F264: תל אביב - יפו | G264: לב יפו | H264: 264 | I264: עירית תל אביב | J264: 1 | K264: 264

Sheet 2013
A1: שנ"ל | B1: מגזר | C1: מעמד משפטי | D1: פיקוח | E1: שלבי חינוך במוסד | F1: שם ישוב | G1: שם מוסד | H1: תלמידים במוסד | I1: שם מוטב | J1: מוסדות | K1: תלמידים
A2: סה"כ | J2: 256 | K2: 106539
A3: 2013 | B3: יהודי | C3: רשמי | D3: חמ"ד | E3: גן ויסודי | F3: אור יהודה | G3: סעדיה גאון מד | H3: 177 | I3: עירית אור יהודה | J3: 1 | K3: 177
A4: 2013 | B4: יהודי | C4: רשמי | D4: חמ"ד | E4: גן ויסודי | F4: אזור | G4: מימון מד | H4: 102 | I4: מ. מקומית אזור | J4: 1 | K4: 102
A5: 2013 | B5: יהודי | C5: רשמי | D5: חמ"ד | E5: גן ויסודי | F5: בת ים | G5: הראל מד | H5: 331 | I5: עירית בת ים | J5: 1 | K5: 331
A6: 2013 | B6: יהודי | C6: רשמי | D6: חמ"ד | E6: גן ויסודי | F6: הרצליה | G6: בר אילן מד | H6: 300 | I6: עירית הרצליה | J6: 1 | K6: 300
A7: 2013 | B7: יהודי | C7: רשמי | D7: חמ"ד | E7: גן ויסודי | F7: הרצליה | G7: רמבם מד | H7: 136 | I7: עירית הרצליה | J7: 1 | K7: 136
A8: 2013 | B8: יהודי | C8: רשמי | D8: חמ"ד | E8: גן ויסודי | F8: קרית אונו | G8: שילה מד | H8: 395 | I8: עירית קרית אונו | J8: 1 | K8: 395
A9: 2013 | B9: יהודי | C9: רשמי | D9: חמ"ד | E9: גן ויסודי | F9: רמת גן | G9: אושא מד | H9: 102 | I9: עירית רמת גן | J9: 1 | K9: 102
A10: 2013 | B10: יהודי | C10: רשמי | D10: חמ"ד | E10: גן ויסודי | F10: רמת השרון | G10: אור השחר | H10: 87 | I10: עירית רמת השרון | J10: 1 | K10: 87
A11: 2013 | B11: יהודי | C11: רשמי | D11: חמ"ד | E11: גן ויסודי | F11: תל אביב - יפו | G11: אלומות מד | H11: 173 | I11: עירית תל אביב | J11: 1 | K11: 173
A12: 2013 | B12: יהודי | C12: רשמי | D12: חמ"ד | E12: גן ויסודי | F12: תל אביב - יפו | G12: בעל שם טוב מד | H12: 175 | I12: עירית תל אביב | J12: 1 | K12: 175
A13: 2013 | B13: יהודי | C13: רשמי | D13: חמ"ד | E13: גן ויסודי | F13: תל אביב - יפו | G13: עמיאל רמב"ם מד | H13: 188 | I13: עירית תל אביב | J13: 1 | K13: 188
A14: 2013 | B14: יהודי | C14: רשמי | D14: חמ"ד | E14: יסודי בלבד | F14: אור יהודה | G14: (אורות (בנות | H14: 118 | I14: עירית אור יהודה | J14: 1 | K14: 118
... A258: 2013 | B258: ערבי | C258: רשמי | D258: מ"מ | E258: גן ויסודי | F258: תל אביב - יפו | G258: לב יפו | H258: 267 | I258: עירית תל אביב | J258: 1 | K258: 267

Sheet 2012
A1: שנ"ל | B1: מגזר | C1: מעמד משפטי | D1: פיקוח | E1: שלבי חינוך במוסד | F1: שם ישוב | G1: שם מוסד | H1: תלמידים במוסד | I1: שם מוטב | J1: מוסדות | K1: תלמידים
A2: סה"כ | J2: 185 | K2: 74719
A3: 2012 | B3: יהודי | C3: רשמי | D3: חמ"ד | E3: גן ויסודי | F3: אור יהודה | G3: סעדיה גאון מד | H3: 210 | I3: עירית אור יהודה | J3: 1 | K3: 210
A4: 2012 | B4: יהודי | C4: רשמי | D4: חמ"ד | E4: גן ויסודי | F4: אזור | G4: מימון מד | H4: 85 | I4: מ. מקומית אזור | J4: 1 | K4: 85
A5: 2012 | B5: יהודי | C5: רשמי | D5: חמ"ד | E5: גן ויסודי | F5: בת ים | G5: הראל מד | H5: 318 | I5: עירית בת ים | J5: 1 | K5: 318
A6: 2012 | B6: יהודי | C6: רשמי | D6: חמ"ד | E6: גן ויסודי | F6: הרצליה | G6: בר אילן מד | H6: 297 | I6: עירית הרצליה | J6: 1 | K6: 297
A7: 2012 | B7: יהודי | C7: רשמי | D7: חמ"ד | E7: גן ויסודי | F7: הרצליה | G7: רמבם מד | H7: 147 | I7: עירית הרצליה | J7: 1 | K7: 147
A8: 2012 | B8: יהודי | C8: רשמי | D8: חמ"ד | E8: גן ויסודי | F8: קרית אונו | G8: שילה מד | H8: 388 | I8: עירית קרית אונו | J8: 1 | K8: 388
A9: 2012 | B9: יהודי | C9: רשמי | D9: חמ"ד | E9: גן ויסודי | F9: רמת גן | G9: אושא מד | H9: 103 | I9: עירית רמת גן | J9: 1 | K9: 103
A10: 2012 | B10: יהודי | C10: רשמי | D10: חמ"ד | E10: גן ויסודי | F10: רמת השרון | G10: אור השחר | H10: 70 | I10: עירית רמת השרון | J10: 1 | K10: 70
A11: 2012 | B11: יהודי | C11: רשמי | D11: חמ"ד | E11: גן ויסודי | F11: תל אביב - יפו | G11: אלומות מד | H11: 172 | I11: עירית תל אביב | J11: 1 | K11: 172
A12: 2012 | B12: יהודי | C12: רשמי | D12: חמ"ד | E12: גן ויסודי | F12: תל אביב - יפו | G12: בעל שם טוב מד | H12: 149 | I12: עירית תל אביב | J12: 1 | K12: 149
A13: 2012 | B13: יהודי | C13: רשמי | D13: חמ"ד | E13: גן ויסודי | F13: תל אביב - יפו | G13: עמיאל רמב"ם מד | H13: 172 | I13: עירית תל אביב | J13: 1 | K13: 172
A14: 2012 | B14: יהודי | C14: רשמי | D14: חמ"ד | E14: יסודי בלבד | F14: אור יהודה | G14: (אורות (בנות | H14: 124 | I14: עירית אור יהודה | J14: 1 | K14: 124
... A187: 2012 | B187: ערבי | C187: רשמי | D187: מ"מ | E187: גן ויסודי | F187: תל אביב - יפו | G187: לב יפו | H187: 277 | I187: עירית תל אביב | J187: 1 | K187: 277

Sheet 2011
A1: שנ"ל | B1: מגזר | C1: מעמד משפטי | D1: פיקוח | E1: שלבי חינוך במוסד | F1: שם ישוב | G1: שם מוסד | H1: תלמידים במוסד | I1: שם מוטב | J1: מוסדות | K1: תלמידים
A2: סה"כ | J2: 182 | K2: 72782
A3: 2011 | B3: יהודי | C3: רשמי | D3: חמ"ד | E3: גן ויסודי | F3: אור יהודה | G3: סעדיה גאון מד | H3: 220 | I3: עירית אור יהודה | J3: 1 | K3: 220
A4: 2011 | B4: יהודי | C4: רשמי | D4: חמ"ד | E4: גן ויסודי | F4: אזור | G4: מימון מד | H4: 71 | I4: מ. מקומית אזור | J4: 1 | K4: 71
A5: 2011 | B5: יהודי | C5: רשמי | D5: חמ"ד | E5: גן ויסודי | F5: בת ים | G5: הראל מד | H5: 320 | I5: עירית בת ים | J5: 1 | K5: 320
A6: 2011 | B6: יהודי | C6: רשמי | D6: חמ"ד | E6: גן ויסודי | F6: בת ים | G6: עקיבא מד | H6: 205 | I6: עירית בת ים | J6: 1 | K6: 205
A7: 2011 | B7: יהודי | C7: רשמי | D7: חמ"ד | E7: גן ויסודי | F7: הרצליה | G7: בר אילן מד | H7: 297 | I7: עירית הרצליה | J7: 1 | K7: 297
A8: 2011 | B8: יהודי | C8: רשמי | D8: חמ"ד | E8: גן ויסודי | F8: הרצליה | G8: רמבם מד | H8: 150 | I8: עירית הרצליה | J8: 1 | K8: 150
A9: 2011 | B9: יהודי | C9: רשמי | D9: חמ"ד | E9: גן ויסודי | F9: קרית אונו | G9: שילה מד | H9: 360 | I9: עירית קרית אונו | J9: 1 | K9: 360
A10: 2011 | B10: יהודי | C10: רשמי | D10: חמ"ד | E10: גן ויסודי | F10: רמת גן | G10: אושא מד | H10: 102 | I10: עירית רמת גן | J10: 1 | K10: 102
A11: 2011 | B11: יהודי | C11: רשמי | D11: חמ"ד | E11: גן ויסודי | F11: רמת השרון | G11: אור השחר | H11: 89 | I11: עירית רמת השרון | J11: 1 | K11: 89
A12: 2011 | B12: יהודי | C12: רשמי | D12: חמ"ד | E12: גן ויסודי | F12: תל אביב - יפו | G12: אלומות מד | H12: 152 | I12: עירית תל אביב | J12: 1 | K12: 152
A13: 2011 | B13: יהודי | C13: רשמי | D13: חמ"ד | E13: גן ויסודי | F13: תל אביב - יפו | G13: בעל שם טוב מד | H13: 164 | I13: עירית תל אביב | J13: 1 | K13: 164
A14: 2011 | B14: יהודי | C14: רשמי | D14: חמ"ד | E14: גן ויסודי | F14: תל אביב - יפו | G14: עמיאל רמב"ם מד | H14: 167 | I14: עירית תל אביב | J14: 1 | K14: 167
... A184: 2011 | B184: ערבי | C184: רשמי | D184: מ"מ | E184: גן ויסודי | F184: תל אביב - יפו | G184: לב יפו | H184: 265 | I184: עירית תל אביב | J184: 1 | K184: 265

Sheet 2010
A1: שנ"ל | B1: מגזר | C1: מעמד משפטי | D1: פיקוח | E1: שלבי חינוך במוסד | F1: שם ישוב | G1: שם מוסד | H1: תלמידים במוסד | I1: שם מוטב | J1: מוסדות | K1: תלמידים
A2: סה"כ | J2: 182 | K2: 71414
A3: 2010 | B3: יהודי | C3: רשמי | D3: חמ"ד | E3: גן ויסודי | F3: אור יהודה | G3: סעדיה גאון מד | H3: 243 | I3: עירית אור יהודה | J3: 1 | K3: 243
A4: 2010 | B4: יהודי | C4: רשמי | D4: חמ"ד | E4: גן ויסודי | F4: אזור | G4: מימון מד | H4: 65 | I4: מ. מקומית אזור | J4: 1 | K4: 65
A5: 2010 | B5: יהודי | C5: רשמי | D5: חמ"ד | E5: גן ויסודי | F5: בת ים | G5: הראל מד | H5: 307 | I5: עירית בת ים | J5: 1 | K5: 307
A6: 2010 | B6: יהודי | C6: רשמי | D6: חמ"ד | E6: גן ויסודי | F6: בת ים | G6: עקיבא מד | H6: 215 | I6: עירית בת ים | J6: 1 | K6: 215
A7: 2010 | B7: יהודי | C7: רשמי | D7: חמ"ד | E7: גן ויסודי | F7: הרצליה | G7: בר אילן מד | H7: 292 | I7: עירית הרצליה | J7: 1 | K7: 292
A8: 2010 | B8: יהודי | C8: רשמי | D8: חמ"ד | E8: גן ויסודי | F8: הרצליה | G8: רמבם מד | H8: 158 | I8: עירית הרצליה | J8: 1 | K8: 158
A9: 2010 | B9: יהודי | C9: רשמי | D9: חמ"ד | E9: גן ויסודי | F9: קרית אונו | G9: שילה מד | H9: 341 | I9: עירית קרית אונו | J9: 1 | K9: 341
A10: 2010 | B10: יהודי | C10: רשמי | D10: חמ"ד | E10: גן ויסודי | F10: רמת גן | G10: אושא מד | H10: 101 | I10: עירית רמת גן | J10: 1 | K10: 101
A11: 2010 | B11: יהודי | C11: רשמי | D11: חמ"ד | E11: גן ויסודי | F11: רמת השרון | G11: אור השחר | H11: 93 | I11: עירית רמת השרון | J11: 1 | K11: 93
A12: 2010 | B12: יהודי | C12: רשמי | D12: חמ"ד | E12: גן ויסודי | F12: תל אביב - יפו | G12: אלומות מד | H12: 156 | I12: עירית תל אביב | J12: 1 | K12: 156
A13: 2010 | B13: יהודי | C13: רשמי | D13: חמ"ד | E13: גן ויסודי | F13: תל אביב - יפו | G13: בעל שם טוב מד | H13: 162 | I13: עירית תל אביב | J13: 1 | K13: 162
A14: 2010 | B14: יהודי | C14: רשמי | D14: חמ"ד | E14: גן ויסודי | F14: תל אביב - יפו | G14: עמיאל רמב"ם מד | H14: 158 | I14: עירית תל אביב | J14: 1 | K14: 158
... A184: 2010 | B184: ערבי | C184: רשמי | D184: מ"מ | E184: גן ויסודי | F184: תל אביב - יפו | G184: לב יפו | H184: 291 | I184: עירית תל אביב | J184: 1 | K184: 291

Sheet 2009
A1: שנ"ל | B1: מגזר | C1: מעמד משפטי | D1: פיקוח | E1: שלבי חינוך במוסד | F1: שם ישוב | G1: שם מוסד | H1: תלמידים במוסד | I1: שם מוטב | J1: מוסדות | K1: תלמידים
A2: סה"כ | J2: 181 | K2: 69591
A3: 2009 | B3: יהודי | C3: רשמי | D3: חמ"ד | E3: גן ויסודי | F3: אור יהודה | G3: סעדיה גאון מד | H3: 257 | I3: עירית אור יהודה | J3: 1 | K3: 257
A4: 2009 | B4: יהודי | C4: רשמי | D4: חמ"ד | E4: גן ויסודי | F4: אזור | G4: מימון מד | H4: 64 | I4: מ. מקומית אזור | J4: 1 | K4: 64
A5: 2009 | B5: יהודי | C5: רשמי | D5: חמ"ד | E5: גן ויסודי | F5: בת ים | G5: הראל מד | H5: 308 | I5: עירית בת ים | J5: 1 | K5: 308
A6: 2009 | B6: יהודי | C6: רשמי | D6: חמ"ד | E6: גן ויסודי | F6: בת ים | G6: עקיבא מד | H6: 229 | I6: עירית בת ים | J6: 1 | K6: 229
A7: 2009 | B7: יהודי | C7: רשמי | D7: חמ"ד | E7: גן ויסודי | F7: הרצליה | G7: בר אילן מד | H7: 282 | I7: עירית הרצליה | J7: 1 | K7: 282
A8: 2009 | B8: יהודי | C8: רשמי | D8: חמ"ד | E8: גן ויסודי | F8: הרצליה | G8: רמבם מד | H8: 154 | I8: עירית הרצליה | J8: 1 | K8: 154
A9: 2009 | B9: יהודי | C9: רשמי | D9: חמ"ד | E9: גן ויסודי | F9: קרית אונו | G9: שילה מד | H9: 328 | I9: עירית קרית אונו | J9: 1 | K9: 328
A10: 2009 | B10: יהודי | C10: רשמי | D10: חמ"ד | E10: גן ויסודי | F10: רמת גן | G10: אושא מד | H10: 92 | I10: עירית רמת גן | J10: 1 | K10: 92
A11: 2009 | B11: יהודי | C11: רשמי | D11: חמ"ד | E11: גן ויסודי | F11: רמת השרון | G11: אור השחר | H11: 103 | I11: עירית רמת השרון | J11: 1 | K11: 103
A12: 2009 | B12: יהודי | C12: רשמי | D12: חמ"ד | E12: גן ויסודי | F12: תל אביב - יפו | G12: אלומות מד | H12: 145 | I12: עירית תל אביב | J12: 1 | K12: 145
A13: 2009 | B13: יהודי | C13: רשמי | D13: חמ"ד | E13: גן ויסודי | F13: תל אביב - יפו | G13: בעל שם טוב מד | H13: 177 | I13: עירית תל אביב | J13: 1 | K13: 177
A14: 2009 | B14: יהודי | C14: רשמי | D14: חמ"ד | E14: גן ויסודי | F14: תל אביב - יפו | G14: עמיאל רמב"ם מד | H14: 156 | I14: עירית תל אביב | J14: 1 | K14: 156
... A183: 2009 | B183: ערבי | C183: רשמי | D183: מ"מ | E183: גן ויסודי | F183: תל אביב - יפו | G183: לב יפו | H183: 289 | I183: עירית תל אביב | J183: 1 | K183: 289

Sheet 2008
A1: שנ"ל | B1: מגזר | C1: מעמד משפטי | D1: פיקוח | E1: שלבי חינוך במוסד | F1: שם ישוב | G1: שם מוסד | H1: תלמידים במוסד | I1: שם מוטב | J1: מוסדות | K1: תלמידים
A2: סה"כ | J2: 179 | K2: 68529
A3: 2008 | B3: יהודי | C3: רשמי | D3: חמ"ד | E3: גן ויסודי | F3: אור יהודה | G3: סעדיה גאון מד | H3: 265 | I3: עירית אור יהודה | J3: 1 | K3: 265
A4: 2008 | B4: יהודי | C4: רשמי | D4: חמ"ד | E4: גן ויסודי | F4: אזור | G4: מימון מד | H4: 74 | I4: מ. מקומית אזור | J4: 1 | K4: 74
A5: 2008 | B5: יהודי | C5: רשמי | D5: חמ"ד | E5: גן ויסודי | F5: בת ים | G5: הראל מד | H5: 311 | I5: עירית בת ים | J5: 1 | K5: 311
A6: 2008 | B6: יהודי | C6: רשמי | D6: חמ"ד | E6: גן ויסודי | F6: בת ים | G6: עקיבא מד | H6: 222 | I6: עירית בת ים | J6: 1 | K6: 222
A7: 2008 | B7: יהודי | C7: רשמי | D7: חמ"ד | E7: גן ויסודי | F7: הרצליה | G7: בר אילן מד | H7: 284 | I7: עירית הרצליה | J7: 1 | K7: 284
A8: 2008 | B8: יהודי | C8: רשמי | D8: חמ"ד | E8: גן ויסודי | F8: הרצליה | G8: רמבם מד | H8: 163 | I8: עירית הרצליה | J8: 1 | K8: 163
A9: 2008 | B9: יהודי | C9: רשמי | D9: חמ"ד | E9: גן ויסודי | F9: קרית אונו | G9: שילה מד | H9: 337 | I9: עירית קרית אונו | J9: 1 | K9: 337
A10: 2008 | B10: יהודי | C10: רשמי | D10: חמ"ד | E10: גן ויסודי | F10: רמת גן | G10: אושא מד | H10: 90 | I10: עירית רמת גן | J10: 1 | K10: 90
A11: 2008 | B11: יהודי | C11: רשמי | D11: חמ"ד | E11: גן ויסודי | F11: רמת השרון | G11: אור השחר | H11: 106 | I11: עירית רמת השרון | J11: 1 | K11: 106
A12: 2008 | B12: יהודי | C12: רשמי | D12: חמ"ד | E12: גן ויסודי | F12: תל אביב - יפו | G12: אלומות מד | H12: 132 | I12: עירית תל אביב | J12: 1 | K12: 132
A13: 2008 | B13: יהודי | C13: רשמי | D13: חמ"ד | E13: גן ויסודי | F13: תל אביב - יפו | G13: בעל שם טוב מד | H13: 171 | I13: עירית תל אביב | J13: 1 | K13: 171
A14: 2008 | B14: יהודי | C14: רשמי | D14: חמ"ד | E14: גן ויסודי | F14: תל אביב - יפו | G14: עמיאל רמב"ם מד | H14: 179 | I14: עירית תל אביב | J14: 1 | K14: 179
... A181: 2008 | B181: ערבי | C181: רשמי | D181: מ"מ | E181: גן ויסודי | F181: תל אביב - יפו | G181: לב יפו | H181: 305 | I181: עירית תל אביב | J181: 1 | K181: 305

Sheet 2007
A1: שנ"ל | B1: מגזר | C1: מעמד משפטי | D1: פיקוח | E1: שלבי חינוך במוסד | F1: שם ישוב | G1: שם מוסד | H1: תלמידים במוסד | I1: שם מוטב | J1: מוסדות | K1: תלמידים
A2: סה"כ | J2: 179 | K2: 68214
A3: 2007 | B3: יהודי | C3: רשמי | D3: חמ"ד | E3: גן ויסודי | F3: אור יהודה | G3: סעדיה גאון מד | H3: 278 | I3: עירית אור יהודה | J3: 1 | K3: 278
A4: 2007 | B4: יהודי | C4: רשמי | D4: חמ"ד | E4: גן ויסודי | F4: אזור | G4: מימון מד | H4: 78 | I4: מ. מקומית אזור | J4: 1 | K4: 78
A5: 2007 | B5: יהודי | C5: רשמי | D5: חמ"ד | E5: גן ויסודי | F5: בת ים | G5: הראל מד | H5: 310 | I5: עירית בת ים | J5: 1 | K5: 310
A6: 2007 | B6: יהודי | C6: רשמי | D6: חמ"ד | E6: גן ויסודי | F6: בת ים | G6: עקיבא מד | H6: 225 | I6: עירית בת ים | J6: 1 | K6: 225
A7: 2007 | B7: יהודי | C7: רשמי | D7: חמ"ד | E7: גן ויסודי | F7: הרצליה | G7: בר אילן מד | H7: 289 | I7: עירית הרצליה | J7: 1 | K7: 289
A8: 2007 | B8: יהודי | C8: רשמי | D8: חמ"ד | E8: גן ויסודי | F8: הרצליה | G8: רמבם מד | H8: 162 | I8: עירית הרצליה | J8: 1 | K8: 162
A9: 2007 | B9: יהודי | C9: רשמי | D9: חמ"ד | E9: גן ויסודי | F9: קרית אונו | G9: שילה מד | H9: 304 | I9: עירית קרית אונו | J9: 1 | K9: 304
A10: 2007 | B10: יהודי | C10: רשמי | D10: חמ"ד | E10: גן ויסודי | F10: רמת גן | G10: אושא מד | H10: 79 | I10: עירית רמת גן | J10: 1 | K10: 79
A11: 2007 | B11: יהודי | C11: רשמי | D11: חמ"ד | E11: גן ויסודי | F11: רמת השרון | G11: אור השחר | H11: 115 | I11: עירית רמת השרון | J11: 1 | K11: 115
A12: 2007 | B12: יהודי | C12: רשמי | D12: חמ"ד | E12: גן ויסודי | F12: תל אביב - יפו | G12: אלומות מד | H12: 133 | I12: עירית תל אביב | J12: 1 | K12: 133
A13: 2007 | B13: יהודי | C13: רשמי | D13: חמ"ד | E13: גן ויסודי | F13: תל אביב - יפו | G13: בעל שם טוב מד | H13: 167 | I13: עירית תל אביב | J13: 1 | K13: 167
A14: 2007 | B14: יהודי | C14: רשמי | D14: חמ"ד | E14: גן ויסודי | F14: תל אביב - יפו | G14: עמיאל רמב"ם מד | H14: 205 | I14: עירית תל אביב | J14: 1 | K14: 205
... A181: 2007 | B181: ערבי | C181: רשמי | D181: מ"מ | E181: גן ויסודי | F181: תל אביב - יפו | G181: לב יפו | H181: 328 | I181: עירית תל אביב | J181: 1 | K181: 328

Sheet מוסדות 2002
A1: שנה | B1: סמל מוסד | C1: שם מוסד | D1: סה"כ תלמידים במוסד | E1: סמל רשות | F1: שם רשות | G1: סמל ישוב | H1: שם ישוב | I1: מגזר | J1: פיקוח | K1: מעמד משפטי | L1: גורם מדווח | M1: מחוז גאוגרפי | N1: סוג חינוך מוסד | O1: קוד סוג מסגרת אירגונית | P1: סוג מסגרת אירגונית | Q1: קוד סוג מוסד | R1: סוג מוסד | S1: קוד שלבי חינוך במוסד | T1: שלבי חינוך במוסד | U1: משכבה | V1: עד שכבה | W1: שם מנהל | X1: שם מפקח | Y1: טלפון | Z1: פקס | AA1: כתובת גאוגרפית | AB1: בית | AC1: סמל רחוב | AD1: מיקוד | AE1: כתובת דואר | AF1: סמל ישוב דואר | AG1: שם ישוב דואר | AH1: דואר אלקטרוני של המנהל | AI1: דואר אלקטרוני של מוסד | AJ1: שנת יסוד | AK1: זכאי תשלום בגין מקיף | AL1: זכאי שיקום שכונות | AM1: זכאי רווחה | AN1: זכאי לשכר לימוד | AO1: קוד הכרה בציונים לבגרות | AP1: זכאי גמול הכנה לבגרות | AQ1: מגיש לבגרות | AR1: סוג חינוך לבגרות | AS1: גמולים חט"ע | AT1: תאור יוח"א | AU1: תוקף רשיון מאת | AV1: תוקף רשיון עד | AW1: קוד מחוז גאוגרפי | AX1: קוד גורם מדווח | AY1: קוד מעמד משפטי | AZ1: קוד מגזר | BA1: קוד סוג פיקוח | BB1: קוד יוח"א | BC1: קוד סוג חינוך מוסד | BD1: פרופיל מורים | BE1: אחוז רמת שרות
A2: 2002 | B2: 510982 | C2: אהבת ציון | D2: 409 | E2: 50005 | F2: תל אביב-יפו | G2: 50005 | H2: תל אביב - יפו | I2: יהודי | J2: מ"מ | K2: רשמי | L2: תל אביב | M2: תל אביב | N2: רגיל | O2: 11 | P2: בית ספר | Q2: 1 | R2: רגיל | S2: 10 | T2: יסודי בלבד | U2: 1 | V2: 6 | W2: ברורה מטרסו | X2: הלמר אסתר | Y2: 03-605-5475 | Z2: 03-604-9986 | AA2: 16 רח כהנשטם | AC2: 942 | AD2: 62193 | AE2: 16 רח כהנשטם | AF2: 50005 | AG2: תל אביב - יפו | AI2: Y-ahavat-tlv-M@kishurim.k12.il | AJ2: 1950 | AK2: 0 | AL2: 0 | AM2: 0 | AN2: 0 | AO2: 0 | AP2: 0 | AQ2: 0 | AR2: 0 | AS2: 0 | AW2: 5 | AX2: 5 | AY2: 1 | AZ2: 1 | BA2: 1 | BC2: 1 | BD2: 0 | BE2: 0
A3: 2002 | B3: 511006 | C3: אוסישקין | D3: 184 | E3: 50005 | F3: תל אביב-יפו | G3: 50005 | H3: תל אביב - יפו | I3: יהודי | J3: מ"מ | K3: רשמי | L3: תל אביב | M3: תל אביב | N3: רגיל | O3: 11 | P3: בית ספר | Q3: 1 | R3: רגיל | S3: 10 | T3: יסודי בלבד | U3: 1 | V3: 6 | W3: ענת גואטה | X3: הלמר אסתר | Y3: 03-604-4362 | Z3: 03-602-0623 | AA3: 31 שמעון התרסי | AC3: 6007 | AD3: 62492 | AE3: 31 שמעון התרסי | AF3: 50005 | AG3: תל אביב - יפו | AI3: Y-osishk-tlv-M@kishurim.k12.il | AJ3: 1950 | AK3: 0 | AL3: 0 | AM3: 0 | AN3: 0 | AO3: 0 | AP3: 0 | AQ3: 0 | AR3: 0 | AS3: 0 | AW3: 5 | AX3: 5 | AY3: 1 | AZ3: 1 | BA3: 1 | BC3: 1 | BD3: 0 | BE3: 0
A4: 2002 | B4: 511030 | C4: אילון | D4: 385 | E4: 50005 | F4: תל אביב-יפו | G4: 50005 | H4: תל אביב - יפו | I4: יהודי | J4: מ"מ | K4: רשמי | L4: תל אביב | M4: תל אביב | N4: רגיל | O4: 11 | P4: בית ספר | Q4: 1 | R4: רגיל | S4: 10 | T4: יסודי בלבד | U4: 1 | V4: 6 | W4: כדן קרלמן | X4: לוטן קרבר שרה | Y4: 03-695-3845 | Z4: 03-696-4092 | AA4: 35 נחלת יצחק | AC4: 2506 | AD4: 67449 | AE4: 35 נחלת יצחק | AF4: 50005 | AG4: תל אביב - יפו | AI4: Y-Ayalon-tlv-C@kishurim.k12.il | AJ4: 1960 | AK4: 0 | AL4: 0 | AM4: 0 | AN4: 0 | AO4: 0 | AP4: 0 | AQ4: 0 | AR4: 0 | AS4: 0 | AW4: 5 | AX4: 5 | AY4: 1 | AZ4: 1 | BA4: 1 | BC4: 1 | BD4: 0 | BE4: 0
A5: 2002 | B5: 511048 | C5: אילנות | D5: 308 | E5: 50005 | F5: תל אביב-יפו | G5: 50005 | H5: תל אביב - יפו | I5: יהודי | J5: מ"מ | K5: רשמי | L5: תל אביב | M5: תל אביב | N5: רגיל | O5: 11 | P5: בית ספר | Q5: 1 | R5: רגיל | S5: 10 | T5: יסודי בלבד | U5: 0 | V5: 6 | W5: עירית ויטל | X5: הלמר אסתר | Y5: 03-641-3567 | Z5: 03-642-8626 | AA5: 11 רח גרונימן | AC5: 117 | AD5: 69972 | AE5: 11 רח גרונימן | AF5: 50005 | AG5: תל אביב - יפו | AI5: Y-ilano-tlv-S@kishurim.k12.il | AJ5: 1950 | AK5: 0 | AL5: 0 | AM5: 0 | AN5: 0 | AO5: 0 | AP5: 0 | AQ5: 0 | AR5: 0 | AS5: 0 | AW5: 5 | AX5: 5 | AY5: 1 | AZ5: 1 | BA5: 1 | BC5: 1 | BD5: 0 | BE5: 0
A6: 2002 | B6: 511071 | C6: אלחריזי | D6: 598 | E6: 50005 | F6: תל אביב-יפו | G6: 50005 | H6: תל אביב - יפו | I6: יהודי | J6: מ"מ | K6: רשמי | L6: תל אביב | M6: תל אביב | N6: רגיל | O6: 11 | P6: בית ספר | Q6: 1 | R6: רגיל | S6: 10 | T6: יסודי בלבד | U6: 1 | V6: 6 | W6: יעל ליברמן | X6: לוטן קרבר שרה | Y6: 03-647-9992 | Z6: 03-648-7999 | AA6: מגדל שרשן 17 , תל-בר | AC6: 216 | AD6: 69015 | AE6: מגדל שרשן 17 , תל-בר | AF6: 50005 | AG6: תל אביב - יפו | AI6: Y-elchar-tlv-M@kishurim.k12.il | AJ6: 1950 | AK6: 0 | AL6: 0 | AM6: 0 | AN6: 0 | AO6: 0 | AP6: 0 | AQ6: 0 | AR6: 0 | AS6: 0 | AW6: 5 | AX6: 5 | AY6: 1 | AZ6: 1 | BA6: 1 | BC6: 1 | BD6: 0 | BE6: 0
A7: 2002 | B7: 511113 | C7: ביאליק | D7: 243 | E7: 50005 | F7: תל אביב-יפו | G7: 50005 | H7: תל אביב - יפו | I7: יהודי | J7: מ"מ | K7: רשמי | L7: תל אביב | M7: תל אביב | N7: רגיל | O7: 11 | P7: בית ספר | Q7: 1 | R7: רגיל | S7: 10 | T7: יסודי בלבד | U7: 1 | V7: 6 | W7: עמירה יהלום | X7: לוטן קרבר שרה | Y7: 03-687-1606 | Z7: 03-687-1606 | AA7: 95 לוינסקי | AC7: 2235 | AD7: 66052 | AE7: 95 לוינסקי | AF7: 50005 | AG7: תל אביב - יפו | AI7: Y-bialik-tlv-C@kishurim.k12.il | AJ7: 1950 | AK7: 0 | AL7: 1 | AM7: 1 | AN7: 0 | AO7: 0 | AP7: 0 | AQ7: 0 | AR7: 0 | AS7: 0 | AT7: יוחא מלא | AW7: 5 | AX7: 5 | AY7: 1 | AZ7: 1 | BA7: 1 | BB7: 1 | BC7: 1 | BD7: 0 | BE7: 0
A8: 2002 | B8: 511121 | C8: בלפור | D8: 406 | E8: 50005 | F8: תל אביב-יפו | G8: 50005 | H8: תל אביב - יפו | I8: יהודי | J8: מ"מ | K8: רשמי | L8: תל אביב | M8: תל אביב | N8: רגיל | O8: 11 | P8: בית ספר | Q8: 1 | R8: רגיל | S8: 10 | T8: יסודי בלבד | U8: 1 | V8: 6 | W8: אורלי פרלמן | X8: לוטן קרבר שרה | Y8: 03-629-8285 | Z8: 03-525-6748 | AA8: 12 בלפור | AC8: 1265 | AD8: 65211 | AE8: 12 בלפור | AF8: 50005 | AG8: תל אביב - יפו | AI8: Y-balfur-tlv-M@kishurim.k12.il | AJ8: 1950 | AK8: 0 | AL8: 0 | AM8: 0 | AN8: 0 | AO8: 0 | AP8: 0 | AQ8: 0 | AR8: 0 | AS8: 0 | AW8: 5 | AX8: 5 | AY8: 1 | AZ8: 1 | BA8: 1 | BC8: 1 | BD8: 0 | BE8: 0
A9: 2002 | B9: 511162 | C9: ברנר | D9: 281 | E9: 50005 | F9: תל אביב-יפו | G9: 50005 | H9: תל אביב - יפו | I9: יהודי | J9: מ"מ | K9: רשמי | L9: תל אביב | M9: תל אביב | N9: רגיל | O9: 11 | P9: בית ספר | Q9: 1 | R9: רגיל | S9: 10 | T9: יסודי בלבד | U9: 1 | V9: 6 | W9: רבקה לוי | X9: הלמר אסתר | Y9: 03-682-3001 | Z9: 03-518-2695 | AA9: דקל 2 נוה עופר | AC9: 3009 | AD9: 68106 | AE9: דקל 2 נוה עופר | AF9: 50005 | AG9: תל אביב - יפו | AI9: Y-brener-tlv-M@kishurim.k12.il | AJ9: 1960 | AK9: 0 | AL9: 1 | AM9: 1 | AN9: 0 | AO9: 0 | AP9: 0 | AQ9: 0 | AR9: 0 | AS9: 0 | AT9: יוחא מלא | AW9: 5 | AX9: 5 | AY9: 1 | AZ9: 1 | BA9: 1 | BB9: 1 | BC9: 1 | BD9: 0 | BE9: 0
A10: 2002 | B10: 511170 | C10: גבורי ישראל | D10: 360 | E10: 50005 | F10: תל אביב-יפו | G10: 50005 | H10: תל אביב - יפו | I10: יהודי | J10: מ"מ | K10: רשמי | L10: תל אביב | M10: תל אביב | N10: רגיל | O10: 11 | P10: בית ספר | Q10: 1 | R10: רגיל | S10: 10 | T10: יסודי בלבד | U10: 1 | V10: 6 | W10: כרמלה מרוז | X10: דרן רונית | Y10: 03-739-7453 | Z10: 03-739-7453 | AA10: 18 שד' יד לבנים | AC10: 2642 | AD10: 67224 | AE10: 18 שד' יד לבנים | AF10: 50005 | AG10: תל אביב - יפו | AI10: Y-gibore-tlv-M@kishurim.k12.il | AJ10: 1960 | AK10: 0 | AL10: 0 | AM10: 0 | AN10: 0 | AO10: 0 | AP10: 0 | AQ10: 0 | AR10: 0 | AS10: 0 | AW10: 5 | AX10: 5 | AY10: 1 | AZ10: 1 | BA10: 1 | BC10: 1 | BD10: 0 | BE10: 0
A11: 2002 | B11: 511188 | C11: גבעת השלום | D11: 194 | E11: 50005 | F11: תל אביב-יפו | G11: 50005 | H11: תל אביב - יפו | I11: יהודי | J11: מ"מ | K11: רשמי | L11: תל אביב | M11: תל אביב | N11: רגיל | O11: 11 | P11: בית ספר | Q11: 1 | R11: רגיל | S11: 10 | T11: יסודי בלבד | U11: 1 | V11: 6 | W11: חנה אבני | X11: דרן רונית | Y11: 03-681-4751 | Z11: 03-682-6901 | AA11: רח החצוצרה 8 ק-שלום | AC11: 2418 | AD11: 66761 | AE11: רח החצוצרה 8 ק-שלום | AF11: 50005 | AG11: תל אביב - יפו | AI11: Y-shalom-tlv-M@kishurim.k12.il | AJ11: 1960 | AK11: 0 | AL11: 0 | AM11: 1 | AN11: 0 | AO11: 0 | AP11: 0 | AQ11: 0 | AR11: 0 | AS11: 0 | AW11: 5 | AX11: 5 | AY11: 1 | AZ11: 1 | BA11: 1 | BC11: 1 | BD11: 0 | BE11: 0
A12: 2002 | B12: 511196 | C12: גבעת התמרים | D12: 255 | E12: 50005 | F12: תל אביב-יפו | G12: 50005 | H12: תל אביב - יפו | I12: יהודי | J12: מ"מ | K12: רשמי | L12: תל אביב | M12: תל אביב | N12: רגיל | O12: 11 | P12: בית ספר | Q12: 1 | R12: רגיל | S12: 10 | T12: יסודי בלבד | U12: 1 | V12: 6 | W12: רון נתן | X12: דרן רונית | Y12: 03-506-3463 | Z12: 03-659-8242 | AA12: קהילת קנדה 3 , יפו | AC12: 3004 | AD12: 68077 | AE12: קהילת קנדה 3 , יפו | AF12: 50005 | AG12: תל אביב - יפו | AI12: Y-hatmar-tlv-M@kishurim.k12.il | AJ12: 1960 | AK12: 0 | AL12: 0 | AM12: 1 | AN12: 0 | AO12: 0 | AP12: 0 | AQ12: 0 | AR12: 0 | AS12: 0 | AW12: 5 | AX12: 5 | AY12: 1 | AZ12: 1 | BA12: 1 | BC12: 1 | BD12: 0 | BE12: 0
A13: 2002 | B13: 511204 | C13: גולומב | D13: 270 | E13: 50005 | F13: תל אביב-יפו | G13: 50005 | H13: תל אביב - יפו | I13: יהודי | J13: מ"מ | K13: רשמי | L13: תל אביב | M13: תל אביב | N13: רגיל | O13: 11 | P13: בית ספר | Q13: 1 | R13: רגיל | S13: 10 | T13: יסודי בלבד | U13: 1 | V13: 6 | W13: ג'ינה אלישקביץ | X13: לוטן קרבר שרה | Y13: 03-739-5858 | Z13: 03-631-6088 | AA13: 186 דרך חיים בר-לב | AC13: 2964 | AD13: 67291 | AE13: 186 דרך חיים בר-לב | AF13: 50005 | AG13: תל אביב - יפו | AI13: Y-golomb-tlv-M@kishurim.k12.il | AJ13: 1960 | AK13: 0 | AL13: 1 | AM13: 1 | AN13: 0 | AO13: 0 | AP13: 0 | AQ13: 0 | AR13: 0 | AS13: 0 | AW13: 5 | AX13: 5 | AY13: 1 | AZ13: 1 | BA13: 1 | BC13: 1 | BD13: 0 | BE13: 0
A14: 2002 | B14: 511212 | C14: א. ד. גורדון | D14: 417 | E14: 50005 | F14: תל אביב-יפו | G14: 50005 | H14: תל אביב - יפו | I14: יהודי | J14: מ"מ | K14: רשמי | L14: תל אביב | M14: תל אביב | N14: רגיל | O14: 11 | P14: בית ספר | Q14: 1 | R14: רגיל | S14: 10 | T14: יסודי בלבד | U14: 1 | V14: 6 | W14: מדלנה טרייסטר | X14: הלמר אסתר | Y14: 03-546-5869 | Z14: 03-544-0383 | AA14: 248 הירקון | AC14: 461 | AD14: 63409 | AE14: 248 הירקון | AF14: 50005 | AG14: תל אביב - יפו | AI14: Y-gordon-tlv-M@kishurim.k12.il | AJ14: 1950 | AK14: 0 | AL14: 0 | AM14: 0 | AN14: 0 | AO14: 0 | AP14: 0 | AQ14: 0 | AR14: 0 | AS14: 0 | AW14: 5 | AX14: 5 | AY14: 1 | AZ14: 1 | BA14: 1 | BC14: 1 | BD14: 0 | BE14: 0
A15: 2002 | B15: 511220 | C15: גרץ | D15: 402 | E15: 50005 | F15: תל אביב-יפו | G15: 50005 | H15: תל אביב - יפו | I15: יהודי | J15: מ"מ | K15: רשמי | L15: תל אביב | M15: תל אביב | N15: רגיל | O15: 11 | P15: בית ספר | Q15: 1 | R15: רגיל | S15: 10 | T15: יסודי בלבד | U15: 1 | V15: 6 | W15: מוניקה קורנבליט | X15: הלמר אסתר | Y15: 03-522-0034 | Z15: 03-527-0604 | AA15: 5 אדם הכהן | AC15: 533 | AD15: 64585 | AE15: 5 אדם הכהן | AF15: 50005 | AG15: תל אביב - יפו | AI15: Y-gretz-tlv-M@kishurim.k12.il | AJ15: 1960 | AK15: 0 | AL15: 0 | AM15: 0 | AN15: 0 | AO15: 0 | AP15: 0 | AQ15: 0 | AR15: 0 | AS15: 0 | AW15: 5 | AX15: 5 | AY15: 1 | AZ15: 1 | BA15: 1 | BC15: 1 | BD15: 0 | BE15: 0
A16: 2002 | B16: 511246 | C16: דוד ילין | D16: 357 | E16: 50005 | F16: תל אביב-יפו | G16: 50005 | H16: תל אביב - יפו | I16: יהודי | J16: מ"מ | K16: רשמי | L16: תל אביב | M16: תל אביב | N16: רגיל | O16: 11 | P16: בית ספר | Q16: 1 | R16: רגיל | S16: 10 | T16: יסודי בלבד | U16: 1 | V16: 6 | W16: עירית ימיני | X16: לוטן קרבר שרה | Y16: 03-647-8878 | Z16: 03-648-6352 | AA16: 12 קהילת ורשה | AC16: 230 | AD16: 69700 | AE16: 12 קהילת ורשה | AF16: 50005 | AG16: תל אביב - יפו | AI16: Y-davidy-tlv-C@kishurim.k12.il | AJ16: 1960 | AK16: 0 | AL16: 0 | AM16: 0 | AN16: 0 | AO16: 0 | AP16: 0 | AQ16: 0 | AR16: 0 | AS16: 0 | AW16: 5 | AX16: 5 | AY16: 1 | AZ16: 1 | BA16: 1 | BC16: 1 | BD16: 0 | BE16: 0
A17: 2002 | B17: 511261 | C17: דוד בלוך | D17: 185 | E17: 50005 | F17: תל אביב-יפו | G17: 50005 | H17: תל אביב - יפו | I17: יהודי | J17: מ"מ | K17: רשמי | L17: תל אביב | M17: תל אביב | N17: רגיל | O17: 11 | P17: בית ספר | Q17: 1 | R17: רגיל | S17: 10 | T17: יסודי בלבד | U17: 0 | V17: 6 | W17: רעות גורדון | X17: לוטן קרבר שרה | Y17: 03-562-4991 | Z17: 03-561-8306 | AA17: 19 בצרון | AC17: 0 | AD17: 67895 | AE17: 19 בצרון | AF17: 50005 | AG17: תל אביב - יפו | AI17: Y-bloch-tlv-M@kishurim.k12.il | AJ17: 1960 | AK17: 0 | AL17: 0 | AM17: 0 | AN17: 0 | AO17: 0 | AP17: 0 | AQ17: 0 | AR17: 0 | AS17: 0 | AW17: 5 | AX17: 5 | AY17: 1 | AZ17: 1 | BA17: 1 | BC17: 1 | BD17: 0 | BE17: 0
A18: 2002 | B18: 511279 | C18: הגליל | D18: 362 | E18: 50005 | F18: תל אביב-יפו | G18: 50005 | H18: תל אביב - יפו | I18: יהודי | J18: מ"מ | K18: רשמי | L18: תל אביב | M18: תל אביב | N18: רגיל | O18: 11 | P18: בית ספר | Q18: 1 | R18: רגיל | S18: 10 | T18: יסודי בלבד | U18: 1 | V18: 6 | W18: ברכה ברגר | X18: לוטן קרבר שרה | Y18: 03-739-3504 | Z18: 03-631-6132 | AA18: 4 גבעתי | AC18: 2632 | AD18: 67651 | AE18: 4 גבעתי | AF18: 50005 | AG18: תל אביב - יפו | AI18: Y-hagali-tlv-M@kishurim.k12.il | AJ18: 1960 | AK18: 0 | AL18: 1 | AM18: 0 | AN18: 0 | AO18: 0 | AP18: 0 | AQ18: 0 | AR18: 0 | AS18: 0 | AT18: יוחא מלא | AW18: 5 | AX18: 5 | AY18: 1 | AZ18: 1 | BA18: 1 | BB18: 1 | BC18: 1 | BD18: 0 | BE18: 0
A19: 2002 | B19: 511303 | C19: החי"ל | D19: 200 | E19: 50005 | F19: תל אביב-יפו | G19: 50005 | H19: תל אביב - יפו | I19: יהודי | J19: מ"מ | K19: רשמי | L19: תל אביב | M19: תל אביב | N19: רגיל | O19: 11 | P19: בית ספר | Q19: 1 | R19: רגיל | S19: 10 | T19: יסודי בלבד | U19: 0 | V19: 6 | W19: מיכל חן-חלפון | X19: לוטן קרבר שרה | Y19: 03-537-2902 | Z19: 03-639-3169 | AA19: התשעים ושלוש יד-אליה | AC19: 2654 | AD19: 67617 | AE19: התשעים ושלוש יד-אליה | AF19: 50005 | AG19: תל אביב - יפו | AJ19: 1960 | AK19: 0 | AL19: 1 | AM19: 1 | AN19: 0 | AO19: 0 | AP19: 0 | AQ19: 0 | AR19: 0 | AS19: 0 | AW19: 5 | AX19: 5 | AY19: 1 | AZ19: 1 | BA19: 1 | BC19: 1 | BD19: 0 | BE19: 0
A20: 2002 | B20: 511329 | C20: היובל | D20: 299 | E20: 50005 | F20: תל אביב-יפו | G20: 50005 | H20: תל אביב - יפו | I20: יהודי | J20: מ"מ | K20: רשמי | L20: תל אביב | M20: תל אביב | N20: רגיל | O20: 11 | P20: בית ספר | Q20: 1 | R20: רגיל | S20: 10 | T20: יסודי בלבד | U20: 1 | V20: 6 | W20: דוד רונן | X20: הלמר אסתר | Y20: 03-696-5747 | Z20: 03-522-9042 | AA20: 19 מודליאני | AC20: 1019 | AD20: 64687 | AE20: 19 מודליאני | AF20: 50005 | AG20: תל אביב - יפו | AI20: Y-hayove-tlv-M@kishurim.k12.il | AJ20: 1950 | AK20: 0 | AL20: 0 | AM20: 0 | AN20: 0 | AO20: 0 | AP20: 0 | AQ20: 0 | AR20: 0 | AS20: 0 | AW20: 5 | AX20: 5 | AY20: 1 | AZ20: 1 | BA20: 1 | BC20: 1 | BD20: 0 | BE20: 0
A21: 2002 | B21: 511337 | C21: הירדן | D21: 263 | E21: 50005 | F21: תל אביב-יפו | G21: 50005 | H21: תל אביב - יפו | I21: יהודי | J21: מ"מ | K21: רשמי | L21: תל אביב | M21: תל אביב | N21: רגיל | O21: 11 | P21: בית ספר | Q21: 1 | R21: רגיל | S21: 10 | T21: יסודי בלבד | U21: 0 | V21: 6 | W21: ציפי אברהמי | X21: לוטן קרבר שרה | Y21: 03-688-2931 | Z21: 03-537-5549 | AA21: המושיע 21 , שכ' התקו | AC21: 2743 | AD21: 67635 | AE21: המושיע 21 , שכ' התקו | AF21: 50005 | AG21: תל אביב - יפו | AI21: Y-hayard-tlv-M@kishurim.k12.il | AJ21: 1950 | AK21: 0 | AL21: 1 | AM21: 1 | AN21: 0 | AO21: 0 | AP21: 0 | AQ21: 0 | AR21: 0 | AS21: 0 | AT21: יוחא מלא | AW21: 5 | AX21: 5 | AY21: 1 | AZ21: 1 | BA21: 1 | BB21: 1 | BC21: 1 | BD21: 0 | BE21: 0
A22: 2002 | B22: 511352 | C22: גבריאלי-הכרמל | D22: 449 | E22: 50005 | F22: תל אביב-יפו | G22: 50005 | H22: תל אביב - יפו | I22: יהודי | J22: מ"מ | K22: רשמי | L22: תל אביב | M22: תל אביב | N22: רגיל | O22: 11 | P22: בית ספר | Q22: 1 | R22: רגיל | S22: 10 | T22: יסודי בלבד | U22: 0 | V22: 6 | W22: יפה אלון | X22: הלמר אסתר | Y22: 03-528-8331 | Z22: 03-525-0240 | AA22: 21 שפירא | AC22: 0 | AD22: 64358 | AE22: 21 שפירא | AF22: 50005 | AG22: תל אביב - יפו | AI22: Y-gavrie-tlv-S@kishurim.k12.il | AJ22: 1960 | AK22: 0 | AL22: 0 | AM22: 0 | AN22: 0 | AO22: 0 | AP22: 0 | AQ22: 0 | AR22: 0 | AS22: 0 | AW22: 5 | AX22: 5 | AY22: 1 | AZ22: 1 | BA22: 1 | BC22: 1 | BD22: 0 | BE22: 0
A23: 2002 | B23: 511386 | C23: משה הס | D23: 183 | E23: 50005 | F23: תל אביב-יפו | G23: 50005 | H23: תל אביב - יפו | I23: יהודי | J23: מ"מ | K23: רשמי | L23: תל אביב | M23: תל אביב | N23: רגיל | O23: 11 | P23: בית ספר | Q23: 1 | R23: רגיל | S23: 10 | T23: יסודי בלבד | U23: 0 | V23: 6 | W23: אלונה לפידות | X23: לוטן קרבר שרה | Y23: 03-571-1871 | Z23: 03-573-1984 | AA23: 50 עמישב | AC23: 2604 | AD23: 67192 | AE23: 50 עמישב | AF23: 50005 | AG23: תל אביב - יפו | AJ23: 1960 | AK23: 0 | AL23: 0 | AM23: 0 | AN23: 0 | AO23: 0 | AP23: 0 | AQ23: 0 | AR23: 0 | AS23: 0 | AW23: 5 | AX23: 5 | AY23: 1 | AZ23: 1 | BA23: 1 | BC23: 1 | BD23: 0 | BE23: 0
A24: 2002 | B24: 511451 | C24: שרת | D24: 301 | E24: 50005 | F24: תל אביב-יפו | G24: 50005 | H24: תל אביב - יפו | I24: יהודי | J24: מ"מ | K24: רשמי | L24: תל אביב | M24: תל אביב | N24: רגיל | O24: 11 | P24: בית ספר | Q24: 1 | R24: רגיל | S24: 10 | T24: יסודי בלבד | U24: 1 | V24: 6 | W24: לאה זיידה | X24: לוטן קרבר שרה | Y24: 03-647-4683 | Z24: 03-648-2318 | AA24: בית אל 45 , נוה שרת | AC24: 639 | AD24: 69087 | AE24: בית אל 45 , נוה שרת | AF24: 50005 | AG24: תל אביב - יפו | AI24: Y-sharet-tlv-M@kishurim.k12.il | AJ24: 1960 | AK24: 0 | AL24: 0 | AM24: 1 | AN24: 0 | AO24: 0 | AP24: 0 | AQ24: 0 | AR24: 0 | AS24: 0 | AW24: 5 | AX24: 5 | AY24: 1 | AZ24: 1 | BA24: 1 | BC24: 1 | BD24: 0 | BE24: 0
A25: 2002 | B25: 511477 | C25: הנשיא ויצמן | D25: 342 | E25: 50005 | F25: תל אביב-יפו | G25: 50005 | H25: תל אביב - יפו | I25: יהודי | J25: מ"מ | K25: רשמי | L25: תל אביב | M25: תל אביב | N25: רגיל | O25: 11 | P25: בית ספר | Q25: 1 | R25: רגיל | S25: 10 | T25: יסודי בלבד | U25: 0 | V25: 6 | W25: שרה שרון | X25: דרן רונית | Y25: 03-682-3450 | Z25: 03-682-3450 | AA25: פסטלוצ'י 34 , יפו | AC25: 1968 | AD25: 68095 | AE25: פסטלוצ'י 34 , יפו | AF25: 50005 | AG25: תל אביב - יפו | AI25: Y-weizma-tlv-M@kishurim.k12.il | AJ25: 1960 | AK25: 0 | AL25: 1 | AM25: 0 | AN25: 0 | AO25: 0 | AP25: 0 | AQ25: 0 | AR25: 0 | AS25: 0 | AT25: יוחא מלא | AW25: 5 | AX25: 5 | AY25: 1 | AZ25: 1 | BA25: 1 | BB25: 1 | BC25: 1 | BD25: 0 | BE25: 0
A26: 2002 | B26: 511576 | C26: מגן | D26: 419 | E26: 50005 | F26: תל אביב-יפו | G26: 50005 | H26: תל אביב - יפו | I26: יהודי | J26: מ"מ | K26: רשמי | L26: תל אביב | M26: תל אביב | N26: רגיל | O26: 11 | P26: בית ספר | Q26: 1 | R26: רגיל | S26: 10 | T26: יסודי בלבד | U26: 1 | V26: 6 | W26: ניר אורנה | X26: לוטן קרבר שרה | Y26: 03-647-9130 | Z26: 03-647-2712 | AA26: קדש ברנע 4 , מעוז אב | AC26: 263 | AD26: 69986 | AE26: קדש ברנע 4 , מעוז אב | AF26: 50005 | AG26: תל אביב - יפו | AI26: Y-magen-tlv-M@kishurim.k12.il | AJ26: 1960 | AK26: 0 | AL26: 0 | AM26: 0 | AN26: 0 | AO26: 0 | AP26: 0 | AQ26: 0 | AR26: 0 | AS26: 0 | AW26: 5 | AX26: 5 | AY26: 1 | AZ26: 1 | BA26: 1 | BC26: 1 | BD26: 0 | BE26: 0
A27: 2002 | B27: 511634 | C27: צהלה | D27: 529 | E27: 50005 | F27: תל אביב-יפו | G27: 50005 | H27: תל אביב - יפו | I27: יהודי | J27: מ"מ | K27: רשמי | L27: תל אביב | M27: תל אביב | N27: רגיל | O27: 11 | P27: בית ספר | Q27: 1 | R27: רגיל | S27: 10 | T27: יסודי בלבד | U27: 1 | V27: 6 | W27: אירית שקדי | X27: לוטן קרבר שרה | Y27: 03-647-2593 | Z27: 03-648-2353 | AA27: עשהאל 3 , צהלה | AC27: 321 | AD27: 69803 | AE27: עשהאל 3 , צהלה | AF27: 50005 | AG27: תל אביב - יפו | AI27: Y-zahala-tlv-M@kishurim.k12.il | AJ27: 1960 | AK27: 0 | AL27: 0 | AM27: 0 | AN27: 0 | AO27: 0 | AP27: 0 | AQ27: 0 | AR27: 0 | AS27: 0 | AW27: 5 | AX27: 5 | AY27: 1 | AZ27: 1 | BA27: 1 | BC27: 1 | BD27: 0 | BE27: 0
A28: 2002 | B28: 511642 | C28: רוקח | D28: 295 | E28: 50005 | F28: תל אביב-יפו | G28: 50005 | H28: תל אביב - יפו | I28: יהודי | J28: מ"מ | K28: רשמי | L28: תל אביב | M28: תל אביב | N28: רגיל | O28: 11 | P28: בית ספר | Q28: 1 | R28: רגיל | S28: 10 | T28: יסודי בלבד | U28: 1 | V28: 6 | W28: אדית דסקל | X28: דרן רונית | Y28: 03-739-6287 | Z28: 03-739-6287 | AA28: החי"ל 29 , יד-אליהו | AC28: 2665 | AD28: 67315 | AE28: החי"ל 29 , יד-אליהו | AF28: 50005 | AG28: תל אביב - יפו | AI28: Y-rokach-tlv-M@kishurim.k12.il | AJ28: 1960 | AK28: 0 | AL28: 0 | AM28: 0 | AN28: 0 | AO28: 0 | AP28: 0 | AQ28: 0 | AR28: 0 | AS28: 0 | AW28: 5 | AX28: 5 | AY28: 1 | AZ28: 1 | BA28: 1 | BC28: 1 | BD28: 0 | BE28: 0
A29: 2002 | B29: 511659 | C29: רמז | D29: 229 | E29: 50005 | F29: תל אביב-יפו | G29: 50005 | H29: תל אביב - יפו | I29: יהודי | J29: מ"מ | K29: רשמי | L29: תל אביב | M29: תל אביב | N29: רגיל | O29: 11 | P29: בית ספר | Q29: 1 | R29: רגיל | S29: 10 | T29: יסודי בלבד | U29: 1 | V29: 6 | W29: אריה גרינברגר | X29: דרן רונית | Y29: 03-682-1935 | Z29: 03-682-4897 | AA29: קפלנסקי 2 , ק-שלום | AC29: 2418 | AD29: 66870 | AE29: קפלנסקי 2 , ק-שלום | AF29: 50005 | AG29: תל אביב - יפו | AJ29: 1960 | AK29: 0 | AL29: 0 | AM29: 1 | AN29: 0 | AO29: 0 | AP29: 0 | AQ29: 0 | AR29: 0 | AS29: 0 | AW29: 5 | AX29: 5 | AY29: 1 | AZ29: 1 | BA29: 1 | BC29: 1 | BD29: 0 | BE29: 0
A30: 2002 | B30: 511667 | C30: רמת החיל | D30: 256 | E30: 50005 | F30: תל אביב-יפו | G30: 50005 | H30: תל אביב - יפו | I30: יהודי | J30: מ"מ | K30: רשמי | L30: תל אביב | M30: תל אביב | N30: רגיל | O30: 11 | P30: בית ספר | Q30: 1 | R30: רגיל | S30: 10 | T30: יסודי בלבד | U30: 1 | V30: 6 | W30: דליה כרמון | X30: לוטן קרבר שרה | Y30: 03-647-6316 | Z30: 03-647-4384 | AA30: רח ק"ם 65 , רמת-החיי | AC30: 367 | AD30: 69278 | AE30: רח ק"ם 65 , רמת-החיי | AF30: 50005 | AG30: תל אביב - יפו | AI30: Y-hachay-tlv-M@kishurim.k12.il | AJ30: 1950 | AK30: 0 | AL30: 0 | AM30: 0 | AN30: 0 | AO30: 0 | AP30: 0 | AQ30: 0 | AR30: 0 | AS30: 0 | AW30: 5 | AX30: 5 | AY30: 1 | AZ30: 1 | BA30: 1 | BC30: 1 | BD30: 0 | BE30: 0
A31: 2002 | B31: 511675 | C31: שפירא | D31: 336 | E31: 50005 | F31: תל אביב-יפו | G31: 50005 | H31: תל אביב - יפו | I31: יהודי | J31: מ"מ | K31: רשמי | L31: תל אביב | M31: תל אביב | N31: רגיל | O31: 11 | P31: בית ספר | Q31: 1 | R31: רגיל | S31: 10 | T31: יסודי בלבד | U31: 1 | V31: 6 | W31: אירית גרינברג | X31: דרן רונית | Y31: 03-571-2416 | Z31: 03-571-2416 | AA31: הצבי 5 , רמת הטייסי | AC31: 2607 | AD31: 67197 | AE31: הצבי 5 , רמת הטייסי | AF31: 50005 | AG31: תל אביב - יפו | AI31: Y-shapir-tlv-M@kishurim.k12.il | AJ31: 1960 | AK31: 0 | AL31: 0 | AM31: 0 | AN31: 0 | AO31: 0 | AP31: 0 | AQ31: 0 | AR31: 0 | AS31: 0 | AW31: 5 | AX31: 5 | AY31: 1 | AZ31: 1 | BA31: 1 | BC31: 1 | BD31: 0 | BE31: 0
A32: 2002 | B32: 511725 | C32: תל-נורדוי | D32: 276 | E32: 50005 | F32: תל אביב-יפו | G32: 50005 | H32: תל אביב - יפו | I32: יהודי | J32: מ"מ | K32: רשמי | L32: תל אביב | M32: תל אביב | N32: רגיל | O32: 11 | P32: בית ספר | Q32: 1 | R32: רגיל | S32: 10 | T32: יסודי בלבד | U32: 0 | V32: 6 | W32: מלי הראל | X32: הלמר אסתר | Y32: 03-522-3732 | Z32: 03-527-3259 | AA32: 19 מנדלי | AC32: 617 | AD32: 63563 | AE32: 19 מנדלי | AF32: 50005 | AG32: תל אביב - יפו | AI32: Y-nordau-tlv-M@kishurim.k12.il | AJ32: 1960 | AK32: 0 | AL32: 0 | AM32: 0 | AN32: 0 | AO32: 0 | AP32: 0 | AQ32: 0 | AR32: 0 | AS32: 0 | AW32: 5 | AX32: 5 | AY32: 1 | AZ32: 1 | BA32: 1 | BC32: 1 | BD32: 0 | BE32: 0
A33: 2002 | B33: 511782 | C33: דיזנגוף | D33: 213 | E33: 50005 | F33: תל אביב-יפו | G33: 50005 | H33: תל אביב - יפו | I33: יהודי | J33: חמ"ד | K33: רשמי | L33: תל אביב | M33: תל אביב | N33: רגיל | O33: 11 | P33: בית ספר | Q33: 1 | R33: רגיל | S33: 10 | T33: יסודי בלבד | U33: 1 | V33: 6 | W33: שולמית כהן צדק | X33: עודד נסים הדרה | Y33: 03-546-3757 | Z33: 03-544-4592 | AA33: 221 דיזנגוף | AC33: 454 | AD33: 67437 | AE33: 221 דיזנגוף | AF33: 50005 | AG33: תל אביב - יפו | AI33: Y-dizeng-tlv-M@kishurim.k12.il | AJ33: 1960 | AK33: 0 | AL33: 1 | AM33: 1 | AN33: 0 | AO33: 0 | AP33: 0 | AQ33: 0 | AR33: 0 | AS33: 0 | AT33: יוחא מלא | AW33: 5 | AX33: 5 | AY33: 1 | AZ33: 1 | BA33: 2 | BB33: 1 | BC33: 1 | BD33: 0 | BE33: 0
A34: 2002 | B34: 511790 | C34: בעל שם טוב מד | D34: 182 | E34: 50005 | F34: תל אביב-יפו | G34: 50005 | H34: תל אביב - יפו | I34: יהודי | J34: חמ"ד | K34: רשמי | L34: תל אביב | M34: תל אביב | N34: רגיל | O34: 11 | P34: בית ספר | Q34: 1 | R34: רגיל | S34: 10 | T34: יסודי בלבד | U34: 0 | V34: 6 | W34: מירה פנחס | X34: עודד נסים הדרה | Y34: 03-631-3211 | Z34: 03-739-1270 | AA34: 35 צביה לובטקין | AC34: 0 | AD34: 67659 | AE34: 35 צביה לובטקין | AF34: 50005 | AG34: תל אביב - יפו | AJ34: 1950 | AK34: 0 | AL34: 1 | AM34: 1 | AN34: 0 | AO34: 0 | AP34: 0 | AQ34: 0 | AR34: 0 | AS34: 0 | AT34: יוחא מלא | AW34: 5 | AX34: 5 | AY34: 1 | AZ34: 1 | BA34: 2 | BB34: 1 | BC34: 1 | BD34: 0 | BE34: 0
A35: 2002 | B35: 511857 | C35: ישיבת תל אביב מד | D35: 36 | E35: 50005 | F35: תל אביב-יפו | G35: 50005 | H35: תל אביב - יפו | I35: יהודי | J35: חמ"ד | K35: רשמי | L35: תל אביב | M35: תל אביב | N35: רגיל | O35: 11 | P35: בית ספר | Q35: 1 | R35: רגיל | S35: 10 | T35: יסודי בלבד | U35: 1 | V35: 6 | W35: יוסף רוזנבלום | X35: שיוביץ יצחק | Y35: 03-524-5238 | Z35: 03-527-8198 | AA35: 9 פומפדיתא | AC35: 1025 | AD35: 64234 | AE35: 9 פומפדיתא | AF35: 50005 | AG35: תל אביב - יפו | AJ35: 1950 | AK35: 0 | AL35: 0 | AM35: 0 | AN35: 0 | AO35: 0 | AP35: 0 | AQ35: 0 | AR35: 0 | AS35: 0 | AW35: 5 | AX35: 5 | AY35: 1 | AZ35: 1 | BA35: 2 | BC35: 1 | BD35: 0 | BE35: 0
A36: 2002 | B36: 511865 | C36: מודיעים מד | D36: 220 | E36: 50005 | F36: תל אביב-יפו | G36: 50005 | H36: תל אביב - יפו | I36: יהודי | J36: חמ"ד | K36: רשמי | L36: תל אביב | M36: תל אביב | N36: רגיל | O36: 11 | P36: בית ספר | Q36: 1 | R36: רגיל | S36: 10 | T36: יסודי בלבד | U36: 1 | V36: 6 | W36: שושנה פריאל | X36: עודד נסים הדרה | Y36: 03-537-3668 | Z36: 03-688-8413 | AA36: 31 יגאל אלון | AC36: 2524 | AD36: 67726 | AE36: 31 יגאל אלון | AF36: 50005 | AG36: תל אביב - יפו | AI36: Y-modiim-tlv-M@kishurim.k12.il | AJ36: 1960 | AK36: 0 | AL36: 1 | AM36: 1 | AN36: 0 | AO36: 0 | AP36: 0 | AQ36: 0 | AR36: 0 | AS36: 0 | AT36: יוחא מלא | AW36: 5 | AX36: 5 | AY36: 1 | AZ36: 1 | BA36: 2 | BB36: 1 | BC36: 1 | BD36: 0 | BE36: 0
A37: 2002 | B37: 511881 | C37: מוריה מד | D37: 287 | E37: 50005 | F37: תל אביב-יפו | G37: 50005 | H37: תל אביב - יפו | I37: יהודי | J37: חמ"ד | K37: רשמי | L37: תל אביב | M37: תל אביב | N37: רגיל | O37: 11 | P37: בית ספר | Q37: 1 | R37: רגיל | S37: 10 | T37: יסודי בלבד | U37: 1 | V37: 6 | W37: משה לבקוביץ | X37: עודד נסים הדרה | Y37: 03-696-4535 | Z37: 03-696-6160 | AA37: 24 ציטלין | AC37: 1036 | AD37: 64955 | AE37: 24 ציטלין | AF37: 50005 | AG37: תל אביב - יפו | AI37: Y-moria-tlv-M@kishurim.k12.il | AJ37: 1950 | AK37: 0 | AL37: 0 | AM37: 0 | AN37: 0 | AO37: 0 | AP37: 0 | AQ37: 0 | AR37: 0 | AS37: 0 | AW37: 5 | AX37: 5 | AY37: 1 | AZ37: 1 | BA37: 2 | BC37: 1 | BD37: 0 | BE37: 0
A38: 2002 | B38: 511907 | C38: מירון מד | D38: 149 | E38: 50005 | F38: תל אביב-יפו | G38: 50005 | H38: תל אביב - יפו | I38: יהודי | J38: חמ"ד | K38: רשמי | L38: תל אביב | M38: תל אביב | N38: רגיל | O38: 11 | P38: בית ספר | Q38: 1 | R38: רגיל | S38: 10 | T38: יסודי בלבד | U38: 1 | V38: 6 | W38: אסתר נודלמן | X38: עודד נסים הדרה | Y38: 03-605-7379 | Z38: 03-604-9989 | AA38: 65 שלומציון | AC38: 803 | AD38: 62266 | AE38: 65 שלומציון | AF38: 50005 | AG38: תל אביב - יפו | AI38: Y-Miron-tlv-M@kishurim.k12.il | AJ38: 1960 | AK38: 0 | AL38: 0 | AM38: 0 | AN38: 0 | AO38: 0 | AP38: 0 | AQ38: 0 | AR38: 0 | AS38: 0 | AW38: 5 | AX38: 5 | AY38: 1 | AZ38: 1 | BA38: 2 | BC38: 1 | BD38: 0 | BE38: 0
A39: 2002 | B39: 511931 | C39: עמיאל רמב"ם מד | D39: 232 | E39: 50005 | F39: תל אביב-יפו | G39: 50005 | H39: תל אביב - יפו | I39: יהודי | J39: חמ"ד | K39: רשמי | L39: תל אביב | M39: תל אביב | N39: רגיל | O39: 11 | P39: בית ספר | Q39: 1 | R39: רגיל | S39: 10 | T39: יסודי בלבד | U39: 0 | V39: 6 | W39: אורית אונגר | X39: עודד נסים הדרה | Y39: 03-688-1173 | Z39: 03-639-0717 | AA39: דרך לחי 46 , שכ' התק | AC39: 2815 | AD39: 67623 | AE39: דרך לחי 46 , שכ' התק | AF39: 50005 | AG39: תל אביב - יפו | AI39: Y-AmielR-tlv-M@kishurim.k12.il | AJ39: 1960 | AK39: 0 | AL39: 1 | AM39: 1 | AN39: 0 | AO39: 0 | AP39: 0 | AQ39: 0 | AR39: 0 | AS39: 0 | AT39: יוחא מלא | AW39: 5 | AX39: 5 | AY39: 1 | AZ39: 1 | BA39: 2 | BB39: 1 | BC39: 1 | BD39: 0 | BE39: 0
A40: 2002 | B40: 511949 | C40: עציון מד | D40: 452 | E40: 50005 | F40: תל אביב-יפו | G40: 50005 | H40: תל אביב - יפו | I40: יהודי | J40: חמ"ד | K40: רשמי | L40: תל אביב | M40: תל אביב | N40: רגיל | O40: 11 | P40: בית ספר | Q40: 1 | R40: רגיל | S40: 10 | T40: יסודי בלבד | U40: 1 | V40: 6 | W40: שושנה נגר | X40: עודד נסים הדרה | Y40: 03-739-3780 | Z40: 03-631-8240 | AA40: ברנפלד 15 , יד-אליהו | AC40: 2684 | AD40: 67328 | AE40: ברנפלד 15 , יד-אליהו | AF40: 50005 | AG40: תל אביב - יפו | AI40: Y-etzion-tlv-M@kishurim.k12.il | AJ40: 1960 | AK40: 0 | AL40: 0 | AM40: 0 | AN40: 0 | AO40: 0 | AP40: 0 | AQ40: 0 | AR40: 0 | AS40: 0 | AW40: 5 | AX40: 5 | AY40: 1 | AZ40: 1 | BA40: 2 | BC40: 1 | BD40: 0 | BE40: 0
A41: 2002 | B41: 511998 | C41: אלומות מד | D41: 157 | E41: 50005 | F41: תל אביב-יפו | G41: 50005 | H41: תל אביב - יפו | I41: יהודי | J41: חמ"ד | K41: רשמי | L41: תל אביב | M41: תל אביב | N41: רגיל | O41: 11 | P41: בית ספר | Q41: 1 | R41: רגיל | S41: 10 | T41: יסודי בלבד | U41: 0 | V41: 6 | W41: יוכבד פרידל | X41: עודד נסים הדרה | Y41: 03-699-4197 | Z41: 03-699-0143 | AA41: רידינג 35 , רמת-אבי | AC41: 106 | AD41: 69028 | AE41: רידינג 35 , רמת-אבי | AF41: 50005 | AG41: תל אביב - יפו | AI41: Y-alomot-tlv-M@kishurim.k12.il | AJ41: 1960 | AK41: 0 | AL41: 0 | AM41: 0 | AN41: 0 | AO41: 0 | AP41: 0 | AQ41: 0 | AR41: 0 | AS41: 0 | AW41: 5 | AX41: 5 | AY41: 1 | AZ41: 1 | BA41: 2 | BC41: 1 | BD41: 0 | BE41: 0
A42: 2002 | B42: 512038 | C42: שרשים מד | D42: 245 | E42: 50005 | F42: תל אביב-יפו | G42: 50005 | H42: תל אביב - יפו | I42: יהודי | J42: חמ"ד | K42: רשמי | L42: תל אביב | M42: תל אביב | N42: רגיל | O42: 11 | P42: בית ספר | Q42: 1 | R42: רגיל | S42: 10 | T42: יסודי בלבד | U42: 1 | V42: 8 | W42: יעל חזן | X42: עודד נסים הדרה | Y42: 03-687-4149 | Z42: 03-639-6344 | AA42: דרך שלמה 156 שכ' שפי | AC42: 2343 | AD42: 61591 | AE42: ת.ד.59102 מרכזית חדש | AF42: 50005 | AG42: תל אביב - יפו | AI42: Y-shoras-tlv-M@kishurim.k12.il | AJ42: 1960 | AK42: 0 | AL42: 1 | AM42: 1 | AN42: 0 | AO42: 0 | AP42: 0 | AQ42: 0 | AR42: 0 | AS42: 0 | AT42: יוחא מלא | AW42: 5 | AX42: 5 | AY42: 1 | AZ42: 1 | BA42: 2 | BB42: 1 | BC42: 1 | BD42: 0 | BE42: 0
A43: 2002 | B43: 512087 | C43: חב"ד בנות | D43: 103 | E43: 50005 | F43: תל אביב-יפו | G43: 50005 | H43: תל אביב - יפו | I43: יהודי | J43: חמ"ד | K43: רשמי | L43: תל אביב | M43: תל אביב | N43: רגיל | O43: 11 | P43: בית ספר | Q43: 1 | R43: רגיל | S43: 10 | T43: יסודי בלבד | U43: 1 | V43: 8 | W43: יפה פרסיה | X43: עודד נסים הדרה | Y43: 03-518-1405 | Z43: 03-518-1315 | AA43: נחל שורק 5 , יפו | AC43: 2184 | AD43: 68208 | AE43: נחל שורק 5 , יפו | AF43: 50005 | AG43: תל אביב - יפו | AI43: Y-chabad-tlv-M@kishurim.k12.il | AJ43: 1950 | AK43: 0 | AL43: 1 | AM43: 0 | AN43: 0 | AO43: 0 | AP43: 0 | AQ43: 0 | AR43: 0 | AS43: 0 | AT43: יוחא מלא | AW43: 5 | AX43: 5 | AY43: 1 | AZ43: 1 | BA43: 2 | BB43: 1 | BC43: 1 | BD43: 0 | BE43: 0
A44: 2002 | B44: 512442 | C44: ניצנים | D44: 414 | E44: 50005 | F44: תל אביב-יפו | G44: 50005 | H44: תל אביב - יפו | I44: יהודי | J44: מ"מ | K44: רשמי | L44: תל אביב | M44: תל אביב | N44: רגיל | O44: 11 | P44: בית ספר | Q44: 1 | R44: רגיל | S44: 10 | T44: יסודי בלבד | U44: 1 | V44: 6 | W44: דליה גרבלר | X44: הלמר אסתר | Y44: 03-641-9880 | Z44: 03-642-6523 | AA44: אנדרסן 22 , רמת-אביב | AC44: 175 | AD44: 69107 | AE44: אנדרסן 22 , רמת-אביב | AF44: 50005 | AG44: תל אביב - יפו | AI44: Y-nitzan-tlv-M@kishurim.k12.il | AJ44: 1960 | AK44: 0 | AL44: 0 | AM44: 0 | AN44: 0 | AO44: 0 | AP44: 0 | AQ44: 0 | AR44: 0 | AS44: 0 | AW44: 5 | AX44: 5 | AY44: 1 | AZ44: 1 | BA44: 1 | BC44: 1 | BD44: 0 | BE44: 0
A45: 2002 | B45: 512467 | C45: ישגב | D45: 356 | E45: 50005 | F45: תל אביב-יפו | G45: 50005 | H45: תל אביב - יפו | I45: יהודי | J45: מ"מ | K45: רשמי | L45: תל אביב | M45: תל אביב | N45: רגיל | O45: 11 | P45: בית ספר | Q45: 1 | R45: רגיל | S45: 10 | T45: יסודי בלבד | U45: 1 | V45: 6 | W45: דפנה ברעם | X45: לוטן קרבר שרה | Y45: 03-647-8459 | Z45: 03-648-3528 | AA45: 7 עולי הגרדום | AC45: 336 | AD45: 69715 | AE45: 7 עולי הגרדום | AF45: 50005 | AG45: תל אביב - יפו | AI45: Y-yisgav-tlv-M@kishurim.k12.il | AJ45: 1960 | AK45: 0 | AL45: 0 | AM45: 0 | AN45: 0 | AO45: 0 | AP45: 0 | AQ45: 0 | AR45: 0 | AS45: 0 | AW45: 5 | AX45: 5 | AY45: 1 | AZ45: 1 | BA45: 1 | BC45: 1 | BD45: 0 | BE45: 0
A46: 2002 | B46: 512525 | C46: חוה חקלאית תלמי אביב | E46: 50005 | F46: תל אביב-יפו | G46: 50005 | H46: תל אביב - יפו | I46: יהודי | J46: מ"מ | K46: רשמי | L46: תל אביב | M46: תל אביב | N46: רגיל | O46: 31 | P46: מרכז העשרה | Q46: 8 | R46: חווה חקלאית | S46: 10 | T46: יסודי בלבד | U46: 1 | V46: 9 | W46: בנימין אילנה | X46: יוסף מזוז | Y46: 03-751-6728 | Z46: 0--0000 | AA46: 64.רוקח מול מס | AC46: 0 | AD46: 0 | AE46: 64.רחוב רוקח מול מס | AF46: 86009 | AG46: רמת גן | AI46: Y-halami-tlv-M@kishurim.k12.il | AJ46: 0 | AK46: 0 | AL46: 0 | AM46: 0 | AN46: 0 | AO46: 0 | AP46: 0 | AQ46: 0 | AR46: 0 | AS46: 0 | AW46: 5 | AX46: 5 | AY46: 1 | AZ46: 1 | BA46: 1 | BC46: 1 | BD46: 0 | BE46: 0
A47: 2002 | B47: 512533 | C47: חוה חקלאית ניר אביב | E47: 50005 | F47: תל אביב-יפו | G47: 50005 | H47: תל אביב - יפו | I47: יהודי | J47: מ"מ | K47: רשמי | L47: תל אביב | M47: תל אביב | N47: רגיל | O47: 31 | P47: מרכז העשרה | Q47: 8 | R47: חווה חקלאית | S47: 10 | T47: יסודי בלבד | U47: 1 | V47: 8 | W47: יהודה בן יוסף | X47: יוסף מזוז | Y47: 00-339-2198 | Z47: 0--0000 | AA47: נ"ד כפר שלם | AC47: 0 | AD47: 67672 | AE47: נ"ד כפר שלם | AF47: 50005 | AG47: תל אביב - יפו | AJ47: 0 | AK47: 0 | AL47: 0 | AM47: 0 | AN47: 0 | AO47: 0 | AP47: 0 | AQ47: 0 | AR47: 0 | AS47: 0 | AW47: 5 | AX47: 5 | AY47: 1 | AZ47: 1 | BA47: 1 | BC47: 1 | BD47: 0 | BE47: 0
A48: 2002 | B48: 512905 | C48: ארזים | D48: 488 | E48: 50005 | F48: תל אביב-יפו | G48: 50005 | H48: תל אביב - יפו | I48: יהודי | J48: מ"מ | K48: רשמי | L48: תל אביב | M48: תל אביב | N48: רגיל | O48: 11 | P48: בית ספר | Q48: 1 | R48: רגיל | S48: 10 | T48: יסודי בלבד | U48: 1 | V48: 6 | W48: ענת יקותיאל | X48: הלמר אסתר | Y48: 03-641-4612 | Z48: 03-641-4612 | AA48: לויטן 7 , רמת-אביב | AC48: 174 | AD48: 69204 | AE48: לויטן 7 , רמת-אביב | AF48: 50005 | AG48: תל אביב - יפו | AI48: Y-arazim-tlv-M@kishurim.k12.il | AJ48: 1960 | AK48: 0 | AL48: 0 | AM48: 0 | AN48: 0 | AO48: 0 | AP48: 0 | AQ48: 0 | AR48: 0 | AS48: 0 | AW48: 5 | AX48: 5 | AY48: 1 | AZ48: 1 | BA48: 1 | BC48: 1 | BD48: 0 | BE48: 0
A49: 2002 | B49: 512913 | C49: החשמונאים | D49: 223 | E49: 50005 | F49: תל אביב-יפו | G49: 50005 | H49: תל אביב - יפו | I49: יהודי | J49: מ"מ | K49: רשמי | L49: תל אביב | M49: תל אביב | N49: רגיל | O49: 11 | P49: בית ספר | Q49: 1 | R49: רגיל | S49: 10 | T49: יסודי בלבד | U49: 1 | V49: 6 | W49: יהודית פסטרנק | X49: דרן רונית | Y49: 03-506-5003 | Z49: 03-506-5003 | AA49: 'פיקוס 19 יפו ג | AC49: 2024 | AD49: 68047 | AE49: 'פיקוס 19 יפו ג | AF49: 50005 | AG49: תל אביב - יפו | AI49: Y-hashmo-tlv-M@kishurim.k12.il | AJ49: 1960 | AK49: 0 | AL49: 1 | AM49: 1 | AN49: 0 | AO49: 0 | AP49: 0 | AQ49: 0 | AR49: 0 | AS49: 0 | AT49: יוחא מלא | AW49: 5 | AX49: 5 | AY49: 1 | AZ49: 1 | BA49: 1 | BB49: 1 | BC49: 1 | BD49: 0 | BE49: 0
A50: 2002 | B50: 513044 | C50: תל חי | D50: 446 | E50: 50005 | F50: תל אביב-יפו | G50: 50005 | H50: תל אביב - יפו | I50: יהודי | J50: מ"מ | K50: רשמי | L50: תל אביב | M50: תל אביב | N50: רגיל | O50: 11 | P50: בית ספר | Q50: 1 | R50: רגיל | S50: 10 | T50: יסודי בלבד | U50: 1 | V50: 6 | W50: עינת ברגר | X50: לוטן קרבר שרה | Y50: 03-739-4868 | Z50: 03-631-8286 | AA50: 74 מעפילי אגוז | AC50: 2960 | AD50: 67437 | AE50: 74 מעפילי אגוז | AF50: 50005 | AG50: תל אביב - יפו | AI50: Y-TelHai-tlv-M@kishurim.k12.il | AJ50: 1950 | AK50: 0 | AL50: 1 | AM50: 0 | AN50: 0 | AO50: 0 | AP50: 0 | AQ50: 0 | AR50: 0 | AS50: 0 | AW50: 5 | AX50: 5 | AY50: 1 | AZ50: 1 | BA50: 1 | BC50: 1 | BD50: 0 | BE50: 0
A51: 2002 | B51: 513051 | C51: בבלי | D51: 400 | E51: 50005 | F51: תל אביב-יפו | G51: 50005 | H51: תל אביב - יפו | I51: יהודי | J51: מ"מ | K51: רשמי | L51: תל אביב | M51: תל אביב | N51: רגיל | O51: 11 | P51: בית ספר | Q51: 1 | R51: רגיל | S51: 10 | T51: יסודי בלבד | U51: 1 | V51: 6 | W51: תמרה בניא | X51: הלמר אסתר | Y51: 03-604-2267 | Z51: 03-604-9983 | AA51: 8 אונקלוס | AC51: 808 | AD51: 62916 | AE51: 8 אונקלוס | AF51: 50005 | AG51: תל אביב - יפו | AI51: Y-bavli-tlv-M@kishurim.k12.il | AJ51: 1972 | AK51: 0 | AL51: 0 | AM51: 0 | AN51: 0 | AO51: 0 | AP51: 0 | AQ51: 0 | AR51: 0 | AS51: 0 | AW51: 5 | AX51: 5 | AY51: 1 | AZ51: 1 | BA51: 1 | BC51: 1 | BD51: 0 | BE51: 0
A52: 2002 | B52: 513077 | C52: ארן | D52: 493 | E52: 50005 | F52: תל אביב-יפו | G52: 50005 | H52: תל אביב - יפו | I52: יהודי | J52: מ"מ | K52: רשמי | L52: תל אביב | M52: תל אביב | N52: רגיל | O52: 11 | P52: בית ספר | Q52: 1 | R52: רגיל | S52: 10 | T52: יסודי בלבד | U52: 1 | V52: 6 | W52: שרה דמבין | X52: לוטן קרבר שרה | Y52: 03-699-2721 | Z52: 03-699-6268 | AA52: 'בורלא 25 , תכ' ל | AC52: 0 | AD52: 69364 | AE52: 'בורלא 25 , תכ' ל | AF52: 50005 | AG52: תל אביב - יפו | AI52: Y-aran-tlv-M@kishurim.k12.il | AJ52: 1973 | AK52: 0 | AL52: 0 | AM52: 0 | AN52: 0 | AO52: 0 | AP52: 0 | AQ52: 0 | AR52: 0 | AS52: 0 | AW52: 5 | AX52: 5 | AY52: 1 | AZ52: 1 | BA52: 1 | BC52: 1 | BD52: 0 | BE52: 0
A53: 2002 | B53: 513085 | C53: אביגל | D53: 268 | E53: 50005 | F53: תל אביב-יפו | G53: 50005 | H53: תל אביב - יפו | I53: יהודי | J53: מ"מ | K53: רשמי | L53: תל אביב | M53: תל אביב | N53: רגיל | O53: 11 | P53: בית ספר | Q53: 1 | R53: רגיל | S53: 10 | T53: יסודי בלבד | U53: 1 | V53: 6 | W53: איריס אביוב | X53: דרן רונית | Y53: 03-658-7258 | Z53: 03-658-3633 | AA53: 20 רובינשטיין | AC53: 3004 | AD53: 68079 | AE53: 20 רובינשטיין | AF53: 50005 | AG53: תל אביב - יפו | AJ53: 1973 | AK53: 0 | AL53: 0 | AM53: 1 | AN53: 0 | AO53: 0 | AP53: 0 | AQ53: 0 | AR53: 0 | AS53: 0 | AW53: 5 | AX53: 5 | AY53: 1 | AZ53: 1 | BA53: 1 | BC53: 1 | BD53: 0 | BE53: 0
A54: 2002 | B54: 513127 | C54: שזר | D54: 247 | E54: 50005 | F54: תל אביב-יפו | G54: 50005 | H54: תל אביב - יפו | I54: יהודי | J54: מ"מ | K54: רשמי | L54: תל אביב | M54: תל אביב | N54: רגיל | O54: 11 | P54: בית ספר | Q54: 1 | R54: רגיל | S54: 10 | T54: יסודי בלבד | U54: 1 | V54: 6 | W54: שרה ישראלי | X54: הלמר אסתר | Y54: 03-683-3044 | Z54: 03-683-3044 | AA54: שזר 39 , נוה עופר | AC54: 2169 | AD54: 68190 | AE54: שזר 39 , נוה עופר | AF54: 50005 | AG54: תל אביב - יפו | AI54: Y-shazar-tlv-M@kishurim.k12.il | AJ54: 1974 | AK54: 0 | AL54: 1 | AM54: 1 | AN54: 0 | AO54: 0 | AP54: 0 | AQ54: 0 | AR54: 0 | AS54: 0 | AT54: יוחא מלא | AW54: 5 | AX54: 5 | AY54: 1 | AZ54: 1 | BA54: 1 | BB54: 1 | BC54: 1 | BD54: 0 | BE54: 0
A55: 2002 | B55: 513341 | C55: רמת אביב | D55: 699 | E55: 50005 | F55: תל אביב-יפו | G55: 50005 | H55: תל אביב - יפו | I55: יהודי | J55: מ"מ | K55: רשמי | L55: תל אביב | M55: תל אביב | N55: רגיל | O55: 11 | P55: בית ספר | Q55: 1 | R55: רגיל | S55: 10 | T55: יסודי בלבד | U55: 1 | V55: 6 | W55: נחמה בר כוכבא | X55: הלמר אסתר | Y55: 03-642-4760 | Z55: 03-642-5206 | AA55: פינשטיין 83 ,רמת-אבי | AC55: 0 | AD55: 69494 | AE55: פינשטיין 83 ,רמת-אבי | AF55: 50005 | AG55: תל אביב - יפו | AI55: Y-RamatA-tlv-M@kishurim.k12.il | AJ55: 1978 | AK55: 0 | AL55: 0 | AM55: 0 | AN55: 0 | AO55: 0 | AP55: 0 | AQ55: 0 | AR55: 0 | AS55: 0 | AW55: 5 | AX55: 5 | AY55: 1 | AZ55: 1 | BA55: 1 | BC55: 1 | BD55: 0 | BE55: 0
A56: 2002 | B56: 513408 | C56: כפיר | D56: 383 | E56: 50005 | F56: תל אביב-יפו | G56: 50005 | H56: תל אביב - יפו | I56: יהודי | J56: מ"מ | K56: רשמי | L56: תל אביב | M56: תל אביב | N56: רגיל | O56: 11 | P56: בית ספר | Q56: 1 | R56: רגיל | S56: 10 | T56: יסודי בלבד | U56: 1 | V56: 6 | W56: אורית קורבינר | X56: דרן רונית | Y56: 03-631-0514 | Z56: 03-631-6761 | AA56: אל-נקווה 13 ,שכ' כפ | AC56: 2636 | AD56: 67655 | AE56: אל-נקווה 13 ,שכ' כפ | AF56: 50005 | AG56: תל אביב - יפו | AI56: Y-kfir-tlv-M@kishurim.k12.il | AJ56: 1979 | AK56: 0 | AL56: 1 | AM56: 0 | AN56: 0 | AO56: 0 | AP56: 0 | AQ56: 0 | AR56: 0 | AS56: 0 | AT56: יוחא מלא | AW56: 5 | AX56: 5 | AY56: 1 | AZ56: 1 | BA56: 1 | BB56: 1 | BC56: 1 | BD56: 0 | BE56: 0
A57: 2002 | B57: 513655 | C57: לאמנויות | D57: 491 | E57: 50005 | F57: תל אביב-יפו | G57: 50005 | H57: תל אביב - יפו | I57: יהודי | J57: מ"מ | K57: רשמי | L57: תל אביב | M57: תל אביב | N57: רגיל | O57: 11 | P57: בית ספר | Q57: 1 | R57: רגיל | S57: 10 | T57: יסודי בלבד | U57: 1 | V57: 6 | W57: יעל העליון | X57: הלמר אסתר | Y57: 03-560-3110 | Z57: 03-566-1371 | AA57: 2 'לויד ג'ורג | AC57: 2221 | AD57: 61141 | AE57: 14141 .ת.ד | AF57: 50005 | AG57: תל אביב - יפו | AI57: Y-leoman-tlv-M@kishurim.k12.il | AJ57: 1984 | AK57: 0 | AL57: 0 | AM57: 0 | AN57: 0 | AO57: 0 | AP57: 0 | AQ57: 0 | AR57: 0 | AS57: 0 | AW57: 5 | AX57: 5 | AY57: 1 | AZ57: 1 | BA57: 1 | BC57: 1 | BD57: 0 | BE57: 0
A58: 2002 | B58: 513689 | C58: לטבע סביבה וחברה | D58: 474 | E58: 50005 | F58: תל אביב-יפו | G58: 50005 | H58: תל אביב - יפו | I58: יהודי | J58: מ"מ | K58: רשמי | L58: תל אביב | M58: תל אביב | N58: רגיל | O58: 11 | P58: בית ספר | Q58: 1 | R58: רגיל | S58: 10 | T58: יסודי בלבד | U58: 1 | V58: 6 | W58: שרה קוך | X58: דרן רונית | Y58: 03-681-1264 | Z58: 03-683-3837 | AA58: 155 הרצל | AC58: 2215 | AD58: 68101 | AE58: 155 הרצל | AF58: 50005 | AG58: תל אביב - יפו | AI58: Y-leteva-tlv-M@kishurim.k12.il | AJ58: 1986 | AK58: 0 | AL58: 0 | AM58: 0 | AN58: 0 | AO58: 0 | AP58: 0 | AQ58: 0 | AR58: 0 | AS58: 0 | AW58: 5 | AX58: 5 | AY58: 1 | AZ58: 1 | BA58: 1 | BC58: 1 | BD58: 0 | BE58: 0
A59: 2002 | B59: 514240 | C59: ביה"ס הפתוח | D59: 169 | E59: 50005 | F59: תל אביב-יפו | G59: 50005 | H59: תל אביב - יפו | I59: יהודי | J59: מ"מ | K59: רשמי | L59: תל אביב | M59: תל אביב | N59: רגיל | O59: 11 | P59: בית ספר | Q59: 1 | R59: רגיל | S59: 10 | T59: יסודי בלבד | U59: 0 | V59: 6 | W59: עקיבא גלר | X59: לוטן קרבר שרה | Y59: 03-681-2568 | Z59: 03-683-8528 | AA59: נעם 8 , יפו | AC59: 2507 | AD59: 61082 | AE59: ת.ד. 8284 , יפו | AF59: 50005 | AG59: תל אביב - יפו | AI59: Y-patuac-tlv-M@kishurim.k12.il | AJ59: 1991 | AK59: 0 | AL59: 0 | AM59: 0 | AN59: 0 | AO59: 0 | AP59: 0 | AQ59: 0 | AR59: 0 | AS59: 0 | AW59: 5 | AX59: 5 | AY59: 1 | AZ59: 1 | BA59: 1 | BC59: 1 | BD59: 0 | BE59: 0
A60: 2002 | B60: 514513 | C60: אביב | D60: 137 | E60: 50005 | F60: תל אביב-יפו | G60: 50005 | H60: תל אביב - יפו | I60: יהודי | J60: מ"מ | K60: רשמי | L60: תל אביב | M60: תל אביב | N60: רגיל | O60: 11 | P60: בית ספר | Q60: 1 | R60: רגיל | S60: 10 | T60: יסודי בלבד | U60: 0 | V60: 6 | W60: אושרה דנה | X60: הלמר אסתר | Y60: 03-741-0522 | Z60: 03-741-0451 | AA60: 'לוי אשכול 94 , תוכ | AC60: 197 | AD60: 0 | AE60: 'לוי אשכול 94 , תוכ | AF60: 50005 | AG60: תל אביב - יפו | AI60: Y-aviv-tlv-M@kishurim.k12.il | AJ60: 2001 | AK60: 0 | AL60: 0 | AM60: 0 | AN60: 0 | AO60: 0 | AP60: 0 | AQ60: 0 | AR60: 0 | AS60: 0 | AW60: 5 | AX60: 5 | AY60: 1 | AZ60: 1 | BA60: 1 | BC60: 1 | BD60: 0 | BE60: 0
A61: 2002 | B61: 515007 | C61: מ.מ. מורים בימי מחלה | E61: 50005 | F61: תל אביב-יפו | G61: 50005 | H61: תל אביב - יפו | I61: יהודי | J61: מ"מ | K61: רשמי | L61: תל אביב | M61: תל אביב | N61: רגיל | O61: 21 | P61: מרכז ניהולי לתקצוב | Q61: 20 | R61: מחוזי לריכוז שעות | S61: 10 | T61: יסודי בלבד | U61: 1 | V61: 9 | W61: דיתה קרמר | X61: דר יוסף לוי | Y61: 0--0000 | Z61: 0--0000 | AA61: 39 שאול המלך | AB61: 93 | AC61: 0 | AD61: 0 | AE61: שאול המלך | AF61: 50005 | AG61: תל אביב - יפו | AJ61: 1999 | AK61: 0 | AL61: 0 | AM61: 0 | AN61: 0 | AO61: 0 | AP61: 0 | AQ61: 0 | AR61: 0 | AS61: 0 | AW61: 5 | AX61: 5 | AY61: 1 | AZ61: 1 | BA61: 1 | BC61: 1 | BD61: 0 | BE61: 0
A62: 2002 | B62: 515049 | C62: מרכז הדרכה מחוזי | E62: 50005 | F62: תל אביב-יפו | G62: 50005 | H62: תל אביב - יפו | I62: יהודי | J62: מ"מ | K62: רשמי | L62: תל אביב | M62: תל אביב | N62: רגיל | O62: 23 | P62: מרכז ניהולי לעובדי הוראה | Q62: 20 | R62: מחוזי לריכוז שעות | S62: 10 | T62: יסודי בלבד | U62: 1 | V62: 9 | W62: אביגדור גונן | X62: דר יוסף לוי | Y62: 03-646-0160 | Z62: 0--0000 | AA62: 39 שד' שאול המלך | AB62: 93 | AC62: 0 | AD62: 0 | AE62: 39 שד' שאול המלך | AF62: 50005 | AG62: תל אביב - יפו | AJ62: 1989 | AK62: 0 | AL62: 0 | AM62: 0 | AN62: 0 | AO62: 0 | AP62: 0 | AQ62: 0 | AR62: 0 | AS62: 0 | AW62: 5 | AX62: 5 | AY62: 1 | AZ62: 1 | BA62: 1 | BC62: 1 | BD62: 0 | BE62: 0
A63: 2002 | B63: 515056 | C63: ריתמוסיקה | E63: 50005 | F63: תל אביב-יפו | G63: 50005 | H63: תל אביב - יפו | I63: יהודי | J63: מ"מ | K63: רשמי | L63: תל אביב | M63: תל אביב | N63: רגיל | O63: 31 | P63: מרכז העשרה | Q63: 20 | R63: מחוזי לריכוז שעות | S63: 10 | T63: יסודי בלבד | U63: 0 | V63: 6 | W63: .דבורה פרלמוטר | X63: שושנה שחק וייך | Y63: 03-543-5418 | Z63: 0--0000 | AA63: 39 שד שאול המלך | AB63: 93 | AC63: 0 | AD63: 0 | AE63: 39 שד שאול המלך | AF63: 50005 | AG63: תל אביב - יפו | AJ63: 1990 | AK63: 0 | AL63: 0 | AM63: 0 | AN63: 0 | AO63: 0 | AP63: 0 | AQ63: 0 | AR63: 0 | AS63: 0 | AW63: 5 | AX63: 5 | AY63: 1 | AZ63: 1 | BA63: 1 | BC63: 1 | BD63: 0 | BE63: 0
A64: 2002 | B64: 515064 | C64: מ.מורים מושעים | E64: 50005 | F64: תל אביב-יפו | G64: 50005 | H64: תל אביב - יפו | I64: יהודי | J64: מ"מ | K64: רשמי | L64: תל אביב | M64: תל אביב | N64: רגיל | O64: 21 | P64: מרכז ניהולי לתקצוב | Q64: 20 | R64: מחוזי לריכוז שעות | S64: 110 | T64: יסודי וחט"ב | U64: 1 | V64: 9 | W64: ד"ר לוי | X64: דר יוסף לוי | Y64: 0--0000 | Z64: 0--0000 | AC64: 0 | AD64: 0 | AF64: 50005 | AG64: תל אביב - יפו | AJ64: 1999 | AK64: 0 | AL64: 0 | AM64: 0 | AN64: 0 | AO64: 0 | AP64: 0 | AQ64: 0 | AR64: 0 | AS64: 0 | AW64: 5 | AX64: 5 | AY64: 1 | AZ64: 1 | BA64: 1 | BC64: 1 | BD64: 0 | BE64: 0
A65: 2002 | B65: 515155 | C65: מרכז מחוזי מנהל ח"ן | E65: 50005 | F65: תל אביב-יפו | G65: 50005 | H65: תל אביב - יפו | I65: יהודי | J65: מ"מ | K65: רשמי | L65: תל אביב | M65: תל אביב | N65: רגיל | O65: 23 | P65: מרכז ניהולי לעובדי הוראה | Q65: 20 | R65: מחוזי לריכוז שעות | S65: 10 | T65: יסודי בלבד | U65: 1 | V65: 9 | W65: פרל יעל | X65: רובוביץ משה | Y65: 03-642-3111 | Z65: 0--0000 | AA65: 22 טשרנחובסקי | AC65: 0 | AD65: 0 | AE65: 05235.ת.ד | AF65: 50005 | AG65: תל אביב - יפו | AJ65: 1992 | AK65: 0 | AL65: 0 | AM65: 0 | AN65: 0 | AO65: 0 | AP65: 0 | AQ65: 0 | AR65: 0 | AS65: 0 | AW65: 5 | AX65: 5 | AY65: 1 | AZ65: 1 | BA65: 1 | BC65: 1 | BD65: 0 | BE65: 0
A66: 2002 | B66: 515171 | C66: אשכול גנים תל אביב | E66: 50005 | F66: תל אביב-יפו | G66: 50005 | H66: תל אביב - יפו | I66: יהודי | J66: מ"מ | K66: רשמי | L66: תל אביב | M66: תל אביב | N66: רגיל | O66: 23 | P66: מרכז ניהולי לעובדי הוראה | Q66: 16 | R66: אשכול גנים | S66: 10 | T66: יסודי בלבד | U66: 0 | V66: 0 | W66: הדסה בן דרור | X66: אביבה הוד | Y66: 03-528-9162 | Z66: 0--0000 | AA66: 25 העבודה | AB66: 52 | AC66: 0 | AD66: 0 | AE66: 25 העבודה | AF66: 50005 | AG66: תל אביב - יפו | AJ66: 1998 | AK66: 0 | AL66: 0 | AM66: 0 | AN66: 0 | AO66: 0 | AP66: 0 | AQ66: 0 | AR66: 0 | AS66: 0 | AW66: 5 | AX66: 5 | AY66: 1 | AZ66: 1 | BA66: 1 | BC66: 1 | BD66: 0 | BE66: 0
A67: 2002 | B67: 516815 | C67: מרכז למחוננים ממ"ד | E67: 50005 | F67: תל אביב-יפו | G67: 50005 | H67: תל אביב - יפו | I67: יהודי | J67: חמ"ד | K67: רשמי | L67: תל אביב | M67: תל אביב | N67: רגיל | O67: 31 | P67: מרכז העשרה | Q67: 18 | R67: מרכז מחוזי | S67: 10 | T67: יסודי בלבד | U67: 1 | V67: 8 | W67: גדנקן יהודית | X67: גרוס שמואל | Y67: 00-24-0007 | Z67: 0--0000 | AA67: מכללת תלפיות | AC67: 0 | AD67: 0 | AE67: מכללת תלפיות | AF67: 50005 | AG67: תל אביב - יפו | AJ67: 1989 | AK67: 0 | AL67: 0 | AM67: 0 | AN67: 0 | AO67: 0 | AP67: 0 | AQ67: 0 | AR67: 0 | AS67: 0 | AW67: 5 | AX67: 5 | AY67: 1 | AZ67: 1 | BA67: 2 | BC67: 1 | BD67: 0 | BE67: 0
A68: 2002 | B68: 516906 | C68: מרכז שחייה | E68: 50005 | F68: תל אביב-יפו | G68: 50005 | H68: תל אביב - יפו | I68: יהודי | J68: מ"מ | K68: רשמי | L68: תל אביב | M68: תל אביב | N68: רגיל | O68: 23 | P68: מרכז ניהולי לעובדי הוראה | Q68: 20 | R68: מחוזי לריכוז שעות | S68: 10 | T68: יסודי בלבד | U68: 1 | V68: 8 | W68: איגור פליישר | X68: אריה נוה | Y68: 00-325-4122 | Z68: 0--0000 | AA68: 0039 שד שאול המלך | AB68: 9300 | AC68: 0 | AD68: 0 | AE68: 39 שד שאול המלך | AF68: 50005 | AG68: תל אביב - יפו | AJ68: 1986 | AK68: 0 | AL68: 0 | AM68: 0 | AN68: 0 | AO68: 0 | AP68: 0 | AQ68: 0 | AR68: 0 | AS68: 0 | AW68: 5 | AX68: 5 | AY68: 1 | AZ68: 1 | BA68: 1 | BC68: 1 | BD68: 0 | BE68: 0
A69: 2002 | B69: 516914 | C69: חינוך קדם יסודי | E69: 50005 | F69: תל אביב-יפו | G69: 50005 | H69: תל אביב - יפו | I69: יהודי | J69: מ"מ | K69: רשמי | L69: תל אביב | M69: תל אביב | N69: רגיל | O69: 21 | P69: מרכז ניהולי לתקצוב | Q69: 20 | R69: מחוזי לריכוז שעות | S69: 10 | T69: יסודי בלבד | U69: 0 | V69: 6 | W69: אביבה הוד | X69: אביבה הוד | Y69: 03-693-5432 | Z69: 0--0000 | AA69: 39 שד שאול המלך | AB69: 93 | AC69: 0 | AD69: 0 | AE69: 39 שד שאול המלך | AF69: 50005 | AG69: תל אביב - יפו | AJ69: 1988 | AK69: 0 | AL69: 0 | AM69: 0 | AN69: 0 | AO69: 0 | AP69: 0 | AQ69: 0 | AR69: 0 | AS69: 0 | AW69: 5 | AX69: 5 | AY69: 1 | AZ69: 1 | BA69: 1 | BC69: 1 | BD69: 0 | BE69: 0
A70: 2002 | B70: 516955 | C70: מרפ"ד תל אביב | E70: 50005 | F70: תל אביב-יפו | G70: 50005 | H70: תל אביב - יפו | I70: יהודי | J70: מ"מ | K70: רשמי | L70: תל אביב | M70: תל אביב | N70: רגיל | O70: 31 | P70: מרכז העשרה | Q70: 15 | R70: מרכז פסג"ה | S70: 10 | T70: יסודי בלבד | U70: 1 | V70: 8 | W70: .אביבה אשרי | X70: חיים ויינריב | Y70: 03-528-9143 | Z70: 00-521-8710 | AA70: 22 טשרניחובסקי | AC70: 0 | AD70: 61561 | AE70: 56137.ת.ד | AF70: 50005 | AG70: תל אביב - יפו | AJ70: 1986 | AK70: 0 | AL70: 0 | AM70: 0 | AN70: 0 | AO70: 0 | AP70: 0 | AQ70: 0 | AR70: 0 | AS70: 0 | AW70: 5 | AX70: 5 | AY70: 1 | AZ70: 1 | BA70: 1 | BC70: 1 | BD70: 0 | BE70: 0
A71: 2002 | B71: 518019 | C71: חסן ערפה יפו | D71: 366 | E71: 50005 | F71: תל אביב-יפו | G71: 50005 | H71: תל אביב - יפו | I71: ערבי | J71: מ"מ | K71: רשמי | L71: תל אביב | M71: תל אביב | N71: רגיל | O71: 11 | P71: בית ספר | Q71: 1 | R71: רגיל | S71: 10 | T71: יסודי בלבד | U71: 0 | V71: 6 | W71: עלי גוטי | X71: הלמר אסתר | Y71: 03-682-3774 | Z71: 03-682-1267 | AA71: רח קדם 40 , יפו | AC71: 1760 | AD71: 68143 | AE71: קדם ם4 , יפו | AF71: 50005 | AG71: תל אביב - יפו | AI71: Y-HasanA-tlv-M@kishurim.k12.il | AJ71: 1971 | AK71: 0 | AL71: 1 | AM71: 1 | AN71: 0 | AO71: 0 | AP71: 0 | AQ71: 0 | AR71: 0 | AS71: 0 | AT71: יוחא מלא | AW71: 5 | AX71: 5 | AY71: 1 | AZ71: 2 | BA71: 1 | BB71: 1 | BC71: 1 | BD71: 0 | BE71: 0
A72: 2002 | B72: 518035 | C72: אחוה יפו | D72: 253 | E72: 50005 | F72: תל אביב-יפו | G72: 50005 | H72: תל אביב - יפו | I72: ערבי | J72: מ"מ | K72: רשמי | L72: תל אביב | M72: תל אביב | N72: רגיל | O72: 11 | P72: בית ספר | Q72: 1 | R72: רגיל | S72: 10 | T72: יסודי בלבד | U72: 0 | V72: 6 | W72: עמירה עשור | X72: הלמר אסתר | Y72: 03-681-8555 | Z72: 03-518-1749 | AA72: פייר מנדס פרנס 17 ,י | AC72: 276 | AD72: 61411 | AE72: פייר מנדס פרנס 17 ,י | AF72: 50005 | AG72: תל אביב - יפו | AI72: Y-achva-tlv-M@kishurim.k12.il | AJ72: 1978 | AK72: 0 | AL72: 1 | AM72: 1 | AN72: 0 | AO72: 0 | AP72: 0 | AQ72: 0 | AR72: 0 | AS72: 0 | AT72: יוחא מלא | AW72: 5 | AX72: 5 | AY72: 1 | AZ72: 2 | BA72: 1 | BB72: 1 | BC72: 1 | BD72: 0 | BE72: 0
A73: 2002 | B73: 518050 | C73: יסודי ערבי חדש | D73: 172 | E73: 50005 | F73: תל אביב-יפו | G73: 50005 | H73: תל אביב - יפו | I73: ערבי | J73: מ"מ | K73: רשמי | L73: תל אביב | M73: תל אביב | N73: רגיל | O73: 11 | P73: בית ספר | Q73: 1 | R73: רגיל | S73: 10 | T73: יסודי בלבד | U73: 0 | V73: 6 | W73: ניהאיה יחיא | X73: הלמר אסתר | Y73: 03-681-6751 | Z73: 03-518-0687 | AA73: יפת 25 , יפו | AC73: 1994 | AD73: 68028 | AE73: יפת 25 , יפו | AF73: 50005 | AG73: תל אביב - יפו | AI73: Y-AraviH-tlv-M@kishurim.k12.il | AJ73: 1998 | AK73: 0 | AL73: 0 | AM73: 0 | AN73: 0 | AO73: 0 | AP73: 0 | AQ73: 0 | AR73: 0 | AS73: 0 | AT73: יוחא מלא | AW73: 5 | AX73: 5 | AY73: 1 | AZ73: 2 | BA73: 1 | BB73: 1 | BC73: 1 | BD73: 0 | BE73: 0
A74: 2002 | B74: 518068 | C74: לב יפו | D74: 44 | E74: 50005 | F74: תל אביב-יפו | G74: 50005 | H74: תל אביב - יפו | I74: ערבי | J74: מ"מ | K74: רשמי | L74: תל אביב | M74: תל אביב | N74: רגיל | O74: 11 | P74: בית ספר | Q74: 1 | R74: רגיל | S74: 10 | T74: יסודי בלבד | U74: 0 | V74: 6 | W74: ראיסה איברהים | X74: הלמר אסתר | Y74: 03-682-6338 | Z74: 03-682-6347 | AA74: פסטלוצ'י 35 , יפו | AC74: 1968 | AD74: 68134 | AE74: פסטלוצ'י 35 , יפו | AF74: 50005 | AG74: תל אביב - יפו | AI74: Y-LevYaf-tlv-M@kishurim.k12.il | AJ74: 2001 | AK74: 0 | AL74: 0 | AM74: 0 | AN74: 0 | AO74: 0 | AP74: 0 | AQ74: 0 | AR74: 0 | AS74: 0 | AT74: יוחא מלא | AW74: 5 | AX74: 5 | AY74: 1 | AZ74: 2 | BA74: 1 | BB74: 1 | BC74: 1 | BD74: 0 | BE74: 0
A75: 2002 | B75: 525303 | C75: מ.מחוזי לשעות מוכר | E75: 50005 | F75: תל אביב-יפו | G75: 50005 | H75: תל אביב - יפו | I75: יהודי | J75: מ"מ | K75: מוכר | L75: תל אביב | M75: תל אביב | N75: רגיל | O75: 21 | P75: מרכז ניהולי לתקצוב | Q75: 20 | R75: מחוזי לריכוז שעות | S75: 10 | T75: יסודי בלבד | U75: 0 | V75: 6 | W75: הוד אביבה | X75: אביבה הוד | Y75: 03-693-5405 | Z75: 0--0000 | AA75: 39 שאול המלך | AC75: 0 | AD75: 0 | AE75: 39 שאול המלך | AF75: 50005 | AG75: תל אביב - יפו | AJ75: 1996 | AK75: 0 | AL75: 0 | AM75: 0 | AN75: 0 | AO75: 0 | AP75: 0 | AQ75: 0 | AR75: 0 | AS75: 0 | AW75: 5 | AX75: 5 | AY75: 2 | AZ75: 1 | BA75: 1 | BC75: 1 | BD75: 0 | BE75: 0

Sheet מוסדות 2007
A1: שנה | B1: סמל מוסד | C1: שם מוסד | D1: סה"כ תלמידים במוסד | E1: סמל רשות | F1: שם רשות | G1: סמל ישוב | H1: שם ישוב | I1: מגזר | J1: פיקוח | K1: מעמד משפטי | L1: גורם מדווח | M1: מחוז גאוגרפי | N1: סוג חינוך מוסד | O1: קוד סוג מסגרת אירגונית | P1: סוג מסגרת אירגונית | Q1: קוד סוג מוסד | R1: סוג מוסד | S1: קוד שלבי חינוך במוסד | T1: שלבי חינוך במוסד | U1: משכבה | V1: עד שכבה | W1: שם מנהל | X1: שם מפקח | Y1: טלפון | Z1: פקס | AA1: כתובת גאוגרפית | AB1: בית | AC1: סמל רחוב | AD1: מיקוד | AE1: כתובת דואר | AF1: סמל ישוב דואר | AG1: שם ישוב דואר | AH1: דואר אלקטרוני של המנהל | AI1: דואר אלקטרוני של מוסד | AJ1: שנת יסוד | AK1: זכאי תשלום בגין מקיף | AL1: זכאי שיקום שכונות | AM1: זכאי רווחה | AN1: זכאי לשכר לימוד | AO1: קוד הכרה בציונים לבגרות | AP1: זכאי גמול הכנה לבגרות | AQ1: מגיש לבגרות | AR1: סוג חינוך לבגרות | AS1: גמולים חט"ע | AT1: תאור יוח"א | AU1: תוקף רשיון מאת | AV1: תוקף רשיון עד | AW1: קוד מחוז גאוגרפי | AX1: קוד גורם מדווח | AY1: קוד מעמד משפטי | AZ1: קוד מגזר | BA1: קוד סוג פיקוח | BB1: קוד יוח"א | BC1: קוד סוג חינוך מוסד | BD1: פרופיל מורים | BE1: אחוז רמת שרות
A2: 2007 | B2: 510024 | C2: במעלה | D2: 489 | E2: 24000 | F2: אור יהודה | G2: 24000 | H2: אור יהודה | I2: יהודי | J2: מ"מ | K2: רשמי | L2: תל אביב | M2: תל אביב | N2: רגיל | O2: 11 | P2: בית ספר | Q2: 1 | R2: רגיל | S2: 10 | T2: יסודי בלבד | U2: 1 | V2: 6 | W2: רות ברכר | Y2: 03-533-4702 | Z2: 03-533-8193 | AA2: החצב 2 | AB2: 2 | AC2: 114 | AD2: 60200 | AE2: החצב 2 | AF2: 24000 | AG2: אור יהודה | AI2: Y-bamale-ory-M@kishurim.k12.il | AJ2: 1960 | AK2: 0 | AL2: 0 | AM2: 1 | AN2: 0 | AO2: 0 | AP2: 0 | AQ2: 0 | AR2: 0 | AS2: 0 | AT2: ללא יוח"א | AW2: 5 | AX2: 5 | AY2: 1 | AZ2: 1 | BA2: 1 | BB2: 0 | BC2: 1 | BD2: 0 | BE2: 0
A3: 2007 | B3: 510057 | C3: סעדיה גאון מד | D3: 278 | E3: 24000 | F3: אור יהודה | G3: 24000 | H3: אור יהודה | I3: יהודי | J3: חמ"ד | K3: רשמי | L3: תל אביב | M3: תל אביב | N3: רגיל | O3: 11 | P3: בית ספר | Q3: 1 | R3: רגיל | S3: 11 | T3: גן ויסודי | U3: 0 | V3: 6 | W3: רונית אלבז | Y3: 03-533-1629 | Z3: 03-634-2965 | AA3: הדדי משה 9 | AB3: 9 | AC3: 341 | AD3: 60200 | AE3: הדדי משה 9 | AF3: 24000 | AG3: אור יהודה | AI3: Y-Sgaon-ory-M@kishurim.k12.il | AJ3: 1960 | AK3: 0 | AL3: 0 | AM3: 1 | AN3: 0 | AO3: 0 | AP3: 0 | AQ3: 0 | AR3: 0 | AS3: 0 | AT3: ללא יוח"א | AW3: 5 | AX3: 5 | AY3: 1 | AZ3: 1 | BA3: 2 | BB3: 0 | BC3: 1 | BD3: 0 | BE3: 0
A4: 2007 | B4: 510065 | C4: עמרם גאון מד | D4: 289 | E4: 24000 | F4: אור יהודה | G4: 24000 | H4: אור יהודה | I4: יהודי | J4: חמ"ד | K4: רשמי | L4: תל אביב | M4: תל אביב | N4: רגיל | O4: 11 | P4: בית ספר | Q4: 1 | R4: רגיל | S4: 10 | T4: יסודי בלבד | U4: 1 | V4: 6 | W4: שולמית בלפר | Y4: 03-533-4482 | Z4: 03-634-1218 | AA4: ירושלים 9 | AB4: 9 | AC4: 130 | AD4: 60250 | AE4: ירושלים 9 | AF4: 24000 | AG4: אור יהודה | AI4: Y-AmramG-ory-M@kishurim.k12.il | AJ4: 1950 | AK4: 0 | AL4: 0 | AM4: 1 | AN4: 0 | AO4: 0 | AP4: 0 | AQ4: 0 | AR4: 0 | AS4: 0 | AT4: ללא יוח"א | AW4: 5 | AX4: 5 | AY4: 1 | AZ4: 1 | BA4: 2 | BB4: 0 | BC4: 1 | BD4: 0 | BE4: 0
A5: 2007 | B5: 510073 | C5: השבעה | D5: 307 | E5: 5652 | F5: אזור | G5: 5652 | H5: אזור | I5: יהודי | J5: מ"מ | K5: רשמי | L5: תל אביב | M5: תל אביב | N5: רגיל | O5: 11 | P5: בית ספר | Q5: 1 | R5: רגיל | S5: 10 | T5: יסודי בלבד | U5: 1 | V5: 6 | W5: אידה אורבך | Y5: 03-550-3244 | Z5: 03-556-0994 | AA5: השבעה 2 | AB5: 2 | AC5: 144 | AD5: 58010 | AE5: השבעה 2 | AF5: 5652 | AG5: אזור | AI5: Y-hashiv-azr-M@kishurim.k12.il | AJ5: 1960 | AK5: 0 | AL5: 0 | AM5: 0 | AN5: 0 | AO5: 0 | AP5: 0 | AQ5: 0 | AR5: 0 | AS5: 0 | AT5: ללא יוח"א | AW5: 5 | AX5: 5 | AY5: 1 | AZ5: 1 | BA5: 1 | BB5: 0 | BC5: 1 | BD5: 0 | BE5: 0
A6: 2007 | B6: 510081 | C6: מימון מד | D6: 78 | E6: 5652 | F6: אזור | G6: 5652 | H6: אזור | I6: יהודי | J6: חמ"ד | K6: רשמי | L6: תל אביב | M6: תל אביב | N6: רגיל | O6: 11 | P6: בית ספר | Q6: 1 | R6: רגיל | S6: 11 | T6: גן ויסודי | U6: 0 | V6: 6 | W6: רבקה גור ארי | Y6: 03-550-1821 | Z6: 03-558-2423 | AA6: קפלן 15 | AB6: 15 | AC6: 112 | AD6: 58013 | AE6: קפלן 15 | AF6: 5652 | AG6: אזור | AI6: Y-mimon-azr-M@kishurim.k12.il | AJ6: 1960 | AK6: 0 | AL6: 0 | AM6: 0 | AN6: 0 | AO6: 0 | AP6: 0 | AQ6: 0 | AR6: 0 | AS6: 0 | AT6: ללא יוח"א | AW6: 5 | AX6: 5 | AY6: 1 | AZ6: 1 | BA6: 2 | BB6: 0 | BC6: 1 | BD6: 0 | BE6: 0
A7: 2007 | B7: 510115 | C7: קוממיות | D7: 270 | E7: 61002 | F7: בני ברק | G7: 61002 | H7: בני ברק | I7: יהודי | J7: מ"מ | K7: רשמי | L7: תל אביב | M7: תל אביב | N7: רגיל | O7: 11 | P7: בית ספר | Q7: 1 | R7: רגיל | S7: 10 | T7: יסודי בלבד | U7: 1 | V7: 6 | W7: יצחק מרקוס | Y7: 03-618-4482 | Z7: 03-618-4482 | AA7: המכבים 23 | AB7: 23 | AC7: 309 | AD7: 51287 | AE7: המכבים 23 | AF7: 61002 | AG7: בני ברק | AI7: Y-comamm-bnb-S@kishurim.k12.il | AJ7: 1960 | AK7: 0 | AL7: 1 | AM7: 1 | AN7: 0 | AO7: 0 | AP7: 0 | AQ7: 0 | AR7: 0 | AS7: 0 | AT7: יוחא מלא | AW7: 5 | AX7: 5 | AY7: 1 | AZ7: 1 | BA7: 1 | BB7: 1 | BC7: 1 | BD7: 0 | BE7: 0
A8: 2007 | B8: 510156 | C8: מקור חיים מד | D8: 255 | E8: 61002 | F8: בני ברק | G8: 61002 | H8: בני ברק | I8: יהודי | J8: חמ"ד | K8: רשמי | L8: תל אביב | M8: תל אביב | N8: רגיל | O8: 11 | P8: בית ספר | Q8: 1 | R8: רגיל | S8: 10 | T8: יסודי בלבד | U8: 1 | V8: 6 | W8: אסתר חסיה יוזוק | Y8: 03-618-0428 | Z8: 03-618-9725 | AA8: אברבנאל 105 | AB8: 105 | AC8: 201 | AD8: 51225 | AE8: אברבנאל 105 | AF8: 61002 | AG8: בני ברק | AI8: Y-makha-bnb-M@kishurim.k12.il | AJ8: 1950 | AK8: 0 | AL8: 1 | AM8: 1 | AN8: 0 | AO8: 0 | AP8: 0 | AQ8: 0 | AR8: 0 | AS8: 0 | AT8: יוחא מלא | AW8: 5 | AX8: 5 | AY8: 1 | AZ8: 1 | BA8: 2 | BB8: 1 | BC8: 1 | BD8: 0 | BE8: 0
A9: 2007 | B9: 510198 | C9: מוהליבר מד | D9: 212 | E9: 61002 | F9: בני ברק | G9: 61002 | H9: בני ברק | I9: יהודי | J9: חמ"ד | K9: רשמי | L9: תל אביב | M9: תל אביב | N9: רגיל | O9: 11 | P9: בית ספר | Q9: 1 | R9: רגיל | S9: 10 | T9: יסודי בלבד | U9: 1 | V9: 6 | W9: שושנה ליכטנשטט | Y9: 03-618-0002 | Z9: 03-618-2760 | AA9: ירושלים 1 | AB9: 1 | AC9: 414 | AD9: 51351 | AE9: ירושלים 1 | AF9: 61002 | AG9: בני ברק | AI9: Y-mohali-bnb-M@kishurim.k12.il | AJ9: 1960 | AK9: 0 | AL9: 0 | AM9: 0 | AN9: 0 | AO9: 0 | AP9: 0 | AQ9: 0 | AR9: 0 | AS9: 0 | AT9: ללא יוח"א | AW9: 5 | AX9: 5 | AY9: 1 | AZ9: 1 | BA9: 2 | BB9: 0 | BC9: 1 | BD9: 0 | BE9: 0
A10: 2007 | B10: 510214 | C10: ראשונים | D10: 922 | E10: 62000 | F10: בת ים | G10: 62000 | H10: בת ים | I10: יהודי | J10: מ"מ | K10: רשמי | L10: תל אביב | M10: תל אביב | N10: רגיל | O10: 11 | P10: בית ספר | Q10: 1 | R10: רגיל | S10: 10 | T10: יסודי בלבד | U10: 1 | V10: 6 | W10: יעל בוץ | Y10: 03-508-0062 | Z10: 03-506-2071 | AA10: פרלשטיין 20 | AB10: 20 | AC10: 410 | AD10: 59473 | AE10: פרלשטיין 20 | AF10: 62000 | AG10: בת ים | AI10: Y-rishon-bty-M@kishurim.k12.il | AJ10: 1960 | AK10: 0 | AL10: 0 | AM10: 0 | AN10: 0 | AO10: 0 | AP10: 0 | AQ10: 0 | AR10: 0 | AS10: 0 | AT10: ללא יוח"א | AW10: 5 | AX10: 5 | AY10: 1 | AZ10: 1 | BA10: 1 | BB10: 0 | BC10: 1 | BD10: 0 | BE10: 0
A11: 2007 | B11: 510230 | C11: יצחק שדה א | D11: 539 | E11: 62000 | F11: בת ים | G11: 62000 | H11: בת ים | I11: יהודי | J11: מ"מ | K11: רשמי | L11: תל אביב | M11: תל אביב | N11: רגיל | O11: 11 | P11: בית ספר | Q11: 1 | R11: רגיל | S11: 10 | T11: יסודי בלבד | U11: 1 | V11: 6 | W11: סופיה מאיר | Y11: 03-553-0466 | Z11: 03-552-9522 | AA11: השקמה 28 | AB11: 28 | AC11: 308 | AD11: 59577 | AE11: השקמה 28 | AF11: 62000 | AG11: בת ים | AI11: Y-Itzhak-bty-M@kishurim.k12.il | AJ11: 1960 | AK11: 0 | AL11: 0 | AM11: 0 | AN11: 0 | AO11: 0 | AP11: 0 | AQ11: 0 | AR11: 0 | AS11: 0 | AT11: ללא יוח"א | AW11: 5 | AX11: 5 | AY11: 1 | AZ11: 1 | BA11: 1 | BB11: 0 | BC11: 1 | BD11: 0 | BE11: 0
A12: 2007 | B12: 510255 | C12: א.ד.גורדון | D12: 210 | E12: 62000 | F12: בת ים | G12: 62000 | H12: בת ים | I12: יהודי | J12: מ"מ | K12: רשמי | L12: תל אביב | M12: תל אביב | N12: רגיל | O12: 11 | P12: בית ספר | Q12: 1 | R12: רגיל | S12: 10 | T12: יסודי בלבד | U12: 1 | V12: 6 | W12: זהבה מונצה | Y12: 03-506-5518 | Z12: 03-657-0899 | AA12: רמב"ם 7 | AB12: 7 | AC12: 207 | AD12: 59305 | AE12: רמב"ם 7 | AF12: 62000 | AG12: בת ים | AI12: Y-gordon-bty-M@kishurim.k12.il | AJ12: 1960 | AK12: 0 | AL12: 0 | AM12: 0 | AN12: 0 | AO12: 0 | AP12: 0 | AQ12: 0 | AR12: 0 | AS12: 0 | AT12: ללא יוח"א | AW12: 5 | AX12: 5 | AY12: 1 | AZ12: 1 | BA12: 1 | BB12: 0 | BC12: 1 | BD12: 0 | BE12: 0
A13: 2007 | B13: 510271 | C13: עקיבא מד | D13: 225 | E13: 62000 | F13: בת ים | G13: 62000 | H13: בת ים | I13: יהודי | J13: חמ"ד | K13: רשמי | L13: תל אביב | M13: תל אביב | N13: רגיל | O13: 11 | P13: בית ספר | Q13: 1 | R13: רגיל | S13: 11 | T13: גן ויסודי | U13: 0 | V13: 6 | W13: חנה נגר | Y13: 03-506-5133 | Z13: 03-506-5133 | AA13: נגבה 10 | AB13: 10 | AC13: 121 | AD13: 59343 | AE13: נגבה 10 | AF13: 62000 | AG13: בת ים | AI13: Y-akiva-bty-M@kishurim.k12.il | AJ13: 1950 | AK13: 0 | AL13: 1 | AM13: 1 | AN13: 0 | AO13: 0 | AP13: 0 | AQ13: 0 | AR13: 0 | AS13: 0 | AT13: יוחא מלא | AW13: 5 | AX13: 5 | AY13: 1 | AZ13: 1 | BA13: 2 | BB13: 1 | BC13: 1 | BD13: 0 | BE13: 0
... A68: 2007 | B68: 511071 | C68: אלחריזי | D68: 449 | E68: 50005 | F68: תל אביב-יפו | G68: 50005 | H68: תל אביב - יפו | I68: יהודי | J68: מ"מ | K68: רשמי | L68: תל אביב | M68: תל אביב | N68: רגיל | O68: 11 | P68: בית ספר | Q68: 1 | R68: רגיל | S68: 10 | T68: יסודי בלבד | U68: 1 | V68: 6 | W68: שלומית ברק יסקולקה | Y68: 03-648-7888 | Z68: 03-648-7999 | AA68: מגדל שרשן 17 | AB68: 17 | AC68: 216 | AD68: 69015 | AE68: מגדל שרשן 17 | AF68: 50005 | AG68: תל אביב - יפו | AI68: Y-elchar-tlv-M@kishurim.k12.il | AJ68: 1950 | AK68: 0 | AL68: 0 | AM68: 0 | AN68: 0 | AO68: 0 | AP68: 0 | AQ68: 0 | AR68: 0 | AS68: 0 | AT68: ללא יוח"א | AW68: 5 | AX68: 5 | AY68: 1 | AZ68: 1 | BA68: 1 | BB68: 0 | BC68: 1 | BD68: 0 | BE68: 0
A69: 2007 | B69: 511113 | C69: ביאליק | D69: 311 | E69: 50005 | F69: תל אביב-יפו | G69: 50005 | H69: תל אביב - יפו | I69: יהודי | J69: מ"מ | K69: רשמי | L69: תל אביב | M69: תל אביב | N69: רגיל | O69: 11 | P69: בית ספר | Q69: 1 | R69: רגיל | S69: 11 | T69: גן ויסודי | U69: 0 | V69: 6 | W69: קרין טל | Y69: 03-688-3802 | Z69: 03-687-4684 | AA69: מולדת 24 | AB69: 24 | AC69: 2232 | AE69: מולדת 24 | AF69: 50005 | AG69: תל אביב - יפו | AI69: Y-bialik-tlv-C@kishurim.k12.il | AJ69: 1950 | AK69: 0 | AL69: 1 | AM69: 1 | AN69: 0 | AO69: 0 | AP69: 0 | AQ69: 0 | AR69: 0 | AS69: 0 | AT69: יוחא מלא | AW69: 5 | AX69: 5 | AY69: 1 | AZ69: 1 | BA69: 1 | BB69: 1 | BC69: 1 | BD69: 0 | BE69: 0
A70: 2007 | B70: 511121 | C70: בלפור | D70: 554 | E70: 50005 | F70: תל אביב-יפו | G70: 50005 | H70: תל אביב - יפו | I70: יהודי | J70: מ"מ | K70: רשמי | L70: תל אביב | M70: תל אביב | N70: רגיל | O70: 11 | P70: בית ספר | Q70: 1 | R70: רגיל | S70: 10 | T70: יסודי בלבד | U70: 1 | V70: 6 | W70: צילי בן-עמי | Y70: 03-629-8285 | Z70: 03-525-6748 | AA70: בלפור 12 | AB70: 12 | AC70: 1264 | AD70: 65211 | AE70: בלפור 12 | AF70: 50005 | AG70: תל אביב - יפו | AI70: Y-balfur-tlv-M@kishurim.k12.il | AJ70: 1950 | AK70: 0 | AL70: 0 | AM70: 0 | AN70: 0 | AO70: 0 | AP70: 0 | AQ70: 0 | AR70: 0 | AS70: 0 | AT70: ללא יוח"א | AW70: 5 | AX70: 5 | AY70: 1 | AZ70: 1 | BA70: 1 | BB70: 0 | BC70: 1 | BD70: 0 | BE70: 0
A71: 2007 | B71: 511162 | C71: ברנר | D71: 224 | E71: 50005 | F71: תל אביב-יפו | G71: 50005 | H71: תל אביב - יפו | I71: יהודי | J71: מ"מ | K71: רשמי | L71: תל אביב | M71: תל אביב | N71: רגיל | O71: 11 | P71: בית ספר | Q71: 1 | R71: רגיל | S71: 10 | T71: יסודי בלבד | U71: 1 | V71: 6 | W71: עמירה קינן | Y71: 03-682-3001 | Z71: 03-518-2695 | AA71: דקל 2 | AB71: 2 | AC71: 3009 | AD71: 68106 | AE71: דקל 2 | AF71: 50005 | AG71: תל אביב - יפו | AI71: Y-brener-tlv-M@kishurim.k12.il | AJ71: 1960 | AK71: 0 | AL71: 1 | AM71: 1 | AN71: 0 | AO71: 0 | AP71: 0 | AQ71: 0 | AR71: 0 | AS71: 0 | AT71: יוחא מלא | AW71: 5 | AX71: 5 | AY71: 1 | AZ71: 1 | BA71: 1 | BB71: 1 | BC71: 1 | BD71: 0 | BE71: 0
A72: 2007 | B72: 511170 | C72: גבורי ישראל | D72: 331 | E72: 50005 | F72: תל אביב-יפו | G72: 50005 | H72: תל אביב - יפו | I72: יהודי | J72: מ"מ | K72: רשמי | L72: תל אביב | M72: תל אביב | N72: רגיל | O72: 11 | P72: בית ספר | Q72: 1 | R72: רגיל | S72: 10 | T72: יסודי בלבד | U72: 1 | V72: 6 | W72: כרמלה מירוז | Y72: 03-739-7453 | Z72: 03-730-5468 | AA72: שד' יד לבנים 18 | AB72: 18 | AC72: 2642 | AD72: 67224 | AE72: שד' יד לבנים 18 | AF72: 50005 | AG72: תל אביב - יפו | AI72: Y-gibore-tlv-M@kishurim.k12.il | AJ72: 1960 | AK72: 0 | AL72: 0 | AM72: 0 | AN72: 0 | AO72: 0 | AP72: 0 | AQ72: 0 | AR72: 0 | AS72: 0 | AT72: ללא יוח"א | AW72: 5 | AX72: 5 | AY72: 1 | AZ72: 1 | BA72: 1 | BB72: 0 | BC72: 1 | BD72: 0 | BE72: 0
A73: 2007 | B73: 511188 | C73: נופים ע"ש דוד רמז | D73: 324 | E73: 50005 | F73: תל אביב-יפו | G73: 50005 | H73: תל אביב - יפו | I73: יהודי | J73: מ"מ | K73: רשמי | L73: תל אביב | M73: תל אביב | N73: רגיל | O73: 11 | P73: בית ספר | Q73: 1 | R73: רגיל | S73: 10 | T73: יסודי בלבד | U73: 1 | V73: 6 | W73: אריה גרינברגר | Y73: 03-682-1935 | Z73: 03-682-4897 | AA73: החצוצרה 8 | AB73: 8 | AC73: 2407 | AD73: 66870 | AE73: החצוצרה 8 | AF73: 50005 | AG73: תל אביב - יפו | AI73: Y-shalom-tlv-M@kishurim.k12.il | AJ73: 1960 | AK73: 0 | AL73: 0 | AM73: 1 | AN73: 0 | AO73: 0 | AP73: 0 | AQ73: 0 | AR73: 0 | AS73: 0 | AT73: ללא יוח"א | AW73: 5 | AX73: 5 | AY73: 1 | AZ73: 1 | BA73: 1 | BB73: 0 | BC73: 1 | BD73: 0 | BE73: 0
A74: 2007 | B74: 511196 | C74: איתמר בן אבי | D74: 334 | E74: 50005 | F74: תל אביב-יפו | G74: 50005 | H74: תל אביב - יפו | I74: יהודי | J74: מ"מ | K74: רשמי | L74: תל אביב | M74: תל אביב | N74: רגיל | O74: 11 | P74: בית ספר | Q74: 1 | R74: רגיל | S74: 10 | T74: יסודי בלבד | U74: 1 | V74: 6 | W74: שרה דמבין | Y74: 03-658-7258 | Z74: 03-506-0972 | AA74: רובינשטיין יצחק 20 | AB74: 20 | AC74: 2029 | AD74: 68077 | AE74: תל אביב - יפו | AF74: 50005 | AG74: תל אביב - יפו | AI74: Y-hatmar-tlv-M@kishurim.k12.il | AJ74: 1960 | AK74: 0 | AL74: 0 | AM74: 1 | AN74: 0 | AO74: 0 | AP74: 0 | AQ74: 0 | AR74: 0 | AS74: 0 | AT74: ללא יוח"א | AW74: 5 | AX74: 5 | AY74: 1 | AZ74: 1 | BA74: 1 | BB74: 0 | BC74: 1 | BD74: 0 | BE74: 0
A75: 2007 | B75: 511204 | C75: גולומב | D75: 273 | E75: 50005 | F75: תל אביב-יפו | G75: 50005 | H75: תל אביב - יפו | I75: יהודי | J75: מ"מ | K75: רשמי | L75: תל אביב | M75: תל אביב | N75: רגיל | O75: 11 | P75: בית ספר | Q75: 1 | R75: רגיל | S75: 10 | T75: יסודי בלבד | U75: 1 | V75: 6 | W75: אירמה דניאל | Y75: 03-739-5858 | Z75: 03-631-6088 | AA75: דרך בר-לב חיים 186 | AB75: 186 | AC75: 2766 | AD75: 67291 | AE75: תל אביב - יפו | AF75: 50005 | AG75: תל אביב - יפו | AI75: Y-golomb-tlv-M@kishurim.k12.il | AJ75: 1960 | AK75: 0 | AL75: 1 | AM75: 1 | AN75: 0 | AO75: 0 | AP75: 0 | AQ75: 0 | AR75: 0 | AS75: 0 | AT75: ללא יוח"א | AW75: 5 | AX75: 5 | AY75: 1 | AZ75: 1 | BA75: 1 | BB75: 0 | BC75: 1 | BD75: 0 | BE75: 0
A76: 2007 | B76: 511212 | C76: א. ד. גורדון | D76: 441 | E76: 50005 | F76: תל אביב-יפו | G76: 50005 | H76: תל אביב - יפו | I76: יהודי | J76: מ"מ | K76: רשמי | L76: תל אביב | M76: תל אביב | N76: רגיל | O76: 11 | P76: בית ספר | Q76: 1 | R76: רגיל | S76: 10 | T76: יסודי בלבד | U76: 1 | V76: 6 | W76: אליעזר נחמה | Y76: 03-546-5869 | Z76: 03-544-4897 | AA76: הירקון 248 | AB76: 248 | AC76: 461 | AD76: 63409 | AE76: הירקון 248 | AF76: 50005 | AG76: תל אביב - יפו | AI76: Y-gordon-tlv-M@kishurim.k12.il | AJ76: 1950 | AK76: 0 | AL76: 0 | AM76: 0 | AN76: 0 | AO76: 0 | AP76: 0 | AQ76: 0 | AR76: 0 | AS76: 0 | AT76: ללא יוח"א | AW76: 5 | AX76: 5 | AY76: 1 | AZ76: 1 | BA76: 1 | BB76: 0 | BC76: 1 | BD76: 0 | BE76: 0
A77: 2007 | B77: 511220 | C77: גרץ | D77: 408 | E77: 50005 | F77: תל אביב-יפו | G77: 50005 | H77: תל אביב - יפו | I77: יהודי | J77: מ"מ | K77: רשמי | L77: תל אביב | M77: תל אביב | N77: רגיל | O77: 11 | P77: בית ספר | Q77: 1 | R77: רגיל | S77: 10 | T77: יסודי בלבד | U77: 1 | V77: 6 | W77: צפורה אברהמי | Y77: 03-522-0034 | Z77: 03-527-1905 | AA77: אד"ם הכהן 5 | AB77: 5 | AC77: 533 | AD77: 64585 | AE77: אד"ם הכהן 5 | AF77: 50005 | AG77: תל אביב - יפו | AI77: Y-gretz-tlv-M@kishurim.k12.il | AJ77: 1960 | AK77: 0 | AL77: 0 | AM77: 0 | AN77: 0 | AO77: 0 | AP77: 0 | AQ77: 0 | AR77: 0 | AS77: 0 | AT77: ללא יוח"א | AW77: 5 | AX77: 5 | AY77: 1 | AZ77: 1 | BA77: 1 | BB77: 0 | BC77: 1 | BD77: 0 | BE77: 0
A78: 2007 | B78: 511246 | C78: דוד ילין | D78: 457 | E78: 50005 | F78: תל אביב-יפו | G78: 50005 | H78: תל אביב - יפו | I78: יהודי | J78: מ"מ | K78: רשמי | L78: תל אביב | M78: תל אביב | N78: רגיל | O78: 11 | P78: בית ספר | Q78: 1 | R78: רגיל | S78: 10 | T78: יסודי בלבד | U78: 1 | V78: 6 | W78: משה עיני | Y78: 03-647-8878 | Z78: 03-648-6352 | AA78: קהילת ורשה 12 | AB78: 12 | AC78: 230 | AD78: 69700 | AE78: קהילת ורשה 12 | AF78: 50005 | AG78: תל אביב - יפו | AI78: Y-davidy-tlv-C@kishurim.k12.il | AJ78: 1960 | AK78: 0 | AL78: 0 | AM78: 0 | AN78: 0 | AO78: 0 | AP78: 0 | AQ78: 0 | AR78: 0 | AS78: 0 | AT78: ללא יוח"א | AW78: 5 | AX78: 5 | AY78: 1 | AZ78: 1 | BA78: 1 | BB78: 0 | BC78: 1 | BD78: 0 | BE78: 0
A79: 2007 | B79: 511261 | C79: דוד בלוך | D79: 368 | E79: 50005 | F79: תל אביב-יפו | G79: 50005 | H79: תל אביב - יפו | I79: יהודי | J79: מ"מ | K79: רשמי | L79: תל אביב | M79: תל אביב | N79: רגיל | O79: 11 | P79: בית ספר | Q79: 1 | R79: רגיל | S79: 11 | T79: גן ויסודי | U79: 0 | V79: 6 | W79: שירה לוי | Y79: 03-562-4991 | Z79: 03-561-8306 | AA79: ביצרון 19 | AB79: 19 | AC79: 2548 | AD79: 67895 | AE79: ביצרון 19 | AF79: 50005 | AG79: תל אביב - יפו | AI79: Y-bloch-tlv-M@kishurim.k12.il | AJ79: 1960 | AK79: 0 | AL79: 0 | AM79: 0 | AN79: 0 | AO79: 0 | AP79: 0 | AQ79: 0 | AR79: 0 | AS79: 0 | AT79: ללא יוח"א | AW79: 5 | AX79: 5 | AY79: 1 | AZ79: 1 | BA79: 1 | BB79: 0 | BC79: 1 | BD79: 0 | BE79: 0
A80: 2007 | B80: 511279 | C80: הגליל | D80: 367 | E80: 50005 | F80: תל אביב-יפו | G80: 50005 | H80: תל אביב - יפו | I80: יהודי | J80: מ"מ | K80: רשמי | L80: תל אביב | M80: תל אביב | N80: רגיל | O80: 11 | P80: בית ספר | Q80: 1 | R80: רגיל | S80: 10 | T80: יסודי בלבד | U80: 1 | V80: 6 | W80: יעל בלוקה | Y80: 03-739-3504 | Z80: 03-631-6132 | AA80: גבעתי 4 | AB80: 4 | AC80: 2632 | AD80: 67651 | AE80: גבעתי 4 | AF80: 50005 | AG80: תל אביב - יפו | AI80: Y-hagali-tlv-M@kishurim.k12.il | AJ80: 1960 | AK80: 0 | AL80: 1 | AM80: 0 | AN80: 0 | AO80: 0 | AP80: 0 | AQ80: 0 | AR80: 0 | AS80: 0 | AT80: יוחא מלא | AW80: 5 | AX80: 5 | AY80: 1 | AZ80: 1 | BA80: 1 | BB80: 1 | BC80: 1 | BD80: 0 | BE80: 0
A81: 2007 | B81: 511329 | C81: היובל | D81: 350 | E81: 50005 | F81: תל אביב-יפו | G81: 50005 | H81: תל אביב - יפו | I81: יהודי | J81: מ"מ | K81: רשמי | L81: תל אביב | M81: תל אביב | N81: רגיל | O81: 11 | P81: בית ספר | Q81: 1 | R81: רגיל | S81: 10 | T81: יסודי בלבד | U81: 1 | V81: 6 | W81: יעל אנג'ל יוסף | Y81: 03-696-0787 | Z81: 03-522-9042 | AA81: מודיליאני 19 | AB81: 19 | AC81: 1018 | AD81: 64687 | AE81: מודיליאני 19 | AF81: 50005 | AG81: תל אביב - יפו | AI81: Y-hayove-tlv-M@kishurim.k12.il | AJ81: 1950 | AK81: 0 | AL81: 0 | AM81: 0 | AN81: 0 | AO81: 0 | AP81: 0 | AQ81: 0 | AR81: 0 | AS81: 0 | AT81: ללא יוח"א | AW81: 5 | AX81: 5 | AY81: 1 | AZ81: 1 | BA81: 1 | BB81: 0 | BC81: 1 | BD81: 0 | BE81: 0
... A92: 2007 | B92: 511782 | C92: דיזנגוף | D92: 257 | E92: 50005 | F92: תל אביב-יפו | G92: 50005 | H92: תל אביב - יפו | I92: יהודי | J92: חמ"ד | K92: רשמי | L92: תל אביב | M92: תל אביב | N92: רגיל | O92: 11 | P92: בית ספר | Q92: 1 | R92: רגיל | S92: 10 | T92: יסודי בלבד | U92: 1 | V92: 6 | W92: שולמית כהן צדק | Y92: 03-681-3042 | Z92: 03-681-9528 | AA92: דיזנגוף 2 | AB92: 2 | AC92: 404 | AD92: 66870 | AE92: דיזנגוף 2 | AF92: 50005 | AG92: תל אביב - יפו | AI92: Y-dizeng-tlv-M@kishurim.k12.il | AJ92: 1960 | AK92: 0 | AL92: 1 | AM92: 1 | AN92: 0 | AO92: 0 | AP92: 0 | AQ92: 0 | AR92: 0 | AS92: 0 | AT92: יוחא מלא | AW92: 5 | AX92: 5 | AY92: 1 | AZ92: 1 | BA92: 2 | BB92: 1 | BC92: 1 | BD92: 0 | BE92: 0
A93: 2007 | B93: 511790 | C93: בעל שם טוב מד | D93: 167 | E93: 50005 | F93: תל אביב-יפו | G93: 50005 | H93: תל אביב - יפו | I93: יהודי | J93: חמ"ד | K93: רשמי | L93: תל אביב | M93: תל אביב | N93: רגיל | O93: 11 | P93: בית ספר | Q93: 1 | R93: רגיל | S93: 11 | T93: גן ויסודי | U93: 0 | V93: 6 | W93: מירה מרלן פנחס | Y93: 03-631-3211 | Z93: 03-739-1270 | AA93: לובטקין צביה 35 | AB93: 35 | AC93: 2981 | AD93: 67659 | AE93: לובטקין צביה | AF93: 50005 | AG93: תל אביב - יפו | AJ93: 1950 | AK93: 0 | AL93: 1 | AM93: 1 | AN93: 0 | AO93: 0 | AP93: 0 | AQ93: 0 | AR93: 0 | AS93: 0 | AT93: יוחא מלא | AW93: 5 | AX93: 5 | AY93: 1 | AZ93: 1 | BA93: 2 | BB93: 1 | BC93: 1 | BD93: 0 | BE93: 0
A94: 2007 | B94: 511865 | C94: מודיעים מד | D94: 218 | E94: 50005 | F94: תל אביב-יפו | G94: 50005 | H94: תל אביב - יפו | I94: יהודי | J94: חמ"ד | K94: רשמי | L94: תל אביב | M94: תל אביב | N94: רגיל | O94: 11 | P94: בית ספר | Q94: 1 | R94: רגיל | S94: 10 | T94: יסודי בלבד | U94: 1 | V94: 6 | W94: שושנה פריאל | Y94: 03-537-3668 | Z94: 03-688-8413 | AA94: אלון יגאל 31 | AB94: 31 | AC94: 2524 | AD94: 67726 | AE94: אלון יגאל 31 | AF94: 50005 | AG94: תל אביב - יפו | AI94: Y-modiim-tlv-M@kishurim.k12.il | AJ94: 1960 | AK94: 0 | AL94: 1 | AM94: 1 | AN94: 0 | AO94: 0 | AP94: 0 | AQ94: 0 | AR94: 0 | AS94: 0 | AT94: יוחא מלא | AW94: 5 | AX94: 5 | AY94: 1 | AZ94: 1 | BA94: 2 | BB94: 1 | BC94: 1 | BD94: 0 | BE94: 0
A95: 2007 | B95: 511881 | C95: מוריה מד | D95: 273 | E95: 50005 | F95: תל אביב-יפו | G95: 50005 | H95: תל אביב - יפו | I95: יהודי | J95: חמ"ד | K95: רשמי | L95: תל אביב | M95: תל אביב | N95: רגיל | O95: 11 | P95: בית ספר | Q95: 1 | R95: רגיל | S95: 10 | T95: יסודי בלבד | U95: 1 | V95: 6 | W95: חנית סמדר פרשטנד | Y95: 03-696-4535 | Z95: 03-696-6160 | AA95: צייטלין 24 | AB95: 24 | AC95: 1033 | AD95: 64955 | AE95: צייטלין 24 | AF95: 50005 | AG95: תל אביב - יפו | AI95: Y-moria-tlv-M@kishurim.k12.il | AJ95: 1950 | AK95: 0 | AL95: 0 | AM95: 0 | AN95: 0 | AO95: 0 | AP95: 0 | AQ95: 0 | AR95: 0 | AS95: 0 | AT95: ללא יוח"א | AW95: 5 | AX95: 5 | AY95: 1 | AZ95: 1 | BA95: 2 | BB95: 0 | BC95: 1 | BD95: 0 | BE95: 0
A96: 2007 | B96: 511907 | C96: מירון מד | D96: 158 | E96: 50005 | F96: תל אביב-יפו | G96: 50005 | H96: תל אביב - יפו | I96: יהודי | J96: חמ"ד | K96: רשמי | L96: תל אביב | M96: תל אביב | N96: רגיל | O96: 11 | P96: בית ספר | Q96: 1 | R96: רגיל | S96: 10 | T96: יסודי בלבד | U96: 1 | V96: 6 | W96: רויטל פישר | Y96: 03-605-7379 | Z96: 03-604-9989 | AA96: שלומציון המלכה 65 | AB96: 65 | AC96: 803 | AD96: 62266 | AE96: שלומציון המלכה 65 | AF96: 50005 | AG96: תל אביב - יפו | AI96: Y-Miron-tlv-M@kishurim.k12.il | AJ96: 1960 | AK96: 0 | AL96: 0 | AM96: 0 | AN96: 0 | AO96: 0 | AP96: 0 | AQ96: 0 | AR96: 0 | AS96: 0 | AT96: ללא יוח"א | AW96: 5 | AX96: 5 | AY96: 1 | AZ96: 1 | BA96: 2 | BB96: 0 | BC96: 1 | BD96: 0 | BE96: 0
A97: 2007 | B97: 511931 | C97: עמיאל רמב"ם מד | D97: 205 | E97: 50005 | F97: תל אביב-יפו | G97: 50005 | H97: תל אביב - יפו | I97: יהודי | J97: חמ"ד | K97: רשמי | L97: תל אביב | M97: תל אביב | N97: רגיל | O97: 11 | P97: בית ספר | Q97: 1 | R97: רגיל | S97: 11 | T97: גן ויסודי | U97: 0 | V97: 6 | W97: משה כהן | Y97: 03-688-1173 | Z97: 03-639-0717 | AA97: לח"י 46 | AB97: 46 | AC97: 2860 | AD97: 67623 | AE97: לח"י 46 | AF97: 50005 | AG97: תל אביב - יפו | AI97: Y-AmielR-tlv-M@kishurim.k12.il | AJ97: 1960 | AK97: 0 | AL97: 1 | AM97: 1 | AN97: 0 | AO97: 0 | AP97: 0 | AQ97: 0 | AR97: 0 | AS97: 0 | AT97: יוחא מלא | AW97: 5 | AX97: 5 | AY97: 1 | AZ97: 1 | BA97: 2 | BB97: 1 | BC97: 1 | BD97: 0 | BE97: 0
A98: 2007 | B98: 511949 | C98: עציון מד | D98: 409 | E98: 50005 | F98: תל אביב-יפו | G98: 50005 | H98: תל אביב - יפו | I98: יהודי | J98: חמ"ד | K98: רשמי | L98: תל אביב | M98: תל אביב | N98: רגיל | O98: 11 | P98: בית ספר | Q98: 1 | R98: רגיל | S98: 10 | T98: יסודי בלבד | U98: 1 | V98: 6 | W98: שושנה נגר | Y98: 03-631-6032 | Z98: 03-631-8240 | AA98: ברנפלד שמעון 15 | AB98: 15 | AC98: 2682 | AD98: 67328 | AE98: ברנפלד שמעון 15 | AF98: 50005 | AG98: תל אביב - יפו | AI98: Y-etzion-tlv-M@kishurim.k12.il | AJ98: 1960 | AK98: 0 | AL98: 0 | AM98: 0 | AN98: 0 | AO98: 0 | AP98: 0 | AQ98: 0 | AR98: 0 | AS98: 0 | AT98: ללא יוח"א | AW98: 5 | AX98: 5 | AY98: 1 | AZ98: 1 | BA98: 2 | BB98: 0 | BC98: 1 | BD98: 0 | BE98: 0
A99: 2007 | B99: 511998 | C99: אלומות מד | D99: 133 | E99: 50005 | F99: תל אביב-יפו | G99: 50005 | H99: תל אביב - יפו | I99: יהודי | J99: חמ"ד | K99: רשמי | L99: תל אביב | M99: תל אביב | N99: רגיל | O99: 11 | P99: בית ספר | Q99: 1 | R99: רגיל | S99: 11 | T99: גן ויסודי | U99: 0 | V99: 6 | W99: ענת בינה בלייער | Y99: 03-699-4197 | Z99: 072-244-6510 | AA99: רדינג 35 | AB99: 35 | AC99: 101 | AD99: 69028 | AE99: רדינג 35 | AF99: 50005 | AG99: תל אביב - יפו | AI99: Y-alomot-tlv-M@kishurim.k12.il | AJ99: 1960 | AK99: 0 | AL99: 0 | AM99: 0 | AN99: 0 | AO99: 0 | AP99: 0 | AQ99: 0 | AR99: 0 | AS99: 0 | AT99: ללא יוח"א | AW99: 5 | AX99: 5 | AY99: 1 | AZ99: 1 | BA99: 2 | BB99: 0 | BC99: 1 | BD99: 0 | BE99: 0
A100: 2007 | B100: 512038 | C100: שרשים מד | D100: 228 | E100: 50005 | F100: תל אביב-יפו | G100: 50005 | H100: תל אביב - יפו | I100: יהודי | J100: חמ"ד | K100: רשמי | L100: תל אביב | M100: תל אביב | N100: רגיל | O100: 11 | P100: בית ספר | Q100: 1 | R100: רגיל | S100: 10 | T100: יסודי בלבד | U100: 1 | V100: 6 | W100: שמחה גיל | Y100: 03-687-4149 | Z100: 03-639-6344 | AA100: דרך שלמה 156 | AB100: 156 | AC100: 2378 | AD100: 61591 | AE100: תל אביב - יפו ת.ד. 20195 | AF100: 50005 | AG100: תל אביב - יפו | AI100: Y-shoras-tlv-M@kishurim.k12.il | AJ100: 1960 | AK100: 0 | AL100: 1 | AM100: 1 | AN100: 0 | AO100: 0 | AP100: 0 | AQ100: 0 | AR100: 0 | AS100: 0 | AT100: יוחא מלא | AW100: 5 | AX100: 5 | AY100: 1 | AZ100: 1 | BA100: 2 | BB100: 1 | BC100: 1 | BD100: 0 | BE100: 0
A101: 2007 | B101: 512087 | C101: חב"ד בנות | D101: 149 | E101: 50005 | F101: תל אביב-יפו | G101: 50005 | H101: תל אביב - יפו | I101: יהודי | J101: חמ"ד | K101: רשמי | L101: תל אביב | M101: תל אביב | N101: רגיל | O101: 11 | P101: בית ספר | Q101: 1 | R101: רגיל | S101: 10 | T101: יסודי בלבד | U101: 1 | V101: 8 | W101: מיכאל בן ארוש | Y101: 03-518-1405 | Z101: 03-518-1315 | AA101: נחל שורק 5 | AB101: 5 | AC101: 2184 | AD101: 68208 | AE101: נחל שורק 5 | AF101: 50005 | AG101: תל אביב - יפו | AI101: Y-chabad-tlv-M@kishurim.k12.il | AJ101: 1950 | AK101: 0 | AL101: 1 | AM101: 0 | AN101: 0 | AO101: 0 | AP101: 0 | AQ101: 0 | AR101: 0 | AS101: 0 | AT101: יוחא מלא | AW101: 5 | AX101: 5 | AY101: 1 | AZ101: 1 | BA101: 2 | BB101: 1 | BC101: 1 | BD101: 0 | BE101: 0
A102: 2007 | B102: 512442 | C102: ניצנים | D102: 402 | E102: 50005 | F102: תל אביב-יפו | G102: 50005 | H102: תל אביב - יפו | I102: יהודי | J102: מ"מ | K102: רשמי | L102: תל אביב | M102: תל אביב | N102: רגיל | O102: 11 | P102: בית ספר | Q102: 1 | R102: רגיל | S102: 10 | T102: יסודי בלבד | U102: 1 | V102: 6 | W102: רון נתן | Y102: 03-641-9880 | Z102: 03-642-6523 | AA102: אנדרסן 22 | AB102: 22 | AC102: 175 | AD102: 69107 | AE102: אנדרסן 22 | AF102: 50005 | AG102: תל אביב - יפו | AI102: Y-nitzan-tlv-M@kishurim.k12.il | AJ102: 1960 | AK102: 0 | AL102: 0 | AM102: 0 | AN102: 0 | AO102: 0 | AP102: 0 | AQ102: 0 | AR102: 0 | AS102: 0 | AT102: ללא יוח"א | AW102: 5 | AX102: 5 | AY102: 1 | AZ102: 1 | BA102: 1 | BB102: 0 | BC102: 1 | BD102: 0 | BE102: 0
A103: 2007 | B103: 512467 | C103: ישגב | D103: 373 | E103: 50005 | F103: תל אביב-יפו | G103: 50005 | H103: תל אביב - יפו | I103: יהודי | J103: מ"מ | K103: רשמי | L103: תל אביב | M103: תל אביב | N103: רגיל | O103: 11 | P103: בית ספר | Q103: 1 | R103: רגיל | S103: 10 | T103: יסודי בלבד | U103: 1 | V103: 6 | W103: שושנה קייזר | Y103: 03-647-8459 | Z103: 03-648-3528 | AA103: עולי הגרדום 7 | AB103: 7 | AC103: 345 | AD103: 69715 | AE103: עולי הגרדום 7 | AF103: 50005 | AG103: תל אביב - יפו | AI103: Y-yisgav-tlv-M@kishurim.k12.il | AJ103: 1960 | AK103: 0 | AL103: 0 | AM103: 0 | AN103: 0 | AO103: 0 | AP103: 0 | AQ103: 0 | AR103: 0 | AS103: 0 | AT103: ללא יוח"א | AW103: 5 | AX103: 5 | AY103: 1 | AZ103: 1 | BA103: 1 | BB103: 0 | BC103: 1 | BD103: 0 | BE103: 0
A104: 2007 | B104: 512475 | C104: מורשת משה מד | D104: 291 | E104: 86009 | F104: רמת גן | G104: 86009 | H104: רמת גן | I104: יהודי | J104: חמ"ד | K104: רשמי | L104: תל אביב | M104: תל אביב | N104: רגיל | O104: 11 | P104: בית ספר | Q104: 1 | R104: רגיל | S104: 10 | T104: יסודי בלבד | U104: 1 | V104: 6 | W104: טובה גולדשטין | Y104: 03-676-2960 | Z104: 03-676-1497 | AA104: האם 14 | AB104: 14 | AC104: 1621 | AD104: 52252 | AE104: האם 14 | AF104: 86009 | AG104: רמת גן | AI104: Y-MMoshe-rag-M@kishurim.k12.il | AJ104: 1960 | AK104: 0 | AL104: 0 | AM104: 0 | AN104: 0 | AO104: 0 | AP104: 0 | AQ104: 0 | AR104: 0 | AS104: 0 | AT104: ללא יוח"א | AW104: 5 | AX104: 5 | AY104: 1 | AZ104: 1 | BA104: 2 | BB104: 0 | BC104: 1 | BD104: 0 | BE104: 0
A105: 2007 | B105: 512558 | C105: יד מרדכי | D105: 399 | E105: 62000 | F105: בת ים | G105: 62000 | H105: בת ים | I105: יהודי | J105: מ"מ | K105: רשמי | L105: תל אביב | M105: תל אביב | N105: רגיל | O105: 11 | P105: בית ספר | Q105: 1 | R105: רגיל | S105: 10 | T105: יסודי בלבד | U105: 1 | V105: 6 | W105: לבנה גרימברג | Y105: 03-506-7772 | Z105: 03-506-7772 | AA105: הדדי ציון שאול 12 | AB105: 12 | AC105: 512 | AD105: 59105 | AE105: הדדי ציון שאול 12 | AF105: 62000 | AG105: בת ים | AI105: Y-yadmor-bty-M@kishurim.k12.il | AJ105: 1960 | AK105: 0 | AL105: 1 | AM105: 0 | AN105: 0 | AO105: 0 | AP105: 0 | AQ105: 0 | AR105: 0 | AS105: 0 | AT105: ללא יוח"א | AW105: 5 | AX105: 5 | AY105: 1 | AZ105: 1 | BA105: 1 | BB105: 0 | BC105: 1 | BD105: 0 | BE105: 0
... A123: 2007 | B123: 512913 | C123: החשמונאים | D123: 244 | E123: 50005 | F123: תל אביב-יפו | G123: 50005 | H123: תל אביב - יפו | I123: יהודי | J123: מ"מ | K123: רשמי | L123: תל אביב | M123: תל אביב | N123: רגיל | O123: 11 | P123: בית ספר | Q123: 1 | R123: רגיל | S123: 10 | T123: יסודי בלבד | U123: 1 | V123: 6 | W123: אורן קמינצקי | Y123: 03-506-5003 | Z123: 03-657-1330 | AA123: פיקוס 19 | AB123: 19 | AC123: 2023 | AD123: 68047 | AE123: פיקוס 19 | AF123: 50005 | AG123: תל אביב - יפו | AI123: Y-hashmo-tlv-M@kishurim.k12.il | AJ123: 1960 | AK123: 0 | AL123: 1 | AM123: 1 | AN123: 0 | AO123: 0 | AP123: 0 | AQ123: 0 | AR123: 0 | AS123: 0 | AT123: יוחא מלא | AW123: 5 | AX123: 5 | AY123: 1 | AZ123: 1 | BA123: 1 | BB123: 1 | BC123: 1 | BD123: 0 | BE123: 0
A124: 2007 | B124: 512954 | C124: רמת אפעל | D124: 396 | E124: 2400000 | F124: אפעל | G124: 10496 | H124: רמת אפעל | I124: יהודי | J124: מ"מ | K124: רשמי | L124: תל אביב | M124: תל אביב | N124: רגיל | O124: 11 | P124: בית ספר | Q124: 1 | R124: רגיל | S124: 10 | T124: יסודי בלבד | U124: 1 | V124: 8 | W124: רעות גורדון | Y124: 03-635-0226 | Z124: 03-535-6340 | AA124: שד האורנים | AC124: 109 | AD124: 52960 | AF124: 10496 | AG124: רמת אפעל | AI124: Y-RamatE-rme-M@kishurim.k12.il | AJ124: 1950 | AK124: 0 | AL124: 0 | AM124: 0 | AN124: 0 | AO124: 0 | AP124: 0 | AQ124: 0 | AR124: 0 | AS124: 0 | AT124: ללא יוח"א | AW124: 5 | AX124: 5 | AY124: 1 | AZ124: 1 | BA124: 1 | BB124: 0 | BC124: 1 | BD124: 0 | BE124: 0
A125: 2007 | B125: 512962 | C125: שילה מד | D125: 304 | E125: 26203 | F125: קרית אונו | G125: 26203 | H125: קרית אונו | I125: יהודי | J125: חמ"ד | K125: רשמי | L125: תל אביב | M125: תל אביב | N125: רגיל | O125: 11 | P125: בית ספר | Q125: 1 | R125: רגיל | S125: 11 | T125: גן ויסודי | U125: 0 | V125: 6 | W125: רחל שמוקלר | Y125: 03-534-5329 | Z125: 03-535-6068 | AA125: פנקס 38 | AB125: 38 | AC125: 115 | AD125: 55650 | AE125: פנקס 38 | AF125: 26203 | AG125: קרית אונו | AI125: Y-shilo-kon-M@kishurim.k12.il | AJ125: 1950 | AK125: 0 | AL125: 0 | AM125: 0 | AN125: 0 | AO125: 0 | AP125: 0 | AQ125: 0 | AR125: 0 | AS125: 0 | AT125: ללא יוח"א | AW125: 5 | AX125: 5 | AY125: 1 | AZ125: 1 | BA125: 2 | BB125: 0 | BC125: 1 | BD125: 0 | BE125: 0
A126: 2007 | B126: 512970 | C126: רימונים | D126: 452 | E126: 26203 | F126: קרית אונו | G126: 26203 | H126: קרית אונו | I126: יהודי | J126: מ"מ | K126: רשמי | L126: תל אביב | M126: תל אביב | N126: רגיל | O126: 11 | P126: בית ספר | Q126: 1 | R126: רגיל | S126: 11 | T126: גן ויסודי | U126: 0 | V126: 6 | W126: מאירה ליקורמן | Y126: 03-635-6107 | Z126: 03-534-5699 | AA126: בר יהודה 22 | AB126: 22 | AC126: 237 | AD126: 55000 | AE126: בר יהודה 22 | AF126: 26203 | AG126: קרית אונו | AI126: Y-rimoni-kon-M@kishurim.k12.il | AJ126: 1950 | AK126: 0 | AL126: 0 | AM126: 0 | AN126: 0 | AO126: 0 | AP126: 0 | AQ126: 0 | AR126: 0 | AS126: 0 | AT126: ללא יוח"א | AW126: 5 | AX126: 5 | AY126: 1 | AZ126: 1 | BA126: 1 | BB126: 0 | BC126: 1 | BD126: 0 | BE126: 0
A127: 2007 | B127: 512988 | C127: שרת | D127: 454 | E127: 62000 | F127: בת ים | G127: 62000 | H127: בת ים | I127: יהודי | J127: מ"מ | K127: רשמי | L127: תל אביב | M127: תל אביב | N127: רגיל | O127: 11 | P127: בית ספר | Q127: 1 | R127: רגיל | S127: 10 | T127: יסודי בלבד | U127: 1 | V127: 6 | W127: סמדר חי | Y127: 03-658-0768 | Z127: 03-506-2123 | AA127: רייק חביבה 3 | AB127: 3 | AC127: 438 | AD127: 59504 | AE127: רייק חביבה 3 | AF127: 62000 | AG127: בת ים | AI127: Y-sharet-bty-M@kishurim.k12.il | AJ127: 1960 | AK127: 0 | AL127: 0 | AM127: 0 | AN127: 0 | AO127: 0 | AP127: 0 | AQ127: 0 | AR127: 0 | AS127: 0 | AT127: ללא יוח"א | AW127: 5 | AX127: 5 | AY127: 1 | AZ127: 1 | BA127: 1 | BB127: 0 | BC127: 1 | BD127: 0 | BE127: 0
A128: 2007 | B128: 512996 | C128: בן גוריון | D128: 341 | E128: 63008 | F128: גבעתיים | G128: 63008 | H128: גבעתיים | I128: יהודי | J128: מ"מ | K128: רשמי | L128: תל אביב | M128: תל אביב | N128: רגיל | O128: 11 | P128: בית ספר | Q128: 1 | R128: רגיל | S128: 10 | T128: יסודי בלבד | U128: 1 | V128: 8 | W128: דפנה למש | Y128: 03-673-4252 | Z128: 03-672-2695 | AA128: פועלי הרכבת 30 | AB128: 30 | AC128: 127 | AD128: 53257 | AE128: פועלי הרכבת 30 | AF128: 63008 | AG128: גבעתיים | AI128: Y-bengur-gvt-M@kishurim.k12.il | AJ128: 1950 | AK128: 0 | AL128: 0 | AM128: 0 | AN128: 0 | AO128: 0 | AP128: 0 | AQ128: 0 | AR128: 0 | AS128: 0 | AT128: ללא יוח"א | AW128: 5 | AX128: 5 | AY128: 1 | AZ128: 1 | BA128: 1 | BB128: 0 | BC128: 1 | BD128: 0 | BE128: 0
A129: 2007 | B129: 513002 | C129: הרצל | D129: 424 | E129: 62000 | F129: בת ים | G129: 62000 | H129: בת ים | I129: יהודי | J129: מ"מ | K129: רשמי | L129: תל אביב | M129: תל אביב | N129: רגיל | O129: 11 | P129: בית ספר | Q129: 1 | R129: רגיל | S129: 10 | T129: יסודי בלבד | U129: 1 | V129: 6 | W129: סימה שמחה פרמון | Y129: 03-551-1715 | Z129: 03-552-8115 | AA129: הדקל 5 | AB129: 5 | AC129: 633 | AD129: 59620 | AE129: הדקל 5 | AF129: 62000 | AG129: בת ים | AI129: Y-herzel-bty-M@kishurim.k12.il | AJ129: 1960 | AK129: 0 | AL129: 0 | AM129: 0 | AN129: 0 | AO129: 0 | AP129: 0 | AQ129: 0 | AR129: 0 | AS129: 0 | AT129: ללא יוח"א | AW129: 5 | AX129: 5 | AY129: 1 | AZ129: 1 | BA129: 1 | BB129: 0 | BC129: 1 | BD129: 0 | BE129: 0
A130: 2007 | B130: 513036 | C130: טבנקין | D130: 369 | E130: 62000 | F130: בת ים | G130: 62000 | H130: בת ים | I130: יהודי | J130: מ"מ | K130: רשמי | L130: תל אביב | M130: תל אביב | N130: רגיל | O130: 11 | P130: בית ספר | Q130: 1 | R130: רגיל | S130: 10 | T130: יסודי בלבד | U130: 1 | V130: 6 | W130: דינה פלום | Y130: 03-552-7050 | Z130: 03-553-2308 | AA130: עגנון 57 | AB130: 57 | AC130: 655 | AD130: 59564 | AE130: עגנון 57 | AF130: 62000 | AG130: בת ים | AI130: Y-tabenk-bty-M@kishurim.k12.il | AJ130: 1950 | AK130: 0 | AL130: 0 | AM130: 0 | AN130: 0 | AO130: 0 | AP130: 0 | AQ130: 0 | AR130: 0 | AS130: 0 | AT130: ללא יוח"א | AW130: 5 | AX130: 5 | AY130: 1 | AZ130: 1 | BA130: 1 | BB130: 0 | BC130: 1 | BD130: 0 | BE130: 0
A131: 2007 | B131: 513044 | C131: תל חי | D131: 448 | E131: 50005 | F131: תל אביב-יפו | G131: 50005 | H131: תל אביב - יפו | I131: יהודי | J131: מ"מ | K131: רשמי | L131: תל אביב | M131: תל אביב | N131: רגיל | O131: 11 | P131: בית ספר | Q131: 1 | R131: רגיל | S131: 10 | T131: יסודי בלבד | U131: 1 | V131: 6 | W131: עינת ברגר | Y131: 03-739-4868 | Z131: 03-631-8286 | AA131: מעפילי אגוז 74 | AB131: 74 | AC131: 2960 | AD131: 67437 | AE131: מעפילי אגוז 74 | AF131: 50005 | AG131: תל אביב - יפו | AI131: Y-TelHai-tlv-M@kishurim.k12.il | AJ131: 1950 | AK131: 0 | AL131: 1 | AM131: 0 | AN131: 0 | AO131: 0 | AP131: 0 | AQ131: 0 | AR131: 0 | AS131: 0 | AT131: ללא יוח"א | AW131: 5 | AX131: 5 | AY131: 1 | AZ131: 1 | BA131: 1 | BB131: 0 | BC131: 1 | BD131: 0 | BE131: 0
A132: 2007 | B132: 513051 | C132: בבלי | D132: 409 | E132: 50005 | F132: תל אביב-יפו | G132: 50005 | H132: תל אביב - יפו | I132: יהודי | J132: מ"מ | K132: רשמי | L132: תל אביב | M132: תל אביב | N132: רגיל | O132: 11 | P132: בית ספר | Q132: 1 | R132: רגיל | S132: 10 | T132: יסודי בלבד | U132: 1 | V132: 6 | W132: תמרה בניא נוימן | Y132: 03-604-2267 | Z132: 03-604-9983 | AA132: אונקלוס 8 | AB132: 8 | AC132: 808 | AD132: 62916 | AE132: אונקלוס 8 | AF132: 50005 | AG132: תל אביב - יפו | AI132: Y-bavli-tlv-M@kishurim.k12.il | AJ132: 1972 | AK132: 0 | AL132: 0 | AM132: 0 | AN132: 0 | AO132: 0 | AP132: 0 | AQ132: 0 | AR132: 0 | AS132: 0 | AT132: ללא יוח"א | AW132: 5 | AX132: 5 | AY132: 1 | AZ132: 1 | BA132: 1 | BB132: 0 | BC132: 1 | BD132: 0 | BE132: 0
A133: 2007 | B133: 513077 | C133: ארן | D133: 491 | E133: 50005 | F133: תל אביב-יפו | G133: 50005 | H133: תל אביב - יפו | I133: יהודי | J133: מ"מ | K133: רשמי | L133: תל אביב | M133: תל אביב | N133: רגיל | O133: 11 | P133: בית ספר | Q133: 1 | R133: רגיל | S133: 10 | T133: יסודי בלבד | U133: 1 | V133: 6 | W133: ליאור גולני | Y133: 03-699-2721 | Z133: 03-699-6268 | AA133: בורלא יהודה 25 | AB133: 25 | AC133: 196 | AD133: 69364 | AE133: בורלא יהודה 25 | AF133: 50005 | AG133: תל אביב - יפו | AI133: Y-aran-tlv-M@kishurim.k12.il | AJ133: 1973 | AK133: 0 | AL133: 0 | AM133: 0 | AN133: 0 | AO133: 0 | AP133: 0 | AQ133: 0 | AR133: 0 | AS133: 0 | AT133: ללא יוח"א | AW133: 5 | AX133: 5 | AY133: 1 | AZ133: 1 | BA133: 1 | BB133: 0 | BC133: 1 | BD133: 0 | BE133: 0
A134: 2007 | B134: 513093 | C134: הנדיב | D134: 424 | E134: 64006 | F134: הרצליה | G134: 64006 | H134: הרצליה | I134: יהודי | J134: מ"מ | K134: רשמי | L134: תל אביב | M134: תל אביב | N134: רגיל | O134: 11 | P134: בית ספר | Q134: 1 | R134: רגיל | S134: 10 | T134: יסודי בלבד | U134: 1 | V134: 6 | W134: נטי קורשיא | Y134: 09-956-3727 | Z134: 09-950-6863 | AA134: הנדיב 61 | AB134: 61 | AC134: 534 | AD134: 46485 | AE134: הנדיב 61 | AF134: 64006 | AG134: הרצליה | AI134: Y-nadiv-her-A1@kishurim.k12.il | AJ134: 1973 | AK134: 0 | AL134: 0 | AM134: 0 | AN134: 0 | AO134: 0 | AP134: 0 | AQ134: 0 | AR134: 0 | AS134: 0 | AT134: ללא יוח"א | AW134: 5 | AX134: 5 | AY134: 1 | AZ134: 1 | BA134: 1 | BB134: 0 | BC134: 1 | BD134: 0 | BE134: 0
A135: 2007 | B135: 513101 | C135: בן גוריון | D135: 265 | E135: 62000 | F135: בת ים | G135: 62000 | H135: בת ים | I135: יהודי | J135: מ"מ | K135: רשמי | L135: תל אביב | M135: תל אביב | N135: רגיל | O135: 11 | P135: בית ספר | Q135: 1 | R135: רגיל | S135: 10 | T135: יסודי בלבד | U135: 1 | V135: 6 | W135: יפה ישר אל | Y135: 03-551-8474 | Z135: 03-551-4520 | AA135: רבינוביץ' 15 | AB135: 15 | AC135: 552 | AD135: 59586 | AE135: רבינוביץ' 15 | AF135: 62000 | AG135: בת ים | AI135: Y-bengur-bty-M@kishurim.k12.il | AJ135: 1973 | AK135: 0 | AL135: 1 | AM135: 0 | AN135: 0 | AO135: 0 | AP135: 0 | AQ135: 0 | AR135: 0 | AS135: 0 | AT135: ללא יוח"א | AW135: 5 | AX135: 5 | AY135: 1 | AZ135: 1 | BA135: 1 | BB135: 0 | BC135: 1 | BD135: 0 | BE135: 0
A136: 2007 | B136: 513119 | C136: שער האריות | D136: 373 | E136: 66001 | F136: חולון | G136: 66001 | H136: חולון | I136: יהודי | J136: מ"מ | K136: רשמי | L136: תל אביב | M136: תל אביב | N136: רגיל | O136: 11 | P136: בית ספר | Q136: 1 | R136: רגיל | S136: 10 | T136: יסודי בלבד | U136: 1 | V136: 6 | W136: זהבה כץ | Y136: 03-550-6138 | Z136: 03-559-8628 | AA136: שער האריות 16 | AB136: 16 | AC136: 940 | AD136: 58499 | AE136: שער האריות 16 | AF136: 66001 | AG136: חולון | AI136: Y-ShaarH-hol-M@kishurim.k12.il | AJ136: 1973 | AK136: 0 | AL136: 0 | AM136: 0 | AN136: 0 | AO136: 0 | AP136: 0 | AQ136: 0 | AR136: 0 | AS136: 0 | AT136: ללא יוח"א | AW136: 5 | AX136: 5 | AY136: 1 | AZ136: 1 | BA136: 1 | BB136: 0 | BC136: 1 | BD136: 0 | BE136: 0
... A168: 2007 | B168: 513754 | C168: הדרים | D168: 380 | E168: 24000 | F168: אור יהודה | G168: 24000 | H168: אור יהודה | I168: יהודי | J168: מ"מ | K168: רשמי | L168: תל אביב | M168: תל אביב | N168: רגיל | O168: 11 | P168: בית ספר | Q168: 1 | R168: רגיל | S168: 10 | T168: יסודי בלבד | U168: 1 | V168: 6 | W168: אורנה רחמינוב | Y168: 03-533-4710 | Z168: 03-533-2701 | AA168: סקלאר 1 | AB168: 1 | AC168: 215 | AD168: 60262 | AE168: סקלאר 1 | AF168: 24000 | AG168: אור יהודה | AI168: Y-hadari-ory-M@kishurim.k12.il | AJ168: 1988 | AK168: 0 | AL168: 0 | AM168: 1 | AN168: 0 | AO168: 0 | AP168: 0 | AQ168: 0 | AR168: 0 | AS168: 0 | AT168: ללא יוח"א | AW168: 5 | AX168: 5 | AY168: 1 | AZ168: 1 | BA168: 1 | BB168: 0 | BC168: 1 | BD168: 0 | BE168: 0
A169: 2007 | B169: 514059 | C169: אהוד מנור | D169: 65 | E169: 24000 | F169: אור יהודה | G169: 24000 | H169: אור יהודה | I169: יהודי | J169: מ"מ | K169: רשמי | L169: תל אביב | M169: תל אביב | N169: רגיל | O169: 11 | P169: בית ספר | Q169: 1 | R169: רגיל | S169: 10 | T169: יסודי בלבד | U169: 1 | V169: 6 | W169: יונית יוסף | Y169: 03-634-0170 | Z169: 03-634-0319 | AA169: ניצן 2 | AB169: 2 | AC169: 15 | AE169: 2 | AF169: 24000 | AG169: אור יהודה | AI169: Y-nrabin-ory-M@kishurim.k12.il | AJ169: 2005 | AK169: 0 | AL169: 0 | AM169: 0 | AN169: 0 | AO169: 0 | AP169: 0 | AQ169: 0 | AR169: 0 | AS169: 0 | AT169: ללא יוח"א | AW169: 5 | AX169: 5 | AY169: 1 | AZ169: 1 | BA169: 1 | BB169: 0 | BC169: 1 | BD169: 0 | BE169: 0
A170: 2007 | B170: 514117 | C170: ניצנים | D170: 438 | E170: 66001 | F170: חולון | G170: 66001 | H170: חולון | I170: יהודי | J170: מ"מ | K170: רשמי | L170: תל אביב | M170: תל אביב | N170: רגיל | O170: 11 | P170: בית ספר | Q170: 1 | R170: רגיל | S170: 11 | T170: גן ויסודי | U170: 0 | V170: 6 | W170: ציונה טל | Y170: 03-559-4380 | Z170: 03-558-4450 | AA170: גבעת התחמושת 35 | AB170: 35 | AC170: 827 | AD170: 58553 | AE170: גבעת התחמושת 35 | AF170: 66001 | AG170: חולון | AI170: Y-nitzan-hol-M@kishurim.k12.il | AJ170: 1991 | AK170: 0 | AL170: 0 | AM170: 0 | AN170: 0 | AO170: 0 | AP170: 0 | AQ170: 0 | AR170: 0 | AS170: 0 | AT170: ללא יוח"א | AW170: 5 | AX170: 5 | AY170: 1 | AZ170: 1 | BA170: 1 | BB170: 0 | BC170: 1 | BD170: 0 | BE170: 0
A171: 2007 | B171: 514125 | C171: אמירים | D171: 633 | E171: 66001 | F171: חולון | G171: 66001 | H171: חולון | I171: יהודי | J171: מ"מ | K171: רשמי | L171: תל אביב | M171: תל אביב | N171: רגיל | O171: 11 | P171: בית ספר | Q171: 1 | R171: רגיל | S171: 10 | T171: יסודי בלבד | U171: 1 | V171: 6 | W171: אורלי בהט | Y171: 03-552-0288 | Z171: 03-553-3143 | AA171: משעול דר 1 | AB171: 1 | AC171: 784 | AD171: 58000 | AE171: משעול דר 1 | AF171: 66001 | AG171: חולון | AI171: Y-amirim-hol-M@kishurim.k12.il | AJ171: 1990 | AK171: 0 | AL171: 0 | AM171: 0 | AN171: 0 | AO171: 0 | AP171: 0 | AQ171: 0 | AR171: 0 | AS171: 0 | AT171: ללא יוח"א | AW171: 5 | AX171: 5 | AY171: 1 | AZ171: 1 | BA171: 1 | BB171: 0 | BC171: 1 | BD171: 0 | BE171: 0
A172: 2007 | B172: 514232 | C172: כפר שמריהו - רשפון | D172: 234 | E172: 2675 | F172: כפר שמריהו | G172: 2675 | H172: כפר שמריהו | I172: יהודי | J172: מ"מ | K172: רשמי | L172: תל אביב | M172: תל אביב | N172: רגיל | O172: 11 | P172: בית ספר | Q172: 1 | R172: רגיל | S172: 10 | T172: יסודי בלבד | U172: 1 | V172: 6 | W172: אלכסנדר שניידר | Y172: 09-950-9506 | Z172: 09-955-6192 | AA172: האורנים 15 | AB172: 15 | AC172: 112 | AD172: 46910 | AE172: האורנים 15 | AF172: 2675 | AG172: כפר שמריהו | AI172: Y-rishpo-ksh-M@kishurim.k12.il | AJ172: 1991 | AK172: 0 | AL172: 0 | AM172: 0 | AN172: 0 | AO172: 0 | AP172: 0 | AQ172: 0 | AR172: 0 | AS172: 0 | AT172: ללא יוח"א | AW172: 5 | AX172: 5 | AY172: 1 | AZ172: 1 | BA172: 1 | BB172: 0 | BC172: 1 | BD172: 0 | BE172: 0
A173: 2007 | B173: 514240 | C173: ביה"ס הפתוח | D173: 196 | E173: 50005 | F173: תל אביב-יפו | G173: 50005 | H173: תל אביב - יפו | I173: יהודי | J173: מ"מ | K173: רשמי | L173: תל אביב | M173: תל אביב | N173: רגיל | O173: 11 | P173: בית ספר | Q173: 1 | R173: רגיל | S173: 11 | T173: גן ויסודי | U173: 0 | V173: 6 | W173: אילונה פינטו | Y173: 03-681-2568 | Z173: 03-683-8528 | AA173: נועם 8 | AB173: 8 | AC173: 1980 | AD173: 61082 | AE173: נועם ת.ד. 4828 | AF173: 50005 | AG173: תל אביב - יפו | AI173: Y-patuac-tlv-M@kishurim.k12.il | AJ173: 1991 | AK173: 0 | AL173: 0 | AM173: 0 | AN173: 0 | AO173: 0 | AP173: 0 | AQ173: 0 | AR173: 0 | AS173: 0 | AT173: ללא יוח"א | AW173: 5 | AX173: 5 | AY173: 1 | AZ173: 1 | BA173: 1 | BB173: 0 | BC173: 1 | BD173: 0 | BE173: 0
A174: 2007 | B174: 514398 | C174: ערמונים | D174: 512 | E174: 86009 | F174: רמת גן | G174: 86009 | H174: רמת גן | I174: יהודי | J174: מ"מ | K174: רשמי | L174: תל אביב | M174: תל אביב | N174: רגיל | O174: 11 | P174: בית ספר | Q174: 1 | R174: רגיל | S174: 10 | T174: יסודי בלבד | U174: 1 | V174: 8 | W174: אורית רייז | Y174: 03-677-3434 | Z174: 03-674-4153 | AA174: הכבאים 25 | AB174: 25 | AC174: 1575 | AD174: 52275 | AE174: הכבאים 25 | AF174: 86009 | AG174: רמת גן | AI174: Y-armoni-rag-M@kishurim.k12.il | AJ174: 1993 | AK174: 0 | AL174: 0 | AM174: 0 | AN174: 0 | AO174: 0 | AP174: 0 | AQ174: 0 | AR174: 0 | AS174: 0 | AT174: ללא יוח"א | AW174: 5 | AX174: 5 | AY174: 1 | AZ174: 1 | BA174: 1 | BB174: 0 | BC174: 1 | BD174: 0 | BE174: 0
A175: 2007 | B175: 514463 | C175: שיזף | D175: 693 | E175: 24000 | F175: אור יהודה | G175: 24000 | H175: אור יהודה | I175: יהודי | J175: מ"מ | K175: רשמי | L175: תל אביב | M175: תל אביב | N175: רגיל | O175: 11 | P175: בית ספר | Q175: 1 | R175: רגיל | S175: 10 | T175: יסודי בלבד | U175: 1 | V175: 6 | W175: נילי חסונה נמני | Y175: 03-634-0671 | Z175: 03-533-6817 | AA175: שיזף 2 | AB175: 2 | AC175: 268 | AE175: אור יהודה ת.ד. 108 | AF175: 24000 | AG175: אור יהודה | AI175: Y-shizaf-ory-M@kishurim.k12.il | AJ175: 1995 | AK175: 0 | AL175: 0 | AM175: 0 | AN175: 0 | AO175: 0 | AP175: 0 | AQ175: 0 | AR175: 0 | AS175: 0 | AT175: ללא יוח"א | AW175: 5 | AX175: 5 | AY175: 1 | AZ175: 1 | BA175: 1 | BB175: 0 | BC175: 1 | BD175: 0 | BE175: 0
A176: 2007 | B176: 514513 | C176: אביב | D176: 430 | E176: 50005 | F176: תל אביב-יפו | G176: 50005 | H176: תל אביב - יפו | I176: יהודי | J176: מ"מ | K176: רשמי | L176: תל אביב | M176: תל אביב | N176: רגיל | O176: 11 | P176: בית ספר | Q176: 1 | R176: רגיל | S176: 11 | T176: גן ויסודי | U176: 0 | V176: 6 | W176: אושרה דנה | Y176: 03-741-0522 | Z176: 03-741-0451 | AA176: אשכול לוי 94 | AB176: 94 | AC176: 197 | AD176: 69361 | AE176: אשכול לוי 94 | AF176: 50005 | AG176: תל אביב - יפו | AI176: Y-aviv-tlv-M@kishurim.k12.il | AJ176: 2001 | AK176: 0 | AL176: 0 | AM176: 0 | AN176: 0 | AO176: 0 | AP176: 0 | AQ176: 0 | AR176: 0 | AS176: 0 | AT176: ללא יוח"א | AW176: 5 | AX176: 5 | AY176: 1 | AZ176: 1 | BA176: 1 | BB176: 0 | BC176: 1 | BD176: 0 | BE176: 0
A177: 2007 | B177: 518019 | C177: חסן ערפה יפו | D177: 381 | E177: 50005 | F177: תל אביב-יפו | G177: 50005 | H177: תל אביב - יפו | I177: ערבי | J177: מ"מ | K177: רשמי | L177: תל אביב | M177: תל אביב | N177: רגיל | O177: 11 | P177: בית ספר | Q177: 1 | R177: רגיל | S177: 11 | T177: גן ויסודי | U177: 0 | V177: 6 | W177: עלי גוטי | Y177: 03-682-3774 | Z177: 03-682-1267 | AA177: קדם 40 | AB177: 40 | AC177: 1760 | AD177: 68143 | AE177: תל אביב - יפו ת.ד. 80372 | AF177: 50005 | AG177: תל אביב - יפו | AI177: Y-HasanA-tlv-M@kishurim.k12.il | AJ177: 1971 | AK177: 0 | AL177: 1 | AM177: 1 | AN177: 0 | AO177: 0 | AP177: 0 | AQ177: 0 | AR177: 0 | AS177: 0 | AT177: יוחא מלא | AW177: 5 | AX177: 5 | AY177: 1 | AZ177: 2 | BA177: 1 | BB177: 1 | BC177: 1 | BD177: 0 | BE177: 0
A178: 2007 | B178: 518035 | C178: אחוה יפו | D178: 212 | E178: 50005 | F178: תל אביב-יפו | G178: 50005 | H178: תל אביב - יפו | I178: ערבי | J178: מ"מ | K178: רשמי | L178: תל אביב | M178: תל אביב | N178: רגיל | O178: 11 | P178: בית ספר | Q178: 1 | R178: רגיל | S178: 11 | T178: גן ויסודי | U178: 0 | V178: 6 | W178: מוחמד אבו דין | Y178: 03-681-8555 | Z178: 03-518-1749 | AA178: פייר מנדס פרנס 17 | AB178: 17 | AC178: 1791 | AD178: 61411 | AE178: פייר מנדס פרנס 17 | AF178: 50005 | AG178: תל אביב - יפו | AI178: Y-achva-tlv-M@kishurim.k12.il | AJ178: 1978 | AK178: 0 | AL178: 1 | AM178: 1 | AN178: 0 | AO178: 0 | AP178: 0 | AQ178: 0 | AR178: 0 | AS178: 0 | AT178: יוחא מלא | AW178: 5 | AX178: 5 | AY178: 1 | AZ178: 2 | BA178: 1 | BB178: 1 | BC178: 1 | BD178: 0 | BE178: 0
A179: 2007 | B179: 518050 | C179: יסודי ערבי חדש | D179: 269 | E179: 50005 | F179: תל אביב-יפו | G179: 50005 | H179: תל אביב - יפו | I179: ערבי | J179: מ"מ | K179: רשמי | L179: תל אביב | M179: תל אביב | N179: רגיל | O179: 11 | P179: בית ספר | Q179: 1 | R179: רגיל | S179: 11 | T179: גן ויסודי | U179: 0 | V179: 6 | W179: ניהאיה יחיא | Y179: 03-659-3408 | Z179: 03-506-1404 | AA179: יפת 25 | AB179: 25 | AC179: 1994 | AD179: 68028 | AE179: יפת 25 | AF179: 50005 | AG179: תל אביב - יפו | AI179: Y-AraviH-tlv-M@kishurim.k12.il | AJ179: 1998 | AK179: 0 | AL179: 0 | AM179: 0 | AN179: 0 | AO179: 0 | AP179: 0 | AQ179: 0 | AR179: 0 | AS179: 0 | AT179: יוחא מלא | AW179: 5 | AX179: 5 | AY179: 1 | AZ179: 2 | BA179: 1 | BB179: 1 | BC179: 1 | BD179: 0 | BE179: 0
A180: 2007 | B180: 518068 | C180: לב יפו | D180: 328 | E180: 50005 | F180: תל אביב-יפו | G180: 50005 | H180: תל אביב - יפו | I180: ערבי | J180: מ"מ | K180: רשמי | L180: תל אביב | M180: תל אביב | N180: רגיל | O180: 11 | P180: בית ספר | Q180: 1 | R180: רגיל | S180: 11 | T180: גן ויסודי | U180: 0 | V180: 6 | W180: עמראן אבו חיט | Y180: 03-682-6338 | Z180: 03-682-6347 | AA180: פסטלוצי 35 | AB180: 35 | AC180: 1968 | AD180: 68134 | AE180: פסטלוצי 35 | AF180: 50005 | AG180: תל אביב - יפו | AI180: Y-LevYaf-tlv-M@kishurim.k12.il | AJ180: 2001 | AK180: 0 | AL180: 0 | AM180: 0 | AN180: 0 | AO180: 0 | AP180: 0 | AQ180: 0 | AR180: 0 | AS180: 0 | AT180: יוחא מלא | AW180: 5 | AX180: 5 | AY180: 1 | AZ180: 2 | BA180: 1 | BB180: 1 | BC180: 1 | BD180: 0 | BE180: 0

Sheet מוסדות 2017
A1: שנה | B1: סמל מוסד | C1: שם מוסד | D1: סה"כ תלמידים במוסד | E1: סמל רשות | F1: שם רשות | G1: סמל ישוב | H1: שם ישוב | I1: מגזר | J1: פיקוח | K1: מעמד משפטי | L1: גורם מדווח | M1: מחוז גאוגרפי | N1: סוג חינוך מוסד | O1: קוד סוג מסגרת אירגונית | P1: סוג מסגרת אירגונית | Q1: קוד סוג מוסד | R1: סוג מוסד | S1: קוד שלבי חינוך במוסד | T1: שלבי חינוך במוסד | U1: משכבה | V1: עד שכבה | W1: שם מנהל | X1: שם מפקח | Y1: טלפון | Z1: פקס | AA1: כתובת גאוגרפית | AB1: בית | AC1: סמל רחוב | AD1: מיקוד | AE1: כתובת דואר | AF1: סמל ישוב דואר | AG1: שם ישוב דואר | AH1: דואר אלקטרוני של המנהל | AI1: דואר אלקטרוני של מוסד | AJ1: שנת יסוד | AK1: זכאי תשלום בגין מקיף | AL1: זכאי שיקום שכונות | AM1: זכאי רווחה | AN1: זכאי לשכר לימוד | AO1: קוד הכרה בציונים לבגרות | AP1: זכאי גמול הכנה לבגרות | AQ1: מגיש לבגרות | AR1: סוג חינוך לבגרות | AS1: גמולים חט"ע | AT1: תאור יוח"א | AU1: תוקף רשיון מאת | AV1: תוקף רשיון עד | AW1: קוד מחוז גאוגרפי | AX1: קוד גורם מדווח | AY1: קוד מעמד משפטי | AZ1: קוד מגזר | BA1: קוד סוג פיקוח | BB1: קוד יוח"א | BC1: קוד סוג חינוך מוסד | BD1: פרופיל מורים | BE1: אחוז רמת שרות
A2: 2017 | B2: 410191 | C2: ויצמן | D2: 536 | E2: 1900000 | F2: חוף השרון | G2: 2881 | H2: בית יהושע | I2: יהודי | J2: מ"מ | K2: רשמי | L2: תל אביב | M2: מרכז | N2: רגיל | O2: 11 | P2: בית ספר | Q2: 1 | R2: רגיל | S2: 10 | T2: יסודי בלבד | U2: 1 | V2: 6 | W2: דפנה פרטוש | X2: שלומית ברק יסקולקה | Y2: 09-899-9130 | Z2: 09-899-1923 | AA2: בית יהושע | AC2: 9000 | AD2: 40591 | AE2: בית יהושע | AF2: 2881 | AG2: בית יהושע | AI2: Y-weitzm-byh-M@kishurim.k12.il | AJ2: 1950 | AK2: 0 | AL2: 0 | AM2: 0 | AN2: 0 | AO2: 0 | AP2: 0 | AQ2: 0 | AR2: 0 | AS2: 0 | AT2: ללא יוח"א | AW2: 4 | AX2: 5 | AY2: 1 | AZ2: 1 | BA2: 1 | BB2: 0 | BC2: 1 | BD2: 0 | BE2: 0
A3: 2017 | B3: 410241 | C3: בית חנוך קהלתי חוב"ב | D3: 312 | E3: 1900000 | F3: חוף השרון | G3: 4184 | H3: בני ציון | I3: יהודי | J3: מ"מ | K3: רשמי | L3: תל אביב | M3: מרכז | N3: רגיל | O3: 11 | P3: בית ספר | Q3: 1 | R3: רגיל | S3: 10 | T3: יסודי בלבד | U3: 1 | V3: 6 | W3: ערד ניר | X3: שלומית ברק יסקולקה | Y3: 09-748-4625 | Z3: 09-748-4625 | AA3: צאלון 1 | AB3: 1 | AC3: 127 | AD3: 60910 | AE3: צאלון 2 | AF3: 4184 | AG3: בני ציון | AI3: Y-hovav-bnz-M@kishurim.k12.il | AJ3: 1950 | AK3: 0 | AL3: 0 | AM3: 0 | AN3: 0 | AO3: 0 | AP3: 0 | AQ3: 0 | AR3: 0 | AS3: 0 | AT3: ללא יוח"א | AW3: 4 | AX3: 5 | AY3: 1 | AZ3: 1 | BA3: 1 | BB3: 0 | BC3: 1 | BD3: 0 | BE3: 0
A4: 2017 | B4: 410316 | C4: עיר ימים | D4: 376 | E4: 74005 | F4: נתניה | G4: 74005 | H4: נתניה | I4: יהודי | J4: מ"מ | K4: רשמי | L4: תל אביב | M4: מרכז | N4: רגיל | O4: 11 | P4: בית ספר | Q4: 1 | R4: רגיל | S4: 10 | T4: יסודי בלבד | U4: 1 | V4: 6 | W4: דוד פרידמן | X4: תמר דרור | Y4: 09-749-8427 | Z4: 09-771-9418 | AA4: ברמן בני 4 | AB4: 4 | AC4: 351 | AE4: ברמן בני 4 | AF4: 74005 | AG4: נתניה | AJ4: 2012 | AK4: 0 | AL4: 0 | AM4: 0 | AN4: 0 | AO4: 0 | AP4: 0 | AQ4: 0 | AR4: 0 | AS4: 0 | AT4: ללא יוח"א | AW4: 4 | AX4: 5 | AY4: 1 | AZ4: 1 | BA4: 1 | BB4: 0 | BC4: 1 | BD4: 0 | BE4: 0
A5: 2017 | B5: 410431 | C5: אדם וסביבה | D5: 368 | E5: 1900000 | F5: חוף השרון | G5: 8425 | H5: געש | I5: יהודי | J5: מ"מ | K5: רשמי | L5: תל אביב | M5: מרכז | N5: רגיל | O5: 11 | P5: בית ספר | Q5: 1 | R5: רגיל | S5: 10 | T5: יסודי בלבד | U5: 1 | V5: 6 | W5: אורה קוגלר | X5: שלומית ברק יסקולקה | Y5: 09-952-1207 | Z5: 09-952-1115 | AA5: געש | AC5: 9000 | AD5: 60951 | AE5: געש | AF5: 8425 | AG5: געש | AI5: Y-adamvs-gas-M@kishurim.k12.il | AJ5: 1950 | AK5: 0 | AL5: 0 | AM5: 0 | AN5: 0 | AO5: 0 | AP5: 0 | AQ5: 0 | AR5: 0 | AS5: 0 | AT5: ללא יוח"א | AW5: 4 | AX5: 5 | AY5: 1 | AZ5: 1 | BA5: 1 | BB5: 0 | BC5: 1 | BD5: 0 | BE5: 0
A6: 2017 | B6: 410712 | C6: הדר | D6: 515 | E6: 79004 | F6: פתח תקוה | G6: 79004 | H6: פתח תקווה | I6: יהודי | J6: מ"מ | K6: רשמי | L6: תל אביב | M6: מרכז | N6: רגיל | O6: 11 | P6: בית ספר | Q6: 1 | R6: רגיל | S6: 10 | T6: יסודי בלבד | U6: 1 | V6: 6 | W6: יפעת ליצקי | X6: רונית זכאי | Y6: 03-921-4634 | Z6: 03-921-5589 | AA6: העצמאות 50 | AB6: 50 | AC6: 1205 | AD6: 49375 | AE6: העצמאות ת.ד. 8141 | AF6: 79004 | AG6: פתח תקווה | AI6: Y-hadar-pt-M@kishurim.k12.il | AJ6: 1960 | AK6: 0 | AL6: 0 | AM6: 0 | AN6: 0 | AO6: 0 | AP6: 0 | AQ6: 0 | AR6: 0 | AS6: 0 | AT6: ללא יוח"א | AW6: 4 | AX6: 5 | AY6: 1 | AZ6: 1 | BA6: 1 | BB6: 0 | BC6: 1 | BD6: 0 | BE6: 0
A7: 2017 | B7: 411306 | C7: עמיטל תורני | D7: 754 | E7: 79004 | F7: פתח תקוה | G7: 79004 | H7: פתח תקווה | I7: יהודי | J7: חמ"ד | K7: רשמי | L7: תל אביב | M7: מרכז | N7: רגיל | O7: 11 | P7: בית ספר | Q7: 1 | R7: רגיל | S7: 10 | T7: יסודי בלבד | U7: 1 | V7: 6 | W7: שמחה גיל | X7: דלילה כהן | Y7: 03-546-0833 | Z7: 03-546-3810 | AA7: הרב משורר ישעיהו 27 | AB7: 27 | AC7: 670 | AE7: הרב משורר ישעיהו 27 | AF7: 79004 | AG7: פתח תקווה | AJ7: 2013 | AK7: 0 | AL7: 0 | AM7: 0 | AN7: 0 | AO7: 0 | AP7: 0 | AQ7: 0 | AR7: 0 | AS7: 0 | AT7: ללא יוח"א | AW7: 4 | AX7: 5 | AY7: 1 | AZ7: 1 | BA7: 2 | BB7: 0 | BC7: 1 | BD7: 0 | BE7: 0
A8: 2017 | B8: 411355 | C8: איתמר בן אב"י | D8: 437 | E8: 74005 | F8: נתניה | G8: 74005 | H8: נתניה | I8: יהודי | J8: מ"מ | K8: רשמי | L8: תל אביב | M8: מרכז | N8: רגיל | O8: 11 | P8: בית ספר | Q8: 1 | R8: רגיל | S8: 10 | T8: יסודי בלבד | U8: 1 | V8: 6 | W8: אורנה חנס | X8: תמר דרור | Y8: 09-882-2782 | Z8: 09-862-3873 | AA8: נתניה | AC8: 9000 | AD8: 42487 | AE8: נתניה ת.ד. 2195 | AF8: 74005 | AG8: נתניה | AI8: Y-itamar-ntn-M@kishurim.k12.il | AJ8: 1950 | AK8: 0 | AL8: 0 | AM8: 0 | AN8: 0 | AO8: 0 | AP8: 0 | AQ8: 0 | AR8: 0 | AS8: 0 | AT8: ללא יוח"א | AW8: 4 | AX8: 5 | AY8: 1 | AZ8: 1 | BA8: 1 | BB8: 0 | BC8: 1 | BD8: 0 | BE8: 0
A9: 2017 | B9: 411363 | C9: אלומות | D9: 199 | E9: 74005 | F9: נתניה | G9: 74005 | H9: נתניה | I9: יהודי | J9: מ"מ | K9: רשמי | L9: תל אביב | M9: מרכז | N9: רגיל | O9: 11 | P9: בית ספר | Q9: 1 | R9: רגיל | S9: 10 | T9: יסודי בלבד | U9: 1 | V9: 6 | W9: דרור מהרבן | X9: תמר דרור | Y9: 09-833-2012 | Z9: 09-862-7590 | AA9: קפלן | AC9: 827 | AE9: קפלן ת.ד. 2540 | AF9: 74005 | AG9: נתניה | AI9: Y-alomot-ntn-V@kishurim.k12.il | AJ9: 1950 | AK9: 0 | AL9: 0 | AM9: 1 | AN9: 0 | AO9: 0 | AP9: 0 | AQ9: 0 | AR9: 0 | AS9: 0 | AT9: ללא יוח"א | AW9: 4 | AX9: 5 | AY9: 1 | AZ9: 1 | BA9: 1 | BB9: 0 | BC9: 1 | BD9: 0 | BE9: 0
A10: 2017 | B10: 411371 | C10: בארי | D10: 487 | E10: 74005 | F10: נתניה | G10: 74005 | H10: נתניה | I10: יהודי | J10: מ"מ | K10: רשמי | L10: תל אביב | M10: מרכז | N10: רגיל | O10: 11 | P10: בית ספר | Q10: 1 | R10: רגיל | S10: 10 | T10: יסודי בלבד | U10: 1 | V10: 6 | W10: עמליה אמיר הולובינגר | X10: תמר דרור | Y10: 09-833-0681 | Z10: 09-884-2332 | AA10: בר אילן 12 | AB10: 12 | AC10: 306 | AE10: בר אילן 12 ת.ד. 2577 | AF10: 74005 | AG10: נתניה | AI10: Y-beeri-ntn-M@kishurim.k12.il | AJ10: 1942 | AK10: 0 | AL10: 0 | AM10: 0 | AN10: 0 | AO10: 0 | AP10: 0 | AQ10: 0 | AR10: 0 | AS10: 0 | AT10: ללא יוח"א | AW10: 4 | AX10: 5 | AY10: 1 | AZ10: 1 | BA10: 1 | BB10: 0 | BC10: 1 | BD10: 0 | BE10: 0
A11: 2017 | B11: 411389 | C11: ביאליק | D11: 363 | E11: 74005 | F11: נתניה | G11: 74005 | H11: נתניה | I11: יהודי | J11: מ"מ | K11: רשמי | L11: תל אביב | M11: מרכז | N11: רגיל | O11: 11 | P11: בית ספר | Q11: 1 | R11: רגיל | S11: 10 | T11: יסודי בלבד | U11: 1 | V11: 6 | W11: עדי בירן פגץ | X11: תמר דרור | Y11: 09-862-6671 | Z11: 09-882-9585 | AA11: ביאליק 17 | AB11: 17 | AC11: 441 | AD11: 42263 | AE11: ביאליק 17 ת.ד. 1682 | AF11: 74005 | AG11: נתניה | AI11: Y-bialik-ntn-M@kishurim.k12.il | AJ11: 1950 | AK11: 0 | AL11: 0 | AM11: 0 | AN11: 0 | AO11: 0 | AP11: 0 | AQ11: 0 | AR11: 0 | AS11: 0 | AT11: ללא יוח"א | AW11: 4 | AX11: 5 | AY11: 1 | AZ11: 1 | BA11: 1 | BB11: 0 | BC11: 1 | BD11: 0 | BE11: 0
A12: 2017 | B12: 411397 | C12: נורדאו | D12: 209 | E12: 74005 | F12: נתניה | G12: 74005 | H12: נתניה | I12: יהודי | J12: מ"מ | K12: רשמי | L12: תל אביב | M12: מרכז | N12: רגיל | O12: 11 | P12: בית ספר | Q12: 1 | R12: רגיל | S12: 10 | T12: יסודי בלבד | U12: 1 | V12: 6 | W12: ענת שריג | X12: תמר דרור | Y12: 09-835-1683 | Z12: 09-835-0985 | AA12: לוין אריה 1 | AB12: 1 | AC12: 965 | AD12: 42342 | AE12: לוין אריה 1 ת.ד. 6049 | AF12: 74005 | AG12: נתניה | AI12: Y-nordao-ntn-M@kishurim.k12.il | AJ12: 1950 | AK12: 0 | AL12: 0 | AM12: 0 | AN12: 0 | AO12: 0 | AP12: 0 | AQ12: 0 | AR12: 0 | AS12: 0 | AT12: ללא יוח"א | AW12: 4 | AX12: 5 | AY12: 1 | AZ12: 1 | BA12: 1 | BB12: 0 | BC12: 1 | BD12: 0 | BE12: 0
A13: 2017 | B13: 411413 | C13: ע"ש אהרון דוידי | D13: 369 | E13: 74005 | F13: נתניה | G13: 74005 | H13: נתניה | I13: יהודי | J13: מ"מ | K13: רשמי | L13: תל אביב | M13: מרכז | N13: רגיל | O13: 11 | P13: בית ספר | Q13: 1 | R13: רגיל | S13: 10 | T13: יסודי בלבד | U13: 1 | V13: 6 | W13: אלונה שלום | X13: תמר דרור | Y13: 09-766-4413 | Z13: 09-766-4413 | AA13: שמורת נחל שניר 3 | AB13: 3 | AC13: 611 | AE13: שמורת נחל שניר 3 | AF13: 74005 | AG13: נתניה | AJ13: 2013 | AK13: 0 | AL13: 0 | AM13: 0 | AN13: 0 | AO13: 0 | AP13: 0 | AQ13: 0 | AR13: 0 | AS13: 0 | AT13: ללא יוח"א | AW13: 4 | AX13: 5 | AY13: 1 | AZ13: 1 | BA13: 1 | BB13: 0 | BC13: 1 | BD13: 0 | BE13: 0
A14: 2017 | B14: 411421 | C14: שורשים | D14: 190 | E14: 74005 | F14: נתניה | G14: 74005 | H14: נתניה | I14: יהודי | J14: מ"מ | K14: רשמי | L14: תל אביב | M14: מרכז | N14: רגיל | O14: 11 | P14: בית ספר | Q14: 1 | R14: רגיל | S14: 10 | T14: יסודי בלבד | U14: 1 | V14: 6 | W14: אורלי איבי בן-אדרת | X14: תמר דרור | Y14: 09-833-0536 | Z14: 09-862-8335 | AA14: גרונר דב 13 | AB14: 13 | AC14: 533 | AD14: 42381 | AE14: גרונר דב | AF14: 74005 | AG14: נתניה | AI14: Y-shoras-ntn-M@kishurim.k12.il | AJ14: 1950 | AK14: 0 | AL14: 0 | AM14: 0 | AN14: 0 | AO14: 0 | AP14: 0 | AQ14: 0 | AR14: 0 | AS14: 0 | AT14: ללא יוח"א | AW14: 4 | AX14: 5 | AY14: 1 | AZ14: 1 | BA14: 1 | BB14: 0 | BC14: 1 | BD14: 0 | BE14: 0
A15: 2017 | B15: 411439 | C15: ממ"ד רש"י | D15: 296 | E15: 74005 | F15: נתניה | G15: 74005 | H15: נתניה | I15: יהודי | J15: חמ"ד | K15: רשמי | L15: תל אביב | M15: מרכז | N15: רגיל | O15: 11 | P15: בית ספר | Q15: 1 | R15: רגיל | S15: 10 | T15: יסודי בלבד | U15: 1 | V15: 6 | W15: שמעון מסעוד לוי | X15: אהוד קרוב | Y15: 09-865-0488 | Z15: 09-885-2277 | AA15: אריה לייב יפה 6 | AB15: 6 | AC15: 997 | AD15: 42490 | AE15: אריה לייב יפה | AF15: 74005 | AG15: נתניה | AI15: Y-MamadR-ntn-M@kishurim.k12.il | AJ15: 1960 | AK15: 0 | AL15: 0 | AM15: 1 | AN15: 0 | AO15: 0 | AP15: 0 | AQ15: 0 | AR15: 0 | AS15: 0 | AT15: ללא יוח"א | AW15: 4 | AX15: 5 | AY15: 1 | AZ15: 1 | BA15: 2 | BB15: 0 | BC15: 1 | BD15: 0 | BE15: 0
A16: 2017 | B16: 411447 | C16: ממ"ד יבנה | D16: 310 | E16: 74005 | F16: נתניה | G16: 74005 | H16: נתניה | I16: יהודי | J16: חמ"ד | K16: רשמי | L16: תל אביב | M16: מרכז | N16: רגיל | O16: 11 | P16: בית ספר | Q16: 1 | R16: רגיל | S16: 10 | T16: יסודי בלבד | U16: 0 | V16: 6 | W16: אתי-גאולה אטיה | X16: אהוד קרוב | Y16: 09-833-0533 | Z16: 09-862-2288 | AA16: יבנה 4 | AB16: 4 | AC16: 124 | AE16: יבנה 4 | AF16: 74005 | AG16: נתניה | AI16: Y-MamadY-ntn-M@kishurim.k12.il | AJ16: 1950 | AK16: 0 | AL16: 0 | AM16: 1 | AN16: 0 | AO16: 0 | AP16: 0 | AQ16: 0 | AR16: 0 | AS16: 0 | AT16: ללא יוח"א | AW16: 4 | AX16: 5 | AY16: 1 | AZ16: 1 | BA16: 2 | BB16: 0 | BC16: 1 | BD16: 0 | BE16: 0
A17: 2017 | B17: 411470 | C17: דרכי אבות | D17: 505 | E17: 74005 | F17: נתניה | G17: 74005 | H17: נתניה | I17: יהודי | J17: חמ"ד | K17: רשמי | L17: תל אביב | M17: מרכז | N17: רגיל | O17: 11 | P17: בית ספר | Q17: 1 | R17: רגיל | S17: 10 | T17: יסודי בלבד | U17: 1 | V17: 8 | W17: יעקב שמעון שר | X17: אהוד קרוב | Y17: 09-884-0775 | Z17: 09-862-8223 | AA17: החוזה מלובלין 13 | AB17: 13 | AC17: 261 | AE17: נתניה ת.ד. 5018 | AF17: 74005 | AG17: נתניה | AI17: Y-dakiav-ntn-S@kishurim.k12.il | AJ17: 1990 | AK17: 0 | AL17: 0 | AM17: 0 | AN17: 0 | AO17: 0 | AP17: 0 | AQ17: 0 | AR17: 0 | AS17: 0 | AT17: ללא יוח"א | AU17: 2009 | AV17: 2015 | AW17: 4 | AX17: 5 | AY17: 1 | AZ17: 1 | BA17: 2 | BB17: 0 | BC17: 1 | BD17: 0 | BE17: 0
A18: 2017 | B18: 411496 | C18: ממ"ד תחכמוני | D18: 486 | E18: 74005 | F18: נתניה | G18: 74005 | H18: נתניה | I18: יהודי | J18: חמ"ד | K18: רשמי | L18: תל אביב | M18: מרכז | N18: רגיל | O18: 11 | P18: בית ספר | Q18: 1 | R18: רגיל | S18: 10 | T18: יסודי בלבד | U18: 1 | V18: 6 | W18: חגית יודקוביץ | X18: אהוד קרוב | Y18: 09-861-6106 | Z18: 09-862-9619 | AA18: יהודה הלוי 35 | AB18: 35 | AC18: 517 | AD18: 42480 | AE18: יהודה הלוי 35 | AF18: 74005 | AG18: נתניה | AI18: Y-matac-ntn-S@kishurim.k12.il | AJ18: 1960 | AK18: 0 | AL18: 0 | AM18: 0 | AN18: 0 | AO18: 0 | AP18: 0 | AQ18: 0 | AR18: 0 | AS18: 0 | AT18: ללא יוח"א | AW18: 4 | AX18: 5 | AY18: 1 | AZ18: 1 | BA18: 2 | BB18: 0 | BC18: 1 | BD18: 0 | BE18: 0
A19: 2017 | B19: 411603 | C19: גורדון | D19: 336 | E19: 79004 | F19: פתח תקוה | G19: 79004 | H19: פתח תקווה | I19: יהודי | J19: מ"מ | K19: רשמי | L19: תל אביב | M19: מרכז | N19: רגיל | O19: 11 | P19: בית ספר | Q19: 1 | R19: רגיל | S19: 10 | T19: יסודי בלבד | U19: 1 | V19: 6 | W19: רחל ברמן | X19: רונית זכאי | Y19: 03-931-1484 | Z19: 03-934-5172 | AA19: וולפסון דוד 31 | AB19: 31 | AC19: 226 | AD19: 49440 | AE19: פתח תקווה ת.ד. 97 | AF19: 79004 | AG19: פתח תקווה | AI19: Y-gordon-pt-M@kishurim.k12.il | AJ19: 1950 | AK19: 0 | AL19: 0 | AM19: 0 | AN19: 0 | AO19: 0 | AP19: 0 | AQ19: 0 | AR19: 0 | AS19: 0 | AT19: ללא יוח"א | AW19: 4 | AX19: 5 | AY19: 1 | AZ19: 1 | BA19: 1 | BB19: 0 | BC19: 1 | BD19: 0 | BE19: 0
A20: 2017 | B20: 411611 | C20: הס | D20: 649 | E20: 79004 | F20: פתח תקוה | G20: 79004 | H20: פתח תקווה | I20: יהודי | J20: מ"מ | K20: רשמי | L20: תל אביב | M20: מרכז | N20: רגיל | O20: 11 | P20: בית ספר | Q20: 1 | R20: רגיל | S20: 10 | T20: יסודי בלבד | U20: 1 | V20: 6 | W20: מסדה נחמד | X20: רונית זכאי | Y20: 03-931-1094 | Z20: 0--0000 | AA20: שפירא הרמן צבי 46 | AB20: 46 | AC20: 803 | AE20: שפירא הרמן צבי 46 | AF20: 79004 | AG20: פתח תקווה | AI20: Y-hes-pt-M@kishurim.k12.il | AJ20: 1960 | AK20: 0 | AL20: 0 | AM20: 0 | AN20: 0 | AO20: 0 | AP20: 0 | AQ20: 0 | AR20: 0 | AS20: 0 | AT20: ללא יוח"א | AW20: 4 | AX20: 5 | AY20: 1 | AZ20: 1 | BA20: 1 | BB20: 0 | BC20: 1 | BD20: 0 | BE20: 0
A21: 2017 | B21: 411629 | C21: קיבוץ גלויות | D21: 216 | E21: 79004 | F21: פתח תקוה | G21: 79004 | H21: פתח תקווה | I21: יהודי | J21: מ"מ | K21: רשמי | L21: תל אביב | M21: מרכז | N21: רגיל | O21: 11 | P21: בית ספר | Q21: 1 | R21: רגיל | S21: 10 | T21: יסודי בלבד | U21: 1 | V21: 6 | W21: מירב פלג בס | X21: רונית זכאי | Y21: 03-931-1664 | Z21: 03-904-2725 | AA21: רמז דוד | AC21: 458 | AE21: קהילת יוסטון 3 ת.ד. 49834 | AF21: 79004 | AG21: פתח תקווה | AI21: Y-KGaluy-pt-M@kishurim.k12.il | AJ21: 1960 | AK21: 0 | AL21: 0 | AM21: 1 | AN21: 0 | AO21: 0 | AP21: 0 | AQ21: 0 | AR21: 0 | AS21: 0 | AT21: ללא יוח"א | AW21: 4 | AX21: 5 | AY21: 1 | AZ21: 1 | BA21: 1 | BB21: 0 | BC21: 1 | BD21: 0 | BE21: 0
A22: 2017 | B22: 411637 | C22: נוה עוז | D22: 650 | E22: 79004 | F22: פתח תקוה | G22: 79004 | H22: פתח תקווה | I22: יהודי | J22: מ"מ | K22: רשמי | L22: תל אביב | M22: מרכז | N22: רגיל | O22: 11 | P22: בית ספר | Q22: 1 | R22: רגיל | S22: 10 | T22: יסודי בלבד | U22: 1 | V22: 6 | W22: רגינה פוקס | X22: רונית זכאי | Y22: 03-922-3408 | Z22: 03-921-1289 | AA22: אשכול לוי 2 | AB22: 2 | AC22: 1126 | AD22: 49217 | AE22: אשכול לוי | AF22: 79004 | AG22: פתח תקווה | AI22: Y-NeveOz-pt-M@kishurim.k12.il | AJ22: 1960 | AK22: 0 | AL22: 0 | AM22: 0 | AN22: 0 | AO22: 0 | AP22: 0 | AQ22: 0 | AR22: 0 | AS22: 0 | AT22: ללא יוח"א | AW22: 4 | AX22: 5 | AY22: 1 | AZ22: 1 | BA22: 1 | BB22: 0 | BC22: 1 | BD22: 0 | BE22: 0
A23: 2017 | B23: 411652 | C23: פיק"א | D23: 434 | E23: 79004 | F23: פתח תקוה | G23: 79004 | H23: פתח תקווה | I23: יהודי | J23: מ"מ | K23: רשמי | L23: תל אביב | M23: מרכז | N23: רגיל | O23: 11 | P23: בית ספר | Q23: 1 | R23: רגיל | S23: 10 | T23: יסודי בלבד | U23: 1 | V23: 6 | W23: גילת אנגל | X23: רונית זכאי | Y23: 03-922-2441 | Z23: 03-921-0166 | AA23: סעדיה גאון 8 | AB23: 8 | AC23: 902 | AE23: סעדיה גאון 8 | AF23: 79004 | AG23: פתח תקווה | AI23: Y-pika-pt-M@kishurim.k12.il | AJ23: 1950 | AK23: 0 | AL23: 0 | AM23: 0 | AN23: 0 | AO23: 0 | AP23: 0 | AQ23: 0 | AR23: 0 | AS23: 0 | AT23: ללא יוח"א | AW23: 4 | AX23: 5 | AY23: 1 | AZ23: 1 | BA23: 1 | BB23: 0 | BC23: 1 | BD23: 0 | BE23: 0
A24: 2017 | B24: 411660 | C24: קרול | D24: 333 | E24: 79004 | F24: פתח תקוה | G24: 79004 | H24: פתח תקווה | I24: יהודי | J24: מ"מ | K24: רשמי | L24: תל אביב | M24: מרכז | N24: רגיל | O24: 11 | P24: בית ספר | Q24: 1 | R24: רגיל | S24: 10 | T24: יסודי בלבד | U24: 1 | V24: 6 | W24: רות וייס | X24: רונית זכאי | Y24: 03-934-6556 | Z24: 03-934-6556 | AA24: פתח תקווה | AC24: 9000 | AD24: 41166 | AE24: פתח תקווה ת.ד. 24 | AF24: 79004 | AG24: פתח תקווה | AI24: Y-karol-pt-M@kishurim.k12.il | AJ24: 1960 | AK24: 0 | AL24: 0 | AM24: 0 | AN24: 0 | AO24: 0 | AP24: 0 | AQ24: 0 | AR24: 0 | AS24: 0 | AT24: ללא יוח"א | AW24: 4 | AX24: 5 | AY24: 1 | AZ24: 1 | BA24: 1 | BB24: 0 | BC24: 1 | BD24: 0 | BE24: 0
A25: 2017 | B25: 411686 | C25: קפלן | D25: 382 | E25: 79004 | F25: פתח תקוה | G25: 79004 | H25: פתח תקווה | I25: יהודי | J25: מ"מ | K25: רשמי | L25: תל אביב | M25: מרכז | N25: רגיל | O25: 11 | P25: בית ספר | Q25: 1 | R25: רגיל | S25: 10 | T25: יסודי בלבד | U25: 1 | V25: 6 | W25: טלי רחל טולדנו | X25: רונית זכאי | Y25: 03-921-9560 | Z25: 03-921-9560 | AA25: קפלן אליעזר 7 | AB25: 7 | AC25: 928 | AD25: 49202 | AE25: קפלן אליעזר | AF25: 79004 | AG25: פתח תקווה | AI25: Y-kaplan-pt-M@kishurim.k12.il | AJ25: 1960 | AK25: 0 | AL25: 0 | AM25: 0 | AN25: 0 | AO25: 0 | AP25: 0 | AQ25: 0 | AR25: 0 | AS25: 0 | AT25: ללא יוח"א | AW25: 4 | AX25: 5 | AY25: 1 | AZ25: 1 | BA25: 1 | BB25: 0 | BC25: 1 | BD25: 0 | BE25: 0
A26: 2017 | B26: 411694 | C26: יסודות | D26: 288 | E26: 79004 | F26: פתח תקוה | G26: 79004 | H26: פתח תקווה | I26: יהודי | J26: מ"מ | K26: רשמי | L26: תל אביב | M26: מרכז | N26: רגיל | O26: 11 | P26: בית ספר | Q26: 1 | R26: רגיל | S26: 10 | T26: יסודי בלבד | U26: 1 | V26: 6 | W26: יהלומה רוזן | X26: רונית זכאי | Y26: 03-932-1095 | Z26: 03-932-1095 | AA26: פתח תקווה | AC26: 9000 | AD26: 49235 | AE26: פתח תקווה ת.ד. 501 | AF26: 79004 | AG26: פתח תקווה | AI26: Y-yesodo-pt-M@kishurim.k12.il | AJ26: 1960 | AK26: 0 | AL26: 1 | AM26: 1 | AN26: 0 | AO26: 0 | AP26: 0 | AQ26: 0 | AR26: 0 | AS26: 0 | AT26: ללא יוח"א | AW26: 4 | AX26: 5 | AY26: 1 | AZ26: 1 | BA26: 1 | BB26: 0 | BC26: 1 | BD26: 0 | BE26: 0
A27: 2017 | B27: 411702 | C27: אורנים | D27: 534 | E27: 79004 | F27: פתח תקוה | G27: 79004 | H27: פתח תקווה | I27: יהודי | J27: מ"מ | K27: רשמי | L27: תל אביב | M27: מרכז | N27: רגיל | O27: 11 | P27: בית ספר | Q27: 1 | R27: רגיל | S27: 10 | T27: יסודי בלבד | U27: 1 | V27: 6 | W27: יעל הרשטיק | X27: רונית זכאי | Y27: 03-932-8278 | Z27: 03-933-4840 | AA27: תפוצות ישראל 7 | AB27: 7 | AC27: 618 | AD27: 49581 | AE27: תפוצות ישראל ת.ד. 596 | AF27: 79004 | AG27: פתח תקווה | AI27: Y-oranim-pt-S@kishurim.k12.il | AJ27: 1950 | AK27: 0 | AL27: 1 | AM27: 1 | AN27: 0 | AO27: 0 | AP27: 0 | AQ27: 0 | AR27: 0 | AS27: 0 | AT27: ללא יוח"א | AW27: 4 | AX27: 5 | AY27: 1 | AZ27: 1 | BA27: 1 | BB27: 0 | BC27: 1 | BD27: 0 | BE27: 0
A28: 2017 | B28: 411710 | C28: חמ"ד אורי אורבך | D28: 728 | E28: 79004 | F28: פתח תקוה | G28: 79004 | H28: פתח תקווה | I28: יהודי | J28: חמ"ד | K28: רשמי | L28: תל אביב | M28: מרכז | N28: רגיל | O28: 11 | P28: בית ספר | Q28: 1 | R28: רגיל | S28: 10 | T28: יסודי בלבד | U28: 1 | V28: 6 | W28: ליאת אילון | X28: דלילה כהן | Y28: 03-909-0198 | Z28: 03-932-4871 | AA28: שולזינגר | AC28: 1209 | AD28: 49181 | AE28: פתח תקווה ת.ד. 8187 | AF28: 79004 | AG28: פתח תקווה | AI28: Y-kganim-pt-M@kishurim.k12.il | AJ28: 1960 | AK28: 0 | AL28: 1 | AM28: 0 | AN28: 0 | AO28: 0 | AP28: 0 | AQ28: 0 | AR28: 0 | AS28: 0 | AT28: ללא יוח"א | AW28: 4 | AX28: 5 | AY28: 1 | AZ28: 1 | BA28: 2 | BB28: 0 | BC28: 1 | BD28: 0 | BE28: 0
A29: 2017 | B29: 411736 | C29: ממ"ד נצח ישראל | D29: 206 | E29: 79004 | F29: פתח תקוה | G29: 79004 | H29: פתח תקווה | I29: יהודי | J29: חמ"ד | K29: רשמי | L29: תל אביב | M29: מרכז | N29: רגיל | O29: 11 | P29: בית ספר | Q29: 1 | R29: רגיל | S29: 10 | T29: יסודי בלבד | U29: 1 | V29: 6 | W29: רווית זר | X29: דלילה כהן | Y29: 03-931-2167 | Z29: 03-934-7990 | AA29: הרב מוהליבר שמואל 10 | AB29: 10 | AC29: 218 | AE29: הרב מוהליבר שמואל 10 | AF29: 79004 | AG29: פתח תקווה | AI29: Y-mabani-pt-M@kishurim.k12.il | AJ29: 1960 | AK29: 0 | AL29: 0 | AM29: 0 | AN29: 0 | AO29: 0 | AP29: 0 | AQ29: 0 | AR29: 0 | AS29: 0 | AT29: ללא יוח"א | AW29: 4 | AX29: 5 | AY29: 1 | AZ29: 1 | BA29: 2 | BB29: 0 | BC29: 1 | BD29: 0 | BE29: 0
A30: 2017 | B30: 411769 | C30: מ"ד מורשה | D30: 576 | E30: 79004 | F30: פתח תקוה | G30: 79004 | H30: פתח תקווה | I30: יהודי | J30: חמ"ד | K30: רשמי | L30: תל אביב | M30: מרכז | N30: רגיל | O30: 11 | P30: בית ספר | Q30: 1 | R30: רגיל | S30: 10 | T30: יסודי בלבד | U30: 1 | V30: 6 | W30: גלית זאגא | X30: דלילה כהן | Y30: 03-932-4080 | Z30: 03-909-1759 | AA30: צלח שלום 33 | AB30: 33 | AC30: 501 | AE30: צלח שלום 33 | AF30: 79004 | AG30: פתח תקווה | AI30: Y-morash-pt-M@kishurim.k12.il | AJ30: 1950 | AK30: 0 | AL30: 0 | AM30: 1 | AN30: 0 | AO30: 0 | AP30: 0 | AQ30: 0 | AR30: 0 | AS30: 0 | AT30: ללא יוח"א | AW30: 4 | AX30: 5 | AY30: 1 | AZ30: 1 | BA30: 2 | BB30: 0 | BC30: 1 | BD30: 0 | BE30: 0
A31: 2017 | B31: 411926 | C31: לאה גולדברג | D31: 534 | E31: 74005 | F31: נתניה | G31: 74005 | H31: נתניה | I31: יהודי | J31: מ"מ | K31: רשמי | L31: תל אביב | M31: מרכז | N31: רגיל | O31: 11 | P31: בית ספר | Q31: 1 | R31: רגיל | S31: 10 | T31: יסודי בלבד | U31: 1 | V31: 6 | W31: יהודית פרור | X31: תמר דרור | Y31: 09-862-6447 | Z31: 09-891-3540 | AA31: הרב הרטום שמואל 33 | AB31: 33 | AC31: 865 | AE31: הרב הרטום שמואל 33 ת.ד. 7081 | AF31: 74005 | AG31: נתניה | AJ31: 2011 | AK31: 0 | AL31: 0 | AM31: 0 | AN31: 0 | AO31: 0 | AP31: 0 | AQ31: 0 | AR31: 0 | AS31: 0 | AT31: ללא יוח"א | AW31: 4 | AX31: 5 | AY31: 1 | AZ31: 1 | BA31: 1 | BB31: 0 | BC31: 1 | BD31: 0 | BE31: 0
A32: 2017 | B32: 412239 | C32: הרצוג | D32: 494 | E32: 74005 | F32: נתניה | G32: 74005 | H32: נתניה | I32: יהודי | J32: מ"מ | K32: רשמי | L32: תל אביב | M32: מרכז | N32: רגיל | O32: 11 | P32: בית ספר | Q32: 1 | R32: רגיל | S32: 11 | T32: גן ויסודי | U32: 0 | V32: 6 | W32: יעל פז | X32: תמר דרור | Y32: 09-834-4844 | Z32: 09-833-1876 | AA32: אשר 5 | AB32: 5 | AC32: 1217 | AD32: 42524 | AE32: אשר 5 ת.ד. 16054 | AF32: 74005 | AG32: נתניה | AI32: Y-herzog-ntn-M@kishurim.k12.il | AJ32: 2006 | AK32: 0 | AL32: 0 | AM32: 0 | AN32: 0 | AO32: 0 | AP32: 0 | AQ32: 0 | AR32: 0 | AS32: 0 | AT32: ללא יוח"א | AW32: 4 | AX32: 5 | AY32: 1 | AZ32: 1 | BA32: 1 | BB32: 0 | BC32: 1 | BD32: 0 | BE32: 0
A33: 2017 | B33: 412387 | C33: בית חנה | D33: 541 | E33: 74005 | F33: נתניה | G33: 74005 | H33: נתניה | I33: יהודי | J33: חמ"ד | K33: רשמי | L33: תל אביב | M33: מרכז | N33: רגיל | O33: 11 | P33: בית ספר | Q33: 1 | R33: רגיל | S33: 10 | T33: יסודי בלבד | U33: 1 | V33: 8 | W33: סימה צורטל שווארץ | X33: אהוד קרוב | Y33: 09-884-0764 | Z33: 09-882-8194 | AA33: רבי מאיר 8 | AB33: 8 | AC33: 229 | AE33: רבי מאיר 8 ת.ד. 5018 | AF33: 74005 | AG33: נתניה | AI33: Y-beitha-ntn-M@kishurim.k12.il | AJ33: 1990 | AK33: 0 | AL33: 0 | AM33: 0 | AN33: 0 | AO33: 0 | AP33: 0 | AQ33: 0 | AR33: 0 | AS33: 0 | AT33: ללא יוח"א | AU33: 2008 | AV33: 2015 | AW33: 4 | AX33: 5 | AY33: 1 | AZ33: 1 | BA33: 2 | BB33: 0 | BC33: 1 | BD33: 0 | BE33: 0
A34: 2017 | B34: 412767 | C34: יד לבנים | D34: 341 | E34: 79004 | F34: פתח תקוה | G34: 79004 | H34: פתח תקווה | I34: יהודי | J34: מ"מ | K34: רשמי | L34: תל אביב | M34: מרכז | N34: רגיל | O34: 11 | P34: בית ספר | Q34: 1 | R34: רגיל | S34: 10 | T34: יסודי בלבד | U34: 1 | V34: 6 | W34: אמיר פוני | X34: רונית זכאי | Y34: 03-922-3665 | Z34: 03-921-0582 | AA34: יהלום בנימין | AC34: 919 | AD34: 49404 | AE34: פתח תקווה ת.ד. 9560 | AF34: 79004 | AG34: פתח תקווה | AI34: Y-YadLeb-pt-M@kishurim.k12.il | AJ34: 1960 | AK34: 0 | AL34: 0 | AM34: 0 | AN34: 0 | AO34: 0 | AP34: 0 | AQ34: 0 | AR34: 0 | AS34: 0 | AT34: ללא יוח"א | AW34: 4 | AX34: 5 | AY34: 1 | AZ34: 1 | BA34: 1 | BB34: 0 | BC34: 1 | BD34: 0 | BE34: 0
A35: 2017 | B35: 412841 | C35: הוברמן | D35: 602 | E35: 79004 | F35: פתח תקוה | G35: 79004 | H35: פתח תקווה | I35: יהודי | J35: מ"מ | K35: רשמי | L35: תל אביב | M35: מרכז | N35: רגיל | O35: 11 | P35: בית ספר | Q35: 1 | R35: רגיל | S35: 10 | T35: יסודי בלבד | U35: 1 | V35: 6 | W35: לאה גרוס | X35: רונית זכאי | Y35: 03-908-8323 | Z35: 03-932-1055 | AA35: הוברמן 8 | AB35: 8 | AC35: 706 | AD35: 49353 | AE35: הוברמן 8 | AF35: 79004 | AG35: פתח תקווה | AI35: Y-huberm-pt-M@kishurim.k12.il | AJ35: 1950 | AK35: 0 | AL35: 0 | AM35: 0 | AN35: 0 | AO35: 0 | AP35: 0 | AQ35: 0 | AR35: 0 | AS35: 0 | AT35: ללא יוח"א | AW35: 4 | AX35: 5 | AY35: 1 | AZ35: 1 | BA35: 1 | BB35: 0 | BC35: 1 | BD35: 0 | BE35: 0
A36: 2017 | B36: 412874 | C36: ממ"ד ישורון | D36: 731 | E36: 74005 | F36: נתניה | G36: 74005 | H36: נתניה | I36: יהודי | J36: חמ"ד | K36: רשמי | L36: תל אביב | M36: מרכז | N36: רגיל | O36: 11 | P36: בית ספר | Q36: 1 | R36: רגיל | S36: 10 | T36: יסודי בלבד | U36: 1 | V36: 6 | W36: שרית כהן | X36: אהוד קרוב | Y36: 09-882-5711 | Z36: 09-802-3058 | AA36: ההסתדרות 15 | AB36: 15 | AC36: 540 | AE36: ההסתדרות 15 | AF36: 74005 | AG36: נתניה | AI36: Y-yesha-ntn-M@kishurim.k12.il | AJ36: 1960 | AK36: 0 | AL36: 0 | AM36: 0 | AN36: 0 | AO36: 0 | AP36: 0 | AQ36: 0 | AR36: 0 | AS36: 0 | AT36: ללא יוח"א | AW36: 4 | AX36: 5 | AY36: 1 | AZ36: 1 | BA36: 2 | BB36: 0 | BC36: 1 | BD36: 0 | BE36: 0
A37: 2017 | B37: 412908 | C37: עין גנים | D37: 693 | E37: 79004 | F37: פתח תקוה | G37: 79004 | H37: פתח תקווה | I37: יהודי | J37: מ"מ | K37: רשמי | L37: תל אביב | M37: מרכז | N37: רגיל | O37: 11 | P37: בית ספר | Q37: 1 | R37: רגיל | S37: 10 | T37: יסודי בלבד | U37: 1 | V37: 6 | W37: הדי רוזנטל | X37: רונית זכאי | Y37: 03-931-2120 | Z37: 03-931-2120 | AA37: עין גנים 27 | AB37: 27 | AC37: 304 | AE37: עין גנים 27 | AF37: 79004 | AG37: פתח תקווה | AI37: Y-ganim-pt-M@kishurim.k12.il | AJ37: 1950 | AK37: 0 | AL37: 0 | AM37: 0 | AN37: 0 | AO37: 0 | AP37: 0 | AQ37: 0 | AR37: 0 | AS37: 0 | AT37: ללא יוח"א | AW37: 4 | AX37: 5 | AY37: 1 | AZ37: 1 | BA37: 1 | BB37: 0 | BC37: 1 | BD37: 0 | BE37: 0
A38: 2017 | B38: 413039 | C38: שיפר | D38: 634 | E38: 79004 | F38: פתח תקוה | G38: 79004 | H38: פתח תקווה | I38: יהודי | J38: מ"מ | K38: רשמי | L38: תל אביב | M38: מרכז | N38: רגיל | O38: 11 | P38: בית ספר | Q38: 1 | R38: רגיל | S38: 10 | T38: יסודי בלבד | U38: 1 | V38: 6 | W38: רחל אריאלי | X38: רונית זכאי | Y38: 03-904-0511 | Z38: 03-931-8157 | AA38: פתח תקווה 43 | AB38: 43 | AC38: 9000 | AD38: 49294 | AE38: פתח תקווה 43 | AF38: 79004 | AG38: פתח תקווה | AI38: Y-shifer-pt-M@kishurim.k12.il | AJ38: 1965 | AK38: 0 | AL38: 0 | AM38: 0 | AN38: 0 | AO38: 0 | AP38: 0 | AQ38: 0 | AR38: 0 | AS38: 0 | AT38: ללא יוח"א | AW38: 4 | AX38: 5 | AY38: 1 | AZ38: 1 | BA38: 1 | BB38: 0 | BC38: 1 | BD38: 0 | BE38: 0
A39: 2017 | B39: 413252 | C39: שזר | D39: 249 | E39: 74005 | F39: נתניה | G39: 74005 | H39: נתניה | I39: יהודי | J39: מ"מ | K39: רשמי | L39: תל אביב | M39: מרכז | N39: רגיל | O39: 11 | P39: בית ספר | Q39: 1 | R39: רגיל | S39: 10 | T39: יסודי בלבד | U39: 1 | V39: 6 | W39: דינה רמות | X39: תמר דרור | Y39: 09-835-2351 | Z39: 09-865-6338 | AA39: סטופ 7 | AB39: 7 | AC39: 961 | AE39: סטופ 7 | AF39: 74005 | AG39: נתניה | AI39: Y-shazar-ntn-M@kishurim.k12.il | AJ39: 1973 | AK39: 0 | AL39: 1 | AM39: 1 | AN39: 0 | AO39: 0 | AP39: 0 | AQ39: 0 | AR39: 0 | AS39: 0 | AT39: ללא יוח"א | AW39: 4 | AX39: 5 | AY39: 1 | AZ39: 1 | BA39: 1 | BB39: 0 | BC39: 1 | BD39: 0 | BE39: 0
A40: 2017 | B40: 413260 | C40: אמי"ת עמיטל | D40: 158 | E40: 74005 | F40: נתניה | G40: 74005 | H40: נתניה | I40: יהודי | J40: חמ"ד | K40: רשמי | L40: תל אביב | M40: מרכז | N40: רגיל | O40: 11 | P40: בית ספר | Q40: 1 | R40: רגיל | S40: 10 | T40: יסודי בלבד | U40: 1 | V40: 6 | W40: שרונה קרסנר | X40: אהוד קרוב | Y40: 09-835-1034 | Z40: 09-865-9532 | AA40: אלנקווה אפרים 10 | AB40: 10 | AC40: 1003 | AE40: אלנקווה אפרים 10 | AF40: 74005 | AG40: נתניה | AI40: Y-mamdra-ntn-M@kishurim.k12.il | AJ40: 1973 | AK40: 0 | AL40: 1 | AM40: 1 | AN40: 0 | AO40: 0 | AP40: 0 | AQ40: 0 | AR40: 0 | AS40: 0 | AT40: ללא יוח"א | AW40: 4 | AX40: 5 | AY40: 1 | AZ40: 1 | BA40: 2 | BB40: 0 | BC40: 1 | BD40: 0 | BE40: 0
A41: 2017 | B41: 413484 | C41: יונתן | D41: 667 | E41: 74005 | F41: נתניה | G41: 74005 | H41: נתניה | I41: יהודי | J41: מ"מ | K41: רשמי | L41: תל אביב | M41: מרכז | N41: רגיל | O41: 11 | P41: בית ספר | Q41: 1 | R41: רגיל | S41: 10 | T41: יסודי בלבד | U41: 1 | V41: 6 | W41: מיכל חיות פלשנברג | X41: תמר דרור | Y41: 09-865-2539 | Z41: 09-835-9276 | AA41: נתניה | AC41: 9000 | AD41: 42308 | AE41: נתניה ת.ד. 2240 | AF41: 74005 | AG41: נתניה | AI41: Y-yhonat-ntn-M@kishurim.k12.il | AJ41: 1976 | AK41: 0 | AL41: 0 | AM41: 0 | AN41: 0 | AO41: 0 | AP41: 0 | AQ41: 0 | AR41: 0 | AS41: 0 | AT41: ללא יוח"א | AW41: 4 | AX41: 5 | AY41: 1 | AZ41: 1 | BA41: 1 | BB41: 0 | BC41: 1 | BD41: 0 | BE41: 0
A42: 2017 | B42: 413823 | C42: שמעוני | D42: 390 | E42: 79004 | F42: פתח תקוה | G42: 79004 | H42: פתח תקווה | I42: יהודי | J42: מ"מ | K42: רשמי | L42: תל אביב | M42: מרכז | N42: רגיל | O42: 11 | P42: בית ספר | Q42: 1 | R42: רגיל | S42: 10 | T42: יסודי בלבד | U42: 1 | V42: 6 | W42: מלכי מלכה רבינוביץ | X42: רונית זכאי | Y42: 03-931-3668 | Z42: 03-904-6618 | AA42: חזון איש 4 | AB42: 4 | AC42: 307 | AE42: חזון איש 4 | AF42: 79004 | AG42: פתח תקווה | AI42: Y-shimon-pt-M@kishurim.k12.il | AJ42: 1978 | AK42: 0 | AL42: 0 | AM42: 0 | AN42: 0 | AO42: 0 | AP42: 0 | AQ42: 0 | AR42: 0 | AS42: 0 | AT42: ללא יוח"א | AW42: 4 | AX42: 5 | AY42: 1 | AZ42: 1 | BA42: 1 | BB42: 0 | BC42: 1 | BD42: 0 | BE42: 0
A43: 2017 | B43: 413922 | C43: רזיאל | D43: 430 | E43: 74005 | F43: נתניה | G43: 74005 | H43: נתניה | I43: יהודי | J43: מ"מ | K43: רשמי | L43: תל אביב | M43: מרכז | N43: רגיל | O43: 11 | P43: בית ספר | Q43: 1 | R43: רגיל | S43: 10 | T43: יסודי בלבד | U43: 1 | V43: 6 | W43: יעל לוי פרג' | X43: תמר דרור | Y43: 09-835-1185 | Z43: 09-865-5667 | AA43: חבצלת החוף 3 | AB43: 3 | AC43: 1104 | AE43: חבצלת החוף 3 | AF43: 74005 | AG43: נתניה | AI43: Y-raziel-ntn-M@kishurim.k12.il | AJ43: 1979 | AK43: 0 | AL43: 0 | AM43: 1 | AN43: 0 | AO43: 0 | AP43: 0 | AQ43: 0 | AR43: 0 | AS43: 0 | AT43: ללא יוח"א | AW43: 4 | AX43: 5 | AY43: 1 | AZ43: 1 | BA43: 1 | BB43: 0 | BC43: 1 | BD43: 0 | BE43: 0
A44: 2017 | B44: 413955 | C44: ע"ש נעמי שמר | D44: 728 | E44: 79004 | F44: פתח תקוה | G44: 79004 | H44: פתח תקווה | I44: יהודי | J44: מ"מ | K44: רשמי | L44: תל אביב | M44: מרכז | N44: רגיל | O44: 11 | P44: בית ספר | Q44: 1 | R44: רגיל | S44: 10 | T44: יסודי בלבד | U44: 1 | V44: 6 | W44: רויטל שהם | X44: רונית זכאי | Y44: 03-922-2419 | Z44: 03-922-2684 | AA44: זכרון יעקב 4 | AB44: 4 | AC44: 178 | AD44: 49001 | AE44: פתח תקווה ת.ד. 10129 | AF44: 79004 | AG44: פתח תקווה | AI44: Y-hadarh-pt-M@kishurim.k12.il | AJ44: 2004 | AK44: 0 | AL44: 0 | AM44: 0 | AN44: 0 | AO44: 0 | AP44: 0 | AQ44: 0 | AR44: 0 | AS44: 0 | AT44: ללא יוח"א | AW44: 4 | AX44: 5 | AY44: 1 | AZ44: 1 | BA44: 1 | BB44: 0 | BC44: 1 | BD44: 0 | BE44: 0
A45: 2017 | B45: 414003 | C45: ביאליק | D45: 550 | E45: 79004 | F45: פתח תקוה | G45: 79004 | H45: פתח תקווה | I45: יהודי | J45: מ"מ | K45: רשמי | L45: תל אביב | M45: מרכז | N45: רגיל | O45: 11 | P45: בית ספר | Q45: 1 | R45: רגיל | S45: 10 | T45: יסודי בלבד | U45: 1 | V45: 6 | W45: שולרית קנטר | X45: רונית זכאי | Y45: 03-933-8676 | Z45: 03-909-4283 | AA45: יטקובסקי אחים 13 | AB45: 13 | AC45: 1225 | AD45: 49553 | AE45: פתח תקווה ת.ד. 8160 | AF45: 79004 | AG45: פתח תקווה | AI45: Y-bialik-pt-M@kishurim.k12.il | AJ45: 1980 | AK45: 0 | AL45: 0 | AM45: 0 | AN45: 0 | AO45: 0 | AP45: 0 | AQ45: 0 | AR45: 0 | AS45: 0 | AT45: ללא יוח"א | AW45: 4 | AX45: 5 | AY45: 1 | AZ45: 1 | BA45: 1 | BB45: 0 | BC45: 1 | BD45: 0 | BE45: 0
A46: 2017 | B46: 414177 | C46: ממ"ד עוזיאל | D46: 371 | E46: 74005 | F46: נתניה | G46: 74005 | H46: נתניה | I46: יהודי | J46: חמ"ד | K46: רשמי | L46: תל אביב | M46: מרכז | N46: רגיל | O46: 11 | P46: בית ספר | Q46: 1 | R46: רגיל | S46: 10 | T46: יסודי בלבד | U46: 1 | V46: 6 | W46: צמרת בן חיים | X46: אהוד קרוב | Y46: 09-865-3522 | Z46: 09-835-2908 | AA46: נתניה 8 | AB46: 8 | AC46: 9000 | AD46: 42170 | AE46: נתניה ת.ד. 14 | AF46: 74005 | AG46: נתניה | AI46: Y-MamadU-ntn-M@kishurim.k12.il | AJ46: 1982 | AK46: 0 | AL46: 0 | AM46: 0 | AN46: 0 | AO46: 0 | AP46: 0 | AQ46: 0 | AR46: 0 | AS46: 0 | AT46: ללא יוח"א | AW46: 4 | AX46: 5 | AY46: 1 | AZ46: 1 | BA46: 2 | BB46: 0 | BC46: 1 | BD46: 0 | BE46: 0
A47: 2017 | B47: 414201 | C47: ע"ש נעמי שמר | D47: 468 | E47: 74005 | F47: נתניה | G47: 74005 | H47: נתניה | I47: יהודי | J47: מ"מ | K47: רשמי | L47: תל אביב | M47: מרכז | N47: רגיל | O47: 11 | P47: בית ספר | Q47: 1 | R47: רגיל | S47: 10 | T47: יסודי בלבד | U47: 1 | V47: 6 | W47: אהוד קליין | X47: תמר דרור | Y47: 09-882-3908 | Z47: 09-832-0378 | AA47: רייך לאון 4 | AB47: 4 | AC47: 255 | AD47: 42446 | AE47: רייך לאון 4 ת.ד. 2133 | AF47: 74005 | AG47: נתניה | AI47: Y-Yahuda-ntn-M@kishurim.k12.il | AJ47: 1983 | AK47: 0 | AL47: 0 | AM47: 0 | AN47: 0 | AO47: 0 | AP47: 0 | AQ47: 0 | AR47: 0 | AS47: 0 | AT47: ללא יוח"א | AW47: 4 | AX47: 5 | AY47: 1 | AZ47: 1 | BA47: 1 | BB47: 0 | BC47: 1 | BD47: 0 | BE47: 0
A48: 2017 | B48: 414425 | C48: הלל צור | D48: 501 | E48: 74005 | F48: נתניה | G48: 74005 | H48: נתניה | I48: יהודי | J48: מ"מ | K48: רשמי | L48: תל אביב | M48: מרכז | N48: רגיל | O48: 11 | P48: בית ספר | Q48: 1 | R48: רגיל | S48: 10 | T48: יסודי בלבד | U48: 1 | V48: 6 | W48: אמי לוי | X48: תמר דרור | Y48: 09-884-3894 | Z48: 09-884-3536 | AA48: שרת 21 | AB48: 21 | AC48: 329 | AD48: 42100 | AE48: שרת 21 ת.ד. 2536 | AF48: 74005 | AG48: נתניה | AI48: Y-hilelz-ntn-M@kishurim.k12.il | AJ48: 1985 | AK48: 0 | AL48: 0 | AM48: 0 | AN48: 0 | AO48: 0 | AP48: 0 | AQ48: 0 | AR48: 0 | AS48: 0 | AT48: ללא יוח"א | AW48: 4 | AX48: 5 | AY48: 1 | AZ48: 1 | BA48: 1 | BB48: 0 | BC48: 1 | BD48: 0 | BE48: 0
A49: 2017 | B49: 414433 | C49: אמיר | D49: 639 | E49: 79004 | F49: פתח תקוה | G49: 79004 | H49: פתח תקווה | I49: יהודי | J49: מ"מ | K49: רשמי | L49: תל אביב | M49: מרכז | N49: רגיל | O49: 11 | P49: בית ספר | Q49: 1 | R49: רגיל | S49: 10 | T49: יסודי בלבד | U49: 1 | V49: 6 | W49: יהונתן אפרים אורון | X49: רונית זכאי | Y49: 03-931-0240 | Z49: 03-931-0240 | AA49: פוחס דוד 11 | AB49: 11 | AC49: 349 | AE49: פוחס דוד 11 | AF49: 79004 | AG49: פתח תקווה | AI49: Y-amir-pt-M@kishurim.k12.il | AJ49: 1985 | AK49: 0 | AL49: 0 | AM49: 0 | AN49: 0 | AO49: 0 | AP49: 0 | AQ49: 0 | AR49: 0 | AS49: 0 | AT49: ללא יוח"א | AW49: 4 | AX49: 5 | AY49: 1 | AZ49: 1 | BA49: 1 | BB49: 0 | BC49: 1 | BD49: 0 | BE49: 0
A50: 2017 | B50: 414466 | C50: ממ"ד בית מרגלית | D50: 312 | E50: 74005 | F50: נתניה | G50: 74005 | H50: נתניה | I50: יהודי | J50: חמ"ד | K50: רשמי | L50: תל אביב | M50: מרכז | N50: רגיל | O50: 11 | P50: בית ספר | Q50: 1 | R50: רגיל | S50: 10 | T50: יסודי בלבד | U50: 1 | V50: 8 | W50: יפה שנק | X50: אהוד קרוב | Y50: 09-887-5811 | Z50: 09-887-5810 | AA50: נתניה 2525 | AB50: 2525 | AC50: 9000 | AD50: 42385 | AE50: נתניה ת.ד. 4043 | AF50: 74005 | AG50: נתניה | AI50: Y-BeitMa-ntn-M@kishurim.k12.il | AJ50: 1999 | AK50: 0 | AL50: 0 | AM50: 0 | AN50: 0 | AO50: 0 | AP50: 0 | AQ50: 0 | AR50: 0 | AS50: 0 | AT50: ללא יוח"א | AW50: 4 | AX50: 5 | AY50: 1 | AZ50: 1 | BA50: 2 | BB50: 0 | BC50: 1 | BD50: 0 | BE50: 0
A51: 2017 | B51: 414482 | C51: אלון | D51: 254 | E51: 74005 | F51: נתניה | G51: 74005 | H51: נתניה | I51: יהודי | J51: מ"מ | K51: רשמי | L51: תל אביב | M51: מרכז | N51: רגיל | O51: 11 | P51: בית ספר | Q51: 1 | R51: רגיל | S51: 10 | T51: יסודי בלבד | U51: 1 | V51: 6 | W51: מיכל גלבר | X51: תמר דרור | Y51: 09-835-9162 | Z51: 09-865-3718 | AA51: נורדאו 18 | AB51: 18 | AC51: 938 | AD51: 42347 | AE51: נורדאו 18 | AF51: 74005 | AG51: נתניה | AI51: Y-alon-ntn-M@kishurim.k12.il | AJ51: 1986 | AK51: 0 | AL51: 0 | AM51: 0 | AN51: 0 | AO51: 0 | AP51: 0 | AQ51: 0 | AR51: 0 | AS51: 0 | AT51: ללא יוח"א | AW51: 4 | AX51: 5 | AY51: 1 | AZ51: 1 | BA51: 1 | BB51: 0 | BC51: 1 | BD51: 0 | BE51: 0
A52: 2017 | B52: 414730 | C52: ממ"ד חבד בנים ד.מנחם | D52: 231 | E52: 74005 | F52: נתניה | G52: 74005 | H52: נתניה | I52: יהודי | J52: חמ"ד | K52: רשמי | L52: תל אביב | M52: מרכז | N52: רגיל | O52: 11 | P52: בית ספר | Q52: 1 | R52: רגיל | S52: 10 | T52: יסודי בלבד | U52: 1 | V52: 8 | W52: יגאל פרחאן | X52: אהוד קרוב | Y52: 09-885-9770 | Z52: 09-885-7448 | AA52: יונה בוגולה | AC52: 954 | AD52: 42336 | AE52: נתניה ת.ד. 14078 | AF52: 74005 | AG52: נתניה | AI52: Y-habad-ntn-M@kishurim.k12.il | AJ52: 1994 | AK52: 0 | AL52: 0 | AM52: 0 | AN52: 0 | AO52: 0 | AP52: 0 | AQ52: 0 | AR52: 0 | AS52: 0 | AT52: ללא יוח"א | AW52: 4 | AX52: 5 | AY52: 1 | AZ52: 1 | BA52: 2 | BB52: 0 | BC52: 1 | BD52: 0 | BE52: 0
A53: 2017 | B53: 414870 | C53: רימלט | D53: 510 | E53: 74005 | F53: נתניה | G53: 74005 | H53: נתניה | I53: יהודי | J53: מ"מ | K53: רשמי | L53: תל אביב | M53: מרכז | N53: רגיל | O53: 11 | P53: בית ספר | Q53: 1 | R53: רגיל | S53: 10 | T53: יסודי בלבד | U53: 1 | V53: 6 | W53: ירון שמש | X53: תמר דרור | Y53: 09-885-0064 | Z53: 09-865-0035 | AA53: מעפילי אגוז 5 | AB53: 5 | AC53: 1062 | AE53: מעפילי אגוז 5 ת.ד. 6223 | AF53: 74005 | AG53: נתניה | AI53: Y-rimlat-ntn-M@kishurim.k12.il | AJ53: 1994 | AK53: 0 | AL53: 0 | AM53: 0 | AN53: 0 | AO53: 0 | AP53: 0 | AQ53: 0 | AR53: 0 | AS53: 0 | AT53: ללא יוח"א | AW53: 4 | AX53: 5 | AY53: 1 | AZ53: 1 | BA53: 1 | BB53: 0 | BC53: 1 | BD53: 0 | BE53: 0
A54: 2017 | B54: 414888 | C54: קרית רבין ממ' חדש | D54: 508 | E54: 74005 | F54: נתניה | G54: 74005 | H54: נתניה | I54: יהודי | J54: מ"מ | K54: רשמי | L54: תל אביב | M54: מרכז | N54: רגיל | O54: 11 | P54: בית ספר | Q54: 1 | R54: רגיל | S54: 10 | T54: יסודי בלבד | U54: 1 | V54: 6 | W54: אסף לוי | X54: תמר דרור | Y54: 09-887-2058 | Z54: 09-887-2058 | AA54: הזמיר 18 | AB54: 18 | AC54: 832 | AE54: הזמיר 18 ת.ד. 16124 | AF54: 74005 | AG54: נתניה | AI54: Y-rabin1-ntn-I@kishurim.k12.il | AJ54: 1999 | AK54: 0 | AL54: 0 | AM54: 0 | AN54: 0 | AO54: 0 | AP54: 0 | AQ54: 0 | AR54: 0 | AS54: 0 | AT54: ללא יוח"א | AW54: 4 | AX54: 5 | AY54: 1 | AZ54: 1 | BA54: 1 | BB54: 0 | BC54: 1 | BD54: 0 | BE54: 0
A55: 2017 | B55: 415224 | C55: מ"ד מעלות חיים | D55: 412 | E55: 79004 | F55: פתח תקוה | G55: 79004 | H55: פתח תקווה | I55: יהודי | J55: חמ"ד | K55: רשמי | L55: תל אביב | M55: מרכז | N55: רגיל | O55: 11 | P55: בית ספר | Q55: 1 | R55: רגיל | S55: 10 | T55: יסודי בלבד | U55: 1 | V55: 6 | W55: אשרית מסעודה יצחק | X55: דלילה כהן | Y55: 03-931-7641 | Z55: 03-904-5165 | AA55: הרב אונטרמן 14 | AB55: 14 | AC55: 546 | AE55: הרב אונטרמן 14 | AF55: 79004 | AG55: פתח תקווה | AI55: Y-Maalot-pt-M@kishurim.k12.il | AJ55: 1994 | AK55: 0 | AL55: 0 | AM55: 0 | AN55: 0 | AO55: 0 | AP55: 0 | AQ55: 0 | AR55: 0 | AS55: 0 | AT55: ללא יוח"א | AW55: 4 | AX55: 5 | AY55: 1 | AZ55: 1 | BA55: 2 | BB55: 0 | BC55: 1 | BD55: 0 | BE55: 0
A56: 2017 | B56: 415349 | C56: ת"ת צמח צדק | D56: 168 | E56: 79004 | F56: פתח תקוה | G56: 79004 | H56: פתח תקווה | I56: יהודי | J56: חמ"ד | K56: רשמי | L56: תל אביב | M56: מרכז | N56: רגיל | O56: 11 | P56: בית ספר | Q56: 1 | R56: רגיל | S56: 10 | T56: יסודי בלבד | U56: 1 | V56: 8 | W56: יוסף חדד | X56: דלילה כהן | Y56: 03-934-3756 | Z56: 03-930-0885 | AA56: רמז דוד 38 | AB56: 38 | AC56: 458 | AD56: 60840 | AE56: כפר חב"ד ת.ד. 172 | AF56: 6965 | AG56: כפר חב"ד | AI56: Y-zedek-pt-M@kishurim.k12.il | AJ56: 2007 | AK56: 0 | AL56: 0 | AM56: 0 | AN56: 0 | AO56: 0 | AP56: 0 | AQ56: 0 | AR56: 0 | AS56: 0 | AT56: ללא יוח"א | AW56: 4 | AX56: 5 | AY56: 1 | AZ56: 1 | BA56: 2 | BB56: 0 | BC56: 1 | BD56: 0 | BE56: 0
A57: 2017 | B57: 415372 | C57: ממ"ד נועם | D57: 445 | E57: 74005 | F57: נתניה | G57: 74005 | H57: נתניה | I57: יהודי | J57: חמ"ד | K57: רשמי | L57: תל אביב | M57: מרכז | N57: רגיל | O57: 11 | P57: בית ספר | Q57: 1 | R57: רגיל | S57: 10 | T57: יסודי בלבד | U57: 1 | V57: 8 | W57: מרים פרל | X57: אהוד קרוב | Y57: 09-862-5120 | Z57: 09-884-6215 | AA57: הולנד 1 | AB57: 1 | AC57: 262 | AD57: 42150 | AE57: נתניה ת.ד. 5022 | AF57: 74005 | AG57: נתניה | AI57: Y-MamadN-ntn-M@kishurim.k12.il | AJ57: 1997 | AK57: 0 | AL57: 0 | AM57: 0 | AN57: 0 | AO57: 0 | AP57: 0 | AQ57: 0 | AR57: 0 | AS57: 0 | AT57: ללא יוח"א | AW57: 4 | AX57: 5 | AY57: 1 | AZ57: 1 | BA57: 2 | BB57: 0 | BC57: 1 | BD57: 0 | BE57: 0
A58: 2017 | B58: 415430 | C58: בר לב | D58: 768 | E58: 79004 | F58: פתח תקוה | G58: 79004 | H58: פתח תקווה | I58: יהודי | J58: מ"מ | K58: רשמי | L58: תל אביב | M58: מרכז | N58: רגיל | O58: 11 | P58: בית ספר | Q58: 1 | R58: רגיל | S58: 10 | T58: יסודי בלבד | U58: 1 | V58: 6 | W58: דולי אדלה דינה מוטולה | X58: רונית זכאי | Y58: 03-922-1242 | Z58: 03-922-1315 | AA58: זכרון יעקב 50 | AB58: 50 | AC58: 178 | AD58: 49002 | AE58: זכרון יעקב 50 ת.ד. 10248 | AF58: 79004 | AG58: פתח תקווה | AI58: Y-barlev-pt-M@kishurim.k12.il | AJ58: 1999 | AK58: 0 | AL58: 0 | AM58: 0 | AN58: 0 | AO58: 0 | AP58: 0 | AQ58: 0 | AR58: 0 | AS58: 0 | AT58: ללא יוח"א | AW58: 4 | AX58: 5 | AY58: 1 | AZ58: 1 | BA58: 1 | BB58: 0 | BC58: 1 | BD58: 0 | BE58: 0
A59: 2017 | B59: 415521 | C59: ממ"ד חבד בנות ח.מושק | D59: 417 | E59: 74005 | F59: נתניה | G59: 74005 | H59: נתניה | I59: יהודי | J59: חמ"ד | K59: רשמי | L59: תל אביב | M59: מרכז | N59: רגיל | O59: 11 | P59: בית ספר | Q59: 1 | R59: רגיל | S59: 10 | T59: יסודי בלבד | U59: 1 | V59: 8 | W59: גיטה אילה וולפא | X59: אהוד קרוב | Y59: 09-885-7671 | Z59: 01539-885-7524 | AA59: יונה בוגולה 5 | AB59: 5 | AC59: 954 | AD59: 42334 | AE59: נתניה ת.ד. 14122 | AF59: 74005 | AG59: נתניה | AI59: Y-habadb-ntn-M@kishurim.k12.il | AJ59: 1997 | AK59: 0 | AL59: 0 | AM59: 0 | AN59: 0 | AO59: 0 | AP59: 0 | AQ59: 0 | AR59: 0 | AS59: 0 | AT59: ללא יוח"א | AW59: 4 | AX59: 5 | AY59: 1 | AZ59: 1 | BA59: 2 | BB59: 0 | BC59: 1 | BD59: 0 | BE59: 0
A60: 2017 | B60: 416131 | C60: בי"ס חב"ד לבנות | D60: 186 | E60: 79004 | F60: פתח תקוה | G60: 79004 | H60: פתח תקווה | I60: יהודי | J60: חמ"ד | K60: רשמי | L60: תל אביב | M60: מרכז | N60: רגיל | O60: 11 | P60: בית ספר | Q60: 1 | R60: רגיל | S60: 10 | T60: יסודי בלבד | U60: 1 | V60: 8 | W60: נחמה דינה דייטש | X60: דלילה כהן | Y60: 03-904-8763 | Z60: 03-923-9973 | AA60: שפרינצק 17 | AB60: 17 | AC60: 730 | AE60: שפרינצק 17 | AF60: 79004 | AG60: פתח תקווה | AI60: Y-habad-pt-M@kishurim.k12.il | AJ60: 1998 | AK60: 0 | AL60: 0 | AM60: 0 | AN60: 0 | AO60: 0 | AP60: 0 | AQ60: 0 | AR60: 0 | AS60: 0 | AT60: ללא יוח"א | AW60: 4 | AX60: 5 | AY60: 1 | AZ60: 1 | BA60: 2 | BB60: 0 | BC60: 1 | BD60: 0 | BE60: 0
