Workbook

Sheet Sheet1
A1: שם ישוב
A2: אופקים
A3: אלעד
A4: אשדוד
A5: בית שאן
A6: בית שמש
A7: ביתר עילית
A8: בני ברק
A9: גבעת זאב
A10: חצור הגלילית
A11: טבריה
A12: יבנאל
... A22: רכסים

Sheet 1999
A1: שם ישוב | B1: סמל ישוב | C1: ב ז ב | D1: מצביעים | E1: פסולים | F1: כשרים | G1: מס' רץ | H1: אמת | I1: ב | J1: ג | K1: ד | L1: הד | M1: ו | N1: ז | O1: זך | P1: יט | Q1: ים | R1: יש | S1: כן | T1: ל | U1: ם | V1: מחל | W1: מרצ | X1: נ | Y1: ני | Z1: נץ | AA1: עם | AB1: פ | AC1: פה | AD1: פז | AE1: ץ | AF1: ק | AG1: קז | AH1: קם | AI1: קנ | AJ1: קפ | AK1: קץ | AL1: רם | AM1: רק | AN1: שס | AO1: ס"ה מחושב | AP1: מס' קלפיות | AR1: =F1 -> כשרים | AS1: =J1 -> ג | AT1: טב | AU1: =V1 -> מחל | AV1: =AN1 -> שס | AX1: חרדים | AY1: דתיים לאומיים | AZ1: ליכוד | BA1: אחוז מצביעים חרדיים | BB1: אחוז מצביעים דתיים לאומיים | BC1: אחוז מצביעי ליכוד | BD1: אחוז מצביעי ימין מדיני | BE1: אחוז יהדות התורה
A2: אופקים | B2: 31 | C2: 14680 | D2: 10957 | E2: 297 | F2: 10660 | G2: 759 | H2: 739 | I2: 438 | J2: 1067 | K2: 7 | L2: 87 | M2: 8 | N2: 8 | O2: 13 | P2: 127 | Q2: 55 | R2: 141 | S2: 1387 | T2: 652 | U2: 316 | V2: 1180 | W2: 318 | X2: 12 | Y2: 0 | Z2: 194 | AA2: 10 | AB2: 76 | AC2: 229 | AD2: 24 | AE2: 9 | AF2: 0 | AG2: 20 | AH2: 4 | AI2: 79 | AJ2: 6 | AK2: 75 | AL2: 10 | AM2: 28 | AN2: 3341 | AO2: 10660 | AP2: 23 | AQ2: =A2 -> אופקים | AR2: =F2 -> 10660 | AS2: =J2 -> 1067 | AT2: =I2+P2 -> 565 | AU2: =V2 -> 1180 | AV2: =AN2 -> 3341 | AX2: =AV2+AS2 -> 4408 | AY2: =AT2+Q2 -> 620 | AZ2: =AU2 -> 1180 | BA2: =AX2/$AR2 -> 0.41350844 | BB2: =AY2/$AR2 -> 0.058161351 | BC2: =AZ2/$AR2 -> 0.11069418 | BD2: =SUM(BA2:BC2) -> 0.58236398 | BE2: =AS2/AX2 -> 0.24205989
A3: אלעד | B3: 1309 | C3: 304 | D3: 246 | E3: 1 | F3: 245 | G3: 1864 | H3: 1 | I3: 24 | J3: 85 | K3: 0 | L3: 0 | M3: 0 | N3: 0 | O3: 0 | P3: 3 | Q3: 0 | R3: 0 | S3: 1 | T3: 4 | U3: 0 | V3: 3 | W3: 0 | X3: 0 | Y3: 0 | Z3: 1 | AA3: 1 | AB3: 0 | AC3: 0 | AD3: 1 | AE3: 0 | AF3: 0 | AG3: 0 | AH3: 0 | AI3: 0 | AJ3: 0 | AK3: 2 | AL3: 0 | AM3: 0 | AN3: 119 | AO3: 245 | AP3: 1 | AQ3: =A3 -> אלעד | AR3: =F3 -> 245 | AS3: =J3 -> 85 | AT3: =I3+P3 -> 27 | AU3: =V3 -> 3 | AV3: =AN3 -> 119 | AX3: =AV3+AS3 -> 204 | AY3: =AT3+Q3 -> 27 | AZ3: =AU3 -> 3 | BA3: =AX3/$AR3 -> 0.83265306 | BB3: =AY3/$AR3 -> 0.11020408 | BC3: =AZ3/$AR3 -> 0.012244898 | BD3: =SUM(BA3:BC3) -> 0.95510204 | BE3: =AS3/AX3 -> 0.41666667
A4: אשדוד | B4: 70 | C4: 115848 | D4: 86938 | E4: 2204 | F4: 84734 | G4: 28475 | H4: 8764 | I4: 2000 | J4: 4845 | K4: 21 | L4: 212 | M4: 48 | N4: 42 | O4: 55 | P4: 1742 | Q4: 255 | R4: 3787 | S4: 10187 | T4: 9031 | U4: 3296 | V4: 9237 | W4: 4214 | X4: 85 | Y4: 0 | Z4: 41 | AA4: 89 | AB4: 997 | AC4: 3037 | AD4: 592 | AE4: 101 | AF4: 0 | AG4: 166 | AH4: 53 | AI4: 547 | AJ4: 62 | AK4: 380 | AL4: 114 | AM4: 247 | AN4: 20487 | AO4: 84734 | AP4: 170 | AQ4: =A4 -> אשדוד | AR4: =F4 -> 84734 | AS4: =J4 -> 4845 | AT4: =I4+P4 -> 3742 | AU4: =V4 -> 9237 | AV4: =AN4 -> 20487 | AX4: =AV4+AS4 -> 25332 | AY4: =AT4+Q4 -> 3997 | AZ4: =AU4 -> 9237 | BA4: =AX4/$AR4 -> 0.2989591 | BB4: =AY4/$AR4 -> 0.047171147 | BC4: =AZ4/$AR4 -> 0.10901173 | BD4: =SUM(BA4:BC4) -> 0.45514197 | BE4: =AS4/AX4 -> 0.19126007
A5: בית שאן | B5: 9200 | C5: 10742 | D5: 8357 | E5: 174 | F5: 8183 | G5: 102495 | H5: 833 | I5: 530 | J5: 324 | K5: 1 | L5: 57 | M5: 4 | N5: 4 | O5: 6 | P5: 210 | Q5: 1 | R5: 149 | S5: 214 | T5: 80 | U5: 131 | V5: 1584 | W5: 145 | X5: 5 | Y5: 0 | Z5: 2 | AA5: 15 | AB5: 105 | AC5: 278 | AD5: 30 | AE5: 2 | AF5: 0 | AG5: 22 | AH5: 5 | AI5: 96 | AJ5: 1 | AK5: 9 | AL5: 5 | AM5: 17 | AN5: 3318 | AO5: 8183 | AP5: 15 | AQ5: =A5 -> בית שאן | AR5: =F5 -> 8183 | AS5: =J5 -> 324 | AT5: =I5+P5 -> 740 | AU5: =V5 -> 1584 | AV5: =AN5 -> 3318 | AX5: =AV5+AS5 -> 3642 | AY5: =AT5+Q5 -> 741 | AZ5: =AU5 -> 1584 | BA5: =AX5/$AR5 -> 0.44506905 | BB5: =AY5/$AR5 -> 0.090553587 | BC5: =AZ5/$AR5 -> 0.19357204 | BD5: =SUM(BA5:BC5) -> 0.72919467 | BE5: =AS5/AX5 -> 0.088962109
A6: בית שמש | B6: 2610 | C6: 19486 | D6: 15438 | E6: 282 | F6: 15156 | G6: 67890 | H6: 1291 | I6: 970 | J6: 1279 | K6: 1 | L6: 40 | M6: 10 | N6: 3 | O6: 9 | P6: 752 | Q6: 24 | R6: 511 | S6: 1274 | T6: 808 | U6: 129 | V6: 2615 | W6: 426 | X6: 5 | Y6: 0 | Z6: 6 | AA6: 14 | AB6: 165 | AC6: 472 | AD6: 47 | AE6: 2 | AF6: 0 | AG6: 34 | AH6: 6 | AI6: 128 | AJ6: 2 | AK6: 71 | AL6: 13 | AM6: 50 | AN6: 3999 | AO6: 15156 | AP6: 31 | AQ6: =A6 -> בית שמש | AR6: =F6 -> 15156 | AS6: =J6 -> 1279 | AT6: =I6+P6 -> 1722 | AU6: =V6 -> 2615 | AV6: =AN6 -> 3999 | AX6: =AV6+AS6 -> 5278 | AY6: =AT6+Q6 -> 1746 | AZ6: =AU6 -> 2615 | BA6: =AX6/$AR6 -> 0.34824492 | BB6: =AY6/$AR6 -> 0.1152019 | BC6: =AZ6/$AR6 -> 0.17253893 | BD6: =SUM(BA6:BC6) -> 0.63598575 | BE6: =AS6/AX6 -> 0.24232664
A7: בית"ר עילית | B7: 3780 | C7: 4650 | D7: 4267 | E7: 32 | F7: 4235 | G7: 22169 | H7: 2 | I7: 20 | J7: 2156 | K7: 0 | L7: 0 | M7: 1 | N7: 0 | O7: 1 | P7: 203 | Q7: 1 | R7: 2 | S7: 6 | T7: 14 | U7: 0 | V7: 22 | W7: 3 | X7: 0 | Y7: 0 | Z7: 0 | AA7: 0 | AB7: 0 | AC7: 1 | AD7: 0 | AE7: 0 | AF7: 0 | AG7: 0 | AH7: 0 | AI7: 5 | AJ7: 0 | AK7: 0 | AL7: 0 | AM7: 1 | AN7: 1797 | AO7: 4235 | AP7: 7 | AQ7: =A7 -> בית"ר עילית | AR7: =F7 -> 4235 | AS7: =J7 -> 2156 | AT7: =I7+P7 -> 223 | AU7: =V7 -> 22 | AV7: =AN7 -> 1797 | AX7: =AV7+AS7 -> 3953 | AY7: =AT7+Q7 -> 224 | AZ7: =AU7 -> 22 | BA7: =AX7/$AR7 -> 0.93341204 | BB7: =AY7/$AR7 -> 0.052892562 | BC7: =AZ7/$AR7 -> 0.0051948052 | BD7: =SUM(BA7:BC7) -> 0.99149941 | BE7: =AS7/AX7 -> 0.54540855
A8: בני ברק | B8: 6100 | C8: 75340 | D8: 60913 | E8: 827 | F8: 60086 | G8: 488124 | H8: 2659 | I8: 4041 | J8: 28808 | K8: 8 | L8: 62 | M8: 35 | N8: 5 | O8: 23 | P8: 1473 | Q8: 33 | R8: 769 | S8: 1172 | T8: 465 | U8: 210 | V8: 3959 | W8: 662 | X8: 22 | Y8: 0 | Z8: 13 | AA8: 22 | AB8: 273 | AC8: 855 | AD8: 505 | AE8: 21 | AF8: 0 | AG8: 44 | AH8: 4 | AI8: 179 | AJ8: 9 | AK8: 52 | AL8: 8 | AM8: 61 | AN8: 13634 | AO8: 60086 | AP8: 117 | AQ8: =A8 -> בני ברק | AR8: =F8 -> 60086 | AS8: =J8 -> 28808 | AT8: =I8+P8 -> 5514 | AU8: =V8 -> 3959 | AV8: =AN8 -> 13634 | AX8: =AV8+AS8 -> 42442 | AY8: =AT8+Q8 -> 5547 | AZ8: =AU8 -> 3959 | BA8: =AX8/$AR8 -> 0.70635423 | BB8: =AY8/$AR8 -> 0.092317678 | BC8: =AZ8/$AR8 -> 0.065888893 | BD8: =SUM(BA8:BC8) -> 0.8645608 | BE8: =AS8/AX8 -> 0.6787616
A9: גבעת זאב | B9: 3730 | C9: 5896 | D9: 4979 | E9: 38 | F9: 4941 | G9: 31245 | H9: 578 | I9: 201 | J9: 124 | K9: 0 | L9: 15 | M9: 4 | N9: 2 | O9: 0 | P9: 334 | Q9: 4 | R9: 412 | S9: 100 | T9: 88 | U9: 46 | V9: 1550 | W9: 224 | X9: 1 | Y9: 0 | Z9: 0 | AA9: 1 | AB9: 74 | AC9: 473 | AD9: 21 | AE9: 3 | AF9: 0 | AG9: 5 | AH9: 0 | AI9: 51 | AJ9: 0 | AK9: 2 | AL9: 3 | AM9: 11 | AN9: 614 | AO9: 4941 | AP9: 10 | AQ9: =A9 -> גבעת זאב | AR9: =F9 -> 4941 | AS9: =J9 -> 124 | AT9: =I9+P9 -> 535 | AU9: =V9 -> 1550 | AV9: =AN9 -> 614 | AX9: =AV9+AS9 -> 738 | AY9: =AT9+Q9 -> 539 | AZ9: =AU9 -> 1550 | BA9: =AX9/$AR9 -> 0.14936248 | BB9: =AY9/$AR9 -> 0.10908723 | BC9: =AZ9/$AR9 -> 0.31370168 | BD9: =SUM(BA9:BC9) -> 0.57215139 | BE9: =AS9/AX9 -> 0.16802168
A10: חצור הגלילית | B10: 2034 | C10: 5940 | D10: 4723 | E10: 99 | F10: 4624 | G10: 17253 | H10: 436 | I10: 340 | J10: 510 | K10: 0 | L10: 29 | M10: 1 | N10: 1 | O10: 2 | P10: 129 | Q10: 0 | R10: 79 | S10: 222 | T10: 250 | U10: 84 | V10: 1002 | W10: 43 | X10: 1 | Y10: 0 | Z10: 1 | AA10: 3 | AB10: 73 | AC10: 112 | AD10: 12 | AE10: 8 | AF10: 0 | AG10: 9 | AH10: 2 | AI10: 46 | AJ10: 3 | AK10: 9 | AL10: 1 | AM10: 10 | AN10: 1206 | AO10: 4624 | AP10: 9 | AQ10: =A10 -> חצור הגלילית | AR10: =F10 -> 4624 | AS10: =J10 -> 510 | AT10: =I10+P10 -> 469 | AU10: =V10 -> 1002 | AV10: =AN10 -> 1206 | AX10: =AV10+AS10 -> 1716 | AY10: =AT10+Q10 -> 469 | AZ10: =AU10 -> 1002 | BA10: =AX10/$AR10 -> 0.37110727 | BB10: =AY10/$AR10 -> 0.10142734 | BC10: =AZ10/$AR10 -> 0.2166955 | BD10: =SUM(BA10:BC10) -> 0.6892301 | BE10: =AS10/AX10 -> 0.2972028
A11: טבריה | B11: 6700 | C11: 28699 | D11: 21102 | E11: 411 | F11: 20691 | G11: 210485 | H11: 2191 | I11: 910 | J11: 493 | K11: 5 | L11: 120 | M11: 16 | N11: 7 | O11: 9 | P11: 576 | Q11: 30 | R11: 710 | S11: 1181 | T11: 927 | U11: 372 | V11: 4999 | W11: 433 | X11: 18 | Y11: 0 | Z11: 10 | AA11: 21 | AB11: 395 | AC11: 1127 | AD11: 177 | AE11: 23 | AF11: 0 | AG11: 56 | AH11: 10 | AI11: 238 | AJ11: 13 | AK11: 61 | AL11: 15 | AM11: 52 | AN11: 5496 | AO11: 20691 | AP11: 43 | AQ11: =A11 -> טבריה | AR11: =F11 -> 20691 | AS11: =J11 -> 493 | AT11: =I11+P11 -> 1486 | AU11: =V11 -> 4999 | AV11: =AN11 -> 5496 | AX11: =AV11+AS11 -> 5989 | AY11: =AT11+Q11 -> 1516 | AZ11: =AU11 -> 4999 | BA11: =AX11/$AR11 -> 0.28944952 | BB11: =AY11/$AR11 -> 0.073268571 | BC11: =AZ11/$AR11 -> 0.24160263 | BD11: =SUM(BA11:BC11) -> 0.60432072 | BE11: =AS11/AX11 -> 0.082317582
A12: יבנאל | B12: 46 | C12: 1473 | D12: 1204 | E12: 9 | F12: 1195 | G12: 113 | H12: 233 | I12: 162 | J12: 4 | K12: 0 | L12: 11 | M12: 1 | N12: 0 | O12: 0 | P12: 48 | Q12: 0 | R12: 97 | S12: 6 | T12: 0 | U12: 8 | V12: 197 | W12: 25 | X12: 0 | Y12: 0 | Z12: 0 | AA12: 2 | AB12: 15 | AC12: 61 | AD12: 5 | AE12: 6 | AF12: 0 | AG12: 0 | AH12: 0 | AI12: 19 | AJ12: 0 | AK12: 0 | AL12: 0 | AM12: 1 | AN12: 294 | AO12: 1195 | AP12: 2 | AQ12: =A12 -> יבנאל | AR12: =F12 -> 1195 | AS12: =J12 -> 4 | AT12: =I12+P12 -> 210 | AU12: =V12 -> 197 | AV12: =AN12 -> 294 | AX12: =AV12+AS12 -> 298 | AY12: =AT12+Q12 -> 210 | AZ12: =AU12 -> 197 | BA12: =AX12/$AR12 -> 0.24937238 | BB12: =AY12/$AR12 -> 0.17573222 | BC12: =AZ12/$AR12 -> 0.16485356 | BD12: =SUM(BA12:BC12) -> 0.58995816 | BE12: =AS12/AX12 -> 0.013422819
A13: ירוחם | B13: 831 | C13: 5931 | D13: 4435 | E13: 121 | F13: 4314 | G13: 11079 | H13: 373 | I13: 294 | J13: 380 | K13: 1 | L13: 30 | M13: 2 | N13: 3 | O13: 6 | P13: 102 | Q13: 9 | R13: 61 | S13: 308 | T13: 269 | U13: 91 | V13: 621 | W13: 129 | X13: 12 | Y13: 0 | Z13: 30 | AA13: 8 | AB13: 47 | AC13: 93 | AD13: 12 | AE13: 7 | AF13: 0 | AG13: 10 | AH13: 1 | AI13: 29 | AJ13: 4 | AK13: 65 | AL13: 2 | AM13: 13 | AN13: 1302 | AO13: 4314 | AP13: 9 | AQ13: =A13 -> ירוחם | AR13: =F13 -> 4314 | AS13: =J13 -> 380 | AT13: =I13+P13 -> 396 | AU13: =V13 -> 621 | AV13: =AN13 -> 1302 | AX13: =AV13+AS13 -> 1682 | AY13: =AT13+Q13 -> 405 | AZ13: =AU13 -> 621 | BA13: =AX13/$AR13 -> 0.38989337 | BB13: =AY13/$AR13 -> 0.093880389 | BC13: =AZ13/$AR13 -> 0.14394993 | BD13: =SUM(BA13:BC13) -> 0.62772369 | BE13: =AS13/AX13 -> 0.22592152
... A23: ערד | B23: 2560 | C23: 17961 | D23: 12744 | E23: 378 | F23: 12366 | G23: 58982 | H23: 2745 | I23: 185 | J23: 485 | K23: 8 | L23: 40 | M23: 27 | N23: 9 | O23: 12 | P23: 307 | Q23: 15 | R23: 896 | S23: 1587 | T23: 852 | U23: 246 | V23: 1319 | W23: 1162 | X23: 8 | Y23: 0 | Z23: 121 | AA23: 8 | AB23: 333 | AC23: 606 | AD23: 159 | AE23: 17 | AF23: 0 | AG23: 34 | AH23: 10 | AI23: 226 | AJ23: 12 | AK23: 113 | AL23: 13 | AM23: 52 | AN23: 759 | AO23: 12366 | AP23: 28 | AQ23: =A23 -> ערד | AR23: =F23 -> 12366 | AS23: =J23 -> 485 | AT23: =I23+P23 -> 492 | AU23: =V23 -> 1319 | AV23: =AN23 -> 759 | AX23: =AV23+AS23 -> 1244 | AY23: =AT23+Q23 -> 507 | AZ23: =AU23 -> 1319 | BA23: =AX23/$AR23 -> 0.10059842 | BB23: =AY23/$AR23 -> 0.040999515 | BC23: =AZ23/$AR23 -> 0.10666343 | BD23: =SUM(BA23:BC23) -> 0.24826136 | BE23: =AS23/AX23 -> 0.38987138

Sheet 2003
A1: שם ישוב | B1: סמל ישוב | C1: בוחרים | D1: מצביעים | E1: פסולים | F1: כשרים | G1: שם ישוב | H1: אמת | I1: ב | J1: ג | K1: ד | L1: ו | M1: ז | N1: זך | O1: זנ | P1: ט | Q1: יש | R1: כן | S1: ל | T1: ם | U1: מחל | V1: מרצ | W1: נ | X1: נץ | Y1: עם | Z1: ף | AA1: פה | AB1: צ | AC1: צף | AD1: ק | AE1: קך | AF1: קנ | AG1: קץ | AH1: רק | AI1: שס | AJ1: מספר קלפיות | AL1: =F1 -> כשרים | AM1: =J1 -> ג | AN1: טב | AO1: =U1 -> מחל | AP1: =AI1 -> שס | AR1: חרדים | AS1: דתיים לאומיים | AT1: ליכוד | AU1: אחוז מצביעים חרדיים | AV1: אחוז מצביעים דתיים לאומיים | AW1: אחוז מצביעי ליכוד | AX1: אחוז מצביעי ימין מדיני | AY1: אחוז יהדות התורה
A2: אופקים | B2: 31 | C2: 15407 | D2: 9866 | E2: 192 | F2: 9674 | G2: 0 | H2: 370 | I2: 415 | J2: 1080 | K2: 3 | L2: 4 | M2: 4 | N2: 0 | O2: 49 | P2: 5 | Q2: 424 | R2: 473 | S2: 1084 | T2: 498 | U2: 2642 | V2: 293 | W2: 13 | X2: 88 | Y2: 13 | Z2: 7 | AA2: 7 | AB2: 4 | AC2: 4 | AD2: 8 | AE2: 5 | AF2: 56 | AG2: 1 | AH2: 15 | AI2: 2109 | AJ2: 25 | AK2: =A2 -> אופקים | AL2: =F2 -> 9674 | AM2: =J2 -> 1080 | AN2: =I2+X2 -> 503 | AO2: =U2 -> 2642 | AP2: =AI2 -> 2109 | AR2: =AP2+AM2 -> 3189 | AS2: =AN2+K2 -> 506 | AT2: =AO2 -> 2642 | AU2: =AR2/$AL2 -> 0.32964648 | AV2: =AS2/$AL2 -> 0.052305148 | AW2: =AT2/$AL2 -> 0.27310316 | AX2: =SUM(AU2:AW2) -> 0.65505479 | AY2: =AM2/AR2 -> 0.33866416
A3: אלעד | B3: 1309 | C3: 7042 | D3: 6407 | E3: 42 | F3: 6365 | G3: 0 | H3: 4 | I3: 480 | J3: 2299 | K3: 0 | L3: 0 | M3: 1 | N3: 0 | O3: 13 | P3: 0 | Q3: 6 | R3: 0 | S3: 162 | T3: 14 | U3: 224 | V3: 2 | W3: 21 | X3: 129 | Y3: 1 | Z3: 0 | AA3: 0 | AB3: 0 | AC3: 0 | AD3: 0 | AE3: 0 | AF3: 4 | AG3: 0 | AH3: 1 | AI3: 3004 | AJ3: 10 | AK3: =A3 -> אלעד | AL3: =F3 -> 6365 | AM3: =J3 -> 2299 | AN3: =I3+X3 -> 609 | AO3: =U3 -> 224 | AP3: =AI3 -> 3004 | AR3: =AP3+AM3 -> 5303 | AS3: =AN3+K3 -> 609 | AT3: =AO3 -> 224 | AU3: =AR3/$AL3 -> 0.83315004 | AV3: =AS3/$AL3 -> 0.095679497 | AW3: =AT3/$AL3 -> 0.035192459 | AX3: =SUM(AU3:AW3) -> 0.964022 | AY3: =AM3/AR3 -> 0.43352819
A4: אשדוד | B4: 70 | C4: 137648 | D4: 87640 | E4: 1870 | F4: 85770 | G4: 0 | H4: 5110 | I4: 1907 | J4: 6675 | K4: 24 | L4: 36 | M4: 24 | N4: 0 | O4: 138 | P4: 33 | Q4: 12286 | R4: 3485 | S4: 10614 | T4: 2906 | U4: 27056 | V4: 1498 | W4: 131 | X4: 440 | Y4: 83 | Z4: 57 | AA4: 107 | AB4: 34 | AC4: 24 | AD4: 57 | AE4: 64 | AF4: 452 | AG4: 17 | AH4: 178 | AI4: 12334 | AJ4: 217 | AK4: =A4 -> אשדוד | AL4: =F4 -> 85770 | AM4: =J4 -> 6675 | AN4: =I4+X4 -> 2347 | AO4: =U4 -> 27056 | AP4: =AI4 -> 12334 | AR4: =AP4+AM4 -> 19009 | AS4: =AN4+K4 -> 2371 | AT4: =AO4 -> 27056 | AU4: =AR4/$AL4 -> 0.22162761 | AV4: =AS4/$AL4 -> 0.027643698 | AW4: =AT4/$AL4 -> 0.31544829 | AX4: =SUM(AU4:AW4) -> 0.5647196 | AY4: =AM4/AR4 -> 0.35114946
A5: בית שאן | B5: 9200 | C5: 11510 | D5: 7167 | E5: 109 | F5: 7058 | G5: 0 | H5: 326 | I5: 467 | J5: 180 | K5: 2 | L5: 2 | M5: 0 | N5: 0 | O5: 35 | P5: 0 | Q5: 209 | R5: 73 | S5: 307 | T5: 358 | U5: 3031 | V5: 67 | W5: 11 | X5: 77 | Y5: 4 | Z5: 0 | AA5: 2 | AB5: 3 | AC5: 2 | AD5: 1 | AE5: 4 | AF5: 88 | AG5: 1 | AH5: 12 | AI5: 1796 | AJ5: 17 | AK5: =A5 -> בית שאן | AL5: =F5 -> 7058 | AM5: =J5 -> 180 | AN5: =I5+X5 -> 544 | AO5: =U5 -> 3031 | AP5: =AI5 -> 1796 | AR5: =AP5+AM5 -> 1976 | AS5: =AN5+K5 -> 546 | AT5: =AO5 -> 3031 | AU5: =AR5/$AL5 -> 0.279966 | AV5: =AS5/$AL5 -> 0.077359025 | AW5: =AT5/$AL5 -> 0.42944177 | AX5: =SUM(AU5:AW5) -> 0.78676679 | AY5: =AM5/AR5 -> 0.091093117
A6: בית שמש | B6: 2610 | C6: 29343 | D6: 20540 | E6: 337 | F6: 20203 | G6: 0 | H6: 670 | I6: 1459 | J6: 3493 | K6: 1 | L6: 10 | M6: 3 | N6: 0 | O6: 61 | P6: 4 | Q6: 1238 | R6: 953 | S6: 1756 | T6: 344 | U6: 5547 | V6: 203 | W6: 19 | X6: 546 | Y6: 11 | Z6: 2 | AA6: 10 | AB6: 4 | AC6: 0 | AD6: 5 | AE6: 13 | AF6: 90 | AG6: 12 | AH6: 29 | AI6: 3720 | AJ6: 46 | AK6: =A6 -> בית שמש | AL6: =F6 -> 20203 | AM6: =J6 -> 3493 | AN6: =I6+X6 -> 2005 | AO6: =U6 -> 5547 | AP6: =AI6 -> 3720 | AR6: =AP6+AM6 -> 7213 | AS6: =AN6+K6 -> 2006 | AT6: =AO6 -> 5547 | AU6: =AR6/$AL6 -> 0.35702618 | AV6: =AS6/$AL6 -> 0.099292184 | AW6: =AT6/$AL6 -> 0.27456318 | AX6: =SUM(AU6:AW6) -> 0.73088155 | AY6: =AM6/AR6 -> 0.48426452
A7: ביתר עילית | B7: 3780 | C7: 7522 | D7: 6241 | E7: 65 | F7: 6176 | G7: 0 | H7: 3 | I7: 21 | J7: 3375 | K7: 0 | L7: 0 | M7: 0 | N7: 0 | O7: 16 | P7: 1 | Q7: 5 | R7: 2 | S7: 44 | T7: 0 | U7: 41 | V7: 1 | W7: 1 | X7: 450 | Y7: 0 | Z7: 0 | AA7: 0 | AB7: 0 | AC7: 0 | AD7: 0 | AE7: 0 | AF7: 1 | AG7: 1 | AH7: 2 | AI7: 2212 | AJ7: 12 | AK7: =A7 -> ביתר עילית | AL7: =F7 -> 6176 | AM7: =J7 -> 3375 | AN7: =I7+X7 -> 471 | AO7: =U7 -> 41 | AP7: =AI7 -> 2212 | AR7: =AP7+AM7 -> 5587 | AS7: =AN7+K7 -> 471 | AT7: =AO7 -> 41 | AU7: =AR7/$AL7 -> 0.90463083 | AV7: =AS7/$AL7 -> 0.076262953 | AW7: =AT7/$AL7 -> 0.006638601 | AX7: =SUM(AU7:AW7) -> 0.98753238 | AY7: =AM7/AR7 -> 0.6040809
A8: בני ברק | B8: 6100 | C8: 79243 | D8: 60412 | E8: 578 | F8: 59834 | G8: 0 | H8: 1383 | I8: 3275 | J8: 32346 | K8: 3 | L8: 18 | M8: 7 | N8: 0 | O8: 70 | P8: 2 | Q8: 1457 | R8: 345 | S8: 1249 | T8: 314 | U8: 5463 | V8: 290 | W8: 26 | X8: 904 | Y8: 18 | Z8: 2 | AA8: 12 | AB8: 9 | AC8: 7 | AD8: 7 | AE8: 2 | AF8: 129 | AG8: 14 | AH8: 39 | AI8: 12443 | AJ8: 123 | AK8: =A8 -> בני ברק | AL8: =F8 -> 59834 | AM8: =J8 -> 32346 | AN8: =I8+X8 -> 4179 | AO8: =U8 -> 5463 | AP8: =AI8 -> 12443 | AR8: =AP8+AM8 -> 44789 | AS8: =AN8+K8 -> 4182 | AT8: =AO8 -> 5463 | AU8: =AR8/$AL8 -> 0.74855433 | AV8: =AS8/$AL8 -> 0.069893372 | AW8: =AT8/$AL8 -> 0.091302604 | AX8: =SUM(AU8:AW8) -> 0.90975031 | AY8: =AM8/AR8 -> 0.72218625
A9: גבעת זאב | B9: 3730 | C9: 6883 | D9: 5102 | E9: 35 | F9: 5067 | G9: 0 | H9: 302 | I9: 201 | J9: 165 | K9: 0 | L9: 0 | M9: 1 | N9: 0 | O9: 13 | P9: 2 | Q9: 563 | R9: 56 | S9: 328 | T9: 70 | U9: 2662 | V9: 91 | W9: 14 | X9: 93 | Y9: 2 | Z9: 1 | AA9: 4 | AB9: 1 | AC9: 0 | AD9: 0 | AE9: 1 | AF9: 70 | AG9: 0 | AH9: 15 | AI9: 412 | AJ9: 11 | AK9: =A9 -> גבעת זאב | AL9: =F9 -> 5067 | AM9: =J9 -> 165 | AN9: =I9+X9 -> 294 | AO9: =U9 -> 2662 | AP9: =AI9 -> 412 | AR9: =AP9+AM9 -> 577 | AS9: =AN9+K9 -> 294 | AT9: =AO9 -> 2662 | AU9: =AR9/$AL9 -> 0.11387409 | AV9: =AS9/$AL9 -> 0.058022499 | AW9: =AT9/$AL9 -> 0.52536017 | AX9: =SUM(AU9:AW9) -> 0.69725676 | AY9: =AM9/AR9 -> 0.28596187
A10: חצור הגלילית | B10: 2034 | C10: 6116 | D10: 4141 | E10: 57 | F10: 4084 | G10: 0 | H10: 207 | I10: 293 | J10: 491 | K10: 0 | L10: 0 | M10: 1 | N10: 0 | O10: 14 | P10: 1 | Q10: 180 | R10: 72 | S10: 166 | T10: 273 | U10: 1606 | V10: 36 | W10: 3 | X10: 59 | Y10: 7 | Z10: 1 | AA10: 3 | AB10: 1 | AC10: 0 | AD10: 0 | AE10: 2 | AF10: 23 | AG10: 6 | AH10: 7 | AI10: 632 | AJ10: 9 | AK10: =A10 -> חצור הגלילית | AL10: =F10 -> 4084 | AM10: =J10 -> 491 | AN10: =I10+X10 -> 352 | AO10: =U10 -> 1606 | AP10: =AI10 -> 632 | AR10: =AP10+AM10 -> 1123 | AS10: =AN10+K10 -> 352 | AT10: =AO10 -> 1606 | AU10: =AR10/$AL10 -> 0.27497551 | AV10: =AS10/$AL10 -> 0.08619001 | AW10: =AT10/$AL10 -> 0.39324192 | AX10: =SUM(AU10:AW10) -> 0.75440744 | AY10: =AM10/AR10 -> 0.43722173
A11: טבריה | B11: 6700 | C11: 30682 | D11: 17770 | E11: 261 | F11: 17509 | G11: 0 | H11: 1124 | I11: 771 | J11: 597 | K11: 10 | L11: 7 | M11: 7 | N11: 0 | O11: 146 | P11: 4 | Q11: 1275 | R11: 321 | S11: 1475 | T11: 471 | U11: 7163 | V11: 171 | W11: 15 | X11: 218 | Y11: 18 | Z11: 1 | AA11: 10 | AB11: 9 | AC11: 3 | AD11: 7 | AE11: 9 | AF11: 116 | AG11: 4 | AH11: 31 | AI11: 3526 | AJ11: 47 | AK11: =A11 -> טבריה | AL11: =F11 -> 17509 | AM11: =J11 -> 597 | AN11: =I11+X11 -> 989 | AO11: =U11 -> 7163 | AP11: =AI11 -> 3526 | AR11: =AP11+AM11 -> 4123 | AS11: =AN11+K11 -> 999 | AT11: =AO11 -> 7163 | AU11: =AR11/$AL11 -> 0.2354789 | AV11: =AS11/$AL11 -> 0.057056371 | AW11: =AT11/$AL11 -> 0.40910389 | AX11: =SUM(AU11:AW11) -> 0.70163916 | AY11: =AM11/AR11 -> 0.14479748
A12: יבנאל | B12: 46 | C12: 1677 | D12: 1234 | E12: 15 | F12: 1219 | G12: 0 | H12: 101 | I12: 81 | J12: 17 | K12: 0 | L12: 1 | M12: 0 | N12: 0 | O12: 9 | P12: 1 | Q12: 176 | R12: 1 | S12: 26 | T12: 7 | U12: 395 | V12: 22 | W12: 2 | X12: 26 | Y12: 1 | Z12: 0 | AA12: 0 | AB12: 0 | AC12: 0 | AD12: 1 | AE12: 0 | AF12: 22 | AG12: 1 | AH12: 3 | AI12: 326 | AJ12: 3 | AK12: =A12 -> יבנאל | AL12: =F12 -> 1219 | AM12: =J12 -> 17 | AN12: =I12+X12 -> 107 | AO12: =U12 -> 395 | AP12: =AI12 -> 326 | AR12: =AP12+AM12 -> 343 | AS12: =AN12+K12 -> 107 | AT12: =AO12 -> 395 | AU12: =AR12/$AL12 -> 0.28137818 | AV12: =AS12/$AL12 -> 0.087776866 | AW12: =AT12/$AL12 -> 0.3240361 | AX12: =SUM(AU12:AW12) -> 0.69319114 | AY12: =AM12/AR12 -> 0.049562682
A13: ירוחם | B13: 831 | C13: 5919 | D13: 3728 | E13: 85 | F13: 3643 | G13: 0 | H13: 169 | I13: 278 | J13: 355 | K13: 7 | L13: 1 | M13: 2 | N13: 0 | O13: 16 | P13: 3 | Q13: 188 | R13: 75 | S13: 526 | T13: 249 | U13: 1045 | V13: 60 | W13: 4 | X13: 19 | Y13: 24 | Z13: 5 | AA13: 0 | AB13: 1 | AC13: 1 | AD13: 2 | AE13: 7 | AF13: 17 | AG13: 3 | AH13: 6 | AI13: 580 | AJ13: 10 | AK13: =A13 -> ירוחם | AL13: =F13 -> 3643 | AM13: =J13 -> 355 | AN13: =I13+X13 -> 297 | AO13: =U13 -> 1045 | AP13: =AI13 -> 580 | AR13: =AP13+AM13 -> 935 | AS13: =AN13+K13 -> 304 | AT13: =AO13 -> 1045 | AU13: =AR13/$AL13 -> 0.2566566 | AV13: =AS13/$AL13 -> 0.083447708 | AW13: =AT13/$AL13 -> 0.2868515 | AX13: =SUM(AU13:AW13) -> 0.62695581 | AY13: =AM13/AR13 -> 0.37967914
... A22: רכסים | B22: 922 | C22: 3824 | D22: 3203 | E22: 29 | F22: 3174 | G22: 0 | H22: 82 | I22: 85 | J22: 1214 | K22: 0 | L22: 0 | M22: 1 | N22: 0 | O22: 5 | P22: 0 | Q22: 114 | R22: 31 | S22: 41 | T22: 11 | U22: 442 | V22: 9 | W22: 0 | X22: 19 | Y22: 2 | Z22: 1 | AA22: 0 | AB22: 0 | AC22: 0 | AD22: 0 | AE22: 0 | AF22: 9 | AG22: 0 | AH22: 0 | AI22: 1108 | AJ22: 6 | AK22: =A22 -> רכסים | AL22: =F22 -> 3174 | AM22: =J22 -> 1214 | AN22: =I22+X22 -> 104 | AO22: =U22 -> 442 | AP22: =AI22 -> 1108 | AR22: =AP22+AM22 -> 2322 | AS22: =AN22+K22 -> 104 | AT22: =AO22 -> 442 | AU22: =AR22/$AL22 -> 0.731569 | AV22: =AS22/$AL22 -> 0.032766226 | AW22: =AT22/$AL22 -> 0.13925646 | AX22: =SUM(AU22:AW22) -> 0.90359168 | AY22: =AM22/AR22 -> 0.52282515
A23: ערד | B23: 922 | C23: 20007 | D23: 11892 | E23: 294 | F23: 11598 | G23: 0 | H23: 1438 | I23: 156 | J23: 627 | K23: 8 | L23: 12 | M23: 5 | N23: 0 | O23: 18 | P23: 0 | Q23: 2358 | R23: 1067 | S23: 1182 | T23: 318 | U23: 3028 | V23: 473 | W23: 45 | X23: 112 | Y23: 16 | Z23: 5 | AA23: 69 | AB23: 11 | AC23: 1 | AD23: 16 | AE23: 13 | AF23: 177 | AG23: 6 | AH23: 50 | AI23: 387 | AJ23: 31 | AK23: ערד | AL23: 11598 | AM23: 627 | AN23: 268 | AO23: 3028 | AP23: 387 | AR23: =AP23+AM23 -> 1014 | AS23: =AN23+K23 -> 276 | AT23: =AO23 -> 3028 | AU23: =AR23/$AL23 -> 0.087428867 | AV23: =AS23/$AL23 -> 0.023797206 | AW23: =AT23/$AL23 -> 0.2610795 | AX23: =SUM(AU23:AW23) -> 0.37230557 | AY23: =AM23/AR23 -> 0.6183432

Sheet 2006
A1: שם ישוב | B1: סמל ישוב | C1: בעלי זכות בחירה | D1: מצביעים | E1: כשרים | F1: פסולים | G1: אמת | H1: ג | I1: ד | J1: ה | K1: ו | L1: ז | M1: זה | N1: זך | O1: חץ | P1: טב | Q1: יש | R1: כ | S1: כן | T1: כץ | U1: ל | V1: מחל | W1: מרצ | X1: נץ | Y1: עם | Z1: פ | AA1: פז | AB1: פכ | AC1: פץ | AD1: ף | AE1: צה | AF1: ק | AG1: קז | AH1: קנ | AI1: קפ | AJ1: רק | AK1: שס | AL1: מס' קלפיות | AN1: =E1 -> כשרים | AO1: =H1 -> ג | AP1: =P1 -> טב | AQ1: מחל וישראל ביתינו | AR1: =AK1 -> שס | AT1: חרדים | AU1: דתיים לאומיים | AV1: ליכוד | AW1: אחוז מצביעים חרדיים | AX1: אחוז מצביעים דתיים לאומיים | AY1: אחוז מצביעי ליכוד | AZ1: אחוז מצביעי ימין מדיני | BA1: אחוז יהדות התורה
A2: אופקים | B2: 31 | C2: 16637 | D2: 9521 | E2: 9361 | F2: 160 | G2: 1535 | H2: 1250 | I2: 6 | J2: 1 | K2: 1 | L2: 3 | M2: 16 | N2: 69 | O2: 8 | P2: 633 | Q2: 10 | R2: 80 | S2: 857 | T2: 4 | U2: 1527 | V2: 940 | W2: 208 | X2: 4 | Y2: 7 | Z2: 9 | AA2: 12 | AB2: 4 | AC2: 6 | AD2: 2 | AE2: 1 | AF2: 9 | AG2: 12 | AH2: 42 | AI2: 1 | AJ2: 25 | AK2: 2079 | AL2: 26 | AM2: =A2 -> אופקים | AN2: =E2 -> 9361 | AO2: =H2 -> 1250 | AP2: =P2 -> 633 | AQ2: =V2+U2 -> 2467 | AR2: =AK2 -> 2079 | AT2: =AR2+AO2 -> 3329 | AU2: =AP2 -> 633 | AV2: =AQ2 -> 2467 | AW2: =AT2/$AN2 -> 0.3556244 | AX2: =AU2/$AN2 -> 0.067620981 | AY2: =AV2/$AN2 -> 0.26354022 | AZ2: =SUM(AW2:AY2) -> 0.6867856 | BA2: =AO2/AT2 -> 0.37548813
A3: אלעד | B3: 1309 | C3: 11332 | D3: 9699 | E3: 9637 | F3: 62 | G3: 31 | H3: 3397 | I3: 0 | J3: 0 | K3: 0 | L3: 0 | M3: 1 | N3: 31 | O3: 0 | P3: 1047 | Q3: 1 | R3: 155 | S3: 27 | T3: 0 | U3: 22 | V3: 116 | W3: 1 | X3: 0 | Y3: 0 | Z3: 0 | AA3: 0 | AB3: 0 | AC3: 0 | AD3: 0 | AE3: 1 | AF3: 0 | AG3: 0 | AH3: 5 | AI3: 0 | AJ3: 4 | AK3: 4798 | AL3: 19 | AM3: =A3 -> אלעד | AN3: =E3 -> 9637 | AO3: =H3 -> 3397 | AP3: =P3 -> 1047 | AQ3: =V3+U3 -> 138 | AR3: =AK3 -> 4798 | AT3: =AR3+AO3 -> 8195 | AU3: =AP3 -> 1047 | AV3: =AQ3 -> 138 | AW3: =AT3/$AN3 -> 0.85036837 | AX3: =AU3/$AN3 -> 0.10864377 | AY3: =AV3/$AN3 -> 0.014319809 | AZ3: =SUM(AW3:AY3) -> 0.97333195 | BA3: =AO3/AT3 -> 0.41452105
A4: אשדוד | B4: 70 | C4: 149417 | D4: 86978 | E4: 85164 | F4: 1814 | G4: 8837 | H4: 7901 | I4: 39 | J4: 10 | K4: 30 | L4: 37 | M4: 1090 | N4: 2750 | O4: 331 | P4: 3801 | Q4: 167 | R4: 295 | S4: 16691 | T4: 38 | U4: 16930 | V4: 8631 | W4: 869 | X4: 51 | Y4: 46 | Z4: 183 | AA4: 75 | AB4: 37 | AC4: 66 | AD4: 46 | AE4: 28 | AF4: 109 | AG4: 179 | AH4: 630 | AI4: 25 | AJ4: 678 | AK4: 14564 | AL4: 243 | AM4: =A4 -> אשדוד | AN4: =E4 -> 85164 | AO4: =H4 -> 7901 | AP4: =P4 -> 3801 | AQ4: =V4+U4 -> 25561 | AR4: =AK4 -> 14564 | AT4: =AR4+AO4 -> 22465 | AU4: =AP4 -> 3801 | AV4: =AQ4 -> 25561 | AW4: =AT4/$AN4 -> 0.26378517 | AX4: =AU4/$AN4 -> 0.044631534 | AY4: =AV4/$AN4 -> 0.30013856 | AZ4: =SUM(AW4:AY4) -> 0.60855526 | BA4: =AO4/AT4 -> 0.35170265
A5: בית שאן | B5: 9200 | C5: 12031 | D5: 6663 | E5: 6572 | F5: 91 | G5: 1074 | H5: 152 | I5: 1 | J5: 1 | K5: 2 | L5: 0 | M5: 11 | N5: 137 | O5: 6 | P5: 718 | Q5: 2 | R5: 51 | S5: 817 | T5: 0 | U5: 350 | V5: 1102 | W5: 38 | X5: 4 | Y5: 1 | Z5: 18 | AA5: 5 | AB5: 12 | AC5: 35 | AD5: 0 | AE5: 2 | AF5: 4 | AG5: 3 | AH5: 30 | AI5: 0 | AJ5: 20 | AK5: 1976 | AL5: 19 | AM5: =A5 -> בית שאן | AN5: =E5 -> 6572 | AO5: =H5 -> 152 | AP5: =P5 -> 718 | AQ5: =V5+U5 -> 1452 | AR5: =AK5 -> 1976 | AT5: =AR5+AO5 -> 2128 | AU5: =AP5 -> 718 | AV5: =AQ5 -> 1452 | AW5: =AT5/$AN5 -> 0.32379793 | AX5: =AU5/$AN5 -> 0.10925137 | AY5: =AV5/$AN5 -> 0.22093731 | AZ5: =SUM(AW5:AY5) -> 0.65398661 | BA5: =AO5/AT5 -> 0.071428571
A6: בית שמש | B6: 2610 | C6: 34712 | D6: 21965 | E6: 21669 | F6: 296 | G6: 1428 | H6: 4803 | I6: 9 | J6: 2 | K6: 9 | L6: 3 | M6: 609 | N6: 322 | O6: 22 | P6: 3099 | Q6: 18 | R6: 397 | S6: 1683 | T6: 4 | U6: 2245 | V6: 2340 | W6: 87 | X6: 16 | Y6: 1 | Z6: 56 | AA6: 9 | AB6: 3 | AC6: 11 | AD6: 1 | AE6: 7 | AF6: 7 | AG6: 9 | AH6: 87 | AI6: 1 | AJ6: 70 | AK6: 4311 | AL6: 55 | AM6: =A6 -> בית שמש | AN6: =E6 -> 21669 | AO6: =H6 -> 4803 | AP6: =P6 -> 3099 | AQ6: =V6+U6 -> 4585 | AR6: =AK6 -> 4311 | AT6: =AR6+AO6 -> 9114 | AU6: =AP6 -> 3099 | AV6: =AQ6 -> 4585 | AW6: =AT6/$AN6 -> 0.42060086 | AX6: =AU6/$AN6 -> 0.14301537 | AY6: =AV6/$AN6 -> 0.2115926 | AZ6: =SUM(AW6:AY6) -> 0.77520882 | BA6: =AO6/AT6 -> 0.52699144
A7: ביתר עילית | B7: 3780 | C7: 10091 | D7: 7837 | E7: 7779 | F7: 58 | G7: 5 | H7: 4213 | I7: 0 | J7: 0 | K7: 0 | L7: 0 | M7: 0 | N7: 5 | O7: 0 | P7: 141 | Q7: 0 | R7: 355 | S7: 13 | T7: 0 | U7: 25 | V7: 66 | W7: 3 | X7: 3 | Y7: 0 | Z7: 4 | AA7: 0 | AB7: 0 | AC7: 0 | AD7: 0 | AE7: 0 | AF7: 1 | AG7: 0 | AH7: 1 | AI7: 0 | AJ7: 1 | AK7: 2943 | AL7: 16 | AM7: =A7 -> ביתר עילית | AN7: =E7 -> 7779 | AO7: =H7 -> 4213 | AP7: =P7 -> 141 | AQ7: =V7+U7 -> 91 | AR7: =AK7 -> 2943 | AT7: =AR7+AO7 -> 7156 | AU7: =AP7 -> 141 | AV7: =AQ7 -> 91 | AW7: =AT7/$AN7 -> 0.91991259 | AX7: =AU7/$AN7 -> 0.018125723 | AY7: =AV7/$AN7 -> 0.011698162 | AZ7: =SUM(AW7:AY7) -> 0.94973647 | BA7: =AO7/AT7 -> 0.58873672
A8: בני ברק | B8: 6100 | C8: 83379 | D8: 61014 | E8: 60502 | F8: 512 | G8: 1177 | H8: 34149 | I8: 5 | J8: 2 | K8: 17 | L8: 21 | M8: 29 | N8: 1009 | O8: 34 | P8: 3629 | Q8: 29 | R8: 543 | S8: 1902 | T8: 9 | U8: 1109 | V8: 1847 | W8: 168 | X8: 23 | Y8: 9 | Z8: 48 | AA8: 4 | AB8: 8 | AC8: 14 | AD8: 1 | AE8: 7 | AF8: 13 | AG8: 23 | AH8: 101 | AI8: 1 | AJ8: 118 | AK8: 14453 | AL8: 131 | AM8: =A8 -> בני ברק | AN8: =E8 -> 60502 | AO8: =H8 -> 34149 | AP8: =P8 -> 3629 | AQ8: =V8+U8 -> 2956 | AR8: =AK8 -> 14453 | AT8: =AR8+AO8 -> 48602 | AU8: =AP8 -> 3629 | AV8: =AQ8 -> 2956 | AW8: =AT8/$AN8 -> 0.80331229 | AX8: =AU8/$AN8 -> 0.059981488 | AY8: =AV8/$AN8 -> 0.048857889 | AZ8: =SUM(AW8:AY8) -> 0.91215166 | BA8: =AO8/AT8 -> 0.70262541
A9: גבעת זאב | B9: 3730 | C9: 7217 | D9: 4948 | E9: 4898 | F9: 50 | G9: 461 | H9: 177 | I9: 0 | J9: 1 | K9: 1 | L9: 41 | M9: 3 | N9: 388 | O9: 16 | P9: 666 | Q9: 8 | R9: 67 | S9: 870 | T9: 2 | U9: 515 | V9: 962 | W9: 83 | X9: 5 | Y9: 0 | Z9: 45 | AA9: 0 | AB9: 0 | AC9: 1 | AD9: 0 | AE9: 0 | AF9: 1 | AG9: 4 | AH9: 57 | AI9: 0 | AJ9: 57 | AK9: 467 | AL9: 12 | AM9: =A9 -> גבעת זאב | AN9: =E9 -> 4898 | AO9: =H9 -> 177 | AP9: =P9 -> 666 | AQ9: =V9+U9 -> 1477 | AR9: =AK9 -> 467 | AT9: =AR9+AO9 -> 644 | AU9: =AP9 -> 666 | AV9: =AQ9 -> 1477 | AW9: =AT9/$AN9 -> 0.13148224 | AX9: =AU9/$AN9 -> 0.13597387 | AY9: =AV9/$AN9 -> 0.30155165 | AZ9: =SUM(AW9:AY9) -> 0.56900776 | BA9: =AO9/AT9 -> 0.27484472
A10: חצור הגלילית | B10: 2034 | C10: 6184 | D10: 3855 | E10: 3794 | F10: 61 | G10: 503 | H10: 577 | I10: 1 | J10: 0 | K10: 0 | L10: 1 | M10: 0 | N10: 49 | O10: 1 | P10: 314 | Q10: 2 | R10: 25 | S10: 329 | T10: 1 | U10: 659 | V10: 577 | W10: 10 | X10: 6 | Y10: 4 | Z10: 2 | AA10: 0 | AB10: 2 | AC10: 2 | AD10: 0 | AE10: 0 | AF10: 0 | AG10: 1 | AH10: 29 | AI10: 1 | AJ10: 13 | AK10: 685 | AL10: 9 | AM10: =A10 -> חצור הגלילית | AN10: =E10 -> 3794 | AO10: =H10 -> 577 | AP10: =P10 -> 314 | AQ10: =V10+U10 -> 1236 | AR10: =AK10 -> 685 | AT10: =AR10+AO10 -> 1262 | AU10: =AP10 -> 314 | AV10: =AQ10 -> 1236 | AW10: =AT10/$AN10 -> 0.33263047 | AX10: =AU10/$AN10 -> 0.082762256 | AY10: =AV10/$AN10 -> 0.32577754 | AZ10: =SUM(AW10:AY10) -> 0.74117027 | BA10: =AO10/AT10 -> 0.45721078
A11: טבריה | B11: 6700 | C11: 31415 | D11: 15331 | E11: 15101 | F11: 230 | G11: 1549 | H11: 571 | I11: 4 | J11: 2 | K11: 11 | L11: 7 | M11: 19 | N11: 527 | O11: 15 | P11: 1169 | Q11: 20 | R11: 67 | S11: 2747 | T11: 6 | U11: 2115 | V11: 2307 | W11: 74 | X11: 10 | Y11: 13 | Z11: 71 | AA11: 7 | AB11: 5 | AC11: 12 | AD11: 2 | AE11: 3 | AF11: 13 | AG11: 22 | AH11: 153 | AI11: 6 | AJ11: 49 | AK11: 3525 | AL11: 49 | AM11: =A11 -> טבריה | AN11: =E11 -> 15101 | AO11: =H11 -> 571 | AP11: =P11 -> 1169 | AQ11: =V11+U11 -> 4422 | AR11: =AK11 -> 3525 | AT11: =AR11+AO11 -> 4096 | AU11: =AP11 -> 1169 | AV11: =AQ11 -> 4422 | AW11: =AT11/$AN11 -> 0.27124032 | AX11: =AU11/$AN11 -> 0.077412092 | AY11: =AV11/$AN11 -> 0.29282829 | AZ11: =SUM(AW11:AY11) -> 0.6414807 | BA11: =AO11/AT11 -> 0.1394043
A12: יבנאל | B12: 46 | C12: 1857 | D12: 1262 | E12: 1247 | F12: 15 | G12: 109 | H12: 26 | I12: 0 | J12: 0 | K12: 1 | L12: 0 | M12: 0 | N12: 61 | O12: 4 | P12: 103 | Q12: 2 | R12: 24 | S12: 291 | T12: 1 | U12: 36 | V12: 99 | W12: 20 | X12: 3 | Y12: 0 | Z12: 13 | AA12: 0 | AB12: 0 | AC12: 2 | AD12: 0 | AE12: 0 | AF12: 2 | AG12: 0 | AH12: 9 | AI12: 1 | AJ12: 15 | AK12: 425 | AL12: 3 | AM12: =A12 -> יבנאל | AN12: =E12 -> 1247 | AO12: =H12 -> 26 | AP12: =P12 -> 103 | AQ12: =V12+U12 -> 135 | AR12: =AK12 -> 425 | AT12: =AR12+AO12 -> 451 | AU12: =AP12 -> 103 | AV12: =AQ12 -> 135 | AW12: =AT12/$AN12 -> 0.361668 | AX12: =AU12/$AN12 -> 0.082598236 | AY12: =AV12/$AN12 -> 0.10825982 | AZ12: =SUM(AW12:AY12) -> 0.55252606 | BA12: =AO12/AT12 -> 0.057649667
A13: ירוחם | B13: 831 | C13: 6024 | D13: 3143 | E13: 3079 | F13: 64 | G13: 467 | H13: 311 | I13: 1 | J13: 0 | K13: 2 | L13: 0 | M13: 1 | N13: 58 | O13: 8 | P13: 413 | Q13: 3 | R13: 16 | S13: 428 | T13: 0 | U13: 454 | V13: 210 | W13: 24 | X13: 2 | Y13: 12 | Z13: 14 | AA13: 3 | AB13: 3 | AC13: 2 | AD13: 0 | AE13: 2 | AF13: 1 | AG13: 5 | AH13: 20 | AI13: 1 | AJ13: 11 | AK13: 607 | AL13: 10 | AM13: =A13 -> ירוחם | AN13: =E13 -> 3079 | AO13: =H13 -> 311 | AP13: =P13 -> 413 | AQ13: =V13+U13 -> 664 | AR13: =AK13 -> 607 | AT13: =AR13+AO13 -> 918 | AU13: =AP13 -> 413 | AV13: =AQ13 -> 664 | AW13: =AT13/$AN13 -> 0.29814875 | AX13: =AU13/$AN13 -> 0.13413446 | AY13: =AV13/$AN13 -> 0.21565443 | AZ13: =SUM(AW13:AY13) -> 0.64793764 | BA13: =AO13/AT13 -> 0.33877996
... A22: רכסים | B22: 922 | C22: 4193 | D22: 3299 | E22: 3267 | F22: 32 | G22: 99 | H22: 1301 | I22: 0 | J22: 1 | K22: 0 | L22: 0 | M22: 6 | N22: 29 | O22: 4 | P22: 122 | Q22: 3 | R22: 15 | S22: 153 | T22: 0 | U22: 76 | V22: 122 | W22: 5 | X22: 1 | Y22: 0 | Z22: 0 | AA22: 3 | AB22: 0 | AC22: 0 | AD22: 0 | AE22: 1 | AF22: 1 | AG22: 4 | AH22: 13 | AI22: 0 | AJ22: 6 | AK22: 1302 | AL22: 7 | AM22: =A22 -> רכסים | AN22: =E22 -> 3267 | AO22: =H22 -> 1301 | AP22: =P22 -> 122 | AQ22: =V22+U22 -> 198 | AR22: =AK22 -> 1302 | AT22: =AR22+AO22 -> 2603 | AU22: =AP22 -> 122 | AV22: =AQ22 -> 198 | AW22: =AT22/$AN22 -> 0.79675543 | AX22: =AU22/$AN22 -> 0.037343128 | AY22: =AV22/$AN22 -> 0.060606061 | AZ22: =SUM(AW22:AY22) -> 0.89470462 | BA22: =AO22/AT22 -> 0.49980791
A23: ערד | B23: 922 | C23: 19812 | D23: 10743 | E23: 10465 | F23: 278 | G23: 1631 | H23: 566 | I23: 9 | J23: 1 | K23: 15 | L23: 6 | M23: 21 | N23: 535 | O23: 21 | P23: 331 | Q23: 41 | R23: 79 | S23: 2469 | T23: 10 | U23: 2934 | V23: 810 | W23: 243 | X23: 8 | Y23: 11 | Z23: 52 | AA23: 12 | AB23: 1 | AC23: 7 | AD23: 5 | AE23: 6 | AF23: 16 | AG23: 22 | AH23: 152 | AI23: 2 | AJ23: 124 | AK23: 325 | AL23: 33 | AM23: ערד | AN23: 10465 | AO23: 566 | AP23: 331 | AQ23: 3744 | AR23: 325 | AT23: =AR23+AO23 -> 891 | AU23: =AP23 -> 331 | AV23: =AQ23 -> 3744 | AW23: =AT23/$AN23 -> 0.085140946 | AX23: =AU23/$AN23 -> 0.03162924 | AY23: =AV23/$AN23 -> 0.35776398 | AZ23: =SUM(AW23:AY23) -> 0.47453416 | BA23: =AO23/AT23 -> 0.6352413

Sheet 2009
A1: שם ישוב | B1: סמל ישוב | C1: בז''ב | D1: מצביעים | E1: כשרים | F1: פסולים | G1: אמת | H1: אר | I1: ב | J1: ג | K1: ד | L1: ה | M1: ו | N1: זך | O1: חי | P1: ט | Q1: ים | R1: ינ | S1: יק | T1: כן | U1: ל | V1: מחל | W1: מרצ | X1: נ | Y1: נפ | Z1: נץ | AA1: נר | AB1: עם | AC1: פ | AD1: פח | AE1: פי | AF1: פק | AG1: ץ | AH1: צי | AI1: ק | AJ1: קנ | AK1: קפ | AL1: קץ | AM1: רק | AN1: שס | AO1: מס' קלפיות | AQ1: =E1 -> כשרים | AR1: =J1 -> ג | AS1: טב | AT1: מחל וישראל ביתינו | AU1: =AN1 -> שס | AW1: חרדים | AX1: דתיים לאומיים | AY1: ליכוד | AZ1: אחוז מצביעים חרדיים | BA1: אחוז מצביעים דתיים לאומיים | BB1: אחוז מצביעי ליכוד | BC1: אחוז מצביעי ימין מדיני | BD1: אחוז ליהדות התורה
A2: אופקים | B2: 31 | C2: 17314 | D2: 10177 | E2: 10027 | F2: 150 | G2: 592 | H2: 2 | I2: 299 | J2: 1280 | K2: 5 | L2: 102 | M2: 3 | N2: 21 | O2: 34 | P2: 292 | Q2: 3 | R2: 2 | S2: 6 | T2: 915 | U2: 1679 | V2: 2536 | W2: 72 | X2: 14 | Y2: 5 | Z2: 0 | AA2: 2 | AB2: 3 | AC2: 1 | AD2: 0 | AE2: 1 | AF2: 3 | AG2: 3 | AH2: 12 | AI2: 8 | AJ2: 20 | AK2: 0 | AL2: 10 | AM2: 14 | AN2: 2088 | AO2: 29 | AP2: =A2 -> אופקים | AQ2: =E2 -> 10027 | AR2: =J2 -> 1280 | AS2: =I2+P2 -> 591 | AT2: =V2+U2 -> 4215 | AU2: =AN2 -> 2088 | AW2: =AU2+AR2 -> 3368 | AX2: =AS2 -> 591 | AY2: =AT2 -> 4215 | AZ2: =AW2/$AQ2 -> 0.33589309 | BA2: =AX2/$AQ2 -> 0.05894086 | BB2: =AY2/$AQ2 -> 0.42036501 | BC2: =SUM(AZ2:BB2) -> 0.81519896 | BD2: =AR2/AW2 -> 0.38004751
A3: אלעד | B3: 1309 | C3: 14040 | D3: 11600 | E3: 11549 | F3: 51 | G3: 11 | H3: 0 | I3: 350 | J3: 3551 | K3: 1 | L3: 3 | M3: 2 | N3: 0 | O3: 0 | P3: 951 | Q3: 0 | R3: 0 | S3: 0 | T3: 23 | U3: 38 | V3: 496 | W3: 3 | X3: 0 | Y3: 0 | Z3: 1 | AA3: 0 | AB3: 1 | AC3: 1 | AD3: 0 | AE3: 0 | AF3: 1 | AG3: 1 | AH3: 1 | AI3: 0 | AJ3: 2 | AK3: 0 | AL3: 0 | AM3: 2 | AN3: 6110 | AO3: 27 | AP3: =A3 -> אלעד | AQ3: =E3 -> 11549 | AR3: =J3 -> 3551 | AS3: =I3+P3 -> 1301 | AT3: =V3+U3 -> 534 | AU3: =AN3 -> 6110 | AW3: =AU3+AR3 -> 9661 | AX3: =AS3 -> 1301 | AY3: =AT3 -> 534 | AZ3: =AW3/$AQ3 -> 0.83652264 | BA3: =AX3/$AQ3 -> 0.11265045 | BB3: =AY3/$AQ3 -> 0.04623777 | BC3: =SUM(AZ3:BB3) -> 0.99541086 | BD3: =AR3/AW3 -> 0.36756029
A4: אשדוד | B4: 70 | C4: 156977 | D4: 96363 | E4: 94776 | F4: 1587 | G4: 4176 | H4: 23 | I4: 1399 | J4: 8101 | K4: 43 | L4: 179 | M4: 46 | N4: 436 | O4: 109 | P4: 1359 | Q4: 17 | R4: 29 | S4: 46 | T4: 14896 | U4: 24693 | V4: 23191 | W4: 738 | X4: 129 | Y4: 16 | Z4: 26 | AA4: 24 | AB4: 37 | AC4: 59 | AD4: 0 | AE4: 14 | AF4: 31 | AG4: 26 | AH4: 139 | AI4: 93 | AJ4: 294 | AK4: 27 | AL4: 103 | AM4: 212 | AN4: 14065 | AO4: 257 | AP4: =A4 -> אשדוד | AQ4: =E4 -> 94776 | AR4: =J4 -> 8101 | AS4: =I4+P4 -> 2758 | AT4: =V4+U4 -> 47884 | AU4: =AN4 -> 14065 | AW4: =AU4+AR4 -> 22166 | AX4: =AS4 -> 2758 | AY4: =AT4 -> 47884 | AZ4: =AW4/$AQ4 -> 0.23387777 | BA4: =AX4/$AQ4 -> 0.029100194 | BB4: =AY4/$AQ4 -> 0.50523339 | BC4: =SUM(AZ4:BB4) -> 0.76821136 | BD4: =AR4/AW4 -> 0.36546964
A5: בית שאן | B5: 9200 | C5: 12724 | D5: 7157 | E5: 7051 | F5: 106 | G5: 376 | H5: 3 | I5: 265 | J5: 113 | K5: 3 | L5: 12 | M5: 4 | N5: 22 | O5: 3 | P5: 274 | Q5: 0 | R5: 0 | S5: 2 | T5: 743 | U5: 549 | V5: 2900 | W5: 23 | X5: 6 | Y5: 2 | Z5: 4 | AA5: 2 | AB5: 13 | AC5: 67 | AD5: 0 | AE5: 4 | AF5: 1 | AG5: 6 | AH5: 6 | AI5: 2 | AJ5: 20 | AK5: 3 | AL5: 3 | AM5: 6 | AN5: 1614 | AO5: 20 | AP5: =A5 -> בית שאן | AQ5: =E5 -> 7051 | AR5: =J5 -> 113 | AS5: =I5+P5 -> 539 | AT5: =V5+U5 -> 3449 | AU5: =AN5 -> 1614 | AW5: =AU5+AR5 -> 1727 | AX5: =AS5 -> 539 | AY5: =AT5 -> 3449 | AZ5: =AW5/$AQ5 -> 0.2449298 | BA5: =AX5/$AQ5 -> 0.076443058 | BB5: =AY5/$AQ5 -> 0.48915048 | BC5: =SUM(AZ5:BB5) -> 0.81052333 | BD5: =AR5/AW5 -> 0.065431384
A6: בית שמש | B6: 2610 | C6: 38591 | D6: 23790 | E6: 23471 | F6: 319 | G6: 625 | H6: 2 | I6: 1442 | J6: 4829 | K6: 10 | L6: 89 | M6: 19 | N6: 24 | O6: 10 | P6: 1784 | Q6: 8 | R6: 4 | S6: 7 | T6: 1449 | U6: 2800 | V6: 5204 | W6: 95 | X6: 16 | Y6: 3 | Z6: 4 | AA6: 6 | AB6: 7 | AC6: 12 | AD6: 0 | AE6: 4 | AF6: 3 | AG6: 1 | AH6: 16 | AI6: 10 | AJ6: 34 | AK6: 6 | AL6: 5 | AM6: 34 | AN6: 4909 | AO6: 66 | AP6: =A6 -> בית שמש | AQ6: =E6 -> 23471 | AR6: =J6 -> 4829 | AS6: =I6+P6 -> 3226 | AT6: =V6+U6 -> 8004 | AU6: =AN6 -> 4909 | AW6: =AU6+AR6 -> 9738 | AX6: =AS6 -> 3226 | AY6: =AT6 -> 8004 | AZ6: =AW6/$AQ6 -> 0.41489498 | BA6: =AX6/$AQ6 -> 0.13744621 | BB6: =AY6/$AQ6 -> 0.34101657 | BC6: =SUM(AZ6:BB6) -> 0.89335776 | BD6: =AR6/AW6 -> 0.49589238
A7: ביתר עילית | B7: 3780 | C7: 13019 | D7: 9860 | E7: 9780 | F7: 80 | G7: 1 | H7: 1 | I7: 17 | J7: 4778 | K7: 0 | L7: 3 | M7: 1 | N7: 2 | O7: 0 | P7: 787 | Q7: 0 | R7: 0 | S7: 0 | T7: 6 | U7: 27 | V7: 132 | W7: 3 | X7: 0 | Y7: 0 | Z7: 0 | AA7: 0 | AB7: 0 | AC7: 1 | AD7: 0 | AE7: 0 | AF7: 0 | AG7: 0 | AH7: 0 | AI7: 0 | AJ7: 1 | AK7: 0 | AL7: 0 | AM7: 0 | AN7: 4020 | AO7: 21 | AP7: =A7 -> ביתר עילית | AQ7: =E7 -> 9780 | AR7: =J7 -> 4778 | AS7: =I7+P7 -> 804 | AT7: =V7+U7 -> 159 | AU7: =AN7 -> 4020 | AW7: =AU7+AR7 -> 8798 | AX7: =AS7 -> 804 | AY7: =AT7 -> 159 | AZ7: =AW7/$AQ7 -> 0.899591 | BA7: =AX7/$AQ7 -> 0.082208589 | BB7: =AY7/$AQ7 -> 0.016257669 | BC7: =SUM(AZ7:BB7) -> 0.99805726 | BD7: =AR7/AW7 -> 0.54307797
A8: בני ברק | B8: 6100 | C8: 88252 | D8: 63936 | E8: 63433 | F8: 503 | G8: 654 | H8: 14 | I8: 1530 | J8: 34802 | K8: 6 | L8: 61 | M8: 25 | N8: 113 | O8: 19 | P8: 1994 | Q8: 4 | R8: 3 | S8: 15 | T8: 1598 | U8: 1362 | V8: 3506 | W8: 138 | X8: 18 | Y8: 4 | Z8: 3 | AA8: 3 | AB8: 17 | AC8: 21 | AD8: 0 | AE8: 2 | AF8: 4 | AG8: 2 | AH8: 16 | AI8: 6 | AJ8: 37 | AK8: 3 | AL8: 6 | AM8: 34 | AN8: 17413 | AO8: 149 | AP8: =A8 -> בני ברק | AQ8: =E8 -> 63433 | AR8: =J8 -> 34802 | AS8: =I8+P8 -> 3524 | AT8: =V8+U8 -> 4868 | AU8: =AN8 -> 17413 | AW8: =AU8+AR8 -> 52215 | AX8: =AS8 -> 3524 | AY8: =AT8 -> 4868 | AZ8: =AW8/$AQ8 -> 0.82315199 | BA8: =AX8/$AQ8 -> 0.05555468 | BB8: =AY8/$AQ8 -> 0.07674239 | BC8: =SUM(AZ8:BB8) -> 0.95544906 | BD8: =AR8/AW8 -> 0.66651345
A9: גבעת זאב | B9: 3730 | C9: 7663 | D9: 5314 | E9: 5262 | F9: 52 | G9: 231 | H9: 1 | I9: 144 | J9: 159 | K9: 1 | L9: 50 | M9: 1 | N9: 29 | O9: 6 | P9: 298 | Q9: 1 | R9: 0 | S9: 8 | T9: 895 | U9: 463 | V9: 2294 | W9: 50 | X9: 1 | Y9: 0 | Z9: 1 | AA9: 0 | AB9: 0 | AC9: 3 | AD9: 0 | AE9: 1 | AF9: 0 | AG9: 4 | AH9: 8 | AI9: 0 | AJ9: 21 | AK9: 0 | AL9: 2 | AM9: 34 | AN9: 556 | AO9: 12 | AP9: =A9 -> גבעת זאב | AQ9: =E9 -> 5262 | AR9: =J9 -> 159 | AS9: =I9+P9 -> 442 | AT9: =V9+U9 -> 2757 | AU9: =AN9 -> 556 | AW9: =AU9+AR9 -> 715 | AX9: =AS9 -> 442 | AY9: =AT9 -> 2757 | AZ9: =AW9/$AQ9 -> 0.13587989 | BA9: =AX9/$AQ9 -> 0.08399848 | BB9: =AY9/$AQ9 -> 0.52394527 | BC9: =SUM(AZ9:BB9) -> 0.74382364 | BD9: =AR9/AW9 -> 0.22237762
A10: חצור הגלילית | B10: 2034 | C10: 6463 | D10: 3931 | E10: 3898 | F10: 33 | G10: 181 | H10: 0 | I10: 161 | J10: 566 | K10: 14 | L10: 2 | M10: 3 | N10: 4 | O10: 2 | P10: 125 | Q10: 0 | R10: 0 | S10: 0 | T10: 356 | U10: 644 | V10: 1174 | W10: 7 | X10: 1 | Y10: 0 | Z10: 0 | AA10: 1 | AB10: 3 | AC10: 6 | AD10: 0 | AE10: 0 | AF10: 1 | AG10: 3 | AH10: 2 | AI10: 1 | AJ10: 5 | AK10: 0 | AL10: 2 | AM10: 3 | AN10: 631 | AO10: 11 | AP10: =A10 -> חצור הגלילית | AQ10: =E10 -> 3898 | AR10: =J10 -> 566 | AS10: =I10+P10 -> 286 | AT10: =V10+U10 -> 1818 | AU10: =AN10 -> 631 | AW10: =AU10+AR10 -> 1197 | AX10: =AS10 -> 286 | AY10: =AT10 -> 1818 | AZ10: =AW10/$AQ10 -> 0.30708055 | BA10: =AX10/$AQ10 -> 0.073370959 | BB10: =AY10/$AQ10 -> 0.46639302 | BC10: =SUM(AZ10:BB10) -> 0.84684454 | BD10: =AR10/AW10 -> 0.47284879
A11: טבריה | B11: 6700 | C11: 32058 | D11: 16233 | E11: 16029 | F11: 204 | G11: 895 | H11: 5 | I11: 384 | J11: 423 | K11: 3 | L11: 22 | M11: 11 | N11: 58 | O11: 13 | P11: 403 | Q11: 1 | R11: 5 | S11: 2 | T11: 2364 | U11: 2530 | V11: 5684 | W11: 57 | X11: 8 | Y11: 2 | Z11: 5 | AA11: 1 | AB11: 12 | AC11: 6 | AD11: 0 | AE11: 3 | AF11: 3 | AG11: 3 | AH11: 11 | AI11: 9 | AJ11: 48 | AK11: 3 | AL11: 3 | AM11: 23 | AN11: 3029 | AO11: 54 | AP11: =A11 -> טבריה | AQ11: =E11 -> 16029 | AR11: =J11 -> 423 | AS11: =I11+P11 -> 787 | AT11: =V11+U11 -> 8214 | AU11: =AN11 -> 3029 | AW11: =AU11+AR11 -> 3452 | AX11: =AS11 -> 787 | AY11: =AT11 -> 8214 | AZ11: =AW11/$AQ11 -> 0.21535966 | BA11: =AX11/$AQ11 -> 0.049098509 | BB11: =AY11/$AQ11 -> 0.51244619 | BC11: =SUM(AZ11:BB11) -> 0.77690436 | BD11: =AR11/AW11 -> 0.12253766
A12: יבנאל | B12: 46 | C12: 2025 | D12: 1379 | E12: 1363 | F12: 16 | G12: 106 | H12: 0 | I12: 61 | J12: 57 | K12: 1 | L12: 10 | M12: 0 | N12: 3 | O12: 7 | P12: 23 | Q12: 2 | R12: 0 | S12: 2 | T12: 262 | U12: 65 | V12: 250 | W12: 18 | X12: 0 | Y12: 0 | Z12: 1 | AA12: 0 | AB12: 2 | AC12: 1 | AD12: 0 | AE12: 0 | AF12: 0 | AG12: 0 | AH12: 4 | AI12: 0 | AJ12: 3 | AK12: 1 | AL12: 0 | AM12: 0 | AN12: 484 | AO12: 3 | AP12: =A12 -> יבנאל | AQ12: =E12 -> 1363 | AR12: =J12 -> 57 | AS12: =I12+P12 -> 84 | AT12: =V12+U12 -> 315 | AU12: =AN12 -> 484 | AW12: =AU12+AR12 -> 541 | AX12: =AS12 -> 84 | AY12: =AT12 -> 315 | AZ12: =AW12/$AQ12 -> 0.39691856 | BA12: =AX12/$AQ12 -> 0.06162876 | BB12: =AY12/$AQ12 -> 0.23110785 | BC12: =SUM(AZ12:BB12) -> 0.68965517 | BD12: =AR12/AW12 -> 0.10536044
A13: ירוחם | B13: 831 | C13: 6028 | D13: 3393 | E13: 3315 | F13: 78 | G13: 145 | H13: 0 | I13: 283 | J13: 339 | K13: 1 | L13: 36 | M13: 3 | N13: 6 | O13: 9 | P13: 67 | Q13: 0 | R13: 0 | S13: 4 | T13: 401 | U13: 611 | V13: 688 | W13: 27 | X13: 8 | Y13: 5 | Z13: 0 | AA13: 0 | AB13: 22 | AC13: 4 | AD13: 0 | AE13: 1 | AF13: 0 | AG13: 0 | AH13: 9 | AI13: 6 | AJ13: 9 | AK13: 1 | AL13: 5 | AM13: 7 | AN13: 618 | AO13: 10 | AP13: =A13 -> ירוחם | AQ13: =E13 -> 3315 | AR13: =J13 -> 339 | AS13: =I13+P13 -> 350 | AT13: =V13+U13 -> 1299 | AU13: =AN13 -> 618 | AW13: =AU13+AR13 -> 957 | AX13: =AS13 -> 350 | AY13: =AT13 -> 1299 | AZ13: =AW13/$AQ13 -> 0.28868778 | BA13: =AX13/$AQ13 -> 0.10558069 | BB13: =AY13/$AQ13 -> 0.3918552 | BC13: =SUM(AZ13:BB13) -> 0.78612368 | BD13: =AR13/AW13 -> 0.35423197
... A23: ערד | B23: 922 | C23: 20293 | D23: 10972 | E23: 10739 | F23: 233 | G23: 826 | H23: 1 | I23: 87 | J23: 730 | K23: 12 | L23: 100 | M23: 24 | N23: 45 | O23: 27 | P23: 306 | Q23: 2 | R23: 3 | S23: 6 | T23: 2433 | U23: 3474 | V23: 1940 | W23: 217 | X23: 32 | Y23: 8 | Z23: 5 | AA23: 3 | AB23: 27 | AC23: 4 | AD23: 0 | AE23: 4 | AF23: 1 | AG23: 2 | AH23: 13 | AI23: 11 | AJ23: 55 | AK23: 5 | AL23: 8 | AM23: 33 | AN23: 295 | AO23: 34 | AP23: =A23 -> ערד | AQ23: =E23 -> 10739 | AR23: =J23 -> 730 | AS23: =I23+P23 -> 393 | AT23: =V23+U23 -> 5414 | AU23: =AN23 -> 295 | AW23: =AU23+AR23 -> 1025 | AX23: =AS23 -> 393 | AY23: =AT23 -> 5414 | AZ23: =AW23/$AQ23 -> 0.095446503 | BA23: =AX23/$AQ23 -> 0.036595586 | BB23: =AY23/$AQ23 -> 0.50414378 | BC23: =SUM(AZ23:BB23) -> 0.63618586 | BD23: =AR23/AW23 -> 0.71219512

Sheet 2013
A1: שם ישוב | B1: סמל ישוב | C1: בזב | D1: מצביעים | E1: פסולים | F1: כשרים | G1: אמת | H1: ג | I1: ד | J1: הי | K1: הפ | L1: הק | M1: ו | N1: ז | O1: זה | P1: זך | Q1: טב | R1: יק | S1: כן | T1: מחל | U1: מרץ | V1: נ | W1: ני | X1: נץ | Y1: נק | Z1: עם | AA1: פ | AB1: פה | AC1: פז | AD1: פי | AE1: פך | AF1: פנ | AG1: פץ | AH1: ץ | AI1: צפ | AJ1: צק | AK1: ק | AL1: קנ | AM1: רק | AN1: שס | AO1: מס' קלפיות | AQ1: =F1 -> כשרים | AR1: =H1 -> ג | AS1: =Q1 -> טב | AT1: =T1 -> מחל | AU1: =AN1 -> שס | AW1: חרדים | AX1: דתיים לאומיים | AY1: ליכוד | AZ1: אחוז מצביעים חרדיים | BA1: אחוז מצביעים דתיים לאומיים | BB1: אחוז מצביעי ליכוד | BC1: אחוז מצביעי ימין מדיני | BD1: אחוז יהדות התורה
A2: אופקים | B2: 31 | C2: 18364 | D2: 10879 | E2: 144 | F2: 10735 | G2: 443 | H2: 1564 | I2: 5 | J2: 2 | K2: 7 | L2: 2 | M2: 9 | N2: 25 | O2: 0 | P2: 7 | Q2: 1077 | R2: 96 | S2: 158 | T2: 2924 | U2: 74 | V2: 1 | W2: 5 | X2: 172 | Y2: 5 | Z2: 5 | AA2: 4 | AB2: 481 | AC2: 100 | AD2: 5 | AE2: 0 | AF2: 8 | AG2: 4 | AH2: 110 | AI2: 431 | AJ2: 11 | AK2: 4 | AL2: 112 | AM2: 13 | AN2: 2871 | AO2: 33 | AP2: =A2 -> אופקים | AQ2: =F2 -> 10735 | AR2: =H2 -> 1564 | AS2: =Q2 -> 1077 | AT2: =T2 -> 2924 | AU2: =AN2 -> 2871 | AW2: =AU2+AR2 -> 4435 | AX2: =AS2+X2 -> 1249 | AY2: =AT2 -> 2924 | AZ2: =AW2/$AQ2 -> 0.41313461 | BA2: =AX2/$AQ2 -> 0.11634839 | BB2: =AY2/$AQ2 -> 0.27238007 | BC2: =SUM(AZ2:BB2) -> 0.80186306 | BD2: =AR2/AW2 -> 0.35264938
A3: אלעד | B3: 1309 | C3: 16075 | D3: 14367 | E3: 66 | F3: 14301 | G3: 33 | H3: 5124 | I3: 0 | J3: 0 | K3: 0 | L3: 0 | M3: 1 | N3: 3 | O3: 0 | P3: 0 | Q3: 1083 | R3: 0 | S3: 1 | T3: 239 | U3: 2 | V3: 0 | W3: 0 | X3: 360 | Y3: 0 | Z3: 1 | AA3: 0 | AB3: 29 | AC3: 704 | AD3: 0 | AE3: 0 | AF3: 2 | AG3: 7 | AH3: 71 | AI3: 6 | AJ3: 0 | AK3: 1 | AL3: 6 | AM3: 2 | AN3: 6626 | AO3: 27 | AP3: =A3 -> אלעד | AQ3: =F3 -> 14301 | AR3: =H3 -> 5124 | AS3: =Q3 -> 1083 | AT3: =T3 -> 239 | AU3: =AN3 -> 6626 | AW3: =AU3+AR3 -> 11750 | AX3: =AS3+X3 -> 1443 | AY3: =AT3 -> 239 | AZ3: =AW3/$AQ3 -> 0.82162087 | BA3: =AX3/$AQ3 -> 0.10090203 | BB3: =AY3/$AQ3 -> 0.016712118 | BC3: =SUM(AZ3:BB3) -> 0.93923502 | BD3: =AR3/AW3 -> 0.43608511
A4: אשדוד | B4: 70 | C4: 166360 | D4: 104774 | E4: 1500 | F4: 103274 | G4: 6214 | H4: 10657 | I4: 27 | J4: 20 | K4: 147 | L4: 19 | M4: 29 | N4: 292 | O4: 0 | P4: 305 | Q4: 7319 | R4: 1596 | S4: 1439 | T4: 37325 | U4: 1103 | V4: 30 | W4: 33 | X4: 1087 | Y4: 76 | Z4: 84 | AA4: 46 | AB4: 10340 | AC4: 488 | AD4: 73 | AE4: 0 | AF4: 83 | AG4: 80 | AH4: 1265 | AI4: 3926 | AJ4: 150 | AK4: 46 | AL4: 1204 | AM4: 313 | AN4: 17458 | AO4: 278 | AP4: =A4 -> אשדוד | AQ4: =F4 -> 103274 | AR4: =H4 -> 10657 | AS4: =Q4 -> 7319 | AT4: =T4 -> 37325 | AU4: =AN4 -> 17458 | AW4: =AU4+AR4 -> 28115 | AX4: =AS4+X4 -> 8406 | AY4: =AT4 -> 37325 | AZ4: =AW4/$AQ4 -> 0.27223696 | BA4: =AX4/$AQ4 -> 0.081395124 | BB4: =AY4/$AQ4 -> 0.3614172 | BC4: =SUM(AZ4:BB4) -> 0.71504929 | BD4: =AR4/AW4 -> 0.37905033
A5: בית שאן | B5: 9200 | C5: 13249 | D5: 8393 | E5: 81 | F5: 8312 | G5: 392 | H5: 73 | I5: 0 | J5: 0 | K5: 9 | L5: 0 | M5: 3 | N5: 13 | O5: 0 | P5: 4 | Q5: 1251 | R5: 20 | S5: 196 | T5: 2922 | U5: 32 | V5: 3 | W5: 1 | X5: 180 | Y5: 2 | Z5: 8 | AA5: 3 | AB5: 366 | AC5: 94 | AD5: 4 | AE5: 0 | AF5: 9 | AG5: 2 | AH5: 89 | AI5: 180 | AJ5: 6 | AK5: 1 | AL5: 80 | AM5: 6 | AN5: 2363 | AO5: 21 | AP5: =A5 -> בית שאן | AQ5: =F5 -> 8312 | AR5: =H5 -> 73 | AS5: =Q5 -> 1251 | AT5: =T5 -> 2922 | AU5: =AN5 -> 2363 | AW5: =AU5+AR5 -> 2436 | AX5: =AS5+X5 -> 1431 | AY5: =AT5 -> 2922 | AZ5: =AW5/$AQ5 -> 0.29307026 | BA5: =AX5/$AQ5 -> 0.17216073 | BB5: =AY5/$AQ5 -> 0.35153994 | BC5: =SUM(AZ5:BB5) -> 0.81677093 | BD5: =AR5/AW5 -> 0.029967159
A6: בית שמש | B6: 2610 | C6: 46313 | D6: 29872 | E6: 279 | F6: 29593 | G6: 753 | H6: 8360 | I6: 2 | J6: 1 | K6: 11 | L6: 8 | M6: 20 | N6: 25 | O6: 0 | P6: 19 | Q6: 4271 | R6: 95 | S6: 141 | T6: 6741 | U6: 148 | V6: 2 | W6: 2 | X6: 858 | Y6: 4 | Z6: 16 | AA6: 4 | AB6: 1273 | AC6: 381 | AD6: 11 | AE6: 0 | AF6: 18 | AG6: 16 | AH6: 404 | AI6: 374 | AJ6: 10 | AK6: 8 | AL6: 165 | AM6: 19 | AN6: 5433 | AO6: 76 | AP6: =A6 -> בית שמש | AQ6: =F6 -> 29593 | AR6: =H6 -> 8360 | AS6: =Q6 -> 4271 | AT6: =T6 -> 6741 | AU6: =AN6 -> 5433 | AW6: =AU6+AR6 -> 13793 | AX6: =AS6+X6 -> 5129 | AY6: =AT6 -> 6741 | AZ6: =AW6/$AQ6 -> 0.46608995 | BA6: =AX6/$AQ6 -> 0.17331801 | BB6: =AY6/$AQ6 -> 0.22779036 | BC6: =SUM(AZ6:BB6) -> 0.86719832 | BD6: =AR6/AW6 -> 0.60610455
A7: ביתר עילית | B7: 3780 | C7: 16587 | D7: 14069 | E7: 72 | F7: 13997 | G7: 15 | H7: 8404 | I7: 1 | J7: 0 | K7: 0 | L7: 0 | M7: 2 | N7: 1 | O7: 0 | P7: 0 | Q7: 154 | R7: 2 | S7: 1 | T7: 137 | U7: 3 | V7: 1 | W7: 0 | X7: 737 | Y7: 0 | Z7: 0 | AA7: 1 | AB7: 10 | AC7: 198 | AD7: 0 | AE7: 0 | AF7: 6 | AG7: 4 | AH7: 51 | AI7: 1 | AJ7: 1 | AK7: 0 | AL7: 20 | AM7: 0 | AN7: 4247 | AO7: 30 | AP7: =A7 -> ביתר עילית | AQ7: =F7 -> 13997 | AR7: =H7 -> 8404 | AS7: =Q7 -> 154 | AT7: =T7 -> 137 | AU7: =AN7 -> 4247 | AW7: =AU7+AR7 -> 12651 | AX7: =AS7+X7 -> 891 | AY7: =AT7 -> 137 | AZ7: =AW7/$AQ7 -> 0.90383654 | BA7: =AX7/$AQ7 -> 0.063656498 | BB7: =AY7/$AQ7 -> 0.0097878117 | BC7: =SUM(AZ7:BB7) -> 0.97728085 | BD7: =AR7/AW7 -> 0.66429531
A8: בני ברק | B8: 6100 | C8: 96861 | D8: 75482 | E8: 335 | F8: 75147 | G8: 918 | H8: 44973 | I8: 13 | J8: 3 | K8: 11 | L8: 4 | M8: 19 | N8: 54 | O8: 0 | P8: 20 | Q8: 2676 | R8: 93 | S8: 165 | T8: 3027 | U8: 190 | V8: 3 | W8: 7 | X8: 1057 | Y8: 6 | Z8: 7 | AA8: 8 | AB8: 872 | AC8: 1083 | AD8: 11 | AE8: 0 | AF8: 8 | AG8: 12 | AH8: 327 | AI8: 321 | AJ8: 9 | AK8: 5 | AL8: 139 | AM8: 21 | AN8: 19085 | AO8: 163 | AP8: =A8 -> בני ברק | AQ8: =F8 -> 75147 | AR8: =H8 -> 44973 | AS8: =Q8 -> 2676 | AT8: =T8 -> 3027 | AU8: =AN8 -> 19085 | AW8: =AU8+AR8 -> 64058 | AX8: =AS8+X8 -> 3733 | AY8: =AT8 -> 3027 | AZ8: =AW8/$AQ8 -> 0.85243589 | BA8: =AX8/$AQ8 -> 0.049675968 | BB8: =AY8/$AQ8 -> 0.040281049 | BC8: =SUM(AZ8:BB8) -> 0.94239291 | BD8: =AR8/AW8 -> 0.70206688
A9: גבעת זאב | B9: 3730 | C9: 9282 | D9: 6931 | E9: 38 | F9: 6893 | G9: 328 | H9: 751 | I9: 1 | J9: 0 | K9: 4 | L9: 0 | M9: 2 | N9: 40 | O9: 0 | P9: 7 | Q9: 1026 | R9: 12 | S9: 74 | T9: 2113 | U9: 68 | V9: 0 | W9: 0 | X9: 280 | Y9: 0 | Z9: 0 | AA9: 0 | AB9: 777 | AC9: 52 | AD9: 0 | AE9: 0 | AF9: 3 | AG9: 1 | AH9: 122 | AI9: 164 | AJ9: 2 | AK9: 2 | AL9: 74 | AM9: 96 | AN9: 894 | AO9: 16 | AP9: =A9 -> גבעת זאב | AQ9: =F9 -> 6893 | AR9: =H9 -> 751 | AS9: =Q9 -> 1026 | AT9: =T9 -> 2113 | AU9: =AN9 -> 894 | AW9: =AU9+AR9 -> 1645 | AX9: =AS9+X9 -> 1306 | AY9: =AT9 -> 2113 | AZ9: =AW9/$AQ9 -> 0.2386479 | BA9: =AX9/$AQ9 -> 0.18946758 | BB9: =AY9/$AQ9 -> 0.30654287 | BC9: =SUM(AZ9:BB9) -> 0.73465835 | BD9: =AR9/AW9 -> 0.45653495
A10: חצור הגלילית | B10: 2034 | C10: 6799 | D10: 4471 | E10: 53 | F10: 4418 | G10: 230 | H10: 638 | I10: 1 | J10: 0 | K10: 2 | L10: 0 | M10: 1 | N10: 7 | O10: 0 | P10: 8 | Q10: 548 | R10: 8 | S10: 59 | T10: 1475 | U10: 16 | V10: 0 | W10: 0 | X10: 94 | Y10: 0 | Z10: 1 | AA10: 1 | AB10: 297 | AC10: 43 | AD10: 1 | AE10: 0 | AF10: 2 | AG10: 7 | AH10: 81 | AI10: 100 | AJ10: 3 | AK10: 1 | AL10: 34 | AM10: 4 | AN10: 756 | AO10: 11 | AP10: =A10 -> חצור הגלילית | AQ10: =F10 -> 4418 | AR10: =H10 -> 638 | AS10: =Q10 -> 548 | AT10: =T10 -> 1475 | AU10: =AN10 -> 756 | AW10: =AU10+AR10 -> 1394 | AX10: =AS10+X10 -> 642 | AY10: =AT10 -> 1475 | AZ10: =AW10/$AQ10 -> 0.31552739 | BA10: =AX10/$AQ10 -> 0.14531462 | BB10: =AY10/$AQ10 -> 0.33386148 | BC10: =SUM(AZ10:BB10) -> 0.79470349 | BD10: =AR10/AW10 -> 0.45767575
A11: טבריה | B11: 6700 | C11: 33054 | D11: 17896 | E11: 191 | F11: 17705 | G11: 986 | H11: 702 | I11: 2 | J11: 1 | K11: 13 | L11: 0 | M11: 15 | N11: 33 | O11: 0 | P11: 25 | Q11: 1784 | R11: 137 | S11: 366 | T11: 6264 | U11: 108 | V11: 6 | W11: 8 | X11: 293 | Y11: 3 | Z11: 9 | AA11: 3 | AB11: 1485 | AC11: 212 | AD11: 13 | AE11: 0 | AF11: 12 | AG11: 14 | AH11: 314 | AI11: 655 | AJ11: 17 | AK11: 4 | AL11: 190 | AM11: 32 | AN11: 3999 | AO11: 57 | AP11: =A11 -> טבריה | AQ11: =F11 -> 17705 | AR11: =H11 -> 702 | AS11: =Q11 -> 1784 | AT11: =T11 -> 6264 | AU11: =AN11 -> 3999 | AW11: =AU11+AR11 -> 4701 | AX11: =AS11+X11 -> 2077 | AY11: =AT11 -> 6264 | AZ11: =AW11/$AQ11 -> 0.26551822 | BA11: =AX11/$AQ11 -> 0.11731149 | BB11: =AY11/$AQ11 -> 0.35379836 | BC11: =SUM(AZ11:BB11) -> 0.73662807 | BD11: =AR11/AW11 -> 0.14932993
A12: יבנאל | B12: 46 | C12: 2241 | D12: 1635 | E12: 10 | F12: 1625 | G12: 94 | H12: 33 | I12: 0 | J12: 0 | K12: 2 | L12: 0 | M12: 4 | N12: 14 | O12: 0 | P12: 0 | Q12: 137 | R12: 0 | S12: 26 | T12: 228 | U12: 26 | V12: 0 | W12: 0 | X12: 42 | Y12: 0 | Z12: 0 | AA12: 0 | AB12: 210 | AC12: 32 | AD12: 0 | AE12: 0 | AF12: 1 | AG12: 0 | AH12: 20 | AI12: 45 | AJ12: 1 | AK12: 0 | AL12: 5 | AM12: 0 | AN12: 705 | AO12: 3 | AP12: =A12 -> יבנאל | AQ12: =F12 -> 1625 | AR12: =H12 -> 33 | AS12: =Q12 -> 137 | AT12: =T12 -> 228 | AU12: =AN12 -> 705 | AW12: =AU12+AR12 -> 738 | AX12: =AS12+X12 -> 179 | AY12: =AT12 -> 228 | AZ12: =AW12/$AQ12 -> 0.45415385 | BA12: =AX12/$AQ12 -> 0.11015385 | BB12: =AY12/$AQ12 -> 0.14030769 | BC12: =SUM(AZ12:BB12) -> 0.70461538 | BD12: =AR12/AW12 -> 0.044715447
A13: ירוחם | B13: 831 | C13: 6345 | D13: 3824 | E13: 71 | F13: 3753 | G13: 224 | H13: 369 | I13: 7 | J13: 2 | K13: 10 | L13: 2 | M13: 2 | N13: 13 | O13: 0 | P13: 8 | Q13: 592 | R13: 41 | S13: 38 | T13: 929 | U13: 51 | V13: 1 | W13: 1 | X13: 69 | Y13: 2 | Z13: 26 | AA13: 2 | AB13: 231 | AC13: 68 | AD13: 3 | AE13: 0 | AF13: 8 | AG13: 1 | AH13: 78 | AI13: 204 | AJ13: 2 | AK13: 5 | AL13: 54 | AM13: 6 | AN13: 704 | AO13: 11 | AP13: =A13 -> ירוחם | AQ13: =F13 -> 3753 | AR13: =H13 -> 369 | AS13: =Q13 -> 592 | AT13: =T13 -> 929 | AU13: =AN13 -> 704 | AW13: =AU13+AR13 -> 1073 | AX13: =AS13+X13 -> 661 | AY13: =AT13 -> 929 | AZ13: =AW13/$AQ13 -> 0.28590461 | BA13: =AX13/$AQ13 -> 0.17612577 | BB13: =AY13/$AQ13 -> 0.24753531 | BC13: =SUM(AZ13:BB13) -> 0.70956568 | BD13: =AR13/AW13 -> 0.34389562
... A22: רכסים | B22: 922 | C22: 5102 | D22: 4343 | E22: 17 | F22: 4326 | G22: 50 | H22: 1849 | I22: 0 | J22: 0 | K22: 2 | L22: 0 | M22: 0 | N22: 3 | O22: 0 | P22: 0 | Q22: 138 | R22: 2 | S22: 13 | T22: 253 | U22: 5 | V22: 0 | W22: 0 | X22: 32 | Y22: 0 | Z22: 0 | AA22: 0 | AB22: 94 | AC22: 76 | AD22: 0 | AE22: 0 | AF22: 1 | AG22: 1 | AH22: 29 | AI22: 20 | AJ22: 0 | AK22: 0 | AL22: 7 | AM22: 1 | AN22: 1750 | AO22: 9 | AP22: =A22 -> רכסים | AQ22: =F22 -> 4326 | AR22: =H22 -> 1849 | AS22: =Q22 -> 138 | AT22: =T22 -> 253 | AU22: =AN22 -> 1750 | AW22: =AU22+AR22 -> 3599 | AX22: =AS22+X22 -> 170 | AY22: =AT22 -> 253 | AZ22: =AW22/$AQ22 -> 0.83194637 | BA22: =AX22/$AQ22 -> 0.039297272 | BB22: =AY22/$AQ22 -> 0.058483588 | BC22: =SUM(AZ22:BB22) -> 0.92972723 | BD22: =AR22/AW22 -> 0.51375382
A23: ערד | B23: 922 | C23: 20736 | D23: 11609 | E23: 241 | F23: 11368 | G23: 1273 | H23: 1469 | I23: 19 | J23: 3 | K23: 34 | L23: 12 | M23: 24 | N23: 96 | O23: 0 | P23: 25 | Q23: 719 | R23: 224 | S23: 135 | T23: 3808 | U23: 303 | V23: 4 | W23: 7 | X23: 215 | Y23: 9 | Z23: 35 | AA23: 3 | AB23: 1605 | AC23: 28 | AD23: 13 | AE23: 0 | AF23: 12 | AG23: 20 | AH23: 157 | AI23: 579 | AJ23: 11 | AK23: 17 | AL23: 196 | AM23: 33 | AN23: 280 | AO23: 34 | AP23: ערד | AQ23: 11368 | AR23: 1469 | AS23: 719 | AT23: 3808 | AU23: 280 | AW23: =AU23+AR23 -> 1749 | AX23: =AS23+X23 -> 934 | AY23: =AT23 -> 3808 | AZ23: =AW23/$AQ23 -> 0.15385292 | BA23: =AX23/$AQ23 -> 0.08216045 | BB23: =AY23/$AQ23 -> 0.33497537 | BC23: =SUM(AZ23:BB23) -> 0.57098874 | BD23: =AR23/AW23 -> 0.83990852
C24: =SUM(C2:C23) -> 914020 | D24: =SUM(D2:D23) -> 611738 | E24: =SUM(E2:E23) -> 5603 | F24: =SUM(F2:F23) -> 606135 | G24: =SUM(G2:G23) -> 28851 | H24: =SUM(H2:H23) -> 157910 | I24: =SUM(I2:I23) -> 885 | J24: =SUM(J2:J23) -> 49 | ... AN24: =SUM(AN2:AN23) -> 119690
G25: =G24/$F$24 -> 0.047598307 | H25: =H24/$F$24 -> 0.26051952 | I25: =I24/$F$24 -> 0.0014600708 | J25: =J24/$F$24 -> 8.0840077e-05 | K25: =K24/$F$24 -> 0.00062857284 | L25: =L24/$F$24 -> 0.00010228744 | M25: =M24/$F$24 -> 0.0020985424 | N25: =N24/$F$24 -> 0.0024136537 | ... AN25: =AN24/$F$24 -> 0.19746426

Sheet 2015
A1: שם ישוב | B1: סמל ישוב | C1: בזב | D1: מצביעים | E1: פסולים | F1: כשרים | G1: אמת | H1: ג | I1: ודעם | J1: ז | K1: זך | L1: זץ | M1: טב | N1: י | O1: יז | P1: יך | Q1: יץ | R1: כ | S1: ל | T1: מחל | U1: מרצ | V1: נז | W1: ני | X1: נץ | Y1: ע | Z1: פה | AA1: ף | AB1: ףץ | AC1: קנ | AD1: קץ | AE1: רק | AF1: שס | AG1: מס' קלפיות | AI1: =F1 -> כשרים | AJ1: =H1 -> ג | AK1: =M1 -> טב | AL1: מחל + ישראל ביתינו | AM1: =AD1 -> קץ | AN1: =AF1 -> שס | AP1: חרדים | AQ1: דתיים לאומיים | AR1: ליכוד | AS1: אחוז מצביעים חרדיים | AT1: אחוז מצביעים דתיים לאומיים | AU1: אחוז מצביעי ליכוד | AV1: אחוז מצביעי ימין מדיני | AW1: אחוז יהדות התורה
A2: אופקים | B2: 31 | C2: 18915 | D2: 12637 | E2: 184 | F2: 12453 | G2: 650 | H2: 1808 | I2: 9 | J2: 1 | K2: 3 | L2: 2 | M2: 730 | N2: 3 | O2: 0 | P2: 0 | Q2: 0 | R2: 625 | S2: 1258 | T2: 3752 | U2: 66 | V2: 5 | W2: 0 | X2: 4 | Y2: 7 | Z2: 378 | AA2: 8 | AB2: 4 | AC2: 116 | AD2: 569 | AE2: 5 | AF2: 2450 | AG2: 33 | AH2: =A2 -> אופקים | AI2: =F2 -> 12453 | AJ2: =H2 -> 1808 | AK2: =M2 -> 730 | AL2: =T2+S2 -> 5010 | AM2: =AD2 -> 569 | AN2: =AF2 -> 2450 | AP2: =AN2+AJ2 -> 4258 | AQ2: =AK2+AM2 -> 1299 | AR2: =AL2 -> 5010 | AS2: =AP2/$AI2 -> 0.34192564 | AT2: =AQ2/$AI2 -> 0.10431221 | AU2: =AR2/$AI2 -> 0.4023127 | AV2: =SUM(AS2:AU2) -> 0.84855055 | AW2: =AJ2/AP2 -> 0.42461249
A3: אלעד | B3: 1309 | C3: 17047 | D3: 15105 | E3: 228 | F3: 14877 | G3: 30 | H3: 5000 | I3: 1 | J3: 0 | K3: 0 | L3: 0 | M3: 754 | N3: 1 | O3: 0 | P3: 0 | Q3: 0 | R3: 69 | S3: 13 | T3: 663 | U3: 2 | V3: 6 | W3: 0 | X3: 2 | Y3: 0 | Z3: 12 | AA3: 0 | AB3: 10 | AC3: 25 | AD3: 2094 | AE3: 2 | AF3: 6193 | AG3: 27 | AH3: =A3 -> אלעד | AI3: =F3 -> 14877 | AJ3: =H3 -> 5000 | AK3: =M3 -> 754 | AL3: =T3+S3 -> 676 | AM3: =AD3 -> 2094 | AN3: =AF3 -> 6193 | AP3: =AN3+AJ3 -> 11193 | AQ3: =AK3+AM3 -> 2848 | AR3: =AL3 -> 676 | AS3: =AP3/$AI3 -> 0.75236943 | AT3: =AQ3/$AI3 -> 0.19143645 | AU3: =AR3/$AI3 -> 0.045439269 | AV3: =SUM(AS3:AU3) -> 0.98924514 | AW3: =AJ3/AP3 -> 0.44670776
A4: אשדוד | B4: 70 | C4: 170193 | D4: 115145 | E4: 1942 | F4: 113203 | G4: 9694 | H4: 11132 | I4: 33 | J4: 7 | K4: 4 | L4: 15 | M4: 5486 | N4: 43 | O4: 6 | P4: 0 | Q4: 10 | R4: 8616 | S4: 15127 | T4: 35653 | U4: 854 | V4: 27 | W4: 26 | X4: 14 | Y4: 10 | Z4: 8841 | AA4: 26 | AB4: 74 | AC4: 1322 | AD4: 4180 | AE4: 80 | AF4: 11923 | AG4: 282 | AH4: =A4 -> אשדוד | AI4: =F4 -> 113203 | AJ4: =H4 -> 11132 | AK4: =M4 -> 5486 | AL4: =T4+S4 -> 50780 | AM4: =AD4 -> 4180 | AN4: =AF4 -> 11923 | AP4: =AN4+AJ4 -> 23055 | AQ4: =AK4+AM4 -> 9666 | AR4: =AL4 -> 50780 | AS4: =AP4/$AI4 -> 0.20366068 | AT4: =AQ4/$AI4 -> 0.08538643 | AU4: =AR4/$AI4 -> 0.44857468 | AV4: =SUM(AS4:AU4) -> 0.73762179 | AW4: =AJ4/AP4 -> 0.48284537
A5: בית שאן | B5: 9200 | C5: 13392 | D5: 9408 | E5: 97 | F5: 9311 | G5: 467 | H5: 88 | I5: 31 | J5: 1 | K5: 0 | L5: 6 | M5: 595 | N5: 1 | O5: 0 | P5: 0 | Q5: 0 | R5: 666 | S5: 236 | T5: 4742 | U5: 27 | V5: 3 | W5: 0 | X5: 3 | Y5: 3 | Z5: 287 | AA5: 2 | AB5: 11 | AC5: 69 | AD5: 322 | AE5: 6 | AF5: 1745 | AG5: 22 | AH5: =A5 -> בית שאן | AI5: =F5 -> 9311 | AJ5: =H5 -> 88 | AK5: =M5 -> 595 | AL5: =T5+S5 -> 4978 | AM5: =AD5 -> 322 | AN5: =AF5 -> 1745 | AP5: =AN5+AJ5 -> 1833 | AQ5: =AK5+AM5 -> 917 | AR5: =AL5 -> 4978 | AS5: =AP5/$AI5 -> 0.19686392 | AT5: =AQ5/$AI5 -> 0.098485662 | AU5: =AR5/$AI5 -> 0.53463645 | AV5: =SUM(AS5:AU5) -> 0.82998604 | AW5: =AJ5/AP5 -> 0.048008729
A6: בית שמש | B6: 2610 | C6: 50926 | D6: 34382 | E6: 504 | F6: 33878 | G6: 1111 | H6: 9589 | I6: 8 | J6: 1 | K6: 1 | L6: 1 | M6: 3053 | N6: 0 | O6: 0 | P6: 0 | Q6: 0 | R6: 1187 | S6: 1321 | T6: 9051 | U6: 162 | V6: 34 | W6: 3 | X6: 4 | Y6: 1 | Z6: 881 | AA6: 2 | AB6: 10 | AC6: 169 | AD6: 2421 | AE6: 8 | AF6: 4860 | AG6: 82 | AH6: =A6 -> בית שמש | AI6: =F6 -> 33878 | AJ6: =H6 -> 9589 | AK6: =M6 -> 3053 | AL6: =T6+S6 -> 10372 | AM6: =AD6 -> 2421 | AN6: =AF6 -> 4860 | AP6: =AN6+AJ6 -> 14449 | AQ6: =AK6+AM6 -> 5474 | AR6: =AL6 -> 10372 | AS6: =AP6/$AI6 -> 0.42650097 | AT6: =AQ6/$AI6 -> 0.16157979 | AU6: =AR6/$AI6 -> 0.30615739 | AV6: =SUM(AS6:AU6) -> 0.89423815 | AW6: =AJ6/AP6 -> 0.66364454
