Workbook

Sheet Sheet1
A1: שם ישוב
A2: אופקים
A3: אלעד
A4: אשדוד
A5: בית שאן
A6: בית שמש
A7: ביתר עילית
A8: בני ברק
A9: גבעת זאב
A10: חצור הגלילית
A11: טבריה
A12: יבנאל
... A22: רכסים

Sheet 1999
A1: שם ישוב | B1: סמל ישוב | C1: ב ז ב | D1: מצביעים | E1: פסולים | F1: כשרים | G1: מס' רץ | H1: אמת | I1: ב | J1: ג | K1: ד | L1: הד | M1: ו | N1: ז | O1: זך | P1: יט | Q1: ים | R1: יש | S1: כן | T1: ל | U1: ם | V1: מחל | W1: מרצ | X1: נ | Y1: ני | Z1: נץ | AA1: עם | AB1: פ | AC1: פה | AD1: פז | AE1: ץ | AF1: ק | AG1: קז | AH1: קם | AI1: קנ | AJ1: קפ | AK1: קץ | AL1: רם | AM1: רק | AN1: שס | AO1: ס"ה מחושב | AP1: מס' קלפיות | AR1: =F1 -> כשרים | AS1: =J1 -> ג | AT1: טב | AU1: =V1 -> מחל | AV1: =AN1 -> שס | AX1: חרדים | AY1: דתיים לאומיים | AZ1: ליכוד | BA1: אחוז מצביעים חרדיים | BB1: אחוז מצביעים דתיים לאומיים | BC1: אחוז מצביעי ליכוד | BD1: אחוז מצביעי ימין מדיני | BE1: אחוז יהדות התורה
A2: אופקים | B2: 31 | C2: 14680 | D2: 10957 | E2: 297 | F2: 10660 | G2: 759 | H2: 739 | I2: 438 | J2: 1067 | K2: 7 | L2: 87 | M2: 8 | N2: 8 | O2: 13 | P2: 127 | Q2: 55 | R2: 141 | S2: 1387 | T2: 652 | U2: 316 | V2: 1180 | W2: 318 | X2: 12 | Y2: 0 | Z2: 194 | AA2: 10 | AB2: 76 | AC2: 229 | AD2: 24 | AE2: 9 | AF2: 0 | AG2: 20 | AH2: 4 | AI2: 79 | AJ2: 6 | AK2: 75 | AL2: 10 | AM2: 28 | AN2: 3341 | AO2: 10660 | AP2: 23 | AQ2: =A2 -> אופקים | AR2: =F2 -> 10660 | AS2: =J2 -> 1067 | AT2: =I2+P2 -> 565 | AU2: =V2 -> 1180 | AV2: =AN2 -> 3341 | AX2: =AV2+AS2 -> 4408 | AY2: =AT2+Q2 -> 620 | AZ2: =AU2 -> 1180 | BA2: =AX2/$AR2 -> 0.41350844 | BB2: =AY2/$AR2 -> 0.058161351 | BC2: =AZ2/$AR2 -> 0.11069418 | BD2: =SUM(BA2:BC2) -> 0.58236398 | BE2: =AS2/AX2 -> 0.24205989
A3: אלעד | B3: 1309 | C3: 304 | D3: 246 | E3: 1 | F3: 245 | G3: 1864 | H3: 1 | I3: 24 | J3: 85 | K3: 0 | L3: 0 | M3: 0 | N3: 0 | O3: 0 | P3: 3 | Q3: 0 | R3: 0 | S3: 1 | T3: 4 | U3: 0 | V3: 3 | W3: 0 | X3: 0 | Y3: 0 | Z3: 1 | AA3: 1 | AB3: 0 | AC3: 0 | AD3: 1 | AE3: 0 | AF3: 0 | AG3: 0 | AH3: 0 | AI3: 0 | AJ3: 0 | AK3: 2 | AL3: 0 | AM3: 0 | AN3: 119 | AO3: 245 | AP3: 1 | AQ3: =A3 -> אלעד | AR3: =F3 -> 245 | AS3: =J3 -> 85 | AT3: =I3+P3 -> 27 | AU3: =V3 -> 3 | AV3: =AN3 -> 119 | AX3: =AV3+AS3 -> 204 | AY3: =AT3+Q3 -> 27 | AZ3: =AU3 -> 3 | BA3: =AX3/$AR3 -> 0.83265306 | BB3: =AY3/$AR3 -> 0.11020408 | BC3: =AZ3/$AR3 -> 0.012244898 | BD3: =SUM(BA3:BC3) -> 0.95510204 | BE3: =AS3/AX3 -> 0.41666667
A4: אשדוד | B4: 70 | C4: 115848 | D4: 86938 | E4: 2204 | F4: 84734 | G4: 28475 | H4: 8764 | I4: 2000 | J4: 4845 | K4: 21 | L4: 212 | M4: 48 | N4: 42 | O4: 55 | P4: 1742 | Q4: 255 | R4: 3787 | S4: 10187 | T4: 9031 | U4: 3296 | V4: 9237 | W4: 4214 | X4: 85 | Y4: 0 | Z4: 41 | AA4: 89 | AB4: 997 | AC4: 3037 | AD4: 592 | AE4: 101 | AF4: 0 | AG4: 166 | AH4: 53 | AI4: 547 | AJ4: 62 | AK4: 380 | AL4: 114 | AM4: 247 | AN4: 20487 | AO4: 84734 | AP4: 170 | AQ4: =A4 -> אשדוד | AR4: =F4 -> 84734 | AS4: =J4 -> 4845 | AT4: =I4+P4 -> 3742 | AU4: =V4 -> 9237 | AV4: =AN4 -> 20487 | AX4: =AV4+AS4 -> 25332 | AY4: =AT4+Q4 -> 3997 | AZ4: =AU4 -> 9237 | BA4: =AX4/$AR4 -> 0.2989591 | BB4: =AY4/$AR4 -> 0.047171147 | BC4: =AZ4/$AR4 -> 0.10901173 | BD4: =SUM(BA4:BC4) -> 0.45514197 | BE4: =AS4/AX4 -> 0.19126007
A5: בית שאן | B5: 9200 | C5: 10742 | D5: 8357 | E5: 174 | F5: 8183 | G5: 102495 | H5: 833 | I5: 530 | J5: 324 | K5: 1 | L5: 57 | M5: 4 | N5: 4 | O5: 6 | P5: 210 | Q5: 1 | R5: 149 | S5: 214 | T5: 80 | U5: 131 | V5: 1584 | W5: 145 | X5: 5 | Y5: 0 | Z5: 2 | AA5: 15 | AB5: 105 | AC5: 278 | AD5: 30 | AE5: 2 | AF5: 0 | AG5: 22 | AH5: 5 | AI5: 96 | AJ5: 1 | AK5: 9 | AL5: 5 | AM5: 17 | AN5: 3318 | AO5: 8183 | AP5: 15 | AQ5: =A5 -> בית שאן | AR5: =F5 -> 8183 | AS5: =J5 -> 324 | AT5: =I5+P5 -> 740 | AU5: =V5 -> 1584 | AV5: =AN5 -> 3318 | AX5: =AV5+AS5 -> 3642 | AY5: =AT5+Q5 -> 741 | AZ5: =AU5 -> 1584 | BA5: =AX5/$AR5 -> 0.44506905 | BB5: =AY5/$AR5 -> 0.090553587 | BC5: =AZ5/$AR5 -> 0.19357204 | BD5: =SUM(BA5:BC5) -> 0.72919467 | BE5: =AS5/AX5 -> 0.088962109
A6: בית שמש | B6: 2610 | C6: 19486 | D6: 15438 | E6: 282 | F6: 15156 | G6: 67890 | H6: 1291 | I6: 970 | J6: 1279 | K6: 1 | L6: 40 | M6: 10 | N6: 3 | O6: 9 | P6: 752 | Q6: 24 | R6: 511 | S6: 1274 | T6: 808 | U6: 129 | V6: 2615 | W6: 426 | X6: 5 | Y6: 0 | Z6: 6 | AA6: 14 | AB6: 165 | AC6: 472 | AD6: 47 | AE6: 2 | AF6: 0 | AG6: 34 | AH6: 6 | AI6: 128 | AJ6: 2 | AK6: 71 | AL6: 13 | AM6: 50 | AN6: 3999 | AO6: 15156 | AP6: 31 | AQ6: =A6 -> בית שמש | AR6: =F6 -> 15156 | AS6: =J6 -> 1279 | AT6: =I6+P6 -> 1722 | AU6: =V6 -> 2615 | AV6: =AN6 -> 3999 | AX6: =AV6+AS6 -> 5278 | AY6: =AT6+Q6 -> 1746 | AZ6: =AU6 -> 2615 | BA6: =AX6/$AR6 -> 0.34824492 | BB6: =AY6/$AR6 -> 0.1152019 | BC6: =AZ6/$AR6 -> 0.17253893 | BD6: =SUM(BA6:BC6) -> 0.63598575 | BE6: =AS6/AX6 -> 0.24232664
A7: בית"ר עילית | B7: 3780 | C7: 4650 | D7: 4267 | E7: 32 | F7: 4235 | G7: 22169 | H7: 2 | I7: 20 | J7: 2156 | K7: 0 | L7: 0 | M7: 1 | N7: 0 | O7: 1 | P7: 203 | Q7: 1 | R7: 2 | S7: 6 | T7: 14 | U7: 0 | V7: 22 | W7: 3 | X7: 0 | Y7: 0 | Z7: 0 | AA7: 0 | AB7: 0 | AC7: 1 | AD7: 0 | AE7: 0 | AF7: 0 | AG7: 0 | AH7: 0 | AI7: 5 | AJ7: 0 | AK7: 0 | AL7: 0 | AM7: 1 | AN7: 1797 | AO7: 4235 | AP7: 7 | AQ7: =A7 -> בית"ר עילית | AR7: =F7 -> 4235 | AS7: =J7 -> 2156 | AT7: =I7+P7 -> 223 | AU7: =V7 -> 22 | AV7: =AN7 -> 1797 | AX7: =AV7+AS7 -> 3953 | AY7: =AT7+Q7 -> 224 | AZ7: =AU7 -> 22 | BA7: =AX7/$AR7 -> 0.93341204 | BB7: =AY7/$AR7 -> 0.052892562 | BC7: =AZ7/$AR7 -> 0.0051948052 | BD7: =SUM(BA7:BC7) -> 0.99149941 | BE7: =AS7/AX7 -> 0.54540855
A8: בני ברק | B8: 6100 | C8: 75340 | D8: 60913 | E8: 827 | F8: 60086 | G8: 488124 | H8: 2659 | I8: 4041 | J8: 28808 | K8: 8 | L8: 62 | M8: 35 | N8: 5 | O8: 23 | P8: 1473 | Q8: 33 | R8: 769 | S8: 1172 | T8: 465 | U8: 210 | V8: 3959 | W8: 662 | X8: 22 | Y8: 0 | Z8: 13 | AA8: 22 | AB8: 273 | AC8: 855 | AD8: 505 | AE8: 21 | AF8: 0 | AG8: 44 | AH8: 4 | AI8: 179 | AJ8: 9 | AK8: 52 | AL8: 8 | AM8: 61 | AN8: 13634 | AO8: 60086 | AP8: 117 | AQ8: =A8 -> בני ברק | AR8: =F8 -> 60086 | AS8: =J8 -> 28808 | AT8: =I8+P8 -> 5514 | AU8: =V8 -> 3959 | AV8: =AN8 -> 13634 | AX8: =AV8+AS8 -> 42442 | AY8: =AT8+Q8 -> 5547 | AZ8: =AU8 -> 3959 | BA8: =AX8/$AR8 -> 0.70635423 | BB8: =AY8/$AR8 -> 0.092317678 | BC8: =AZ8/$AR8 -> 0.065888893 | BD8: =SUM(BA8:BC8) -> 0.8645608 | BE8: =AS8/AX8 -> 0.6787616
A9: גבעת זאב | B9: 3730 | C9: 5896 | D9: 4979 | E9: 38 | F9: 4941 | G9: 31245 | H9: 578 | I9: 201 | J9: 124 | K9: 0 | L9: 15 | M9: 4 | N9: 2 | O9: 0 | P9: 334 | Q9: 4 | R9: 412 | S9: 100 | T9: 88 | U9: 46 | V9: 1550 | W9: 224 | X9: 1 | Y9: 0 | Z9: 0 | AA9: 1 | AB9: 74 | AC9: 473 | AD9: 21 | AE9: 3 | AF9: 0 | AG9: 5 | AH9: 0 | AI9: 51 | AJ9: 0 | AK9: 2 | AL9: 3 | AM9: 11 | AN9: 614 | AO9: 4941 | AP9: 10 | AQ9: =A9 -> גבעת זאב | AR9: =F9 -> 4941 | AS9: =J9 -> 124 | AT9: =I9+P9 -> 535 | AU9: =V9 -> 1550 | AV9: =AN9 -> 614 | AX9: =AV9+AS9 -> 738 | AY9: =AT9+Q9 -> 539 | AZ9: =AU9 -> 1550 | BA9: =AX9/$AR9 -> 0.14936248 | BB9: =AY9/$AR9 -> 0.10908723 | BC9: =AZ9/$AR9 -> 0.31370168 | BD9: =SUM(BA9:BC9) -> 0.57215139 | BE9: =AS9/AX9 -> 0.16802168
A10: חצור הגלילית | B10: 2034 | C10: 5940 | D10: 4723 | E10: 99 | F10: 4624 | G10: 17253 | H10: 436 | I10: 340 | J10: 510 | K10: 0 | L10: 29 | M10: 1 | N10: 1 | O10: 2 | P10: 129 | Q10: 0 | R10: 79 | S10: 222 | T10: 250 | U10: 84 | V10: 1002 | W10: 43 | X10: 1 | Y10: 0 | Z10: 1 | AA10: 3 | AB10: 73 | AC10: 112 | AD10: 12 | AE10: 8 | AF10: 0 | AG10: 9 | AH10: 2 | AI10: 46 | AJ10: 3 | AK10: 9 | AL10: 1 | AM10: 10 | AN10: 1206 | AO10: 4624 | AP10: 9 | AQ10: =A10 -> חצור הגלילית | AR10: =F10 -> 4624 | AS10: =J10 -> 510 | AT10: =I10+P10 -> 469 | AU10: =V10 -> 1002 | AV10: =AN10 -> 1206 | AX10: =AV10+AS10 -> 1716 | AY10: =AT10+Q10 -> 469 | AZ10: =AU10 -> 1002 | BA10: =AX10/$AR10 -> 0.37110727 | BB10: =AY10/$AR10 -> 0.10142734 | BC10: =AZ10/$AR10 -> 0.2166955 | BD10: =SUM(BA10:BC10) -> 0.6892301 | BE10: =AS10/AX10 -> 0.2972028
A11: טבריה | B11: 6700 | C11: 28699 | D11: 21102 | E11: 411 | F11: 20691 | G11: 210485 | H11: 2191 | I11: 910 | J11: 493 | K11: 5 | L11: 120 | M11: 16 | N11: 7 | O11: 9 | P11: 576 | Q11: 30 | R11: 710 | S11: 1181 | T11: 927 | U11: 372 | V11: 4999 | W11: 433 | X11: 18 | Y11: 0 | Z11: 10 | AA11: 21 | AB11: 395 | AC11: 1127 | AD11: 177 | AE11: 23 | AF11: 0 | AG11: 56 | AH11: 10 | AI11: 238 | AJ11: 13 | AK11: 61 | AL11: 15 | AM11: 52 | AN11: 5496 | AO11: 20691 | AP11: 43 | AQ11: =A11 -> טבריה | AR11: =F11 -> 20691 | AS11: =J11 -> 493 | AT11: =I11+P11 -> 1486 | AU11: =V11 -> 4999 | AV11: =AN11 -> 5496 | AX11: =AV11+AS11 -> 5989 | AY11: =AT11+Q11 -> 1516 | AZ11: =AU11 -> 4999 | BA11: =AX11/$AR11 -> 0.28944952 | BB11: =AY11/$AR11 -> 0.073268571 | BC11: =AZ11/$AR11 -> 0.24160263 | BD11: =SUM(BA11:BC11) -> 0.60432072 | BE11: =AS11/AX11 -> 0.082317582
A12: יבנאל | B12: 46 | C12: 1473 | D12: 1204 | E12: 9 | F12: 1195 | G12: 113 | H12: 233 | I12: 162 | J12: 4 | K12: 0 | L12: 11 | M12: 1 | N12: 0 | O12: 0 | P12: 48 | Q12: 0 | R12: 97 | S12: 6 | T12: 0 | U12: 8 | V12: 197 | W12: 25 | X12: 0 | Y12: 0 | Z12: 0 | AA12: 2 | AB12: 15 | AC12: 61 | AD12: 5 | AE12: 6 | AF12: 0 | AG12: 0 | AH12: 0 | AI12: 19 | AJ12: 0 | AK12: 0 | AL12: 0 | AM12: 1 | AN12: 294 | AO12: 1195 | AP12: 2 | AQ12: =A12 -> יבנאל | AR12: =F12 -> 1195 | AS12: =J12 -> 4 | AT12: =I12+P12 -> 210 | AU12: =V12 -> 197 | AV12: =AN12 -> 294 | AX12: =AV12+AS12 -> 298 | AY12: =AT12+Q12 -> 210 | AZ12: =AU12 -> 197 | BA12: =AX12/$AR12 -> 0.24937238 | BB12: =AY12/$AR12 -> 0.17573222 | BC12: =AZ12/$AR12 -> 0.16485356 | BD12: =SUM(BA12:BC12) -> 0.58995816 | BE12: =AS12/AX12 -> 0.013422819
A13: ירוחם | B13: 831 | C13: 5931 | D13: 4435 | E13: 121 | F13: 4314 | G13: 11079 | H13: 373 | I13: 294 | J13: 380 | K13: 1 | L13: 30 | M13: 2 | N13: 3 | O13: 6 | P13: 102 | Q13: 9 | R13: 61 | S13: 308 | T13: 269 | U13: 91 | V13: 621 | W13: 129 | X13: 12 | Y13: 0 | Z13: 30 | AA13: 8 | AB13: 47 | AC13: 93 | AD13: 12 | AE13: 7 | AF13: 0 | AG13: 10 | AH13: 1 | AI13: 29 | AJ13: 4 | AK13: 65 | AL13: 2 | AM13: 13 | AN13: 1302 | AO13: 4314 | AP13: 9 | AQ13: =A13 -> ירוחם | AR13: =F13 -> 4314 | AS13: =J13 -> 380 | AT13: =I13+P13 -> 396 | AU13: =V13 -> 621 | AV13: =AN13 -> 1302 | AX13: =AV13+AS13 -> 1682 | AY13: =AT13+Q13 -> 405 | AZ13: =AU13 -> 621 | BA13: =AX13/$AR13 -> 0.38989337 | BB13: =AY13/$AR13 -> 0.093880389 | BC13: =AZ13/$AR13 -> 0.14394993 | BD13: =SUM(BA13:BC13) -> 0.62772369 | BE13: =AS13/AX13 -> 0.22592152
... A23: ערד | B23: 2560 | C23: 17961 | D23: 12744 | E23: 378 | F23: 12366 | G23: 58982 | H23: 2745 | I23: 185 | J23: 485 | K23: 8 | L23: 40 | M23: 27 | N23: 9 | O23: 12 | P23: 307 | Q23: 15 | R23: 896 | S23: 1587 | T23: 852 | U23: 246 | V23: 1319 | W23: 1162 | X23: 8 | Y23: 0 | Z23: 121 | AA23: 8 | AB23: 333 | AC23: 606 | AD23: 159 | AE23: 17 | AF23: 0 | AG23: 34 | AH23: 10 | AI23: 226 | AJ23: 12 | AK23: 113 | AL23: 13 | AM23: 52 | AN23: 759 | AO23: 12366 | AP23: 28 | AQ23: =A23 -> ערד | AR23: =F23 -> 12366 | AS23: =J23 -> 485 | AT23: =I23+P23 -> 492 | AU23: =V23 -> 1319 | AV23: =AN23 -> 759 | AX23: =AV23+AS23 -> 1244 | AY23: =AT23+Q23 -> 507 | AZ23: =AU23 -> 1319 | BA23: =AX23/$AR23 -> 0.10059842 | BB23: =AY23/$AR23 -> 0.040999515 | BC23: =AZ23/$AR23 -> 0.10666343 | BD23: =SUM(BA23:BC23) -> 0.24826136 | BE23: =AS23/AX23 -> 0.38987138

Sheet 2003
A1: שם ישוב | B1: סמל ישוב | C1: בוחרים | D1: מצביעים | E1: פסולים | F1: כשרים | G1: שם ישוב | H1: אמת | I1: ב | J1: ג | K1: ד | L1: ו | M1: ז | N1: זך | O1: זנ | P1: ט | Q1: יש | R1: כן | S1: ל | T1: ם | U1: מחל | V1: מרצ | W1: נ | X1: נץ | Y1: עם | Z1: ף | AA1: פה | AB1: צ | AC1: צף | AD1: ק | AE1: קך | AF1: קנ | AG1: קץ | AH1: רק | AI1: שס | AJ1: מספר קלפיות | AL1: =F1 -> כשרים | AM1: =J1 -> ג | AN1: טב | AO1: =U1 -> מחל | AP1: =AI1 -> שס | AR1: חרדים | AS1: דתיים לאומיים | AT1: ליכוד | AU1: אחוז מצביעים חרדיים | AV1: אחוז מצביעים דתיים לאומיים | AW1: אחוז מצביעי ליכוד | AX1: אחוז מצביעי ימין מדיני | AY1: אחוז יהדות התורה
A2: אופקים | B2: 31 | C2: 15407 | D2: 9866 | E2: 192 | F2: 9674 | G2: 0 | H2: 370 | I2: 415 | J2: 1080 | K2: 3 | L2: 4 | M2: 4 | N2: 0 | O2: 49 | P2: 5 | Q2: 424 | R2: 473 | S2: 1084 | T2: 498 | U2: 2642 | V2: 293 | W2: 13 | X2: 88 | Y2: 13 | Z2: 7 | AA2: 7 | AB2: 4 | AC2: 4 | AD2: 8 | AE2: 5 | AF2: 56 | AG2: 1 | AH2: 15 | AI2: 2109 | AJ2: 25 | AK2: =A2 -> אופקים | AL2: =F2 -> 9674 | AM2: =J2 -> 1080 | AN2: =I2+X2 -> 503 | AO2: =U2 -> 2642 | AP2: =AI2 -> 2109 | AR2: =AP2+AM2 -> 3189 | AS2: =AN2+K2 -> 506 | AT2: =AO2 -> 2642 | AU2: =AR2/$AL2 -> 0.32964648 | AV2: =AS2/$AL2 -> 0.052305148 | AW2: =AT2/$AL2 -> 0.27310316 | AX2: =SUM(AU2:AW2) -> 0.65505479 | AY2: =AM2/AR2 -> 0.33866416
A3: אלעד | B3: 1309 | C3: 7042 | D3: 6407 | E3: 42 | F3: 6365 | G3: 0 | H3: 4 | I3: 480 | J3: 2299 | K3: 0 | L3: 0 | M3: 1 | N3: 0 | O3: 13 | P3: 0 | Q3: 6 | R3: 0 | S3: 162 | T3: 14 | U3: 224 | V3: 2 | W3: 21 | X3: 129 | Y3: 1 | Z3: 0 | AA3: 0 | AB3: 0 | AC3: 0 | AD3: 0 | AE3: 0 | AF3: 4 | AG3: 0 | AH3: 1 | AI3: 3004 | AJ3: 10 | AK3: =A3 -> אלעד | AL3: =F3 -> 6365 | AM3: =J3 -> 2299 | AN3: =I3+X3 -> 609 | AO3: =U3 -> 224 | AP3: =AI3 -> 3004 | AR3: =AP3+AM3 -> 5303 | AS3: =AN3+K3 -> 609 | AT3: =AO3 -> 224 | AU3: =AR3/$AL3 -> 0.83315004 | AV3: =AS3/$AL3 -> 0.095679497 | AW3: =AT3/$AL3 -> 0.035192459 | AX3: =SUM(AU3:AW3) -> 0.964022 | AY3: =AM3/AR3 -> 0.43352819
A4: אשדוד | B4: 70 | C4: 137648 | D4: 87640 | E4: 1870 | F4: 85770 | G4: 0 | H4: 5110 | I4: 1907 | J4: 6675 | K4: 24 | L4: 36 | M4: 24 | N4: 0 | O4: 138 | P4: 33 | Q4: 12286 | R4: 3485 | S4: 10614 | T4: 2906 | U4: 27056 | V4: 1498 | W4: 131 | X4: 440 | Y4: 83 | Z4: 57 | AA4: 107 | AB4: 34 | AC4: 24 | AD4: 57 | AE4: 64 | AF4: 452 | AG4: 17 | AH4: 178 | AI4: 12334 | AJ4: 217 | AK4: =A4 -> אשדוד | AL4: =F4 -> 85770 | AM4: =J4 -> 6675 | AN4: =I4+X4 -> 2347 | AO4: =U4 -> 27056 | AP4: =AI4 -> 12334 | AR4: =AP4+AM4 -> 19009 | AS4: =AN4+K4 -> 2371 | AT4: =AO4 -> 27056 | AU4: =AR4/$AL4 -> 0.22162761 | AV4: =AS4/$AL4 -> 0.027643698 | AW4: =AT4/$AL4 -> 0.31544829 | AX4: =SUM(AU4:AW4) -> 0.5647196 | AY4: =AM4/AR4 -> 0.35114946
A5: בית שאן | B5: 9200 | C5: 11510 | D5: 7167 | E5: 109 | F5: 7058 | G5: 0 | H5: 326 | I5: 467 | J5: 180 | K5: 2 | L5: 2 | M5: 0 | N5: 0 | O5: 35 | P5: 0 | Q5: 209 | R5: 73 | S5: 307 | T5: 358 | U5: 3031 | V5: 67 | W5: 11 | X5: 77 | Y5: 4 | Z5: 0 | AA5: 2 | AB5: 3 | AC5: 2 | AD5: 1 | AE5: 4 | AF5: 88 | AG5: 1 | AH5: 12 | AI5: 1796 | AJ5: 17 | AK5: =A5 -> בית שאן | AL5: =F5 -> 7058 | AM5: =J5 -> 180 | AN5: =I5+X5 -> 544 | AO5: =U5 -> 3031 | AP5: =AI5 -> 1796 | AR5: =AP5+AM5 -> 1976 | AS5: =AN5+K5 -> 546 | AT5: =AO5 -> 3031 | AU5: =AR5/$AL5 -> 0.279966 | AV5: =AS5/$AL5 -> 0.077359025 | AW5: =AT5/$AL5 -> 0.42944177 | AX5: =SUM(AU5:AW5) -> 0.78676679 | AY5: =AM5/AR5 -> 0.091093117
A6: בית שמש | B6: 2610 | C6: 29343 | D6: 20540 | E6: 337 | F6: 20203 | G6: 0 | H6: 670 | I6: 1459 | J6: 3493 | K6: 1 | L6: 10 | M6: 3 | N6: 0 | O6: 61 | P6: 4 | Q6: 1238 | R6: 953 | S6: 1756 | T6: 344 | U6: 5547 | V6: 203 | W6: 19 | X6: 546 | Y6: 11 | Z6: 2 | AA6: 10 | AB6: 4 | AC6: 0 | AD6: 5 | AE6: 13 | AF6: 90 | AG6: 12 | AH6: 29 | AI6: 3720 | AJ6: 46 | AK6: =A6 -> בית שמש | AL6: =F6 -> 20203 | AM6: =J6 -> 3493 | AN6: =I6+X6 -> 2005 | AO6: =U6 -> 5547 | AP6: =AI6 -> 3720 | AR6: =AP6+AM6 -> 7213 | AS6: =AN6+K6 -> 2006 | AT6: =AO6 -> 5547 | AU6: =AR6/$AL6 -> 0.35702618 | AV6: =AS6/$AL6 -> 0.099292184 | AW6: =AT6/$AL6 -> 0.27456318 | AX6: =SUM(AU6:AW6) -> 0.73088155 | AY6: =AM6/AR6 -> 0.48426452
A7: ביתר עילית | B7: 3780 | C7: 7522 | D7: 6241 | E7: 65 | F7: 6176 | G7: 0 | H7: 3 | I7: 21 | J7: 3375 | K7: 0 | L7: 0 | M7: 0 | N7: 0 | O7: 16 | P7: 1 | Q7: 5 | R7: 2 | S7: 44 | T7: 0 | U7: 41 | V7: 1 | W7: 1 | X7: 450 | Y7: 0 | Z7: 0 | AA7: 0 | AB7: 0 | AC7: 0 | AD7: 0 | AE7: 0 | AF7: 1 | AG7: 1 | AH7: 2 | AI7: 2212 | AJ7: 12 | AK7: =A7 -> ביתר עילית | AL7: =F7 -> 6176 | AM7: =J7 -> 3375 | AN7: =I7+X7 -> 471 | AO7: =U7 -> 41 | AP7: =AI7 -> 2212 | AR7: =AP7+AM7 -> 5587 | AS7: =AN7+K7 -> 471 | AT7: =AO7 -> 41 | AU7: =AR7/$AL7 -> 0.90463083 | AV7: =AS7/$AL7 -> 0.076262953 | AW7: =AT7/$AL7 -> 0.006638601 | AX7: =SUM(AU7:AW7) -> 0.98753238 | AY7: =AM7/AR7 -> 0.6040809
A8: בני ברק | B8: 6100 | C8: 79243 | D8: 60412 | E8: 578 | F8: 59834 | G8: 0 | H8: 1383 | I8: 3275 | J8: 32346 | K8: 3 | L8: 18 | M8: 7 | N8: 0 | O8: 70 | P8: 2 | Q8: 1457 | R8: 345 | S8: 1249 | T8: 314 | U8: 5463 | V8: 290 | W8: 26 | X8: 904 | Y8: 18 | Z8: 2 | AA8: 12 | AB8: 9 | AC8: 7 | AD8: 7 | AE8: 2 | AF8: 129 | AG8: 14 | AH8: 39 | AI8: 12443 | AJ8: 123 | AK8: =A8 -> בני ברק | AL8: =F8 -> 59834 | AM8: =J8 -> 32346 | AN8: =I8+X8 -> 4179 | AO8: =U8 -> 5463 | AP8: =AI8 -> 12443 | AR8: =AP8+AM8 -> 44789 | AS8: =AN8+K8 -> 4182 | AT8: =AO8 -> 5463 | AU8: =AR8/$AL8 -> 0.74855433 | AV8: =AS8/$AL8 -> 0.069893372 | AW8: =AT8/$AL8 -> 0.091302604 | AX8: =SUM(AU8:AW8) -> 0.90975031 | AY8: =AM8/AR8 -> 0.72218625
A9: גבעת זאב | B9: 3730 | C9: 6883 | D9: 5102 | E9: 35 | F9: 5067 | G9: 0 | H9: 302 | I9: 201 | J9: 165 | K9: 0 | L9: 0 | M9: 1 | N9: 0 | O9: 13 | P9: 2 | Q9: 563 | R9: 56 | S9: 328 | T9: 70 | U9: 2662 | V9: 91 | W9: 14 | X9: 93 | Y9: 2 | Z9: 1 | AA9: 4 | AB9: 1 | AC9: 0 | AD9: 0 | AE9: 1 | AF9: 70 | AG9: 0 | AH9: 15 | AI9: 412 | AJ9: 11 | AK9: =A9 -> גבעת זאב | AL9: =F9 -> 5067 | AM9: =J9 -> 165 | AN9: =I9+X9 -> 294 | AO9: =U9 -> 2662 | AP9: =AI9 -> 412 | AR9: =AP9+AM9 -> 577 | AS9: =AN9+K9 -> 294 | AT9: =AO9 -> 2662 | AU9: =AR9/$AL9 -> 0.11387409 | AV9: =AS9/$AL9 -> 0.058022499 | AW9: =AT9/$AL9 -> 0.52536017 | AX9: =SUM(AU9:AW9) -> 0.69725676 | AY9: =AM9/AR9 -> 0.28596187
A10: חצור הגלילית | B10: 2034 | C10: 6116 | D10: 4141 | E10: 57 | F10: 4084 | G10: 0 | H10: 207 | I10: 293 | J10: 491 | K10: 0 | L10: 0 | M10: 1 | N10: 0 | O10: 14 | P10: 1 | Q10: 180 | R10: 72 | S10: 166 | T10: 273 | U10: 1606 | V10: 36 | W10: 3 | X10: 59 | Y10: 7 | Z10: 1 | AA10: 3 | AB10: 1 | AC10: 0 | AD10: 0 | AE10: 2 | AF10: 23 | AG10: 6 | AH10: 7 | AI10: 632 | AJ10: 9 | AK10: =A10 -> חצור הגלילית | AL10: =F10 -> 4084 | AM10: =J10 -> 491 | AN10: =I10+X10 -> 352 | AO10: =U10 -> 1606 | AP10: =AI10 -> 632 | AR10: =AP10+AM10 -> 1123 | AS10: =AN10+K10 -> 352 | AT10: =AO10 -> 1606 | AU10: =AR10/$AL10 -> 0.27497551 | AV10: =AS10/$AL10 -> 0.08619001 | AW10: =AT10/$AL10 -> 0.39324192 | AX10: =SUM(AU10:AW10) -> 0.75440744 | AY10: =AM10/AR10 -> 0.43722173
A11: טבריה | B11: 6700 | C11: 30682 | D11: 17770 | E11: 261 | F11: 17509 | G11: 0 | H11: 1124 | I11: 771 | J11: 597 | K11: 10 | L11: 7 | M11: 7 | N11: 0 | O11: 146 | P11: 4 | Q11: 1275 | R11: 321 | S11: 1475 | T11: 471 | U11: 7163 | V11: 171 | W11: 15 | X11: 218 | Y11: 18 | Z11: 1 | AA11: 10 | AB11: 9 | AC11: 3 | AD11: 7 | AE11: 9 | AF11: 116 | AG11: 4 | AH11: 31 | AI11: 3526 | AJ11: 47 | AK11: =A11 -> טבריה | AL11: =F11 -> 17509 | AM11: =J11 -> 597 | AN11: =I11+X11 -> 989 | AO11: =U11 -> 7163 | AP11: =AI11 -> 3526 | AR11: =AP11+AM11 -> 4123 | AS11: =AN11+K11 -> 999 | AT11: =AO11 -> 7163 | AU11: =AR11/$AL11 -> 0.2354789 | AV11: =AS11/$AL11 -> 0.057056371 | AW11: =AT11/$AL11 -> 0.40910389 | AX11: =SUM(AU11:AW11) -> 0.70163916 | AY11: =AM11/AR11 -> 0.14479748
A12: יבנאל | B12: 46 | C12: 1677 | D12: 1234 | E12: 15 | F12: 1219 | G12: 0 | H12: 101 | I12: 81 | J12: 17 | K12: 0 | L12: 1 | M12: 0 | N12: 0 | O12: 9 | P12: 1 | Q12: 176 | R12: 1 | S12: 26 | T12: 7 | U12: 395 | V12: 22 | W12: 2 | X12: 26 | Y12: 1 | Z12: 0 | AA12: 0 | AB12: 0 | AC12: 0 | AD12: 1 | AE12: 0 | AF12: 22 | AG12: 1 | AH12: 3 | AI12: 326 | AJ12: 3 | AK12: =A12 -> יבנאל | AL12: =F12 -> 1219 | AM12: =J12 -> 17 | AN12: =I12+X12 -> 107 | AO12: =U12 -> 395 | AP12: =AI12 -> 326 | AR12: =AP12+AM12 -> 343 | AS12: =AN12+K12 -> 107 | AT12: =AO12 -> 395 | AU12: =AR12/$AL12 -> 0.28137818 | AV12: =AS12/$AL12 -> 0.087776866 | AW12: =AT12/$AL12 -> 0.3240361 | AX12: =SUM(AU12:AW12) -> 0.69319114 | AY12: =AM12/AR12 -> 0.049562682
A13: ירוחם | B13: 831 | C13: 5919 | D13: 3728 | E13: 85 | F13: 3643 | G13: 0 | H13: 169 | I13: 278 | J13: 355 | K13: 7 | L13: 1 | M13: 2 | N13: 0 | O13: 16 | P13: 3 | Q13: 188 | R13: 75 | S13: 526 | T13: 249 | U13: 1045 | V13: 60 | W13: 4 | X13: 19 | Y13: 24 | Z13: 5 | AA13: 0 | AB13: 1 | AC13: 1 | AD13: 2 | AE13: 7 | AF13: 17 | AG13: 3 | AH13: 6 | AI13: 580 | AJ13: 10 | AK13: =A13 -> ירוחם | AL13: =F13 -> 3643 | AM13: =J13 -> 355 | AN13: =I13+X13 -> 297 | AO13: =U13 -> 1045 | AP13: =AI13 -> 580 | AR13: =AP13+AM13 -> 935 | AS13: =AN13+K13 -> 304 | AT13: =AO13 -> 1045 | AU13: =AR13/$AL13 -> 0.2566566 | AV13: =AS13/$AL13 -> 0.083447708 | AW13: =AT13/$AL13 -> 0.2868515 | AX13: =SUM(AU13:AW13) -> 0.62695581 | AY13: =AM13/AR13 -> 0.37967914
... A22: רכסים | B22: 922 | C22: 3824 | D22: 3203 | E22: 29 | F22: 3174 | G22: 0 | H22: 82 | I22: 85 | J22: 1214 | K22: 0 | L22: 0 | M22: 1 | N22: 0 | O22: 5 | P22: 0 | Q22: 114 | R22: 31 | S22: 41 | T22: 11 | U22: 442 | V22: 9 | W22: 0 | X22: 19 | Y22: 2 | Z22: 1 | AA22: 0 | AB22: 0 | AC22: 0 | AD22: 0 | AE22: 0 | AF22: 9 | AG22: 0 | AH22: 0 | AI22: 1108 | AJ22: 6 | AK22: =A22 -> רכסים | AL22: =F22 -> 3174 | AM22: =J22 -> 1214 | AN22: =I22+X22 -> 104 | AO22: =U22 -> 442 | AP22: =AI22 -> 1108 | AR22: =AP22+AM22 -> 2322 | AS22: =AN22+K22 -> 104 | AT22: =AO22 -> 442 | AU22: =AR22/$AL22 -> 0.731569 | AV22: =AS22/$AL22 -> 0.032766226 | AW22: =AT22/$AL22 -> 0.13925646 | AX22: =SUM(AU22:AW22) -> 0.90359168 | AY22: =AM22/AR22 -> 0.52282515
A23: ערד | B23: 922 | C23: 20007 | D23: 11892 | E23: 294 | F23: 11598 | G23: 0 | H23: 1438 | I23: 156 | J23: 627 | K23: 8 | L23: 12 | M23: 5 | N23: 0 | O23: 18 | P23: 0 | Q23: 2358 | R23: 1067 | S23: 1182 | T23: 318 | U23: 3028 | V23: 473 | W23: 45 | X23: 112 | Y23: 16 | Z23: 5 | AA23: 69 | AB23: 11 | AC23: 1 | AD23: 16 | AE23: 13 | AF23: 177 | AG23: 6 | AH23: 50 | AI23: 387 | AJ23: 31 | AK23: ערד | AL23: 11598 | AM23: 627 | AN23: 268 | AO23: 3028 | AP23: 387 | AR23: =AP23+AM23 -> 1014 | AS23: =AN23+K23 -> 276 | AT23: =AO23 -> 3028 | AU23: =AR23/$AL23 -> 0.087428867 | AV23: =AS23/$AL23 -> 0.023797206 | AW23: =AT23/$AL23 -> 0.2610795 | AX23: =SUM(AU23:AW23) -> 0.37230557 | AY23: =AM23/AR23 -> 0.6183432

Sheet 2006
A1: שם ישוב | B1: סמל ישוב | C1: בעלי זכות בחירה | D1: מצביעים | E1: כשרים | F1: פסולים | G1: אמת | H1: ג | I1: ד | J1: ה | K1: ו | L1: ז | M1: זה | N1: זך | O1: חץ | P1: טב | Q1: יש | R1: כ | S1: כן | T1: כץ | U1: ל | V1: מחל | W1: מרצ | X1: נץ | Y1: עם | Z1: פ | AA1: פז | AB1: פכ | AC1: פץ | AD1: ף | AE1: צה | AF1: ק | AG1: קז | AH1: קנ | AI1: קפ | AJ1: רק | AK1: שס | AL1: מס' קלפיות | AN1: =E1 -> כשרים | AO1: =H1 -> ג | AP1: =P1 -> טב | AQ1: מחל וישראל ביתינו | AR1: =AK1 -> שס | AT1: חרדים | AU1: דתיים לאומיים | AV1: ליכוד | AW1: אחוז מצביעים חרדיים | AX1: אחוז מצביעים דתיים לאומיים | AY1: אחוז מצביעי ליכוד | AZ1: אחוז מצביעי ימין מדיני | BA1: אחוז יהדות התורה
A2: אופקים | B2: 31 | C2: 16637 | D2: 9521 | E2: 9361 | F2: 160 | G2: 1535 | H2: 1250 | I2: 6 | J2: 1 | K2: 1 | L2: 3 | M2: 16 | N2: 69 | O2: 8 | P2: 633 | Q2: 10 | R2: 80 | S2: 857 | T2: 4 | U2: 1527 | V2: 940 | W2: 208 | X2: 4 | Y2: 7 | Z2: 9 | AA2: 12 | AB2: 4 | AC2: 6 | AD2: 2 | AE2: 1 | AF2: 9 | AG2: 12 | AH2: 42 | AI2: 1 | AJ2: 25 | AK2: 2079 | AL2: 26 | AM2: =A2 -> אופקים | AN2: =E2 -> 9361 | AO2: =H2 -> 1250 | AP2: =P2 -> 633 | AQ2: =V2+U2 -> 2467 | AR2: =AK2 -> 2079 | AT2: =AR2+AO2 -> 3329 | AU2: =AP2 -> 633 | AV2: =AQ2 -> 2467 | AW2: =AT2/$AN2 -> 0.3556244 | AX2: =AU2/$AN2 -> 0.067620981 | AY2: =AV2/$AN2 -> 0.26354022 | AZ2: =SUM(AW2:AY2) -> 0.6867856 | BA2: =AO2/AT2 -> 0.37548813
A3: אלעד | B3: 1309 | C3: 11332 | D3: 9699 | E3: 9637 | F3: 62 | G3: 31 | H3: 3397 | I3: 0 | J3: 0 | K3: 0 | L3: 0 | M3: 1 | N3: 31 | O3: 0 | P3: 1047 | Q3: 1 | R3: 155 | S3: 27 | T3: 0 | U3: 22 | V3: 116 | W3: 1 | X3: 0 | Y3: 0 | Z3: 0 | AA3: 0 | AB3: 0 | AC3: 0 | AD3: 0 | AE3: 1 | AF3: 0 | AG3: 0 | AH3: 5 | AI3: 0 | AJ3: 4 | AK3: 4798 | AL3: 19 | AM3: =A3 -> אלעד | AN3: =E3 -> 9637 | AO3: =H3 -> 3397 | AP3: =P3 -> 1047 | AQ3: =V3+U3 -> 138 | AR3: =AK3 -> 4798 | AT3: =AR3+AO3 -> 8195 | AU3: =AP3 -> 1047 | AV3: =AQ3 -> 138 | AW3: =AT3/$AN3 -> 0.85036837 | AX3: =AU3/$AN3 -> 0.10864377 | AY3: =AV3/$AN3 -> 0.014319809 | AZ3: =SUM(AW3:AY3) -> 0.97333195 | BA3: =AO3/AT3 -> 0.41452105
A4: אשדוד | B4: 70 | C4: 149417 | D4: 86978 | E4: 85164 | F4: 1814 | G4: 8837 | H4: 7901 | I4: 39 | J4: 10 | K4: 30 | L4: 37 | M4: 1090 | N4: 2750 | O4: 331 | P4: 3801 | Q4: 167 | R4: 295 | S4: 16691 | T4: 38 | U4: 16930 | V4: 8631 | W4: 869 | X4: 51 | Y4: 46 | Z4: 183 | AA4: 75 | AB4: 37 | AC4: 66 | AD4: 46 | AE4: 28 | AF4: 109 | AG4: 179 | AH4: 630 | AI4: 25 | AJ4: 678 | AK4: 14564 | AL4: 243 | AM4: =A4 -> אשדוד | AN4: =E4 -> 85164 | AO4: =H4 -> 7901 | AP4: =P4 -> 3801 | AQ4: =V4+U4 -> 25561 | AR4: =AK4 -> 14564 | AT4: =AR4+AO4 -> 22465 | AU4: =AP4 -> 3801 | AV4: =AQ4 -> 25561 | AW4: =AT4/$AN4 -> 0.26378517 | AX4: =AU4/$AN4 -> 0.044631534 | AY4: =AV4/$AN4 -> 0.30013856 | AZ4: =SUM(AW4:AY4) -> 0.60855526 | BA4: =AO4/AT4 -> 0.35170265
A5: בית שאן | B5: 9200 | C5: 12031 | D5: 6663 | E5: 6572 | F5: 91 | G5: 1074 | H5: 152 | I5: 1 | J5: 1 | K5: 2 | L5: 0 | M5: 11 | N5: 137 | O5: 6 | P5: 718 | Q5: 2 | R5: 51 | S5: 817 | T5: 0 | U5: 350 | V5: 1102 | W5: 38 | X5: 4 | Y5: 1 | Z5: 18 | AA5: 5 | AB5: 12 | AC5: 35 | AD5: 0 | AE5: 2 | AF5: 4 | AG5: 3 | AH5: 30 | AI5: 0 | AJ5: 20 | AK5: 1976 | AL5: 19 | AM5: =A5 -> בית שאן | AN5: =E5 -> 6572 | AO5: =H5 -> 152 | AP5: =P5 -> 718 | AQ5: =V5+U5 -> 1452 | AR5: =AK5 -> 1976 | AT5: =AR5+AO5 -> 2128 | AU5: =AP5 -> 718 | AV5: =AQ5 -> 1452 | AW5: =AT5/$AN5 -> 0.32379793 | AX5: =AU5/$AN5 -> 0.10925137 | AY5: =AV5/$AN5 -> 0.22093731 | AZ5: =SUM(AW5:AY5) -> 0.65398661 | BA5: =AO5/AT5 -> 0.071428571
A6: בית שמש | B6: 2610 | C6: 34712 | D6: 21965 | E6: 21669 | F6: 296 | G6: 1428 | H6: 4803 | I6: 9 | J6: 2 | K6: 9 | L6: 3 | M6: 609 | N6: 322 | O6: 22 | P6: 3099 | Q6: 18 | R6: 397 | S6: 1683 | T6: 4 | U6: 2245 | V6: 2340 | W6: 87 | X6: 16 | Y6: 1 | Z6: 56 | AA6: 9 | AB6: 3 | AC6: 11 | AD6: 1 | AE6: 7 | AF6: 7 | AG6: 9 | AH6: 87 | AI6: 1 | AJ6: 70 | AK6: 4311 | AL6: 55 | AM6: =A6 -> בית שמש | AN6: =E6 -> 21669 | AO6: =H6 -> 4803 | AP6: =P6 -> 3099 | AQ6: =V6+U6 -> 4585 | AR6: =AK6 -> 4311 | AT6: =AR6+AO6 -> 9114 | AU6: =AP6 -> 3099 | AV6: =AQ6 -> 4585 | AW6: =AT6/$AN6 -> 0.42060086 | AX6: =AU6/$AN6 -> 0.14301537 | AY6: =AV6/$AN6 -> 0.2115926 | AZ6: =SUM(AW6:AY6) -> 0.77520882 | BA6: =AO6/AT6 -> 0.52699144
A7: ביתר עילית | B7: 3780 | C7: 10091 | D7: 7837 | E7: 7779 | F7: 58 | G7: 5 | H7: 4213 | I7: 0 | J7: 0 | K7: 0 | L7: 0 | M7: 0 | N7: 5 | O7: 0 | P7: 141 | Q7: 0 | R7: 355 | S7: 13 | T7: 0 | U7: 25 | V7: 66 | W7: 3 | X7: 3 | Y7: 0 | Z7: 4 | AA7: 0 | AB7: 0 | AC7: 0 | AD7: 0 | AE7: 0 | AF7: 1 | AG7: 0 | AH7: 1 | AI7: 0 | AJ7: 1 | AK7: 2943 | AL7: 16 | AM7: =A7 -> ביתר עילית | AN7: =E7 -> 7779 | AO7: =H7 -> 4213 | AP7: =P7 -> 141 | AQ7: =V7+U7 -> 91 | AR7: =AK7 -> 2943 | AT7: =AR7+AO7 -> 7156 | AU7: =AP7 -> 141 | AV7: =AQ7 -> 91 | AW7: =AT7/$AN7 -> 0.91991259 | AX7: =AU7/$AN7 -> 0.018125723 | AY7: =AV7/$AN7 -> 0.011698162 | AZ7: =SUM(AW7:AY7) -> 0.94973647 | BA7: =AO7/AT7 -> 0.58873672
A8: בני ברק | B8: 6100 | C8: 83379 | D8: 61014 | E8: 60502 | F8: 512 | G8: 1177 | H8: 34149 | I8: 5 | J8: 2 | K8: 17 | L8: 21 | M8: 29 | N8: 1009 | O8: 34 | P8: 3629 | Q8: 29 | R8: 543 | S8: 1902 | T8: 9 | U8: 1109 | V8: 1847 | W8: 168 | X8: 23 | Y8: 9 | Z8: 48 | AA8: 4 | AB8: 8 | AC8: 14 | AD8: 1 | AE8: 7 | AF8: 13 | AG8: 23 | AH8: 101 | AI8: 1 | AJ8: 118 | AK8: 14453 | AL8: 131 | AM8: =A8 -> בני ברק | AN8: =E8 -> 60502 | AO8: =H8 -> 34149 | AP8: =P8 -> 3629 | AQ8: =V8+U8 -> 2956 | AR8: =AK8 -> 14453 | AT8: =AR8+AO8 -> 48602 | AU8: =AP8 -> 3629 | AV8: =AQ8 -> 2956 | AW8: =AT8/$AN8 -> 0.80331229 | AX8: =AU8/$AN8 -> 0.059981488 | AY8: =AV8/$AN8 -> 0.048857889 | AZ8: =SUM(AW8:AY8) -> 0.91215166 | BA8: =AO8/AT8 -> 0.70262541
A9: גבעת זאב | B9: 3730 | C9: 7217 | D9: 4948 | E9: 4898 | F9: 50 | G9: 461 | H9: 177 | I9: 0 | J9: 1 | K9: 1 | L9: 41 | M9: 3 | N9: 388 | O9: 16 | P9: 666 | Q9: 8 | R9: 67 | S9: 870 | T9: 2 | U9: 515 | V9: 962 | W9: 83 | X9: 5 | Y9: 0 | Z9: 45 | AA9: 0 | AB9: 0 | AC9: 1 | AD9: 0 | AE9: 0 | AF9: 1 | AG9: 4 | AH9: 57 | AI9: 0 | AJ9: 57 | AK9: 467 | AL9: 12 | AM9: =A9 -> גבעת זאב | AN9: =E9 -> 4898 | AO9: =H9 -> 177 | AP9: =P9 -> 666 | AQ9: =V9+U9 -> 1477 | AR9: =AK9 -> 467 | AT9: =AR9+AO9 -> 644 | AU9: =AP9 -> 666 | AV9: =AQ9 -> 1477 | AW9: =AT9/$AN9 -> 0.13148224 | AX9: =AU9/$AN9 -> 0.13597387 | AY9: =AV9/$AN9 -> 0.30155165 | AZ9: =SUM(AW9:AY9) -> 0.56900776 | BA9: =AO9/AT9 -> 0.27484472
A10: חצור הגלילית | B10: 2034 | C10: 6184 | D10: 3855 | E10: 3794 | F10: 61 | G10: 503 | H10: 577 | I10: 1 | J10: 0 | K10: 0 | L10: 1 | M10: 0 | N10: 49 | O10: 1 | P10: 314 | Q10: 2 | R10: 25 | S10: 329 | T10: 1 | U10: 659 | V10: 577 | W10: 10 | X10: 6 | Y10: 4 | Z10: 2 | AA10: 0 | AB10: 2 | AC10: 2 | AD10: 0 | AE10: 0 | AF10: 0 | AG10: 1 | AH10: 29 | AI10: 1 | AJ10: 13 | AK10: 685 | AL10: 9 | AM10: =A10 -> חצור הגלילית | AN10: =E10 -> 3794 | AO10: =H10 -> 577 | AP10: =P10 -> 314 | AQ10: =V10+U10 -> 1236 | AR10: =AK10 -> 685 | AT10: =AR10+AO10 -> 1262 | AU10: =AP10 -> 314 | AV10: =AQ10 -> 1236 | AW10: =AT10/$AN10 -> 0.33263047 | AX10: =AU10/$AN10 -> 0.082762256 | AY10: =AV10/$AN10 -> 0.32577754 | AZ10: =SUM(AW10:AY10) -> 0.74117027 | BA10: =AO10/AT10 -> 0.45721078
A11: טבריה | B11: 6700 | C11: 31415 | D11: 15331 | E11: 15101 | F11: 230 | G11: 1549 | H11: 571 | I11: 4 | J11: 2 | K11: 11 | L11: 7 | M11: 19 | N11: 527 | O11: 15 | P11: 1169 | Q11: 20 | R11: 67 | S11: 2747 | T11: 6 | U11: 2115 | V11: 2307 | W11: 74 | X11: 10 | Y11: 13 | Z11: 71 | AA11: 7 | AB11: 5 | AC11: 12 | AD11: 2 | AE11: 3 | AF11: 13 | AG11: 22 | AH11: 153 | AI11: 6 | AJ11: 49 | AK11: 3525 | AL11: 49 | AM11: =A11 -> טבריה | AN11: =E11 -> 15101 | AO11: =H11 -> 571 | AP11: =P11 -> 1169 | AQ11: =V11+U11 -> 4422 | AR11: =AK11 -> 3525 | AT11: =AR11+AO11 -> 4096 | AU11: =AP11 -> 1169 | AV11: =AQ11 -> 4422 | AW11: =AT11/$AN11 -> 0.27124032 | AX11: =AU11/$AN11 -> 0.077412092 | AY11: =AV11/$AN11 -> 0.29282829 | AZ11: =SUM(AW11:AY11) -> 0.6414807 | BA11: =AO11/AT11 -> 0.1394043
A12: יבנאל | B12: 46 | C12: 1857 | D12: 1262 | E12: 1247 | F12: 15 | G12: 109 | H12: 26 | I12: 0 | J12: 0 | K12: 1 | L12: 0 | M12: 0 | N12: 61 | O12: 4 | P12: 103 | Q12: 2 | R12: 24 | S12: 291 | T12: 1 | U12: 36 | V12: 99 | W12: 20 | X12: 3 | Y12: 0 | Z12: 13 | AA12: 0 | AB12: 0 | AC12: 2 | AD12: 0 | AE12: 0 | AF12: 2 | AG12: 0 | AH12: 9 | AI12: 1 | AJ12: 15 | AK12: 425 | AL12: 3 | AM12: =A12 -> יבנאל | AN12: =E12 -> 1247 | AO12: =H12 -> 26 | AP12: =P12 -> 103 | AQ12: =V12+U12 -> 135 | AR12: =AK12 -> 425 | AT12: =AR12+AO12 -> 451 | AU12: =AP12 -> 103 | AV12: =AQ12 -> 135 | AW12: =AT12/$AN12 -> 0.361668 | AX12: =AU12/$AN12 -> 0.082598236 | AY12: =AV12/$AN12 -> 0.10825982 | AZ12: =SUM(AW12:AY12) -> 0.55252606 | BA12: =AO12/AT12 -> 0.057649667
A13: ירוחם | B13: 831 | C13: 6024 | D13: 3143 | E13: 3079 | F13: 64 | G13: 467 | H13: 311 | I13: 1 | J13: 0 | K13: 2 | L13: 0 | M13: 1 | N13: 58 | O13: 8 | P13: 413 | Q13: 3 | R13: 16 | S13: 428 | T13: 0 | U13: 454 | V13: 210 | W13: 24 | X13: 2 | Y13: 12 | Z13: 14 | AA13: 3 | AB13: 3 | AC13: 2 | AD13: 0 | AE13: 2 | AF13: 1 | AG13: 5 | AH13: 20 | AI13: 1 | AJ13: 11 | AK13: 607 | AL13: 10 | AM13: =A13 -> ירוחם | AN13: =E13 -> 3079 | AO13: =H13 -> 311 | AP13: =P13 -> 413 | AQ13: =V13+U13 -> 664 | AR13: =AK13 -> 607 | AT13: =AR13+AO13 -> 918 | AU13: =AP13 -> 413 | AV13: =AQ13 -> 664 | AW13: =AT13/$AN13 -> 0.29814875 | AX13: =AU13/$AN13 -> 0.13413446 | AY13: =AV13/$AN13 -> 0.21565443 | AZ13: =SUM(AW13:AY13) -> 0.64793764 | BA13: =AO13/AT13 -> 0.33877996
... A22: רכסים | B22: 922 | C22: 4193 | D22: 3299 | E22: 3267 | F22: 32 | G22: 99 | H22: 1301 | I22: 0 | J22: 1 | K22: 0 | L22: 0 | M22: 6 | N22: 29 | O22: 4 | P22: 122 | Q22: 3 | R22: 15 | S22: 153 | T22: 0 | U22: 76 | V22: 122 | W22: 5 | X22: 1 | Y22: 0 | Z22: 0 | AA22: 3 | AB22: 0 | AC22: 0 | AD22: 0 | AE22: 1 | AF22: 1 | AG22: 4 | AH22: 13 | AI22: 0 | AJ22: 6 | AK22: 1302 | AL22: 7 | AM22: =A22 -> רכסים | AN22: =E22 -> 3267 | AO22: =H22 -> 1301 | AP22: =P22 -> 122 | AQ22: =V22+U22 -> 198 | AR22: =AK22 -> 1302 | AT22: =AR22+AO22 -> 2603 | AU22: =AP22 -> 122 | AV22: =AQ22 -> 198 | AW22: =AT22/$AN22 -> 0.79675543 | AX22: =AU22/$AN22 -> 0.037343128 | AY22: =AV22/$AN22 -> 0.060606061 | AZ22: =SUM(AW22:AY22) -> 0.89470462 | BA22: =AO22/AT22 -> 0.49980791
A23: ערד | B23: 922 | C23: 19812 | D23: 10743 | E23: 10465 | F23: 278 | G23: 1631 | H23: 566 | I23: 9 | J23: 1 | K23: 15 | L23: 6 | M23: 21 | N23: 535 | O23: 21 | P23: 331 | Q23: 41 | R23: 79 | S23: 2469 | T23: 10 | U23: 2934 | V23: 810 | W23: 243 | X23: 8 | Y23: 11 | Z23: 52 | AA23: 12 | AB23: 1 | AC23: 7 | AD23: 5 | AE23: 6 | AF23: 16 | AG23: 22 | AH23: 152 | AI23: 2 | AJ23: 124 | AK23: 325 | AL23: 33 | AM23: ערד | AN23: 10465 | AO23: 566 | AP23: 331 | AQ23: 3744 | AR23: 325 | AT23: =AR23+AO23 -> 891 | AU23: =AP23 -> 331 | AV23: =AQ23 -> 3744 | AW23: =AT23/$AN23 -> 0.085140946 | AX23: =AU23/$AN23 -> 0.03162924 | AY23: =AV23/$AN23 -> 0.35776398 | AZ23: =SUM(AW23:AY23) -> 0.47453416 | BA23: =AO23/AT23 -> 0.6352413

Sheet 2009
A1: שם ישוב | B1: סמל ישוב | C1: בז''ב | D1: מצביעים | E1: כשרים | F1: פסולים | G1: אמת | H1: אר | I1: ב | J1: ג | K1: ד | L1: ה | M1: ו | N1: זך | O1: חי | P1: ט | Q1: ים | R1: ינ | S1: יק | T1: כן | U1: ל | V1: מחל | W1: מרצ | X1: נ | Y1: נפ | Z1: נץ | AA1: נר | AB1: עם | AC1: פ | AD1: פח | AE1: פי | AF1: פק | AG1: ץ | AH1: צי | AI1: ק | AJ1: קנ | AK1: קפ | AL1: קץ | AM1: רק | AN1: שס | AO1: מס' קלפיות | AQ1: =E1 -> כשרים | AR1: =J1 -> ג | AS1: טב | AT1: מחל וישראל ביתינו | AU1: =AN1 -> שס | AW1: חרדים | AX1: דתיים לאומיים | AY1: ליכוד | AZ1: אחוז מצביעים חרדיים | BA1: אחוז מצביעים דתיים לאומיים | BB1: אחוז מצביעי ליכוד | BC1: אחוז מצביעי ימין מדיני | BD1: אחוז ליהדות התורה
A2: אופקים | B2: 31 | C2: 17314 | D2: 10177 | E2: 10027 | F2: 150 | G2: 592 | H2: 2 | I2: 299 | J2: 1280 | K2: 5 | L2: 102 | M2: 3 | N2: 21 | O2: 34 | P2: 292 | Q2: 3 | R2: 2 | S2: 6 | T2: 915 | U2: 1679 | V2: 2536 | W2: 72 | X2: 14 | Y2: 5 | Z2: 0 | AA2: 2 | AB2: 3 | AC2: 1 | AD2: 0 | AE2: 1 | AF2: 3 | AG2: 3 | AH2: 12 | AI2: 8 | AJ2: 20 | AK2: 0 | AL2: 10 | AM2: 14 | AN2: 2088 | AO2: 29 | AP2: =A2 -> אופקים | AQ2: =E2 -> 10027 | AR2: =J2 -> 1280 | AS2: =I2+P2 -> 591 | AT2: =V2+U2 -> 4215 | AU2: =AN2 -> 2088 | AW2: =AU2+AR2 -> 3368 | AX2: =AS2 -> 591 | AY2: =AT2 -> 4215 | AZ2: =AW2/$AQ2 -> 0.33589309 | BA2: =AX2/$AQ2 -> 0.05894086 | BB2: =AY2/$AQ2 -> 0.42036501 | BC2: =SUM(AZ2:BB2) -> 0.81519896 | BD2: =AR2/AW2 -> 0.38004751
A3: אלעד | B3: 1309 | C3: 14040 | D3: 11600 | E3: 11549 | F3: 51 | G3: 11 | H3: 0 | I3: 350 | J3: 3551 | K3: 1 | L3: 3 | M3: 2 | N3: 0 | O3: 0 | P3: 951 | Q3: 0 | R3: 0 | S3: 0 | T3: 23 | U3: 38 | V3: 496 | W3: 3 | X3: 0 | Y3: 0 | Z3: 1 | AA3: 0 | AB3: 1 | AC3: 1 | AD3: 0 | AE3: 0 | AF3: 1 | AG3: 1 | AH3: 1 | AI3: 0 | AJ3: 2 | AK3: 0 | AL3: 0 | AM3: 2 | AN3: 6110 | AO3: 27 | AP3: =A3 -> אלעד | AQ3: =E3 -> 11549 | AR3: =J3 -> 3551 | AS3: =I3+P3 -> 1301 | AT3: =V3+U3 -> 534 | AU3: =AN3 -> 6110 | AW3: =AU3+AR3 -> 9661 | AX3: =AS3 -> 1301 | AY3: =AT3 -> 534 | AZ3: =AW3/$AQ3 -> 0.83652264 | BA3: =AX3/$AQ3 -> 0.11265045 | BB3: =AY3/$AQ3 -> 0.04623777 | BC3: =SUM(AZ3:BB3) -> 0.99541086 | BD3: =AR3/AW3 -> 0.36756029
A4: אשדוד | B4: 70 | C4: 156977 | D4: 96363 | E4: 94776 | F4: 1587 | G4: 4176 | H4: 23 | I4: 1399 | J4: 8101 | K4: 43 | L4: 179 | M4: 46 | N4: 436 | O4: 109 | P4: 1359 | Q4: 17 | R4: 29 | S4: 46 | T4: 14896 | U4: 24693 | V4: 23191 | W4: 738 | X4: 129 | Y4: 16 | Z4: 26 | AA4: 24 | AB4: 37 | AC4: 59 | AD4: 0 | AE4: 14 | AF4: 31 | AG4: 26 | AH4: 139 | AI4: 93 | AJ4: 294 | AK4: 27 | AL4: 103 | AM4: 212 | AN4: 14065 | AO4: 257 | AP4: =A4 -> אשדוד | AQ4: =E4 -> 94776 | AR4: =J4 -> 8101 | AS4: =I4+P4 -> 2758 | AT4: =V4+U4 -> 47884 | AU4: =AN4 -> 14065 | AW4: =AU4+AR4 -> 22166 | AX4: =AS4 -> 2758 | AY4: =AT4 -> 47884 | AZ4: =AW4/$AQ4 -> 0.23387777 | BA4: =AX4/$AQ4 -> 0.029100194 | BB4: =AY4/$AQ4 -> 0.50523339 | BC4: =SUM(AZ4:BB4) -> 0.76821136 | BD4: =AR4/AW4 -> 0.36546964
A5: בית שאן | B5: 9200 | C5: 12724 | D5: 7157 | E5: 7051 | F5: 106 | G5: 376 | H5: 3 | I5: 265 | J5: 113 | K5: 3 | L5: 12 | M5: 4 | N5: 22 | O5: 3 | P5: 274 | Q5: 0 | R5: 0 | S5: 2 | T5: 743 | U5: 549 | V5: 2900 | W5: 23 | X5: 6 | Y5: 2 | Z5: 4 | AA5: 2 | AB5: 13 | AC5: 67 | AD5: 0 | AE5: 4 | AF5: 1 | AG5: 6 | AH5: 6 | AI5: 2 | AJ5: 20 | AK5: 3 | AL5: 3 | AM5: 6 | AN5: 1614 | AO5: 20 | AP5: =A5 -> בית שאן | AQ5: =E5 -> 7051 | AR5: =J5 -> 113 | AS5: =I5+P5 -> 539 | AT5: =V5+U5 -> 3449 | AU5: =AN5 -> 1614 | AW5: =AU5+AR5 -> 1727 | AX5: =AS5 -> 539 | AY5: =AT5 -> 3449 | AZ5: =AW5/$AQ5 -> 0.2449298 | BA5: =AX5/$AQ5 -> 0.076443058 | BB5: =AY5/$AQ5 -> 0.48915048 | BC5: =SUM(AZ5:BB5) -> 0.81052333 | BD5: =AR5/AW5 -> 0.065431384
A6: בית שמש | B6: 2610 | C6: 38591 | D6: 23790 | E6: 23471 | F6: 319 | G6: 625 | H6: 2 | I6: 1442 | J6: 4829 | K6: 10 | L6: 89 | M6: 19 | N6: 24 | O6: 10 | P6: 1784 | Q6: 8 | R6: 4 | S6: 7 | T6: 1449 | U6: 2800 | V6: 5204 | W6: 95 | X6: 16 | Y6: 3 | Z6: 4 | AA6: 6 | AB6: 7 | AC6: 12 | AD6: 0 | AE6: 4 | AF6: 3 | AG6: 1 | AH6: 16 | AI6: 10 | AJ6: 34 | AK6: 6 | AL6: 5 | AM6: 34 | AN6: 4909 | AO6: 66 | AP6: =A6 -> בית שמש | AQ6: =E6 -> 23471 | AR6: =J6 -> 4829 | AS6: =I6+P6 -> 3226 | AT6: =V6+U6 -> 8004 | AU6: =AN6 -> 4909 | AW6: =AU6+AR6 -> 9738 | AX6: =AS6 -> 3226 | AY6: =AT6 -> 8004 | AZ6: =AW6/$AQ6 -> 0.41489498 | BA6: =AX6/$AQ6 -> 0.13744621 | BB6: =AY6/$AQ6 -> 0.34101657 | BC6: =SUM(AZ6:BB6) -> 0.89335776 | BD6: =AR6/AW6 -> 0.49589238
A7: ביתר עילית | B7: 3780 | C7: 13019 | D7: 9860 | E7: 9780 | F7: 80 | G7: 1 | H7: 1 | I7: 17 | J7: 4778 | K7: 0 | L7: 3 | M7: 1 | N7: 2 | O7: 0 | P7: 787 | Q7: 0 | R7: 0 | S7: 0 | T7: 6 | U7: 27 | V7: 132 | W7: 3 | X7: 0 | Y7: 0 | Z7: 0 | AA7: 0 | AB7: 0 | AC7: 1 | AD7: 0 | AE7: 0 | AF7: 0 | AG7: 0 | AH7: 0 | AI7: 0 | AJ7: 1 | AK7: 0 | AL7: 0 | AM7: 0 | AN7: 4020 | AO7: 21 | AP7: =A7 -> ביתר עילית | AQ7: =E7 -> 9780 | AR7: =J7 -> 4778 | AS7: =I7+P7 -> 804 | AT7: =V7+U7 -> 159 | AU7: =AN7 -> 4020 | AW7: =AU7+AR7 -> 8798 | AX7: =AS7 -> 804 | AY7: =AT7 -> 159 | AZ7: =AW7/$AQ7 -> 0.899591 | BA7: =AX7/$AQ7 -> 0.082208589 | BB7: =AY7/$AQ7 -> 0.016257669 | BC7: =SUM(AZ7:BB7) -> 0.99805726 | BD7: =AR7/AW7 -> 0.54307797
A8: בני ברק | B8: 6100 | C8: 88252 | D8: 63936 | E8: 63433 | F8: 503 | G8: 654 | H8: 14 | I8: 1530 | J8: 34802 | K8: 6 | L8: 61 | M8: 25 | N8: 113 | O8: 19 | P8: 1994 | Q8: 4 | R8: 3 | S8: 15 | T8: 1598 | U8: 1362 | V8: 3506 | W8: 138 | X8: 18 | Y8: 4 | Z8: 3 | AA8: 3 | AB8: 17 | AC8: 21 | AD8: 0 | AE8: 2 | AF8: 4 | AG8: 2 | AH8: 16 | AI8: 6 | AJ8: 37 | AK8: 3 | AL8: 6 | AM8: 34 | AN8: 17413 | AO8: 149 | AP8: =A8 -> בני ברק | AQ8: =E8 -> 63433 | AR8: =J8 -> 34802 | AS8: =I8+P8 -> 3524 | AT8: =V8+U8 -> 4868 | AU8: =AN8 -> 17413 | AW8: =AU8+AR8 -> 52215 | AX8: =AS8 -> 3524 | AY8: =AT8 -> 4868 | AZ8: =AW8/$AQ8 -> 0.82315199 | BA8: =AX8/$AQ8 -> 0.05555468 | BB8: =AY8/$AQ8 -> 0.07674239 | BC8: =SUM(AZ8:BB8) -> 0.95544906 | BD8: =AR8/AW8 -> 0.66651345
A9: גבעת זאב | B9: 3730 | C9: 7663 | D9: 5314 | E9: 5262 | F9: 52 | G9: 231 | H9: 1 | I9: 144 | J9: 159 | K9: 1 | L9: 50 | M9: 1 | N9: 29 | O9: 6 | P9: 298 | Q9: 1 | R9: 0 | S9: 8 | T9: 895 | U9: 463 | V9: 2294 | W9: 50 | X9: 1 | Y9: 0 | Z9: 1 | AA9: 0 | AB9: 0 | AC9: 3 | AD9: 0 | AE9: 1 | AF9: 0 | AG9: 4 | AH9: 8 | AI9: 0 | AJ9: 21 | AK9: 0 | AL9: 2 | AM9: 34 | AN9: 556 | AO9: 12 | AP9: =A9 -> גבעת זאב | AQ9: =E9 -> 5262 | AR9: =J9 -> 159 | AS9: =I9+P9 -> 442 | AT9: =V9+U9 -> 2757 | AU9: =AN9 -> 556 | AW9: =AU9+AR9 -> 715 | AX9: =AS9 -> 442 | AY9: =AT9 -> 2757 | AZ9: =AW9/$AQ9 -> 0.13587989 | BA9: =AX9/$AQ9 -> 0.08399848 | BB9: =AY9/$AQ9 -> 0.52394527 | BC9: =SUM(AZ9:BB9) -> 0.74382364 | BD9: =AR9/AW9 -> 0.22237762
A10: חצור הגלילית | B10: 2034 | C10: 6463 | D10: 3931 | E10: 3898 | F10: 33 | G10: 181 | H10: 0 | I10: 161 | J10: 566 | K10: 14 | L10: 2 | M10: 3 | N10: 4 | O10: 2 | P10: 125 | Q10: 0 | R10: 0 | S10: 0 | T10: 356 | U10: 644 | V10: 1174 | W10: 7 | X10: 1 | Y10: 0 | Z10: 0 | AA10: 1 | AB10: 3 | AC10: 6 | AD10: 0 | AE10: 0 | AF10: 1 | AG10: 3 | AH10: 2 | AI10: 1 | AJ10: 5 | AK10: 0 | AL10: 2 | AM10: 3 | AN10: 631 | AO10: 11 | AP10: =A10 -> חצור הגלילית | AQ10: =E10 -> 3898 | AR10: =J10 -> 566 | AS10: =I10+P10 -> 286 | AT10: =V10+U10 -> 1818 | AU10: =AN10 -> 631 | AW10: =AU10+AR10 -> 1197 | AX10: =AS10 -> 286 | AY10: =AT10 -> 1818 | AZ10: =AW10/$AQ10 -> 0.30708055 | BA10: =AX10/$AQ10 -> 0.073370959 | BB10: =AY10/$AQ10 -> 0.46639302 | BC10: =SUM(AZ10:BB10) -> 0.84684454 | BD10: =AR10/AW10 -> 0.47284879
A11: טבריה | B11: 6700 | C11: 32058 | D11: 16233 | E11: 16029 | F11: 204 | G11: 895 | H11: 5 | I11: 384 | J11: 423 | K11: 3 | L11: 22 | M11: 11 | N11: 58 | O11: 13 | P11: 403 | Q11: 1 | R11: 5 | S11: 2 | T11: 2364 | U11: 2530 | V11: 5684 | W11: 57 | X11: 8 | Y11: 2 | Z11: 5 | AA11: 1 | AB11: 12 | AC11: 6 | AD11: 0 | AE11: 3 | AF11: 3 | AG11: 3 | AH11: 11 | AI11: 9 | AJ11: 48 | AK11: 3 | AL11: 3 | AM11: 23 | AN11: 3029 | AO11: 54 | AP11: =A11 -> טבריה | AQ11: =E11 -> 16029 | AR11: =J11 -> 423 | AS11: =I11+P11 -> 787 | AT11: =V11+U11 -> 8214 | AU11: =AN11 -> 3029 | AW11: =AU11+AR11 -> 3452 | AX11: =AS11 -> 787 | AY11: =AT11 -> 8214 | AZ11: =AW11/$AQ11 -> 0.21535966 | BA11: =AX11/$AQ11 -> 0.049098509 | BB11: =AY11/$AQ11 -> 0.51244619 | BC11: =SUM(AZ11:BB11) -> 0.77690436 | BD11: =AR11/AW11 -> 0.12253766
A12: יבנאל | B12: 46 | C12: 2025 | D12: 1379 | E12: 1363 | F12: 16 | G12: 106 | H12: 0 | I12: 61 | J12: 57 | K12: 1 | L12: 10 | M12: 0 | N12: 3 | O12: 7 | P12: 23 | Q12: 2 | R12: 0 | S12: 2 | T12: 262 | U12: 65 | V12: 250 | W12: 18 | X12: 0 | Y12: 0 | Z12: 1 | AA12: 0 | AB12: 2 | AC12: 1 | AD12: 0 | AE12: 0 | AF12: 0 | AG12: 0 | AH12: 4 | AI12: 0 | AJ12: 3 | AK12: 1 | AL12: 0 | AM12: 0 | AN12: 484 | AO12: 3 | AP12: =A12 -> יבנאל | AQ12: =E12 -> 1363 | AR12: =J12 -> 57 | AS12: =I12+P12 -> 84 | AT12: =V12+U12 -> 315 | AU12: =AN12 -> 484 | AW12: =AU12+AR12 -> 541 | AX12: =AS12 -> 84 | AY12: =AT12 -> 315 | AZ12: =AW12/$AQ12 -> 0.39691856 | BA12: =AX12/$AQ12 -> 0.06162876 | BB12: =AY12/$AQ12 -> 0.23110785 | BC12: =SUM(AZ12:BB12) -> 0.68965517 | BD12: =AR12/AW12 -> 0.10536044
A13: ירוחם | B13: 831 | C13: 6028 | D13: 3393 | E13: 3315 | F13: 78 | G13: 145 | H13: 0 | I13: 283 | J13: 339 | K13: 1 | L13: 36 | M13: 3 | N13: 6 | O13: 9 | P13: 67 | Q13: 0 | R13: 0 | S13: 4 | T13: 401 | U13: 611 | V13: 688 | W13: 27 | X13: 8 | Y13: 5 | Z13: 0 | AA13: 0 | AB13: 22 | AC13: 4 | AD13: 0 | AE13: 1 | AF13: 0 | AG13: 0 | AH13: 9 | AI13: 6 | AJ13: 9 | AK13: 1 | AL13: 5 | AM13: 7 | AN13: 618 | AO13: 10 | AP13: =A13 -> ירוחם | AQ13: =E13 -> 3315 | AR13: =J13 -> 339 | AS13: =I13+P13 -> 350 | AT13: =V13+U13 -> 1299 | AU13: =AN13 -> 618 | AW13: =AU13+AR13 -> 957 | AX13: =AS13 -> 350 | AY13: =AT13 -> 1299 | AZ13: =AW13/$AQ13 -> 0.28868778 | BA13: =AX13/$AQ13 -> 0.10558069 | BB13: =AY13/$AQ13 -> 0.3918552 | BC13: =SUM(AZ13:BB13) -> 0.78612368 | BD13: =AR13/AW13 -> 0.35423197
... A23: ערד | B23: 922 | C23: 20293 | D23: 10972 | E23: 10739 | F23: 233 | G23: 826 | H23: 1 | I23: 87 | J23: 730 | K23: 12 | L23: 100 | M23: 24 | N23: 45 | O23: 27 | P23: 306 | Q23: 2 | R23: 3 | S23: 6 | T23: 2433 | U23: 3474 | V23: 1940 | W23: 217 | X23: 32 | Y23: 8 | Z23: 5 | AA23: 3 | AB23: 27 | AC23: 4 | AD23: 0 | AE23: 4 | AF23: 1 | AG23: 2 | AH23: 13 | AI23: 11 | AJ23: 55 | AK23: 5 | AL23: 8 | AM23: 33 | AN23: 295 | AO23: 34 | AP23: =A23 -> ערד | AQ23: =E23 -> 10739 | AR23: =J23 -> 730 | AS23: =I23+P23 -> 393 | AT23: =V23+U23 -> 5414 | AU23: =AN23 -> 295 | AW23: =AU23+AR23 -> 1025 | AX23: =AS23 -> 393 | AY23: =AT23 -> 5414 | AZ23: =AW23/$AQ23 -> 0.095446503 | BA23: =AX23/$AQ23 -> 0.036595586 | BB23: =AY23/$AQ23 -> 0.50414378 | BC23: =SUM(AZ23:BB23) -> 0.63618586 | BD23: =AR23/AW23 -> 0.71219512

Sheet 2013
A1: שם ישוב | B1: סמל ישוב | C1: בזב | D1: מצביעים | E1: פסולים | F1: כשרים | G1: אמת | H1: ג | I1: ד | J1: הי | K1: הפ | L1: הק | M1: ו | N1: ז | O1: זה | P1: זך | Q1: טב | R1: יק | S1: כן | T1: מחל | U1: מרץ | V1: נ | W1: ני | X1: נץ | Y1: נק | Z1: עם | AA1: פ | AB1: פה | AC1: פז | AD1: פי | AE1: פך | AF1: פנ | AG1: פץ | AH1: ץ | AI1: צפ | AJ1: צק | AK1: ק | AL1: קנ | AM1: רק | AN1: שס | AO1: מס' קלפיות | AQ1: =F1 -> כשרים | AR1: =H1 -> ג | AS1: =Q1 -> טב | AT1: =T1 -> מחל | AU1: =AN1 -> שס | AW1: חרדים | AX1: דתיים לאומיים | AY1: ליכוד | AZ1: אחוז מצביעים חרדיים | BA1: אחוז מצביעים דתיים לאומיים | BB1: אחוז מצביעי ליכוד | BC1: אחוז מצביעי ימין מדיני | BD1: אחוז יהדות התורה
A2: אופקים | B2: 31 | C2: 18364 | D2: 10879 | E2: 144 | F2: 10735 | G2: 443 | H2: 1564 | I2: 5 | J2: 2 | K2: 7 | L2: 2 | M2: 9 | N2: 25 | O2: 0 | P2: 7 | Q2: 1077 | R2: 96 | S2: 158 | T2: 2924 | U2: 74 | V2: 1 | W2: 5 | X2: 172 | Y2: 5 | Z2: 5 | AA2: 4 | AB2: 481 | AC2: 100 | AD2: 5 | AE2: 0 | AF2: 8 | AG2: 4 | AH2: 110 | AI2: 431 | AJ2: 11 | AK2: 4 | AL2: 112 | AM2: 13 | AN2: 2871 | AO2: 33 | AP2: =A2 -> אופקים | AQ2: =F2 -> 10735 | AR2: =H2 -> 1564 | AS2: =Q2 -> 1077 | AT2: =T2 -> 2924 | AU2: =AN2 -> 2871 | AW2: =AU2+AR2 -> 4435 | AX2: =AS2+X2 -> 1249 | AY2: =AT2 -> 2924 | AZ2: =AW2/$AQ2 -> 0.41313461 | BA2: =AX2/$AQ2 -> 0.11634839 | BB2: =AY2/$AQ2 -> 0.27238007 | BC2: =SUM(AZ2:BB2) -> 0.80186306 | BD2: =AR2/AW2 -> 0.35264938
A3: אלעד | B3: 1309 | C3: 16075 | D3: 14367 | E3: 66 | F3: 14301 | G3: 33 | H3: 5124 | I3: 0 | J3: 0 | K3: 0 | L3: 0 | M3: 1 | N3: 3 | O3: 0 | P3: 0 | Q3: 1083 | R3: 0 | S3: 1 | T3: 239 | U3: 2 | V3: 0 | W3: 0 | X3: 360 | Y3: 0 | Z3: 1 | AA3: 0 | AB3: 29 | AC3: 704 | AD3: 0 | AE3: 0 | AF3: 2 | AG3: 7 | AH3: 71 | AI3: 6 | AJ3: 0 | AK3: 1 | AL3: 6 | AM3: 2 | AN3: 6626 | AO3: 27 | AP3: =A3 -> אלעד | AQ3: =F3 -> 14301 | AR3: =H3 -> 5124 | AS3: =Q3 -> 1083 | AT3: =T3 -> 239 | AU3: =AN3 -> 6626 | AW3: =AU3+AR3 -> 11750 | AX3: =AS3+X3 -> 1443 | AY3: =AT3 -> 239 | AZ3: =AW3/$AQ3 -> 0.82162087 | BA3: =AX3/$AQ3 -> 0.10090203 | BB3: =AY3/$AQ3 -> 0.016712118 | BC3: =SUM(AZ3:BB3) -> 0.93923502 | BD3: =AR3/AW3 -> 0.43608511
A4: אשדוד | B4: 70 | C4: 166360 | D4: 104774 | E4: 1500 | F4: 103274 | G4: 6214 | H4: 10657 | I4: 27 | J4: 20 | K4: 147 | L4: 19 | M4: 29 | N4: 292 | O4: 0 | P4: 305 | Q4: 7319 | R4: 1596 | S4: 1439 | T4: 37325 | U4: 1103 | V4: 30 | W4: 33 | X4: 1087 | Y4: 76 | Z4: 84 | AA4: 46 | AB4: 10340 | AC4: 488 | AD4: 73 | AE4: 0 | AF4: 83 | AG4: 80 | AH4: 1265 | AI4: 3926 | AJ4: 150 | AK4: 46 | AL4: 1204 | AM4: 313 | AN4: 17458 | AO4: 278 | AP4: =A4 -> אשדוד | AQ4: =F4 -> 103274 | AR4: =H4 -> 10657 | AS4: =Q4 -> 7319 | AT4: =T4 -> 37325 | AU4: =AN4 -> 17458 | AW4: =AU4+AR4 -> 28115 | AX4: =AS4+X4 -> 8406 | AY4: =AT4 -> 37325 | AZ4: =AW4/$AQ4 -> 0.27223696 | BA4: =AX4/$AQ4 -> 0.081395124 | BB4: =AY4/$AQ4 -> 0.3614172 | BC4: =SUM(AZ4:BB4) -> 0.71504929 | BD4: =AR4/AW4 -> 0.37905033
A5: בית שאן | B5: 9200 | C5: 13249 | D5: 8393 | E5: 81 | F5: 8312 | G5: 392 | H5: 73 | I5: 0 | J5: 0 | K5: 9 | L5: 0 | M5: 3 | N5: 13 | O5: 0 | P5: 4 | Q5: 1251 | R5: 20 | S5: 196 | T5: 2922 | U5: 32 | V5: 3 | W5: 1 | X5: 180 | Y5: 2 | Z5: 8 | AA5: 3 | AB5: 366 | AC5: 94 | AD5: 4 | AE5: 0 | AF5: 9 | AG5: 2 | AH5: 89 | AI5: 180 | AJ5: 6 | AK5: 1 | AL5: 80 | AM5: 6 | AN5: 2363 | AO5: 21 | AP5: =A5 -> בית שאן | AQ5: =F5 -> 8312 | AR5: =H5 -> 73 | AS5: =Q5 -> 1251 | AT5: =T5 -> 2922 | AU5: =AN5 -> 2363 | AW5: =AU5+AR5 -> 2436 | AX5: =AS5+X5 -> 1431 | AY5: =AT5 -> 2922 | AZ5: =AW5/$AQ5 -> 0.29307026 | BA5: =AX5/$AQ5 -> 0.17216073 | BB5: =AY5/$AQ5 -> 0.35153994 | BC5: =SUM(AZ5:BB5) -> 0.81677093 | BD5: =AR5/AW5 -> 0.029967159
A6: בית שמש | B6: 2610 | C6: 46313 | D6: 29872 | E6: 279 | F6: 29593 | G6: 753 | H6: 8360 | I6: 2 | J6: 1 | K6: 11 | L6: 8 | M6: 20 | N6: 25 | O6: 0 | P6: 19 | Q6: 4271 | R6: 95 | S6: 141 | T6: 6741 | U6: 148 | V6: 2 | W6: 2 | X6: 858 | Y6: 4 | Z6: 16 | AA6: 4 | AB6: 1273 | AC6: 381 | AD6: 11 | AE6: 0 | AF6: 18 | AG6: 16 | AH6: 404 | AI6: 374 | AJ6: 10 | AK6: 8 | AL6: 165 | AM6: 19 | AN6: 5433 | AO6: 76 | AP6: =A6 -> בית שמש | AQ6: =F6 -> 29593 | AR6: =H6 -> 8360 | AS6: =Q6 -> 4271 | AT6: =T6 -> 6741 | AU6: =AN6 -> 5433 | AW6: =AU6+AR6 -> 13793 | AX6: =AS6+X6 -> 5129 | AY6: =AT6 -> 6741 | AZ6: =AW6/$AQ6 -> 0.46608995 | BA6: =AX6/$AQ6 -> 0.17331801 | BB6: =AY6/$AQ6 -> 0.22779036 | BC6: =SUM(AZ6:BB6) -> 0.86719832 | BD6: =AR6/AW6 -> 0.60610455
A7: ביתר עילית | B7: 3780 | C7: 16587 | D7: 14069 | E7: 72 | F7: 13997 | G7: 15 | H7: 8404 | I7: 1 | J7: 0 | K7: 0 | L7: 0 | M7: 2 | N7: 1 | O7: 0 | P7: 0 | Q7: 154 | R7: 2 | S7: 1 | T7: 137 | U7: 3 | V7: 1 | W7: 0 | X7: 737 | Y7: 0 | Z7: 0 | AA7: 1 | AB7: 10 | AC7: 198 | AD7: 0 | AE7: 0 | AF7: 6 | AG7: 4 | AH7: 51 | AI7: 1 | AJ7: 1 | AK7: 0 | AL7: 20 | AM7: 0 | AN7: 4247 | AO7: 30 | AP7: =A7 -> ביתר עילית | AQ7: =F7 -> 13997 | AR7: =H7 -> 8404 | AS7: =Q7 -> 154 | AT7: =T7 -> 137 | AU7: =AN7 -> 4247 | AW7: =AU7+AR7 -> 12651 | AX7: =AS7+X7 -> 891 | AY7: =AT7 -> 137 | AZ7: =AW7/$AQ7 -> 0.90383654 | BA7: =AX7/$AQ7 -> 0.063656498 | BB7: =AY7/$AQ7 -> 0.0097878117 | BC7: =SUM(AZ7:BB7) -> 0.97728085 | BD7: =AR7/AW7 -> 0.66429531
A8: בני ברק | B8: 6100 | C8: 96861 | D8: 75482 | E8: 335 | F8: 75147 | G8: 918 | H8: 44973 | I8: 13 | J8: 3 | K8: 11 | L8: 4 | M8: 19 | N8: 54 | O8: 0 | P8: 20 | Q8: 2676 | R8: 93 | S8: 165 | T8: 3027 | U8: 190 | V8: 3 | W8: 7 | X8: 1057 | Y8: 6 | Z8: 7 | AA8: 8 | AB8: 872 | AC8: 1083 | AD8: 11 | AE8: 0 | AF8: 8 | AG8: 12 | AH8: 327 | AI8: 321 | AJ8: 9 | AK8: 5 | AL8: 139 | AM8: 21 | AN8: 19085 | AO8: 163 | AP8: =A8 -> בני ברק | AQ8: =F8 -> 75147 | AR8: =H8 -> 44973 | AS8: =Q8 -> 2676 | AT8: =T8 -> 3027 | AU8: =AN8 -> 19085 | AW8: =AU8+AR8 -> 64058 | AX8: =AS8+X8 -> 3733 | AY8: =AT8 -> 3027 | AZ8: =AW8/$AQ8 -> 0.85243589 | BA8: =AX8/$AQ8 -> 0.049675968 | BB8: =AY8/$AQ8 -> 0.040281049 | BC8: =SUM(AZ8:BB8) -> 0.94239291 | BD8: =AR8/AW8 -> 0.70206688
A9: גבעת זאב | B9: 3730 | C9: 9282 | D9: 6931 | E9: 38 | F9: 6893 | G9: 328 | H9: 751 | I9: 1 | J9: 0 | K9: 4 | L9: 0 | M9: 2 | N9: 40 | O9: 0 | P9: 7 | Q9: 1026 | R9: 12 | S9: 74 | T9: 2113 | U9: 68 | V9: 0 | W9: 0 | X9: 280 | Y9: 0 | Z9: 0 | AA9: 0 | AB9: 777 | AC9: 52 | AD9: 0 | AE9: 0 | AF9: 3 | AG9: 1 | AH9: 122 | AI9: 164 | AJ9: 2 | AK9: 2 | AL9: 74 | AM9: 96 | AN9: 894 | AO9: 16 | AP9: =A9 -> גבעת זאב | AQ9: =F9 -> 6893 | AR9: =H9 -> 751 | AS9: =Q9 -> 1026 | AT9: =T9 -> 2113 | AU9: =AN9 -> 894 | AW9: =AU9+AR9 -> 1645 | AX9: =AS9+X9 -> 1306 | AY9: =AT9 -> 2113 | AZ9: =AW9/$AQ9 -> 0.2386479 | BA9: =AX9/$AQ9 -> 0.18946758 | BB9: =AY9/$AQ9 -> 0.30654287 | BC9: =SUM(AZ9:BB9) -> 0.73465835 | BD9: =AR9/AW9 -> 0.45653495
A10: חצור הגלילית | B10: 2034 | C10: 6799 | D10: 4471 | E10: 53 | F10: 4418 | G10: 230 | H10: 638 | I10: 1 | J10: 0 | K10: 2 | L10: 0 | M10: 1 | N10: 7 | O10: 0 | P10: 8 | Q10: 548 | R10: 8 | S10: 59 | T10: 1475 | U10: 16 | V10: 0 | W10: 0 | X10: 94 | Y10: 0 | Z10: 1 | AA10: 1 | AB10: 297 | AC10: 43 | AD10: 1 | AE10: 0 | AF10: 2 | AG10: 7 | AH10: 81 | AI10: 100 | AJ10: 3 | AK10: 1 | AL10: 34 | AM10: 4 | AN10: 756 | AO10: 11 | AP10: =A10 -> חצור הגלילית | AQ10: =F10 -> 4418 | AR10: =H10 -> 638 | AS10: =Q10 -> 548 | AT10: =T10 -> 1475 | AU10: =AN10 -> 756 | AW10: =AU10+AR10 -> 1394 | AX10: =AS10+X10 -> 642 | AY10: =AT10 -> 1475 | AZ10: =AW10/$AQ10 -> 0.31552739 | BA10: =AX10/$AQ10 -> 0.14531462 | BB10: =AY10/$AQ10 -> 0.33386148 | BC10: =SUM(AZ10:BB10) -> 0.79470349 | BD10: =AR10/AW10 -> 0.45767575
A11: טבריה | B11: 6700 | C11: 33054 | D11: 17896 | E11: 191 | F11: 17705 | G11: 986 | H11: 702 | I11: 2 | J11: 1 | K11: 13 | L11: 0 | M11: 15 | N11: 33 | O11: 0 | P11: 25 | Q11: 1784 | R11: 137 | S11: 366 | T11: 6264 | U11: 108 | V11: 6 | W11: 8 | X11: 293 | Y11: 3 | Z11: 9 | AA11: 3 | AB11: 1485 | AC11: 212 | AD11: 13 | AE11: 0 | AF11: 12 | AG11: 14 | AH11: 314 | AI11: 655 | AJ11: 17 | AK11: 4 | AL11: 190 | AM11: 32 | AN11: 3999 | AO11: 57 | AP11: =A11 -> טבריה | AQ11: =F11 -> 17705 | AR11: =H11 -> 702 | AS11: =Q11 -> 1784 | AT11: =T11 -> 6264 | AU11: =AN11 -> 3999 | AW11: =AU11+AR11 -> 4701 | AX11: =AS11+X11 -> 2077 | AY11: =AT11 -> 6264 | AZ11: =AW11/$AQ11 -> 0.26551822 | BA11: =AX11/$AQ11 -> 0.11731149 | BB11: =AY11/$AQ11 -> 0.35379836 | BC11: =SUM(AZ11:BB11) -> 0.73662807 | BD11: =AR11/AW11 -> 0.14932993
A12: יבנאל | B12: 46 | C12: 2241 | D12: 1635 | E12: 10 | F12: 1625 | G12: 94 | H12: 33 | I12: 0 | J12: 0 | K12: 2 | L12: 0 | M12: 4 | N12: 14 | O12: 0 | P12: 0 | Q12: 137 | R12: 0 | S12: 26 | T12: 228 | U12: 26 | V12: 0 | W12: 0 | X12: 42 | Y12: 0 | Z12: 0 | AA12: 0 | AB12: 210 | AC12: 32 | AD12: 0 | AE12: 0 | AF12: 1 | AG12: 0 | AH12: 20 | AI12: 45 | AJ12: 1 | AK12: 0 | AL12: 5 | AM12: 0 | AN12: 705 | AO12: 3 | AP12: =A12 -> יבנאל | AQ12: =F12 -> 1625 | AR12: =H12 -> 33 | AS12: =Q12 -> 137 | AT12: =T12 -> 228 | AU12: =AN12 -> 705 | AW12: =AU12+AR12 -> 738 | AX12: =AS12+X12 -> 179 | AY12: =AT12 -> 228 | AZ12: =AW12/$AQ12 -> 0.45415385 | BA12: =AX12/$AQ12 -> 0.11015385 | BB12: =AY12/$AQ12 -> 0.14030769 | BC12: =SUM(AZ12:BB12) -> 0.70461538 | BD12: =AR12/AW12 -> 0.044715447
A13: ירוחם | B13: 831 | C13: 6345 | D13: 3824 | E13: 71 | F13: 3753 | G13: 224 | H13: 369 | I13: 7 | J13: 2 | K13: 10 | L13: 2 | M13: 2 | N13: 13 | O13: 0 | P13: 8 | Q13: 592 | R13: 41 | S13: 38 | T13: 929 | U13: 51 | V13: 1 | W13: 1 | X13: 69 | Y13: 2 | Z13: 26 | AA13: 2 | AB13: 231 | AC13: 68 | AD13: 3 | AE13: 0 | AF13: 8 | AG13: 1 | AH13: 78 | AI13: 204 | AJ13: 2 | AK13: 5 | AL13: 54 | AM13: 6 | AN13: 704 | AO13: 11 | AP13: =A13 -> ירוחם | AQ13: =F13 -> 3753 | AR13: =H13 -> 369 | AS13: =Q13 -> 592 | AT13: =T13 -> 929 | AU13: =AN13 -> 704 | AW13: =AU13+AR13 -> 1073 | AX13: =AS13+X13 -> 661 | AY13: =AT13 -> 929 | AZ13: =AW13/$AQ13 -> 0.28590461 | BA13: =AX13/$AQ13 -> 0.17612577 | BB13: =AY13/$AQ13 -> 0.24753531 | BC13: =SUM(AZ13:BB13) -> 0.70956568 | BD13: =AR13/AW13 -> 0.34389562
... A22: רכסים | B22: 922 | C22: 5102 | D22: 4343 | E22: 17 | F22: 4326 | G22: 50 | H22: 1849 | I22: 0 | J22: 0 | K22: 2 | L22: 0 | M22: 0 | N22: 3 | O22: 0 | P22: 0 | Q22: 138 | R22: 2 | S22: 13 | T22: 253 | U22: 5 | V22: 0 | W22: 0 | X22: 32 | Y22: 0 | Z22: 0 | AA22: 0 | AB22: 94 | AC22: 76 | AD22: 0 | AE22: 0 | AF22: 1 | AG22: 1 | AH22: 29 | AI22: 20 | AJ22: 0 | AK22: 0 | AL22: 7 | AM22: 1 | AN22: 1750 | AO22: 9 | AP22: =A22 -> רכסים | AQ22: =F22 -> 4326 | AR22: =H22 -> 1849 | AS22: =Q22 -> 138 | AT22: =T22 -> 253 | AU22: =AN22 -> 1750 | AW22: =AU22+AR22 -> 3599 | AX22: =AS22+X22 -> 170 | AY22: =AT22 -> 253 | AZ22: =AW22/$AQ22 -> 0.83194637 | BA22: =AX22/$AQ22 -> 0.039297272 | BB22: =AY22/$AQ22 -> 0.058483588 | BC22: =SUM(AZ22:BB22) -> 0.92972723 | BD22: =AR22/AW22 -> 0.51375382
A23: ערד | B23: 922 | C23: 20736 | D23: 11609 | E23: 241 | F23: 11368 | G23: 1273 | H23: 1469 | I23: 19 | J23: 3 | K23: 34 | L23: 12 | M23: 24 | N23: 96 | O23: 0 | P23: 25 | Q23: 719 | R23: 224 | S23: 135 | T23: 3808 | U23: 303 | V23: 4 | W23: 7 | X23: 215 | Y23: 9 | Z23: 35 | AA23: 3 | AB23: 1605 | AC23: 28 | AD23: 13 | AE23: 0 | AF23: 12 | AG23: 20 | AH23: 157 | AI23: 579 | AJ23: 11 | AK23: 17 | AL23: 196 | AM23: 33 | AN23: 280 | AO23: 34 | AP23: ערד | AQ23: 11368 | AR23: 1469 | AS23: 719 | AT23: 3808 | AU23: 280 | AW23: =AU23+AR23 -> 1749 | AX23: =AS23+X23 -> 934 | AY23: =AT23 -> 3808 | AZ23: =AW23/$AQ23 -> 0.15385292 | BA23: =AX23/$AQ23 -> 0.08216045 | BB23: =AY23/$AQ23 -> 0.33497537 | BC23: =SUM(AZ23:BB23) -> 0.57098874 | BD23: =AR23/AW23 -> 0.83990852
C24: =SUM(C2:C23) -> 914020 | D24: =SUM(D2:D23) -> 611738 | E24: =SUM(E2:E23) -> 5603 | F24: =SUM(F2:F23) -> 606135 | G24: =SUM(G2:G23) -> 28851 | H24: =SUM(H2:H23) -> 157910 | I24: =SUM(I2:I23) -> 885 | J24: =SUM(J2:J23) -> 49 | ... AN24: =SUM(AN2:AN23) -> 119690
G25: =G24/$F$24 -> 0.047598307 | H25: =H24/$F$24 -> 0.26051952 | I25: =I24/$F$24 -> 0.0014600708 | J25: =J24/$F$24 -> 8.0840077e-05 | K25: =K24/$F$24 -> 0.00062857284 | L25: =L24/$F$24 -> 0.00010228744 | M25: =M24/$F$24 -> 0.0020985424 | N25: =N24/$F$24 -> 0.0024136537 | ... AN25: =AN24/$F$24 -> 0.19746426

Sheet 2015
A1: שם ישוב | B1: סמל ישוב | C1: בזב | D1: מצביעים | E1: פסולים | F1: כשרים | G1: אמת | H1: ג | I1: ודעם | J1: ז | K1: זך | L1: זץ | M1: טב | N1: י | O1: יז | P1: יך | Q1: יץ | R1: כ | S1: ל | T1: מחל | U1: מרצ | V1: נז | W1: ני | X1: נץ | Y1: ע | Z1: פה | AA1: ף | AB1: ףץ | AC1: קנ | AD1: קץ | AE1: רק | AF1: שס | AG1: מס' קלפיות | AI1: =F1 -> כשרים | AJ1: =H1 -> ג | AK1: =M1 -> טב | AL1: מחל + ישראל ביתינו | AM1: =AD1 -> קץ | AN1: =AF1 -> שס | AP1: חרדים | AQ1: דתיים לאומיים | AR1: ליכוד | AS1: אחוז מצביעים חרדיים | AT1: אחוז מצביעים דתיים לאומיים | AU1: אחוז מצביעי ליכוד | AV1: אחוז מצביעי ימין מדיני | AW1: אחוז יהדות התורה
A2: אופקים | B2: 31 | C2: 18915 | D2: 12637 | E2: 184 | F2: 12453 | G2: 650 | H2: 1808 | I2: 9 | J2: 1 | K2: 3 | L2: 2 | M2: 730 | N2: 3 | O2: 0 | P2: 0 | Q2: 0 | R2: 625 | S2: 1258 | T2: 3752 | U2: 66 | V2: 5 | W2: 0 | X2: 4 | Y2: 7 | Z2: 378 | AA2: 8 | AB2: 4 | AC2: 116 | AD2: 569 | AE2: 5 | AF2: 2450 | AG2: 33 | AH2: =A2 -> אופקים | AI2: =F2 -> 12453 | AJ2: =H2 -> 1808 | AK2: =M2 -> 730 | AL2: =T2+S2 -> 5010 | AM2: =AD2 -> 569 | AN2: =AF2 -> 2450 | AP2: =AN2+AJ2 -> 4258 | AQ2: =AK2+AM2 -> 1299 | AR2: =AL2 -> 5010 | AS2: =AP2/$AI2 -> 0.34192564 | AT2: =AQ2/$AI2 -> 0.10431221 | AU2: =AR2/$AI2 -> 0.4023127 | AV2: =SUM(AS2:AU2) -> 0.84855055 | AW2: =AJ2/AP2 -> 0.42461249
A3: אלעד | B3: 1309 | C3: 17047 | D3: 15105 | E3: 228 | F3: 14877 | G3: 30 | H3: 5000 | I3: 1 | J3: 0 | K3: 0 | L3: 0 | M3: 754 | N3: 1 | O3: 0 | P3: 0 | Q3: 0 | R3: 69 | S3: 13 | T3: 663 | U3: 2 | V3: 6 | W3: 0 | X3: 2 | Y3: 0 | Z3: 12 | AA3: 0 | AB3: 10 | AC3: 25 | AD3: 2094 | AE3: 2 | AF3: 6193 | AG3: 27 | AH3: =A3 -> אלעד | AI3: =F3 -> 14877 | AJ3: =H3 -> 5000 | AK3: =M3 -> 754 | AL3: =T3+S3 -> 676 | AM3: =AD3 -> 2094 | AN3: =AF3 -> 6193 | AP3: =AN3+AJ3 -> 11193 | AQ3: =AK3+AM3 -> 2848 | AR3: =AL3 -> 676 | AS3: =AP3/$AI3 -> 0.75236943 | AT3: =AQ3/$AI3 -> 0.19143645 | AU3: =AR3/$AI3 -> 0.045439269 | AV3: =SUM(AS3:AU3) -> 0.98924514 | AW3: =AJ3/AP3 -> 0.44670776
A4: אשדוד | B4: 70 | C4: 170193 | D4: 115145 | E4: 1942 | F4: 113203 | G4: 9694 | H4: 11132 | I4: 33 | J4: 7 | K4: 4 | L4: 15 | M4: 5486 | N4: 43 | O4: 6 | P4: 0 | Q4: 10 | R4: 8616 | S4: 15127 | T4: 35653 | U4: 854 | V4: 27 | W4: 26 | X4: 14 | Y4: 10 | Z4: 8841 | AA4: 26 | AB4: 74 | AC4: 1322 | AD4: 4180 | AE4: 80 | AF4: 11923 | AG4: 282 | AH4: =A4 -> אשדוד | AI4: =F4 -> 113203 | AJ4: =H4 -> 11132 | AK4: =M4 -> 5486 | AL4: =T4+S4 -> 50780 | AM4: =AD4 -> 4180 | AN4: =AF4 -> 11923 | AP4: =AN4+AJ4 -> 23055 | AQ4: =AK4+AM4 -> 9666 | AR4: =AL4 -> 50780 | AS4: =AP4/$AI4 -> 0.20366068 | AT4: =AQ4/$AI4 -> 0.08538643 | AU4: =AR4/$AI4 -> 0.44857468 | AV4: =SUM(AS4:AU4) -> 0.73762179 | AW4: =AJ4/AP4 -> 0.48284537
A5: בית שאן | B5: 9200 | C5: 13392 | D5: 9408 | E5: 97 | F5: 9311 | G5: 467 | H5: 88 | I5: 31 | J5: 1 | K5: 0 | L5: 6 | M5: 595 | N5: 1 | O5: 0 | P5: 0 | Q5: 0 | R5: 666 | S5: 236 | T5: 4742 | U5: 27 | V5: 3 | W5: 0 | X5: 3 | Y5: 3 | Z5: 287 | AA5: 2 | AB5: 11 | AC5: 69 | AD5: 322 | AE5: 6 | AF5: 1745 | AG5: 22 | AH5: =A5 -> בית שאן | AI5: =F5 -> 9311 | AJ5: =H5 -> 88 | AK5: =M5 -> 595 | AL5: =T5+S5 -> 4978 | AM5: =AD5 -> 322 | AN5: =AF5 -> 1745 | AP5: =AN5+AJ5 -> 1833 | AQ5: =AK5+AM5 -> 917 | AR5: =AL5 -> 4978 | AS5: =AP5/$AI5 -> 0.19686392 | AT5: =AQ5/$AI5 -> 0.098485662 | AU5: =AR5/$AI5 -> 0.53463645 | AV5: =SUM(AS5:AU5) -> 0.82998604 | AW5: =AJ5/AP5 -> 0.048008729
A6: בית שמש | B6: 2610 | C6: 50926 | D6: 34382 | E6: 504 | F6: 33878 | G6: 1111 | H6: 9589 | I6: 8 | J6: 1 | K6: 1 | L6: 1 | M6: 3053 | N6: 0 | O6: 0 | P6: 0 | Q6: 0 | R6: 1187 | S6: 1321 | T6: 9051 | U6: 162 | V6: 34 | W6: 3 | X6: 4 | Y6: 1 | Z6: 881 | AA6: 2 | AB6: 10 | AC6: 169 | AD6: 2421 | AE6: 8 | AF6: 4860 | AG6: 82 | AH6: =A6 -> בית שמש | AI6: =F6 -> 33878 | AJ6: =H6 -> 9589 | AK6: =M6 -> 3053 | AL6: =T6+S6 -> 10372 | AM6: =AD6 -> 2421 | AN6: =AF6 -> 4860 | AP6: =AN6+AJ6 -> 14449 | AQ6: =AK6+AM6 -> 5474 | AR6: =AL6 -> 10372 | AS6: =AP6/$AI6 -> 0.42650097 | AT6: =AQ6/$AI6 -> 0.16157979 | AU6: =AR6/$AI6 -> 0.30615739 | AV6: =SUM(AS6:AU6) -> 0.89423815 | AW6: =AJ6/AP6 -> 0.66364454
A7: ביתר עילית | B7: 3780 | C7: 19103 | D7: 16125 | E7: 149 | F7: 15976 | G7: 22 | H7: 9347 | I7: 0 | J7: 1 | K7: 0 | L7: 0 | M7: 101 | N7: 1 | O7: 0 | P7: 0 | Q7: 0 | R7: 27 | S7: 26 | T7: 234 | U7: 9 | V7: 6 | W7: 0 | X7: 5 | Y7: 1 | Z7: 8 | AA7: 0 | AB7: 7 | AC7: 27 | AD7: 2249 | AE7: 1 | AF7: 3904 | AG7: 33 | AH7: =A7 -> ביתר עילית | AI7: =F7 -> 15976 | AJ7: =H7 -> 9347 | AK7: =M7 -> 101 | AL7: =T7+S7 -> 260 | AM7: =AD7 -> 2249 | AN7: =AF7 -> 3904 | AP7: =AN7+AJ7 -> 13251 | AQ7: =AK7+AM7 -> 2350 | AR7: =AL7 -> 260 | AS7: =AP7/$AI7 -> 0.82943165 | AT7: =AQ7/$AI7 -> 0.14709564 | AU7: =AR7/$AI7 -> 0.016274412 | AV7: =SUM(AS7:AU7) -> 0.9928017 | AW7: =AJ7/AP7 -> 0.70538073
A8: בני ברק | B8: 6100 | C8: 101291 | D8: 81065 | E8: 2444 | F8: 78621 | G8: 1004 | H8: 46661 | I8: 13 | J8: 2 | K8: 3 | L8: 9 | M8: 1848 | N8: 4 | O8: 3 | P8: 0 | Q8: 1 | R8: 902 | S8: 533 | T8: 3591 | U8: 158 | V8: 30 | W8: 1 | X8: 8 | Y8: 4 | Z8: 508 | AA8: 4 | AB8: 36 | AC8: 129 | AD8: 4323 | AE8: 3 | AF8: 18843 | AG8: 167 | AH8: =A8 -> בני ברק | AI8: =F8 -> 78621 | AJ8: =H8 -> 46661 | AK8: =M8 -> 1848 | AL8: =T8+S8 -> 4124 | AM8: =AD8 -> 4323 | AN8: =AF8 -> 18843 | AP8: =AN8+AJ8 -> 65504 | AQ8: =AK8+AM8 -> 6171 | AR8: =AL8 -> 4124 | AS8: =AP8/$AI8 -> 0.83316162 | AT8: =AQ8/$AI8 -> 0.07849048 | AU8: =AR8/$AI8 -> 0.052454179 | AV8: =SUM(AS8:AU8) -> 0.96410628 | AW8: =AJ8/AP8 -> 0.71233818
A9: גבעת זאב | B9: 3730 | C9: 10109 | D9: 7854 | E9: 52 | F9: 7802 | G9: 567 | H9: 1051 | I9: 6 | J9: 1 | K9: 0 | L9: 2 | M9: 813 | N9: 1 | O9: 0 | P9: 0 | Q9: 0 | R9: 472 | S9: 119 | T9: 2644 | U9: 64 | V9: 4 | W9: 1 | X9: 0 | Y9: 0 | Z9: 498 | AA9: 0 | AB9: 2 | AC9: 80 | AD9: 599 | AE9: 3 | AF9: 875 | AG9: 18 | AH9: =A9 -> גבעת זאב | AI9: =F9 -> 7802 | AJ9: =H9 -> 1051 | AK9: =M9 -> 813 | AL9: =T9+S9 -> 2763 | AM9: =AD9 -> 599 | AN9: =AF9 -> 875 | AP9: =AN9+AJ9 -> 1926 | AQ9: =AK9+AM9 -> 1412 | AR9: =AL9 -> 2763 | AS9: =AP9/$AI9 -> 0.24685978 | AT9: =AQ9/$AI9 -> 0.18097924 | AU9: =AR9/$AI9 -> 0.35413996 | AV9: =SUM(AS9:AU9) -> 0.78197898 | AW9: =AJ9/AP9 -> 0.54569055
A10: חצור הגלילית | B10: 2034 | C10: 6885 | D10: 4914 | E10: 41 | F10: 4873 | G10: 295 | H10: 699 | I10: 4 | J10: 0 | K10: 0 | L10: 0 | M10: 303 | N10: 1 | O10: 0 | P10: 0 | Q10: 1 | R10: 327 | S10: 264 | T10: 2156 | U10: 10 | V10: 1 | W10: 0 | X10: 0 | Y10: 1 | Z10: 105 | AA10: 1 | AB10: 5 | AC10: 49 | AD10: 167 | AE10: 3 | AF10: 481 | AG10: 11 | AH10: =A10 -> חצור הגלילית | AI10: =F10 -> 4873 | AJ10: =H10 -> 699 | AK10: =M10 -> 303 | AL10: =T10+S10 -> 2420 | AM10: =AD10 -> 167 | AN10: =AF10 -> 481 | AP10: =AN10+AJ10 -> 1180 | AQ10: =AK10+AM10 -> 470 | AR10: =AL10 -> 2420 | AS10: =AP10/$AI10 -> 0.24215063 | AT10: =AQ10/$AI10 -> 0.096449826 | AU10: =AR10/$AI10 -> 0.496614 | AV10: =SUM(AS10:AU10) -> 0.83521445 | AW10: =AJ10/AP10 -> 0.59237288
A11: טבריה | B11: 6700 | C11: 33447 | D11: 20411 | E11: 192 | F11: 20219 | G11: 1520 | H11: 719 | I11: 26 | J11: 2 | K11: 1 | L11: 4 | M11: 983 | N11: 1 | O11: 0 | P11: 0 | Q11: 1 | R11: 1772 | S11: 1240 | T11: 9005 | U11: 99 | V11: 3 | W11: 2 | X11: 0 | Y11: 2 | Z11: 931 | AA11: 1 | AB11: 15 | AC11: 170 | AD11: 682 | AE11: 3 | AF11: 3037 | AG11: 58 | AH11: =A11 -> טבריה | AI11: =F11 -> 20219 | AJ11: =H11 -> 719 | AK11: =M11 -> 983 | AL11: =T11+S11 -> 10245 | AM11: =AD11 -> 682 | AN11: =AF11 -> 3037 | AP11: =AN11+AJ11 -> 3756 | AQ11: =AK11+AM11 -> 1665 | AR11: =AL11 -> 10245 | AS11: =AP11/$AI11 -> 0.18576586 | AT11: =AQ11/$AI11 -> 0.082348286 | AU11: =AR11/$AI11 -> 0.50670162 | AV11: =SUM(AS11:AU11) -> 0.77481577 | AW11: =AJ11/AP11 -> 0.19142705
A12: יבנאל | B12: 46 | C12: 2350 | D12: 1780 | E12: 9 | F12: 1771 | G12: 197 | H12: 36 | I12: 3 | J12: 0 | K12: 0 | L12: 0 | M12: 103 | N12: 0 | O12: 0 | P12: 0 | Q12: 0 | R12: 116 | S12: 13 | T12: 373 | U12: 30 | V12: 1 | W12: 0 | X12: 0 | Y12: 0 | Z12: 103 | AA12: 0 | AB12: 1 | AC12: 23 | AD12: 98 | AE12: 3 | AF12: 671 | AG12: 4 | AH12: =A12 -> יבנאל | AI12: =F12 -> 1771 | AJ12: =H12 -> 36 | AK12: =M12 -> 103 | AL12: =T12+S12 -> 386 | AM12: =AD12 -> 98 | AN12: =AF12 -> 671 | AP12: =AN12+AJ12 -> 707 | AQ12: =AK12+AM12 -> 201 | AR12: =AL12 -> 386 | AS12: =AP12/$AI12 -> 0.39920949 | AT12: =AQ12/$AI12 -> 0.1134952 | AU12: =AR12/$AI12 -> 0.21795596 | AV12: =SUM(AS12:AU12) -> 0.73066064 | AW12: =AJ12/AP12 -> 0.050919378
A13: ירוחם | B13: 831 | C13: 6545 | D13: 4209 | E13: 88 | F13: 4121 | G13: 333 | H13: 308 | I13: 31 | J13: 0 | K13: 0 | L13: 2 | M13: 465 | N13: 2 | O13: 0 | P13: 0 | Q13: 0 | R13: 328 | S13: 316 | T13: 1345 | U13: 49 | V13: 5 | W13: 0 | X13: 1 | Y13: 4 | Z13: 132 | AA13: 1 | AB13: 1 | AC13: 73 | AD13: 101 | AE13: 4 | AF13: 620 | AG13: 11 | AH13: =A13 -> ירוחם | AI13: =F13 -> 4121 | AJ13: =H13 -> 308 | AK13: =M13 -> 465 | AL13: =T13+S13 -> 1661 | AM13: =AD13 -> 101 | AN13: =AF13 -> 620 | AP13: =AN13+AJ13 -> 928 | AQ13: =AK13+AM13 -> 566 | AR13: =AL13 -> 1661 | AS13: =AP13/$AI13 -> 0.22518806 | AT13: =AQ13/$AI13 -> 0.1373453 | AU13: =AR13/$AI13 -> 0.40305751 | AV13: =SUM(AS13:AU13) -> 0.76559088 | AW13: =AJ13/AP13 -> 0.33189655
... A23: ערד | B23: 922 | C23: 20805 | D23: 12552 | E23: 255 | F23: 12297 | G23: 1871 | H23: 1837 | I23: 96 | J23: 2 | K23: 0 | L23: 1 | M23: 526 | N23: 1 | O23: 0 | P23: 0 | Q23: 3 | R23: 746 | S23: 1829 | T23: 2764 | U23: 260 | V23: 5 | W23: 3 | X23: 2 | Y23: 9 | Z23: 1605 | AA23: 9 | AB23: 8 | AC23: 283 | AD23: 292 | AE23: 16 | AF23: 129 | AG23: 34 | AH23: =A23 -> ערד | AI23: =F23 -> 12297 | AJ23: =H23 -> 1837 | AK23: =M23 -> 526 | AL23: =T23+S23 -> 4593 | AM23: =AD23 -> 292 | AN23: =AF23 -> 129 | AP23: =AN23+AJ23 -> 1966 | AQ23: =AK23+AM23 -> 818 | AR23: =AL23 -> 4593 | AS23: =AP23/$AI23 -> 0.15987639 | AT23: =AQ23/$AI23 -> 0.06652029 | AU23: =AR23/$AI23 -> 0.37350573 | AV23: =SUM(AS23:AU23) -> 0.59990242 | AW23: =AJ23/AP23 -> 0.93438454

Sheet מיפוי רשויות עם חרדים
A1: שם הרשות | B1: 2008 | C1: 2009 | D1: 2010 | E1: 2011 | F1: 2012 | G1: 2013 | H1: 2014 | I1: 2015 | J1: 2016 | M1: שם הרשות | N1: 2008 | O1: 2009 | P1: 2010 | Q1: 2011 | R1: 2012 | S1: 2013 | T1: 2014 | U1: 2015 | V1: 2016 | X1: שם ישוב | Y1: ג | Z1: טב | AA1: קץ | AB1: שס | AC1: רשות מקומית | AD1: ש"ס + דגל התורה | AE1: בז"בים | AF1: אוכלוסיה חרדית (הערכה לפי ממוצע של 5 נפשות) | AH1: שיטת חישוב | AI1: תעריף למ"ר (₪) | AJ1: שטח דירה ממוצע | AK1: אחוז גביה מארנונה למגורים בשותף 2016 | AL1: הערות | AM1: שנה | AO1: תעריף משוקלל בפועל לשנת 2018
A2: עיר כרמל | B2: 0 | C2: 0 | D2: 0 | E2: 0 | F2: 0 | G2: 0 | H2: 0 | I2: 0 | J2: 0 | M2: מודיעין עילית | N2: 0 | O2: 0 | P2: 0 | Q2: #VALUE! | R2: #VALUE! | S2: 0 | T2: 0.000814 | U2: 0.0021 | V2: 9.1e-05 | X2: קוממיות | Y2: 0.97014925 | Z2: 0 | AA2: 0.029850746 | AB2: 0 | AC2: שפיר | AD2: =AB2+Y2+AA2 -> 1 | AE2: =VLOOKUP($X2,#REF!,3,FALSE) -> #REF! | AF2: =AE2*AD2 -> #REF! | AG2: =AF2/$AF$122 -> #REF! | AN2: =SUM($AG$2:AG2) -> #REF! | AO2: =AI2 -> 0 | AQ2: =AO2*AJ2 -> 0
A3: שגור* | B3: 0 | C3: 0 | D3: 0 | E3: 0 | F3: 0 | G3: 0 | H3: 0 | I3: 0 | J3: 0 | M3: ביתר עילית | N3: 0 | O3: 0 | P3: 0 | Q3: #VALUE! | R3: #VALUE! | S3: 0 | T3: 0.001674 | U3: 0.003465 | V3: 0.003978 | X3: ביתר עילית | Y3: 0.5850651 | Z3: 0.006321983 | AA3: 0.14077366 | AB3: 0.24436655 | AC3: ביתר עלית | AD3: =AB3+Y3 -> 0.82943165 | AE3: =VLOOKUP($X3,#REF!,3,FALSE) -> #REF! | AF3: =AE3*AD3 -> #REF! | AG3: =AF3/$AF$122 -> #REF! | AH3: ברוטו ברוטו | AI3: 41.19 | AJ3: 104.03038 | AK3: 0.97316352 | AM3: 2018 | AN3: =SUM($AG$2:AG3) -> #REF! | AO3: =AI3 -> 41.19 | AP3: =AO3/$AO$2 -> #DIV/0! | AQ3: =AO3*AJ3 -> 4285.0114 | AR3: =AQ3/$AQ$2 -> #DIV/0!
A4: מודיעין עילית | B4: 0 | C4: 0 | D4: 0 | E4: #VALUE! | F4: #VALUE! | G4: 0 | H4: 0.000814 | I4: 0.0021 | J4: 9.1e-05 | M4: בני ברק | N4: 0 | O4: 0 | P4: 0 | Q4: #VALUE! | R4: #VALUE! | S4: 0 | T4: 0.002565 | U4: 0.003264 | V4: 0.00406 | X4: יסודות | Y4: 0.91881919 | Z4: 0.025830258 | AA4: 0.033210332 | AB4: 0.014760148 | AC4: נחל שורק | AD4: =AB4+Y4+AA4 -> 0.96678967 | AE4: =VLOOKUP($X4,#REF!,3,FALSE) -> #REF! | AF4: =AE4*AD4 -> #REF! | AG4: =AF4/$AF$122 -> #REF! | AN4: =SUM($AG$2:AG4) -> #REF! | AO4: =((75*AI4+(AJ4-75)*54.32)/AJ4)*1.2 -> #DIV/0! | AP4: =AO4/$AO$2 -> #DIV/0! | AQ4: =AO4*AJ4 -> #DIV/0! | AR4: =AQ4/$AQ$2 -> #DIV/0!
A5: ביתר עילית | B5: 0 | C5: 0 | D5: 0 | E5: #VALUE! | F5: #VALUE! | G5: 0 | H5: 0.001674 | I5: 0.003465 | J5: 0.003978 | M5: קריית יערים | N5: 0 | O5: 0 | P5: 0 | Q5: #VALUE! | R5: #VALUE! | S5: 0 | T5: 0.007872 | U5: 0.016226 | V5: 0.00612 | X5: מודיעין עילית | Y5: 0.75727373 | Z5: 0.01303735 | AA5: 0.041175878 | AB5: 0.16822712 | AC5: מודיעין עלית | AD5: =AB5+Y5 -> 0.92550086 | AE5: =VLOOKUP($X5,#REF!,3,FALSE) -> #REF! | AF5: =AE5*AD5 -> #REF! | AG5: =AF5/$AF$122 -> #REF! | AH5: ברוטו ברוטו | AI5: =35.14*102.18% -> 35.906052 | AJ5: 108.31662 | AK5: 1.0665355 | AL5: תעריף עד 150 מ"ר | AM5: 2017 | AN5: =SUM($AG$2:AG5) -> #REF! | AO5: =AI5*1.2 -> 43.087262 | AP5: =AO5/$AO$2 -> #DIV/0! | AQ5: =AO5*AJ5 -> 4667.0667 | AR5: =AQ5/$AQ$2 -> #DIV/0!
A6: בני ברק | B6: 0 | C6: 0 | D6: 0 | E6: #VALUE! | F6: #VALUE! | G6: 0 | H6: 0.002565 | I6: 0.003264 | J6: 0.00406 | M6: רכסים | N6: 0 | O6: 0 | P6: 0 | Q6: #VALUE! | R6: #VALUE! | S6: 0 | T6: 0.006976 | U6: 0.010728 | V6: 0.008568 | X6: אלומה | Y6: 0.2962963 | Z6: 0.0037037037 | AA6: 0.062962963 | AB6: 0.6037037 | AC6: שפיר | AD6: =AB6+Y6+AA6 -> 0.96296296 | AE6: =VLOOKUP($X6,#REF!,3,FALSE) -> #REF! | AF6: =AE6*AD6 -> #REF! | AG6: =AF6/$AF$122 -> #REF! | AN6: =SUM($AG$2:AG6) -> #REF! | AO6: =AI6*1.2 -> 0 | AP6: =AO6/$AO$2 -> #DIV/0! | AQ6: =AO6*AJ6 -> 0 | AR6: =AQ6/$AQ$2 -> #DIV/0!
A7: קריית יערים | B7: 0 | C7: 0 | D7: 0 | E7: #VALUE! | F7: #VALUE! | G7: 0 | H7: 0.007872 | I7: 0.016226 | J7: 0.00612 | M7: עמנואל | N7: 0 | O7: 0.024236 | P7: 0 | Q7: #VALUE! | R7: 0.02233 | S7: 0 | T7: 0.023166 | U7: 0.023489 | V7: 0.019363 | X7: בית חלקיה | Y7: 0.8902439 | Z7: 0.015243902 | AA7: 0.033536585 | AB7: 0.030487805 | AC7: נחל שורק | AD7: =AB7+Y7+AA7 -> 0.95426829 | AE7: =VLOOKUP($X7,#REF!,3,FALSE) -> #REF! | AF7: =AE7*AD7 -> #REF! | AG7: =AF7/$AF$122 -> #REF! | AN7: =SUM($AG$2:AG7) -> #REF! | AO7: =AI7*1.2 -> 0 | AP7: =AO7/$AO$2 -> #DIV/0! | AQ7: =AO7*AJ7 -> 0 | AR7: =AQ7/$AQ$2 -> #DIV/0!
A8: רכסים | B8: 0 | C8: 0 | D8: 0 | E8: #VALUE! | F8: #VALUE! | G8: 0 | H8: 0.006976 | I8: 0.010728 | J8: 0.008568 | M8: אלעד | N8: 0 | O8: 0.057798 | P8: 0.04843 | Q8: 0.048924 | R8: 0.048204 | S8: 0.067164 | T8: 0.05088 | U8: 0.05744 | V8: 0.071314 | X8: תפרח | Y8: 0.76876513 | Z8: 0.004842615 | AA8: 0.072639225 | AB8: 0.085956416 | AC8: מרחבים | AD8: =AB8+Y8+AA8 -> 0.92736077 | AE8: =VLOOKUP($X8,#REF!,3,FALSE) -> #REF! | AF8: =AE8*AD8 -> #REF! | AG8: =AF8/$AF$122 -> #REF! | AN8: =SUM($AG$2:AG8) -> #REF! | AO8: =((100*AI8+(AJ8-100)*51.17)/AJ8)*1.2 -> #DIV/0! | AP8: =AO8/$AO$2 -> #DIV/0! | AQ8: =AO8*AJ8 -> #DIV/0! | AR8: =AQ8/$AQ$2 -> #DIV/0!
A9: עמנואל | B9: 0 | C9: 0.024236 | D9: 0 | E9: #VALUE! | F9: 0.02233 | G9: 0 | H9: 0.023166 | I9: 0.023489 | J9: 0.019363 | M9: בית שמש | N9: 0.13002 | O9: 0.142345 | P9: 0.1428 | Q9: 0.128214 | R9: 0.12402 | S9: 0.123009 | T9: 0.113088 | U9: 0.09486 | V9: 0.093296 | X9: אור הגנוז | Y9: 0.584 | Z9: 0.048 | AA9: 0.064 | AB9: 0.264 | AC9: מרום הגליל | AD9: =AB9+Y9+AA9 -> 0.912 | AE9: =VLOOKUP($X9,#REF!,3,FALSE) -> #REF! | AF9: =AE9*AD9 -> #REF! | AG9: =AF9/$AF$122 -> #REF! | AN9: =SUM($AG$2:AG9) -> #REF! | AO9: =AI9*1.2 -> 0 | AP9: =AO9/$AO$2 -> #DIV/0! | AQ9: =AO9*AJ9 -> 0 | AR9: =AQ9/$AQ$2 -> #DIV/0!
A10: ג'סר א-זרקא | B10: 0 | C10: 0 | D10: 0 | E10: 0.06188 | F10: 0.041676 | G10: 0.049476 | H10: 0.043865 | I10: 0.017869 | J10: 0.036267 | M10: ירושלים | N10: 0.098728 | O10: 0.089639 | P10: 0.094094 | Q10: 0.083468 | R10: 0.089559 | S10: 0.099864 | T10: 0.080388 | U10: 0.09792 | V10: 0.117978 | X10: קרית יערים | Y10: 0.69333333 | Z10: 0.022777778 | AA10: 0.078333333 | AB10: 0.13388889 | AC10: קריית יערים | AD10: =AB10+Y10 -> 0.82722222 | AE10: =VLOOKUP($X10,#REF!,3,FALSE) -> #REF! | AF10: =AE10*AD10 -> #REF! | AG10: =AF10/$AF$122 -> #REF! | AH10: ברוטו | AI10: =40.89*102.18% -> 41.781402 | AJ10: 144.9 | AK10: 0.95399949 | AL10: לדירת מגורים, צמוד קרקע יותר יקר | AM10: 2017 | AN10: =SUM($AG$2:AG10) -> #REF! | AO10: =AI10*1.2 -> 50.137682 | AP10: =AO10/$AO$2 -> #DIV/0! | AQ10: =AO10*AJ10 -> 7264.9502 | AR10: =AQ10/$AQ$2 -> #DIV/0!
A11: נווה מדבר | B11: 0 | C11: 0 | D11: 0 | E11: 0 | F11: 0.163506 | G11: 0 | H11: 0.19044 | I11: 0.034 | J11: 0.044676 | M11: צפת | N11: 0.135864 | O11: 0.100487 | P11: 0.098355 | Q11: 0.127395 | R11: 0.152847 | S11: 0.15946 | T11: 0.121644 | U11: 0.11481 | V11: 0.131227 | X11: אלעד | Y11: 0.33608927 | Z11: 0.050682261 | AA11: 0.14075418 | AB11: 0.41628016 | AC11: אלעד | AD11: =AB11+Y11 -> 0.75236943 | AE11: =VLOOKUP($X11,#REF!,3,FALSE) -> #REF! | AF11: =AE11*AD11 -> #REF! | AG11: =AF11/$AF$122 -> #REF! | AH11: ברוטו ברוטו | AI11: 46.87 | AJ11: 115.78165 | AK11: 0.99776201 | AL11: עד 100 מ"ר, לכל מ"ר נוסף התעריף הוא 51.17 | AM11: 2018 | AN11: =SUM($AG$2:AG11) -> #REF! | AO11: =AI11*1.2 -> 56.244 | AP11: =AO11/$AO$2 -> #DIV/0! | AQ11: =AO11*AJ11 -> 6512.0232 | AR11: =AQ11/$AQ$2 -> #DIV/0!
A12: אלעד | B12: 0 | C12: 0.057798 | D12: 0.04843 | E12: 0.048924 | F12: 0.048204 | G12: 0.067164 | H12: 0.05088 | I12: 0.05744 | J12: 0.071314 | M12: בית שאן | N12: 0.160304 | O12: 0.195164 | P12: 0.21588 | Q12: 0.216931 | R12: 0.266175 | S12: 0.301806 | T12: 0.269012 | U12: 0.22288 | V12: 0.154309 | X12: בני ברק | Y12: 0.59349283 | Z12: 0.02350517 | AA12: 0.054985309 | AB12: 0.23966879 | AC12: בני ברק | AD12: =AB12+Y12 -> 0.83316162 | AE12: =VLOOKUP($X12,#REF!,3,FALSE) -> #REF! | AF12: =AE12*AD12 -> #REF! | AG12: =AF12/$AF$122 -> #REF! | AH12: נטו | AI12: 52.32 | AJ12: 76.161183 | AK12: 1.4143751 | AL12: התעריף המינימלי ביותר ניסו בשנת 2018 להכניס את השטחים המשותפים | AM12: 2018 | AN12: =SUM($AG$2:AG12) -> #REF! | AO12: =AI12*1.2 -> 62.784 | AP12: =AO12/$AO$2 -> #DIV/0! | AQ12: =AO12*AJ12 -> 4781.7037 | AR12: =AQ12/$AQ$2 -> #DIV/0!
A13: ערערה-בנגב | B13: 0.049896 | C13: 0.134332 | D13: 0.15655 | E13: 0.165141 | F13: 0.11 | G13: 0.153846 | H13: 0.16632 | I13: 0.097019 | J13: 0.076612 | M13: חצור הגלילית | N13: 0.131632 | O13: 0.15505 | P13: 0.12751 | Q13: 0.099448 | R13: 0.128592 | S13: 0.206028 | T13: 0.086394 | U13: 0.103572 | V13: 0.165255 | X13: עמנואל | Y13: 0.28623188 | Z13: 0.046376812 | AA13: 0.26086957 | AB13: 0.3326087 | AC13: עמנואל | AD13: =AB13+Y13 -> 0.61884058 | AE13: =VLOOKUP($X13,#REF!,3,FALSE) -> #REF! | AF13: =AE13*AD13 -> #REF! | AG13: =AF13/$AF$122 -> #REF! | AN13: =SUM($AG$2:AG13) -> #REF! | AO13: =AI13*1.1 -> 0 | AP13: =AO13/$AO$2 -> #DIV/0! | AQ13: =AO13*AJ13 -> 0 | AR13: =AQ13/$AQ$2 -> #DIV/0!
A14: עילוט | B14: 0.05588 | C14: 0 | D14: 0.041125 | E14: 0.062835 | F14: 0.11648 | G14: 0.17537 | H14: 0.063536 | I14: 0.044805 | J14: 0.077916 | M14: אופקים | N14: 0.103127 | O14: 0.11297 | P14: 0.135907 | Q14: 0.094627 | R14: 0.135564 | S14: 0.115988 | T14: 0.138003 | U14: 0.123402 | V14: 0.179916 | X14: מתתיהו | Y14: 0.73853211 | Z14: 0.055045872 | AA14: 0.091743119 | AB14: 0.041284404 | AC14: מטה בנימין | AD14: =AB14+Y14+AA14 -> 0.87155963 | AE14: =VLOOKUP($X14,#REF!,3,FALSE) -> #REF! | AF14: =AE14*AD14 -> #REF! | AG14: =AF14/$AF$122 -> #REF! | AN14: =SUM($AG$2:AG14) -> #REF! | AO14: =AI14*1.2 -> 0 | AP14: =AO14/$AO$2 -> #DIV/0! | AQ14: =AO14*AJ14 -> 0 | AR14: =AQ14/$AQ$2 -> #DIV/0!
A15: בית שמש | B15: 0.13002 | C15: 0.142345 | D15: 0.1428 | E15: 0.128214 | F15: 0.12402 | G15: 0.123009 | H15: 0.113088 | I15: 0.09486 | J15: 0.093296 | M15: גבעת זאב | N15: 0.288 | O15: 0.23766 | P15: 0.224256 | Q15: 0.26112 | R15: 0.264789 | S15: 0.259825 | T15: 0.222942 | U15: 0.263655 | V15: 0.180684 | X15: רכסים | Y15: 0.43377912 | Z15: 0.021138913 | AA15: 0.03580673 | AB15: 0.3783434 | AC15: רכסים | AD15: =AB15+Y15 -> 0.81212252 | AE15: =VLOOKUP($X15,#REF!,3,FALSE) -> #REF! | AF15: =AE15*AD15 -> #REF! | AG15: =AF15/$AF$122 -> #REF! | AH15: ברוטו ברוטו | AI15: 34.66 | AJ15: 117.81296 | AK15: 0.91756582 | AL15: מינימום (מקסימום 35.9) | AM15: 2018
A16: תל שבע | B16: 0.12814 | C16: 0.091427 | D16: 0.146484 | E16: 0.151704 | F16: 0.16461 | G16: 0.202334 | H16: 0.179224 | I16: 0.14602 | J16: 0.098161 | M16: יבנאל | N16: 0.325 | O16: 0.404952 | P16: 0 | Q16: 0.3335 | R16: 0.21181 | S16: =R16 -> 0.21181 | T16: 0.287964 | U16: 0.289068 | V16: 0.1875 | X16: כפר חב"ד | Y16: 0.078130984 | Z16: 0.035618537 | AA16: 0.74837227 | AB16: 0.011489851 | AC16: כפר חב"ד | AD16: =AB16+Y16 -> 0.089620835 | AE16: =VLOOKUP($X16,#REF!,3,FALSE) -> #REF! | AF16: =AE16*AD16 -> #REF! | AG16: =AF16/$AF$122 -> #REF! | AH16: ברוטו ברוטו | AI16: 36.97 | AM16: 2018
A17: טובא-זנגרייה | B17: 0 | C17: 0 | D17: 0 | E17: 0.05244 | F17: #VALUE! | G17: 0 | H17: 0.08778 | I17: 0.063154 | J17: 0.116053 | M17: טבריה | N17: 0.15295 | O17: 0.159967 | P17: 0.15279 | Q17: 0.162024 | R17: 0.164934 | S17: 0.151011 | T17: 0.149586 | U17: 0.181916 | V17: 0.188271 | X17: נחליאל | Y17: 0.040983607 | Z17: 0.11065574 | AA17: 0.70901639 | AB17: 0.077868852 | AC17: מטה בנימין | AD17: =AB17+Y17+AA17 -> 0.82786885 | AE17: =VLOOKUP($X17,#REF!,3,FALSE) -> #REF! | AF17: =AE17*AD17 -> #REF! | AG17: =AF17/$AF$122 -> #REF! | AO17: =AI17*1.2 -> 0 | AP17: =AO17/$AO$2 -> #DIV/0!
A18: שגב-שלום | B18: 0 | C18: 0 | D18: 0 | E18: #VALUE! | F18: 0.088346 | G18: 0.088346 | H18: 0.13806 | I18: 0.076581 | J18: 0.11718 | M18: מגדל העמק | N18: 0.140346 | O18: 0.183889 | P18: 0.18437 | Q18: 0.12628 | R18: 0.190412 | S18: 0.223816 | T18: 0.27058 | U18: 0.20925 | V18: 0.201984 | X18: נווה | Y18: 0 | Z18: 0.20979021 | AA18: 0.77272727 | AB18: 0.006993007 | AC18: אשכול | AD18: =AB18+Y18+AA18 -> 0.77972028 | AE18: =VLOOKUP($X18,#REF!,3,FALSE) -> #REF! | AF18: =AE18*AD18 -> #REF! | AG18: =AF18/$AF$122 -> #REF!
A19: ירושלים | B19: 0.098728 | C19: 0.089639 | D19: 0.094094 | E19: 0.083468 | F19: 0.089559 | G19: 0.099864 | H19: 0.080388 | I19: 0.09792 | J19: 0.117978 | M19: לוד | N19: 0.11687 | O19: 0.122186 | P19: 0.116625 | Q19: 0.107822 | R19: 0.143975 | S19: 0.147934 | T19: 0.183696 | U19: 0.16694 | V19: 0.20265 | X19: יצהר | Y19: 0.013392857 | Z19: 0.20089286 | AA19: 0.74107143 | AB19: 0.0066964286 | AC19: שומרון | AD19: =AB19+Y19+AA19 -> 0.76116071 | AE19: =VLOOKUP($X19,#REF!,3,FALSE) -> #REF! | AF19: =AE19*AD19 -> #REF! | AG19: =AF19/$AF$122 -> #REF! | AO19: =AI19*1.1 -> 0 | AP19: =AO19/$AO$2 -> #DIV/0!
A20: צפת | B20: 0.135864 | C20: 0.100487 | D20: 0.098355 | E20: 0.127395 | F20: 0.152847 | G20: 0.15946 | H20: 0.121644 | I20: 0.11481 | J20: 0.131227 | M20: רמלה | N20: 0.14892 | O20: 0.168453 | P20: 0.127834 | Q20: 0.158918 | R20: 0.179068 | S20: 0.17069 | T20: 0.210496 | U20: 0.199232 | V20: 0.2162 | X20: מעלה עמוס | Y20: 0.44936709 | Z20: 0.18987342 | AA20: 0.20253165 | AB20: 0.10126582 | AC20: גוש עציון | AD20: =AB20+Y20+AA20 -> 0.75316456 | AE20: =VLOOKUP($X20,#REF!,3,FALSE) -> #REF! | AF20: =AE20*AD20 -> #REF! | AG20: =AF20/$AF$122 -> #REF!
A21: רהט | B21: 0.076041 | C21: 0.147552 | D21: 0.130962 | E21: 0.184788 | F21: 0.183458 | G21: 0.142912 | H21: 0.114686 | I21: 0.141317 | J21: 0.135828 | M21: נתיבות | N21: 0.160704 | O21: 0.166199 | P21: 0.13113 | Q21: 0.136122 | R21: 0.152576 | S21: 0.184356 | T21: 0.169023 | U21: 0.161262 | V21: 0.217488 | X21: כוכב יעקב | Y21: 0.10283159 | Z21: 0.15611028 | AA21: 0.31818182 | AB21: 0.31594635 | AC21: שומרון | AD21: =AB21+Y21 -> 0.41877794 | AE21: =VLOOKUP($X21,#REF!,3,FALSE) -> #REF! | AF21: =AE21*AD21 -> #REF! | AG21: =AF21/$AF$122 -> #REF!
A22: ביר אל-מכסור | B22: 0 | C22: 0.044288 | D22: 0.069064 | E22: 0.135447 | F22: 0.131275 | G22: 0.097536 | H22: 0.140378 | I22: 0.205884 | J22: 0.138024 | M22: ירוחם | N22: 0.205824 | O22: 0.241623 | P22: 0.161505 | Q22: 0.126283 | R22: 0.342023 | S22: 0.308308 | T22: 0.34844 | U22: 0.294378 | V22: 0.238204 | X22: בני נצרים | Y22: 0.011764706 | Z22: 0.25882353 | AA22: 0.69411765 | AB22: 0.0058823529 | AC22: אשכול | AD22: =AB22+Y22+AA22 -> 0.71176471 | AE22: =VLOOKUP($X22,#REF!,3,FALSE) -> #REF! | AF22: =AE22*AD22 -> #REF! | AG22: =AF22/$AF$122 -> #REF!
A23: בית שאן | B23: 0.160304 | C23: 0.195164 | D23: 0.21588 | E23: 0.216931 | F23: 0.266175 | G23: 0.301806 | H23: 0.269012 | I23: 0.22288 | J23: 0.154309 | M23: עמק המעיינות | N23: 0.316768 | O23: 0.28224 | P23: 0.316368 | Q23: 0.309174 | R23: 0.44612 | S23: 0.363204 | T23: 0.383635 | U23: 0.4588 | V23: 0.241536 | X23: אספר | Y23: 0.37297297 | Z23: 0.28108108 | AA23: 0.21621622 | AB23: 0.081081081 | AC23: גוש עציון | AD23: =AB23+Y23+AA23 -> 0.67027027 | AE23: =VLOOKUP($X23,#REF!,3,FALSE) -> #REF! | AF23: =AE23*AD23 -> #REF! | AG23: =AF23/$AF$122 -> #REF!
A24: חצור הגלילית | B24: 0.131632 | C24: 0.15505 | D24: 0.12751 | E24: 0.099448 | F24: 0.128592 | G24: 0.206028 | H24: 0.086394 | I24: 0.103572 | J24: 0.165255 | M24: עפולה | N24: 0.190619 | O24: 0.177968 | P24: 0.221 | Q24: 0.229024 | R24: 0.318826 | S24: 0.335733 | T24: 0.2873 | U24: 0.30315 | V24: 0.252882 | X24: כפר גדעון | Y24: 0.31538462 | Z24: 0.1 | AA24: 0.16923077 | AB24: 0.13846154 | AC24: עמק יזרעאל | AD24: =AB24+Y24+AA24 -> 0.62307692 | AE24: =VLOOKUP($X24,#REF!,3,FALSE) -> #REF! | AF24: =AE24*AD24 -> #REF! | AG24: =AF24/$AF$122 -> #REF!
A25: אום אל-פחם | B25: 0.089065 | C25: 0.1374 | D25: 0.173349 | E25: 0.1978 | F25: 0.163452 | G25: 0.19383 | H25: 0.18462 | I25: 0.187083 | J25: 0.171396 | M25: באר יעקב | N25: 0.192841 | O25: 0.137489 | P25: 0.121656 | Q25: 0.164776 | R25: 0.195104 | S25: 0.195836 | T25: 0.307561 | U25: 0.234784 | V25: 0.26334 | X25: עוצם | Y25: 0.0093167702 | Z25: 0.037267081 | AA25: 0.077639752 | AB25: 0.52484472 | AC25: לכיש | AD25: =AB25+Y25+AA25 -> 0.61180124 | AE25: =VLOOKUP($X25,#REF!,3,FALSE) -> #REF! | AF25: =AE25*AD25 -> #REF! | AG25: =AF25/$AF$122 -> #REF!
A26: אבו גוש | B26: 0.145432 | C26: 0.106785 | D26: 0.1005 | E26: #VALUE! | F26: 0.057876 | G26: 0.139601 | H26: 0.115368 | I26: 0.09462 | J26: 0.176136 | M26: אשדוד | N26: 0.25025 | O26: 0.289656 | P26: 0.255032 | Q26: 0.272832 | R26: 0.271908 | S26: 0.268056 | T26: 0.261612 | U26: 0.259686 | V26: 0.275965 | X26: שומריה | Y26: 0 | Z26: 0.39393939 | AA26: 0.55411255 | AB26: 0 | AC26: בני שמעון | AD26: =AB26+Y26+AA26 -> 0.55411255 | AE26: =VLOOKUP($X26,#REF!,3,FALSE) -> #REF! | AF26: =AE26*AD26 -> #REF! | AG26: =AF26/$AF$122 -> #REF!
A27: אופקים | B27: 0.103127 | C27: 0.11297 | D27: 0.135907 | E27: 0.094627 | F27: 0.135564 | G27: 0.115988 | H27: 0.138003 | I27: 0.123402 | J27: 0.179916 | M27: עכו | N27: 0.137407 | O27: 0.179463 | P27: 0.16116 | Q27: 0.24339 | R27: 0.233036 | S27: 0.281632 | T27: 0.324564 | U27: 0.334854 | V27: 0.29155 | X27: פני חבר | Y27: 0 | Z27: 0.31325301 | AA27: 0.54216867 | AB27: 0.0060240964 | AD27: =AB27+Y27+AA27 -> 0.54819277 | AE27: =VLOOKUP($X27,#REF!,3,FALSE) -> #REF! | AF27: =AE27*AD27 -> #REF! | AG27: =AF27/$AF$122 -> #REF!
A28: גבעת זאב | B28: 0.288 | C28: 0.23766 | D28: 0.224256 | E28: 0.26112 | F28: 0.264789 | G28: 0.259825 | H28: 0.222942 | I28: 0.263655 | J28: 0.180684 | M28: קריית שמונה | N28: 0.24273 | O28: 0.222176 | P28: 0.2436 | Q28: 0.269849 | R28: 0.2925 | S28: 0.388494 | T28: 0.29997 | U28: 0.325362 | V28: 0.295404 | X28: ברכיה | Y28: 0.0050761421 | Z28: 0.074450085 | AA28: 0.48900169 | AB28: 0.050761421 | AD28: =AB28+Y28+AA28 -> 0.54483926 | AE28: =VLOOKUP($X28,#REF!,3,FALSE) -> #REF! | AF28: =AE28*AD28 -> #REF! | AG28: =AF28/$AF$122 -> #REF!
A29: יבנאל | B29: 0.325 | C29: 0.404952 | D29: 0 | E29: 0.3335 | F29: 0.21181 | G29: 0 | H29: 0.287964 | I29: 0.289068 | J29: 0.1875 | M29: קריית ים | N29: 0.195834 | O29: 0.228 | P29: 0.27528 | Q29: 0.310738 | R29: 0.357742 | S29: 0.327222 | T29: 0.310478 | U29: 0.381021 | V29: 0.304608 | X29: זמרת | Y29: 0.0043859649 | Z29: 0.083333333 | AA29: 0.49561404 | AB29: 0.039473684 | AD29: =AB29+Y29+AA29 -> 0.53947368 | AE29: =VLOOKUP($X29,#REF!,3,FALSE) -> #REF! | AF29: =AE29*AD29 -> #REF! | AG29: =AF29/$AF$122 -> #REF!
A30: בוסתן אל-מרג' | B30: 0.13284 | C30: 0.153064 | D30: 0.097188 | E30: 0.16287 | F30: 0.119818 | G30: 0.135024 | H30: 0.182736 | I30: 0.24864 | J30: 0.188188 | M30: חדרה | N30: 0.223451 | O30: 0.187929 | P30: 0.194735 | Q30: 0.256022 | R30: 0.259448 | S30: 0.283672 | T30: 0.29876 | U30: 0.333395 | V30: 0.307998 | X30: בית שמש | Y30: 0.28304504 | Z30: 0.09011748 | AA30: 0.071462306 | AB30: 0.14345593 | AC30: בית שמש | AD30: =AB30+Y30 -> 0.42650097 | AE30: =VLOOKUP($X30,#REF!,3,FALSE) -> #REF! | AF30: =AE30*AD30 -> #REF! | AG30: =AF30/$AF$122 -> #REF! | AH30: ברוטו ברוטו | AI30: 40.09 | AJ30: 118.75716 | AK30: 0.95811665 | AL30: באזור ב' התעריף 46.13 | AM30: 2018
A31: טבריה | B31: 0.15295 | C31: 0.159967 | D31: 0.15279 | E31: 0.162024 | F31: 0.164934 | G31: 0.151011 | H31: 0.149586 | I31: 0.181916 | J31: 0.188271 | M31: קריית גת | N31: 0.223676 | O31: 0.24236 | P31: 0.236325 | Q31: 0.23815 | R31: 0.203967 | S31: 0.256188 | T31: 0.238286 | U31: 0.265392 | V31: 0.309504 | X31: חברון | Y31: 0 | Z31: 0.38961039 | AA31: 0.49350649 | AB31: 0.0043290043 | AD31: =AB31+Y31+AA31 -> 0.4978355 | AE31: =VLOOKUP($X31,#REF!,3,FALSE) -> #REF! | AF31: =AE31*AD31 -> #REF! | AG31: =AF31/$AF$122 -> #REF!
A32: עין מאהל | B32: 0.083148 | C32: 0 | D32: 0.077172 | E32: 0.11214 | F32: 0.164016 | G32: 0 | H32: 0.157368 | I32: 0.141824 | J32: 0.189244 | M32: דימונה | N32: 0.270882 | O32: 0.213227 | P32: 0.34927 | Q32: 0.267852 | R32: 0.303996 | S32: 0.30691 | T32: 0.374991 | U32: 0.3924 | V32: 0.31119 | X32: נתיבות | Y32: 0.06991714 | Z32: 0.055125659 | AA32: 0.19420667 | AB32: 0.23303431 | AC32: נתיבות | AD32: =AB32+Y32 -> 0.30295145 | AE32: =VLOOKUP($X32,#REF!,3,FALSE) -> #REF! | AF32: =AE32*AD32 -> #REF! | AG32: =AF32/$AF$122 -> #REF! | AH32: ברוטו ברוטו | AI32: 37.02 | AJ32: 100.45343 | AK32: 1.3371333 | AM32: 2018
A33: בסמת טבעון | B33: 0.08975 | C33: 0.0818 | D33: 0 | E33: 0.086751 | F33: 0.185504 | G33: 0 | H33: 0.136644 | I33: 0.125852 | J33: 0.191345 | M33: אור יהודה | N33: 0.205875 | O33: 0.288608 | P33: 0.262637 | Q33: 0.307034 | R33: 0.332816 | S33: 0.323056 | T33: 0.326895 | U33: 0.248585 | V33: 0.313795 | X33: איתן | Y33: 0.019685039 | Z33: 0.039370079 | AA33: 0.3976378 | AB33: 0.062992126 | AD33: =AB33+Y33+AA33 -> 0.48031496 | AE33: =VLOOKUP($X33,#REF!,3,FALSE) -> #REF! | AF33: =AE33*AD33 -> #REF! | AG33: =AF33/$AF$122 -> #REF!
A34: לקיה | B34: 0.10741 | C34: 0.2328 | D34: 0.251272 | E34: 0.234934 | F34: 0.252296 | G34: 0.252486 | H34: 0.190999 | I34: 0.218476 | J34: 0.191649 | M34: ערד | N34: 0.18343 | O34: 0.123444 | P34: 0.191496 | Q34: 0.194246 | R34: 0.185942 | S34: 0.307928 | T34: 0.248256 | U34: 0.276777 | V34: 0.316247 | X34: יושיביה | Y34: 0.016736402 | Z34: 0.083682008 | AA34: 0.28870293 | AB34: 0.17154812 | AD34: =AB34+Y34+AA34 -> 0.47698745 | AE34: =VLOOKUP($X34,#REF!,3,FALSE) -> #REF! | AF34: =AE34*AD34 -> #REF! | AG34: =AF34/$AF$122 -> #REF!
A35: עיילבון | B35: 0.355216 | C35: 0.2318 | D35: 0.181396 | E35: 0.19762 | F35: 0.316296 | G35: 0 | H35: 0.1674 | I35: 0.20176 | J35: 0.191774 | M35: קריית מלאכי | N35: 0.116063 | O35: 0.12364 | P35: 0.166344 | Q35: 0.097614 | R35: 0.174064 | S35: 0.149468 | T35: 0.155672 | U35: 0.239358 | V35: 0.319464 | X35: מירון | Y35: 0.17045455 | Z35: 0.3219697 | AA35: 0.23106061 | AB35: 0.068181818 | AD35: =AB35+Y35+AA35 -> 0.46969697 | AE35: =VLOOKUP($X35,#REF!,3,FALSE) -> #REF! | AF35: =AE35*AD35 -> #REF! | AG35: =AF35/$AF$122 -> #REF!
A36: בועיינה-נוג'ידאת | B36: 0.121064 | C36: 0.1104 | D36: 0.188111 | E36: 0.160402 | F36: 0.145312 | G36: 0.126169 | H36: 0.204435 | I36: 0.19453 | J36: 0.193158 | M36: עמק לוד | N36: 0.152796 | O36: 0.122474 | P36: 0.211968 | Q36: 0.124202 | R36: 0.179386 | S36: 0.18426 | T36: 0.16796 | U36: 0.18316 | V36: 0.334284 | X36: אחיעזר | Y36: 0.029481132 | Z36: 0.15919811 | AA36: 0.061320755 | AB36: 0.37028302 | AD36: =AB36+Y36 -> 0.39976415 | AE36: =VLOOKUP($X36,#REF!,3,FALSE) -> #REF! | AF36: =AE36*AD36 -> #REF! | AG36: =AF36/$AF$122 -> #REF!
A37: שפרעם | B37: 0.130473 | C37: 0.14608 | D37: 0.18564 | E37: 0.199294 | F37: 0.221244 | G37: 0.242321 | H37: 0.228516 | I37: 0.23564 | J37: 0.196524 | M37: נצרת עילית | N37: 0.30472 | O37: 0.261725 | P37: 0.22248 | Q37: 0.262276 | R37: 0.297984 | S37: 0.313995 | T37: 0.287432 | U37: 0.352974 | V37: 0.334375 | X37: כרם יבנה (ישיבה) | Y37: 0.081632653 | Z37: 0.5170068 | AA37: 0.37414966 | AB37: 0 | AD37: =AB37+Y37+AA37 -> 0.45578231 | AE37: =VLOOKUP($X37,#REF!,3,FALSE) -> #REF! | AF37: =AE37*AD37 -> #REF! | AG37: =AF37/$AF$122 -> #REF!
A38: אל קסום | B38: 0 | C38: 0 | D38: 0 | E38: 0 | F38: 0.09775 | G38: 0.153314 | H38: 0.18753 | I38: 0.161086 | J38: 0.197694 | M38: הגלבוע | N38: 0.20592 | O38: 0.16148 | P38: 0.188848 | Q38: 0.218688 | R38: 0.220176 | S38: 0.301941 | T38: 0.355482 | U38: 0.355656 | V38: 0.338218 | X38: יבנאל | Y38: 0.020327499 | Z38: 0.058159232 | AA38: 0.055335968 | AB38: 0.37888199 | AD38: =AB38+Y38 -> 0.39920949 | AE38: =VLOOKUP($X38,#REF!,3,FALSE) -> #REF! | AF38: =AE38*AD38 -> #REF! | AG38: =AF38/$AF$122 -> #REF!
A39: מגדל העמק | B39: 0.140346 | C39: 0.183889 | D39: 0.18437 | E39: 0.12628 | F39: 0.190412 | G39: 0.223816 | H39: 0.27058 | I39: 0.20925 | J39: 0.201984 | M39: קריית אתא | N39: 0.242328 | O39: 0.278444 | P39: 0.266789 | Q39: 0.28119 | R39: 0.340028 | S39: 0.354776 | T39: 0.336288 | U39: 0.337946 | V39: 0.341055 | X39: יד בנימין | Y39: 0.035859269 | Z39: 0.41542625 | AA39: 0.39580514 | AB39: 0.02097429 | AD39: =AB39+Y39+AA39 -> 0.4526387 | AE39: =VLOOKUP($X39,#REF!,3,FALSE) -> #REF! | AF39: =AE39*AD39 -> #REF! | AG39: =AF39/$AF$122 -> #REF!
A40: לוד | B40: 0.11687 | C40: 0.122186 | D40: 0.116625 | E40: 0.107822 | F40: 0.143975 | G40: 0.147934 | H40: 0.183696 | I40: 0.16694 | J40: 0.20265 | M40: מצפה רמון | N40: 0.291564 | O40: 0.341968 | P40: 0.363022 | Q40: 0.31644 | R40: 0.289 | S40: 0.442974 | T40: 0.325518 | U40: 0.475075 | V40: 0.34163 | X40: איתמר | Y40: 0.032663317 | Z40: 0.44723618 | AA40: 0.40703518 | AB40: 0.010050251 | AD40: =AB40+Y40+AA40 -> 0.44974874 | AE40: =VLOOKUP($X40,#REF!,3,FALSE) -> #REF! | AF40: =AE40*AD40 -> #REF! | AG40: =AF40/$AF$122 -> #REF!
A41: ריינה | B41: 0.0897 | C41: 0.07675 | D41: 0.128205 | E41: 0.13497 | F41: 0.197904 | G41: 0.208954 | H41: 0.18462 | I41: 0.20088 | J41: 0.206555 | M41: קריית מוצקין | N41: 0.366786 | O41: 0.340032 | P41: 0.321024 | Q41: 0.300398 | R41: 0.33909 | S41: 0.378261 | T41: 0.450528 | U41: 0.417298 | V41: 0.350686 | X41: בת עין | Y41: 0.017175573 | Z41: 0.35305344 | AA41: 0.40458015 | AB41: 0.026717557 | AD41: =AB41+Y41+AA41 -> 0.44847328 | AE41: =VLOOKUP($X41,#REF!,3,FALSE) -> #REF! | AF41: =AE41*AD41 -> #REF! | AG41: =AF41/$AF$122 -> #REF!
A42: ג'ולס | B42: 0.18816 | C42: 0.239 | D42: 0.199233 | E42: 0.119764 | F42: 0.347944 | G42: 0.39456 | H42: 0.470097 | I42: 0.358722 | J42: 0.2068 | M42: אזור | N42: 0.194532 | O42: 0.38216 | P42: 0.3485 | Q42: 0.330624 | R42: 0.364338 | S42: 0.561056 | T42: 0.473088 | U42: 0.3839 | V42: 0.354993 | X42: תלמים | Y42: 0.0048309179 | Z42: 0.096618357 | AA42: 0.36714976 | AB42: 0.074879227 | AD42: =AB42+Y42+AA42 -> 0.4468599 | AE42: =VLOOKUP($X42,#REF!,3,FALSE) -> #REF! | AF42: =AE42*AD42 -> #REF! | AG42: =AF42/$AF$122 -> #REF!
A43: סאג'ור | B43: 0.143115 | C43: 0.11304 | D43: 0.279885 | E43: 0.303696 | F43: 0.24895 | G43: 0.204728 | H43: 0.281443 | I43: 0.399555 | J43: 0.208808 | M43: פרדס חנה-כרכור | N43: 0.23484 | O43: 0.205656 | P43: 0.270765 | Q43: 0.251275 | R43: 0.276048 | S43: 0.311808 | T43: 0.328176 | U43: 0.383748 | V43: 0.356942 | X43: אדירים | Y43: 0.025 | Z43: 0.1375 | AA43: 0.025 | AB43: 0.36875 | AD43: =AB43+Y43+AA43 -> 0.41875 | AE43: =VLOOKUP($X43,#REF!,3,FALSE) -> #REF! | AF43: =AE43*AD43 -> #REF! | AG43: =AF43/$AF$122 -> #REF!
A44: קלנסווה | B44: 0.061977 | C44: 0.090128 | D44: 0.084952 | E44: 0.082485 | F44: 0.116724 | G44: 0 | H44: 0.126144 | I44: 0.12645 | J44: 0.214016 | M44: נתניה | N44: 0.2497 | O44: 0.276588 | P44: 0.302784 | Q44: 0.320358 | R44: 0.334113 | S44: 0.331071 | T44: 0.341628 | U44: 0.313612 | V44: 0.361036 | X44: תירוש | Y44: 0.018604651 | Z44: 0.065116279 | AA44: 0.041860465 | AB44: 0.35348837 | AD44: =AB44+Y44+AA44 -> 0.41395349 | AE44: =VLOOKUP($X44,#REF!,3,FALSE) -> #REF! | AF44: =AE44*AD44 -> #REF! | AG44: =AF44/$AF$122 -> #REF!
A45: פוריידיס | B45: 0.29775 | C45: 0.31164 | D45: 0.22425 | E45: 0.28268 | F45: 0.23986 | G45: 0 | H45: 0.140864 | I45: 0.214508 | J45: 0.214564 | M45: באר שבע | N45: 0.241878 | O45: 0.27462 | P45: 0.281184 | Q45: 0.309537 | R45: 0.314746 | S45: 0.347991 | T45: 0.330832 | U45: 0.38092 | V45: 0.36192 | X45: צפת | Y45: 0.099638067 | Z45: 0.071535022 | AA45: 0.16130864 | AB45: 0.14725711 | AC45: צפת | AD45: =AB45+Y45 -> 0.24689518 | AE45: =VLOOKUP($X45,#REF!,3,FALSE) -> #REF! | AF45: =AE45*AD45 -> #REF! | AG45: =AF45/$AF$122 -> #REF! | AH45: ברוטו ברוטו | AI45: 38.06 | AJ45: 92.09793 | AK45: 1.1068062 | AL45: מינימום (מקסימום 41.52) | AM45: 2018
A46: כסיפה | B46: 0.12213 | C46: 0.132804 | D46: 0.256377 | E46: 0.20617 | F46: 0.17296 | G46: 0.2175 | H46: 0.17061 | I46: 0.151768 | J46: 0.215066 | M46: מרום הגליל | N46: 0.162316 | O46: 0.196479 | P46: 0.209412 | Q46: 0.181272 | R46: 0.303024 | S46: 0.2958 | T46: 0.3007 | U46: 0.27249 | V46: 0.367339 | X46: שרשרת | Y46: 0.0056497175 | Z46: 0.073446328 | AA46: 0.35028249 | AB46: 0.050847458 | AD46: =AB46+Y46+AA46 -> 0.40677966 | AE46: =VLOOKUP($X46,#REF!,3,FALSE) -> #REF! | AF46: =AE46*AD46 -> #REF! | AG46: =AF46/$AF$122 -> #REF!
A47: רמלה | B47: 0.14892 | C47: 0.168453 | D47: 0.127834 | E47: 0.158918 | F47: 0.179068 | G47: 0.17069 | H47: 0.210496 | I47: 0.199232 | J47: 0.2162 | M47: קצרין | N47: 0.162435 | O47: 0.189932 | P47: 0.172172 | Q47: 0.296136 | R47: 0.27489 | S47: 0.345699 | T47: 0.404096 | U47: 0.33812 | V47: 0.371205 | X47: ירושלים | Y47: 0.21132377 | Z47: 0.083302649 | AA47: 0.071801822 | AB47: 0.1197833 | AC47: ירושלים | AD47: =AB47+Y47 -> 0.33110707 | AE47: =VLOOKUP($X47,#REF!,3,FALSE) -> #REF! | AF47: =AE47*AD47 -> #REF! | AG47: =AF47/$AF$122 -> #REF! | AH47: נטו | AI47: 39.27 | AJ47: 78.886717 | AK47: 0.91360184 | AM47: 2018
A48: נתיבות | B48: 0.160704 | C48: 0.166199 | D48: 0.13113 | E48: 0.136122 | F48: 0.152576 | G48: 0.184356 | H48: 0.169023 | I48: 0.161262 | J48: 0.217488 | M48: מעלות-תרשיחא | N48: 0.200644 | O48: 0.206148 | P48: 0.287469 | Q48: 0.228724 | R48: 0.259569 | S48: 0.383688 | T48: 0.338218 | U48: 0.335646 | V48: 0.371374 | X48: מבוא חורון | Y48: 0.037296037 | Z48: 0.52214452 | AA48: 0.32867133 | AB48: 0.029137529 | AD48: =AB48+Y48+AA48 -> 0.3951049 | AE48: =VLOOKUP($X48,#REF!,3,FALSE) -> #REF! | AF48: =AE48*AD48 -> #REF! | AG48: =AF48/$AF$122 -> #REF!
A49: נצרת | B49: 0.171054 | C49: 0.1791 | D49: 0.183379 | E49: 0.206654 | F49: 0.214542 | G49: 0.234347 | H49: 0.261387 | I49: 0.232475 | J49: 0.218784 | M49: בת ים | N49: 0.242767 | O49: 0.235872 | P49: 0.30429 | Q49: 0.267456 | R49: 0.28702 | S49: 0.329966 | T49: 0.34643 | U49: 0.383572 | V49: 0.378072 | X49: אופקים | Y49: 0.1451859 | Z49: 0.058620413 | AA49: 0.045691801 | AB49: 0.19673974 | AC49: אופקים | AD49: =AB49+Y49 -> 0.34192564 | AE49: =VLOOKUP($X49,#REF!,3,FALSE) -> #REF! | AF49: =AE49*AD49 -> #REF! | AG49: =AF49/$AF$122 -> #REF! | AH49: ברוטו ברוטו | AI49: =39.06*102.18%*101.77% -> 40.617942 | AJ49: 95.456892 | AK49: 1.3541476 | AM49: 2016
A50: אבו סנאן | B50: 0 | C50: 0.062776 | D50: 0.109582 | E50: 0.121858 | F50: 0.180301 | G50: 0.215117 | H50: 0.18288 | I50: 0.260465 | J50: 0.219912 | M50: מרחבים | N50: 0.303438 | O50: 0.279552 | P50: 0.312015 | Q50: 0.33367 | R50: 0.321024 | S50: 0.291922 | T50: 0.281766 | U50: 0.313369 | V50: 0.379974 | X50: ברקת | Y50: 0.012895662 | Z50: 0.16529894 | AA50: 0.28604924 | AB50: 0.083235639 | AD50: =AB50+Y50+AA50 -> 0.38218054 | AE50: =VLOOKUP($X50,#REF!,3,FALSE) -> #REF! | AF50: =AE50*AD50 -> #REF! | AG50: =AF50/$AF$122 -> #REF!
A51: אכסאל | B51: 0.14036 | C51: 0.137956 | D51: 0.246864 | E51: 0.235662 | F51: 0.192511 | G51: 0.21252 | H51: 0.17442 | I51: 0.157399 | J51: 0.2247 | M51: אילת | N51: 0.247696 | O51: 0.300384 | P51: 0.349095 | Q51: 0.25872 | R51: 0.269959 | S51: 0.346944 | T51: 0.398724 | U51: 0.32886 | V51: 0.382858 | X51: פקיעין חדשה | Y51: 0.0096618357 | Z51: 0.033816425 | AA51: 0.048309179 | AB51: 0.31884058 | AD51: =AB51+Y51+AA51 -> 0.37681159 | AE51: =VLOOKUP($X51,#REF!,3,FALSE) -> #REF! | AF51: =AE51*AD51 -> #REF! | AG51: =AF51/$AF$122 -> #REF!
A52: באקה אל-גרביה | B52: 0.134976 | C52: 0.20961 | D52: 0.265408 | E52: #VALUE! | F52: 0.200644 | G52: 0.243645 | H52: 0.251328 | I52: 0.246377 | J52: 0.233685 | M52: קריית עקרון | N52: 0.2373 | O52: 0.194947 | P52: 0.15138 | Q52: 0.16752 | R52: 0.3195 | S52: 0.322828 | T52: 0.30038 | U52: 0.309747 | V52: 0.38478 | X52: עוזה | Y52: 0.04109589 | Z52: 0.10958904 | AA52: 0.1609589 | AB52: 0.14726027 | AD52: =AB52+Y52+AA52 -> 0.34931507 | AE52: =VLOOKUP($X52,#REF!,3,FALSE) -> #REF! | AF52: =AE52*AD52 -> #REF! | AG52: =AF52/$AF$122 -> #REF!
A53: ירוחם | B53: 0.205824 | C53: 0.241623 | D53: 0.161505 | E53: 0.126283 | F53: 0.342023 | G53: 0.308308 | H53: 0.34844 | I53: 0.294378 | J53: 0.238204 | M53: שפיר | N53: 0.246975 | O53: 0.321138 | P53: 0.286254 | Q53: 0.31827 | R53: 0.335274 | S53: 0.312613 | T53: 0.393108 | U53: 0.502907 | V53: 0.3861 | X53: כפר תפוח | Y53: 0.0053908356 | Z53: 0.393531 | AA53: 0.30727763 | AB53: 0.029649596 | AD53: =AB53+Y53+AA53 -> 0.34231806 | AE53: =VLOOKUP($X53,#REF!,3,FALSE) -> #REF! | AF53: =AE53*AD53 -> #REF! | AG53: =AF53/$AF$122 -> #REF!
A54: זרזיר | B54: 0 | C54: 0 | D54: 0 | E54: 0.041223 | F54: 0.07497 | G54: 0.121856 | H54: 0.055506 | I54: 0.133056 | J54: 0.239932 | M54: שדות נגב | N54: 0.30681 | O54: 0.336 | P54: 0.340781 | Q54: 0.40905 | R54: 0.309345 | S54: 0.387344 | T54: 0.473256 | U54: 0.33462 | V54: 0.39123 | X54: זבדיאל | Y54: 0.061688312 | Z54: 0.061688312 | AA54: 0.061688312 | AB54: 0.21428571 | AD54: =AB54+Y54+AA54 -> 0.33766234 | AE54: =VLOOKUP($X54,#REF!,3,FALSE) -> #REF! | AF54: =AE54*AD54 -> #REF! | AG54: =AF54/$AF$122 -> #REF!
A55: זמר | B55: 0.09653 | C55: 0.223226 | D55: 0.186148 | E55: 0.311185 | F55: 0.225646 | G55: 0.317677 | H55: 0.233018 | I55: 0.241255 | J55: 0.24115 | M55: קריית ביאליק | N55: 0.23999 | O55: 0.265845 | P55: 0.294814 | Q55: 0.329216 | R55: 0.269304 | S55: 0.359258 | T55: 0.367826 | U55: 0.393576 | V55: 0.399256 | X55: בר יוחאי | Y55: 0.056547619 | Z55: 0.35119048 | AA55: 0.16666667 | AB55: 0.11011905 | AD55: =AB55+Y55+AA55 -> 0.33333333 | AE55: =VLOOKUP($X55,#REF!,3,FALSE) -> #REF! | AF55: =AE55*AD55 -> #REF! | AG55: =AF55/$AF$122 -> #REF!
A56: עמק המעיינות | B56: 0.316768 | C56: 0.28224 | D56: 0.316368 | E56: 0.309174 | F56: 0.44612 | G56: 0.363204 | H56: 0.383635 | I56: 0.4588 | J56: 0.241536 | M56: בני עי"ש | N56: 0.1548 | O56: 0.163713 | P56: 0.206001 | Q56: 0.168969 | R56: 0.257277 | S56: 0.332371 | T56: 0.474165 | U56: 0.373824 | V56: 0.402154 | X56: כוכב השחר | Y56: 0.0011481056 | Z56: 0.56716418 | AA56: 0.3272101 | AB56: 0.0034443169 | AD56: =AB56+Y56+AA56 -> 0.33180253 | AE56: =VLOOKUP($X56,#REF!,3,FALSE) -> #REF! | AF56: =AE56*AD56 -> #REF! | AG56: =AF56/$AF$122 -> #REF!
A57: טמרה | B57: 0 | C57: 0.1825 | D57: 0.27606 | E57: 0.221178 | F57: 0.273066 | G57: 0.339926 | H57: 0.34365 | I57: 0.2862 | J57: 0.24681 | M57: אליכין | N57: 0.175683 | O57: 0.433134 | P57: 0.3165 | Q57: 0.42372 | R57: 0.20188 | S57: 0.351852 | T57: 0.456686 | U57: 0.291525 | V57: 0.4032 | X57: תלם | Y57: 0.03 | Z57: 0.33 | AA57: 0.3 | AB57: 0 | AD57: =AB57+Y57+AA57 -> 0.33 | AE57: =VLOOKUP($X57,#REF!,3,FALSE) -> #REF! | AF57: =AE57*AD57 -> #REF! | AG57: =AF57/$AF$122 -> #REF!
A58: טירה | B58: 0.10317 | C58: 0.209237 | D58: 0.179025 | E58: 0.129244 | F58: 0.21248 | G58: 0.1885 | H58: 0.20592 | I58: 0.184989 | J58: 0.24732 | M58: קריית ארבע | N58: 0.221186 | O58: 0.303992 | P58: 0.301 | Q58: 0.195424 | R58: 0.28106 | S58: 0.229646 | T58: 0.274971 | U58: 0.383447 | V58: 0.406835 | X58: ישעי | Y58: 0.030075188 | Z58: 0.12030075 | AA58: 0.087719298 | AB58: 0.21052632 | AD58: =AB58+Y58+AA58 -> 0.3283208 | AE58: =VLOOKUP($X58,#REF!,3,FALSE) -> #REF! | AF58: =AE58*AD58 -> #REF! | AG58: =AF58/$AF$122 -> #REF!
A59: מסעדה | B59: 0.114086 | C59: 0.453125 | D59: 0 | E59: 0.353296 | F59: 0.366771 | G59: 0.34017 | H59: 0.3672 | I59: 0.41638 | J59: 0.24895 | M59: כפר יונה | N59: 0.219811 | O59: 0.265826 | P59: 0.267652 | Q59: 0.333472 | R59: 0.438036 | S59: 0 | T59: 0.366986 | U59: 0.376678 | V59: 0.406966 | X59: פעמי תש"ז | Y59: 0.011363636 | Z59: 0.03030303 | AA59: 0.041666667 | AB59: 0.27272727 | AD59: =AB59+Y59+AA59 -> 0.32575758 | AE59: =VLOOKUP($X59,#REF!,3,FALSE) -> #REF! | AF59: =AE59*AD59 -> #REF! | AG59: =AF59/$AF$122 -> #REF!
A60: עפולה | B60: 0.190619 | C60: 0.177968 | D60: 0.221 | E60: 0.229024 | F60: 0.318826 | G60: 0.335733 | H60: 0.2873 | I60: 0.30315 | J60: 0.252882 | M60: טירת כרמל | N60: 0.230356 | O60: 0.309843 | P60: 0.360468 | Q60: 0.23577 | R60: 0.356097 | S60: 0.312 | T60: 0.433355 | U60: 0.400649 | V60: 0.4118 | X60: בני ראם | Y60: 0.055299539 | Z60: 0.2749616 | AA60: 0.19047619 | AB60: 0.079877112 | AD60: =AB60+Y60+AA60 -> 0.32565284 | AE60: =VLOOKUP($X60,#REF!,3,FALSE) -> #REF! | AF60: =AE60*AD60 -> #REF! | AG60: =AF60/$AF$122 -> #REF!
A61: מעלה עירון | B61: 0.173635 | C61: 0.11407 | D61: 0.154896 | E61: 0.171 | F61: 0.129471 | G61: 0.192024 | H61: 0.180642 | I61: 0.1932 | J61: 0.255564 | M61: לכיש | N61: 0.227556 | O61: 0.29302 | P61: 0.281305 | Q61: 0.357084 | R61: 0.260295 | S61: 0.320295 | T61: 0.384476 | U61: 0.304912 | V61: 0.416976 | X61: גבעת זאב | Y61: 0.13470905 | Z61: 0.10420405 | AA61: 0.076775186 | AB61: 0.11215073 | AC61: גבעת זאב | AD61: =AB61+Y61 -> 0.24685978 | AE61: =VLOOKUP($X61,#REF!,3,FALSE) -> #REF! | AF61: =AE61*AD61 -> #REF! | AG61: =AF61/$AF$122 -> #REF!
A62: באר יעקב | B62: 0.192841 | C62: 0.137489 | D62: 0.121656 | E62: 0.164776 | F62: 0.195104 | G62: 0.195836 | H62: 0.307561 | I62: 0.234784 | J62: 0.26334 | M62: אור עקיבא | N62: 0.188383 | O62: 0.2379 | P62: 0.2856 | Q62: 0.27306 | R62: 0.371358 | S62: 0.343604 | T62: 0.37669 | U62: 0.369328 | V62: 0.422002 | X62: שדות מיכה | Y62: 0.01025641 | Z62: 0.030769231 | AA62: 0.041025641 | AB62: 0.27179487 | AD62: =AB62+Y62+AA62 -> 0.32307692 | AE62: =VLOOKUP($X62,#REF!,3,FALSE) -> #REF! | AF62: =AE62*AD62 -> #REF! | AG62: =AF62/$AF$122 -> #REF!
A63: חורה | B63: 0.13104 | C63: 0.310388 | D63: 0.257056 | E63: 0.217464 | F63: 0.315744 | G63: 0.23157 | H63: 0.312256 | I63: 0.222656 | J63: 0.264203 | M63: שלומי | N63: 0.18241 | O63: 0.296946 | P63: 0.25311 | Q63: 0.153791 | R63: #VALUE! | S63: 0.187226 | T63: 0.190256 | U63: 0.29606 | V63: 0.431737 | X63: שבי שומרון | Y63: 0.014705882 | Z63: 0.38480392 | AA63: 0.29411765 | AB63: 0.0098039216 | AD63: =AB63+Y63+AA63 -> 0.31862745 | AE63: =VLOOKUP($X63,#REF!,3,FALSE) -> #REF! | AF63: =AE63*AD63 -> #REF! | AG63: =AF63/$AF$122 -> #REF!
A64: אשדוד | B64: 0.25025 | C64: 0.289656 | D64: 0.255032 | E64: 0.272832 | F64: 0.271908 | G64: 0.268056 | H64: 0.261612 | I64: 0.259686 | J64: 0.275965 | M64: קרני שומרון | N64: 0.415198 | O64: 0.40836 | P64: 0.475798 | Q64: 0.303616 | R64: 0.462372 | S64: 0.56536 | T64: 0.419728 | U64: 0.501312 | V64: 0.432999 | X64: קרית ארבע | Y64: 0.0033142513 | Z64: 0.34377825 | AA64: 0.30310334 | AB64: 0.010244049 | AD64: =AB64+Y64+AA64 -> 0.31666165 | AE64: =VLOOKUP($X64,#REF!,3,FALSE) -> #REF! | AF64: =AE64*AD64 -> #REF! | AG64: =AF64/$AF$122 -> #REF!
A65: בסמ"ה | B65: 0.15616 | C65: 0.244706 | D65: 0.24727 | E65: 0.265071 | F65: 0.278831 | G65: 0 | H65: 0.247533 | I65: 0.216064 | J65: 0.27715 | M65: מעלה יוסף | N65: 0.402288 | O65: 0.433092 | P65: 0.376336 | Q65: 0.41772 | R65: 0.283044 | S65: 0.33524 | T65: 0.32016 | U65: 0.501677 | V65: 0.44014 | X65: יערה | Y65: 0.0079365079 | Z65: 0.03968254 | AA65: 0.013227513 | AB65: 0.29100529 | AD65: =AB65+Y65+AA65 -> 0.31216931 | AE65: =VLOOKUP($X65,#REF!,3,FALSE) -> #REF! | AF65: =AE65*AD65 -> #REF! | AG65: =AF65/$AF$122 -> #REF!
A66: כפר ברא | B66: 0 | C66: 0.058311 | D66: 0.239651 | E66: 0.19012 | F66: 0.156585 | G66: 0.147852 | H66: 0.097544 | I66: 0.1674 | J66: 0.27965 | M66: חיפה | N66: 0.353808 | O66: 0.398724 | P66: 0.400867 | Q66: 0.425502 | R66: 0.429586 | S66: 0.466921 | T66: 0.44888 | U66: 0.468526 | V66: 0.44082 | X66: קרית מלאכי | Y66: 0.010891826 | Z66: 0.070377956 | AA66: 0.15881586 | AB66: 0.13703221 | AC66: קריית מלאכי | AD66: =AB66+Y66 -> 0.14792404 | AE66: =VLOOKUP($X66,#REF!,3,FALSE) -> #REF! | AF66: =AE66*AD66 -> #REF! | AG66: =AF66/$AF$122 -> #REF! | AH66: ברוטו | AI66: 41.3 | AJ66: 104.5 | AK66: 0.41092872 | AM66: 2018
A67: דאלית אל-כרמל | B67: 0 | C67: 0.198315 | D67: 0 | E67: 0.087216 | F67: 0.18207 | G67: 0.310803 | H67: 0.352364 | I67: 0.265923 | J67: 0.28016 | M67: יהוד | N67: 0.440929 | O67: 0.457659 | P67: 0.476982 | Q67: 0.491526 | R67: 0.51359 | S67: 0.4891 | T67: 0.513474 | U67: 0.534735 | V67: 0.441484 | X67: מעלה לבונה | Y67: 0.0034602076 | Z67: 0.47404844 | AA67: 0.30103806 | AB67: 0 | AD67: =AB67+Y67+AA67 -> 0.30449827 | AE67: =VLOOKUP($X67,#REF!,3,FALSE) -> #REF! | AF67: =AE67*AD67 -> #REF! | AG67: =AF67/$AF$122 -> #REF!
A68: בוקעאתא | B68: 0.18252 | C68: 0.225911 | D68: 0.108836 | E68: 0.137728 | F68: 0.1974 | G68: 0.361342 | H68: 0.413294 | I68: 0.266708 | J68: 0.28951 | M68: שדרות | N68: 0.217924 | O68: 0.274089 | P68: 0.215594 | Q68: 0.231778 | R68: 0.241806 | S68: 0.345878 | T68: 0.386425 | U68: 0.447426 | V68: 0.442476 | X68: זרחיה | Y68: 0.0084507042 | Z68: 0.21690141 | AA68: 0.11267606 | AB68: 0.18309859 | AD68: =AB68+Y68+AA68 -> 0.30422535 | AE68: =VLOOKUP($X68,#REF!,3,FALSE) -> #REF! | AF68: =AE68*AD68 -> #REF! | AG68: =AF68/$AF$122 -> #REF!
A69: עכו | B69: 0.137407 | C69: 0.179463 | D69: 0.16116 | E69: 0.24339 | F69: 0.233036 | G69: 0.281632 | H69: 0.324564 | I69: 0.334854 | J69: 0.29155 | M69: אשקלון | N69: 0.374126 | O69: 0.372476 | P69: 0.340725 | Q69: 0.3354 | R69: 0.362208 | S69: 0.403697 | T69: 0.450522 | U69: 0.416577 | V69: 0.44591 | X69: אלון מורה | Y69: 0.0039946738 | Z69: 0.57123835 | AA69: 0.29161119 | AB69: 0.0066577896 | AD69: =AB69+Y69+AA69 -> 0.30226365 | AE69: =VLOOKUP($X69,#REF!,3,FALSE) -> #REF! | AF69: =AE69*AD69 -> #REF! | AG69: =AF69/$AF$122 -> #REF!
A70: ערבות הירדן | B70: 0.427187 | C70: 0.415914 | D70: 0.602526 | E70: 0.391973 | F70: 0.57669 | G70: 0 | H70: 0.534492 | I70: 0.582624 | J70: 0.292608 | M70: מטה יהודה | N70: 0.279038 | O70: 0.309155 | P70: 0.270145 | Q70: 0.313722 | R70: 0.372044 | S70: 0.330948 | T70: 0.381828 | U70: 0.44844 | V70: 0.446964 | X70: פטיש | Y70: 0.0020661157 | Z70: 0.064049587 | AA70: 0.05785124 | AB70: 0.23760331 | AD70: =AB70+Y70+AA70 -> 0.29752066 | AE70: =VLOOKUP($X70,#REF!,3,FALSE) -> #REF! | AF70: =AE70*AD70 -> #REF! | AG70: =AF70/$AF$122 -> #REF!
A71: קריית שמונה | B71: 0.24273 | C71: 0.222176 | D71: 0.2436 | E71: 0.269849 | F71: 0.2925 | G71: 0.388494 | H71: 0.29997 | I71: 0.325362 | J71: 0.295404 | M71: בית אל | N71: 0.2964 | O71: 0.436789 | P71: 0.518092 | Q71: 0.3385 | R71: 0.436135 | S71: 0.54766 | T71: 0.362848 | U71: 0.456768 | V71: 0.447978 | X71: בית מאיר | Y71: 0.074204947 | Z71: 0.27208481 | AA71: 0.13780919 | AB71: 0.077738516 | AD71: =AB71+Y71+AA71 -> 0.28975265 | AE71: =VLOOKUP($X71,#REF!,3,FALSE) -> #REF! | AF71: =AE71*AD71 -> #REF! | AG71: =AF71/$AF$122 -> #REF!
A72: ראש פינה | B72: 0.2815 | C72: 0.355203 | D72: 0.29664 | E72: 0.296692 | F72: #VALUE! | G72: 0 | H72: 0.2725 | I72: 0.41595 | J72: 0.299505 | M72: רחובות | N72: 0.288036 | O72: 0.283305 | P72: 0.294132 | Q72: 0.323308 | R72: 0.366333 | S72: 0.40592 | T72: 0.405821 | U72: 0.428049 | V72: 0.45018 | X72: כסלון | Y72: 0.013953488 | Z72: 0.046511628 | AA72: 0.041860465 | AB72: 0.23255814 | AD72: =AB72+Y72+AA72 -> 0.28837209 | AE72: =VLOOKUP($X72,#REF!,3,FALSE) -> #REF! | AF72: =AE72*AD72 -> #REF! | AG72: =AF72/$AF$122 -> #REF!
A73: אל-בטוף | B73: 0 | C73: 0.087153 | D73: 0.066199 | E73: 0.14564 | F73: 0.13923 | G73: 0.169959 | H73: 0.161539 | I73: 0.219966 | J73: 0.300184 | M73: כרמיאל | N73: 0.243581 | O73: 0.296595 | P73: 0.25521 | Q73: 0.33744 | R73: 0.29087 | S73: 0.336 | T73: 0.391404 | U73: 0.407484 | V73: 0.454036 | X73: מצפה יריחו | Y73: 0.012158055 | Z73: 0.53292806 | AA73: 0.26241135 | AB73: 0.011144883 | AD73: =AB73+Y73+AA73 -> 0.28571429 | AE73: =VLOOKUP($X73,#REF!,3,FALSE) -> #REF! | AF73: =AE73*AD73 -> #REF! | AG73: =AF73/$AF$122 -> #REF!
A74: כפר כנא | B74: 0.159456 | C74: 0.147606 | D74: 0.171207 | E74: 0.16192 | F74: 0.193264 | G74: 0.268422 | H74: 0.283797 | I74: 0.352688 | J74: 0.301455 | M74: הגליל העליון | N74: 0.342771 | O74: 0.261703 | P74: 0.396371 | Q74: 0.396371 | R74: 0.338314 | S74: 0.469812 | T74: 0.38802 | U74: 0.405408 | V74: 0.455049 | X74: חגי | Y74: 0 | Z74: 0.56 | AA74: 0.28444444 | AB74: 0 | AD74: =AB74+Y74+AA74 -> 0.28444444 | AE74: =VLOOKUP($X74,#REF!,3,FALSE) -> #REF! | AF74: =AE74*AD74 -> #REF! | AG74: =AF74/$AF$122 -> #REF!
A75: קריית ים | B75: 0.195834 | C75: 0.228 | D75: 0.27528 | E75: 0.310738 | F75: 0.357742 | G75: 0.327222 | H75: 0.310478 | I75: 0.381021 | J75: 0.304608 | M75: מזרעה | N75: 0 | O75: 0.215441 | P75: 0.274474 | Q75: 0.238374 | R75: 0.26367 | S75: 0.290274 | T75: 0.369309 | U75: 0.408 | V75: 0.456904 | X75: שעלבים | Y75: 0.038022814 | Z75: 0.57224335 | AA75: 0.22813688 | AB75: 0.017110266 | AD75: =AB75+Y75+AA75 -> 0.28326996 | AE75: =VLOOKUP($X75,#REF!,3,FALSE) -> #REF! | AF75: =AE75*AD75 -> #REF! | AG75: =AF75/$AF$122 -> #REF!
A76: כפר קאסם | B76: 0.115842 | C76: 0.138276 | D76: 0.14758 | E76: 0.041184 | F76: #VALUE! | G76: 0.103296 | H76: 0.19836 | I76: 0.205056 | J76: 0.30523 | M76: מטה בנימין | N76: 0.340544 | O76: 0.400435 | P76: 0.447615 | Q76: 0.429352 | R76: 0.443623 | S76: 0.445445 | T76: 0.455672 | U76: 0.449084 | V76: 0.45974 | X76: שלווה | Y76: 0.022222222 | Z76: 0.066666667 | AA76: 0.14444444 | AB76: 0.11481481 | AD76: =AB76+Y76+AA76 -> 0.28148148 | AE76: =VLOOKUP($X76,#REF!,3,FALSE) -> #REF! | AF76: =AE76*AD76 -> #REF! | AG76: =AF76/$AF$122 -> #REF!
A77: נחף | B77: 0.18528 | C77: 0.160544 | D77: 0.1968 | E77: 0.171304 | F77: 0.311025 | G77: 0.326196 | H77: 0.337428 | I77: 0.32319 | J77: 0.305424 | M77: חולון | N77: 0.305721 | O77: 0.344619 | P77: 0.391359 | Q77: 0.39387 | R77: 0.411136 | S77: 0.443465 | T77: 0.425258 | U77: 0.42559 | V77: 0.460397 | X77: ענב | Y77: 0.0056022409 | Z77: 0.50980392 | AA77: 0.18487395 | AB77: 0.089635854 | AD77: =AB77+Y77+AA77 -> 0.28011204 | AE77: =VLOOKUP($X77,#REF!,3,FALSE) -> #REF! | AF77: =AE77*AD77 -> #REF! | AG77: =AF77/$AF$122 -> #REF!
A78: אעבלין | B78: 0.153202 | C78: 0.252568 | D78: 0.270972 | E78: 0.292746 | F78: 0.301875 | G78: 0.28496 | H78: 0.360294 | I78: 0.299013 | J78: 0.306835 | M78: פתח תקווה | N78: 0.32346 | O78: 0.342027 | P78: 0.401704 | Q78: 0.39627 | R78: 0.400192 | S78: 0.444703 | T78: 0.434712 | U78: 0.437265 | V78: 0.465192 | X78: בית אל | Y78: 0.0069699193 | Z78: 0.58840792 | AA78: 0.26559061 | AB78: 0.0073367572 | AD78: =AB78+Y78+AA78 -> 0.27989729 | AE78: =VLOOKUP($X78,#REF!,3,FALSE) -> #REF! | AF78: =AE78*AD78 -> #REF! | AG78: =AF78/$AF$122 -> #REF!
A79: חדרה | B79: 0.223451 | C79: 0.187929 | D79: 0.194735 | E79: 0.256022 | F79: 0.259448 | G79: 0.283672 | H79: 0.29876 | I79: 0.333395 | J79: 0.307998 | M79: נהרייה | N79: 0.262276 | O79: 0.229108 | P79: 0.30226 | Q79: 0.292911 | R79: 0.362608 | S79: 0.38634 | T79: 0.400162 | U79: 0.47817 | V79: 0.46604 | X79: מעגלים | Y79: 0.0040214477 | Z79: 0.17828418 | AA79: 0.20911528 | AB79: 0.065683646 | AD79: =AB79+Y79+AA79 -> 0.27882038 | AE79: =VLOOKUP($X79,#REF!,3,FALSE) -> #REF! | AF79: =AE79*AD79 -> #REF! | AG79: =AF79/$AF$122 -> #REF!
A80: יאנוח-ג'ת | B80: 0.130572 | C80: 0.268027 | D80: 0.178794 | E80: #VALUE! | F80: 0.26726 | G80: 0.2294 | H80: 0.20585 | I80: 0.243576 | J80: 0.30805 | M80: אריאל | N80: 0.217503 | O80: 0.328568 | P80: 0.171492 | Q80: 0.32448 | R80: 0.267761 | S80: 0.337869 | T80: 0.3682 | U80: 0.44424 | V80: 0.470938 | X80: אחיסמך | Y80: 0.020958084 | Z80: 0.023952096 | AA80: 0.020958084 | AB80: 0.23502994 | AD80: =AB80+Y80+AA80 -> 0.27694611 | AE80: =VLOOKUP($X80,#REF!,3,FALSE) -> #REF! | AF80: =AE80*AD80 -> #REF! | AG80: =AF80/$AF$122 -> #REF!
A81: קריית גת | B81: 0.223676 | C81: 0.24236 | D81: 0.236325 | E81: 0.23815 | F81: 0.203967 | G81: 0.256188 | H81: 0.238286 | I81: 0.265392 | J81: 0.309504 | M81: מבואות החרמון | N81: 0.29189 | O81: 0.266724 | P81: 0.2289 | Q81: 0.27587 | R81: 0.258778 | S81: 0.396397 | T81: 0.261725 | U81: 0.336312 | V81: 0.471954 | X81: חצור הגלילית | Y81: 0.14344346 | Z81: 0.062179356 | AA81: 0.03427047 | AB81: 0.098707162 | AD81: =AB81+Y81 -> 0.24215063 | AE81: =VLOOKUP($X81,#REF!,3,FALSE) -> #REF! | AF81: =AE81*AD81 -> #REF! | AG81: =AF81/$AF$122 -> #REF!
A82: דימונה | B82: 0.270882 | C82: 0.213227 | D82: 0.34927 | E82: 0.267852 | F82: 0.303996 | G82: 0.30691 | H82: 0.374991 | I82: 0.3924 | J82: 0.31119 | M82: נחל שורק | N82: 0.12615 | O82: 0.288804 | P82: 0.24045 | Q82: 0.266546 | R82: 0.291102 | S82: 0.390862 | T82: 0.3322 | U82: 0.383748 | V82: 0.473102 | X82: טלמון | Y82: 0.0095799558 | Z82: 0.6403832 | AA82: 0.26013265 | AB82: 0.0066322771 | AD82: =AB82+Y82+AA82 -> 0.27634488 | AE82: =VLOOKUP($X82,#REF!,3,FALSE) -> #REF! | AF82: =AE82*AD82 -> #REF! | AG82: =AF82/$AF$122 -> #REF!
A83: שבלי - אום אל-גנם | B83: 0.170229 | C83: 0.070433 | D83: 0.202895 | E83: 0.195209 | F83: 0.16798 | G83: 0.32026 | H83: 0.212076 | I83: 0.329112 | J83: 0.31248 | M83: מגידו | N83: 0.356763 | O83: 0.496674 | P83: 0.379414 | Q83: 0.405216 | R83: 0.452042 | S83: 0.428733 | T83: 0.630936 | U83: 0.686917 | V83: 0.475139 | X83: אבן שמואל | Y83: 0.011560694 | Z83: 0.44701349 | AA83: 0.22736031 | AB83: 0.036608863 | AD83: =AB83+Y83+AA83 -> 0.27552987 | AE83: =VLOOKUP($X83,#REF!,3,FALSE) -> #REF! | AF83: =AE83*AD83 -> #REF! | AG83: =AF83/$AF$122 -> #REF!
A84: אור יהודה | B84: 0.205875 | C84: 0.288608 | D84: 0.262637 | E84: 0.307034 | F84: 0.332816 | G84: 0.323056 | H84: 0.326895 | I84: 0.248585 | J84: 0.313795 | M84: ג'ש (גוש חלב) | N84: 0.203001 | O84: 0.165505 | P84: 0.212332 | Q84: 0.340458 | R84: 0.16562 | S84: 0.328229 | T84: 0.41789 | U84: 0.334572 | V84: 0.47718 | X84: בית רבן | Y84: 0.0039840637 | Z84: 0.50996016 | AA84: 0.22709163 | AB84: 0.039840637 | AD84: =AB84+Y84+AA84 -> 0.27091633 | AE84: =VLOOKUP($X84,#REF!,3,FALSE) -> #REF! | AF84: =AE84*AD84 -> #REF! | AG84: =AF84/$AF$122 -> #REF!
A85: ערד | B85: 0.18343 | C85: 0.123444 | D85: 0.191496 | E85: 0.194246 | F85: 0.185942 | G85: 0.307928 | H85: 0.248256 | I85: 0.276777 | J85: 0.316247 | M85: תל אביב -יפו | N85: 0.391904 | O85: 0.4014 | P85: 0.426888 | Q85: 0.45125 | R85: 0.44304 | S85: 0.490032 | T85: 0.47232 | U85: 0.464464 | V85: 0.48396 | X85: נצר חזני | Y85: 0.011764706 | Z85: 0.44117647 | AA85: 0.21764706 | AB85: 0.041176471 | AD85: =AB85+Y85+AA85 -> 0.27058824 | AE85: =VLOOKUP($X85,#REF!,3,FALSE) -> #REF! | AF85: =AE85*AD85 -> #REF! | AG85: =AF85/$AF$122 -> #REF!
A86: קריית מלאכי | B86: 0.116063 | C86: 0.12364 | D86: 0.166344 | E86: 0.097614 | F86: 0.174064 | G86: 0.149468 | H86: 0.155672 | I86: 0.239358 | J86: 0.319464 | M86: באר טוביה | N86: 0.324024 | O86: 0.37846 | P86: 0.36993 | Q86: 0.35168 | R86: 0.398695 | S86: 0.397485 | T86: 0.425625 | U86: 0.490312 | V86: 0.489039 | X86: בן זכאי | Y86: 0.0021978022 | Z86: 0.074725275 | AA86: 0.20879121 | AB86: 0.054945055 | AD86: =AB86+Y86+AA86 -> 0.26593407 | AE86: =VLOOKUP($X86,#REF!,3,FALSE) -> #REF! | AF86: =AE86*AD86 -> #REF! | AG86: =AF86/$AF$122 -> #REF!
A87: ערערה | B87: 0.236544 | C87: 0.26696 | D87: 0.25109 | E87: 0.26397 | F87: 0.273552 | G87: 0.265524 | H87: 0.341245 | I87: 0.360705 | J87: 0.324016 | M87: בני שמעון | N87: 0.325682 | O87: 0.32513 | P87: 0.435512 | Q87: 0.269677 | R87: 0.45 | S87: 0.450846 | T87: 0.368856 | U87: 0.50419 | V87: 0.490426 | X87: בית הגדי | Y87: 0.0076530612 | Z87: 0.081632653 | AA87: 0.24744898 | AB87: 0.010204082 | AD87: =AB87+Y87+AA87 -> 0.26530612 | AE87: =VLOOKUP($X87,#REF!,3,FALSE) -> #REF! | AF87: =AE87*AD87 -> #REF! | AG87: =AF87/$AF$122 -> #REF!
A88: מגאר | B88: 0.20306 | C88: 0.409393 | D88: 0.263712 | E88: 0.3024 | F88: 0.35926 | G88: 0.427152 | H88: 0.42413 | I88: 0.359898 | J88: 0.32625 | M88: בית אריה | N88: 0.319995 | O88: 0.387489 | P88: 0.429247 | Q88: 0.365772 | R88: 0.411994 | S88: 0.357696 | T88: 0.40078 | U88: 0.416262 | V88: 0.490912 | X88: תושיה | Y88: 0.0044052863 | Z88: 0.43612335 | AA88: 0.24229075 | AB88: 0.017621145 | AD88: =AB88+Y88+AA88 -> 0.26431718 | AE88: =VLOOKUP($X88,#REF!,3,FALSE) -> #REF! | AF88: =AE88*AD88 -> #REF! | AG88: =AF88/$AF$122 -> #REF!
A89: עמק לוד | B89: 0.152796 | C89: 0.122474 | D89: 0.211968 | E89: 0.124202 | F89: 0.179386 | G89: 0.18426 | H89: 0.16796 | I89: 0.18316 | J89: 0.334284 | M89: עמק הירדן | N89: 0.295261 | O89: 0.223782 | P89: 0.416646 | Q89: 0.375354 | R89: 0.474444 | S89: 0.47795 | T89: 0.498171 | U89: 0.480115 | V89: 0.491436 | X89: עלי | Y89: 0.0059016393 | Z89: 0.49836066 | AA89: 0.23934426 | AB89: 0.013770492 | AD89: =AB89+Y89+AA89 -> 0.25901639 | AE89: =VLOOKUP($X89,#REF!,3,FALSE) -> #REF! | AF89: =AE89*AD89 -> #REF! | AG89: =AF89/$AF$122 -> #REF!
A90: נצרת עילית | B90: 0.30472 | C90: 0.261725 | D90: 0.22248 | E90: 0.262276 | F90: 0.297984 | G90: 0.313995 | H90: 0.287432 | I90: 0.352974 | J90: 0.334375 | M90: חבל יבנה | N90: 0.43523 | O90: 0.25312 | P90: 0.507976 | Q90: 0.411711 | R90: 0.454059 | S90: 0.58212 | T90: 0.4602 | U90: 0.620757 | V90: 0.492 | X90: גבע בנימין | Y90: 0.013882462 | Z90: 0.16797779 | AA90: 0.12771865 | AB90: 0.11522443 | AD90: =AB90+Y90 -> 0.12910689 | AE90: =VLOOKUP($X90,#REF!,3,FALSE) -> #REF! | AF90: =AE90*AD90 -> #REF! | AG90: =AF90/$AF$122 -> #REF!
A91: שעב | B91: 0.142884 | C91: 0.110723 | D91: 0.171396 | E91: 0.193248 | F91: 0.226644 | G91: 0.311472 | H91: 0.282388 | I91: 0.31098 | J91: 0.33472 | M91: הגליל התחתון | N91: 0.435326 | O91: 0.449329 | P91: 0.45675 | Q91: 0.431977 | R91: 0.53878 | S91: 0.535296 | T91: 0.524051 | U91: 0.577626 | V91: 0.49513 | X91: שילה | Y91: 0.0022918258 | Z91: 0.58135982 | AA91: 0.24980901 | AB91: 0.0038197097 | AD91: =AB91+Y91+AA91 -> 0.25592055 | AE91: =VLOOKUP($X91,#REF!,3,FALSE) -> #REF! | AF91: =AE91*AD91 -> #REF! | AG91: =AF91/$AF$122 -> #REF!
A92: טייבה | B92: 0.101916 | C92: 0.135538 | D92: 0.12948 | E92: 0.111843 | F92: 0.184877 | G92: 0.238322 | H92: 0.192308 | I92: 0.269225 | J92: 0.336238 | M92: אלפי מנשה | N92: 0.393106 | O92: 0.441549 | P92: 0.622498 | Q92: 0.52564 | R92: 0.586116 | S92: 0.560196 | T92: 0.511029 | U92: 0.586432 | V92: 0.497134 | X92: מבוא מודיעים | Y92: 0.090163934 | Z92: 0.31967213 | AA92: 0.13114754 | AB92: 0.032786885 | AD92: =AB92+Y92+AA92 -> 0.25409836 | AE92: =VLOOKUP($X92,#REF!,3,FALSE) -> #REF! | AF92: =AE92*AD92 -> #REF! | AG92: =AF92/$AF$122 -> #REF!
A93: כסרא-סמיע | B93: 0.08505 | C93: 0.257868 | D93: 0.190834 | E93: 0.224442 | F93: 0.207669 | G93: 0.144913 | H93: 0.406377 | I93: 0.234013 | J93: 0.33755 | M93: חוף אשקלון | N93: 0.342555 | O93: 0.33602 | P93: 0.349692 | Q93: 0.328548 | R93: 0.368838 | S93: 0.348232 | T93: 0.457026 | U93: 0.54912 | V93: 0.50008 | X93: ביריה | Y93: 0.01627907 | Z93: 0.074418605 | AA93: 0.11627907 | AB93: 0.11860465 | AD93: =AB93+Y93+AA93 -> 0.25116279 | AE93: =VLOOKUP($X93,#REF!,3,FALSE) -> #REF! | AF93: =AE93*AD93 -> #REF! | AG93: =AF93/$AF$122 -> #REF!
A94: הגלבוע | B94: 0.20592 | C94: 0.16148 | D94: 0.188848 | E94: 0.218688 | F94: 0.220176 | G94: 0.301941 | H94: 0.355482 | I94: 0.355656 | J94: 0.338218 | M94: זכרון יעקב | N94: 0.394142 | O94: 0.400328 | P94: 0.401598 | Q94: 0.41292 | R94: 0.489375 | S94: 0.571893 | T94: 0.519216 | U94: 0.560938 | V94: 0.501385 | X94: ירוחם | Y94: 0.074739141 | Z94: 0.11283669 | AA94: 0.024508614 | AB94: 0.15044892 | AD94: =AB94+Y94 -> 0.22518806 | AE94: =VLOOKUP($X94,#REF!,3,FALSE) -> #REF! | AF94: =AE94*AD94 -> #REF! | AG94: =AF94/$AF$122 -> #REF!
A95: יפיע | B95: 0.099802 | C95: 0.203091 | D95: 0.290252 | E95: 0.28848 | F95: 0.276888 | G95: 0.354645 | H95: 0.40817 | I95: 0.250838 | J95: 0.339304 | M95: יבנה | N95: 0.318136 | O95: 0.366744 | P95: 0.414776 | Q95: 0.316512 | R95: 0.405536 | S95: 0.490136 | T95: 0.481568 | U95: 0.405859 | V95: 0.502128 | X95: חריש | Y95: 0.01937046 | Z95: 0.14285714 | AA95: 0.14769976 | AB95: 0.082324455 | AD95: =AB95+Y95+AA95 -> 0.24939467 | AE95: =VLOOKUP($X95,#REF!,3,FALSE) -> #REF! | AF95: =AE95*AD95 -> #REF! | AG95: =AF95/$AF$122 -> #REF!
A96: קריית אתא | B96: 0.242328 | C96: 0.278444 | D96: 0.266789 | E96: 0.28119 | F96: 0.340028 | G96: 0.354776 | H96: 0.336288 | I96: 0.337946 | J96: 0.341055 | M96: חוף הכרמל | N96: 0.376781 | O96: 0.340584 | P96: 0.368 | Q96: 0.389536 | R96: 0.368292 | S96: 0.450813 | T96: 0.433888 | U96: 0.496248 | V96: 0.502731 | X96: לוזית | Y96: 0.061594203 | Z96: 0.10869565 | AA96: 0.032608696 | AB96: 0.15217391 | AD96: =AB96+Y96+AA96 -> 0.24637681 | AE96: =VLOOKUP($X96,#REF!,3,FALSE) -> #REF! | AF96: =AE96*AD96 -> #REF! | AG96: =AF96/$AF$122 -> #REF!
A97: כפר קרע | B97: 0.09966 | C97: 0.134232 | D97: 0.22374 | E97: 0.209066 | F97: 0.176792 | G97: 0.202212 | H97: 0.23835 | I97: 0.254476 | J97: 0.34133 | M97: ראש העין | N97: 0.29555 | O97: 0.348138 | P97: 0.377848 | Q97: 0.456462 | R97: 0.460017 | S97: 0.486475 | T97: 0.45825 | U97: 0.500782 | V97: 0.503754 | X97: כדיתה | Y97: 0.10769231 | Z97: 0.10769231 | AA97: 0.12307692 | AB97: 0.015384615 | AD97: =AB97+Y97+AA97 -> 0.24615385 | AE97: =VLOOKUP($X97,#REF!,3,FALSE) -> #REF! | AF97: =AE97*AD97 -> #REF! | AG97: =AF97/$AF$122 -> #REF!
A98: מצפה רמון | B98: 0.291564 | C98: 0.341968 | D98: 0.363022 | E98: 0.31644 | F98: 0.289 | G98: 0.442974 | H98: 0.325518 | I98: 0.475075 | J98: 0.34163 | M98: יקנעם עילית | N98: 0.31049 | O98: 0.28566 | P98: 0.325404 | Q98: 0.37468 | R98: 0.358262 | S98: 0.3707 | T98: 0.43056 | U98: 0.39368 | V98: 0.504612 | X98: מעון | Y98: 0 | Z98: 0.69117647 | AA98: 0.24509804 | AB98: 0 | AD98: =AB98+Y98+AA98 -> 0.24509804 | AE98: =VLOOKUP($X98,#REF!,3,FALSE) -> #REF! | AF98: =AE98*AD98 -> #REF! | AG98: =AF98/$AF$122 -> #REF!
A99: כפר מנדא | B99: 0.096068 | C99: 0.116964 | D99: 0.1688 | E99: 0.1302 | F99: 0.129498 | G99: 0.237392 | H99: 0.287168 | I99: 0.283044 | J99: 0.343064 | M99: מעלה אדומים | N99: 0.346192 | O99: 0.365638 | P99: 0.397532 | Q99: 0.3857 | R99: 0.34584 | S99: 0.477915 | T99: 0.432478 | U99: 0.475392 | V99: 0.50505 | X99: עמיעוז | Y99: 0.013986014 | Z99: 0.06993007 | AA99: 0.034965035 | AB99: 0.1958042 | AD99: =AB99+Y99+AA99 -> 0.24475524 | AE99: =VLOOKUP($X99,#REF!,3,FALSE) -> #REF! | AF99: =AE99*AD99 -> #REF! | AG99: =AF99/$AF$122 -> #REF!
A100: בענה | B100: 0 | C100: 0.134397 | D100: 0 | E100: 0.352872 | F100: 0.514065 | G100: 0.445523 | H100: 0.578071 | I100: 0.386764 | J100: 0.348992 | M100: רמת ישי | N100: 0.483346 | O100: 0.43452 | P100: 0.39211 | Q100: 0.540125 | R100: 0.581166 | S100: 0.631414 | T100: 0.5858 | U100: 0.66846 | V100: 0.51148 | X100: מחסיה | Y100: 0.017467249 | Z100: 0.12227074 | AA100: 0.021834061 | AB100: 0.20524017 | AD100: =AB100+Y100+AA100 -> 0.24454148 | AE100: =VLOOKUP($X100,#REF!,3,FALSE) -> #REF! | AF100: =AE100*AD100 -> #REF! | AG100: =AF100/$AF$122 -> #REF!
...

Sheet מיפוי מלא
A1: שם ישוב | B1: 1999 | C1: 2003 | D1: 2006 | E1: 2009 | F1: 2013 | G1: 2015 | I1: 1999 | J1: 2003 | K1: 2006 | L1: 2009 | M1: 2013 | N1: 2015 | R1: 2009 | S1: 2013 | T1: 2015 | V1: 1999 | W1: 2003 | X1: 2006 | Y1: 2009 | Z1: 2013 | AA1: 2015 | AC1: מגמות שינוי במצביעים למפלגות חרדיות | AF1: מגמות שינוי בחרדים אשכנזיים | AM1: מגמות שינוי במצביעים | AN1: מגמות שינוי בחרדים אשכנזיים | AO1: אחוז מצביעים חרדים
A2: אופקים | B2: ='1999'!AX2 -> 4408 | C2: ='2003'!AR2 -> 3189 | D2: ='2006'!AT2 -> 3329 | E2: ='2009'!AW2 -> 3368 | F2: ='2013'!AW2 -> 4435 | G2: ='2015'!AP2 -> 4258 | H2: =A2 -> אופקים | I2: ='1999'!BA2 -> 0.41350844 | J2: ='2003'!AU2 -> 0.32964648 | K2: ='2006'!AW2 -> 0.3556244 | L2: ='2009'!AZ2 -> 0.33589309 | M2: ='2013'!AZ2 -> 0.41313461 | N2: ='2015'!AS2 -> 0.34192564 | O2: ירידה | P2: ליכוד מסורתי | R2: =INDEX('מיפוי רשויות עם חרדים'!$M$1:$V$36,MATCH('מיפוי מלא'!$A2,'מיפוי רשויות עם חרדים'!$M$1:$M$36,0),MATCH('מיפוי מלא'!R$1,'מיפוי רשויות עם חרדים'!$M$1:$V$1,0)) -> 0.11297 | S2: =INDEX('מיפוי רשויות עם חרדים'!$M$1:$V$36,MATCH('מיפוי מלא'!$A2,'מיפוי רשויות עם חרדים'!$M$1:$M$36,0),MATCH('מיפוי מלא'!S$1,'מיפוי רשויות עם חרדים'!$M$1:$V$1,0)) -> 0.115988 | T2: =INDEX('מיפוי רשויות עם חרדים'!$M$1:$V$36,MATCH('מיפוי מלא'!$A2,'מיפוי רשויות עם חרדים'!$M$1:$M$36,0),MATCH('מיפוי מלא'!T$1,'מיפוי רשויות עם חרדים'!$M$1:$V$1,0)) -> 0.123402 | V2: ='1999'!BE2 -> 0.24205989 | W2: ='2003'!AY2 -> 0.33866416 | X2: ='2006'!BA2 -> 0.37548813 | Y2: ='2009'!BD2 -> 0.38004751 | Z2: ='2013'!BD2 -> 0.35264938 | AA2: ='2015'!AW2 -> 0.42461249 | AC2: =AVERAGE(I2:N2) -> 0.36495544 | AD2: =STDEV(I2:N2) -> 0.038438027 | AE2: =(-AC2+N2)/AD2 -> -0.5991411 | AF2: =AVERAGE(V2:AA2) -> 0.35225359 | AG2: =STDEV(V2:AA2) -> 0.061442066 | AH2: =(-AF2+AA2)/AG2 -> 1.1776769 | AI2: ליכוד מסורתי | AL2: מודיעין עילית | AM2: -1.8063064 | AN2: 1.0526517 | AO2: 0.92550086 | AR2: =I2*V2 -> 0.10009381 | AS2: =J2*W2 -> 0.11163945 | AT2: =K2*X2 -> 0.13353274 | AU2: =L2*Y2 -> 0.12765533 | AV2: =M2*Z2 -> 0.14569166 | AW2: =N2*AA2 -> 0.1451859
A3: אלעד | B3: ='1999'!AX3 -> 204 | C3: ='2003'!AR3 -> 5303 | D3: ='2006'!AT3 -> 8195 | E3: ='2009'!AW3 -> 9661 | F3: ='2013'!AW3 -> 11750 | G3: ='2015'!AP3 -> 11193 | H3: =A3 -> אלעד | I3: ='1999'!BA3 -> 0.83265306 | J3: ='2003'!AU3 -> 0.83315004 | K3: ='2006'!AW3 -> 0.85036837 | L3: ='2009'!AZ3 -> 0.83652264 | M3: ='2013'!AZ3 -> 0.82162087 | N3: ='2015'!AS3 -> 0.75236943 | O3: ירידה | P3: חרדית | R3: =INDEX('מיפוי רשויות עם חרדים'!$M$1:$V$36,MATCH('מיפוי מלא'!$A3,'מיפוי רשויות עם חרדים'!$M$1:$M$36,0),MATCH('מיפוי מלא'!R$1,'מיפוי רשויות עם חרדים'!$M$1:$V$1,0)) -> 0.057798 | S3: =INDEX('מיפוי רשויות עם חרדים'!$M$1:$V$36,MATCH('מיפוי מלא'!$A3,'מיפוי רשויות עם חרדים'!$M$1:$M$36,0),MATCH('מיפוי מלא'!S$1,'מיפוי רשויות עם חרדים'!$M$1:$V$1,0)) -> 0.067164 | T3: =INDEX('מיפוי רשויות עם חרדים'!$M$1:$V$36,MATCH('מיפוי מלא'!$A3,'מיפוי רשויות עם חרדים'!$M$1:$M$36,0),MATCH('מיפוי מלא'!T$1,'מיפוי רשויות עם חרדים'!$M$1:$V$1,0)) -> 0.05744 | V3: ='1999'!BE3 -> 0.41666667 | W3: ='2003'!AY3 -> 0.43352819 | X3: ='2006'!BA3 -> 0.41452105 | Y3: ='2009'!BD3 -> 0.36756029 | Z3: ='2013'!BD3 -> 0.43608511 | AA3: ='2015'!AW3 -> 0.44670776 | AB3: =AA3 -> 0.44670776 | AC3: =AVERAGE(I3:N3) -> 0.82111407 | AD3: =STDEV(I3:N3) -> 0.034920864 | AE3: =(-AC3+N3)/AD3 -> -1.9685836 | AF3: =AVERAGE(V3:AA3) -> 0.41917818 | AG3: =STDEV(V3:AA3) -> 0.028078631 | AH3: =(-AF3+AA3)/AG3 -> 0.98044612 | AI3: חרדית | AL3: בני ברק | AM3: 0.69156544 | AN3: 0.7133754 | AO3: 0.83316162 | AR3: =I3*V3 -> 0.34693878 | AS3: =J3*W3 -> 0.36119403 | AT3: =K3*X3 -> 0.35249559 | AU3: =L3*Y3 -> 0.30747251 | AV3: =M3*Z3 -> 0.35829662 | AW3: =N3*AA3 -> 0.33608927
A4: אשדוד | B4: ='1999'!AX4 -> 25332 | C4: ='2003'!AR4 -> 19009 | D4: ='2006'!AT4 -> 22465 | E4: ='2009'!AW4 -> 22166 | F4: ='2013'!AW4 -> 28115 | G4: ='2015'!AP4 -> 23055 | H4: =A4 -> אשדוד | I4: ='1999'!BA4 -> 0.2989591 | J4: ='2003'!AU4 -> 0.22162761 | K4: ='2006'!AW4 -> 0.26378517 | L4: ='2009'!AZ4 -> 0.23387777 | M4: ='2013'!AZ4 -> 0.27223696 | N4: ='2015'!AS4 -> 0.20366068 | O4: ירידה | P4: ימין מדיני | R4: =INDEX('מיפוי רשויות עם חרדים'!$M$1:$V$36,MATCH('מיפוי מלא'!$A4,'מיפוי רשויות עם חרדים'!$M$1:$M$36,0),MATCH('מיפוי מלא'!R$1,'מיפוי רשויות עם חרדים'!$M$1:$V$1,0)) -> 0.289656 | S4: =INDEX('מיפוי רשויות עם חרדים'!$M$1:$V$36,MATCH('מיפוי מלא'!$A4,'מיפוי רשויות עם חרדים'!$M$1:$M$36,0),MATCH('מיפוי מלא'!S$1,'מיפוי רשויות עם חרדים'!$M$1:$V$1,0)) -> 0.268056 | T4: =INDEX('מיפוי רשויות עם חרדים'!$M$1:$V$36,MATCH('מיפוי מלא'!$A4,'מיפוי רשויות עם חרדים'!$M$1:$M$36,0),MATCH('מיפוי מלא'!T$1,'מיפוי רשויות עם חרדים'!$M$1:$V$1,0)) -> 0.259686 | V4: ='1999'!BE4 -> 0.19126007 | W4: ='2003'!AY4 -> 0.35114946 | X4: ='2006'!BA4 -> 0.35170265 | Y4: ='2009'!BD4 -> 0.36546964 | Z4: ='2013'!BD4 -> 0.37905033 | AA4: ='2015'!AW4 -> 0.48284537 | AC4: =AVERAGE(I4:N4) -> 0.24902455 | AD4: =STDEV(I4:N4) -> 0.035462793 | AE4: =(-AC4+N4)/AD4 -> -1.2791961 | AF4: =AVERAGE(V4:AA4) -> 0.35357958 | AG4: =STDEV(V4:AA4) -> 0.093655571 | AH4: =(-AF4+AA4)/AG4 -> 1.3802253 | AI4: ימין מדיני | AL4: ביתר עילית | AM4: -1.9125437 | AN4: 1.4889497 | AO4: 0.82943165 | AR4: =I4*V4 -> 0.057178936 | AS4: =J4*W4 -> 0.077824414 | AT4: =K4*X4 -> 0.092773942 | AU4: =L4*Y4 -> 0.085475226 | AV4: =M4*Z4 -> 0.10319151 | AW4: =N4*AA4 -> 0.098336617
A5: בית שאן | B5: ='1999'!AX5 -> 3642 | C5: ='2003'!AR5 -> 1976 | D5: ='2006'!AT5 -> 2128 | E5: ='2009'!AW5 -> 1727 | F5: ='2013'!AW5 -> 2436 | G5: ='2015'!AP5 -> 1833 | H5: =A5 -> בית שאן | I5: ='1999'!BA5 -> 0.44506905 | J5: ='2003'!AU5 -> 0.279966 | K5: ='2006'!AW5 -> 0.32379793 | L5: ='2009'!AZ5 -> 0.2449298 | M5: ='2013'!AZ5 -> 0.29307026 | N5: ='2015'!AS5 -> 0.19686392 | O5: ירידה | P5: ליכוד מסורתי | R5: =INDEX('מיפוי רשויות עם חרדים'!$M$1:$V$36,MATCH('מיפוי מלא'!$A5,'מיפוי רשויות עם חרדים'!$M$1:$M$36,0),MATCH('מיפוי מלא'!R$1,'מיפוי רשויות עם חרדים'!$M$1:$V$1,0)) -> 0.195164 | S5: =INDEX('מיפוי רשויות עם חרדים'!$M$1:$V$36,MATCH('מיפוי מלא'!$A5,'מיפוי רשויות עם חרדים'!$M$1:$M$36,0),MATCH('מיפוי מלא'!S$1,'מיפוי רשויות עם חרדים'!$M$1:$V$1,0)) -> 0.301806 | T5: =INDEX('מיפוי רשויות עם חרדים'!$M$1:$V$36,MATCH('מיפוי מלא'!$A5,'מיפוי רשויות עם חרדים'!$M$1:$M$36,0),MATCH('מיפוי מלא'!T$1,'מיפוי רשויות עם חרדים'!$M$1:$V$1,0)) -> 0.22288 | V5: ='1999'!BE5 -> 0.088962109 | W5: ='2003'!AY5 -> 0.091093117 | X5: ='2006'!BA5 -> 0.071428571 | Y5: ='2009'!BD5 -> 0.065431384 | Z5: ='2013'!BD5 -> 0.029967159 | AA5: ='2015'!AW5 -> 0.048008729 | AC5: =AVERAGE(I5:N5) -> 0.29728283 | AD5: =STDEV(I5:N5) -> 0.084482224 | AE5: =(-AC5+N5)/AD5 -> -1.1886394 | AF5: =AVERAGE(V5:AA5) -> 0.065815178 | AG5: =STDEV(V5:AA5) -> 0.023700473 | AH5: =(-AF5+AA5)/AG5 -> -0.75131197 | AI5: ליכוד מסורתי | AL5: קריית יערים | AM5: -1.7744793 | AN5: 0.97688428 | AO5: 0.82722222 | AR5: =I5*V5 -> 0.039594281 | AS5: =J5*W5 -> 0.025502975 | AT5: =K5*X5 -> 0.023128424 | AU5: =L5*Y5 -> 0.016026096 | AV5: =M5*Z5 -> 0.0087824832 | AW5: =N5*AA5 -> 0.0094511868
A6: בית שמש | B6: ='1999'!AX6 -> 5278 | C6: ='2003'!AR6 -> 7213 | D6: ='2006'!AT6 -> 9114 | E6: ='2009'!AW6 -> 9738 | F6: ='2013'!AW6 -> 13793 | G6: ='2015'!AP6 -> 14449 | H6: =A6 -> בית שמש | I6: ='1999'!BA6 -> 0.34824492 | J6: ='2003'!AU6 -> 0.35702618 | K6: ='2006'!AW6 -> 0.42060086 | L6: ='2009'!AZ6 -> 0.41489498 | M6: ='2013'!AZ6 -> 0.46608995 | N6: ='2015'!AS6 -> 0.42650097 | O6: עליה | P6: חרדית עולה | R6: =INDEX('מיפוי רשויות עם חרדים'!$M$1:$V$36,MATCH('מיפוי מלא'!$A6,'מיפוי רשויות עם חרדים'!$M$1:$M$36,0),MATCH('מיפוי מלא'!R$1,'מיפוי רשויות עם חרדים'!$M$1:$V$1,0)) -> 0.142345 | S6: =INDEX('מיפוי רשויות עם חרדים'!$M$1:$V$36,MATCH('מיפוי מלא'!$A6,'מיפוי רשויות עם חרדים'!$M$1:$M$36,0),MATCH('מיפוי מלא'!S$1,'מיפוי רשויות עם חרדים'!$M$1:$V$1,0)) -> 0.123009 | T6: =INDEX('מיפוי רשויות עם חרדים'!$M$1:$V$36,MATCH('מיפוי מלא'!$A6,'מיפוי רשויות עם חרדים'!$M$1:$M$36,0),MATCH('מיפוי מלא'!T$1,'מיפוי רשויות עם חרדים'!$M$1:$V$1,0)) -> 0.09486 | V6: ='1999'!BE6 -> 0.24232664 | W6: ='2003'!AY6 -> 0.48426452 | X6: ='2006'!BA6 -> 0.52699144 | Y6: ='2009'!BD6 -> 0.49589238 | Z6: ='2013'!BD6 -> 0.60610455 | AA6: ='2015'!AW6 -> 0.66364454 | AC6: =AVERAGE(I6:N6) -> 0.40555964 | AD6: =STDEV(I6:N6) -> 0.044847115 | AE6: =(-AC6+N6)/AD6 -> 0.46694932 | AF6: =AVERAGE(V6:AA6) -> 0.50320401 | AG6: =STDEV(V6:AA6) -> 0.14516521 | AH6: =(-AF6+AA6)/AG6 -> 1.1052271 | AI6: חרדית עולה | AL6: רכסים | AM6: 0.65343357 | AN6: 1.520731 | AO6: 0.81212252 | AR6: =I6*V6 -> 0.084389021 | AS6: =J6*W6 -> 0.17289511 | AT6: =K6*X6 -> 0.22165305 | AU6: =L6*Y6 -> 0.20574326 | AV6: =M6*Z6 -> 0.28249924 | AW6: =N6*AA6 -> 0.28304504
A7: ביתר עילית | B7: ='1999'!AX7 -> 3953 | C7: ='2003'!AR7 -> 5587 | D7: ='2006'!AT7 -> 7156 | E7: ='2009'!AW7 -> 8798 | F7: ='2013'!AW7 -> 12651 | G7: ='2015'!AP7 -> 13251 | H7: =A7 -> ביתר עילית | I7: ='1999'!BA7 -> 0.93341204 | J7: ='2003'!AU7 -> 0.90463083 | K7: ='2006'!AW7 -> 0.91991259 | L7: ='2009'!AZ7 -> 0.899591 | M7: ='2013'!AZ7 -> 0.90383654 | N7: ='2015'!AS7 -> 0.82943165 | O7: ירידה | P7: חרדית | R7: =INDEX('מיפוי רשויות עם חרדים'!$M$1:$V$36,MATCH('מיפוי מלא'!$A7,'מיפוי רשויות עם חרדים'!$M$1:$M$36,0),MATCH('מיפוי מלא'!R$1,'מיפוי רשויות עם חרדים'!$M$1:$V$1,0)) -> 0 | S7: =INDEX('מיפוי רשויות עם חרדים'!$M$1:$V$36,MATCH('מיפוי מלא'!$A7,'מיפוי רשויות עם חרדים'!$M$1:$M$36,0),MATCH('מיפוי מלא'!S$1,'מיפוי רשויות עם חרדים'!$M$1:$V$1,0)) -> 0 | T7: =INDEX('מיפוי רשויות עם חרדים'!$M$1:$V$36,MATCH('מיפוי מלא'!$A7,'מיפוי רשויות עם חרדים'!$M$1:$M$36,0),MATCH('מיפוי מלא'!T$1,'מיפוי רשויות עם חרדים'!$M$1:$V$1,0)) -> 0.003465 | V7: ='1999'!BE7 -> 0.54540855 | W7: ='2003'!AY7 -> 0.6040809 | X7: ='2006'!BA7 -> 0.58873672 | Y7: ='2009'!BD7 -> 0.54307797 | Z7: ='2013'!BD7 -> 0.66429531 | AA7: ='2015'!AW7 -> 0.70538073 | AB7: =AA7 -> 0.70538073 | AC7: =AVERAGE(I7:N7) -> 0.89846911 | AD7: =STDEV(I7:N7) -> 0.036097194 | AE7: =(-AC7+N7)/AD7 -> -1.9125437 | AF7: =AVERAGE(V7:AA7) -> 0.6084967 | AG7: =STDEV(V7:AA7) -> 0.065068702 | AH7: =(-AF7+AA7)/AG7 -> 1.4889497 | AI7: חרדית | AL7: אלעד | AM7: -1.9685836 | AN7: 0.98044612 | AO7: 0.75236943 | AR7: =I7*V7 -> 0.50909091 | AS7: =J7*W7 -> 0.54647021 | AT7: =K7*X7 -> 0.54158632 | AU7: =L7*Y7 -> 0.48854806 | AV7: =M7*Z7 -> 0.60041437 | AW7: =N7*AA7 -> 0.5850651
A8: בני ברק | B8: ='1999'!AX8 -> 42442 | C8: ='2003'!AR8 -> 44789 | D8: ='2006'!AT8 -> 48602 | E8: ='2009'!AW8 -> 52215 | F8: ='2013'!AW8 -> 64058 | G8: ='2015'!AP8 -> 65504 | H8: =A8 -> בני ברק | I8: ='1999'!BA8 -> 0.70635423 | J8: ='2003'!AU8 -> 0.74855433 | K8: ='2006'!AW8 -> 0.80331229 | L8: ='2009'!AZ8 -> 0.82315199 | M8: ='2013'!AZ8 -> 0.85243589 | N8: ='2015'!AS8 -> 0.83316162 | O8: עליה | P8: חרדית | R8: =INDEX('מיפוי רשויות עם חרדים'!$M$1:$V$36,MATCH('מיפוי מלא'!$A8,'מיפוי רשויות עם חרדים'!$M$1:$M$36,0),MATCH('מיפוי מלא'!R$1,'מיפוי רשויות עם חרדים'!$M$1:$V$1,0)) -> 0 | S8: =INDEX('מיפוי רשויות עם חרדים'!$M$1:$V$36,MATCH('מיפוי מלא'!$A8,'מיפוי רשויות עם חרדים'!$M$1:$M$36,0),MATCH('מיפוי מלא'!S$1,'מיפוי רשויות עם חרדים'!$M$1:$V$1,0)) -> 0 | T8: =INDEX('מיפוי רשויות עם חרדים'!$M$1:$V$36,MATCH('מיפוי מלא'!$A8,'מיפוי רשויות עם חרדים'!$M$1:$M$36,0),MATCH('מיפוי מלא'!T$1,'מיפוי רשויות עם חרדים'!$M$1:$V$1,0)) -> 0.003264 | V8: ='1999'!BE8 -> 0.6787616 | W8: ='2003'!AY8 -> 0.72218625 | X8: ='2006'!BA8 -> 0.70262541 | Y8: ='2009'!BD8 -> 0.66651345 | Z8: ='2013'!BD8 -> 0.70206688 | AA8: ='2015'!AW8 -> 0.71233818 | AB8: =AA8 -> 0.71233818 | AC8: =AVERAGE(I8:N8) -> 0.79449506 | AD8: =STDEV(I8:N8) -> 0.05591165 | AE8: =(-AC8+N8)/AD8 -> 0.69156544 | AF8: =AVERAGE(V8:AA8) -> 0.6974153 | AG8: =STDEV(V8:AA8) -> 0.020918696 | AH8: =(-AF8+AA8)/AG8 -> 0.7133754 | AI8: חרדית | AL8: עמנואל | AM8: -1.5734592 | AN8: 1.4732497 | AO8: 0.61884058 | AR8: =I8*V8 -> 0.47944613 | AS8: =J8*W8 -> 0.54059565 | AT8: =K8*X8 -> 0.56442762 | AU8: =L8*Y8 -> 0.54864187 | AV8: =M8*Z8 -> 0.598467 | AW8: =N8*AA8 -> 0.59349283
A9: גבעת זאב | B9: ='1999'!AX9 -> 738 | C9: ='2003'!AR9 -> 577 | D9: ='2006'!AT9 -> 644 | E9: ='2009'!AW9 -> 715 | F9: ='2013'!AW9 -> 1645 | G9: ='2015'!AP9 -> 1926 | H9: =A9 -> גבעת זאב | I9: ='1999'!BA9 -> 0.14936248 | J9: ='2003'!AU9 -> 0.11387409 | K9: ='2006'!AW9 -> 0.13148224 | L9: ='2009'!AZ9 -> 0.13587989 | M9: ='2013'!AZ9 -> 0.2386479 | N9: ='2015'!AS9 -> 0.24685978 | O9: עליה | P9: חרדית עולה | R9: =INDEX('מיפוי רשויות עם חרדים'!$M$1:$V$36,MATCH('מיפוי מלא'!$A9,'מיפוי רשויות עם חרדים'!$M$1:$M$36,0),MATCH('מיפוי מלא'!R$1,'מיפוי רשויות עם חרדים'!$M$1:$V$1,0)) -> 0.23766 | S9: =INDEX('מיפוי רשויות עם חרדים'!$M$1:$V$36,MATCH('מיפוי מלא'!$A9,'מיפוי רשויות עם חרדים'!$M$1:$M$36,0),MATCH('מיפוי מלא'!S$1,'מיפוי רשויות עם חרדים'!$M$1:$V$1,0)) -> 0.259825 | T9: =INDEX('מיפוי רשויות עם חרדים'!$M$1:$V$36,MATCH('מיפוי מלא'!$A9,'מיפוי רשויות עם חרדים'!$M$1:$M$36,0),MATCH('מיפוי מלא'!T$1,'מיפוי רשויות עם חרדים'!$M$1:$V$1,0)) -> 0.263655 | V9: ='1999'!BE9 -> 0.16802168 | W9: ='2003'!AY9 -> 0.28596187 | X9: ='2006'!BA9 -> 0.27484472 | Y9: ='2009'!BD9 -> 0.22237762 | Z9: ='2013'!BD9 -> 0.45653495 | AA9: ='2015'!AW9 -> 0.54569055 | AC9: =AVERAGE(I9:N9) -> 0.16935106 | AD9: =STDEV(I9:N9) -> 0.058036642 | AE9: =(-AC9+N9)/AD9 -> 1.3355135 | AF9: =AVERAGE(V9:AA9) -> 0.3255719 | AG9: =STDEV(V9:AA9) -> 0.14506335 | AH9: =(-AF9+AA9)/AG9 -> 1.5173967 | AI9: חרדית עולה | AL9: בית שמש | AM9: 0.46694932 | AN9: 1.1052271 | AO9: 0.42650097 | AR9: =I9*V9 -> 0.025096134 | AS9: =J9*W9 -> 0.032563647 | AT9: =K9*X9 -> 0.036137199 | AU9: =L9*Y9 -> 0.030216648 | AV9: =M9*Z9 -> 0.10895111 | AW9: =N9*AA9 -> 0.13470905
A10: חצור הגלילית | B10: ='1999'!AX10 -> 1716 | C10: ='2003'!AR10 -> 1123 | D10: ='2006'!AT10 -> 1262 | E10: ='2009'!AW10 -> 1197 | F10: ='2013'!AW10 -> 1394 | G10: ='2015'!AP10 -> 1180 | H10: =A10 -> חצור הגלילית | I10: ='1999'!BA10 -> 0.37110727 | J10: ='2003'!AU10 -> 0.27497551 | K10: ='2006'!AW10 -> 0.33263047 | L10: ='2009'!AZ10 -> 0.30708055 | M10: ='2013'!AZ10 -> 0.31552739 | N10: ='2015'!AS10 -> 0.24215063 | O10: ירידה | P10: ליכוד מסורתי | R10: =INDEX('מיפוי רשויות עם חרדים'!$M$1:$V$36,MATCH('מיפוי מלא'!$A10,'מיפוי רשויות עם חרדים'!$M$1:$M$36,0),MATCH('מיפוי מלא'!R$1,'מיפוי רשויות עם חרדים'!$M$1:$V$1,0)) -> 0.15505 | S10: =INDEX('מיפוי רשויות עם חרדים'!$M$1:$V$36,MATCH('מיפוי מלא'!$A10,'מיפוי רשויות עם חרדים'!$M$1:$M$36,0),MATCH('מיפוי מלא'!S$1,'מיפוי רשויות עם חרדים'!$M$1:$V$1,0)) -> 0.206028 | T10: =INDEX('מיפוי רשויות עם חרדים'!$M$1:$V$36,MATCH('מיפוי מלא'!$A10,'מיפוי רשויות עם חרדים'!$M$1:$M$36,0),MATCH('מיפוי מלא'!T$1,'מיפוי רשויות עם חרדים'!$M$1:$V$1,0)) -> 0.103572 | V10: ='1999'!BE10 -> 0.2972028 | W10: ='2003'!AY10 -> 0.43722173 | X10: ='2006'!BA10 -> 0.45721078 | Y10: ='2009'!BD10 -> 0.47284879 | Z10: ='2013'!BD10 -> 0.45767575 | AA10: ='2015'!AW10 -> 0.59237288 | AC10: =AVERAGE(I10:N10) -> 0.3072453 | AD10: =STDEV(I10:N10) -> 0.044877686 | AE10: =(-AC10+N10)/AD10 -> -1.450491 | AF10: =AVERAGE(V10:AA10) -> 0.45242212 | AG10: =STDEV(V10:AA10) -> 0.094210495 | AH10: =(-AF10+AA10)/AG10 -> 1.4855114 | AI10: ליכוד מסורתי | AL10: יבנאל | AM10: 0.54216875 | AN10: -0.090409819 | AO10: 0.39920949 | AR10: =I10*V10 -> 0.11029412 | AS10: =J10*W10 -> 0.12022527 | AT10: =K10*X10 -> 0.15208224 | AU10: =L10*Y10 -> 0.14520267 | AV10: =M10*Z10 -> 0.14440923 | AW10: =N10*AA10 -> 0.14344346
A11: טבריה | B11: ='1999'!AX11 -> 5989 | C11: ='2003'!AR11 -> 4123 | D11: ='2006'!AT11 -> 4096 | E11: ='2009'!AW11 -> 3452 | F11: ='2013'!AW11 -> 4701 | G11: ='2015'!AP11 -> 3756 | H11: =A11 -> טבריה | I11: ='1999'!BA11 -> 0.28944952 | J11: ='2003'!AU11 -> 0.2354789 | K11: ='2006'!AW11 -> 0.27124032 | L11: ='2009'!AZ11 -> 0.21535966 | M11: ='2013'!AZ11 -> 0.26551822 | N11: ='2015'!AS11 -> 0.18576586 | O11: ירידה | P11: ליכוד מסורתי | R11: =INDEX('מיפוי רשויות עם חרדים'!$M$1:$V$36,MATCH('מיפוי מלא'!$A11,'מיפוי רשויות עם חרדים'!$M$1:$M$36,0),MATCH('מיפוי מלא'!R$1,'מיפוי רשויות עם חרדים'!$M$1:$V$1,0)) -> 0.159967 | S11: =INDEX('מיפוי רשויות עם חרדים'!$M$1:$V$36,MATCH('מיפוי מלא'!$A11,'מיפוי רשויות עם חרדים'!$M$1:$M$36,0),MATCH('מיפוי מלא'!S$1,'מיפוי רשויות עם חרדים'!$M$1:$V$1,0)) -> 0.151011 | T11: =INDEX('מיפוי רשויות עם חרדים'!$M$1:$V$36,MATCH('מיפוי מלא'!$A11,'מיפוי רשויות עם חרדים'!$M$1:$M$36,0),MATCH('מיפוי מלא'!T$1,'מיפוי רשויות עם חרדים'!$M$1:$V$1,0)) -> 0.181916 | V11: ='1999'!BE11 -> 0.082317582 | W11: ='2003'!AY11 -> 0.14479748 | X11: ='2006'!BA11 -> 0.1394043 | Y11: ='2009'!BD11 -> 0.12253766 | Z11: ='2013'!BD11 -> 0.14932993 | AA11: ='2015'!AW11 -> 0.19142705 | AC11: =AVERAGE(I11:N11) -> 0.24380208 | AD11: =STDEV(I11:N11) -> 0.038870516 | AE11: =(-AC11+N11)/AD11 -> -1.4930652 | AF11: =AVERAGE(V11:AA11) -> 0.13830233 | AG11: =STDEV(V11:AA11) -> 0.03569331 | AH11: =(-AF11+AA11)/AG11 -> 1.4883662 | AI11: ליכוד מסורתי | AL11: אופקים | AM11: -0.5991411 | AN11: 1.1776769 | AO11: 0.34192564 | AR11: =I11*V11 -> 0.023826785 | AS11: =J11*W11 -> 0.03409675 | AT11: =K11*X11 -> 0.037812065 | AU11: =L11*Y11 -> 0.026389669 | AV11: =M11*Z11 -> 0.039649816 | AW11: =N11*AA11 -> 0.035560611
A12: יבנאל | B12: ='1999'!AX12 -> 298 | C12: ='2003'!AR12 -> 343 | D12: ='2006'!AT12 -> 451 | E12: ='2009'!AW12 -> 541 | F12: ='2013'!AW12 -> 738 | G12: ='2015'!AP12 -> 707 | H12: =A12 -> יבנאל | I12: ='1999'!BA12 -> 0.24937238 | J12: ='2003'!AU12 -> 0.28137818 | K12: ='2006'!AW12 -> 0.361668 | L12: ='2009'!AZ12 -> 0.39691856 | M12: ='2013'!AZ12 -> 0.45415385 | N12: ='2015'!AS12 -> 0.39920949 | O12: עליה | P12: חרדית עולה | R12: =INDEX('מיפוי רשויות עם חרדים'!$M$1:$V$36,MATCH('מיפוי מלא'!$A12,'מיפוי רשויות עם חרדים'!$M$1:$M$36,0),MATCH('מיפוי מלא'!R$1,'מיפוי רשויות עם חרדים'!$M$1:$V$1,0)) -> 0.404952 | S12: =INDEX('מיפוי רשויות עם חרדים'!$M$1:$V$36,MATCH('מיפוי מלא'!$A12,'מיפוי רשויות עם חרדים'!$M$1:$M$36,0),MATCH('מיפוי מלא'!S$1,'מיפוי רשויות עם חרדים'!$M$1:$V$1,0)) -> 0.21181 | T12: =INDEX('מיפוי רשויות עם חרדים'!$M$1:$V$36,MATCH('מיפוי מלא'!$A12,'מיפוי רשויות עם חרדים'!$M$1:$M$36,0),MATCH('מיפוי מלא'!T$1,'מיפוי רשויות עם חרדים'!$M$1:$V$1,0)) -> 0.289068 | V12: ='1999'!BE12 -> 0.013422819 | W12: ='2003'!AY12 -> 0.049562682 | X12: ='2006'!BA12 -> 0.057649667 | Y12: ='2009'!BD12 -> 0.10536044 | Z12: ='2013'!BD12 -> 0.044715447 | AA12: ='2015'!AW12 -> 0.050919378 | AC12: =AVERAGE(I12:N12) -> 0.35711674 | AD12: =STDEV(I12:N12) -> 0.077637715 | AE12: =(-AC12+N12)/AD12 -> 0.54216875 | AF12: =AVERAGE(V12:AA12) -> 0.053605073 | AG12: =STDEV(V12:AA12) -> 0.029705791 | AH12: =(-AF12+AA12)/AG12 -> -0.090409819 | AI12: חרדית עולה | AL12: ירושלים | AM12: -0.32663049 | AN12: 1.3045543 | AO12: 0.33110707 | AR12: =I12*V12 -> 0.0033472803 | AS12: =J12*W12 -> 0.013945857 | AT12: =K12*X12 -> 0.02085004 | AU12: =L12*Y12 -> 0.041819516 | AV12: =M12*Z12 -> 0.020307692 | AW12: =N12*AA12 -> 0.020327499
A13: ירוחם | B13: ='1999'!AX13 -> 1682 | C13: ='2003'!AR13 -> 935 | D13: ='2006'!AT13 -> 918 | E13: ='2009'!AW13 -> 957 | F13: ='2013'!AW13 -> 1073 | G13: ='2015'!AP13 -> 928 | H13: =A13 -> ירוחם | I13: ='1999'!BA13 -> 0.38989337 | J13: ='2003'!AU13 -> 0.2566566 | K13: ='2006'!AW13 -> 0.29814875 | L13: ='2009'!AZ13 -> 0.28868778 | M13: ='2013'!AZ13 -> 0.28590461 | N13: ='2015'!AS13 -> 0.22518806 | O13: ירידה | P13: ליכוד מסורתי | R13: =INDEX('מיפוי רשויות עם חרדים'!$M$1:$V$36,MATCH('מיפוי מלא'!$A13,'מיפוי רשויות עם חרדים'!$M$1:$M$36,0),MATCH('מיפוי מלא'!R$1,'מיפוי רשויות עם חרדים'!$M$1:$V$1,0)) -> 0.241623 | S13: =INDEX('מיפוי רשויות עם חרדים'!$M$1:$V$36,MATCH('מיפוי מלא'!$A13,'מיפוי רשויות עם חרדים'!$M$1:$M$36,0),MATCH('מיפוי מלא'!S$1,'מיפוי רשויות עם חרדים'!$M$1:$V$1,0)) -> 0.308308 | T13: =INDEX('מיפוי רשויות עם חרדים'!$M$1:$V$36,MATCH('מיפוי מלא'!$A13,'מיפוי רשויות עם חרדים'!$M$1:$M$36,0),MATCH('מיפוי מלא'!T$1,'מיפוי רשויות עם חרדים'!$M$1:$V$1,0)) -> 0.294378 | V13: ='1999'!BE13 -> 0.22592152 | W13: ='2003'!AY13 -> 0.37967914 | X13: ='2006'!BA13 -> 0.33877996 | Y13: ='2009'!BD13 -> 0.35423197 | Z13: ='2013'!BD13 -> 0.34389562 | AA13: ='2015'!AW13 -> 0.33189655 | AC13: =AVERAGE(I13:N13) -> 0.29074653 | AD13: =STDEV(I13:N13) -> 0.055448368 | AE13: =(-AC13+N13)/AD13 -> -1.1823336 | AF13: =AVERAGE(V13:AA13) -> 0.32906746 | AG13: =STDEV(V13:AA13) -> 0.053209192 | AH13: =(-AF13+AA13)/AG13 -> 0.0531692 | AI13: ליכוד מסורתי | AL13: נתיבות | AM13: -1.9030661 | AN13: 1.7042392 | AO13: 0.30295145 | AR13: =I13*V13 -> 0.088085304 | AS13: =J13*W13 -> 0.097447159 | AT13: =K13*X13 -> 0.10100682 | AU13: =L13*Y13 -> 0.10226244 | AV13: =M13*Z13 -> 0.098321343 | AW13: =N13*AA13 -> 0.074739141
A14: ירושלים | B14: ='1999'!AX14 -> 74002 | C14: ='2003'!AR14 -> 64974 | D14: ='2006'!AT14 -> 71460 | E14: ='2009'!AW14 -> 73552 | F14: ='2013'!AW14 -> 91144 | G14: ='2015'!AP14 -> 84527 | H14: =A14 -> ירושלים | I14: ='1999'!BA14 -> 0.33147741 | J14: ='2003'!AU14 -> 0.30801102 | K14: ='2006'!AW14 -> 0.34191878 | L14: ='2009'!AZ14 -> 0.34092416 | M14: ='2013'!AZ14 -> 0.37797287 | N14: ='2015'!AS14 -> 0.33110707 | O14: אותו דבר | P14: ימין מסורתי | R14: =INDEX('מיפוי רשויות עם חרדים'!$M$1:$V$36,MATCH('מיפוי מלא'!$A14,'מיפוי רשויות עם חרדים'!$M$1:$M$36,0),MATCH('מיפוי מלא'!R$1,'מיפוי רשויות עם חרדים'!$M$1:$V$1,0)) -> 0.089639 | S14: =INDEX('מיפוי רשויות עם חרדים'!$M$1:$V$36,MATCH('מיפוי מלא'!$A14,'מיפוי רשויות עם חרדים'!$M$1:$M$36,0),MATCH('מיפוי מלא'!S$1,'מיפוי רשויות עם חרדים'!$M$1:$V$1,0)) -> 0.099864 | T14: =INDEX('מיפוי רשויות עם חרדים'!$M$1:$V$36,MATCH('מיפוי מלא'!$A14,'מיפוי רשויות עם חרדים'!$M$1:$M$36,0),MATCH('מיפוי מלא'!T$1,'מיפוי רשויות עם חרדים'!$M$1:$V$1,0)) -> 0.09792 | V14: ='1999'!BE14 -> 0.47477095 | W14: ='2003'!AY14 -> 0.58945117 | X14: ='2006'!BA14 -> 0.55684299 | Y14: ='2009'!BD14 -> 0.55644986 | Z14: ='2013'!BD14 -> 0.58842052 | AA14: ='2015'!AW14 -> 0.63823394 | AC14: =AVERAGE(I14:N14) -> 0.33856855 | AD14: =STDEV(I14:N14) -> 0.022843792 | AE14: =(-AC14+N14)/AD14 -> -0.32663049 | AF14: =AVERAGE(V14:AA14) -> 0.56736157 | AG14: =STDEV(V14:AA14) -> 0.054326882 | AH14: =(-AF14+AA14)/AG14 -> 1.3045543 | AI14: ימין מסורתי | AL14: צפת | AM14: -1.4087321 | AN14: 1.6274596 | AO14: 0.24689518 | AR14: =I14*V14 -> 0.15737584 | AS14: =J14*W14 -> 0.18155745 | AT14: =K14*X14 -> 0.19039508 | AU14: =L14*Y14 -> 0.1897072 | AV14: =M14*Z14 -> 0.22240699 | AW14: =N14*AA14 -> 0.21132377
A15: כפר חבד | B15: ='1999'!AX15 -> 387 | C15: ='2003'!AR15 -> 108 | D15: ='2006'!AT15 -> 404 | E15: ='2009'!AW15 -> 318 | F15: ='2013'!AW15 -> 802 | G15: ='2015'!AP15 -> 234 | H15: =A15 -> כפר חבד | I15: ='1999'!BA15 -> 0.27446809 | J15: ='2003'!AU15 -> 0.06981254 | K15: ='2006'!AW15 -> 0.2373678 | L15: ='2009'!AZ15 -> 0.16324435 | M15: ='2013'!AZ15 -> 0.33697479 | N15: ='2015'!AS15 -> 0.089620835 | O15: ירידה | P15: ימין לאומי | Q15: עמק לוד | R15: =INDEX('מיפוי רשויות עם חרדים'!$M$1:$V$36,MATCH("עמק לוד",'מיפוי רשויות עם חרדים'!$M$1:$M$36,0),MATCH('מיפוי מלא'!R$1,'מיפוי רשויות עם חרדים'!$M$1:$V$1,0)) -> 0.122474 | S15: =INDEX('מיפוי רשויות עם חרדים'!$M$1:$V$36,MATCH("עמק לוד",'מיפוי רשויות עם חרדים'!$M$1:$M$36,0),MATCH('מיפוי מלא'!S$1,'מיפוי רשויות עם חרדים'!$M$1:$V$1,0)) -> 0.18426 | T15: =INDEX('מיפוי רשויות עם חרדים'!$M$1:$V$36,MATCH("עמק לוד",'מיפוי רשויות עם חרדים'!$M$1:$M$36,0),MATCH('מיפוי מלא'!T$1,'מיפוי רשויות עם חרדים'!$M$1:$V$1,0)) -> 0.18316 | V15: ='1999'!BE15 -> 0.57364341 | W15: ='2003'!AY15 -> 0.40740741 | X15: ='2006'!BA15 -> 0.48514851 | Y15: ='2009'!BD15 -> 0.37106918 | Z15: ='2013'!BD15 -> 0.87157107 | AA15: ='2015'!AW15 -> 0.87179487 | AC15: =AVERAGE(I15:N15) -> 0.19524807 | AD15: =STDEV(I15:N15) -> 0.10587896 | AE15: =(-AC15+N15)/AD15 -> -0.99762252 | AF15: =AVERAGE(V15:AA15) -> 0.59677241 | AG15: =STDEV(V15:AA15) -> 0.22403016 | AH15: =(-AF15+AA15)/AG15 -> 1.2276136 | AI15: ימין לאומי | AL15: גבעת זאב | AM15: 1.3355135 | AN15: 1.5173967 | AO15: 0.24685978 | AR15: =I15*V15 -> 0.15744681 | AS15: =J15*W15 -> 0.028442146 | AT15: =K15*X15 -> 0.11515864 | AU15: =L15*Y15 -> 0.060574949 | AV15: =M15*Z15 -> 0.29369748 | AW15: =N15*AA15 -> 0.078130984
A16: מודיעין עילית | B16: ='1999'!AX16 -> 3838 | C16: ='2003'!AR16 -> 7735 | D16: ='2006'!AT16 -> 10284 | E16: ='2009'!AW16 -> 13109 | F16: ='2013'!AW16 -> 17934 | G16: ='2015'!AP16 -> 18386 | H16: =A16 -> מודיעין עילית | I16: ='1999'!BA16 -> 0.97584541 | J16: ='2003'!AU16 -> 0.9663918 | K16: ='2006'!AW16 -> 0.97349489 | L16: ='2009'!AZ16 -> 0.96567219 | M16: ='2013'!AZ16 -> 0.95069975 | N16: ='2015'!AS16 -> 0.92550086 | O16: אותו דבר | P16: חרדית | R16: =INDEX('מיפוי רשויות עם חרדים'!$M$1:$V$36,MATCH('מיפוי מלא'!$A16,'מיפוי רשויות עם חרדים'!$M$1:$M$36,0),MATCH('מיפוי מלא'!R$1,'מיפוי רשויות עם חרדים'!$M$1:$V$1,0)) -> 0 | S16: =INDEX('מיפוי רשויות עם חרדים'!$M$1:$V$36,MATCH('מיפוי מלא'!$A16,'מיפוי רשויות עם חרדים'!$M$1:$M$36,0),MATCH('מיפוי מלא'!S$1,'מיפוי רשויות עם חרדים'!$M$1:$V$1,0)) -> 0 | T16: =INDEX('מיפוי רשויות עם חרדים'!$M$1:$V$36,MATCH('מיפוי מלא'!$A16,'מיפוי רשויות עם חרדים'!$M$1:$M$36,0),MATCH('מיפוי מלא'!T$1,'מיפוי רשויות עם חרדים'!$M$1:$V$1,0)) -> 0.0021 | V16: ='1999'!BE16 -> 0.75716519 | W16: ='2003'!AY16 -> 0.78823529 | X16: ='2006'!BA16 -> 0.8059121 | Y16: ='2009'!BD16 -> 0.75291784 | Z16: ='2013'!BD16 -> 0.81030445 | AA16: ='2015'!AW16 -> 0.81823126 | AB16: =AA16 -> 0.81823126 | AC16: =AVERAGE(I16:N16) -> 0.95960082 | AD16: =STDEV(I16:N16) -> 0.018878282 | AE16: =(-AC16+N16)/AD16 -> -1.8063064 | AF16: =AVERAGE(V16:AA16) -> 0.78879436 | AG16: =STDEV(V16:AA16) -> 0.027964526 | AH16: =(-AF16+AA16)/AG16 -> 1.0526517 | AI16: חרדית | AL16: חצור הגלילית | AM16: -1.450491 | AN16: 1.4855114 | AO16: 0.24215063 | AR16: =I16*V16 -> 0.73887618 | AS16: =J16*W16 -> 0.76174413 | AT16: =K16*X16 -> 0.78455131 | AU16: =L16*Y16 -> 0.72707182 | AV16: =M16*Z16 -> 0.77035623 | AW16: =N16*AA16 -> 0.75727373
A17: נתיבות | B17: ='1999'!AX17 -> 4740 | C17: ='2003'!AR17 -> 4294 | D17: ='2006'!AT17 -> 4968 | E17: ='2009'!AW17 -> 4955 | F17: ='2013'!AW17 -> 6698 | G17: ='2015'!AP17 -> 4424 | H17: =A17 -> נתיבות | I17: ='1999'!BA17 -> 0.49947313 | J17: ='2003'!AU17 -> 0.43669277 | K17: ='2006'!AW17 -> 0.49610545 | L17: ='2009'!AZ17 -> 0.45496281 | M17: ='2013'!AZ17 -> 0.50734737 | N17: ='2015'!AS17 -> 0.30295145 | O17: ירידה | P17: ליכוד מסורתי | R17: =INDEX('מיפוי רשויות עם חרדים'!$M$1:$V$36,MATCH('מיפוי מלא'!$A17,'מיפוי רשויות עם חרדים'!$M$1:$M$36,0),MATCH('מיפוי מלא'!R$1,'מיפוי רשויות עם חרדים'!$M$1:$V$1,0)) -> 0.166199 | S17: =INDEX('מיפוי רשויות עם חרדים'!$M$1:$V$36,MATCH('מיפוי מלא'!$A17,'מיפוי רשויות עם חרדים'!$M$1:$M$36,0),MATCH('מיפוי מלא'!S$1,'מיפוי רשויות עם חרדים'!$M$1:$V$1,0)) -> 0.184356 | T17: =INDEX('מיפוי רשויות עם חרדים'!$M$1:$V$36,MATCH('מיפוי מלא'!$A17,'מיפוי רשויות עם חרדים'!$M$1:$M$36,0),MATCH('מיפוי מלא'!T$1,'מיפוי רשויות עם חרדים'!$M$1:$V$1,0)) -> 0.161262 | V17: ='1999'!BE17 -> 0.12742616 | W17: ='2003'!AY17 -> 0.18025151 | X17: ='2006'!BA17 -> 0.16767311 | Y17: ='2009'!BD17 -> 0.16326942 | Z17: ='2013'!BD17 -> 0.13272619 | AA17: ='2015'!AW17 -> 0.23078662 | AC17: =AVERAGE(I17:N17) -> 0.44958883 | AD17: =STDEV(I17:N17) -> 0.077053226 | AE17: =(-AC17+N17)/AD17 -> -1.9030661 | AF17: =AVERAGE(V17:AA17) -> 0.16702217 | AG17: =STDEV(V17:AA17) -> 0.037415199 | AH17: =(-AF17+AA17)/AG17 -> 1.7042392 | AI17: ליכוד מסורתי | AL17: ירוחם | AM17: -1.1823336 | AN17: 0.0531692 | AO17: 0.22518806 | AR17: =I17*V17 -> 0.063645943 | AS17: =J17*W17 -> 0.078714533 | AT17: =K17*X17 -> 0.083183543 | AU17: =L17*Y17 -> 0.074281517 | AV17: =M17*Z17 -> 0.067338282 | AW17: =N17*AA17 -> 0.06991714
A18: עמנואל | B18: ='1999'!AX18 -> 948 | C18: ='2003'!AR18 -> 721 | D18: ='2006'!AT18 -> 711 | E18: ='2009'!AW18 -> 818 | F18: ='2013'!AW18 -> 900 | G18: ='2015'!AP18 -> 854 | H18: =A18 -> עמנואל | I18: ='1999'!BA18 -> 0.83671668 | J18: ='2003'!AU18 -> 0.76783813 | K18: ='2006'!AW18 -> 0.74684874 | L18: ='2009'!AZ18 -> 0.74363636 | M18: ='2013'!AZ18 -> 0.69230769 | N18: ='2015'!AS18 -> 0.61884058 | O18: ירידה | P18: חרדית | R18: =INDEX('מיפוי רשויות עם חרדים'!$M$1:$V$36,MATCH('מיפוי מלא'!$A18,'מיפוי רשויות עם חרדים'!$M$1:$M$36,0),MATCH('מיפוי מלא'!R$1,'מיפוי רשויות עם חרדים'!$M$1:$V$1,0)) -> 0.024236 | S18: =INDEX('מיפוי רשויות עם חרדים'!$M$1:$V$36,MATCH('מיפוי מלא'!$A18,'מיפוי רשויות עם חרדים'!$M$1:$M$36,0),MATCH('מיפוי מלא'!S$1,'מיפוי רשויות עם חרדים'!$M$1:$V$1,0)) -> 0 | T18: =INDEX('מיפוי רשויות עם חרדים'!$M$1:$V$36,MATCH('מיפוי מלא'!$A18,'מיפוי רשויות עם חרדים'!$M$1:$M$36,0),MATCH('מיפוי מלא'!T$1,'מיפוי רשויות עם חרדים'!$M$1:$V$1,0)) -> 0.023489 | V18: ='1999'!BE18 -> 0.3850211 | W18: ='2003'!AY18 -> 0.42024965 | X18: ='2006'!BA18 -> 0.31082982 | Y18: ='2009'!BD18 -> 0.33496333 | Z18: ='2013'!BD18 -> 0.37222222 | AA18: ='2015'!AW18 -> 0.46252927 | AB18: =AA18 -> 0.46252927 | AC18: =AVERAGE(I18:N18) -> 0.7343647 | AD18: =STDEV(I18:N18) -> 0.073420471 | AE18: =(-AC18+N18)/AD18 -> -1.5734592 | AF18: =AVERAGE(V18:AA18) -> 0.38096923 | AG18: =STDEV(V18:AA18) -> 0.055360637 | AH18: =(-AF18+AA18)/AG18 -> 1.4732497 | AI18: חרדית | AL18: אשדוד | AM18: -1.2791961 | AN18: 1.3802253 | AO18: 0.20366068 | AR18: =I18*V18 -> 0.32215357 | AS18: =J18*W18 -> 0.32268371 | AT18: =K18*X18 -> 0.23214286 | AU18: =L18*Y18 -> 0.24909091 | AV18: =M18*Z18 -> 0.25769231 | AW18: =N18*AA18 -> 0.28623188
A19: צפת | B19: ='1999'!AX19 -> 4161 | C19: ='2003'!AR19 -> 3054 | D19: ='2006'!AT19 -> 3309 | E19: ='2009'!AW19 -> 3083 | F19: ='2013'!AW19 -> 3983 | G19: ='2015'!AP19 -> 3479 | H19: =A19 -> צפת | I19: ='1999'!BA19 -> 0.33967347 | J19: ='2003'!AU19 -> 0.26881436 | K19: ='2006'!AW19 -> 0.31344132 | L19: ='2009'!AZ19 -> 0.2858865 | M19: ='2013'!AZ19 -> 0.31538522 | N19: ='2015'!AS19 -> 0.24689518 | O19: ירידה | P19: ימין מסורתי | R19: =INDEX('מיפוי רשויות עם חרדים'!$M$1:$V$36,MATCH('מיפוי מלא'!$A19,'מיפוי רשויות עם חרדים'!$M$1:$M$36,0),MATCH('מיפוי מלא'!R$1,'מיפוי רשויות עם חרדים'!$M$1:$V$1,0)) -> 0.100487 | S19: =INDEX('מיפוי רשויות עם חרדים'!$M$1:$V$36,MATCH('מיפוי מלא'!$A19,'מיפוי רשויות עם חרדים'!$M$1:$M$36,0),MATCH('מיפוי מלא'!S$1,'מיפוי רשויות עם חרדים'!$M$1:$V$1,0)) -> 0.15946 | T19: =INDEX('מיפוי רשויות עם חרדים'!$M$1:$V$36,MATCH('מיפוי מלא'!$A19,'מיפוי רשויות עם חרדים'!$M$1:$M$36,0),MATCH('מיפוי מלא'!T$1,'מיפוי רשויות עם חרדים'!$M$1:$V$1,0)) -> 0.11481 | V19: ='1999'!BE19 -> 0.19322278 | W19: ='2003'!AY19 -> 0.23706614 | X19: ='2006'!BA19 -> 0.2523421 | Y19: ='2009'!BD19 -> 0.25267596 | Z19: ='2013'!BD19 -> 0.33567663 | AA19: ='2015'!AW19 -> 0.40356424 | AC19: =AVERAGE(I19:N19) -> 0.29501601 | AD19: =STDEV(I19:N19) -> 0.034158963 | AE19: =(-AC19+N19)/AD19 -> -1.4087321 | AF19: =AVERAGE(V19:AA19) -> 0.27909131 | AG19: =STDEV(V19:AA19) -> 0.076482963 | AH19: =(-AF19+AA19)/AG19 -> 1.6274596 | AI19: ימין מסורתי | AL19: בית שאן | AM19: -1.1886394 | AN19: -0.75131197 | AO19: 0.19686392 | AR19: =I19*V19 -> 0.065632653 | AS19: =J19*W19 -> 0.063726785 | AT19: =K19*X19 -> 0.07909444 | AU19: =L19*Y19 -> 0.072236647 | AV19: =M19*Z19 -> 0.10586745 | AW19: =N19*AA19 -> 0.099638067
A20: קריית יערים | B20: ='1999'!AX20 -> 762 | C20: ='2003'!AR20 -> 855 | D20: ='2006'!AT20 -> 943 | E20: ='2009'!AW20 -> 1035 | F20: ='2013'!AW20 -> 1437 | G20: ='2015'!AP20 -> 1489 | H20: =A20 -> קריית יערים | I20: ='1999'!BA20 -> 0.90606421 | J20: ='2003'!AU20 -> 0.87782341 | K20: ='2006'!AW20 -> 0.88878417 | L20: ='2009'!AZ20 -> 0.86538462 | M20: ='2013'!AZ20 -> 0.88648982 | N20: ='2015'!AS20 -> 0.82722222 | O20: ירידה | P20: חרדית | R20: =INDEX('מיפוי רשויות עם חרדים'!$M$1:$V$36,MATCH('מיפוי מלא'!$A20,'מיפוי רשויות עם חרדים'!$M$1:$M$36,0),MATCH('מיפוי מלא'!R$1,'מיפוי רשויות עם חרדים'!$M$1:$V$1,0)) -> 0 | S20: =INDEX('מיפוי רשויות עם חרדים'!$M$1:$V$36,MATCH('מיפוי מלא'!$A20,'מיפוי רשויות עם חרדים'!$M$1:$M$36,0),MATCH('מיפוי מלא'!S$1,'מיפוי רשויות עם חרדים'!$M$1:$V$1,0)) -> 0 | T20: =INDEX('מיפוי רשויות עם חרדים'!$M$1:$V$36,MATCH('מיפוי מלא'!$A20,'מיפוי רשויות עם חרדים'!$M$1:$M$36,0),MATCH('מיפוי מלא'!T$1,'מיפוי רשויות עם חרדים'!$M$1:$V$1,0)) -> 0.016226 | V20: ='1999'!BE20 -> 0.79658793 | W20: ='2003'!AY20 -> 0.85263158 | X20: ='2006'!BA20 -> 0.78791092 | Y20: ='2009'!BD20 -> 0.75942029 | Z20: ='2013'!BD20 -> 0.79123173 | AA20: ='2015'!AW20 -> 0.83814641 | AB20: =AA20 -> 0.83814641 | AC20: =AVERAGE(I20:N20) -> 0.87529474 | AD20: =STDEV(I20:N20) -> 0.027091055 | AE20: =(-AC20+N20)/AD20 -> -1.7744793 | AF20: =AVERAGE(V20:AA20) -> 0.80432148 | AG20: =STDEV(V20:AA20) -> 0.03462532 | AH20: =(-AF20+AA20)/AG20 -> 0.97688428 | AI20: חרדית | AL20: טבריה | AM20: -1.4930652 | AN20: 1.4883662 | AO20: 0.18576586 | AR20: =I20*V20 -> 0.72175981 | AS20: =J20*W20 -> 0.74845996 | AT20: =K20*X20 -> 0.70028275 | AU20: =L20*Y20 -> 0.65719064 | AV20: =M20*Z20 -> 0.70141888 | AW20: =N20*AA20 -> 0.69333333
A21: קריית מלאכי | B21: ='1999'!AX21 -> 3705 | C21: ='2003'!AR21 -> 1746 | D21: ='2006'!AT21 -> 2386 | E21: ='2009'!AW21 -> 1663 | F21: ='2013'!AW21 -> 2565 | G21: ='2015'!AP21 -> 1589 | H21: =A21 -> קריית מלאכי | I21: ='1999'!BA21 -> 0.37767584 | J21: ='2003'!AU21 -> 0.20444965 | K21: ='2006'!AW21 -> 0.30926766 | L21: ='2009'!AZ21 -> 0.19925713 | M21: ='2013'!AZ21 -> 0.26850204 | N21: ='2015'!AS21 -> 0.14792404 | O21: ירידה | P21: ליכוד מסורתי | R21: =INDEX('מיפוי רשויות עם חרדים'!$M$1:$V$36,MATCH('מיפוי מלא'!$A21,'מיפוי רשויות עם חרדים'!$M$1:$M$36,0),MATCH('מיפוי מלא'!R$1,'מיפוי רשויות עם חרדים'!$M$1:$V$1,0)) -> 0.12364 | S21: =INDEX('מיפוי רשויות עם חרדים'!$M$1:$V$36,MATCH('מיפוי מלא'!$A21,'מיפוי רשויות עם חרדים'!$M$1:$M$36,0),MATCH('מיפוי מלא'!S$1,'מיפוי רשויות עם חרדים'!$M$1:$V$1,0)) -> 0.149468 | T21: =INDEX('מיפוי רשויות עם חרדים'!$M$1:$V$36,MATCH('מיפוי מלא'!$A21,'מיפוי רשויות עם חרדים'!$M$1:$M$36,0),MATCH('מיפוי מלא'!T$1,'מיפוי רשויות עם חרדים'!$M$1:$V$1,0)) -> 0.239358 | V21: ='1999'!BE21 -> 0.082051282 | W21: ='2003'!AY21 -> 0.07674685 | X21: ='2006'!BA21 -> 0.081307628 | Y21: ='2009'!BD21 -> 0.081779916 | Z21: ='2013'!BD21 -> 0.1497076 | AA21: ='2015'!AW21 -> 0.073631215 | AC21: =AVERAGE(I21:N21) -> 0.25117939 | AD21: =STDEV(I21:N21) -> 0.083924885 | AE21: =(-AC21+N21)/AD21 -> -1.2303306 | AF21: =AVERAGE(V21:AA21) -> 0.090870749 | AG21: =STDEV(V21:AA21) -> 0.029018411 | AH21: =(-AF21+AA21)/AG21 -> -0.59408953 | AI21: ליכוד מסורתי | AL21: ערד | AM21: 1.3603509 | AN21: 1.2936853 | AO21: 0.15987639 | AR21: =I21*V21 -> 0.030988787 | AS21: =J21*W21 -> 0.015690867 | AT21: =K21*X21 -> 0.02514582 | AU21: =L21*Y21 -> 0.016295231 | AV21: =M21*Z21 -> 0.040196797 | AW21: =N21*AA21 -> 0.010891826
A22: רכסים | B22: ='1999'!AX22 -> 2181 | C22: ='2003'!AR22 -> 2322 | D22: ='2006'!AT22 -> 2603 | E22: ='2009'!AW22 -> 2752 | F22: ='2013'!AW22 -> 3599 | G22: ='2015'!AP22 -> 3765 | H22: =A22 -> רכסים | I22: ='1999'!BA22 -> 0.70196331 | J22: ='2003'!AU22 -> 0.731569 | K22: ='2006'!AW22 -> 0.79675543 | L22: ='2009'!AZ22 -> 0.79976751 | M22: ='2013'!AZ22 -> 0.83194637 | N22: ='2015'!AS22 -> 0.81212252 | O22: עליה | P22: חרדית | R22: =INDEX('מיפוי רשויות עם חרדים'!$M$1:$V$36,MATCH('מיפוי מלא'!$A22,'מיפוי רשויות עם חרדים'!$M$1:$M$36,0),MATCH('מיפוי מלא'!R$1,'מיפוי רשויות עם חרדים'!$M$1:$V$1,0)) -> 0 | S22: =INDEX('מיפוי רשויות עם חרדים'!$M$1:$V$36,MATCH('מיפוי מלא'!$A22,'מיפוי רשויות עם חרדים'!$M$1:$M$36,0),MATCH('מיפוי מלא'!S$1,'מיפוי רשויות עם חרדים'!$M$1:$V$1,0)) -> 0 | T22: =INDEX('מיפוי רשויות עם חרדים'!$M$1:$V$36,MATCH('מיפוי מלא'!$A22,'מיפוי רשויות עם חרדים'!$M$1:$M$36,0),MATCH('מיפוי מלא'!T$1,'מיפוי רשויות עם חרדים'!$M$1:$V$1,0)) -> 0.010728 | V22: ='1999'!BE22 -> 0.49701972 | W22: ='2003'!AY22 -> 0.52282515 | X22: ='2006'!BA22 -> 0.49980791 | Y22: ='2009'!BD22 -> 0.49890988 | Z22: ='2013'!BD22 -> 0.51375382 | AA22: ='2015'!AW22 -> 0.53413015 | AB22: =AA22 -> 0.53413015 | AC22: =AVERAGE(I22:N22) -> 0.77902069 | AD22: =STDEV(I22:N22) -> 0.050658294 | AE22: =(-AC22+N22)/AD22 -> 0.65343357 | AF22: =AVERAGE(V22:AA22) -> 0.51107444 | AG22: =STDEV(V22:AA22) -> 0.015160938 | AH22: =(-AF22+AA22)/AG22 -> 1.520731 | AI22: חרדית | AL22: קריית מלאכי | AM22: -1.2303306 | AN22: -0.59408953 | AO22: 0.14792404 | AR22: =I22*V22 -> 0.3488896 | AS22: =J22*W22 -> 0.38248267 | AT22: =K22*X22 -> 0.39822467 | AU22: =L22*Y22 -> 0.39901192 | AV22: =M22*Z22 -> 0.42741563 | AW22: =N22*AA22 -> 0.43377912
A23: ערד | B23: ='1999'!AX23 -> 1244 | C23: ='2003'!AR23 -> 1014 | D23: ='2006'!AT23 -> 891 | E23: ='2009'!AW23 -> 1025 | F23: ='2013'!AW23 -> 1749 | G23: ='2015'!AP23 -> 1966 | H23: =A23 -> ערד | I23: ='1999'!BA23 -> 0.10059842 | J23: ='2003'!AU23 -> 0.087428867 | K23: ='2006'!AW23 -> 0.085140946 | L23: ='2009'!AZ23 -> 0.095446503 | M23: ='2013'!AZ23 -> 0.15385292 | N23: ='2015'!AS23 -> 0.15987639 | O23: עליה | P23: גידול בחרדים | R23: =INDEX('מיפוי רשויות עם חרדים'!$M$1:$V$36,MATCH('מיפוי מלא'!$A23,'מיפוי רשויות עם חרדים'!$M$1:$M$36,0),MATCH('מיפוי מלא'!R$1,'מיפוי רשויות עם חרדים'!$M$1:$V$1,0)) -> 0.123444 | S23: =INDEX('מיפוי רשויות עם חרדים'!$M$1:$V$36,MATCH('מיפוי מלא'!$A23,'מיפוי רשויות עם חרדים'!$M$1:$M$36,0),MATCH('מיפוי מלא'!S$1,'מיפוי רשויות עם חרדים'!$M$1:$V$1,0)) -> 0.307928 | T23: =INDEX('מיפוי רשויות עם חרדים'!$M$1:$V$36,MATCH('מיפוי מלא'!$A23,'מיפוי רשויות עם חרדים'!$M$1:$M$36,0),MATCH('מיפוי מלא'!T$1,'מיפוי רשויות עם חרדים'!$M$1:$V$1,0)) -> 0.276777 | V23: ='1999'!BE23 -> 0.38987138 | W23: ='2003'!AY23 -> 0.6183432 | X23: ='2006'!BA23 -> 0.6352413 | Y23: ='2009'!BD23 -> 0.71219512 | Z23: ='2013'!BD23 -> 0.83990852 | AA23: ='2015'!AW23 -> 0.93438454 | AC23: =AVERAGE(I23:N23) -> 0.11372401 | AD23: =STDEV(I23:N23) -> 0.033926823 | AE23: =(-AC23+N23)/AD23 -> 1.3603509 | AF23: =AVERAGE(V23:AA23) -> 0.68832401 | AG23: =STDEV(V23:AA23) -> 0.19020123 | AH23: =(-AF23+AA23)/AG23 -> 1.2936853 | AI23: גידול בחרדים | AL23: כפר חבד | AM23: -0.99762252 | AN23: 1.2276136 | AO23: 0.089620835 | AR23: =I23*V23 -> 0.039220443 | AS23: =J23*W23 -> 0.054061045 | AT23: =K23*X23 -> 0.054085045 | AU23: =L23*Y23 -> 0.067976534 | AV23: =M23*Z23 -> 0.12922238 | AW23: =N23*AA23 -> 0.14938603
A24: דתיים לאומיים
A25: שם ישוב | B25: 1999 | C25: 2003 | D25: 2006 | E25: 2009 | F25: 2013 | G25: 2015 | I25: 1999 | J25: 2003 | K25: 2006 | L25: 2009 | M25: 2013 | N25: 2015
A26: אופקים | B26: ='1999'!AY2 -> 620 | C26: ='2003'!AS2 -> 506 | D26: ='2006'!AU2 -> 633 | E26: ='2009'!AX2 -> 591 | F26: ='2013'!AX2 -> 1249 | G26: ='2015'!AQ2 -> 1299 | I26: ='1999'!BB2 -> 0.058161351 | J26: ='2003'!AV2 -> 0.052305148 | K26: ='2006'!AX2 -> 0.067620981 | L26: ='2009'!BA2 -> 0.05894086 | M26: ='2013'!BA2 -> 0.11634839 | N26: ='2015'!AT2 -> 0.10431221
A27: אלעד | B27: ='1999'!AY3 -> 27 | C27: ='2003'!AS3 -> 609 | D27: ='2006'!AU3 -> 1047 | E27: ='2009'!AX3 -> 1301 | F27: ='2013'!AX3 -> 1443 | G27: ='2015'!AQ3 -> 2848 | I27: ='1999'!BB3 -> 0.11020408 | J27: ='2003'!AV3 -> 0.095679497 | K27: ='2006'!AX3 -> 0.10864377 | L27: ='2009'!BA3 -> 0.11265045 | M27: ='2013'!BA3 -> 0.10090203 | N27: ='2015'!AT3 -> 0.19143645 | O27: עלייה בגלל ברזל ואלי ישי
A28: אשדוד | B28: ='1999'!AY4 -> 3997 | C28: ='2003'!AS4 -> 2371 | D28: ='2006'!AU4 -> 3801 | E28: ='2009'!AX4 -> 2758 | F28: ='2013'!AX4 -> 8406 | G28: ='2015'!AQ4 -> 9666 | I28: ='1999'!BB4 -> 0.047171147 | J28: ='2003'!AV4 -> 0.027643698 | K28: ='2006'!AX4 -> 0.044631534 | L28: ='2009'!BA4 -> 0.029100194 | M28: ='2013'!BA4 -> 0.081395124 | N28: ='2015'!AT4 -> 0.08538643 | O28: עלייה בגלל ברזל ואלי ישי
A29: בית שאן | B29: ='1999'!AY5 -> 741 | C29: ='2003'!AS5 -> 546 | D29: ='2006'!AU5 -> 718 | E29: ='2009'!AX5 -> 539 | F29: ='2013'!AX5 -> 1431 | G29: ='2015'!AQ5 -> 917 | I29: ='1999'!BB5 -> 0.090553587 | J29: ='2003'!AV5 -> 0.077359025 | K29: ='2006'!AX5 -> 0.10925137 | L29: ='2009'!BA5 -> 0.076443058 | M29: ='2013'!BA5 -> 0.17216073 | N29: ='2015'!AT5 -> 0.098485662
A30: בית שמש | B30: ='1999'!AY6 -> 1746 | C30: ='2003'!AS6 -> 2006 | D30: ='2006'!AU6 -> 3099 | E30: ='2009'!AX6 -> 3226 | F30: ='2013'!AX6 -> 5129 | G30: ='2015'!AQ6 -> 5474 | I30: ='1999'!BB6 -> 0.1152019 | J30: ='2003'!AV6 -> 0.099292184 | K30: ='2006'!AX6 -> 0.14301537 | L30: ='2009'!BA6 -> 0.13744621 | M30: ='2013'!BA6 -> 0.17331801 | N30: ='2015'!AT6 -> 0.16157979
A31: בית"ר עילית | B31: ='1999'!AY7 -> 224 | C31: ='2003'!AS7 -> 471 | D31: ='2006'!AU7 -> 141 | E31: ='2009'!AX7 -> 804 | F31: ='2013'!AX7 -> 891 | G31: ='2015'!AQ7 -> 2350 | I31: ='1999'!BB7 -> 0.052892562 | J31: ='2003'!AV7 -> 0.076262953 | K31: ='2006'!AX7 -> 0.018125723 | L31: ='2009'!BA7 -> 0.082208589 | M31: ='2013'!BA7 -> 0.063656498 | N31: ='2015'!AT7 -> 0.14709564 | O31: עלייה בגלל ברזל ואלי ישי
A32: בני ברק | B32: ='1999'!AY8 -> 5547 | C32: ='2003'!AS8 -> 4182 | D32: ='2006'!AU8 -> 3629 | E32: ='2009'!AX8 -> 3524 | F32: ='2013'!AX8 -> 3733 | G32: ='2015'!AQ8 -> 6171 | I32: ='1999'!BB8 -> 0.092317678 | J32: ='2003'!AV8 -> 0.069893372 | K32: ='2006'!AX8 -> 0.059981488 | L32: ='2009'!BA8 -> 0.05555468 | M32: ='2013'!BA8 -> 0.049675968 | N32: ='2015'!AT8 -> 0.07849048
A33: גבעת זאב | B33: ='1999'!AY9 -> 539 | C33: ='2003'!AS9 -> 294 | D33: ='2006'!AU9 -> 666 | E33: ='2009'!AX9 -> 442 | F33: ='2013'!AX9 -> 1306 | G33: ='2015'!AQ9 -> 1412 | I33: ='1999'!BB9 -> 0.10908723 | J33: ='2003'!AV9 -> 0.058022499 | K33: ='2006'!AX9 -> 0.13597387 | L33: ='2009'!BA9 -> 0.08399848 | M33: ='2013'!BA9 -> 0.18946758 | N33: ='2015'!AT9 -> 0.18097924
A34: חצור הגלילית | B34: ='1999'!AY10 -> 469 | C34: ='2003'!AS10 -> 352 | D34: ='2006'!AU10 -> 314 | E34: ='2009'!AX10 -> 286 | F34: ='2013'!AX10 -> 642 | G34: ='2015'!AQ10 -> 470 | I34: ='1999'!BB10 -> 0.10142734 | J34: ='2003'!AV10 -> 0.08619001 | K34: ='2006'!AX10 -> 0.082762256 | L34: ='2009'!BA10 -> 0.073370959 | M34: ='2013'!BA10 -> 0.14531462 | N34: ='2015'!AT10 -> 0.096449826
A35: טבריה | B35: ='1999'!AY11 -> 1516 | C35: ='2003'!AS11 -> 999 | D35: ='2006'!AU11 -> 1169 | E35: ='2009'!AX11 -> 787 | F35: ='2013'!AX11 -> 2077 | G35: ='2015'!AQ11 -> 1665 | I35: ='1999'!BB11 -> 0.073268571 | J35: ='2003'!AV11 -> 0.057056371 | K35: ='2006'!AX11 -> 0.077412092 | L35: ='2009'!BA11 -> 0.049098509 | M35: ='2013'!BA11 -> 0.11731149 | N35: ='2015'!AT11 -> 0.082348286
A36: יבנאל | B36: ='1999'!AY12 -> 210 | C36: ='2003'!AS12 -> 107 | D36: ='2006'!AU12 -> 103 | E36: ='2009'!AX12 -> 84 | F36: ='2013'!AX12 -> 179 | G36: ='2015'!AQ12 -> 201 | I36: ='1999'!BB12 -> 0.17573222 | J36: ='2003'!AV12 -> 0.087776866 | K36: ='2006'!AX12 -> 0.082598236 | L36: ='2009'!BA12 -> 0.06162876 | M36: ='2013'!BA12 -> 0.11015385 | N36: ='2015'!AT12 -> 0.1134952
A37: ירוחם | B37: ='1999'!AY13 -> 405 | C37: ='2003'!AS13 -> 304 | D37: ='2006'!AU13 -> 413 | E37: ='2009'!AX13 -> 350 | F37: ='2013'!AX13 -> 661 | G37: ='2015'!AQ13 -> 566 | I37: ='1999'!BB13 -> 0.093880389 | J37: ='2003'!AV13 -> 0.083447708 | K37: ='2006'!AX13 -> 0.13413446 | L37: ='2009'!BA13 -> 0.10558069 | M37: ='2013'!BA13 -> 0.17612577 | N37: ='2015'!AT13 -> 0.1373453
A38: ירושלים | B38: ='1999'!AY14 -> 25879 | C38: ='2003'!AS14 -> 19888 | D38: ='2006'!AU14 -> 25941 | E38: ='2009'!AX14 -> 23204 | F38: ='2013'!AX14 -> 36739 | G38: ='2015'!AQ14 -> 39596 | I38: ='1999'!BB14 -> 0.11591989 | J38: ='2003'!AV14 -> 0.094279606 | K38: ='2006'!AX14 -> 0.1241214 | L38: ='2009'!BA14 -> 0.1075539 | M38: ='2013'!BA14 -> 0.15235611 | N38: ='2015'!AT14 -> 0.15510447
A39: כפר חב"ד | B39: ='1999'!AY15 -> 789 | C39: ='2003'!AS15 -> 1210 | D39: ='2006'!AU15 -> 599 | E39: ='2009'!AX15 -> 1413 | F39: ='2013'!AX15 -> 1389 | G39: ='2015'!AQ15 -> 2047 | I39: ='1999'!BB15 -> 0.55957447 | J39: ='2003'!AV15 -> 0.78215902 | K39: ='2006'!AX15 -> 0.3519389 | L39: ='2009'!BA15 -> 0.72535934 | M39: ='2013'!BA15 -> 0.58361345 | N39: ='2015'!AT15 -> 0.78399081
A40: מודיעין עילית | B40: ='1999'!AY16 -> 74 | C40: ='2003'!AS16 -> 160 | D40: ='2006'!AU16 -> 141 | E40: ='2009'!AX16 -> 289 | F40: ='2013'!AX16 -> 468 | G40: ='2015'!AQ16 -> 1077 | I40: ='1999'!BB16 -> 0.018815154 | J40: ='2003'!AV16 -> 0.019990005 | K40: ='2006'!AX16 -> 0.013347217 | L40: ='2009'!BA16 -> 0.021289134 | M40: ='2013'!BA16 -> 0.02480916 | N40: ='2015'!AT16 -> 0.054213229 | O40: עלייה בגלל ברזל ואלי ישי
A41: נתיבות | B41: ='1999'!AY17 -> 663 | C41: ='2003'!AS17 -> 607 | D41: ='2006'!AU17 -> 780 | E41: ='2009'!AX17 -> 800 | F41: ='2013'!AX17 -> 1656 | G41: ='2015'!AQ17 -> 3641 | I41: ='1999'!BB17 -> 0.069863014 | J41: ='2003'!AV17 -> 0.061730906 | K41: ='2006'!AX17 -> 0.077890953 | L41: ='2009'!BA17 -> 0.073455146 | M41: ='2013'!BA17 -> 0.12543554 | N41: ='2015'!AT17 -> 0.24933233 | O41: עלייה בגלל ברזל ואלי ישי
A42: עמנואל | B42: ='1999'!AY18 -> 139 | C42: ='2003'!AS18 -> 148 | D42: ='2006'!AU18 -> 63 | E42: ='2009'!AX18 -> 210 | F42: ='2013'!AX18 -> 244 | G42: ='2015'!AQ18 -> 424 | I42: ='1999'!BB18 -> 0.12268314 | J42: ='2003'!AV18 -> 0.15761448 | K42: ='2006'!AX18 -> 0.066176471 | L42: ='2009'!BA18 -> 0.19090909 | M42: ='2013'!BA18 -> 0.18769231 | N42: ='2015'!AT18 -> 0.30724638 | O42: עלייה בגלל ברזל ואלי ישי
A43: צפת | B43: ='1999'!AY19 -> 1612 | C43: ='2003'!AS19 -> 1485 | D43: ='2006'!AU19 -> 1070 | E43: ='2009'!AX19 -> 1844 | F43: ='2013'!AX19 -> 2856 | G43: ='2015'!AQ19 -> 3281 | I43: ='1999'!BB19 -> 0.13159184 | J43: ='2003'!AV19 -> 0.13071032 | K43: ='2006'!AX19 -> 0.10135455 | L43: ='2009'!BA19 -> 0.17099407 | M43: ='2013'!BA19 -> 0.22614617 | N43: ='2015'!AT19 -> 0.23284366 | O43: עלייה בגלל ברזל ואלי ישי
A44: קרית יערים-מוסד | B44: ='1999'!AY20 -> 36 | C44: ='2003'!AS20 -> 66 | D44: ='2006'!AU20 -> 42 | E44: ='2009'!AX20 -> 62 | F44: ='2013'!AX20 -> 88 | G44: ='2015'!AQ20 -> 182 | I44: ='1999'!BB20 -> 0.042806183 | J44: ='2003'!AV20 -> 0.067761807 | K44: ='2006'!AX20 -> 0.039585297 | L44: ='2009'!BA20 -> 0.051839465 | M44: ='2013'!BA20 -> 0.054287477 | N44: ='2015'!AT20 -> 0.10111111 | O44: עלייה בגלל ברזל ואלי ישי
A45: קרית מלאכי | B45: ='1999'!AY21 -> 1178 | C45: ='2003'!AS21 -> 1224 | D45: ='2006'!AU21 -> 842 | E45: ='2009'!AX21 -> 1675 | F45: ='2013'!AX21 -> 2436 | G45: ='2015'!AQ21 -> 2462 | I45: ='1999'!BB21 -> 0.12008155 | J45: ='2003'!AV21 -> 0.14332553 | K45: ='2006'!AX21 -> 0.10913804 | L45: ='2009'!BA21 -> 0.20069494 | M45: ='2013'!BA21 -> 0.25499843 | N45: ='2015'!AT21 -> 0.22919382
A46: רכסים | B46: ='1999'!AY22 -> 149 | C46: ='2003'!AS22 -> 104 | D46: ='2006'!AU22 -> 122 | E46: ='2009'!AX22 -> 93 | F46: ='2013'!AX22 -> 170 | G46: ='2015'!AQ22 -> 264 | I46: ='1999'!BB22 -> 0.047956228 | J46: ='2003'!AV22 -> 0.032766226 | K46: ='2006'!AX22 -> 0.037343128 | L46: ='2009'!BA22 -> 0.027027027 | M46: ='2013'!BA22 -> 0.039297272 | N46: ='2015'!AT22 -> 0.056945643
A47: ערד | B47: ='1999'!AY23 -> 507 | C47: ='2003'!AS23 -> 276 | D47: ='2006'!AU23 -> 331 | E47: ='2009'!AX23 -> 393 | F47: ='2013'!AX23 -> 934 | G47: ='2015'!AQ23 -> 818 | I47: ='1999'!BB23 -> 0.040999515 | J47: ='2003'!AV23 -> 0.023797206 | K47: ='2006'!AX23 -> 0.03162924 | L47: ='2009'!BA23 -> 0.036595586 | M47: ='2013'!BA23 -> 0.08216045 | N47: ='2015'!AT23 -> 0.06652029
A48: ליכוד וישראל ביתינו
A49: שם ישוב | B49: 1999 | C49: 2003 | D49: 2006 | E49: 2009 | F49: 2013 | G49: 2015 | I49: 1999 | J49: 2003 | K49: 2006 | L49: 2009 | M49: 2013 | N49: 2015
A50: אופקים | B50: ='1999'!AZ2 -> 1180 | C50: ='2003'!AT2 -> 2642 | D50: ='2006'!AV2 -> 2467 | E50: ='2009'!AT2 -> 4215 | F50: ='2013'!AY2 -> 2924 | G50: ='2015'!AR2 -> 5010 | I50: ='1999'!BC2 -> 0.11069418 | J50: ='2003'!AW2 -> 0.27310316 | K50: ='2006'!AY2 -> 0.26354022 | L50: ='2009'!BB2 -> 0.42036501 | M50: ='2013'!BB2 -> 0.27238007 | N50: ='2015'!AU2 -> 0.4023127
A51: אלעד | B51: ='1999'!AZ3 -> 3 | C51: ='2003'!AT3 -> 224 | D51: ='2006'!AV3 -> 138 | E51: ='2009'!AT3 -> 534 | F51: ='2013'!AY3 -> 239 | G51: ='2015'!AR3 -> 676 | I51: ='1999'!BC3 -> 0.012244898 | J51: ='2003'!AW3 -> 0.035192459 | K51: ='2006'!AY3 -> 0.014319809 | L51: ='2009'!BB3 -> 0.04623777 | M51: ='2013'!BB3 -> 0.016712118 | N51: ='2015'!AU3 -> 0.045439269
A52: אשדוד | B52: ='1999'!AZ4 -> 9237 | C52: ='2003'!AT4 -> 27056 | D52: ='2006'!AV4 -> 25561 | E52: ='2009'!AT4 -> 47884 | F52: ='2013'!AY4 -> 37325 | G52: ='2015'!AR4 -> 50780 | I52: ='1999'!BC4 -> 0.10901173 | J52: ='2003'!AW4 -> 0.31544829 | K52: ='2006'!AY4 -> 0.30013856 | L52: ='2009'!BB4 -> 0.50523339 | M52: ='2013'!BB4 -> 0.3614172 | N52: ='2015'!AU4 -> 0.44857468
A53: בית שאן | B53: ='1999'!AZ5 -> 1584 | C53: ='2003'!AT5 -> 3031 | D53: ='2006'!AV5 -> 1452 | E53: ='2009'!AT5 -> 3449 | F53: ='2013'!AY5 -> 2922 | G53: ='2015'!AR5 -> 4978 | I53: ='1999'!BC5 -> 0.19357204 | J53: ='2003'!AW5 -> 0.42944177 | K53: ='2006'!AY5 -> 0.22093731 | L53: ='2009'!BB5 -> 0.48915048 | M53: ='2013'!BB5 -> 0.35153994 | N53: ='2015'!AU5 -> 0.53463645
A54: בית שמש | B54: ='1999'!AZ6 -> 2615 | C54: ='2003'!AT6 -> 5547 | D54: ='2006'!AV6 -> 4585 | E54: ='2009'!AT6 -> 8004 | F54: ='2013'!AY6 -> 6741 | G54: ='2015'!AR6 -> 10372 | I54: ='1999'!BC6 -> 0.17253893 | J54: ='2003'!AW6 -> 0.27456318 | K54: ='2006'!AY6 -> 0.2115926 | L54: ='2009'!BB6 -> 0.34101657 | M54: ='2013'!BB6 -> 0.22779036 | N54: ='2015'!AU6 -> 0.30615739
A55: בית"ר עילית | B55: ='1999'!AZ7 -> 22 | C55: ='2003'!AT7 -> 41 | D55: ='2006'!AV7 -> 91 | E55: ='2009'!AT7 -> 159 | F55: ='2013'!AY7 -> 137 | G55: ='2015'!AR7 -> 260 | I55: ='1999'!BC7 -> 0.0051948052 | J55: ='2003'!AW7 -> 0.006638601 | K55: ='2006'!AY7 -> 0.011698162 | L55: ='2009'!BB7 -> 0.016257669 | M55: ='2013'!BB7 -> 0.0097878117 | N55: ='2015'!AU7 -> 0.016274412
A56: בני ברק | B56: ='1999'!AZ8 -> 3959 | C56: ='2003'!AT8 -> 5463 | D56: ='2006'!AV8 -> 2956 | E56: ='2009'!AT8 -> 4868 | F56: ='2013'!AY8 -> 3027 | G56: ='2015'!AR8 -> 4124 | I56: ='1999'!BC8 -> 0.065888893 | J56: ='2003'!AW8 -> 0.091302604 | K56: ='2006'!AY8 -> 0.048857889 | L56: ='2009'!BB8 -> 0.07674239 | M56: ='2013'!BB8 -> 0.040281049 | N56: ='2015'!AU8 -> 0.052454179
A57: גבעת זאב | B57: ='1999'!AZ9 -> 1550 | C57: ='2003'!AT9 -> 2662 | D57: ='2006'!AV9 -> 1477 | E57: ='2009'!AT9 -> 2757 | F57: ='2013'!AY9 -> 2113 | G57: ='2015'!AR9 -> 2763 | I57: ='1999'!BC9 -> 0.31370168 | J57: ='2003'!AW9 -> 0.52536017 | K57: ='2006'!AY9 -> 0.30155165 | L57: ='2009'!BB9 -> 0.52394527 | M57: ='2013'!BB9 -> 0.30654287 | N57: ='2015'!AU9 -> 0.35413996
A58: חצור הגלילית | B58: ='1999'!AZ10 -> 1002 | C58: ='2003'!AT10 -> 1606 | D58: ='2006'!AV10 -> 1236 | E58: ='2009'!AT10 -> 1818 | F58: ='2013'!AY10 -> 1475 | G58: ='2015'!AR10 -> 2420 | I58: ='1999'!BC10 -> 0.2166955 | J58: ='2003'!AW10 -> 0.39324192 | K58: ='2006'!AY10 -> 0.32577754 | L58: ='2009'!BB10 -> 0.46639302 | M58: ='2013'!BB10 -> 0.33386148 | N58: ='2015'!AU10 -> 0.496614
A59: טבריה | B59: ='1999'!AZ11 -> 4999 | C59: ='2003'!AT11 -> 7163 | D59: ='2006'!AV11 -> 4422 | E59: ='2009'!AT11 -> 8214 | F59: ='2013'!AY11 -> 6264 | G59: ='2015'!AR11 -> 10245 | I59: ='1999'!BC11 -> 0.24160263 | J59: ='2003'!AW11 -> 0.40910389 | K59: ='2006'!AY11 -> 0.29282829 | L59: ='2009'!BB11 -> 0.51244619 | M59: ='2013'!BB11 -> 0.35379836 | N59: ='2015'!AU11 -> 0.50670162
A60: יבנאל | B60: ='1999'!AZ12 -> 197 | C60: ='2003'!AT12 -> 395 | D60: ='2006'!AV12 -> 135 | E60: ='2009'!AT12 -> 315 | F60: ='2013'!AY12 -> 228 | G60: ='2015'!AR12 -> 386 | I60: ='1999'!BC12 -> 0.16485356 | J60: ='2003'!AW12 -> 0.3240361 | K60: ='2006'!AY12 -> 0.10825982 | L60: ='2009'!BB12 -> 0.23110785 | M60: ='2013'!BB12 -> 0.14030769 | N60: ='2015'!AU12 -> 0.21795596
A61: ירוחם | B61: ='1999'!AZ13 -> 621 | C61: ='2003'!AT13 -> 1045 | D61: ='2006'!AV13 -> 664 | E61: ='2009'!AT13 -> 1299 | F61: ='2013'!AY13 -> 929 | G61: ='2015'!AR13 -> 1661 | I61: ='1999'!BC13 -> 0.14394993 | J61: ='2003'!AW13 -> 0.2868515 | K61: ='2006'!AY13 -> 0.21565443 | L61: ='2009'!BB13 -> 0.3918552 | M61: ='2013'!BB13 -> 0.24753531 | N61: ='2015'!AU13 -> 0.40305751
... A71: ערד | B71: ='1999'!AZ23 -> 1319 | C71: ='2003'!AT23 -> 3028 | D71: ='2006'!AV23 -> 3744 | E71: ='2009'!AT23 -> 5414 | F71: ='2013'!AY23 -> 3808 | G71: ='2015'!AR23 -> 4593 | I71: ='1999'!BC23 -> 0.10666343 | J71: ='2003'!AW23 -> 0.2610795 | K71: ='2006'!AY23 -> 0.35776398 | L71: ='2009'!BB23 -> 0.50414378 | M71: ='2013'!BB23 -> 0.33497537 | N71: ='2015'!AU23 -> 0.37350573

Sheet ערים
A1: קריית מלאכי | B1: חרדים | C1: דתיים לאומיים | D1: ליכוד | E1: אחוז מצביעים חרדיים | F1: אחוז מצביעים דתיים לאומיים | G1: אחוז מצביעי ליכוד | H1: אחוז מצביעי ימין מדיני
A2: 1999 | B2: ='1999'!AX21 -> 3705 | C2: ='1999'!AY21 -> 1178 | D2: ='1999'!AZ21 -> 1584 | E2: ='1999'!BA21 -> 0.37767584 | F2: ='1999'!BB21 -> 0.12008155 | G2: ='1999'!BC21 -> 0.16146789 | H2: ='1999'!BD21 -> 0.65922528
A3: 2003 | B3: ='2003'!AR21 -> 1746 | C3: ='2003'!AS21 -> 1224 | D3: ='2003'!AT21 -> 3031 | E3: ='2003'!AU21 -> 0.20444965 | F3: ='2003'!AV21 -> 0.14332553 | G3: ='2003'!AW21 -> 0.35491803 | H3: ='2003'!AX21 -> 0.70269321
A4: 2006 | B4: ='2006'!AT21 -> 2386 | C4: ='2006'!AU21 -> 842 | D4: ='2006'!AV21 -> 1132 | E4: ='2006'!AW21 -> 0.30926766 | F4: ='2006'!AX21 -> 0.10913804 | G4: ='2006'!AY21 -> 0.14672715 | H4: ='2006'!AZ21 -> 0.56513286 | K4: קדימה נוגסת בליכוד
A5: 2009 | B5: ='2009'!AW21 -> 1663 | C5: ='2009'!AX21 -> 1675 | D5: ='2009'!AY21 -> 2982 | E5: ='2009'!AZ21 -> 0.19925713 | F5: ='2009'!BA21 -> 0.20069494 | G5: ='2009'!BB21 -> 0.35729691 | H5: ='2009'!BC21 -> 0.75724898 | I5: ='מיפוי רשויות עם חרדים'!O35 -> 0.12364
A6: 2013 | B6: ='2013'!AW21 -> 2565 | C6: ='2013'!AX21 -> 2436 | D6: ='2013'!AY21 -> 2670 | E6: ='2013'!AZ21 -> 0.26850204 | F6: ='2013'!BA21 -> 0.25499843 | G6: ='2013'!BB21 -> 0.27949335 | H6: ='2013'!BC21 -> 0.80299382 | I6: ='מיפוי רשויות עם חרדים'!S35 -> 0.149468
A7: 2015 | B7: ='2015'!AP21 -> 1589 | C7: ='2015'!AQ21 -> 2462 | D7: ='2015'!AR21 -> 4653 | E7: ='2015'!AS21 -> 0.14792404 | F7: ='2015'!AT21 -> 0.22919382 | G7: ='2015'!AU21 -> 0.43315956 | H7: ='2015'!AV21 -> 0.81027742 | I7: ='מיפוי רשויות עם חרדים'!U35 -> 0.239358
A9: טבריה | B9: חרדים | C9: דתיים לאומיים | D9: ליכוד | E9: אחוז מצביעים חרדיים | F9: אחוז מצביעים דתיים לאומיים | G9: אחוז מצביעי ליכוד | H9: אחוז מצביעי ימין מדיני
A10: 1999 | B10: ='1999'!AX11 -> 5989 | C10: ='1999'!AY11 -> 1516 | D10: ='1999'!AZ11 -> 4999 | E10: ='1999'!BA11 -> 0.28944952 | F10: ='1999'!BB11 -> 0.073268571 | G10: ='1999'!BC11 -> 0.24160263 | H10: ='1999'!BD11 -> 0.60432072
A11: 2003 | B11: ='2003'!AR11 -> 4123 | C11: ='2003'!AS11 -> 999 | D11: ='2003'!AT11 -> 7163 | E11: ='2003'!AU11 -> 0.2354789 | F11: ='2003'!AV11 -> 0.057056371 | G11: ='2003'!AW11 -> 0.40910389 | H11: ='2003'!AX11 -> 0.70163916
A12: 2006 | B12: ='2006'!AT11 -> 4096 | C12: ='2006'!AU11 -> 1169 | D12: ='2006'!AV11 -> 4422 | E12: ='2006'!AW11 -> 0.27124032 | F12: ='2006'!AX11 -> 0.077412092 | G12: ='2006'!AY11 -> 0.29282829 | H12: ='2006'!AZ11 -> 0.6414807
A13: 2009 | B13: ='2009'!AW11 -> 3452 | C13: ='2009'!AX11 -> 787 | D13: ='2009'!AY11 -> 8214 | E13: ='2009'!AZ11 -> 0.21535966 | F13: ='2009'!BA11 -> 0.049098509 | G13: ='2009'!BB11 -> 0.51244619 | H13: ='2009'!BC11 -> 0.77690436 | I13: ='מיפוי רשויות עם חרדים'!O17 -> 0.159967
A14: 2013 | B14: ='2013'!AW11 -> 4701 | C14: ='2013'!AX11 -> 2077 | D14: ='2013'!AY11 -> 6264 | E14: ='2013'!AZ11 -> 0.26551822 | F14: ='2013'!BA11 -> 0.11731149 | G14: ='2013'!BB11 -> 0.35379836 | H14: ='2013'!BC11 -> 0.73662807 | I14: ='מיפוי רשויות עם חרדים'!S17 -> 0.151011
A15: 2015 | B15: ='2015'!AP11 -> 3756 | C15: ='2015'!AQ11 -> 1665 | D15: ='2015'!AR11 -> 10245 | E15: ='2015'!AS11 -> 0.18576586 | F15: ='2015'!AT11 -> 0.082348286 | G15: ='2015'!AU11 -> 0.50670162 | H15: ='2015'!AV11 -> 0.77481577 | I15: ='מיפוי רשויות עם חרדים'!U17 -> 0.181916
A17: בית שאן | B17: חרדים | C17: דתיים לאומיים | D17: ליכוד | E17: אחוז מצביעים חרדיים | F17: אחוז מצביעים דתיים לאומיים | G17: אחוז מצביעי ליכוד | H17: אחוז מצביעי ימין מדיני
A18: 1999 | B18: ='1999'!AX5 -> 3642 | C18: ='1999'!AY5 -> 741 | D18: ='1999'!AZ5 -> 1584 | E18: ='1999'!BA5 -> 0.44506905 | F18: ='1999'!BB5 -> 0.090553587 | G18: ='1999'!BC5 -> 0.19357204 | H18: ='1999'!BD5 -> 0.72919467
A19: 2003 | B19: ='2003'!AR5 -> 1976 | C19: ='2003'!AS5 -> 546 | D19: ='2003'!AT5 -> 3031 | E19: ='2003'!AU5 -> 0.279966 | F19: ='2003'!AV5 -> 0.077359025 | G19: ='2003'!AW5 -> 0.42944177 | H19: ='2003'!AX5 -> 0.78676679
A20: 2006 | B20: ='2006'!AT5 -> 2128 | C20: ='2006'!AU5 -> 718 | D20: ='2006'!AV5 -> 1452 | E20: ='2006'!AW5 -> 0.32379793 | F20: ='2006'!AX5 -> 0.10925137 | G20: ='2006'!AY5 -> 0.22093731 | H20: ='2006'!AZ5 -> 0.65398661
A21: 2009 | B21: ='2009'!AW5 -> 1727 | C21: ='2009'!AX5 -> 539 | D21: ='2009'!AY5 -> 3449 | E21: ='2009'!AZ5 -> 0.2449298 | F21: ='2009'!BA5 -> 0.076443058 | G21: ='2009'!BB5 -> 0.48915048 | H21: ='2009'!BC5 -> 0.81052333 | I21: ='מיפוי רשויות עם חרדים'!O12 -> 0.195164
A22: 2013 | B22: ='2013'!AW5 -> 2436 | C22: ='2013'!AX5 -> 1431 | D22: ='2013'!AY5 -> 2922 | E22: ='2013'!AZ5 -> 0.29307026 | F22: ='2013'!BA5 -> 0.17216073 | G22: ='2013'!BB5 -> 0.35153994 | H22: ='2013'!BC5 -> 0.81677093 | I22: ='מיפוי רשויות עם חרדים'!S12 -> 0.301806
A23: 2015 | B23: ='2015'!AP5 -> 1833 | C23: ='2015'!AQ5 -> 917 | D23: ='2015'!AR5 -> 4978 | E23: ='2015'!AS5 -> 0.19686392 | F23: ='2015'!AT5 -> 0.098485662 | G23: ='2015'!AU5 -> 0.53463645 | H23: ='2015'!AV5 -> 0.82998604 | I23: ='מיפוי רשויות עם חרדים'!U12 -> 0.22288
A25: ירוחם | B25: חרדים | C25: דתיים לאומיים | D25: ליכוד | E25: אחוז מצביעים חרדיים | F25: אחוז מצביעים דתיים לאומיים | G25: אחוז מצביעי ליכוד | H25: אחוז מצביעי ימין מדיני
A26: 1999 | B26: ='1999'!AX13 -> 1682 | C26: ='1999'!AY13 -> 405 | D26: ='1999'!AZ13 -> 621 | E26: ='1999'!BA13 -> 0.38989337 | F26: ='1999'!BB13 -> 0.093880389 | G26: ='1999'!BC13 -> 0.14394993 | H26: ='1999'!BD13 -> 0.62772369
A27: 2003 | B27: ='2003'!AR13 -> 935 | C27: ='2003'!AS13 -> 304 | D27: ='2003'!AT13 -> 1045 | E27: ='2003'!AU13 -> 0.2566566 | F27: ='2003'!AV13 -> 0.083447708 | G27: ='2003'!AW13 -> 0.2868515 | H27: ='2003'!AX13 -> 0.62695581
A28: 2006 | B28: ='2006'!AT13 -> 918 | C28: ='2006'!AU13 -> 413 | D28: ='2006'!AV13 -> 664 | E28: ='2006'!AW13 -> 0.29814875 | F28: ='2006'!AX13 -> 0.13413446 | G28: ='2006'!AY13 -> 0.21565443 | H28: ='2006'!AZ13 -> 0.64793764
A29: 2009 | B29: ='2009'!AW13 -> 957 | C29: ='2009'!AX13 -> 350 | D29: ='2009'!AY13 -> 1299 | E29: ='2009'!AZ13 -> 0.28868778 | F29: ='2009'!BA13 -> 0.10558069 | G29: ='2009'!BB13 -> 0.3918552 | H29: ='2009'!BC13 -> 0.78612368 | I29: ='מיפוי רשויות עם חרדים'!O22 -> 0.241623
A30: 2013 | B30: ='2013'!AW13 -> 1073 | C30: ='2013'!AX13 -> 661 | D30: ='2013'!AY13 -> 929 | E30: ='2013'!AZ13 -> 0.28590461 | F30: ='2013'!BA13 -> 0.17612577 | G30: ='2013'!BB13 -> 0.24753531 | H30: ='2013'!BC13 -> 0.70956568 | I30: ='מיפוי רשויות עם חרדים'!S22 -> 0.308308
A31: 2015 | B31: ='2015'!AP13 -> 928 | C31: ='2015'!AQ13 -> 566 | D31: ='2015'!AR13 -> 1661 | E31: ='2015'!AS13 -> 0.22518806 | F31: ='2015'!AT13 -> 0.1373453 | G31: ='2015'!AU13 -> 0.40305751 | H31: ='2015'!AV13 -> 0.76559088 | I31: ='מיפוי רשויות עם חרדים'!U22 -> 0.294378
A33: חצור הגלילית | B33: חרדים | C33: דתיים לאומיים | D33: ליכוד | E33: אחוז מצביעים חרדיים | F33: אחוז מצביעים דתיים לאומיים | G33: אחוז מצביעי ליכוד | H33: אחוז מצביעי ימין מדיני
A34: 1999 | B34: ='1999'!AX10 -> 1716 | C34: ='1999'!AY10 -> 469 | D34: ='1999'!AZ10 -> 1002 | E34: ='1999'!BA10 -> 0.37110727 | F34: ='1999'!BB10 -> 0.10142734 | G34: ='1999'!BC10 -> 0.2166955 | H34: ='1999'!BD10 -> 0.6892301
A35: 2003 | B35: ='2003'!AR10 -> 1123 | C35: ='2003'!AS10 -> 352 | D35: ='2003'!AT10 -> 1606 | E35: ='2003'!AU10 -> 0.27497551 | F35: ='2003'!AV10 -> 0.08619001 | G35: ='2003'!AW10 -> 0.39324192 | H35: ='2003'!AX10 -> 0.75440744
A36: 2006 | B36: ='2006'!AT10 -> 1262 | C36: ='2006'!AU10 -> 314 | D36: ='2006'!AV10 -> 1236 | E36: ='2006'!AW10 -> 0.33263047 | F36: ='2006'!AX10 -> 0.082762256 | G36: ='2006'!AY10 -> 0.32577754 | H36: ='2006'!AZ10 -> 0.74117027
A37: 2009 | B37: ='2009'!AW10 -> 1197 | C37: ='2009'!AX10 -> 286 | D37: ='2009'!AY10 -> 1818 | E37: ='2009'!AZ10 -> 0.30708055 | F37: ='2009'!BA10 -> 0.073370959 | G37: ='2009'!BB10 -> 0.46639302 | H37: ='2009'!BC10 -> 0.84684454 | I37: ='מיפוי רשויות עם חרדים'!O13 -> 0.15505
A38: 2013 | B38: ='2013'!AW10 -> 1394 | C38: ='2013'!AX10 -> 642 | D38: ='2013'!AY10 -> 1475 | E38: ='2013'!AZ10 -> 0.31552739 | F38: ='2013'!BA10 -> 0.14531462 | G38: ='2013'!BB10 -> 0.33386148 | H38: ='2013'!BC10 -> 0.79470349 | I38: ='מיפוי רשויות עם חרדים'!S13 -> 0.206028
A39: 2015 | B39: ='2015'!AP10 -> 1180 | C39: ='2015'!AQ10 -> 470 | D39: ='2015'!AR10 -> 2420 | E39: ='2015'!AS10 -> 0.24215063 | F39: ='2015'!AT10 -> 0.096449826 | G39: ='2015'!AU10 -> 0.496614 | H39: ='2015'!AV10 -> 0.83521445 | I39: ='מיפוי רשויות עם חרדים'!U13 -> 0.103572
A41: עמנואל | B41: חרדים | C41: דתיים לאומיים | D41: ליכוד | E41: אחוז מצביעים חרדיים | F41: אחוז מצביעים דתיים לאומיים | G41: אחוז מצביעי ליכוד | H41: אחוז מצביעי ימין מדיני
A42: 1999 | B42: ='1999'!AX18 -> 948 | C42: ='1999'!AY18 -> 139 | D42: ='1999'!AZ18 -> 21 | E42: ='1999'!BA18 -> 0.83671668 | F42: ='1999'!BB18 -> 0.12268314 | G42: ='1999'!BC18 -> 0.018534863 | H42: ='1999'!BD18 -> 0.97793469
A43: 2003 | B43: ='2003'!AR18 -> 721 | C43: ='2003'!AS18 -> 148 | D43: ='2003'!AT18 -> 26 | E43: ='2003'!AU18 -> 0.76783813 | F43: ='2003'!AV18 -> 0.15761448 | G43: ='2003'!AW18 -> 0.027689031 | H43: ='2003'!AX18 -> 0.95314164
A44: 2006 | B44: ='2006'!AT18 -> 711 | C44: ='2006'!AU18 -> 63 | D44: ='2006'!AV18 -> 21 | E44: ='2006'!AW18 -> 0.74684874 | F44: ='2006'!AX18 -> 0.066176471 | G44: ='2006'!AY18 -> 0.022058824 | H44: ='2006'!AZ18 -> 0.83508403
A45: 2009 | B45: ='2009'!AW18 -> 818 | C45: ='2009'!AX18 -> 210 | D45: ='2009'!AY18 -> 67 | E45: ='2009'!AZ18 -> 0.74363636 | F45: ='2009'!BA18 -> 0.19090909 | G45: ='2009'!BB18 -> 0.060909091 | H45: ='2009'!BC18 -> 0.99545455 | I45: ='מיפוי רשויות עם חרדים'!O7 -> 0.024236
A46: 2013 | B46: ='2013'!AW18 -> 900 | C46: ='2013'!AX18 -> 244 | D46: ='2013'!AY18 -> 23 | E46: ='2013'!AZ18 -> 0.69230769 | F46: ='2013'!BA18 -> 0.18769231 | G46: ='2013'!BB18 -> 0.017692308 | H46: ='2013'!BC18 -> 0.89769231 | I46: ='מיפוי רשויות עם חרדים'!S7 -> 0
A47: 2015 | B47: ='2015'!AP18 -> 854 | C47: ='2015'!AQ18 -> 424 | D47: ='2015'!AR18 -> 80 | E47: ='2015'!AS18 -> 0.61884058 | F47: ='2015'!AT18 -> 0.30724638 | G47: ='2015'!AU18 -> 0.057971014 | H47: ='2015'!AV18 -> 0.98405797 | I47: ='מיפוי רשויות עם חרדים'!U7 -> 0.023489
A49: אשדוד | B49: חרדים | C49: דתיים לאומיים | D49: ליכוד | E49: אחוז מצביעים חרדיים | F49: אחוז מצביעים דתיים לאומיים | G49: אחוז מצביעי ליכוד | H49: אחוז מצביעי ימין מדיני
A50: 1999 | B50: ='1999'!AX4 -> 25332 | C50: ='1999'!AY4 -> 3997 | D50: ='1999'!AZ4 -> 9237 | E50: ='1999'!BA4 -> 0.2989591 | F50: ='1999'!BB4 -> 0.047171147 | G50: ='1999'!BC4 -> 0.10901173 | H50: ='1999'!BD4 -> 0.45514197
A51: 2003 | B51: ='2003'!AR4 -> 19009 | C51: ='2003'!AS4 -> 2371 | D51: ='2003'!AT4 -> 27056 | E51: ='2003'!AU4 -> 0.22162761 | F51: ='2003'!AV4 -> 0.027643698 | G51: ='2003'!AW4 -> 0.31544829 | H51: ='2003'!AX4 -> 0.5647196
A52: 2006 | B52: ='2006'!AT4 -> 22465 | C52: ='2006'!AU4 -> 3801 | D52: ='2006'!AV4 -> 25561 | E52: ='2006'!AW4 -> 0.26378517 | F52: ='2006'!AX4 -> 0.044631534 | G52: ='2006'!AY4 -> 0.30013856 | H52: ='2006'!AZ4 -> 0.60855526
A53: 2009 | B53: ='2009'!AW4 -> 22166 | C53: ='2009'!AX4 -> 2758 | D53: ='2009'!AY4 -> 47884 | E53: ='2009'!AZ4 -> 0.23387777 | F53: ='2009'!BA4 -> 0.029100194 | G53: ='2009'!BB4 -> 0.50523339 | H53: ='2009'!BC4 -> 0.76821136 | I53: ='מיפוי רשויות עם חרדים'!O26 -> 0.289656
A54: 2013 | B54: ='2013'!AW4 -> 28115 | C54: ='2013'!AX4 -> 8406 | D54: ='2013'!AY4 -> 37325 | E54: ='2013'!AZ4 -> 0.27223696 | F54: ='2013'!BA4 -> 0.081395124 | G54: ='2013'!BB4 -> 0.3614172 | H54: ='2013'!BC4 -> 0.71504929 | I54: ='מיפוי רשויות עם חרדים'!S26 -> 0.268056
A55: 2015 | B55: ='2015'!AP4 -> 23055 | C55: ='2015'!AQ4 -> 9666 | D55: ='2015'!AR4 -> 50780 | E55: ='2015'!AS4 -> 0.20366068 | F55: ='2015'!AT4 -> 0.08538643 | G55: ='2015'!AU4 -> 0.44857468 | H55: ='2015'!AV4 -> 0.73762179 | I55: ='מיפוי רשויות עם חרדים'!U26 -> 0.259686
A57: יבניאל | B57: חרדים | C57: דתיים לאומיים | D57: ליכוד | E57: אחוז מצביעים חרדיים | F57: אחוז מצביעים דתיים לאומיים | G57: אחוז מצביעי ליכוד | H57: אחוז מצביעי ימין מדיני
A58: 1999 | B58: ='1999'!AX12 -> 298 | C58: ='1999'!AY12 -> 210 | D58: ='1999'!AZ12 -> 197 | E58: ='1999'!BA12 -> 0.24937238 | F58: ='1999'!BB12 -> 0.17573222 | G58: ='1999'!BC12 -> 0.16485356 | H58: ='1999'!BD12 -> 0.58995816
A59: 2003 | B59: ='2003'!AR12 -> 343 | C59: ='2003'!AS12 -> 107 | D59: ='2003'!AT12 -> 395 | E59: ='2003'!AU12 -> 0.28137818 | F59: ='2003'!AV12 -> 0.087776866 | G59: ='2003'!AW12 -> 0.3240361 | H59: ='2003'!AX12 -> 0.69319114
A60: 2006 | B60: ='2006'!AT12 -> 451 | C60: ='2006'!AU12 -> 103 | D60: ='2006'!AV12 -> 135 | E60: ='2006'!AW12 -> 0.361668 | F60: ='2006'!AX12 -> 0.082598236 | G60: ='2006'!AY12 -> 0.10825982 | H60: ='2006'!AZ12 -> 0.55252606
A61: 2009 | B61: ='2009'!AW12 -> 541 | C61: ='2009'!AX12 -> 84 | D61: ='2009'!AY12 -> 315 | E61: ='2009'!AZ12 -> 0.39691856 | F61: ='2009'!BA12 -> 0.06162876 | G61: ='2009'!BB12 -> 0.23110785 | H61: ='2009'!BC12 -> 0.68965517
A62: 2013 | B62: ='2013'!AW12 -> 738 | C62: ='2013'!AX12 -> 179 | D62: ='2013'!AY12 -> 228 | E62: ='2013'!AZ12 -> 0.45415385 | F62: ='2013'!BA12 -> 0.11015385 | G62: ='2013'!BB12 -> 0.14030769 | H62: ='2013'!BC12 -> 0.70461538
A63: 2015 | B63: ='2015'!AP12 -> 707 | C63: ='2015'!AQ12 -> 201 | D63: ='2015'!AR12 -> 386 | E63: ='2015'!AS12 -> 0.39920949 | F63: ='2015'!AT12 -> 0.1134952 | G63: ='2015'!AU12 -> 0.21795596 | H63: ='2015'!AV12 -> 0.73066064
A65: צפת | B65: חרדים | C65: דתיים לאומיים | D65: ליכוד | E65: אחוז מצביעים חרדיים | F65: אחוז מצביעים דתיים לאומיים | G65: אחוז מצביעי ליכוד | H65: אחוז מצביעי ימין מדיני
A66: 1999 | B66: ='1999'!AX19 -> 4161 | C66: ='1999'!AY19 -> 1612 | D66: ='1999'!AZ19 -> 1907 | E66: ='1999'!BA19 -> 0.33967347 | F66: ='1999'!BB19 -> 0.13159184 | G66: ='1999'!BC19 -> 0.15567347 | H66: ='1999'!BD19 -> 0.62693878
A67: 2003 | B67: ='2003'!AR19 -> 3054 | C67: ='2003'!AS19 -> 1485 | D67: ='2003'!AT19 -> 3381 | E67: ='2003'!AU19 -> 0.26881436 | F67: ='2003'!AV19 -> 0.13071032 | G67: ='2003'!AW19 -> 0.29759704 | H67: ='2003'!AX19 -> 0.69712173
A68: 2006 | B68: ='2006'!AT19 -> 3309 | C68: ='2006'!AU19 -> 1070 | D68: ='2006'!AV19 -> 2454 | E68: ='2006'!AW19 -> 0.31344132 | F68: ='2006'!AX19 -> 0.10135455 | G68: ='2006'!AY19 -> 0.2324524 | H68: ='2006'!AZ19 -> 0.64724827
A69: 2009 | B69: ='2009'!AW19 -> 3083 | C69: ='2009'!AX19 -> 1844 | D69: ='2009'!AY19 -> 3987 | E69: ='2009'!AZ19 -> 0.2858865 | F69: ='2009'!BA19 -> 0.17099407 | G69: ='2009'!BB19 -> 0.36971439 | H69: ='2009'!BC19 -> 0.82659496
A70: 2013 | B70: ='2013'!AW19 -> 3983 | C70: ='2013'!AX19 -> 2856 | D70: ='2013'!AY19 -> 3548 | E70: ='2013'!AZ19 -> 0.31538522 | F70: ='2013'!BA19 -> 0.22614617 | G70: ='2013'!BB19 -> 0.28094069 | H70: ='2013'!BC19 -> 0.82247209
A71: 2015 | B71: ='2015'!AP19 -> 3479 | C71: ='2015'!AQ19 -> 3281 | D71: ='2015'!AR19 -> 5141 | E71: ='2015'!AS19 -> 0.24689518 | F71: ='2015'!AT19 -> 0.23284366 | G71: ='2015'!AU19 -> 0.36484281 | H71: ='2015'!AV19 -> 0.84458165
