Workbook
Name PRINT_AREA_MI: #REF!
Name מחוזות: 'ריכוז נתונים'!$P$2:$R$259

Sheet 2015 פעילים
A1: TABLE 5. ACTIVE BUSINESSES, BY DISTRICT AND INDUSTRY (2011 CLASSIFICATION) | U1: לוח 5. עסקים פעילים, לפי מחוז וענף כלכלי (סיווג 2011) | AJ1: לוח 5. עסקים פעילים, לפי מחוז וענף כלכלי (סיווג 2011) (המשך)
A2: 2015
C3: ה מ ר כ ז | G3: ח י פ ה | K3: ה צ פ ו ן | O3: י ר ו ש ל י ם | V3: אזור יהודה והשומרון (1) | Z3: ה ד ר ו ם | AD3: ת ל א ב י ב
C4: C e n t r a l | G4: H a i f a | K4: N o r t h e r n | O4: J e r u s a l e m | V4: Judea and Samaria Area (1) | Z4: S o u t h e r n | AD4: T e l A v i v
C5: מעסיקים | E5: עצמאים וחברות שאינם | G5: מעסיקים | I5: עצמאים וחברות שאינם | K5: מעסיקים | M5: עצמאים וחברות שאינם | O5: מעסיקים | Q5: עצמאים וחברות שאינם | V5: מעסיקים | X5: עצמאים וחברות שאינם | Z5: מעסיקים | AB5: עצמאים וחברות שאינם | AD5: מעסיקים | AF5: עצמאים וחברות שאינם
E6: מעסיקים שכירים | I6: מעסיקים שכירים | M6: מעסיקים שכירים | Q6: מעסיקים שכירים | X6: מעסיקים שכירים | AB6: מעסיקים שכירים | AF6: מעסיקים שכירים
C7: Employers | E7: Self-employed | G7: Employers | I7: Self-employed | K7: Employers | M7: Self-employed | O7: Employers | Q7: Self-employed | V7: Employers | X7: Self-employed | Z7: Employers | AB7: Self-employed | AD7: Employers | AF7: Self-employed
A8: Divi- | B8: Industry | E8: and companies | I8: and companies | M8: and companies | Q8: and companies | S8: ענף כלכלי | T8: ענף | U8: סדר | X8: and companies | AB8: and companies | AF8: and companies | AH8: ענף כלכלי | AI8: ענף | AJ8: סדר
A9: sion | E9: without employees | I9: without employees | M9: without employees | Q9: without employees | T9: ראשי | U9: Cate- | X9: without employees | AB9: without employees | AF9: without employees | AI9: ראשי | AJ9: Cate-
C10: אחוזים | D10: מספרים | E10: אחוזים | F10: מספרים | G10: אחוזים | H10: מספרים | I10: אחוזים | J10: מספרים | K10: אחוזים | L10: מספרים | M10: אחוזים | N10: מספרים | O10: אחוזים | P10: מספרים | Q10: אחוזים | R10: מספרים | U10: gory | V10: אחוזים | W10: מספרים | X10: אחוזים | Y10: מספרים | Z10: אחוזים | AA10: מספרים | AB10: אחוזים | AC10: מספרים | AD10: אחוזים | AE10: מספרים | AF10: אחוזים | AG10: מספרים | AJ10: gory
D11: מוחלטים | F11: מוחלטים | H11: מוחלטים | J11: מוחלטים | L11: מוחלטים | N11: מוחלטים | P11: מוחלטים | R11: מוחלטים | W11: מוחלטים | Y11: מוחלטים | AA11: מוחלטים | AC11: מוחלטים | AE11: מוחלטים | AG11: מוחלטים
C12: Percent- | D12: Absolute | E12: Percent- | F12: Absolute | G12: Percent- | H12: Absolute | I12: Percent- | J12: Absolute | K12: Percent- | L12: Absolute | M12: Percent- | N12: Absolute | O12: Percent- | P12: Absolute | Q12: Percent- | R12: Absolute | V12: Percent- | W12: Absolute | X12: Percent- | Y12: Absolute | Z12: Percent- | AA12: Absolute | AB12: Percent- | AC12: Absolute | AD12: Percent- | AE12: Absolute | AF12: Percent- | AG12: Absolute
C13: ages | D13: numbers | E13: ages | F13: numbers | G13: ages | H13: numbers | I13: ages | J13: numbers | K13: ages | L13: numbers | M13: ages | N13: numbers | O13: ages | P13: numbers | Q13: ages | R13: numbers | V13: ages | W13: numbers | X13: ages | Y13: numbers | Z13: ages | AA13: numbers | AB13: ages | AC13: numbers | AD13: ages | AE13: numbers | AF13: ages | AG13: numbers
B14: Total | C14: 100 | D14: 69569 | E14: 100 | F14: 79369 | G14: 100 | H14: 31015 | I14: 100 | J14: 29798 | K14: 100 | L14: 40994 | M14: 100 | N14: 36828 | O14: 100 | P14: 24463 | Q14: 100 | R14: 22600 | S14: סך הכל | V14: 100 | W14: 6942 | X14: 100 | Y14: 7397 | Z14: 100 | AA14: 28274 | AB14: 100 | AC14: 24987 | AD14: 100 | AE14: 68218 | AF14: 100 | AG14: 77135 | AH14: סך הכל
A15: 01-04 | B15: Agriculture, forestry and fishing | C15: 2.3 | D15: 1592 | E15: 1.7 | F15: 1312 | G15: 1.9 | H15: 588 | I15: 1.5 | J15: 452 | K15: 6.6 | L15: 2715 | M15: 8.9 | N15: 3270 | O15: 0.7 | P15: 173 | Q15: 1 | R15: 217 | S15: חקלאות, ייעור ודיג | T15: 04-01 | U15: A | V15: 4.8 | W15: 330 | X15: 2.5 | Y15: 183 | Z15: 7.4 | AA15: 2095 | AB15: 5.4 | AC15: 1339 | AD15: 0.2 | AE15: 140 | AF15: 0.2 | AG15: 123 | AH15: חקלאות, ייעור ודיג | AI15: 04-01 | AJ15: A
A16: 05-34 | B16: Manufacturing, mining and quarrying | C16: 5.5 | D16: 3848 | E16: 2.7 | F16: 2170 | G16: 6.3 | H16: 1942 | I16: 3.5 | J16: 1045 | K16: 7 | L16: 2872 | M16: 3.9 | N16: 1425 | O16: 4.2 | P16: 1024 | Q16: 2.8 | R16: 631 | S16: תעשייה, כרייה וחציבה | T16: 34-05 | U16: B-C | V16: 6.9 | W16: 476 | X16: 2.7 | Y16: 198 | Z16: 5.7 | AA16: 1611 | AB16: 3.2 | AC16: 800 | AD16: 5.4 | AE16: 3693 | AF16: 3 | AG16: 2292 | AH16: תעשייה, כרייה וחציבה | AI16: 34-05 | AJ16: B-C
A17: 35-39 | B17: Electricity and water supply, | S17: אספקת חשמל ומים, | T17: 39-35 | U17: D-E | AH17: אספקת חשמל ומים, | AI17: 39-35 | AJ17: D-E
B18: sewerage and waste management | C18: .. | D18: .. | E18: .. | F18: .. | G18: 0.4 | H18: 109 | I18: 0.2 | J18: 57 | K18: .. | L18: .. | M18: .. | N18: .. | O18: .. | P18: .. | Q18: .. | R18: .. | S18: שירותי ביוב וטיפול בפסולת | V18: 0.3 | W18: 18 | X18: 0.4 | Y18: 31 | Z18: .. | AA18: .. | AB18: .. | AC18: .. | AD18: .. | AE18: .. | AF18: .. | AG18: .. | AH18: שירותי ביוב וטיפול בפסולת
A19: 41-43 | B19: Construction | C19: 12.4 | D19: 8606 | E19: 8.8 | F19: 6945 | G19: 15.2 | H19: 4701 | I19: 8.5 | J19: 2537 | K19: 21.8 | L19: 8924 | M19: 10.4 | N19: 3822 | O19: 12 | P19: 2939 | Q19: 7 | R19: 1585 | S19: בינוי | T19: 43-41 | U19: F | V19: 13.3 | W19: 922 | X19: 9.4 | Y19: 698 | Z19: 16.1 | AA19: 4547 | AB19: 9.7 | AC19: 2432 | AD19: 7 | AE19: 4793 | AF19: 5.4 | AG19: 4179 | AH19: בינוי | AI19: 43-41 | AJ19: F
A20: 45-47 | B20: Wholesale and retail trade | S20: מסחר סיטוני וקמעוני | T20: 47-45 | U20: G | AH20: מסחר סיטוני וקמעוני | AI20: 47-45 | AJ20: G
B21: and repair of motor vehicles | C21: 21.5 | D21: 14950 | E21: 11.7 | F21: 9310 | G21: 21.8 | H21: 6774 | I21: 15.2 | J21: 4535 | K21: 20.9 | L21: 8580 | M21: 19.3 | N21: 7126 | O21: 20.7 | P21: 5052 | Q21: 13.3 | R21: 2996 | S21: ותיקון כלי רכב מנועיים | V21: 16.6 | W21: 1152 | X21: 10.6 | Y21: 785 | Z21: 20.9 | AA21: 5911 | AB21: 14.3 | AC21: 3577 | AD21: 21.1 | AE21: 14370 | AF21: 11.1 | AG21: 8592 | AH21: ותיקון כלי רכב מנועיים
A22: 49-53 | B22: Transportation, storage, | S22: שירותי תחבורה, אחסנה, | T22: 53-49 | U22: H | AH22: שירותי תחבורה, אחסנה, | AI22: 53-49 | AJ22: H
B23: postal and courier activities | C23: 4.6 | D23: 3166 | E23: 8.5 | F23: 6718 | G23: 4.6 | H23: 1432 | I23: 6.7 | J23: 2009 | K23: 6 | L23: 2471 | M23: 7.4 | N23: 2731 | O23: 5.9 | P23: 1448 | Q23: 12.9 | R23: 2923 | S23: דואר ובלדרות | V23: 3.4 | W23: 235 | X23: 8.9 | Y23: 659 | Z23: 7.4 | AA23: 2105 | AB23: 13.4 | AC23: 3340 | AD23: 2.6 | AE23: 1777 | AF23: 7.3 | AG23: 5624 | AH23: דואר ובלדרות
A24: 55-56 | B24: Accommodation and food service activities | C24: 5.5 | D24: 3804 | E24: 2.1 | F24: 1706 | G24: 6 | H24: 1874 | I24: 3 | J24: 892 | K24: 6.5 | L24: 2649 | M24: 5.8 | N24: 2125 | O24: 6.7 | P24: 1636 | Q24: 2.6 | R24: 580 | S24: שירותי אירוח ואוכל | T24: 56-55 | U24: I | V24: 4.4 | W24: 305 | X24: 1.9 | Y24: 144 | Z24: 7.2 | AA24: 2022 | AB24: 3.5 | AC24: 877 | AD24: 6.2 | AE24: 4201 | AF24: 2.2 | AG24: 1706 | AH24: שירותי אירוח ואוכל | AI24: 56-55 | AJ24: I
A25: 58-63 | B25: Information and communications | C25: 4.8 | D25: 3351 | E25: 4.4 | F25: 3523 | G25: 2.7 | H25: 831 | I25: 3 | J25: 895 | K25: 1.2 | L25: 509 | M25: 1.8 | N25: 675 | O25: 3.1 | P25: 749 | Q25: 3.4 | R25: 774 | S25: מידע ותקשורת | T25: 63-58 | U25: J | V25: 3.7 | W25: 255 | X25: 4.6 | Y25: 343 | Z25: 1.4 | AA25: 396 | AB25: 1.9 | AC25: 465 | AD25: 6.4 | AE25: 4349 | AF25: 5.7 | AG25: 4403 | AH25: מידע ותקשורת | AI25: 63-58 | AJ25: J
A26: 64-66 | B26: Financial and insurance activities | C26: 3.1 | D26: 2165 | E26: 2.3 | F26: 1804 | G26: 2.9 | H26: 885 | I26: 2.2 | J26: 667 | K26: 1.7 | L26: 695 | M26: 1.4 | N26: 526 | O26: 2.5 | P26: 618 | Q26: 1.5 | R26: 349 | S26: שירותים פיננסיים ושירותי ביטוח | T26: 66-64 | U26: K | V26: 2 | W26: 137 | X26: 1.7 | Y26: 125 | Z26: 1.7 | AA26: 474 | AB26: 1.3 | AC26: 327 | AD26: 4.7 | AE26: 3215 | AF26: 2.5 | AG26: 1964 | AH26: שירותים פיננסיים ושירותי ביטוח | AI26: 66-64 | AJ26: K
A27: 68 | B27: Real estate activities | C27: 2.9 | D27: 2039 | E27: 8.7 | F27: 6880 | G27: 2.5 | H27: 787 | I27: 8.5 | J27: 2520 | K27: 1.4 | L27: 564 | M27: 5.7 | N27: 2100 | O27: 3.2 | P27: 771 | Q27: 8.9 | R27: 2006 | S27: פעילויות בנדל"ן | T27: 68 | U27: L | V27: 2.5 | W27: 171 | X27: 5 | Y27: 369 | Z27: 2.6 | AA27: 726 | AB27: 9 | AC27: 2250 | AD27: 4.4 | AE27: 2999 | AF27: 12.2 | AG27: 9411 | AH27: פעילויות בנדל"ן | AI27: 68 | AJ27: L
A28: 69-75 | B28: Professional, scientific | S28: שירותים מקצועיים, | T28: 75-69 | U28: M | AH28: שירותים מקצועיים, | AI28: 75-69 | AJ28: M
B29: and technical activities | C29: 16.8 | D29: 11657 | E29: 23.4 | F29: 18543 | G29: 16 | H29: 4966 | I29: 21.7 | J29: 6481 | K29: 10.3 | L29: 4222 | M29: 14.9 | N29: 5478 | O29: 14.5 | P29: 3543 | Q29: 19.6 | R29: 4434 | S29: מדעיים וטכניים | V29: 13.9 | W29: 962 | X29: 24.1 | Y29: 1780 | Z29: 10.4 | AA29: 2933 | AB29: 14.2 | AC29: 3540 | AD29: 23 | AE29: 15659 | AF29: 25.2 | AG29: 19474 | AH29: מדעיים וטכניים
A30: 77-82 | B30: Administrative | S30: שירותי ניהול | T30: 82-77 | U30: N | AH30: שירותי ניהול | AI30: 82-77 | AJ30: N
B31: and support service activities | C31: 4.2 | D31: 2946 | E31: 3.3 | F31: 2649 | G31: 3.7 | H31: 1148 | I31: 3.2 | J31: 964 | K31: 3 | L31: 1233 | M31: 2.9 | N31: 1075 | O31: 3.7 | P31: 905 | Q31: 3.8 | R31: 848 | S31: ותמיכה | V31: 4.5 | W31: 314 | X31: 4.5 | Y31: 331 | Z31: 3.9 | AA31: 1100 | AB31: 3.2 | AC31: 797 | AD31: 3.8 | AE31: 2578 | AF31: 2.9 | AG31: 2200 | AH31: ותמיכה
A32: 83-84 | B32: Local, public and defence administration | S32: מינהל מקומי, ציבורי וביטחון | T32: 84-83 | U32: O | AH32: מינהל מקומי, ציבורי וביטחון | AI32: 84-83 | AJ32: O
B33: and social security | C33: .. | D33: .. | E33: .. | F33: .. | G33: 0.2 | H33: 70 | I33: 0 | J33: 0 | K33: .. | L33: .. | M33: .. | N33: .. | O33: .. | P33: .. | Q33: .. | R33: .. | S33: וביטוח לאומי | V33: 1.6 | W33: 114 | X33: 0 | Y33: 0 | Z33: .. | AA33: .. | AB33: .. | AC33: .. | AD33: .. | AE33: .. | AF33: .. | AG33: .. | AH33: וביטוח לאומי
A34: 85 | B34: Education | C34: 3.4 | D34: 2377 | E34: 3.9 | F34: 3102 | G34: 3 | H34: 942 | I34: 4.1 | J34: 1214 | K34: 2.2 | L34: 897 | M34: 3.6 | N34: 1335 | O34: 6.6 | P34: 1620 | Q34: 3.4 | R34: 768 | S34: חינוך | T34: 85 | U34: P | V34: 7.7 | W34: 533 | X34: 4.4 | Y34: 328 | Z34: 2.8 | AA34: 784 | AB34: 3.3 | AC34: 815 | AD34: 2.7 | AE34: 1825 | AF34: 2.6 | AG34: 2002 | AH34: חינוך | AI34: 85 | AJ34: P
A35: 86-88 | B35: Human health and social work activities | C35: 6.1 | D35: 4268 | E35: 9.6 | F35: 7651 | G35: 6.8 | H35: 2118 | I35: 10.9 | J35: 3248 | K35: 5.4 | L35: 2213 | M35: 7.5 | N35: 2750 | O35: 7.6 | P35: 1861 | Q35: 12.3 | R35: 2790 | S35: שירותי בריאות, רווחה וסעד | T35: 88-86 | U35: Q | V35: 7.1 | W35: 490 | X35: 10.1 | Y35: 745 | Z35: 5.2 | AA35: 1479 | AB35: 8.6 | AC35: 2155 | AD35: 5.4 | AE35: 3685 | AF35: 8.3 | AG35: 6427 | AH35: שירותי בריאות, רווחה וסעד | AI35: 88-86 | AJ35: Q
A36: 90-93 | B36: Arts, entertainment and recreation | C36: 2.4 | D36: 1668 | E36: 4.2 | F36: 3300 | G36: 2 | H36: 632 | I36: 3.4 | J36: 1005 | K36: 1.9 | L36: 760 | M36: 2.7 | N36: 976 | O36: 2.1 | P36: 510 | Q36: 3.8 | R36: 858 | S36: אמנות, בידור ופנאי | T36: 93-90 | U36: R | V36: 2.6 | W36: 183 | X36: 4.9 | Y36: 361 | Z36: 2.4 | AA36: 689 | AB36: 3.5 | AC36: 880 | AD36: 2.6 | AE36: 1801 | AF36: 7.4 | AG36: 5683 | AH36: אמנות, בידור ופנאי | AI36: 93-90 | AJ36: R
A37: 94-99 | B37: Other service activities; households as | S37: שירותים אחרים; משקי בית | T37: 99-94 | U37: S-U | AH37: שירותים אחרים; משקי בית | AI37: 99-94 | AJ37: S-U
B38: employers; extraterritorial organizations | C38: 3.9 | D38: 2693 | E38: 4.6 | F38: 3632 | G38: 3.9 | H38: 1216 | I38: 4.3 | J38: 1277 | K38: 3 | L38: 1244 | M38: 3.3 | N38: 1232 | O38: 6.1 | P38: 1482 | Q38: 3.6 | R38: 816 | S38: כמעסיקים; ארגונים חוץ-מדינתיים | V38: 5 | W38: 345 | X38: 4.3 | Y38: 317 | Z38: 4.2 | AA38: 1188 | AB38: 5.1 | AC38: 1277 | AD38: 4.4 | AE38: 3012 | AF38: 3.8 | AG38: 2969 | AH38: כמעסיקים; ארגונים חוץ-מדינתיים
V40: (1) Israeli localities. | AJ40: (1) יישובים ישראליים.

Sheet 2016 פעילים
A1: TABLE 5. ACTIVE BUSINESSES, BY DISTRICT AND INDUSTRY (2011 CLASSIFICATION) | U1: לוח 5. עסקים פעילים, לפי מחוז וענף כלכלי (סיווג 2011) | AJ1: לוח 5. עסקים פעילים, לפי מחוז וענף כלכלי (סיווג 2011) (המשך)
A2: 2016
C3: ה מ ר כ ז | G3: ח י פ ה | K3: ה צ פ ו ן | O3: י ר ו ש ל י ם | V3: אזור יהודה והשומרון (1) | Z3: ה ד ר ו ם | AD3: ת ל א ב י ב
C4: C e n t r a l | G4: H a i f a | K4: N o r t h e r n | O4: J e r u s a l e m | V4: Judea and Samaria Area (1) | Z4: S o u t h e r n | AD4: T e l A v i v
C5: מעסיקים | E5: עצמאים וחברות שאינם | G5: מעסיקים | I5: עצמאים וחברות שאינם | K5: מעסיקים | M5: עצמאים וחברות שאינם | O5: מעסיקים | Q5: עצמאים וחברות שאינם | V5: מעסיקים | X5: עצמאים וחברות שאינם | Z5: מעסיקים | AB5: עצמאים וחברות שאינם | AD5: מעסיקים | AF5: עצמאים וחברות שאינם
E6: מעסיקים שכירים | I6: מעסיקים שכירים | M6: מעסיקים שכירים | Q6: מעסיקים שכירים | X6: מעסיקים שכירים | AB6: מעסיקים שכירים | AF6: מעסיקים שכירים
C7: Employers | E7: Self-employed | G7: Employers | I7: Self-employed | K7: Employers | M7: Self-employed | O7: Employers | Q7: Self-employed | V7: Employers | X7: Self-employed | Z7: Employers | AB7: Self-employed | AD7: Employers | AF7: Self-employed
A8: Divi- | B8: Industry | E8: and companies | I8: and companies | M8: and companies | Q8: and companies | S8: ענף כלכלי | T8: ענף | U8: סדר | X8: and companies | AB8: and companies | AF8: and companies | AH8: ענף כלכלי | AI8: ענף | AJ8: סדר
A9: sion | E9: without employees | I9: without employees | M9: without employees | Q9: without employees | T9: ראשי | U9: Cate- | X9: without employees | AB9: without employees | AF9: without employees | AI9: ראשי | AJ9: Cate-
C10: אחוזים | D10: מספרים | E10: אחוזים | F10: מספרים | G10: אחוזים | H10: מספרים | I10: אחוזים | J10: מספרים | K10: אחוזים | L10: מספרים | M10: אחוזים | N10: מספרים | O10: אחוזים | P10: מספרים | Q10: אחוזים | R10: מספרים | U10: gory | V10: אחוזים | W10: מספרים | X10: אחוזים | Y10: מספרים | Z10: אחוזים | AA10: מספרים | AB10: אחוזים | AC10: מספרים | AD10: אחוזים | AE10: מספרים | AF10: אחוזים | AG10: מספרים | AJ10: gory
D11: מוחלטים | F11: מוחלטים | H11: מוחלטים | J11: מוחלטים | L11: מוחלטים | N11: מוחלטים | P11: מוחלטים | R11: מוחלטים | W11: מוחלטים | Y11: מוחלטים | AA11: מוחלטים | AC11: מוחלטים | AE11: מוחלטים | AG11: מוחלטים
C12: Percent- | D12: Absolute | E12: Percent- | F12: Absolute | G12: Percent- | H12: Absolute | I12: Percent- | J12: Absolute | K12: Percent- | L12: Absolute | M12: Percent- | N12: Absolute | O12: Percent- | P12: Absolute | Q12: Percent- | R12: Absolute | V12: Percent- | W12: Absolute | X12: Percent- | Y12: Absolute | Z12: Percent- | AA12: Absolute | AB12: Percent- | AC12: Absolute | AD12: Percent- | AE12: Absolute | AF12: Percent- | AG12: Absolute
C13: ages | D13: numbers | E13: ages | F13: numbers | G13: ages | H13: numbers | I13: ages | J13: numbers | K13: ages | L13: numbers | M13: ages | N13: numbers | O13: ages | P13: numbers | Q13: ages | R13: numbers | V13: ages | W13: numbers | X13: ages | Y13: numbers | Z13: ages | AA13: numbers | AB13: ages | AC13: numbers | AD13: ages | AE13: numbers | AF13: ages | AG13: numbers
B14: Total | C14: 100 | D14: 72145 | E14: 100 | F14: 82236 | G14: 100 | H14: 32114 | I14: 100 | J14: 30736 | K14: 100 | L14: 43089 | M14: 100 | N14: 37767 | O14: 100 | P14: 25305 | Q14: 100 | R14: 22983 | S14: סך הכל | V14: 100 | W14: 7439 | X14: 100 | Y14: 7742 | Z14: 100 | AA14: 29532 | AB14: 100 | AC14: 25930 | AD14: 100 | AE14: 69618 | AF14: 100 | AG14: 78879 | AH14: סך הכל
A15: 01-04 | B15: Agriculture, forestry and fishing | C15: 2.2 | D15: 1613 | E15: 1.6 | F15: 1345 | G15: 1.9 | H15: 607 | I15: 1.5 | J15: 454 | K15: 6.4 | L15: 2755 | M15: 9.1 | N15: 3438 | O15: 0.7 | P15: 170 | Q15: 0.9 | R15: 211 | S15: חקלאות, ייעור ודיג | T15: 04-01 | U15: A | V15: 4.7 | W15: 347 | X15: 2.4 | Y15: 186 | Z15: 7.2 | AA15: 2138 | AB15: 5.3 | AC15: 1383 | AD15: 0.2 | AE15: 136 | AF15: 0.2 | AG15: 126 | AH15: חקלאות, ייעור ודיג | AI15: 04-01 | AJ15: A
A16: 05-34 | B16: Manufacturing, mining and quarrying | C16: 5.4 | D16: 3877 | E16: 2.6 | F16: 2148 | G16: 6.2 | H16: 1981 | I16: 3.3 | J16: 1019 | K16: 6.8 | L16: 2941 | M16: 3.7 | N16: 1402 | O16: 4.1 | P16: 1045 | Q16: 2.7 | R16: 612 | S16: תעשייה, כרייה וחציבה | T16: 34-05 | U16: B-C | V16: 6.7 | W16: 496 | X16: 2.6 | Y16: 200 | Z16: 5.5 | AA16: 1636 | AB16: 3 | AC16: 789 | AD16: 5.2 | AE16: 3615 | AF16: 2.9 | AG16: 2310 | AH16: תעשייה, כרייה וחציבה | AI16: 34-05 | AJ16: B-C
A17: 35-39 | B17: Electricity and water supply, | S17: אספקת חשמל ומים, | T17: 39-35 | U17: D-E | AH17: אספקת חשמל ומים, | AI17: 39-35 | AJ17: D-E
B18: sewerage and waste management | C18: .. | D18: .. | E18: .. | F18: .. | G18: 0.3 | H18: 112 | I18: 0.2 | J18: 58 | K18: .. | L18: .. | M18: .. | N18: .. | O18: .. | P18: .. | Q18: .. | R18: .. | S18: שירותי ביוב וטיפול בפסולת | V18: 0.3 | W18: 19 | X18: 0.4 | Y18: 32 | Z18: 0.4 | AA18: 106 | AB18: 0.5 | AC18: 131 | AD18: .. | AE18: .. | AF18: .. | AG18: .. | AH18: שירותי ביוב וטיפול בפסולת
A19: 41-43 | B19: Construction | C19: 12.5 | D19: 9005 | E19: 8.9 | F19: 7352 | G19: 15.4 | H19: 4961 | I19: 8.6 | J19: 2647 | K19: 22.4 | L19: 9655 | M19: 10.5 | N19: 3968 | O19: 12.7 | P19: 3209 | Q19: 7.2 | R19: 1656 | S19: בינוי | T19: 43-41 | U19: F | V19: 13.1 | W19: 974 | X19: 9.4 | Y19: 725 | Z19: 16.5 | AA19: 4886 | AB19: 10.3 | AC19: 2664 | AD19: 7 | AE19: 4884 | AF19: 5.5 | AG19: 4371 | AH19: בינוי | AI19: 43-41 | AJ19: F
A20: 45-47 | B20: Wholesale and retail trade | S20: מסחר סיטוני וקמעוני | T20: 47-45 | U20: G | AH20: מסחר סיטוני וקמעוני | AI20: 47-45 | AJ20: G
B21: and repair of motor vehicles | C21: 21.2 | D21: 15284 | E21: 11.3 | F21: 9301 | G21: 21.4 | H21: 6869 | I21: 14.7 | J21: 4511 | K21: 20.9 | L21: 8992 | M21: 18.6 | N21: 7021 | O21: 20.2 | P21: 5119 | Q21: 12.7 | R21: 2927 | S21: ותיקון כלי רכב מנועיים | V21: 16.4 | W21: 1219 | X21: 10.4 | Y21: 807 | Z21: 20.4 | AA21: 6020 | AB21: 13.6 | AC21: 3525 | AD21: 20.7 | AE21: 14418 | AF21: 11 | AG21: 8666 | AH21: ותיקון כלי רכב מנועיים
A22: 49-53 | B22: Transportation, storage, | S22: שירותי תחבורה, אחסנה, | T22: 53-49 | U22: H | AH22: שירותי תחבורה, אחסנה, | AI22: 53-49 | AJ22: H
B23: postal and courier activities | C23: 4.6 | D23: 3320 | E23: 8.4 | F23: 6915 | G23: 4.8 | H23: 1538 | I23: 6.6 | J23: 2021 | K23: 5.9 | L23: 2546 | M23: 7.2 | N23: 2701 | O23: 5.8 | P23: 1480 | Q23: 12.8 | R23: 2942 | S23: דואר ובלדרות | V23: 3.4 | W23: 251 | X23: 8.4 | Y23: 647 | Z23: 7.5 | AA23: 2222 | AB23: 13.1 | AC23: 3387 | AD23: 2.6 | AE23: 1802 | AF23: 7.2 | AG23: 5690 | AH23: דואר ובלדרות
A24: 55-56 | B24: Accommodation and food service activities | C24: 5.5 | D24: 3965 | E24: 2 | F24: 1670 | G24: 6.1 | H24: 1973 | I24: 2.8 | J24: 871 | K24: 6.4 | L24: 2771 | M24: 5.6 | N24: 2128 | O24: 6.6 | P24: 1664 | Q24: 2.6 | R24: 598 | S24: שירותי אירוח ואוכל | T24: 56-55 | U24: I | V24: 4.5 | W24: 338 | X24: 1.7 | Y24: 134 | Z24: 7.2 | AA24: 2118 | AB24: 3.4 | AC24: 885 | AD24: 6.1 | AE24: 4266 | AF24: 2.2 | AG24: 1701 | AH24: שירותי אירוח ואוכל | AI24: 56-55 | AJ24: I
A25: 58-63 | B25: Information and communications | C25: 4.8 | D25: 3475 | E25: 4.3 | F25: 3555 | G25: 2.7 | H25: 854 | I25: 3.1 | J25: 944 | K25: 1.3 | L25: 548 | M25: 1.9 | N25: 716 | O25: 3.1 | P25: 779 | Q25: 3.4 | R25: 788 | S25: מידע ותקשורת | T25: 63-58 | U25: J | V25: 3.6 | W25: 268 | X25: 4.8 | Y25: 371 | Z25: 1.5 | AA25: 431 | AB25: 1.9 | AC25: 504 | AD25: 6.6 | AE25: 4593 | AF25: 5.6 | AG25: 4455 | AH25: מידע ותקשורת | AI25: 63-58 | AJ25: J
A26: 64-66 | B26: Financial and insurance activities | C26: 3.2 | D26: 2309 | E26: 2.3 | F26: 1870 | G26: 2.8 | H26: 893 | I26: 2.2 | J26: 681 | K26: 1.7 | L26: 724 | M26: 1.4 | N26: 530 | O26: 2.4 | P26: 612 | Q26: 1.5 | R26: 343 | S26: שירותים פיננסיים ושירותי ביטוח | T26: 66-64 | U26: K | V26: 2 | W26: 146 | X26: 1.8 | Y26: 138 | Z26: 1.7 | AA26: 504 | AB26: 1.3 | AC26: 337 | AD26: 4.7 | AE26: 3293 | AF26: 2.5 | AG26: 1976 | AH26: שירותים פיננסיים ושירותי ביטוח | AI26: 66-64 | AJ26: K
A27: 68 | B27: Real estate activities | C27: 3 | D27: 2176 | E27: 8.9 | F27: 7280 | G27: 2.6 | H27: 821 | I27: 8.7 | J27: 2675 | K27: 1.4 | L27: 599 | M27: 6 | N27: 2260 | O27: 3.3 | P27: 833 | Q27: 9.1 | R27: 2084 | S27: פעילויות בנדל"ן | T27: 68 | U27: L | V27: 2.5 | W27: 183 | X27: 5.3 | Y27: 407 | Z27: 2.7 | AA27: 796 | AB27: 9.1 | AC27: 2369 | AD27: 4.6 | AE27: 3196 | AF27: 12.3 | AG27: 9691 | AH27: פעילויות בנדל"ן | AI27: 68 | AJ27: L
A28: 69-75 | B28: Professional, scientific | S28: שירותים מקצועיים, | T28: 75-69 | U28: M | AH28: שירותים מקצועיים, | AI28: 75-69 | AJ28: M
B29: and technical activities | C29: 16.9 | D29: 12187 | E29: 23.8 | F29: 19575 | G29: 16.1 | H29: 5161 | I29: 22.1 | J29: 6780 | K29: 10.3 | L29: 4452 | M29: 15.3 | N29: 5785 | O29: 14.6 | P29: 3687 | Q29: 19.9 | R29: 4579 | S29: מדעיים וטכניים | V29: 14 | W29: 1043 | X29: 24.5 | Y29: 1896 | Z29: 10.4 | AA29: 3076 | AB29: 14.9 | AC29: 3851 | AD29: 23.1 | AE29: 16066 | AF29: 25.5 | AG29: 20113 | AH29: מדעיים וטכניים
A30: 77-82 | B30: Administrative | S30: שירותי ניהול | T30: 82-77 | U30: N | AH30: שירותי ניהול | AI30: 82-77 | AJ30: N
B31: and support service activities | C31: 4.3 | D31: 3079 | E31: 3.4 | F31: 2819 | G31: 3.8 | H31: 1212 | I31: 3.3 | J31: 1026 | K31: 2.9 | L31: 1255 | M31: 3 | N31: 1118 | O31: 3.8 | P31: 952 | Q31: 3.7 | R31: 844 | S31: ותמיכה | V31: 4.8 | W31: 354 | X31: 4.5 | Y31: 347 | Z31: 4 | AA31: 1175 | AB31: 3.2 | AC31: 833 | AD31: 3.8 | AE31: 2628 | AF31: 2.9 | AG31: 2257 | AH31: ותמיכה
A32: 83-84 | B32: Local, public and defence administration | S32: מינהל מקומי, ציבורי וביטחון | T32: 84-83 | U32: O | AH32: מינהל מקומי, ציבורי וביטחון | AI32: 84-83 | AJ32: O
B33: and social security | C33: .. | D33: .. | E33: .. | F33: .. | G33: 0.2 | H33: 70 | I33: 0 | J33: 0 | K33: .. | L33: .. | M33: .. | N33: .. | O33: .. | P33: .. | Q33: .. | R33: .. | S33: וביטוח לאומי | V33: 1.6 | W33: 118 | X33: 0 | Y33: 0 | Z33: 0.4 | AA33: 120 | AB33: 0 | AC33: 0 | AD33: .. | AE33: .. | AF33: .. | AG33: .. | AH33: וביטוח לאומי
A34: 85 | B34: Education | C34: 3.4 | D34: 2460 | E34: 3.9 | F34: 3217 | G34: 3 | H34: 950 | I34: 4.1 | J34: 1268 | K34: 2.2 | L34: 930 | M34: 3.7 | N34: 1390 | O34: 6.5 | P34: 1644 | Q34: 3.5 | R34: 798 | S34: חינוך | T34: 85 | U34: P | V34: 7.4 | W34: 547 | X34: 4.4 | Y34: 340 | Z34: 2.7 | AA34: 808 | AB34: 3.3 | AC34: 867 | AD34: 2.7 | AE34: 1879 | AF34: 2.6 | AG34: 2046 | AH34: חינוך | AI34: 85 | AJ34: P
A35: 86-88 | B35: Human health and social work activities | C35: 6.1 | D35: 4378 | E35: 9.6 | F35: 7895 | G35: 6.8 | H35: 2173 | I35: 11.1 | J35: 3400 | K35: 5.4 | L35: 2328 | M35: 7.5 | N35: 2841 | O35: 7.7 | P35: 1939 | Q35: 12.5 | R35: 2870 | S35: שירותי בריאות, רווחה וסעד | T35: 88-86 | U35: Q | V35: 7.4 | W35: 554 | X35: 10.4 | Y35: 803 | Z35: 5.2 | AA35: 1547 | AB35: 8.5 | AC35: 2212 | AD35: 5.4 | AE35: 3745 | AF35: 8.4 | AG35: 6625 | AH35: שירותי בריאות, רווחה וסעד | AI35: 88-86 | AJ35: Q
A36: 90-93 | B36: Arts, entertainment and recreation | C36: 2.4 | D36: 1762 | E36: 4.2 | F36: 3429 | G36: 2.1 | H36: 683 | I36: 3.4 | J36: 1046 | K36: 1.9 | L36: 821 | M36: 2.7 | N36: 1017 | O36: 2.1 | P36: 533 | Q36: 3.8 | R36: 866 | S36: אמנות, בידור ופנאי | T36: 93-90 | U36: R | V36: 2.7 | W36: 198 | X36: 4.7 | Y36: 364 | Z36: 2.5 | AA36: 725 | AB36: 3.5 | AC36: 913 | AD36: 2.7 | AE36: 1888 | AF36: 7.3 | AG36: 5758 | AH36: אמנות, בידור ופנאי | AI36: 93-90 | AJ36: R
A37: 94-99 | B37: Other service activities; households as | S37: שירותים אחרים; משקי בית | T37: 99-94 | U37: S-U | AH37: שירותים אחרים; משקי בית | AI37: 99-94 | AJ37: S-U
B38: employers; extraterritorial organizations | C38: 3.9 | D38: 2806 | E38: 4.5 | F38: 3728 | G38: 3.9 | H38: 1256 | I38: 4.3 | J38: 1335 | K38: 3.1 | L38: 1326 | M38: 3.3 | N38: 1254 | O38: 6 | P38: 1509 | Q38: 3.6 | R38: 835 | S38: כמעסיקים; ארגונים חוץ-מדינתיים | V38: 5.2 | W38: 384 | X38: 4.5 | Y38: 345 | Z38: 4.1 | AA38: 1224 | AB38: 4.9 | AC38: 1280 | AD38: 4.4 | AE38: 3086 | AF38: 3.8 | AG38: 3009 | AH38: כמעסיקים; ארגונים חוץ-מדינתיים
AJ40: (1) יישובים ישראליים.
A43: מחוז | B43: מס' עסקים
...

Sheet 2017 פעילים
A1: TABLE 5. ACTIVE BUSINESSES, BY DISTRICT AND INDUSTRY (2011 CLASSIFICATION) | U1: לוח 5. עסקים פעילים, לפי מחוז וענף כלכלי (סיווג 2011) | AJ1: לוח 5. עסקים פעילים, לפי מחוז וענף כלכלי (סיווג 2011) (המשך)
A2: 2017
C3: ה מ ר כ ז | G3: ח י פ ה | K3: ה צ פ ו ן | O3: י ר ו ש ל י ם | V3: אזור יהודה והשומרון (1) | Z3: ה ד ר ו ם | AD3: ת ל א ב י ב
C4: C e n t r a l | G4: H a i f a | K4: N o r t h e r n | O4: J e r u s a l e m | V4: Judea and Samaria Area (1) | Z4: S o u t h e r n | AD4: T e l A v i v
C5: מעסיקים | E5: עצמאים וחברות שאינם | G5: מעסיקים | I5: עצמאים וחברות שאינם | K5: מעסיקים | M5: עצמאים וחברות שאינם | O5: מעסיקים | Q5: עצמאים וחברות שאינם | V5: מעסיקים | X5: עצמאים וחברות שאינם | Z5: מעסיקים | AB5: עצמאים וחברות שאינם | AD5: מעסיקים | AF5: עצמאים וחברות שאינם
E6: מעסיקים שכירים | I6: מעסיקים שכירים | M6: מעסיקים שכירים | Q6: מעסיקים שכירים | X6: מעסיקים שכירים | AB6: מעסיקים שכירים | AF6: מעסיקים שכירים
C7: Employers | E7: Self-employed | G7: Employers | I7: Self-employed | K7: Employers | M7: Self-employed | O7: Employers | Q7: Self-employed | V7: Employers | X7: Self-employed | Z7: Employers | AB7: Self-employed | AD7: Employers | AF7: Self-employed
A8: Divi- | B8: Industry | E8: and companies | I8: and companies | M8: and companies | Q8: and companies | S8: ענף כלכלי | T8: ענף | U8: סדר | X8: and companies | AB8: and companies | AF8: and companies | AH8: ענף כלכלי | AI8: ענף | AJ8: סדר
A9: sion | E9: without employees | I9: without employees | M9: without employees | Q9: without employees | T9: ראשי | U9: Cate- | X9: without employees | AB9: without employees | AF9: without employees | AI9: ראשי | AJ9: Cate-
C10: אחוזים | D10: מספרים | E10: אחוזים | F10: מספרים | G10: אחוזים | H10: מספרים | I10: אחוזים | J10: מספרים | K10: אחוזים | L10: מספרים | M10: אחוזים | N10: מספרים | O10: אחוזים | P10: מספרים | Q10: אחוזים | R10: מספרים | U10: gory | V10: אחוזים | W10: מספרים | X10: אחוזים | Y10: מספרים | Z10: אחוזים | AA10: מספרים | AB10: אחוזים | AC10: מספרים | AD10: אחוזים | AE10: מספרים | AF10: אחוזים | AG10: מספרים | AJ10: gory
D11: מוחלטים | F11: מוחלטים | H11: מוחלטים | J11: מוחלטים | L11: מוחלטים | N11: מוחלטים | P11: מוחלטים | R11: מוחלטים | W11: מוחלטים | Y11: מוחלטים | AA11: מוחלטים | AC11: מוחלטים | AE11: מוחלטים | AG11: מוחלטים
C12: Percent- | D12: Absolute | E12: Percent- | F12: Absolute | G12: Percent- | H12: Absolute | I12: Percent- | J12: Absolute | K12: Percent- | L12: Absolute | M12: Percent- | N12: Absolute | O12: Percent- | P12: Absolute | Q12: Percent- | R12: Absolute | V12: Percent- | W12: Absolute | X12: Percent- | Y12: Absolute | Z12: Percent- | AA12: Absolute | AB12: Percent- | AC12: Absolute | AD12: Percent- | AE12: Absolute | AF12: Percent- | AG12: Absolute
C13: ages | D13: numbers | E13: ages | F13: numbers | G13: ages | H13: numbers | I13: ages | J13: numbers | K13: ages | L13: numbers | M13: ages | N13: numbers | O13: ages | P13: numbers | Q13: ages | R13: numbers | V13: ages | W13: numbers | X13: ages | Y13: numbers | Z13: ages | AA13: numbers | AB13: ages | AC13: numbers | AD13: ages | AE13: numbers | AF13: ages | AG13: numbers
B14: Total | C14: 100 | D14: 74145 | E14: 100 | F14: 85784 | G14: 100 | H14: 33000 | I14: 100 | J14: 31838 | K14: 100 | L14: 44973 | M14: 100 | N14: 38592 | O14: 100 | P14: 26340 | Q14: 100 | R14: 23604 | S14: סך הכל | V14: 100 | W14: 7863 | X14: 100 | Y14: 8204 | Z14: 100 | AA14: 30371 | AB14: 100 | AC14: 26958 | AD14: 100 | AE14: 70091 | AF14: 100 | AG14: 81219 | AH14: סך הכל
A15: 01-04 | B15: Agriculture, forestry and fishing | C15: 2.2 | D15: 1610 | E15: 1.5 | F15: 1291 | G15: 1.8 | H15: 591 | I15: 1.5 | J15: 463 | K15: 6.1 | L15: 2760 | M15: 9 | N15: 3456 | O15: 0.6 | P15: 168 | Q15: 0.9 | R15: 213 | S15: חקלאות, ייעור ודיג | T15: 04-01 | U15: A | V15: 4.4 | W15: 343 | X15: 2.3 | Y15: 190 | Z15: 7.1 | AA15: 2158 | AB15: 5.2 | AC15: 1399 | AD15: 0.2 | AE15: 131 | AF15: 0.2 | AG15: 133 | AH15: חקלאות, ייעור ודיג | AI15: 04-01 | AJ15: A
A16: 05-34 | B16: Manufacturing, mining and quarrying | C16: 5.2 | D16: 3855 | E16: 2.5 | F16: 2171 | G16: 6.2 | H16: 2031 | I16: 3.2 | J16: 1029 | K16: 6.7 | L16: 2999 | M16: 3.6 | N16: 1373 | O16: 4 | P16: 1058 | Q16: 2.5 | R16: 599 | S16: תעשייה, כרייה וחציבה | T16: 34-05 | U16: B-C | V16: 6.3 | W16: 493 | X16: 2.8 | Y16: 232 | Z16: 5.5 | AA16: 1656 | AB16: 3 | AC16: 803 | AD16: 5 | AE16: 3511 | AF16: 2.8 | AG16: 2286 | AH16: תעשייה, כרייה וחציבה | AI16: 34-05 | AJ16: B-C
A17: 35-39 | B17: Electricity and water supply, | S17: אספקת חשמל ומים, | T17: 39-35 | U17: D-E | AH17: אספקת חשמל ומים, | AI17: 39-35 | AJ17: D-E
B18: sewerage and waste management | C18: .. | D18: .. | E18: .. | F18: .. | G18: 0.3 | H18: 110 | I18: 0.2 | J18: 62 | K18: .. | L18: .. | M18: .. | N18: .. | O18: .. | P18: .. | Q18: .. | R18: .. | S18: שירותי ביוב וטיפול בפסולת | V18: 0.3 | W18: 24 | X18: 0.4 | Y18: 33 | Z18: 0.4 | AA18: 113 | AB18: 0.5 | AC18: 130 | AD18: .. | AE18: .. | AF18: .. | AG18: .. | AH18: שירותי ביוב וטיפול בפסולת
A19: 41-43 | B19: Construction | C19: 12.5 | D19: 9297 | E19: 9 | F19: 7729 | G19: 15.7 | H19: 5186 | I19: 8.8 | J19: 2795 | K19: 22.8 | L19: 10264 | M19: 10.8 | N19: 4184 | O19: 13.3 | P19: 3502 | Q19: 7.5 | R19: 1762 | S19: בינוי | T19: 43-41 | U19: F | V19: 12.9 | W19: 1018 | X19: 9.8 | Y19: 801 | Z19: 17.2 | AA19: 5222 | AB19: 10.5 | AC19: 2824 | AD19: 7 | AE19: 4922 | AF19: 5.6 | AG19: 4524 | AH19: בינוי | AI19: 43-41 | AJ19: F
A20: 45-47 | B20: Wholesale and retail trade | S20: מסחר סיטוני וקמעוני | T20: 47-45 | U20: G | AH20: מסחר סיטוני וקמעוני | AI20: 47-45 | AJ20: G
B21: and repair of motor vehicles | C21: 21.1 | D21: 15659 | E21: 10.8 | F21: 9305 | G21: 21.2 | H21: 6990 | I21: 14.1 | J21: 4477 | K21: 20.6 | L21: 9266 | M21: 18 | N21: 6958 | O21: 19.9 | P21: 5244 | Q21: 12.2 | R21: 2869 | S21: ותיקון כלי רכב מנועיים | V21: 16.1 | W21: 1268 | X21: 10.1 | Y21: 831 | Z21: 20 | AA21: 6089 | AB21: 13.3 | AC21: 3591 | AD21: 20.4 | AE21: 14313 | AF21: 10.6 | AG21: 8615 | AH21: ותיקון כלי רכב מנועיים
A22: 49-53 | B22: Transportation, storage, | S22: שירותי תחבורה, אחסנה, | T22: 53-49 | U22: H | AH22: שירותי תחבורה, אחסנה, | AI22: 53-49 | AJ22: H
B23: postal and courier activities | C23: 4.6 | D23: 3400 | E23: 8.4 | F23: 7241 | G23: 4.8 | H23: 1594 | I23: 6.5 | J23: 2066 | K23: 5.9 | L23: 2649 | M23: 7.3 | N23: 2812 | O23: 6.1 | P23: 1598 | Q23: 12.7 | R23: 3009 | S23: דואר ובלדרות | V23: 3.4 | W23: 271 | X23: 8.1 | Y23: 666 | Z23: 7.5 | AA23: 2263 | AB23: 13.1 | AC23: 3536 | AD23: 2.6 | AE23: 1818 | AF23: 7.1 | AG23: 5795 | AH23: דואר ובלדרות
A24: 55-56 | B24: Accommodation and food service activities | C24: 5.4 | D24: 3994 | E24: 1.9 | F24: 1626 | G24: 6.2 | H24: 2030 | I24: 2.8 | J24: 899 | K24: 6.4 | L24: 2900 | M24: 5.2 | N24: 1990 | O24: 6.4 | P24: 1673 | Q24: 2.4 | R24: 566 | S24: שירותי אירוח ואוכל | T24: 56-55 | U24: I | V24: 4.6 | W24: 363 | X24: 1.7 | Y24: 143 | Z24: 7 | AA24: 2131 | AB24: 3.3 | AC24: 880 | AD24: 6.1 | AE24: 4282 | AF24: 2 | AG24: 1612 | AH24: שירותי אירוח ואוכל | AI24: 56-55 | AJ24: I
A25: 58-63 | B25: Information and communications | C25: 4.8 | D25: 3547 | E25: 4.3 | F25: 3646 | G25: 2.6 | H25: 865 | I25: 3.1 | J25: 986 | K25: 1.2 | L25: 542 | M25: 1.8 | N25: 693 | O25: 3.1 | P25: 805 | Q25: 3.4 | R25: 798 | S25: מידע ותקשורת | T25: 63-58 | U25: J | V25: 3.7 | W25: 289 | X25: 4.8 | Y25: 390 | Z25: 1.5 | AA25: 459 | AB25: 1.9 | AC25: 506 | AD25: 6.8 | AE25: 4741 | AF25: 5.5 | AG25: 4490 | AH25: מידע ותקשורת | AI25: 63-58 | AJ25: J
A26: 64-66 | B26: Financial and insurance activities | C26: 3.3 | D26: 2417 | E26: 2.3 | F26: 1971 | G26: 2.7 | H26: 900 | I26: 2.3 | J26: 725 | K26: 1.7 | L26: 756 | M26: 1.4 | N26: 533 | O26: 2.3 | P26: 612 | Q26: 1.6 | R26: 377 | S26: שירותים פיננסיים ושירותי ביטוח | T26: 66-64 | U26: K | V26: 1.9 | W26: 151 | X26: 1.8 | Y26: 145 | Z26: 1.7 | AA26: 506 | AB26: 1.3 | AC26: 348 | AD26: 4.7 | AE26: 3305 | AF26: 2.6 | AG26: 2100 | AH26: שירותים פיננסיים ושירותי ביטוח | AI26: 66-64 | AJ26: K
A27: 68 | B27: Real estate activities | C27: 3.1 | D27: 2310 | E27: 8.9 | F27: 7600 | G27: 2.6 | H27: 860 | I27: 8.7 | J27: 2775 | K27: 1.4 | L27: 635 | M27: 6.1 | N27: 2336 | O27: 3.4 | P27: 891 | Q27: 9.1 | R27: 2155 | S27: פעילויות בנדל"ן | T27: 68 | U27: L | V27: 2.4 | W27: 191 | X27: 5.5 | Y27: 453 | Z27: 2.6 | AA27: 787 | AB27: 9.3 | AC27: 2500 | AD27: 4.7 | AE27: 3268 | AF27: 12.3 | AG27: 9951 | AH27: פעילויות בנדל"ן | AI27: 68 | AJ27: L
A28: 69-75 | B28: Professional, scientific | S28: שירותים מקצועיים, | T28: 75-69 | U28: M | AH28: שירותים מקצועיים, | AI28: 75-69 | AJ28: M
B29: and technical activities | C29: 17 | D29: 12568 | E29: 24.4 | F29: 20901 | G29: 16 | H29: 5292 | I29: 22.5 | J29: 7149 | K29: 10.4 | L29: 4692 | M29: 15.7 | N29: 6067 | O29: 14.5 | P29: 3819 | Q29: 20.1 | R29: 4744 | S29: מדעיים וטכניים | V29: 14.4 | W29: 1133 | X29: 23.9 | Y29: 1963 | Z29: 10.6 | AA29: 3223 | AB29: 15.4 | AC29: 4142 | AD29: 23.2 | AE29: 16296 | AF29: 26 | AG29: 21115 | AH29: מדעיים וטכניים
A30: 77-82 | B30: Administrative | S30: שירותי ניהול | T30: 82-77 | U30: N | AH30: שירותי ניהול | AI30: 82-77 | AJ30: N
B31: and support service activities | C31: 4.4 | D31: 3234 | E31: 3.5 | F31: 2981 | G31: 3.8 | H31: 1246 | I31: 3.4 | J31: 1067 | K31: 3 | L31: 1339 | M31: 3 | N31: 1140 | O31: 3.7 | P31: 977 | Q31: 3.8 | R31: 900 | S31: ותמיכה | V31: 5 | W31: 393 | X31: 4.3 | Y31: 354 | Z31: 3.9 | AA31: 1197 | AB31: 3.3 | AC31: 893 | AD31: 3.8 | AE31: 2676 | AF31: 2.9 | AG31: 2337 | AH31: ותמיכה
A32: 83-84 | B32: Local, public and defence administration | S32: מינהל מקומי, ציבורי וביטחון | T32: 84-83 | U32: O | AH32: מינהל מקומי, ציבורי וביטחון | AI32: 84-83 | AJ32: O
B33: and social security | C33: .. | D33: .. | E33: .. | F33: .. | G33: 0.2 | H33: 68 | I33: 0 | J33: 0 | K33: .. | L33: .. | M33: .. | N33: .. | O33: .. | P33: .. | Q33: .. | R33: .. | S33: וביטוח לאומי | V33: 1.5 | W33: 119 | X33: 0 | Y33: 0 | Z33: 0.4 | AA33: 121 | AB33: 0 | AC33: 0 | AD33: .. | AE33: .. | AF33: .. | AG33: .. | AH33: וביטוח לאומי
A34: 85 | B34: Education | C34: 3.4 | D34: 2545 | E34: 4 | F34: 3402 | G34: 3 | H34: 984 | I34: 4 | J34: 1281 | K34: 2.3 | L34: 1018 | M34: 3.7 | N34: 1419 | O34: 6.6 | P34: 1737 | Q34: 3.5 | R34: 833 | S34: חינוך | T34: 85 | U34: P | V34: 7.3 | W34: 572 | X34: 4.4 | Y34: 360 | Z34: 2.8 | AA34: 839 | AB34: 3.3 | AC34: 883 | AD34: 2.7 | AE34: 1909 | AF34: 2.6 | AG34: 2146 | AH34: חינוך | AI34: 85 | AJ34: P
A35: 86-88 | B35: Human health and social work activities | C35: 6.1 | D35: 4507 | E35: 9.6 | F35: 8255 | G35: 6.8 | H35: 2247 | I35: 11.1 | J35: 3520 | K35: 5.5 | L35: 2462 | M35: 7.9 | N35: 3056 | O35: 7.6 | P35: 2010 | Q35: 12.5 | R35: 2962 | S35: שירותי בריאות, רווחה וסעד | T35: 88-86 | U35: Q | V35: 7.7 | W35: 605 | X35: 10.3 | Y35: 848 | Z35: 5.3 | AA35: 1599 | AB35: 8.5 | AC35: 2280 | AD35: 5.4 | AE35: 3784 | AF35: 8.5 | AG35: 6907 | AH35: שירותי בריאות, רווחה וסעד | AI35: 88-86 | AJ35: Q
A36: 90-93 | B36: Arts, entertainment and recreation | C36: 2.5 | D36: 1823 | E36: 4.2 | F36: 3640 | G36: 2.2 | H36: 713 | I36: 3.6 | J36: 1155 | K36: 2 | L36: 878 | M36: 2.8 | N36: 1073 | O36: 2.1 | P36: 540 | Q36: 3.9 | R36: 928 | S36: אמנות, בידור ופנאי | T36: 93-90 | U36: R | V36: 2.8 | W36: 221 | X36: 5.1 | Y36: 415 | Z36: 2.5 | AA36: 761 | AB36: 3.4 | AC36: 917 | AD36: 2.8 | AE36: 1955 | AF36: 7.3 | AG36: 5942 | AH36: אמנות, בידור ופנאי | AI36: 93-90 | AJ36: R
A37: 94-99 | B37: Other service activities; households as | S37: שירותים אחרים; משקי בית | T37: 99-94 | U37: S-U | AH37: שירותים אחרים; משקי בית | AI37: 99-94 | AJ37: S-U
B38: employers; extraterritorial organizations | C38: 3.9 | D38: 2915 | E38: 4.5 | F38: 3862 | G38: 3.9 | H38: 1293 | I38: 4.4 | J38: 1389 | K38: 3 | L38: 1353 | M38: 3.4 | N38: 1295 | O38: 5.9 | P38: 1566 | Q38: 3.6 | R38: 856 | S38: כמעסיקים; ארגונים חוץ-מדינתיים | V38: 5.2 | W38: 409 | X38: 4.6 | Y38: 380 | Z38: 4.1 | AA38: 1247 | AB38: 4.9 | AC38: 1326 | AD38: 4.4 | AE38: 3060 | AF38: 3.9 | AG38: 3169 | AH38: כמעסיקים; ארגונים חוץ-מדינתיים
AJ40: (1) יישובים ישראליים.
A43: מחוז | B43: מס' עסקים
...

Sheet 2015
A1: TABLE 15. BUSINESS BIRTHS AND DEATHS, BY DISTRICT AND INDUSTRY (2011 CLASSIFICATION) | AI1: לוח 15. עסקים שנולדו ועסקים שלא שרדו, לפי מחוז וענף כלכלי (סיווג 2011) (המשך)
A3: 2015
C4: ה מ ר כ ז | G4: ח י פ ה | K4: ה צ פ ו ן | O4: י ר ו ש ל י ם | U4: אזור יהודה והשומרון (2) | Y4: ה ד ר ו ם | AC4: ת ל א ב י ב
C5: C e n t r a l | G5: H a i f a | K5: N o r t h e r n | O5: J e r u s a l e m | U5: Judea and Samaria Area (2) | Y5: S o u t h e r n | AC5: T e l A v i v
C6: אחוז | G6: אחוז | K6: אחוז | O6: אחוז | U6: אחוז | Y6: אחוז | AC6: אחוז
C7: תנועות | G7: תנועות | K7: תנועות | O7: תנועות | U7: תנועות | Y7: תנועות | AC7: תנועות
C8: מסך עסקים | D8: נטו | E8: עסקים | F8: עסקים | G8: מסך עסקים | H8: נטו | I8: עסקים | J8: עסקים | K8: מסך עסקים | L8: נטו | M8: עסקים | N8: עסקים | O8: מסך עסקים | P8: נטו | Q8: עסקים | R8: עסקים | U8: מסך עסקים | V8: נטו | W8: עסקים | X8: עסקים | Y8: מסך עסקים | Z8: נטו | AA8: עסקים | AB8: עסקים | AC8: מסך עסקים | AD8: נטו | AE8: עסקים | AF8: עסקים | AG8: ענף כלכלי | AH8: ענף | AI8: סדר
C9: פעילים (1) | E9: שלא שרדו | F9: שנולדו | G9: פעילים (1) | I9: שלא שרדו | J9: שנולדו | K9: פעילים (1) | M9: שלא שרדו | N9: שנולדו | O9: פעילים (1) | Q9: שלא שרדו | R9: שנולדו | U9: פעילים (1) | W9: שלא שרדו | X9: שנולדו | Y9: פעילים (1) | AA9: שלא שרדו | AB9: שנולדו | AC9: פעילים (1) | AE9: שלא שרדו | AF9: שנולדו | AH9: ראשי | AI9: Cate-
A10: Divi- | B10: Industry | S10: ענף כלכלי | T10: ענף | AI10: gory
A11: sion | T11: ראשי | U11: Churn | V11: Net | W11: Business | X11: Business | Y11: Churn | Z11: Net | AA11: Business | AB11: Business | AC11: Churn | AD11: Net | AE11: Business | AF11: Business
U12: percentage | W12: deaths | X12: births | Y12: percentage | AA12: deaths | AB12: births | AC12: percentage | AE12: deaths | AF12: births
C13: Churn | D13: Net | E13: Business | F13: Business | G13: Churn | H13: Net | I13: Business | J13: Business | K13: Churn | L13: Net | M13: Business | N13: Business | O13: Churn | P13: Net | Q13: Business | R13: Business | U13: (1) | Y13: (1) | AC13: (1)
C14: percentage | E14: deaths | F14: births | G14: percentage | I14: deaths | J14: births | K14: percentage | M14: deaths | N14: births | O14: percentage | Q14: deaths | R14: births
C15: (1) | G15: (1) | K15: (1) | O15: (1)
B16: Total | C16: 15.5 | D16: 2964 | E16: 10032 | F16: 12996 | G16: 16.5 | H16: 1147 | I16: 4426 | J16: 5573 | K16: 17.2 | L16: 2007 | M16: 5653 | N16: 7660 | O16: 16.1 | P16: 938 | Q16: 3320 | R16: 4258 | S16: סך הכל | U16: 16.7 | V16: 479 | W16: 947 | X16: 1426 | Y16: 18 | Z16: 1402 | AA16: 4088 | AB16: 5490 | AC16: 14 | AD16: 2000 | AE16: 9181 | AF16: 11181 | AG16: סך הכל
A17: 01-04 | B17: Agriculture, forestry and fishing | C17: 9 | D17: -2 | E17: 131 | F17: 129 | G17: 9 | H17: -22 | I17: 58 | J17: 36 | K17: 7.8 | L17: 23 | M17: 222 | N17: 245 | O17: .. | P17: .. | Q17: .. | R17: .. | S17: חקלאות, ייעור ודיג | T17: 04-01 | U17: .. | V17: .. | W17: .. | X17: .. | Y17: 8.6 | Z17: 24 | AA17: 135 | AB17: 159 | AC17: 14.1 | AD17: -5 | AE17: 21 | AF17: 16 | AG17: חקלאות, ייעור ודיג | AH17: 04-01 | AI17: A
A18: 05-34 | B18: Manufacturing, mining and quarrying | C18: 10.5 | D18: -9 | E18: 321 | F18: 312 | G18: 12.4 | H18: -15 | I18: 192 | J18: 177 | K18: 14.3 | L18: 42 | M18: 286 | N18: 328 | O18: 12.5 | P18: -9 | Q18: 108 | R18: 99 | S18: תעשייה, כרייה וחציבה | T18: 34-05 | U18: 12.5 | V18: 0 | W18: 42 | X18: 42 | Y18: 12.4 | Z18: -3 | AA18: 151 | AB18: 148 | AC18: 9.8 | AD18: -78 | AE18: 333 | AF18: 255 | AG18: תעשייה, כרייה וחציבה | AH18: 34-05 | AI18: B-C
A19: 35-39 | B19: Electricity and water supply, | S19: אספקת חשמל ומים, | T19: 39-35 | AG19: אספקת חשמל ומים, | AH19: 39-35 | AI19: D-E
B20: sewerage and waste management | C20: 10.6 | D20: 12 | E20: 12 | F20: 24 | G20: 14.5 | H20: 10 | I20: 7 | J20: 17 | K20: 12.1 | L20: 10 | M20: 17 | N20: 27 | O20: .. | P20: .. | Q20: .. | R20: .. | S20: שירותי ביוב וטיפול בפסולת | U20: .. | V20: .. | W20: .. | X20: .. | Y20: 15.8 | Z20: 17 | AA20: 8 | AB20: 25 | AC20: 13.9 | AD20: -8 | AE20: 17 | AF20: 9 | AG20: שירותי ביוב וטיפול בפסולת
A21: 41-43 | B21: Construction | C21: 16 | D21: 434 | E21: 1024 | F21: 1458 | G21: 18.7 | H21: 220 | I21: 565 | J21: 785 | K21: 21.5 | L21: 607 | M21: 1068 | N21: 1675 | O21: 19.8 | P21: 239 | Q21: 328 | R21: 567 | S21: בינוי | T21: 43-41 | U21: 17.2 | V21: 45 | W21: 117 | X21: 162 | Y21: 20.7 | Z21: 288 | AA21: 577 | AB21: 865 | AC21: 14 | AD21: 169 | AE21: 543 | AF21: 712 | AG21: בינוי | AH21: 43-41 | AI21: F
A22: 45-47 | B22: Wholesale and retail trade | S22: מסחר סיטוני וקמעוני | T22: 47-45 | AG22: מסחר סיטוני וקמעוני | AH22: 47-45 | AI22: G
B23: and repair of motor vehicles | C23: 16.6 | D23: 232 | E23: 1894 | F23: 2126 | G23: 18.8 | H23: 84 | I23: 1021 | J23: 1105 | K23: 19.4 | L23: 280 | M23: 1387 | N23: 1667 | O23: 18.1 | P23: 34 | Q23: 712 | R23: 746 | S23: ותיקון כלי רכב מנועיים | U23: 18.2 | V23: 54 | W23: 149 | X23: 203 | Y23: 19.8 | Z23: 146 | AA23: 864 | AB23: 1010 | AC23: 14.8 | AD23: -13 | AE23: 1711 | AF23: 1698 | AG23: ותיקון כלי רכב מנועיים
A24: 49-53 | B24: Transportation, storage, | S24: שירותי תחבורה, אחסנה, | T24: 53-49 | AG24: שירותי תחבורה, אחסנה, | AH24: 53-49 | AI24: H
B25: postal and courier activities | C25: 14.2 | D25: 179 | E25: 610 | F25: 789 | G25: 16.9 | H25: 121 | I25: 230 | J25: 351 | K25: 16.5 | L25: 127 | M25: 366 | N25: 493 | O25: 16.3 | P25: 71 | Q25: 320 | R25: 391 | S25: דואר ובלדרות | U25: 15.9 | V25: 8 | W25: 67 | X25: 75 | Y25: 16.3 | Z25: 142 | AA25: 374 | AB25: 516 | AC25: 11.7 | AD25: 86 | AE25: 389 | AF25: 475 | AG25: דואר ובלדרות
A26: 55-56 | B26: Accommodation and food service activities | C26: 29.7 | D26: 187 | E26: 724 | F26: 911 | G26: 29 | H26: 98 | I26: 352 | J26: 450 | K26: 24.5 | L26: 90 | M26: 540 | N26: 630 | O26: 28.1 | P26: 86 | Q26: 268 | R26: 354 | S26: שירותי אירוח ואוכל | T26: 56-55 | U26: 28.1 | V26: 20 | W26: 53 | X26: 73 | Y26: 30.1 | Z26: 102 | AA26: 386 | AB26: 488 | AC26: 26.5 | AD26: 67 | AE26: 749 | AF26: 816 | AG26: שירותי אירוח ואוכל | AH26: 56-55 | AI26: I
A27: 58-63 | B27: Information and communications | C27: 20.4 | D27: 143 | E27: 630 | F27: 773 | G27: 21.7 | H27: 49 | I27: 163 | J27: 212 | K27: 23.4 | L27: 57 | M27: 110 | N27: 167 | O27: 21.7 | P27: 43 | Q27: 144 | R27: 187 | S27: מידע ותקשורת | T27: 63-58 | U27: 19.6 | V27: 33 | W27: 42 | X27: 75 | Y27: 25.4 | Z27: 27 | AA27: 96 | AB27: 123 | AC27: 20.5 | AD27: 226 | AE27: 784 | AF27: 1010 | AG27: מידע ותקשורת | AH27: 63-58 | AI27: J
A28: 64-66 | B28: Financial and insurance activities | C28: 12.6 | D28: 152 | E28: 174 | F28: 326 | G28: 12.8 | H28: 40 | I28: 79 | J28: 119 | K28: 13.3 | L28: 36 | M28: 63 | N28: 99 | O28: 11.9 | P28: 17 | Q28: 49 | R28: 66 | S28: שירותים פיננסיים ושירותי ביטוח | T28: 66-64 | U28: 10.3 | V28: 9 | W28: 9 | X28: 18 | Y28: 12.4 | Z28: 37 | AA28: 31 | AB28: 68 | AC28: 12.9 | AD28: 118 | AE28: 275 | AF28: 393 | AG28: שירותים פיננסיים ושירותי ביטוח | AH28: 66-64 | AI28: K
A29: 68 | B29: Real estate activities | C29: 16 | D29: 329 | E29: 549 | F29: 878 | G29: 16.4 | H29: 124 | I29: 209 | J29: 333 | K29: 17.5 | L29: 146 | M29: 160 | N29: 306 | O29: 14.9 | P29: 109 | Q29: 153 | R29: 262 | S29: פעילויות בנדל"ן | T29: 68 | U29: 18.5 | V29: 36 | W29: 32 | X29: 68 | Y29: 19.8 | Z29: 145 | AA29: 222 | AB29: 367 | AC29: 13.2 | AD29: 375 | AE29: 632 | AF29: 1007 | AG29: פעילויות בנדל"ן | AH29: 68 | AI29: L
A30: 69-75 | B30: Professional, scientific | S30: שירותים מקצועיים, | T30: 75-69 | AG30: שירותים מקצועיים, | AH30: 75-69 | AI30: M
B31: and technical activities | C31: 15.3 | D31: 1009 | E31: 1809 | F31: 2818 | G31: 14.5 | H31: 340 | I31: 661 | J31: 1001 | K31: 13.8 | L31: 336 | M31: 502 | N31: 838 | O31: 14.2 | P31: 247 | Q31: 442 | R31: 689 | S31: מדעיים וטכניים | U31: 17.8 | V31: 131 | W31: 179 | X31: 310 | Y31: 16.6 | Z31: 304 | AA31: 384 | AB31: 688 | AC31: 13.6 | AD31: 890 | AE31: 1942 | AF31: 2832 | AG31: מדעיים וטכניים
A32: 77-82 | B32: Administrative | S32: שירותי ניהול | T32: 82-77 | AG32: שירותי ניהול | AH32: 82-77 | AI32: N
B33: and support service activities | C33: 17.4 | D33: 75 | E33: 450 | F33: 525 | G33: 18.7 | H33: 44 | I33: 175 | J33: 219 | K33: 19.1 | L33: 21 | M33: 210 | N33: 231 | O33: 14.4 | P33: -9 | Q33: 131 | R33: 122 | S33: ותמיכה | U33: 12.2 | V33: 1 | W33: 39 | X33: 40 | Y33: 23.2 | Z33: 45 | AA33: 198 | AB33: 243 | AC33: 14.3 | AD33: 60 | AE33: 311 | AF33: 371 | AG33: ותמיכה
A34: 85 | B34: Education | C34: 12.6 | D34: 1 | E34: 346 | F34: 347 | G34: 13.2 | H34: -34 | I34: 159 | J34: 125 | K34: 14.2 | L34: 53 | M34: 132 | N34: 185 | O34: 13.8 | P34: 30 | Q34: 150 | R34: 180 | S34: חינוך | T34: 85 | U34: 17 | V34: 34 | W34: 56 | X34: 90 | Y34: 13.9 | Z34: 1 | AA34: 111 | AB34: 112 | AC34: 13.3 | AD34: -22 | AE34: 266 | AF34: 244 | AG34: חינוך | AH34: 85 | AI34: P
A35: 86-88 | B35: Human health and social work activities | C35: 10.9 | D35: 132 | E35: 583 | F35: 715 | G35: 10.8 | H35: 85 | I35: 248 | J35: 333 | K35: 12.5 | L35: 151 | M35: 234 | N35: 385 | O35: 12 | P35: 86 | Q35: 237 | R35: 323 | S35: שירותי בריאות, רווחה וסעד | T35: 88-86 | U35: 14.6 | V35: 64 | W35: 58 | X35: 122 | Y35: 12.9 | Z35: 78 | AA35: 196 | AB35: 274 | AC35: 9.4 | AD35: 111 | AE35: 418 | AF35: 529 | AG35: שירותי בריאות, רווחה וסעד | AH35: 88-86 | AI35: Q
A36: 90-93 | B36: Arts, entertainment and recreation | C36: 14.1 | D36: -4 | E36: 352 | F36: 348 | G36: 15 | H36: -5 | I36: 125 | J36: 120 | K36: 19 | L36: 16 | M36: 157 | N36: 173 | O36: 15.1 | P36: -23 | Q36: 115 | R36: 92 | S36: אמנות, בידור ופנאי | T36: 93-90 | U36: 16.2 | V36: 0 | W36: 44 | X36: 44 | Y36: 19.6 | Z36: 22 | AA36: 143 | AB36: 165 | AC36: 11 | AD36: -16 | AE36: 419 | AF36: 403 | AG36: אמנות, בידור ופנאי | AH36: 93-90 | AI36: R
A37: 94-96 | B37: Other service activities | C37: 14.9 | D37: 94 | E37: 423 | F37: 517 | G37: 14.9 | H37: 8 | I37: 182 | J37: 190 | K37: 16.6 | L37: 12 | M37: 199 | N37: 211 | O37: 13.3 | P37: 21 | Q37: 141 | R37: 162 | S37: שירותים אחרים | T37: 96-94 | U37: 16.6 | V37: 30 | W37: 40 | X37: 70 | Y37: 18.3 | Z37: 27 | AA37: 212 | AB37: 239 | AC37: 13.2 | AD37: 40 | AE37: 371 | AF37: 411 | AG37: שירותים אחרים | AH37: 96-94 | AI37: S
A39: (1) Businesses classified in industries 83-84 (Local, public and defence administration and | AI39: (1) מאוכלוסיית העסקים הפעילים הוסרו עסקים המסווגים בענפים הכלכליים הבאים: 84-83 (מינהל מקומי,
A40: social security), 97-98 (Households as employers), and 99 (Extraterritorial organizations and | AI40: ציבורי וביטחון וביטוח לאומי), 98-97 (משקי בית כמעסיקים) ו-99 (ארגונים וגופים חוץ-מדינתיים),
A41: bodies), were not included in the business birth or death population, in accordance with Eurostat | AI41: ענפים אלה לא נכללו בחישוב עסקים שנולדו ועסקים שלא שרדו, בהתאם להגדרות ה-Eurostat
A42: and OECD definitions. Therefore, they were also deducted from the active businesses population. | AI42: וה-OECD.
...

Sheet 2016 לידות
A1: TABLE 15. BUSINESS BIRTHS, BY DISTRICT AND INDUSTRY (2011 CLASSIFICATION) | Q1: לוח 15. עסקים שנולדו, לפי מחוז וענף כלכלי (סיווג 2011) | AC1: לוח 15. לידות עסקים, לפי מחוז וענף כלכלי (סיווג 2011) (המשך)
A2: 2016
D3: ה מ ר כ ז | G3: ח י פ ה | J3: ה צ פ ו ן | L3: י ר ו ש ל י ם | R3: אזור יהודה והשומרון (2) | U3: ה ד ר ו ם | X3: ת ל א ב י ב
D4: C e n t r a l | G4: H a i f a | J4: N o r t h e r n | L4: J e r u s a l e m | R4: Judea and Samaria Area (2) | U4: S o u t h e r n | X4: T e l A v i v
C5: אחוז | D5: עסקים | E5: לידות | F5: אחוז | G5: עסקים | H5: לידות | I5: אחוז | J5: עסקים | K5: לידות | L5: אחוז | M5: עסקים | N5: לידות | R5: אחוז | S5: עסקים | T5: לידות | U5: אחוז | V5: עסקים | W5: לידות | X5: אחוז | Y5: עסקים | Z5: לידות
C6: לידות | D6: פעילים (1) | E6: עסקים | F6: לידות | G6: פעילים (1) | H6: עסקים | I6: לידות | J6: פעילים (1) | K6: עסקים | L6: לידות | M6: פעילים (1) | N6: עסקים | R6: לידות | S6: פעילים (1) | T6: עסקים | U6: לידות | V6: פעילים (1) | W6: עסקים | X6: לידות | Y6: פעילים (1) | Z6: עסקים
A7: Divi- | B7: Industry | C7: מסך עסקים | F7: מסך עסקים | I7: מסך עסקים | L7: מסך עסקים | O7: ענף כלכלי | P7: ענף | Q7: סדר | R7: מסך עסקים | U7: מסך עסקים | X7: מסך עסקים | AA7: ענף כלכלי | AB7: ענף | AC7: סדר
A8: sion | C8: פעילים (1) | F8: פעילים (1) | I8: פעילים (1) | L8: פעילים (1) | P8: ראשי | Q8: Cate- | R8: פעילים (1) | U8: פעילים (1) | X8: פעילים (1) | AB8: ראשי | AC8: Cate-
AC9: gory
C10: Percentage | F10: Percentage | I10: Percentage | L10: Percentage | Q10: gory | R10: Percentage | U10: Percentage | X10: Percentage
C11: of births | F11: of births | I11: of births | L11: of births | R11: of births | U11: of births | X11: of births
C12: of total | F12: of total | I12: of total | L12: of total | R12: of total | U12: of total | X12: of total
C13: active | D13: Active | F13: active | G13: Active | I13: active | J13: Active | L13: active | M13: Active | R13: active | S13: Active | U13: active | V13: Active | X13: active | Y13: Active
C14: businesses | D14: businesses | E14: Business | F14: businesses | G14: businesses | H14: Business | I14: businesses | J14: businesses | K14: Business | L14: businesses | M14: businesses | N14: Business | R14: businesses | S14: businesses | T14: Business | U14: businesses | V14: businesses | W14: Business | X14: businesses | Y14: businesses | Z14: Business
C15: (1) | D15: (1) | E15: births | F15: (1) | G15: (1) | H15: births | I15: (1) | J15: (1) | K15: births | L15: (1) | M15: (1) | N15: births | R15: (1) | S15: (1) | T15: births | U15: (1) | V15: (1) | W15: births | X15: (1) | Y15: (1) | Z15: births
B16: Total | C16: 9.1 | D16: 154162 | E16: 14006 | F16: 9.4 | G16: 62779 | H16: 5899 | I16: 10.1 | J16: 80590 | K16: 8115 | L16: 9 | M16: 48166 | N16: 4346 | O16: סך הכל | R16: 10.3 | S16: 15063 | T16: 1558 | U16: 10.5 | V16: 55342 | W16: 5800 | X16: 7.9 | Y16: 148388 | Z16: 11709 | AA16: סך הכל
A17: 01-04 | B17: Agriculture, forestry and fishing | C17: 4.2 | D17: 2958 | E17: 125 | F17: 4.9 | G17: 1061 | H17: 52 | I17: 4.3 | J17: 6193 | K17: 264 | L17: .. | M17: .. | N17: .. | O17: חקלאות, ייעור ודיג | P17: 04-01 | Q17: A | R17: .. | S17: .. | T17: .. | U17: 5.6 | V17: 3521 | W17: 196 | X17: 5 | Y17: 262 | Z17: 13 | AA17: חקלאות, ייעור ודיג | AB17: 04-01 | AC17: A
A18: 05-34 | B18: Manufacturing, mining and quarrying | C18: 5.4 | D18: 6025 | E18: 324 | F18: 6.4 | G18: 3000 | H18: 193 | I18: 6.9 | J18: 4343 | K18: 300 | L18: 6 | M18: 1657 | N18: 100 | O18: תעשייה, כרייה וחציבה | P18: 34-05 | Q18: B-C | R18: 8.9 | S18: 696 | T18: 62 | U18: 6.5 | V18: 2425 | W18: 158 | X18: 4.8 | Y18: 5925 | Z18: 285 | AA18: תעשייה, כרייה וחציבה | AB18: 34-05 | AC18: B-C
A19: 35-39 | B19: Electricity and water supply, | O19: אספקת חשמל ומים, | P19: 39-35 | Q19: D-E | AA19: אספקת חשמל ומים, | AB19: 39-35 | AC19: D-E
B20: sewerage and waste management | C20: 8.4 | D20: 368 | E20: 31 | F20: 7.1 | G20: 170 | H20: 12 | I20: 6.1 | J20: 378 | K20: 23 | L20: .. | M20: .. | N20: .. | O20: שירותי ביוב וטיפול בפסולת | R20: .. | S20: .. | T20: .. | U20: 9.7 | V20: 237 | W20: 23 | X20: 7 | Y20: 186 | Z20: 13 | AA20: שירותי ביוב וטיפול בפסולת
A21: 41-43 | B21: Construction | C21: 10 | D21: 16357 | E21: 1635 | F21: 11.6 | G21: 7608 | H21: 880 | I21: 13.5 | J21: 13623 | K21: 1840 | L21: 13.2 | M21: 4865 | N21: 644 | O21: בינוי | P21: 43-41 | Q21: F | R21: 10.5 | S21: 1699 | T21: 178 | U21: 13.8 | V21: 7550 | W21: 1044 | X21: 8.3 | Y21: 9255 | Z21: 765 | AA21: בינוי | AB21: 43-41 | AC21: F
A22: 45-47 | B22: Wholesale and retail trade | O22: מסחר סיטוני וקמעוני | P22: 47-45 | Q22: G | AA22: מסחר סיטוני וקמעוני | AB22: 47-45 | AC22: G
B23: and repair of motor vehicles | C23: 8.7 | D23: 24585 | E23: 2148 | F23: 9.5 | G23: 11380 | H23: 1077 | I23: 10.6 | J23: 16013 | K23: 1690 | L23: 8.6 | M23: 8046 | N23: 688 | O23: ותיקון כלי רכב מנועיים | R23: 10.8 | S23: 2026 | T23: 218 | U23: 10 | V23: 9545 | W23: 953 | X23: 7.7 | Y23: 23084 | Z23: 1773 | AA23: ותיקון כלי רכב מנועיים
A24: 49-53 | B24: Transportation, storage, | O24: שירותי תחבורה, אחסנה, | P24: 53-49 | Q24: H | AA24: שירותי תחבורה, אחסנה, | AB24: 53-49 | AC24: H
B25: postal and courier activities | C25: 9.3 | D25: 10235 | E25: 948 | F25: 9.7 | G25: 3559 | H25: 346 | I25: 8.7 | J25: 5247 | K25: 456 | L25: 8.5 | M25: 4422 | N25: 374 | O25: דואר ובלדרות | R25: 8.2 | S25: 898 | T25: 74 | U25: 9.4 | V25: 5609 | W25: 528 | X25: 6.4 | Y25: 7492 | Z25: 477 | AA25: דואר ובלדרות
A26: 55-56 | B26: Accommodation and food service activities | C26: 15.1 | D26: 5635 | E26: 853 | F26: 15.3 | G26: 2844 | H26: 436 | I26: 14.2 | J26: 4899 | K26: 696 | L26: 13.6 | M26: 2262 | N26: 308 | O26: שירותי אירוח ואוכל | P26: 56-55 | Q26: I | R26: 14.4 | S26: 472 | T26: 68 | U26: 15.8 | V26: 3003 | W26: 475 | X26: 13.4 | Y26: 5967 | Z26: 802 | AA26: שירותי אירוח ואוכל | AB26: 56-55 | AC26: I
A27: 58-63 | B27: Information and communications | C27: 10.8 | D27: 7030 | E27: 758 | F27: 11.1 | G27: 1798 | H27: 199 | I27: 13.8 | J27: 1264 | K27: 174 | L27: 10.5 | M27: 1567 | N27: 165 | O27: מידע ותקשורת | P27: 63-58 | Q27: J | R27: 11.1 | S27: 639 | T27: 71 | U27: 16.7 | V27: 935 | W27: 156 | X27: 11.4 | Y27: 9048 | Z27: 1030 | AA27: מידע ותקשורת | AB27: 63-58 | AC27: J
A28: 64-66 | B28: Financial and insurance activities | C28: 8.6 | D28: 4179 | E28: 359 | F28: 7.2 | G28: 1574 | H28: 114 | I28: 7.6 | J28: 1254 | K28: 95 | L28: 5.1 | M28: 955 | N28: 49 | O28: שירותים פיננסיים ושירותי ביטוח | P28: 66-64 | Q28: K | R28: 10.6 | S28: 284 | T28: 30 | U28: 9 | V28: 841 | W28: 76 | X28: 7.6 | Y28: 5269 | Z28: 401 | AA28: שירותים פיננסיים ושירותי ביטוח | AB28: 66-64 | AC28: K
A29: 68 | B29: Real estate activities | C29: 10.5 | D29: 9456 | E29: 993 | F29: 11 | G29: 3496 | H29: 383 | I29: 11.6 | J29: 2859 | K29: 333 | L29: 10.1 | M29: 2917 | N29: 295 | O29: פעילויות בנדל"ן | P29: 68 | Q29: L | R29: 12.7 | S29: 590 | T29: 75 | U29: 11.5 | V29: 3165 | W29: 365 | X29: 8 | Y29: 12887 | Z29: 1036 | AA29: פעילויות בנדל"ן | AB29: 68 | AC29: L
A30: 69-75 | B30: Professional, scientific | O30: שירותים מקצועיים, | P30: 75-69 | Q30: M | AA30: שירותים מקצועיים, | AB30: 75-69 | AC30: M
B31: and technical activities | C31: 9.8 | D31: 31762 | E31: 3098 | F31: 8.7 | G31: 11941 | H31: 1044 | I31: 9.2 | J31: 10237 | K31: 937 | L31: 8.6 | M31: 8266 | N31: 707 | O31: מדעיים וטכניים | R31: 11.4 | S31: 2939 | T31: 336 | U31: 10.9 | V31: 6927 | W31: 758 | X31: 8.2 | Y31: 36179 | Z31: 2950 | AA31: מדעיים וטכניים
A32: 77-82 | B32: Administrative | O32: שירותי ניהול | P32: 82-77 | Q32: N | AA32: שירותי ניהול | AB32: 82-77 | AC32: N
B33: and support service activities | C33: 10.2 | D33: 5898 | E33: 599 | F33: 11.2 | G33: 2238 | H33: 251 | I33: 11 | J33: 2373 | K33: 261 | L33: 8.7 | M33: 1796 | N33: 156 | O33: ותמיכה | R33: 9.7 | S33: 701 | T33: 68 | U33: 13.6 | V33: 2008 | W33: 274 | X33: 8.1 | Y33: 4885 | Z33: 397 | AA33: ותמיכה
A34: 85 | B34: Education | C34: 7 | D34: 5677 | E34: 395 | F34: 7 | G34: 2218 | H34: 155 | I34: 7.7 | J34: 2320 | K34: 179 | L34: 7.3 | M34: 2442 | N34: 178 | O34: חינוך | P34: 85 | Q34: P | R34: 7.2 | S34: 887 | T34: 64 | U34: 9 | V34: 1675 | W34: 150 | X34: 6.6 | Y34: 3925 | Z34: 260 | AA34: חינוך | AB34: 85 | AC34: P
A35: 86-88 | B35: Human health and social work activities | C35: 6.7 | D35: 12273 | E35: 819 | F35: 7 | G35: 5573 | H35: 390 | I35: 8 | J35: 5169 | K35: 412 | L35: 7.8 | M35: 4809 | N35: 377 | O35: שירותי בריאות, רווחה וסעד | P35: 88-86 | Q35: Q | R35: 11.7 | S35: 1357 | T35: 159 | U35: 7.4 | V35: 3759 | W35: 277 | X35: 6.1 | Y35: 10370 | Z35: 635 | AA35: שירותי בריאות, רווחה וסעד | AB35: 88-86 | AC35: Q
A36: 90-93 | B36: Arts, entertainment and recreation | C36: 8 | D36: 5191 | E36: 413 | F36: 8.7 | G36: 1729 | H36: 150 | I36: 11 | J36: 1838 | K36: 202 | L36: 7.4 | M36: 1399 | N36: 104 | O36: אמנות, בידור ופנאי | P36: 93-90 | Q36: R | R36: 8.7 | S36: 562 | T36: 49 | U36: 10 | V36: 1638 | W36: 163 | X36: 5.9 | Y36: 7646 | Z36: 453 | AA36: אמנות, בידור ופנאי | AB36: 93-90 | AC36: R
A37: 94-96 | B37: Other service activities | C37: 7.8 | D37: 6533 | E37: 508 | F37: 8.4 | G37: 2590 | H37: 217 | I37: 9.8 | J37: 2580 | K37: 253 | L37: 7.6 | M37: 2331 | N37: 177 | O37: שירותים אחרים | P37: 96-94 | Q37: S | R37: 10.7 | S37: 729 | T37: 78 | U37: 8.1 | V37: 2504 | W37: 204 | X37: 7 | Y37: 6008 | Z37: 419 | AA37: שירותים אחרים | AB37: 96-94 | AC37: S
A39: (1) Businesses classified in industries 83-84 (Local, public and defence administration and | AC39: (1) מאוכלוסיית העסקים הפעילים הוסרו עסקים המסווגים בענפים הכלכליים הבאים: 84-83 (מינהל מקומי,
A40: social security), 97-98 (Households as employers), and 99 (Extraterritorial organizations and | AC40: ציבורי וביטחון וביטוח לאומי), 98-97 (משקי בית כמעסיקים) ו-99 (ארגונים וגופים חוץ-מדינתיים),
A41: bodies), were not included in the business birth or death population, in accordance with Eurostat | AC41: ענפים אלה לא נכללו בחישוב לידות עסקים ועסקים שלא שרדו, בהתאם להגדרות ה-Eurostat
...

Sheet 2017 לידות
A1: TABLE 15. BUSINESS BIRTHS, BY DISTRICT AND INDUSTRY (2011 CLASSIFICATION) | Q1: לוח 15. עסקים שנולדו, לפי מחוז וענף כלכלי (סיווג 2011) | AC1: לוח 15. לידות עסקים, לפי מחוז וענף כלכלי (סיווג 2011) (המשך)
A2: 2017
D3: ה מ ר כ ז | G3: ח י פ ה | J3: ה צ פ ו ן | L3: י ר ו ש ל י ם | R3: אזור יהודה והשומרון (2) | U3: ה ד ר ו ם | X3: ת ל א ב י ב
D4: C e n t r a l | G4: H a i f a | J4: N o r t h e r n | L4: J e r u s a l e m | R4: Judea and Samaria Area (2) | U4: S o u t h e r n | X4: T e l A v i v
C5: אחוז | D5: עסקים | E5: לידות | F5: אחוז | G5: עסקים | H5: לידות | I5: אחוז | J5: עסקים | K5: לידות | L5: אחוז | M5: עסקים | N5: לידות | R5: אחוז | S5: עסקים | T5: לידות | U5: אחוז | V5: עסקים | W5: לידות | X5: אחוז | Y5: עסקים | Z5: לידות
C6: לידות | D6: פעילים (1) | E6: עסקים | F6: לידות | G6: פעילים (1) | H6: עסקים | I6: לידות | J6: פעילים (1) | K6: עסקים | L6: לידות | M6: פעילים (1) | N6: עסקים | R6: לידות | S6: פעילים (1) | T6: עסקים | U6: לידות | V6: פעילים (1) | W6: עסקים | X6: לידות | Y6: פעילים (1) | Z6: עסקים
A7: Divi- | B7: Industry | C7: מסך עסקים | F7: מסך עסקים | I7: מסך עסקים | L7: מסך עסקים | O7: ענף כלכלי | P7: ענף | Q7: סדר | R7: מסך עסקים | U7: מסך עסקים | X7: מסך עסקים | AA7: ענף כלכלי | AB7: ענף | AC7: סדר
A8: sion | C8: פעילים (1) | F8: פעילים (1) | I8: פעילים (1) | L8: פעילים (1) | P8: ראשי | Q8: Cate- | R8: פעילים (1) | U8: פעילים (1) | X8: פעילים (1) | AB8: ראשי | AC8: Cate-
C9: Percentage | F9: Percentage | I9: Percentage | L9: Percentage | Q9: gory | R9: Percentage | U9: Percentage | X9: Percentage | AC9: gory
C10: of births | F10: of births | I10: of births | L10: of births | R10: of births | U10: of births | X10: of births
C11: of total | F11: of total | I11: of total | L11: of total | R11: of total | U11: of total | X11: of total
C12: active | D12: Active | F12: active | G12: Active | I12: active | J12: Active | L12: active | M12: Active | R12: active | S12: Active | U12: active | V12: Active | X12: active | Y12: Active
C13: businesses | D13: businesses | E13: Business | F13: businesses | G13: businesses | H13: Business | I13: businesses | J13: businesses | K13: Business | L13: businesses | M13: businesses | N13: Business | R13: businesses | S13: businesses | T13: Business | U13: businesses | V13: businesses | W13: Business | X13: businesses | Y13: businesses | Z13: Business
C14: (1) | D14: (1) | E14: births | F14: (1) | G14: (1) | H14: births | I14: (1) | J14: (1) | K14: births | L14: (1) | M14: (1) | N14: births | R14: (1) | S14: (1) | T14: births | U14: (1) | V14: (1) | W14: births | X14: (1) | Y14: (1) | Z14: births
