Workbook
Name PRINT_AREA_MI: #REF!
Name מחוזות: 'ריכוז נתונים'!$P$2:$R$259

Sheet 2015 פעילים
A1: TABLE 5. ACTIVE BUSINESSES, BY DISTRICT AND INDUSTRY (2011 CLASSIFICATION) | U1: לוח 5. עסקים פעילים, לפי מחוז וענף כלכלי (סיווג 2011) | AJ1: לוח 5. עסקים פעילים, לפי מחוז וענף כלכלי (סיווג 2011) (המשך)
A2: 2015
C3: ה מ ר כ ז | G3: ח י פ ה | K3: ה צ פ ו ן | O3: י ר ו ש ל י ם | V3: אזור יהודה והשומרון (1) | Z3: ה ד ר ו ם | AD3: ת ל א ב י ב
C4: C e n t r a l | G4: H a i f a | K4: N o r t h e r n | O4: J e r u s a l e m | V4: Judea and Samaria Area (1) | Z4: S o u t h e r n | AD4: T e l A v i v
C5: מעסיקים | E5: עצמאים וחברות שאינם | G5: מעסיקים | I5: עצמאים וחברות שאינם | K5: מעסיקים | M5: עצמאים וחברות שאינם | O5: מעסיקים | Q5: עצמאים וחברות שאינם | V5: מעסיקים | X5: עצמאים וחברות שאינם | Z5: מעסיקים | AB5: עצמאים וחברות שאינם | AD5: מעסיקים | AF5: עצמאים וחברות שאינם
E6: מעסיקים שכירים | I6: מעסיקים שכירים | M6: מעסיקים שכירים | Q6: מעסיקים שכירים | X6: מעסיקים שכירים | AB6: מעסיקים שכירים | AF6: מעסיקים שכירים
C7: Employers | E7: Self-employed | G7: Employers | I7: Self-employed | K7: Employers | M7: Self-employed | O7: Employers | Q7: Self-employed | V7: Employers | X7: Self-employed | Z7: Employers | AB7: Self-employed | AD7: Employers | AF7: Self-employed
A8: Divi- | B8: Industry | E8: and companies | I8: and companies | M8: and companies | Q8: and companies | S8: ענף כלכלי | T8: ענף | U8: סדר | X8: and companies | AB8: and companies | AF8: and companies | AH8: ענף כלכלי | AI8: ענף | AJ8: סדר
A9: sion | E9: without employees | I9: without employees | M9: without employees | Q9: without employees | T9: ראשי | U9: Cate- | X9: without employees | AB9: without employees | AF9: without employees | AI9: ראשי | AJ9: Cate-
C10: אחוזים | D10: מספרים | E10: אחוזים | F10: מספרים | G10: אחוזים | H10: מספרים | I10: אחוזים | J10: מספרים | K10: אחוזים | L10: מספרים | M10: אחוזים | N10: מספרים | O10: אחוזים | P10: מספרים | Q10: אחוזים | R10: מספרים | U10: gory | V10: אחוזים | W10: מספרים | X10: אחוזים | Y10: מספרים | Z10: אחוזים | AA10: מספרים | AB10: אחוזים | AC10: מספרים | AD10: אחוזים | AE10: מספרים | AF10: אחוזים | AG10: מספרים | AJ10: gory
D11: מוחלטים | F11: מוחלטים | H11: מוחלטים | J11: מוחלטים | L11: מוחלטים | N11: מוחלטים | P11: מוחלטים | R11: מוחלטים | W11: מוחלטים | Y11: מוחלטים | AA11: מוחלטים | AC11: מוחלטים | AE11: מוחלטים | AG11: מוחלטים
C12: Percent- | D12: Absolute | E12: Percent- | F12: Absolute | G12: Percent- | H12: Absolute | I12: Percent- | J12: Absolute | K12: Percent- | L12: Absolute | M12: Percent- | N12: Absolute | O12: Percent- | P12: Absolute | Q12: Percent- | R12: Absolute | V12: Percent- | W12: Absolute | X12: Percent- | Y12: Absolute | Z12: Percent- | AA12: Absolute | AB12: Percent- | AC12: Absolute | AD12: Percent- | AE12: Absolute | AF12: Percent- | AG12: Absolute
C13: ages | D13: numbers | E13: ages | F13: numbers | G13: ages | H13: numbers | I13: ages | J13: numbers | K13: ages | L13: numbers | M13: ages | N13: numbers | O13: ages | P13: numbers | Q13: ages | R13: numbers | V13: ages | W13: numbers | X13: ages | Y13: numbers | Z13: ages | AA13: numbers | AB13: ages | AC13: numbers | AD13: ages | AE13: numbers | AF13: ages | AG13: numbers
B14: Total | C14: 100 | D14: 69569 | E14: 100 | F14: 79369 | G14: 100 | H14: 31015 | I14: 100 | J14: 29798 | K14: 100 | L14: 40994 | M14: 100 | N14: 36828 | O14: 100 | P14: 24463 | Q14: 100 | R14: 22600 | S14: סך הכל | V14: 100 | W14: 6942 | X14: 100 | Y14: 7397 | Z14: 100 | AA14: 28274 | AB14: 100 | AC14: 24987 | AD14: 100 | AE14: 68218 | AF14: 100 | AG14: 77135 | AH14: סך הכל
A15: 01-04 | B15: Agriculture, forestry and fishing | C15: 2.3 | D15: 1592 | E15: 1.7 | F15: 1312 | G15: 1.9 | H15: 588 | I15: 1.5 | J15: 452 | K15: 6.6 | L15: 2715 | M15: 8.9 | N15: 3270 | O15: 0.7 | P15: 173 | Q15: 1 | R15: 217 | S15: חקלאות, ייעור ודיג | T15: 04-01 | U15: A | V15: 4.8 | W15: 330 | X15: 2.5 | Y15: 183 | Z15: 7.4 | AA15: 2095 | AB15: 5.4 | AC15: 1339 | AD15: 0.2 | AE15: 140 | AF15: 0.2 | AG15: 123 | AH15: חקלאות, ייעור ודיג | AI15: 04-01 | AJ15: A
A16: 05-34 | B16: Manufacturing, mining and quarrying | C16: 5.5 | D16: 3848 | E16: 2.7 | F16: 2170 | G16: 6.3 | H16: 1942 | I16: 3.5 | J16: 1045 | K16: 7 | L16: 2872 | M16: 3.9 | N16: 1425 | O16: 4.2 | P16: 1024 | Q16: 2.8 | R16: 631 | S16: תעשייה, כרייה וחציבה | T16: 34-05 | U16: B-C | V16: 6.9 | W16: 476 | X16: 2.7 | Y16: 198 | Z16: 5.7 | AA16: 1611 | AB16: 3.2 | AC16: 800 | AD16: 5.4 | AE16: 3693 | AF16: 3 | AG16: 2292 | AH16: תעשייה, כרייה וחציבה | AI16: 34-05 | AJ16: B-C
A17: 35-39 | B17: Electricity and water supply, | S17: אספקת חשמל ומים, | T17: 39-35 | U17: D-E | AH17: אספקת חשמל ומים, | AI17: 39-35 | AJ17: D-E
B18: sewerage and waste management | C18: .. | D18: .. | E18: .. | F18: .. | G18: 0.4 | H18: 109 | I18: 0.2 | J18: 57 | K18: .. | L18: .. | M18: .. | N18: .. | O18: .. | P18: .. | Q18: .. | R18: .. | S18: שירותי ביוב וטיפול בפסולת | V18: 0.3 | W18: 18 | X18: 0.4 | Y18: 31 | Z18: .. | AA18: .. | AB18: .. | AC18: .. | AD18: .. | AE18: .. | AF18: .. | AG18: .. | AH18: שירותי ביוב וטיפול בפסולת
A19: 41-43 | B19: Construction | C19: 12.4 | D19: 8606 | E19: 8.8 | F19: 6945 | G19: 15.2 | H19: 4701 | I19: 8.5 | J19: 2537 | K19: 21.8 | L19: 8924 | M19: 10.4 | N19: 3822 | O19: 12 | P19: 2939 | Q19: 7 | R19: 1585 | S19: בינוי | T19: 43-41 | U19: F | V19: 13.3 | W19: 922 | X19: 9.4 | Y19: 698 | Z19: 16.1 | AA19: 4547 | AB19: 9.7 | AC19: 2432 | AD19: 7 | AE19: 4793 | AF19: 5.4 | AG19: 4179 | AH19: בינוי | AI19: 43-41 | AJ19: F
A20: 45-47 | B20: Wholesale and retail trade | S20: מסחר סיטוני וקמעוני | T20: 47-45 | U20: G | AH20: מסחר סיטוני וקמעוני | AI20: 47-45 | AJ20: G
B21: and repair of motor vehicles | C21: 21.5 | D21: 14950 | E21: 11.7 | F21: 9310 | G21: 21.8 | H21: 6774 | I21: 15.2 | J21: 4535 | K21: 20.9 | L21: 8580 | M21: 19.3 | N21: 7126 | O21: 20.7 | P21: 5052 | Q21: 13.3 | R21: 2996 | S21: ותיקון כלי רכב מנועיים | V21: 16.6 | W21: 1152 | X21: 10.6 | Y21: 785 | Z21: 20.9 | AA21: 5911 | AB21: 14.3 | AC21: 3577 | AD21: 21.1 | AE21: 14370 | AF21: 11.1 | AG21: 8592 | AH21: ותיקון כלי רכב מנועיים
A22: 49-53 | B22: Transportation, storage, | S22: שירותי תחבורה, אחסנה, | T22: 53-49 | U22: H | AH22: שירותי תחבורה, אחסנה, | AI22: 53-49 | AJ22: H
B23: postal and courier activities | C23: 4.6 | D23: 3166 | E23: 8.5 | F23: 6718 | G23: 4.6 | H23: 1432 | I23: 6.7 | J23: 2009 | K23: 6 | L23: 2471 | M23: 7.4 | N23: 2731 | O23: 5.9 | P23: 1448 | Q23: 12.9 | R23: 2923 | S23: דואר ובלדרות | V23: 3.4 | W23: 235 | X23: 8.9 | Y23: 659 | Z23: 7.4 | AA23: 2105 | AB23: 13.4 | AC23: 3340 | AD23: 2.6 | AE23: 1777 | AF23: 7.3 | AG23: 5624 | AH23: דואר ובלדרות
A24: 55-56 | B24: Accommodation and food service activities | C24: 5.5 | D24: 3804 | E24: 2.1 | F24: 1706 | G24: 6 | H24: 1874 | I24: 3 | J24: 892 | K24: 6.5 | L24: 2649 | M24: 5.8 | N24: 2125 | O24: 6.7 | P24: 1636 | Q24: 2.6 | R24: 580 | S24: שירותי אירוח ואוכל | T24: 56-55 | U24: I | V24: 4.4 | W24: 305 | X24: 1.9 | Y24: 144 | Z24: 7.2 | AA24: 2022 | AB24: 3.5 | AC24: 877 | AD24: 6.2 | AE24: 4201 | AF24: 2.2 | AG24: 1706 | AH24: שירותי אירוח ואוכל | AI24: 56-55 | AJ24: I
A25: 58-63 | B25: Information and communications | C25: 4.8 | D25: 3351 | E25: 4.4 | F25: 3523 | G25: 2.7 | H25: 831 | I25: 3 | J25: 895 | K25: 1.2 | L25: 509 | M25: 1.8 | N25: 675 | O25: 3.1 | P25: 749 | Q25: 3.4 | R25: 774 | S25: מידע ותקשורת | T25: 63-58 | U25: J | V25: 3.7 | W25: 255 | X25: 4.6 | Y25: 343 | Z25: 1.4 | AA25: 396 | AB25: 1.9 | AC25: 465 | AD25: 6.4 | AE25: 4349 | AF25: 5.7 | AG25: 4403 | AH25: מידע ותקשורת | AI25: 63-58 | AJ25: J
A26: 64-66 | B26: Financial and insurance activities | C26: 3.1 | D26: 2165 | E26: 2.3 | F26: 1804 | G26: 2.9 | H26: 885 | I26: 2.2 | J26: 667 | K26: 1.7 | L26: 695 | M26: 1.4 | N26: 526 | O26: 2.5 | P26: 618 | Q26: 1.5 | R26: 349 | S26: שירותים פיננסיים ושירותי ביטוח | T26: 66-64 | U26: K | V26: 2 | W26: 137 | X26: 1.7 | Y26: 125 | Z26: 1.7 | AA26: 474 | AB26: 1.3 | AC26: 327 | AD26: 4.7 | AE26: 3215 | AF26: 2.5 | AG26: 1964 | AH26: שירותים פיננסיים ושירותי ביטוח | AI26: 66-64 | AJ26: K
A27: 68 | B27: Real estate activities | C27: 2.9 | D27: 2039 | E27: 8.7 | F27: 6880 | G27: 2.5 | H27: 787 | I27: 8.5 | J27: 2520 | K27: 1.4 | L27: 564 | M27: 5.7 | N27: 2100 | O27: 3.2 | P27: 771 | Q27: 8.9 | R27: 2006 | S27: פעילויות בנדל"ן | T27: 68 | U27: L | V27: 2.5 | W27: 171 | X27: 5 | Y27: 369 | Z27: 2.6 | AA27: 726 | AB27: 9 | AC27: 2250 | AD27: 4.4 | AE27: 2999 | AF27: 12.2 | AG27: 9411 | AH27: פעילויות בנדל"ן | AI27: 68 | AJ27: L
A28: 69-75 | B28: Professional, scientific | S28: שירותים מקצועיים, | T28: 75-69 | U28: M | AH28: שירותים מקצועיים, | AI28: 75-69 | AJ28: M
B29: and technical activities | C29: 16.8 | D29: 11657 | E29: 23.4 | F29: 18543 | G29: 16 | H29: 4966 | I29: 21.7 | J29: 6481 | K29: 10.3 | L29: 4222 | M29: 14.9 | N29: 5478 | O29: 14.5 | P29: 3543 | Q29: 19.6 | R29: 4434 | S29: מדעיים וטכניים | V29: 13.9 | W29: 962 | X29: 24.1 | Y29: 1780 | Z29: 10.4 | AA29: 2933 | AB29: 14.2 | AC29: 3540 | AD29: 23 | AE29: 15659 | AF29: 25.2 | AG29: 19474 | AH29: מדעיים וטכניים
A30: 77-82 | B30: Administrative | S30: שירותי ניהול | T30: 82-77 | U30: N | AH30: שירותי ניהול | AI30: 82-77 | AJ30: N
B31: and support service activities | C31: 4.2 | D31: 2946 | E31: 3.3 | F31: 2649 | G31: 3.7 | H31: 1148 | I31: 3.2 | J31: 964 | K31: 3 | L31: 1233 | M31: 2.9 | N31: 1075 | O31: 3.7 | P31: 905 | Q31: 3.8 | R31: 848 | S31: ותמיכה | V31: 4.5 | W31: 314 | X31: 4.5 | Y31: 331 | Z31: 3.9 | AA31: 1100 | AB31: 3.2 | AC31: 797 | AD31: 3.8 | AE31: 2578 | AF31: 2.9 | AG31: 2200 | AH31: ותמיכה
A32: 83-84 | B32: Local, public and defence administration | S32: מינהל מקומי, ציבורי וביטחון | T32: 84-83 | U32: O | AH32: מינהל מקומי, ציבורי וביטחון | AI32: 84-83 | AJ32: O
B33: and social security | C33: .. | D33: .. | E33: .. | F33: .. | G33: 0.2 | H33: 70 | I33: 0 | J33: 0 | K33: .. | L33: .. | M33: .. | N33: .. | O33: .. | P33: .. | Q33: .. | R33: .. | S33: וביטוח לאומי | V33: 1.6 | W33: 114 | X33: 0 | Y33: 0 | Z33: .. | AA33: .. | AB33: .. | AC33: .. | AD33: .. | AE33: .. | AF33: .. | AG33: .. | AH33: וביטוח לאומי
A34: 85 | B34: Education | C34: 3.4 | D34: 2377 | E34: 3.9 | F34: 3102 | G34: 3 | H34: 942 | I34: 4.1 | J34: 1214 | K34: 2.2 | L34: 897 | M34: 3.6 | N34: 1335 | O34: 6.6 | P34: 1620 | Q34: 3.4 | R34: 768 | S34: חינוך | T34: 85 | U34: P | V34: 7.7 | W34: 533 | X34: 4.4 | Y34: 328 | Z34: 2.8 | AA34: 784 | AB34: 3.3 | AC34: 815 | AD34: 2.7 | AE34: 1825 | AF34: 2.6 | AG34: 2002 | AH34: חינוך | AI34: 85 | AJ34: P
A35: 86-88 | B35: Human health and social work activities | C35: 6.1 | D35: 4268 | E35: 9.6 | F35: 7651 | G35: 6.8 | H35: 2118 | I35: 10.9 | J35: 3248 | K35: 5.4 | L35: 2213 | M35: 7.5 | N35: 2750 | O35: 7.6 | P35: 1861 | Q35: 12.3 | R35: 2790 | S35: שירותי בריאות, רווחה וסעד | T35: 88-86 | U35: Q | V35: 7.1 | W35: 490 | X35: 10.1 | Y35: 745 | Z35: 5.2 | AA35: 1479 | AB35: 8.6 | AC35: 2155 | AD35: 5.4 | AE35: 3685 | AF35: 8.3 | AG35: 6427 | AH35: שירותי בריאות, רווחה וסעד | AI35: 88-86 | AJ35: Q
A36: 90-93 | B36: Arts, entertainment and recreation | C36: 2.4 | D36: 1668 | E36: 4.2 | F36: 3300 | G36: 2 | H36: 632 | I36: 3.4 | J36: 1005 | K36: 1.9 | L36: 760 | M36: 2.7 | N36: 976 | O36: 2.1 | P36: 510 | Q36: 3.8 | R36: 858 | S36: אמנות, בידור ופנאי | T36: 93-90 | U36: R | V36: 2.6 | W36: 183 | X36: 4.9 | Y36: 361 | Z36: 2.4 | AA36: 689 | AB36: 3.5 | AC36: 880 | AD36: 2.6 | AE36: 1801 | AF36: 7.4 | AG36: 5683 | AH36: אמנות, בידור ופנאי | AI36: 93-90 | AJ36: R
A37: 94-99 | B37: Other service activities; households as | S37: שירותים אחרים; משקי בית | T37: 99-94 | U37: S-U | AH37: שירותים אחרים; משקי בית | AI37: 99-94 | AJ37: S-U
B38: employers; extraterritorial organizations | C38: 3.9 | D38: 2693 | E38: 4.6 | F38: 3632 | G38: 3.9 | H38: 1216 | I38: 4.3 | J38: 1277 | K38: 3 | L38: 1244 | M38: 3.3 | N38: 1232 | O38: 6.1 | P38: 1482 | Q38: 3.6 | R38: 816 | S38: כמעסיקים; ארגונים חוץ-מדינתיים | V38: 5 | W38: 345 | X38: 4.3 | Y38: 317 | Z38: 4.2 | AA38: 1188 | AB38: 5.1 | AC38: 1277 | AD38: 4.4 | AE38: 3012 | AF38: 3.8 | AG38: 2969 | AH38: כמעסיקים; ארגונים חוץ-מדינתיים
V40: (1) Israeli localities. | AJ40: (1) יישובים ישראליים.

Sheet 2016 פעילים
A1: TABLE 5. ACTIVE BUSINESSES, BY DISTRICT AND INDUSTRY (2011 CLASSIFICATION) | U1: לוח 5. עסקים פעילים, לפי מחוז וענף כלכלי (סיווג 2011) | AJ1: לוח 5. עסקים פעילים, לפי מחוז וענף כלכלי (סיווג 2011) (המשך)
A2: 2016
C3: ה מ ר כ ז | G3: ח י פ ה | K3: ה צ פ ו ן | O3: י ר ו ש ל י ם | V3: אזור יהודה והשומרון (1) | Z3: ה ד ר ו ם | AD3: ת ל א ב י ב
C4: C e n t r a l | G4: H a i f a | K4: N o r t h e r n | O4: J e r u s a l e m | V4: Judea and Samaria Area (1) | Z4: S o u t h e r n | AD4: T e l A v i v
C5: מעסיקים | E5: עצמאים וחברות שאינם | G5: מעסיקים | I5: עצמאים וחברות שאינם | K5: מעסיקים | M5: עצמאים וחברות שאינם | O5: מעסיקים | Q5: עצמאים וחברות שאינם | V5: מעסיקים | X5: עצמאים וחברות שאינם | Z5: מעסיקים | AB5: עצמאים וחברות שאינם | AD5: מעסיקים | AF5: עצמאים וחברות שאינם
E6: מעסיקים שכירים | I6: מעסיקים שכירים | M6: מעסיקים שכירים | Q6: מעסיקים שכירים | X6: מעסיקים שכירים | AB6: מעסיקים שכירים | AF6: מעסיקים שכירים
C7: Employers | E7: Self-employed | G7: Employers | I7: Self-employed | K7: Employers | M7: Self-employed | O7: Employers | Q7: Self-employed | V7: Employers | X7: Self-employed | Z7: Employers | AB7: Self-employed | AD7: Employers | AF7: Self-employed
A8: Divi- | B8: Industry | E8: and companies | I8: and companies | M8: and companies | Q8: and companies | S8: ענף כלכלי | T8: ענף | U8: סדר | X8: and companies | AB8: and companies | AF8: and companies | AH8: ענף כלכלי | AI8: ענף | AJ8: סדר
A9: sion | E9: without employees | I9: without employees | M9: without employees | Q9: without employees | T9: ראשי | U9: Cate- | X9: without employees | AB9: without employees | AF9: without employees | AI9: ראשי | AJ9: Cate-
C10: אחוזים | D10: מספרים | E10: אחוזים | F10: מספרים | G10: אחוזים | H10: מספרים | I10: אחוזים | J10: מספרים | K10: אחוזים | L10: מספרים | M10: אחוזים | N10: מספרים | O10: אחוזים | P10: מספרים | Q10: אחוזים | R10: מספרים | U10: gory | V10: אחוזים | W10: מספרים | X10: אחוזים | Y10: מספרים | Z10: אחוזים | AA10: מספרים | AB10: אחוזים | AC10: מספרים | AD10: אחוזים | AE10: מספרים | AF10: אחוזים | AG10: מספרים | AJ10: gory
D11: מוחלטים | F11: מוחלטים | H11: מוחלטים | J11: מוחלטים | L11: מוחלטים | N11: מוחלטים | P11: מוחלטים | R11: מוחלטים | W11: מוחלטים | Y11: מוחלטים | AA11: מוחלטים | AC11: מוחלטים | AE11: מוחלטים | AG11: מוחלטים
C12: Percent- | D12: Absolute | E12: Percent- | F12: Absolute | G12: Percent- | H12: Absolute | I12: Percent- | J12: Absolute | K12: Percent- | L12: Absolute | M12: Percent- | N12: Absolute | O12: Percent- | P12: Absolute | Q12: Percent- | R12: Absolute | V12: Percent- | W12: Absolute | X12: Percent- | Y12: Absolute | Z12: Percent- | AA12: Absolute | AB12: Percent- | AC12: Absolute | AD12: Percent- | AE12: Absolute | AF12: Percent- | AG12: Absolute
C13: ages | D13: numbers | E13: ages | F13: numbers | G13: ages | H13: numbers | I13: ages | J13: numbers | K13: ages | L13: numbers | M13: ages | N13: numbers | O13: ages | P13: numbers | Q13: ages | R13: numbers | V13: ages | W13: numbers | X13: ages | Y13: numbers | Z13: ages | AA13: numbers | AB13: ages | AC13: numbers | AD13: ages | AE13: numbers | AF13: ages | AG13: numbers
B14: Total | C14: 100 | D14: 72145 | E14: 100 | F14: 82236 | G14: 100 | H14: 32114 | I14: 100 | J14: 30736 | K14: 100 | L14: 43089 | M14: 100 | N14: 37767 | O14: 100 | P14: 25305 | Q14: 100 | R14: 22983 | S14: סך הכל | V14: 100 | W14: 7439 | X14: 100 | Y14: 7742 | Z14: 100 | AA14: 29532 | AB14: 100 | AC14: 25930 | AD14: 100 | AE14: 69618 | AF14: 100 | AG14: 78879 | AH14: סך הכל
A15: 01-04 | B15: Agriculture, forestry and fishing | C15: 2.2 | D15: 1613 | E15: 1.6 | F15: 1345 | G15: 1.9 | H15: 607 | I15: 1.5 | J15: 454 | K15: 6.4 | L15: 2755 | M15: 9.1 | N15: 3438 | O15: 0.7 | P15: 170 | Q15: 0.9 | R15: 211 | S15: חקלאות, ייעור ודיג | T15: 04-01 | U15: A | V15: 4.7 | W15: 347 | X15: 2.4 | Y15: 186 | Z15: 7.2 | AA15: 2138 | AB15: 5.3 | AC15: 1383 | AD15: 0.2 | AE15: 136 | AF15: 0.2 | AG15: 126 | AH15: חקלאות, ייעור ודיג | AI15: 04-01 | AJ15: A
A16: 05-34 | B16: Manufacturing, mining and quarrying | C16: 5.4 | D16: 3877 | E16: 2.6 | F16: 2148 | G16: 6.2 | H16: 1981 | I16: 3.3 | J16: 1019 | K16: 6.8 | L16: 2941 | M16: 3.7 | N16: 1402 | O16: 4.1 | P16: 1045 | Q16: 2.7 | R16: 612 | S16: תעשייה, כרייה וחציבה | T16: 34-05 | U16: B-C | V16: 6.7 | W16: 496 | X16: 2.6 | Y16: 200 | Z16: 5.5 | AA16: 1636 | AB16: 3 | AC16: 789 | AD16: 5.2 | AE16: 3615 | AF16: 2.9 | AG16: 2310 | AH16: תעשייה, כרייה וחציבה | AI16: 34-05 | AJ16: B-C
A17: 35-39 | B17: Electricity and water supply, | S17: אספקת חשמל ומים, | T17: 39-35 | U17: D-E | AH17: אספקת חשמל ומים, | AI17: 39-35 | AJ17: D-E
B18: sewerage and waste management | C18: .. | D18: .. | E18: .. | F18: .. | G18: 0.3 | H18: 112 | I18: 0.2 | J18: 58 | K18: .. | L18: .. | M18: .. | N18: .. | O18: .. | P18: .. | Q18: .. | R18: .. | S18: שירותי ביוב וטיפול בפסולת | V18: 0.3 | W18: 19 | X18: 0.4 | Y18: 32 | Z18: 0.4 | AA18: 106 | AB18: 0.5 | AC18: 131 | AD18: .. | AE18: .. | AF18: .. | AG18: .. | AH18: שירותי ביוב וטיפול בפסולת
A19: 41-43 | B19: Construction | C19: 12.5 | D19: 9005 | E19: 8.9 | F19: 7352 | G19: 15.4 | H19: 4961 | I19: 8.6 | J19: 2647 | K19: 22.4 | L19: 9655 | M19: 10.5 | N19: 3968 | O19: 12.7 | P19: 3209 | Q19: 7.2 | R19: 1656 | S19: בינוי | T19: 43-41 | U19: F | V19: 13.1 | W19: 974 | X19: 9.4 | Y19: 725 | Z19: 16.5 | AA19: 4886 | AB19: 10.3 | AC19: 2664 | AD19: 7 | AE19: 4884 | AF19: 5.5 | AG19: 4371 | AH19: בינוי | AI19: 43-41 | AJ19: F
A20: 45-47 | B20: Wholesale and retail trade | S20: מסחר סיטוני וקמעוני | T20: 47-45 | U20: G | AH20: מסחר סיטוני וקמעוני | AI20: 47-45 | AJ20: G
B21: and repair of motor vehicles | C21: 21.2 | D21: 15284 | E21: 11.3 | F21: 9301 | G21: 21.4 | H21: 6869 | I21: 14.7 | J21: 4511 | K21: 20.9 | L21: 8992 | M21: 18.6 | N21: 7021 | O21: 20.2 | P21: 5119 | Q21: 12.7 | R21: 2927 | S21: ותיקון כלי רכב מנועיים | V21: 16.4 | W21: 1219 | X21: 10.4 | Y21: 807 | Z21: 20.4 | AA21: 6020 | AB21: 13.6 | AC21: 3525 | AD21: 20.7 | AE21: 14418 | AF21: 11 | AG21: 8666 | AH21: ותיקון כלי רכב מנועיים
A22: 49-53 | B22: Transportation, storage, | S22: שירותי תחבורה, אחסנה, | T22: 53-49 | U22: H | AH22: שירותי תחבורה, אחסנה, | AI22: 53-49 | AJ22: H
B23: postal and courier activities | C23: 4.6 | D23: 3320 | E23: 8.4 | F23: 6915 | G23: 4.8 | H23: 1538 | I23: 6.6 | J23: 2021 | K23: 5.9 | L23: 2546 | M23: 7.2 | N23: 2701 | O23: 5.8 | P23: 1480 | Q23: 12.8 | R23: 2942 | S23: דואר ובלדרות | V23: 3.4 | W23: 251 | X23: 8.4 | Y23: 647 | Z23: 7.5 | AA23: 2222 | AB23: 13.1 | AC23: 3387 | AD23: 2.6 | AE23: 1802 | AF23: 7.2 | AG23: 5690 | AH23: דואר ובלדרות
A24: 55-56 | B24: Accommodation and food service activities | C24: 5.5 | D24: 3965 | E24: 2 | F24: 1670 | G24: 6.1 | H24: 1973 | I24: 2.8 | J24: 871 | K24: 6.4 | L24: 2771 | M24: 5.6 | N24: 2128 | O24: 6.6 | P24: 1664 | Q24: 2.6 | R24: 598 | S24: שירותי אירוח ואוכל | T24: 56-55 | U24: I | V24: 4.5 | W24: 338 | X24: 1.7 | Y24: 134 | Z24: 7.2 | AA24: 2118 | AB24: 3.4 | AC24: 885 | AD24: 6.1 | AE24: 4266 | AF24: 2.2 | AG24: 1701 | AH24: שירותי אירוח ואוכל | AI24: 56-55 | AJ24: I
A25: 58-63 | B25: Information and communications | C25: 4.8 | D25: 3475 | E25: 4.3 | F25: 3555 | G25: 2.7 | H25: 854 | I25: 3.1 | J25: 944 | K25: 1.3 | L25: 548 | M25: 1.9 | N25: 716 | O25: 3.1 | P25: 779 | Q25: 3.4 | R25: 788 | S25: מידע ותקשורת | T25: 63-58 | U25: J | V25: 3.6 | W25: 268 | X25: 4.8 | Y25: 371 | Z25: 1.5 | AA25: 431 | AB25: 1.9 | AC25: 504 | AD25: 6.6 | AE25: 4593 | AF25: 5.6 | AG25: 4455 | AH25: מידע ותקשורת | AI25: 63-58 | AJ25: J
A26: 64-66 | B26: Financial and insurance activities | C26: 3.2 | D26: 2309 | E26: 2.3 | F26: 1870 | G26: 2.8 | H26: 893 | I26: 2.2 | J26: 681 | K26: 1.7 | L26: 724 | M26: 1.4 | N26: 530 | O26: 2.4 | P26: 612 | Q26: 1.5 | R26: 343 | S26: שירותים פיננסיים ושירותי ביטוח | T26: 66-64 | U26: K | V26: 2 | W26: 146 | X26: 1.8 | Y26: 138 | Z26: 1.7 | AA26: 504 | AB26: 1.3 | AC26: 337 | AD26: 4.7 | AE26: 3293 | AF26: 2.5 | AG26: 1976 | AH26: שירותים פיננסיים ושירותי ביטוח | AI26: 66-64 | AJ26: K
A27: 68 | B27: Real estate activities | C27: 3 | D27: 2176 | E27: 8.9 | F27: 7280 | G27: 2.6 | H27: 821 | I27: 8.7 | J27: 2675 | K27: 1.4 | L27: 599 | M27: 6 | N27: 2260 | O27: 3.3 | P27: 833 | Q27: 9.1 | R27: 2084 | S27: פעילויות בנדל"ן | T27: 68 | U27: L | V27: 2.5 | W27: 183 | X27: 5.3 | Y27: 407 | Z27: 2.7 | AA27: 796 | AB27: 9.1 | AC27: 2369 | AD27: 4.6 | AE27: 3196 | AF27: 12.3 | AG27: 9691 | AH27: פעילויות בנדל"ן | AI27: 68 | AJ27: L
A28: 69-75 | B28: Professional, scientific | S28: שירותים מקצועיים, | T28: 75-69 | U28: M | AH28: שירותים מקצועיים, | AI28: 75-69 | AJ28: M
B29: and technical activities | C29: 16.9 | D29: 12187 | E29: 23.8 | F29: 19575 | G29: 16.1 | H29: 5161 | I29: 22.1 | J29: 6780 | K29: 10.3 | L29: 4452 | M29: 15.3 | N29: 5785 | O29: 14.6 | P29: 3687 | Q29: 19.9 | R29: 4579 | S29: מדעיים וטכניים | V29: 14 | W29: 1043 | X29: 24.5 | Y29: 1896 | Z29: 10.4 | AA29: 3076 | AB29: 14.9 | AC29: 3851 | AD29: 23.1 | AE29: 16066 | AF29: 25.5 | AG29: 20113 | AH29: מדעיים וטכניים
A30: 77-82 | B30: Administrative | S30: שירותי ניהול | T30: 82-77 | U30: N | AH30: שירותי ניהול | AI30: 82-77 | AJ30: N
B31: and support service activities | C31: 4.3 | D31: 3079 | E31: 3.4 | F31: 2819 | G31: 3.8 | H31: 1212 | I31: 3.3 | J31: 1026 | K31: 2.9 | L31: 1255 | M31: 3 | N31: 1118 | O31: 3.8 | P31: 952 | Q31: 3.7 | R31: 844 | S31: ותמיכה | V31: 4.8 | W31: 354 | X31: 4.5 | Y31: 347 | Z31: 4 | AA31: 1175 | AB31: 3.2 | AC31: 833 | AD31: 3.8 | AE31: 2628 | AF31: 2.9 | AG31: 2257 | AH31: ותמיכה
A32: 83-84 | B32: Local, public and defence administration | S32: מינהל מקומי, ציבורי וביטחון | T32: 84-83 | U32: O | AH32: מינהל מקומי, ציבורי וביטחון | AI32: 84-83 | AJ32: O
B33: and social security | C33: .. | D33: .. | E33: .. | F33: .. | G33: 0.2 | H33: 70 | I33: 0 | J33: 0 | K33: .. | L33: .. | M33: .. | N33: .. | O33: .. | P33: .. | Q33: .. | R33: .. | S33: וביטוח לאומי | V33: 1.6 | W33: 118 | X33: 0 | Y33: 0 | Z33: 0.4 | AA33: 120 | AB33: 0 | AC33: 0 | AD33: .. | AE33: .. | AF33: .. | AG33: .. | AH33: וביטוח לאומי
A34: 85 | B34: Education | C34: 3.4 | D34: 2460 | E34: 3.9 | F34: 3217 | G34: 3 | H34: 950 | I34: 4.1 | J34: 1268 | K34: 2.2 | L34: 930 | M34: 3.7 | N34: 1390 | O34: 6.5 | P34: 1644 | Q34: 3.5 | R34: 798 | S34: חינוך | T34: 85 | U34: P | V34: 7.4 | W34: 547 | X34: 4.4 | Y34: 340 | Z34: 2.7 | AA34: 808 | AB34: 3.3 | AC34: 867 | AD34: 2.7 | AE34: 1879 | AF34: 2.6 | AG34: 2046 | AH34: חינוך | AI34: 85 | AJ34: P
A35: 86-88 | B35: Human health and social work activities | C35: 6.1 | D35: 4378 | E35: 9.6 | F35: 7895 | G35: 6.8 | H35: 2173 | I35: 11.1 | J35: 3400 | K35: 5.4 | L35: 2328 | M35: 7.5 | N35: 2841 | O35: 7.7 | P35: 1939 | Q35: 12.5 | R35: 2870 | S35: שירותי בריאות, רווחה וסעד | T35: 88-86 | U35: Q | V35: 7.4 | W35: 554 | X35: 10.4 | Y35: 803 | Z35: 5.2 | AA35: 1547 | AB35: 8.5 | AC35: 2212 | AD35: 5.4 | AE35: 3745 | AF35: 8.4 | AG35: 6625 | AH35: שירותי בריאות, רווחה וסעד | AI35: 88-86 | AJ35: Q
A36: 90-93 | B36: Arts, entertainment and recreation | C36: 2.4 | D36: 1762 | E36: 4.2 | F36: 3429 | G36: 2.1 | H36: 683 | I36: 3.4 | J36: 1046 | K36: 1.9 | L36: 821 | M36: 2.7 | N36: 1017 | O36: 2.1 | P36: 533 | Q36: 3.8 | R36: 866 | S36: אמנות, בידור ופנאי | T36: 93-90 | U36: R | V36: 2.7 | W36: 198 | X36: 4.7 | Y36: 364 | Z36: 2.5 | AA36: 725 | AB36: 3.5 | AC36: 913 | AD36: 2.7 | AE36: 1888 | AF36: 7.3 | AG36: 5758 | AH36: אמנות, בידור ופנאי | AI36: 93-90 | AJ36: R
A37: 94-99 | B37: Other service activities; households as | S37: שירותים אחרים; משקי בית | T37: 99-94 | U37: S-U | AH37: שירותים אחרים; משקי בית | AI37: 99-94 | AJ37: S-U
B38: employers; extraterritorial organizations | C38: 3.9 | D38: 2806 | E38: 4.5 | F38: 3728 | G38: 3.9 | H38: 1256 | I38: 4.3 | J38: 1335 | K38: 3.1 | L38: 1326 | M38: 3.3 | N38: 1254 | O38: 6 | P38: 1509 | Q38: 3.6 | R38: 835 | S38: כמעסיקים; ארגונים חוץ-מדינתיים | V38: 5.2 | W38: 384 | X38: 4.5 | Y38: 345 | Z38: 4.1 | AA38: 1224 | AB38: 4.9 | AC38: 1280 | AD38: 4.4 | AE38: 3086 | AF38: 3.8 | AG38: 3009 | AH38: כמעסיקים; ארגונים חוץ-מדינתיים
AJ40: (1) יישובים ישראליים.
A43: מחוז | B43: מס' עסקים
A44: המרכז
A45: חיפה
A46: הצפון
A47: ירושלים
A48: איו"ש
A49: הדרום
A50: תל אביב

Sheet 2017 פעילים
A1: TABLE 5. ACTIVE BUSINESSES, BY DISTRICT AND INDUSTRY (2011 CLASSIFICATION) | U1: לוח 5. עסקים פעילים, לפי מחוז וענף כלכלי (סיווג 2011) | AJ1: לוח 5. עסקים פעילים, לפי מחוז וענף כלכלי (סיווג 2011) (המשך)
A2: 2017
C3: ה מ ר כ ז | G3: ח י פ ה | K3: ה צ פ ו ן | O3: י ר ו ש ל י ם | V3: אזור יהודה והשומרון (1) | Z3: ה ד ר ו ם | AD3: ת ל א ב י ב
C4: C e n t r a l | G4: H a i f a | K4: N o r t h e r n | O4: J e r u s a l e m | V4: Judea and Samaria Area (1) | Z4: S o u t h e r n | AD4: T e l A v i v
C5: מעסיקים | E5: עצמאים וחברות שאינם | G5: מעסיקים | I5: עצמאים וחברות שאינם | K5: מעסיקים | M5: עצמאים וחברות שאינם | O5: מעסיקים | Q5: עצמאים וחברות שאינם | V5: מעסיקים | X5: עצמאים וחברות שאינם | Z5: מעסיקים | AB5: עצמאים וחברות שאינם | AD5: מעסיקים | AF5: עצמאים וחברות שאינם
E6: מעסיקים שכירים | I6: מעסיקים שכירים | M6: מעסיקים שכירים | Q6: מעסיקים שכירים | X6: מעסיקים שכירים | AB6: מעסיקים שכירים | AF6: מעסיקים שכירים
C7: Employers | E7: Self-employed | G7: Employers | I7: Self-employed | K7: Employers | M7: Self-employed | O7: Employers | Q7: Self-employed | V7: Employers | X7: Self-employed | Z7: Employers | AB7: Self-employed | AD7: Employers | AF7: Self-employed
A8: Divi- | B8: Industry | E8: and companies | I8: and companies | M8: and companies | Q8: and companies | S8: ענף כלכלי | T8: ענף | U8: סדר | X8: and companies | AB8: and companies | AF8: and companies | AH8: ענף כלכלי | AI8: ענף | AJ8: סדר
A9: sion | E9: without employees | I9: without employees | M9: without employees | Q9: without employees | T9: ראשי | U9: Cate- | X9: without employees | AB9: without employees | AF9: without employees | AI9: ראשי | AJ9: Cate-
C10: אחוזים | D10: מספרים | E10: אחוזים | F10: מספרים | G10: אחוזים | H10: מספרים | I10: אחוזים | J10: מספרים | K10: אחוזים | L10: מספרים | M10: אחוזים | N10: מספרים | O10: אחוזים | P10: מספרים | Q10: אחוזים | R10: מספרים | U10: gory | V10: אחוזים | W10: מספרים | X10: אחוזים | Y10: מספרים | Z10: אחוזים | AA10: מספרים | AB10: אחוזים | AC10: מספרים | AD10: אחוזים | AE10: מספרים | AF10: אחוזים | AG10: מספרים | AJ10: gory
D11: מוחלטים | F11: מוחלטים | H11: מוחלטים | J11: מוחלטים | L11: מוחלטים | N11: מוחלטים | P11: מוחלטים | R11: מוחלטים | W11: מוחלטים | Y11: מוחלטים | AA11: מוחלטים | AC11: מוחלטים | AE11: מוחלטים | AG11: מוחלטים
C12: Percent- | D12: Absolute | E12: Percent- | F12: Absolute | G12: Percent- | H12: Absolute | I12: Percent- | J12: Absolute | K12: Percent- | L12: Absolute | M12: Percent- | N12: Absolute | O12: Percent- | P12: Absolute | Q12: Percent- | R12: Absolute | V12: Percent- | W12: Absolute | X12: Percent- | Y12: Absolute | Z12: Percent- | AA12: Absolute | AB12: Percent- | AC12: Absolute | AD12: Percent- | AE12: Absolute | AF12: Percent- | AG12: Absolute
C13: ages | D13: numbers | E13: ages | F13: numbers | G13: ages | H13: numbers | I13: ages | J13: numbers | K13: ages | L13: numbers | M13: ages | N13: numbers | O13: ages | P13: numbers | Q13: ages | R13: numbers | V13: ages | W13: numbers | X13: ages | Y13: numbers | Z13: ages | AA13: numbers | AB13: ages | AC13: numbers | AD13: ages | AE13: numbers | AF13: ages | AG13: numbers
B14: Total | C14: 100 | D14: 74145 | E14: 100 | F14: 85784 | G14: 100 | H14: 33000 | I14: 100 | J14: 31838 | K14: 100 | L14: 44973 | M14: 100 | N14: 38592 | O14: 100 | P14: 26340 | Q14: 100 | R14: 23604 | S14: סך הכל | V14: 100 | W14: 7863 | X14: 100 | Y14: 8204 | Z14: 100 | AA14: 30371 | AB14: 100 | AC14: 26958 | AD14: 100 | AE14: 70091 | AF14: 100 | AG14: 81219 | AH14: סך הכל
A15: 01-04 | B15: Agriculture, forestry and fishing | C15: 2.2 | D15: 1610 | E15: 1.5 | F15: 1291 | G15: 1.8 | H15: 591 | I15: 1.5 | J15: 463 | K15: 6.1 | L15: 2760 | M15: 9 | N15: 3456 | O15: 0.6 | P15: 168 | Q15: 0.9 | R15: 213 | S15: חקלאות, ייעור ודיג | T15: 04-01 | U15: A | V15: 4.4 | W15: 343 | X15: 2.3 | Y15: 190 | Z15: 7.1 | AA15: 2158 | AB15: 5.2 | AC15: 1399 | AD15: 0.2 | AE15: 131 | AF15: 0.2 | AG15: 133 | AH15: חקלאות, ייעור ודיג | AI15: 04-01 | AJ15: A
A16: 05-34 | B16: Manufacturing, mining and quarrying | C16: 5.2 | D16: 3855 | E16: 2.5 | F16: 2171 | G16: 6.2 | H16: 2031 | I16: 3.2 | J16: 1029 | K16: 6.7 | L16: 2999 | M16: 3.6 | N16: 1373 | O16: 4 | P16: 1058 | Q16: 2.5 | R16: 599 | S16: תעשייה, כרייה וחציבה | T16: 34-05 | U16: B-C | V16: 6.3 | W16: 493 | X16: 2.8 | Y16: 232 | Z16: 5.5 | AA16: 1656 | AB16: 3 | AC16: 803 | AD16: 5 | AE16: 3511 | AF16: 2.8 | AG16: 2286 | AH16: תעשייה, כרייה וחציבה | AI16: 34-05 | AJ16: B-C
A17: 35-39 | B17: Electricity and water supply, | S17: אספקת חשמל ומים, | T17: 39-35 | U17: D-E | AH17: אספקת חשמל ומים, | AI17: 39-35 | AJ17: D-E
B18: sewerage and waste management | C18: .. | D18: .. | E18: .. | F18: .. | G18: 0.3 | H18: 110 | I18: 0.2 | J18: 62 | K18: .. | L18: .. | M18: .. | N18: .. | O18: .. | P18: .. | Q18: .. | R18: .. | S18: שירותי ביוב וטיפול בפסולת | V18: 0.3 | W18: 24 | X18: 0.4 | Y18: 33 | Z18: 0.4 | AA18: 113 | AB18: 0.5 | AC18: 130 | AD18: .. | AE18: .. | AF18: .. | AG18: .. | AH18: שירותי ביוב וטיפול בפסולת
A19: 41-43 | B19: Construction | C19: 12.5 | D19: 9297 | E19: 9 | F19: 7729 | G19: 15.7 | H19: 5186 | I19: 8.8 | J19: 2795 | K19: 22.8 | L19: 10264 | M19: 10.8 | N19: 4184 | O19: 13.3 | P19: 3502 | Q19: 7.5 | R19: 1762 | S19: בינוי | T19: 43-41 | U19: F | V19: 12.9 | W19: 1018 | X19: 9.8 | Y19: 801 | Z19: 17.2 | AA19: 5222 | AB19: 10.5 | AC19: 2824 | AD19: 7 | AE19: 4922 | AF19: 5.6 | AG19: 4524 | AH19: בינוי | AI19: 43-41 | AJ19: F
A20: 45-47 | B20: Wholesale and retail trade | S20: מסחר סיטוני וקמעוני | T20: 47-45 | U20: G | AH20: מסחר סיטוני וקמעוני | AI20: 47-45 | AJ20: G
B21: and repair of motor vehicles | C21: 21.1 | D21: 15659 | E21: 10.8 | F21: 9305 | G21: 21.2 | H21: 6990 | I21: 14.1 | J21: 4477 | K21: 20.6 | L21: 9266 | M21: 18 | N21: 6958 | O21: 19.9 | P21: 5244 | Q21: 12.2 | R21: 2869 | S21: ותיקון כלי רכב מנועיים | V21: 16.1 | W21: 1268 | X21: 10.1 | Y21: 831 | Z21: 20 | AA21: 6089 | AB21: 13.3 | AC21: 3591 | AD21: 20.4 | AE21: 14313 | AF21: 10.6 | AG21: 8615 | AH21: ותיקון כלי רכב מנועיים
A22: 49-53 | B22: Transportation, storage, | S22: שירותי תחבורה, אחסנה, | T22: 53-49 | U22: H | AH22: שירותי תחבורה, אחסנה, | AI22: 53-49 | AJ22: H
B23: postal and courier activities | C23: 4.6 | D23: 3400 | E23: 8.4 | F23: 7241 | G23: 4.8 | H23: 1594 | I23: 6.5 | J23: 2066 | K23: 5.9 | L23: 2649 | M23: 7.3 | N23: 2812 | O23: 6.1 | P23: 1598 | Q23: 12.7 | R23: 3009 | S23: דואר ובלדרות | V23: 3.4 | W23: 271 | X23: 8.1 | Y23: 666 | Z23: 7.5 | AA23: 2263 | AB23: 13.1 | AC23: 3536 | AD23: 2.6 | AE23: 1818 | AF23: 7.1 | AG23: 5795 | AH23: דואר ובלדרות
A24: 55-56 | B24: Accommodation and food service activities | C24: 5.4 | D24: 3994 | E24: 1.9 | F24: 1626 | G24: 6.2 | H24: 2030 | I24: 2.8 | J24: 899 | K24: 6.4 | L24: 2900 | M24: 5.2 | N24: 1990 | O24: 6.4 | P24: 1673 | Q24: 2.4 | R24: 566 | S24: שירותי אירוח ואוכל | T24: 56-55 | U24: I | V24: 4.6 | W24: 363 | X24: 1.7 | Y24: 143 | Z24: 7 | AA24: 2131 | AB24: 3.3 | AC24: 880 | AD24: 6.1 | AE24: 4282 | AF24: 2 | AG24: 1612 | AH24: שירותי אירוח ואוכל | AI24: 56-55 | AJ24: I
A25: 58-63 | B25: Information and communications | C25: 4.8 | D25: 3547 | E25: 4.3 | F25: 3646 | G25: 2.6 | H25: 865 | I25: 3.1 | J25: 986 | K25: 1.2 | L25: 542 | M25: 1.8 | N25: 693 | O25: 3.1 | P25: 805 | Q25: 3.4 | R25: 798 | S25: מידע ותקשורת | T25: 63-58 | U25: J | V25: 3.7 | W25: 289 | X25: 4.8 | Y25: 390 | Z25: 1.5 | AA25: 459 | AB25: 1.9 | AC25: 506 | AD25: 6.8 | AE25: 4741 | AF25: 5.5 | AG25: 4490 | AH25: מידע ותקשורת | AI25: 63-58 | AJ25: J
A26: 64-66 | B26: Financial and insurance activities | C26: 3.3 | D26: 2417 | E26: 2.3 | F26: 1971 | G26: 2.7 | H26: 900 | I26: 2.3 | J26: 725 | K26: 1.7 | L26: 756 | M26: 1.4 | N26: 533 | O26: 2.3 | P26: 612 | Q26: 1.6 | R26: 377 | S26: שירותים פיננסיים ושירותי ביטוח | T26: 66-64 | U26: K | V26: 1.9 | W26: 151 | X26: 1.8 | Y26: 145 | Z26: 1.7 | AA26: 506 | AB26: 1.3 | AC26: 348 | AD26: 4.7 | AE26: 3305 | AF26: 2.6 | AG26: 2100 | AH26: שירותים פיננסיים ושירותי ביטוח | AI26: 66-64 | AJ26: K
A27: 68 | B27: Real estate activities | C27: 3.1 | D27: 2310 | E27: 8.9 | F27: 7600 | G27: 2.6 | H27: 860 | I27: 8.7 | J27: 2775 | K27: 1.4 | L27: 635 | M27: 6.1 | N27: 2336 | O27: 3.4 | P27: 891 | Q27: 9.1 | R27: 2155 | S27: פעילויות בנדל"ן | T27: 68 | U27: L | V27: 2.4 | W27: 191 | X27: 5.5 | Y27: 453 | Z27: 2.6 | AA27: 787 | AB27: 9.3 | AC27: 2500 | AD27: 4.7 | AE27: 3268 | AF27: 12.3 | AG27: 9951 | AH27: פעילויות בנדל"ן | AI27: 68 | AJ27: L
A28: 69-75 | B28: Professional, scientific | S28: שירותים מקצועיים, | T28: 75-69 | U28: M | AH28: שירותים מקצועיים, | AI28: 75-69 | AJ28: M
B29: and technical activities | C29: 17 | D29: 12568 | E29: 24.4 | F29: 20901 | G29: 16 | H29: 5292 | I29: 22.5 | J29: 7149 | K29: 10.4 | L29: 4692 | M29: 15.7 | N29: 6067 | O29: 14.5 | P29: 3819 | Q29: 20.1 | R29: 4744 | S29: מדעיים וטכניים | V29: 14.4 | W29: 1133 | X29: 23.9 | Y29: 1963 | Z29: 10.6 | AA29: 3223 | AB29: 15.4 | AC29: 4142 | AD29: 23.2 | AE29: 16296 | AF29: 26 | AG29: 21115 | AH29: מדעיים וטכניים
A30: 77-82 | B30: Administrative | S30: שירותי ניהול | T30: 82-77 | U30: N | AH30: שירותי ניהול | AI30: 82-77 | AJ30: N
B31: and support service activities | C31: 4.4 | D31: 3234 | E31: 3.5 | F31: 2981 | G31: 3.8 | H31: 1246 | I31: 3.4 | J31: 1067 | K31: 3 | L31: 1339 | M31: 3 | N31: 1140 | O31: 3.7 | P31: 977 | Q31: 3.8 | R31: 900 | S31: ותמיכה | V31: 5 | W31: 393 | X31: 4.3 | Y31: 354 | Z31: 3.9 | AA31: 1197 | AB31: 3.3 | AC31: 893 | AD31: 3.8 | AE31: 2676 | AF31: 2.9 | AG31: 2337 | AH31: ותמיכה
A32: 83-84 | B32: Local, public and defence administration | S32: מינהל מקומי, ציבורי וביטחון | T32: 84-83 | U32: O | AH32: מינהל מקומי, ציבורי וביטחון | AI32: 84-83 | AJ32: O
B33: and social security | C33: .. | D33: .. | E33: .. | F33: .. | G33: 0.2 | H33: 68 | I33: 0 | J33: 0 | K33: .. | L33: .. | M33: .. | N33: .. | O33: .. | P33: .. | Q33: .. | R33: .. | S33: וביטוח לאומי | V33: 1.5 | W33: 119 | X33: 0 | Y33: 0 | Z33: 0.4 | AA33: 121 | AB33: 0 | AC33: 0 | AD33: .. | AE33: .. | AF33: .. | AG33: .. | AH33: וביטוח לאומי
A34: 85 | B34: Education | C34: 3.4 | D34: 2545 | E34: 4 | F34: 3402 | G34: 3 | H34: 984 | I34: 4 | J34: 1281 | K34: 2.3 | L34: 1018 | M34: 3.7 | N34: 1419 | O34: 6.6 | P34: 1737 | Q34: 3.5 | R34: 833 | S34: חינוך | T34: 85 | U34: P | V34: 7.3 | W34: 572 | X34: 4.4 | Y34: 360 | Z34: 2.8 | AA34: 839 | AB34: 3.3 | AC34: 883 | AD34: 2.7 | AE34: 1909 | AF34: 2.6 | AG34: 2146 | AH34: חינוך | AI34: 85 | AJ34: P
A35: 86-88 | B35: Human health and social work activities | C35: 6.1 | D35: 4507 | E35: 9.6 | F35: 8255 | G35: 6.8 | H35: 2247 | I35: 11.1 | J35: 3520 | K35: 5.5 | L35: 2462 | M35: 7.9 | N35: 3056 | O35: 7.6 | P35: 2010 | Q35: 12.5 | R35: 2962 | S35: שירותי בריאות, רווחה וסעד | T35: 88-86 | U35: Q | V35: 7.7 | W35: 605 | X35: 10.3 | Y35: 848 | Z35: 5.3 | AA35: 1599 | AB35: 8.5 | AC35: 2280 | AD35: 5.4 | AE35: 3784 | AF35: 8.5 | AG35: 6907 | AH35: שירותי בריאות, רווחה וסעד | AI35: 88-86 | AJ35: Q
A36: 90-93 | B36: Arts, entertainment and recreation | C36: 2.5 | D36: 1823 | E36: 4.2 | F36: 3640 | G36: 2.2 | H36: 713 | I36: 3.6 | J36: 1155 | K36: 2 | L36: 878 | M36: 2.8 | N36: 1073 | O36: 2.1 | P36: 540 | Q36: 3.9 | R36: 928 | S36: אמנות, בידור ופנאי | T36: 93-90 | U36: R | V36: 2.8 | W36: 221 | X36: 5.1 | Y36: 415 | Z36: 2.5 | AA36: 761 | AB36: 3.4 | AC36: 917 | AD36: 2.8 | AE36: 1955 | AF36: 7.3 | AG36: 5942 | AH36: אמנות, בידור ופנאי | AI36: 93-90 | AJ36: R
A37: 94-99 | B37: Other service activities; households as | S37: שירותים אחרים; משקי בית | T37: 99-94 | U37: S-U | AH37: שירותים אחרים; משקי בית | AI37: 99-94 | AJ37: S-U
B38: employers; extraterritorial organizations | C38: 3.9 | D38: 2915 | E38: 4.5 | F38: 3862 | G38: 3.9 | H38: 1293 | I38: 4.4 | J38: 1389 | K38: 3 | L38: 1353 | M38: 3.4 | N38: 1295 | O38: 5.9 | P38: 1566 | Q38: 3.6 | R38: 856 | S38: כמעסיקים; ארגונים חוץ-מדינתיים | V38: 5.2 | W38: 409 | X38: 4.6 | Y38: 380 | Z38: 4.1 | AA38: 1247 | AB38: 4.9 | AC38: 1326 | AD38: 4.4 | AE38: 3060 | AF38: 3.9 | AG38: 3169 | AH38: כמעסיקים; ארגונים חוץ-מדינתיים
AJ40: (1) יישובים ישראליים.
A43: מחוז | B43: מס' עסקים
A44: המרכז
A45: חיפה
A46: הצפון
A47: ירושלים
A48: איו"ש
A49: הדרום
A50: תל אביב

Sheet 2015
A1: TABLE 15. BUSINESS BIRTHS AND DEATHS, BY DISTRICT AND INDUSTRY (2011 CLASSIFICATION) | AI1: לוח 15. עסקים שנולדו ועסקים שלא שרדו, לפי מחוז וענף כלכלי (סיווג 2011) (המשך)
A3: 2015
C4: ה מ ר כ ז | G4: ח י פ ה | K4: ה צ פ ו ן | O4: י ר ו ש ל י ם | U4: אזור יהודה והשומרון (2) | Y4: ה ד ר ו ם | AC4: ת ל א ב י ב
C5: C e n t r a l | G5: H a i f a | K5: N o r t h e r n | O5: J e r u s a l e m | U5: Judea and Samaria Area (2) | Y5: S o u t h e r n | AC5: T e l A v i v
C6: אחוז | G6: אחוז | K6: אחוז | O6: אחוז | U6: אחוז | Y6: אחוז | AC6: אחוז
C7: תנועות | G7: תנועות | K7: תנועות | O7: תנועות | U7: תנועות | Y7: תנועות | AC7: תנועות
C8: מסך עסקים | D8: נטו | E8: עסקים | F8: עסקים | G8: מסך עסקים | H8: נטו | I8: עסקים | J8: עסקים | K8: מסך עסקים | L8: נטו | M8: עסקים | N8: עסקים | O8: מסך עסקים | P8: נטו | Q8: עסקים | R8: עסקים | U8: מסך עסקים | V8: נטו | W8: עסקים | X8: עסקים | Y8: מסך עסקים | Z8: נטו | AA8: עסקים | AB8: עסקים | AC8: מסך עסקים | AD8: נטו | AE8: עסקים | AF8: עסקים | AG8: ענף כלכלי | AH8: ענף | AI8: סדר
C9: פעילים (1) | E9: שלא שרדו | F9: שנולדו | G9: פעילים (1) | I9: שלא שרדו | J9: שנולדו | K9: פעילים (1) | M9: שלא שרדו | N9: שנולדו | O9: פעילים (1) | Q9: שלא שרדו | R9: שנולדו | U9: פעילים (1) | W9: שלא שרדו | X9: שנולדו | Y9: פעילים (1) | AA9: שלא שרדו | AB9: שנולדו | AC9: פעילים (1) | AE9: שלא שרדו | AF9: שנולדו | AH9: ראשי | AI9: Cate-
A10: Divi- | B10: Industry | S10: ענף כלכלי | T10: ענף | AI10: gory
A11: sion | T11: ראשי | U11: Churn | V11: Net | W11: Business | X11: Business | Y11: Churn | Z11: Net | AA11: Business | AB11: Business | AC11: Churn | AD11: Net | AE11: Business | AF11: Business
U12: percentage | W12: deaths | X12: births | Y12: percentage | AA12: deaths | AB12: births | AC12: percentage | AE12: deaths | AF12: births
C13: Churn | D13: Net | E13: Business | F13: Business | G13: Churn | H13: Net | I13: Business | J13: Business | K13: Churn | L13: Net | M13: Business | N13: Business | O13: Churn | P13: Net | Q13: Business | R13: Business | U13: (1) | Y13: (1) | AC13: (1)
C14: percentage | E14: deaths | F14: births | G14: percentage | I14: deaths | J14: births | K14: percentage | M14: deaths | N14: births | O14: percentage | Q14: deaths | R14: births
C15: (1) | G15: (1) | K15: (1) | O15: (1)
B16: Total | C16: 15.5 | D16: 2964 | E16: 10032 | F16: 12996 | G16: 16.5 | H16: 1147 | I16: 4426 | J16: 5573 | K16: 17.2 | L16: 2007 | M16: 5653 | N16: 7660 | O16: 16.1 | P16: 938 | Q16: 3320 | R16: 4258 | S16: סך הכל | U16: 16.7 | V16: 479 | W16: 947 | X16: 1426 | Y16: 18 | Z16: 1402 | AA16: 4088 | AB16: 5490 | AC16: 14 | AD16: 2000 | AE16: 9181 | AF16: 11181 | AG16: סך הכל
A17: 01-04 | B17: Agriculture, forestry and fishing | C17: 9 | D17: -2 | E17: 131 | F17: 129 | G17: 9 | H17: -22 | I17: 58 | J17: 36 | K17: 7.8 | L17: 23 | M17: 222 | N17: 245 | O17: .. | P17: .. | Q17: .. | R17: .. | S17: חקלאות, ייעור ודיג | T17: 04-01 | U17: .. | V17: .. | W17: .. | X17: .. | Y17: 8.6 | Z17: 24 | AA17: 135 | AB17: 159 | AC17: 14.1 | AD17: -5 | AE17: 21 | AF17: 16 | AG17: חקלאות, ייעור ודיג | AH17: 04-01 | AI17: A
A18: 05-34 | B18: Manufacturing, mining and quarrying | C18: 10.5 | D18: -9 | E18: 321 | F18: 312 | G18: 12.4 | H18: -15 | I18: 192 | J18: 177 | K18: 14.3 | L18: 42 | M18: 286 | N18: 328 | O18: 12.5 | P18: -9 | Q18: 108 | R18: 99 | S18: תעשייה, כרייה וחציבה | T18: 34-05 | U18: 12.5 | V18: 0 | W18: 42 | X18: 42 | Y18: 12.4 | Z18: -3 | AA18: 151 | AB18: 148 | AC18: 9.8 | AD18: -78 | AE18: 333 | AF18: 255 | AG18: תעשייה, כרייה וחציבה | AH18: 34-05 | AI18: B-C
A19: 35-39 | B19: Electricity and water supply, | S19: אספקת חשמל ומים, | T19: 39-35 | AG19: אספקת חשמל ומים, | AH19: 39-35 | AI19: D-E
B20: sewerage and waste management | C20: 10.6 | D20: 12 | E20: 12 | F20: 24 | G20: 14.5 | H20: 10 | I20: 7 | J20: 17 | K20: 12.1 | L20: 10 | M20: 17 | N20: 27 | O20: .. | P20: .. | Q20: .. | R20: .. | S20: שירותי ביוב וטיפול בפסולת | U20: .. | V20: .. | W20: .. | X20: .. | Y20: 15.8 | Z20: 17 | AA20: 8 | AB20: 25 | AC20: 13.9 | AD20: -8 | AE20: 17 | AF20: 9 | AG20: שירותי ביוב וטיפול בפסולת
A21: 41-43 | B21: Construction | C21: 16 | D21: 434 | E21: 1024 | F21: 1458 | G21: 18.7 | H21: 220 | I21: 565 | J21: 785 | K21: 21.5 | L21: 607 | M21: 1068 | N21: 1675 | O21: 19.8 | P21: 239 | Q21: 328 | R21: 567 | S21: בינוי | T21: 43-41 | U21: 17.2 | V21: 45 | W21: 117 | X21: 162 | Y21: 20.7 | Z21: 288 | AA21: 577 | AB21: 865 | AC21: 14 | AD21: 169 | AE21: 543 | AF21: 712 | AG21: בינוי | AH21: 43-41 | AI21: F
A22: 45-47 | B22: Wholesale and retail trade | S22: מסחר סיטוני וקמעוני | T22: 47-45 | AG22: מסחר סיטוני וקמעוני | AH22: 47-45 | AI22: G
B23: and repair of motor vehicles | C23: 16.6 | D23: 232 | E23: 1894 | F23: 2126 | G23: 18.8 | H23: 84 | I23: 1021 | J23: 1105 | K23: 19.4 | L23: 280 | M23: 1387 | N23: 1667 | O23: 18.1 | P23: 34 | Q23: 712 | R23: 746 | S23: ותיקון כלי רכב מנועיים | U23: 18.2 | V23: 54 | W23: 149 | X23: 203 | Y23: 19.8 | Z23: 146 | AA23: 864 | AB23: 1010 | AC23: 14.8 | AD23: -13 | AE23: 1711 | AF23: 1698 | AG23: ותיקון כלי רכב מנועיים
A24: 49-53 | B24: Transportation, storage, | S24: שירותי תחבורה, אחסנה, | T24: 53-49 | AG24: שירותי תחבורה, אחסנה, | AH24: 53-49 | AI24: H
B25: postal and courier activities | C25: 14.2 | D25: 179 | E25: 610 | F25: 789 | G25: 16.9 | H25: 121 | I25: 230 | J25: 351 | K25: 16.5 | L25: 127 | M25: 366 | N25: 493 | O25: 16.3 | P25: 71 | Q25: 320 | R25: 391 | S25: דואר ובלדרות | U25: 15.9 | V25: 8 | W25: 67 | X25: 75 | Y25: 16.3 | Z25: 142 | AA25: 374 | AB25: 516 | AC25: 11.7 | AD25: 86 | AE25: 389 | AF25: 475 | AG25: דואר ובלדרות
A26: 55-56 | B26: Accommodation and food service activities | C26: 29.7 | D26: 187 | E26: 724 | F26: 911 | G26: 29 | H26: 98 | I26: 352 | J26: 450 | K26: 24.5 | L26: 90 | M26: 540 | N26: 630 | O26: 28.1 | P26: 86 | Q26: 268 | R26: 354 | S26: שירותי אירוח ואוכל | T26: 56-55 | U26: 28.1 | V26: 20 | W26: 53 | X26: 73 | Y26: 30.1 | Z26: 102 | AA26: 386 | AB26: 488 | AC26: 26.5 | AD26: 67 | AE26: 749 | AF26: 816 | AG26: שירותי אירוח ואוכל | AH26: 56-55 | AI26: I
A27: 58-63 | B27: Information and communications | C27: 20.4 | D27: 143 | E27: 630 | F27: 773 | G27: 21.7 | H27: 49 | I27: 163 | J27: 212 | K27: 23.4 | L27: 57 | M27: 110 | N27: 167 | O27: 21.7 | P27: 43 | Q27: 144 | R27: 187 | S27: מידע ותקשורת | T27: 63-58 | U27: 19.6 | V27: 33 | W27: 42 | X27: 75 | Y27: 25.4 | Z27: 27 | AA27: 96 | AB27: 123 | AC27: 20.5 | AD27: 226 | AE27: 784 | AF27: 1010 | AG27: מידע ותקשורת | AH27: 63-58 | AI27: J
A28: 64-66 | B28: Financial and insurance activities | C28: 12.6 | D28: 152 | E28: 174 | F28: 326 | G28: 12.8 | H28: 40 | I28: 79 | J28: 119 | K28: 13.3 | L28: 36 | M28: 63 | N28: 99 | O28: 11.9 | P28: 17 | Q28: 49 | R28: 66 | S28: שירותים פיננסיים ושירותי ביטוח | T28: 66-64 | U28: 10.3 | V28: 9 | W28: 9 | X28: 18 | Y28: 12.4 | Z28: 37 | AA28: 31 | AB28: 68 | AC28: 12.9 | AD28: 118 | AE28: 275 | AF28: 393 | AG28: שירותים פיננסיים ושירותי ביטוח | AH28: 66-64 | AI28: K
A29: 68 | B29: Real estate activities | C29: 16 | D29: 329 | E29: 549 | F29: 878 | G29: 16.4 | H29: 124 | I29: 209 | J29: 333 | K29: 17.5 | L29: 146 | M29: 160 | N29: 306 | O29: 14.9 | P29: 109 | Q29: 153 | R29: 262 | S29: פעילויות בנדל"ן | T29: 68 | U29: 18.5 | V29: 36 | W29: 32 | X29: 68 | Y29: 19.8 | Z29: 145 | AA29: 222 | AB29: 367 | AC29: 13.2 | AD29: 375 | AE29: 632 | AF29: 1007 | AG29: פעילויות בנדל"ן | AH29: 68 | AI29: L
A30: 69-75 | B30: Professional, scientific | S30: שירותים מקצועיים, | T30: 75-69 | AG30: שירותים מקצועיים, | AH30: 75-69 | AI30: M
B31: and technical activities | C31: 15.3 | D31: 1009 | E31: 1809 | F31: 2818 | G31: 14.5 | H31: 340 | I31: 661 | J31: 1001 | K31: 13.8 | L31: 336 | M31: 502 | N31: 838 | O31: 14.2 | P31: 247 | Q31: 442 | R31: 689 | S31: מדעיים וטכניים | U31: 17.8 | V31: 131 | W31: 179 | X31: 310 | Y31: 16.6 | Z31: 304 | AA31: 384 | AB31: 688 | AC31: 13.6 | AD31: 890 | AE31: 1942 | AF31: 2832 | AG31: מדעיים וטכניים
A32: 77-82 | B32: Administrative | S32: שירותי ניהול | T32: 82-77 | AG32: שירותי ניהול | AH32: 82-77 | AI32: N
B33: and support service activities | C33: 17.4 | D33: 75 | E33: 450 | F33: 525 | G33: 18.7 | H33: 44 | I33: 175 | J33: 219 | K33: 19.1 | L33: 21 | M33: 210 | N33: 231 | O33: 14.4 | P33: -9 | Q33: 131 | R33: 122 | S33: ותמיכה | U33: 12.2 | V33: 1 | W33: 39 | X33: 40 | Y33: 23.2 | Z33: 45 | AA33: 198 | AB33: 243 | AC33: 14.3 | AD33: 60 | AE33: 311 | AF33: 371 | AG33: ותמיכה
A34: 85 | B34: Education | C34: 12.6 | D34: 1 | E34: 346 | F34: 347 | G34: 13.2 | H34: -34 | I34: 159 | J34: 125 | K34: 14.2 | L34: 53 | M34: 132 | N34: 185 | O34: 13.8 | P34: 30 | Q34: 150 | R34: 180 | S34: חינוך | T34: 85 | U34: 17 | V34: 34 | W34: 56 | X34: 90 | Y34: 13.9 | Z34: 1 | AA34: 111 | AB34: 112 | AC34: 13.3 | AD34: -22 | AE34: 266 | AF34: 244 | AG34: חינוך | AH34: 85 | AI34: P
A35: 86-88 | B35: Human health and social work activities | C35: 10.9 | D35: 132 | E35: 583 | F35: 715 | G35: 10.8 | H35: 85 | I35: 248 | J35: 333 | K35: 12.5 | L35: 151 | M35: 234 | N35: 385 | O35: 12 | P35: 86 | Q35: 237 | R35: 323 | S35: שירותי בריאות, רווחה וסעד | T35: 88-86 | U35: 14.6 | V35: 64 | W35: 58 | X35: 122 | Y35: 12.9 | Z35: 78 | AA35: 196 | AB35: 274 | AC35: 9.4 | AD35: 111 | AE35: 418 | AF35: 529 | AG35: שירותי בריאות, רווחה וסעד | AH35: 88-86 | AI35: Q
A36: 90-93 | B36: Arts, entertainment and recreation | C36: 14.1 | D36: -4 | E36: 352 | F36: 348 | G36: 15 | H36: -5 | I36: 125 | J36: 120 | K36: 19 | L36: 16 | M36: 157 | N36: 173 | O36: 15.1 | P36: -23 | Q36: 115 | R36: 92 | S36: אמנות, בידור ופנאי | T36: 93-90 | U36: 16.2 | V36: 0 | W36: 44 | X36: 44 | Y36: 19.6 | Z36: 22 | AA36: 143 | AB36: 165 | AC36: 11 | AD36: -16 | AE36: 419 | AF36: 403 | AG36: אמנות, בידור ופנאי | AH36: 93-90 | AI36: R
A37: 94-96 | B37: Other service activities | C37: 14.9 | D37: 94 | E37: 423 | F37: 517 | G37: 14.9 | H37: 8 | I37: 182 | J37: 190 | K37: 16.6 | L37: 12 | M37: 199 | N37: 211 | O37: 13.3 | P37: 21 | Q37: 141 | R37: 162 | S37: שירותים אחרים | T37: 96-94 | U37: 16.6 | V37: 30 | W37: 40 | X37: 70 | Y37: 18.3 | Z37: 27 | AA37: 212 | AB37: 239 | AC37: 13.2 | AD37: 40 | AE37: 371 | AF37: 411 | AG37: שירותים אחרים | AH37: 96-94 | AI37: S
A39: (1) Businesses classified in industries 83-84 (Local, public and defence administration and | AI39: (1) מאוכלוסיית העסקים הפעילים הוסרו עסקים המסווגים בענפים הכלכליים הבאים: 84-83 (מינהל מקומי,
A40: social security), 97-98 (Households as employers), and 99 (Extraterritorial organizations and | AI40: ציבורי וביטחון וביטוח לאומי), 98-97 (משקי בית כמעסיקים) ו-99 (ארגונים וגופים חוץ-מדינתיים),
A41: bodies), were not included in the business birth or death population, in accordance with Eurostat | AI41: ענפים אלה לא נכללו בחישוב עסקים שנולדו ועסקים שלא שרדו, בהתאם להגדרות ה-Eurostat
A42: and OECD definitions. Therefore, they were also deducted from the active businesses population. | AI42: וה-OECD.
A43: (2) Israeli localities. | AI43: (2) יישובים ישראליים.
A45: מחוז
A46: המרכז
A47: חיפה
A48: הצפון
A49: ירושלים
A50: איו"ש
A51: הדרום
A52: תל אביב

Sheet 2016 לידות
A1: TABLE 15. BUSINESS BIRTHS, BY DISTRICT AND INDUSTRY (2011 CLASSIFICATION) | Q1: לוח 15. עסקים שנולדו, לפי מחוז וענף כלכלי (סיווג 2011) | AC1: לוח 15. לידות עסקים, לפי מחוז וענף כלכלי (סיווג 2011) (המשך)
A2: 2016
D3: ה מ ר כ ז | G3: ח י פ ה | J3: ה צ פ ו ן | L3: י ר ו ש ל י ם | R3: אזור יהודה והשומרון (2) | U3: ה ד ר ו ם | X3: ת ל א ב י ב
D4: C e n t r a l | G4: H a i f a | J4: N o r t h e r n | L4: J e r u s a l e m | R4: Judea and Samaria Area (2) | U4: S o u t h e r n | X4: T e l A v i v
C5: אחוז | D5: עסקים | E5: לידות | F5: אחוז | G5: עסקים | H5: לידות | I5: אחוז | J5: עסקים | K5: לידות | L5: אחוז | M5: עסקים | N5: לידות | R5: אחוז | S5: עסקים | T5: לידות | U5: אחוז | V5: עסקים | W5: לידות | X5: אחוז | Y5: עסקים | Z5: לידות
C6: לידות | D6: פעילים (1) | E6: עסקים | F6: לידות | G6: פעילים (1) | H6: עסקים | I6: לידות | J6: פעילים (1) | K6: עסקים | L6: לידות | M6: פעילים (1) | N6: עסקים | R6: לידות | S6: פעילים (1) | T6: עסקים | U6: לידות | V6: פעילים (1) | W6: עסקים | X6: לידות | Y6: פעילים (1) | Z6: עסקים
A7: Divi- | B7: Industry | C7: מסך עסקים | F7: מסך עסקים | I7: מסך עסקים | L7: מסך עסקים | O7: ענף כלכלי | P7: ענף | Q7: סדר | R7: מסך עסקים | U7: מסך עסקים | X7: מסך עסקים | AA7: ענף כלכלי | AB7: ענף | AC7: סדר
A8: sion | C8: פעילים (1) | F8: פעילים (1) | I8: פעילים (1) | L8: פעילים (1) | P8: ראשי | Q8: Cate- | R8: פעילים (1) | U8: פעילים (1) | X8: פעילים (1) | AB8: ראשי | AC8: Cate-
AC9: gory
C10: Percentage | F10: Percentage | I10: Percentage | L10: Percentage | Q10: gory | R10: Percentage | U10: Percentage | X10: Percentage
C11: of births | F11: of births | I11: of births | L11: of births | R11: of births | U11: of births | X11: of births
C12: of total | F12: of total | I12: of total | L12: of total | R12: of total | U12: of total | X12: of total
C13: active | D13: Active | F13: active | G13: Active | I13: active | J13: Active | L13: active | M13: Active | R13: active | S13: Active | U13: active | V13: Active | X13: active | Y13: Active
C14: businesses | D14: businesses | E14: Business | F14: businesses | G14: businesses | H14: Business | I14: businesses | J14: businesses | K14: Business | L14: businesses | M14: businesses | N14: Business | R14: businesses | S14: businesses | T14: Business | U14: businesses | V14: businesses | W14: Business | X14: businesses | Y14: businesses | Z14: Business
C15: (1) | D15: (1) | E15: births | F15: (1) | G15: (1) | H15: births | I15: (1) | J15: (1) | K15: births | L15: (1) | M15: (1) | N15: births | R15: (1) | S15: (1) | T15: births | U15: (1) | V15: (1) | W15: births | X15: (1) | Y15: (1) | Z15: births
B16: Total | C16: 9.1 | D16: 154162 | E16: 14006 | F16: 9.4 | G16: 62779 | H16: 5899 | I16: 10.1 | J16: 80590 | K16: 8115 | L16: 9 | M16: 48166 | N16: 4346 | O16: סך הכל | R16: 10.3 | S16: 15063 | T16: 1558 | U16: 10.5 | V16: 55342 | W16: 5800 | X16: 7.9 | Y16: 148388 | Z16: 11709 | AA16: סך הכל
A17: 01-04 | B17: Agriculture, forestry and fishing | C17: 4.2 | D17: 2958 | E17: 125 | F17: 4.9 | G17: 1061 | H17: 52 | I17: 4.3 | J17: 6193 | K17: 264 | L17: .. | M17: .. | N17: .. | O17: חקלאות, ייעור ודיג | P17: 04-01 | Q17: A | R17: .. | S17: .. | T17: .. | U17: 5.6 | V17: 3521 | W17: 196 | X17: 5 | Y17: 262 | Z17: 13 | AA17: חקלאות, ייעור ודיג | AB17: 04-01 | AC17: A
A18: 05-34 | B18: Manufacturing, mining and quarrying | C18: 5.4 | D18: 6025 | E18: 324 | F18: 6.4 | G18: 3000 | H18: 193 | I18: 6.9 | J18: 4343 | K18: 300 | L18: 6 | M18: 1657 | N18: 100 | O18: תעשייה, כרייה וחציבה | P18: 34-05 | Q18: B-C | R18: 8.9 | S18: 696 | T18: 62 | U18: 6.5 | V18: 2425 | W18: 158 | X18: 4.8 | Y18: 5925 | Z18: 285 | AA18: תעשייה, כרייה וחציבה | AB18: 34-05 | AC18: B-C
A19: 35-39 | B19: Electricity and water supply, | O19: אספקת חשמל ומים, | P19: 39-35 | Q19: D-E | AA19: אספקת חשמל ומים, | AB19: 39-35 | AC19: D-E
B20: sewerage and waste management | C20: 8.4 | D20: 368 | E20: 31 | F20: 7.1 | G20: 170 | H20: 12 | I20: 6.1 | J20: 378 | K20: 23 | L20: .. | M20: .. | N20: .. | O20: שירותי ביוב וטיפול בפסולת | R20: .. | S20: .. | T20: .. | U20: 9.7 | V20: 237 | W20: 23 | X20: 7 | Y20: 186 | Z20: 13 | AA20: שירותי ביוב וטיפול בפסולת
A21: 41-43 | B21: Construction | C21: 10 | D21: 16357 | E21: 1635 | F21: 11.6 | G21: 7608 | H21: 880 | I21: 13.5 | J21: 13623 | K21: 1840 | L21: 13.2 | M21: 4865 | N21: 644 | O21: בינוי | P21: 43-41 | Q21: F | R21: 10.5 | S21: 1699 | T21: 178 | U21: 13.8 | V21: 7550 | W21: 1044 | X21: 8.3 | Y21: 9255 | Z21: 765 | AA21: בינוי | AB21: 43-41 | AC21: F
A22: 45-47 | B22: Wholesale and retail trade | O22: מסחר סיטוני וקמעוני | P22: 47-45 | Q22: G | AA22: מסחר סיטוני וקמעוני | AB22: 47-45 | AC22: G
B23: and repair of motor vehicles | C23: 8.7 | D23: 24585 | E23: 2148 | F23: 9.5 | G23: 11380 | H23: 1077 | I23: 10.6 | J23: 16013 | K23: 1690 | L23: 8.6 | M23: 8046 | N23: 688 | O23: ותיקון כלי רכב מנועיים | R23: 10.8 | S23: 2026 | T23: 218 | U23: 10 | V23: 9545 | W23: 953 | X23: 7.7 | Y23: 23084 | Z23: 1773 | AA23: ותיקון כלי רכב מנועיים
A24: 49-53 | B24: Transportation, storage, | O24: שירותי תחבורה, אחסנה, | P24: 53-49 | Q24: H | AA24: שירותי תחבורה, אחסנה, | AB24: 53-49 | AC24: H
B25: postal and courier activities | C25: 9.3 | D25: 10235 | E25: 948 | F25: 9.7 | G25: 3559 | H25: 346 | I25: 8.7 | J25: 5247 | K25: 456 | L25: 8.5 | M25: 4422 | N25: 374 | O25: דואר ובלדרות | R25: 8.2 | S25: 898 | T25: 74 | U25: 9.4 | V25: 5609 | W25: 528 | X25: 6.4 | Y25: 7492 | Z25: 477 | AA25: דואר ובלדרות
A26: 55-56 | B26: Accommodation and food service activities | C26: 15.1 | D26: 5635 | E26: 853 | F26: 15.3 | G26: 2844 | H26: 436 | I26: 14.2 | J26: 4899 | K26: 696 | L26: 13.6 | M26: 2262 | N26: 308 | O26: שירותי אירוח ואוכל | P26: 56-55 | Q26: I | R26: 14.4 | S26: 472 | T26: 68 | U26: 15.8 | V26: 3003 | W26: 475 | X26: 13.4 | Y26: 5967 | Z26: 802 | AA26: שירותי אירוח ואוכל | AB26: 56-55 | AC26: I
A27: 58-63 | B27: Information and communications | C27: 10.8 | D27: 7030 | E27: 758 | F27: 11.1 | G27: 1798 | H27: 199 | I27: 13.8 | J27: 1264 | K27: 174 | L27: 10.5 | M27: 1567 | N27: 165 | O27: מידע ותקשורת | P27: 63-58 | Q27: J | R27: 11.1 | S27: 639 | T27: 71 | U27: 16.7 | V27: 935 | W27: 156 | X27: 11.4 | Y27: 9048 | Z27: 1030 | AA27: מידע ותקשורת | AB27: 63-58 | AC27: J
A28: 64-66 | B28: Financial and insurance activities | C28: 8.6 | D28: 4179 | E28: 359 | F28: 7.2 | G28: 1574 | H28: 114 | I28: 7.6 | J28: 1254 | K28: 95 | L28: 5.1 | M28: 955 | N28: 49 | O28: שירותים פיננסיים ושירותי ביטוח | P28: 66-64 | Q28: K | R28: 10.6 | S28: 284 | T28: 30 | U28: 9 | V28: 841 | W28: 76 | X28: 7.6 | Y28: 5269 | Z28: 401 | AA28: שירותים פיננסיים ושירותי ביטוח | AB28: 66-64 | AC28: K
A29: 68 | B29: Real estate activities | C29: 10.5 | D29: 9456 | E29: 993 | F29: 11 | G29: 3496 | H29: 383 | I29: 11.6 | J29: 2859 | K29: 333 | L29: 10.1 | M29: 2917 | N29: 295 | O29: פעילויות בנדל"ן | P29: 68 | Q29: L | R29: 12.7 | S29: 590 | T29: 75 | U29: 11.5 | V29: 3165 | W29: 365 | X29: 8 | Y29: 12887 | Z29: 1036 | AA29: פעילויות בנדל"ן | AB29: 68 | AC29: L
A30: 69-75 | B30: Professional, scientific | O30: שירותים מקצועיים, | P30: 75-69 | Q30: M | AA30: שירותים מקצועיים, | AB30: 75-69 | AC30: M
B31: and technical activities | C31: 9.8 | D31: 31762 | E31: 3098 | F31: 8.7 | G31: 11941 | H31: 1044 | I31: 9.2 | J31: 10237 | K31: 937 | L31: 8.6 | M31: 8266 | N31: 707 | O31: מדעיים וטכניים | R31: 11.4 | S31: 2939 | T31: 336 | U31: 10.9 | V31: 6927 | W31: 758 | X31: 8.2 | Y31: 36179 | Z31: 2950 | AA31: מדעיים וטכניים
A32: 77-82 | B32: Administrative | O32: שירותי ניהול | P32: 82-77 | Q32: N | AA32: שירותי ניהול | AB32: 82-77 | AC32: N
B33: and support service activities | C33: 10.2 | D33: 5898 | E33: 599 | F33: 11.2 | G33: 2238 | H33: 251 | I33: 11 | J33: 2373 | K33: 261 | L33: 8.7 | M33: 1796 | N33: 156 | O33: ותמיכה | R33: 9.7 | S33: 701 | T33: 68 | U33: 13.6 | V33: 2008 | W33: 274 | X33: 8.1 | Y33: 4885 | Z33: 397 | AA33: ותמיכה
A34: 85 | B34: Education | C34: 7 | D34: 5677 | E34: 395 | F34: 7 | G34: 2218 | H34: 155 | I34: 7.7 | J34: 2320 | K34: 179 | L34: 7.3 | M34: 2442 | N34: 178 | O34: חינוך | P34: 85 | Q34: P | R34: 7.2 | S34: 887 | T34: 64 | U34: 9 | V34: 1675 | W34: 150 | X34: 6.6 | Y34: 3925 | Z34: 260 | AA34: חינוך | AB34: 85 | AC34: P
A35: 86-88 | B35: Human health and social work activities | C35: 6.7 | D35: 12273 | E35: 819 | F35: 7 | G35: 5573 | H35: 390 | I35: 8 | J35: 5169 | K35: 412 | L35: 7.8 | M35: 4809 | N35: 377 | O35: שירותי בריאות, רווחה וסעד | P35: 88-86 | Q35: Q | R35: 11.7 | S35: 1357 | T35: 159 | U35: 7.4 | V35: 3759 | W35: 277 | X35: 6.1 | Y35: 10370 | Z35: 635 | AA35: שירותי בריאות, רווחה וסעד | AB35: 88-86 | AC35: Q
A36: 90-93 | B36: Arts, entertainment and recreation | C36: 8 | D36: 5191 | E36: 413 | F36: 8.7 | G36: 1729 | H36: 150 | I36: 11 | J36: 1838 | K36: 202 | L36: 7.4 | M36: 1399 | N36: 104 | O36: אמנות, בידור ופנאי | P36: 93-90 | Q36: R | R36: 8.7 | S36: 562 | T36: 49 | U36: 10 | V36: 1638 | W36: 163 | X36: 5.9 | Y36: 7646 | Z36: 453 | AA36: אמנות, בידור ופנאי | AB36: 93-90 | AC36: R
A37: 94-96 | B37: Other service activities | C37: 7.8 | D37: 6533 | E37: 508 | F37: 8.4 | G37: 2590 | H37: 217 | I37: 9.8 | J37: 2580 | K37: 253 | L37: 7.6 | M37: 2331 | N37: 177 | O37: שירותים אחרים | P37: 96-94 | Q37: S | R37: 10.7 | S37: 729 | T37: 78 | U37: 8.1 | V37: 2504 | W37: 204 | X37: 7 | Y37: 6008 | Z37: 419 | AA37: שירותים אחרים | AB37: 96-94 | AC37: S
A39: (1) Businesses classified in industries 83-84 (Local, public and defence administration and | AC39: (1) מאוכלוסיית העסקים הפעילים הוסרו עסקים המסווגים בענפים הכלכליים הבאים: 84-83 (מינהל מקומי,
A40: social security), 97-98 (Households as employers), and 99 (Extraterritorial organizations and | AC40: ציבורי וביטחון וביטוח לאומי), 98-97 (משקי בית כמעסיקים) ו-99 (ארגונים וגופים חוץ-מדינתיים),
A41: bodies), were not included in the business birth or death population, in accordance with Eurostat | AC41: ענפים אלה לא נכללו בחישוב לידות עסקים ועסקים שלא שרדו, בהתאם להגדרות ה-Eurostat
A42: and OECD definitions. Therefore, they were also deducted from the active businesses population. | AC42: וה-OECD.
A43: (2) Israeli localities. | AC43: (2) יישובים ישראליים.
A45: מחוז | B45: מס' עסקים שנולדו | C45: מס' עסקים שלא שרדו | D45: מס' עסקים פעילים
A46: המרכז
A47: חיפה
A48: הצפון
A49: ירושלים
A50: איו"ש
A51: הדרום
A52: תל אביב

Sheet 2017 לידות
A1: TABLE 15. BUSINESS BIRTHS, BY DISTRICT AND INDUSTRY (2011 CLASSIFICATION) | Q1: לוח 15. עסקים שנולדו, לפי מחוז וענף כלכלי (סיווג 2011) | AC1: לוח 15. לידות עסקים, לפי מחוז וענף כלכלי (סיווג 2011) (המשך)
A2: 2017
D3: ה מ ר כ ז | G3: ח י פ ה | J3: ה צ פ ו ן | L3: י ר ו ש ל י ם | R3: אזור יהודה והשומרון (2) | U3: ה ד ר ו ם | X3: ת ל א ב י ב
D4: C e n t r a l | G4: H a i f a | J4: N o r t h e r n | L4: J e r u s a l e m | R4: Judea and Samaria Area (2) | U4: S o u t h e r n | X4: T e l A v i v
C5: אחוז | D5: עסקים | E5: לידות | F5: אחוז | G5: עסקים | H5: לידות | I5: אחוז | J5: עסקים | K5: לידות | L5: אחוז | M5: עסקים | N5: לידות | R5: אחוז | S5: עסקים | T5: לידות | U5: אחוז | V5: עסקים | W5: לידות | X5: אחוז | Y5: עסקים | Z5: לידות
C6: לידות | D6: פעילים (1) | E6: עסקים | F6: לידות | G6: פעילים (1) | H6: עסקים | I6: לידות | J6: פעילים (1) | K6: עסקים | L6: לידות | M6: פעילים (1) | N6: עסקים | R6: לידות | S6: פעילים (1) | T6: עסקים | U6: לידות | V6: פעילים (1) | W6: עסקים | X6: לידות | Y6: פעילים (1) | Z6: עסקים
A7: Divi- | B7: Industry | C7: מסך עסקים | F7: מסך עסקים | I7: מסך עסקים | L7: מסך עסקים | O7: ענף כלכלי | P7: ענף | Q7: סדר | R7: מסך עסקים | U7: מסך עסקים | X7: מסך עסקים | AA7: ענף כלכלי | AB7: ענף | AC7: סדר
A8: sion | C8: פעילים (1) | F8: פעילים (1) | I8: פעילים (1) | L8: פעילים (1) | P8: ראשי | Q8: Cate- | R8: פעילים (1) | U8: פעילים (1) | X8: פעילים (1) | AB8: ראשי | AC8: Cate-
C9: Percentage | F9: Percentage | I9: Percentage | L9: Percentage | Q9: gory | R9: Percentage | U9: Percentage | X9: Percentage | AC9: gory
C10: of births | F10: of births | I10: of births | L10: of births | R10: of births | U10: of births | X10: of births
C11: of total | F11: of total | I11: of total | L11: of total | R11: of total | U11: of total | X11: of total
C12: active | D12: Active | F12: active | G12: Active | I12: active | J12: Active | L12: active | M12: Active | R12: active | S12: Active | U12: active | V12: Active | X12: active | Y12: Active
C13: businesses | D13: businesses | E13: Business | F13: businesses | G13: businesses | H13: Business | I13: businesses | J13: businesses | K13: Business | L13: businesses | M13: businesses | N13: Business | R13: businesses | S13: businesses | T13: Business | U13: businesses | V13: businesses | W13: Business | X13: businesses | Y13: businesses | Z13: Business
C14: (1) | D14: (1) | E14: births | F14: (1) | G14: (1) | H14: births | I14: (1) | J14: (1) | K14: births | L14: (1) | M14: (1) | N14: births | R14: (1) | S14: (1) | T14: births | U14: (1) | V14: (1) | W14: births | X14: (1) | Y14: (1) | Z14: births
B15: Total | C15: 8.7 | D15: 159699 | E15: 13936 | F15: 9.2 | G15: 64769 | H15: 5961 | I15: 9.8 | J15: 83295 | K15: 8144 | L15: 9.4 | M15: 49818 | N15: 4696 | O15: סך הכל | R15: 10 | S15: 15948 | T15: 1600 | U15: 10.1 | V15: 57208 | W15: 5801 | X15: 7.8 | Y15: 151224 | Z15: 11796 | AA15: סך הכל
A16: 01-04 | B16: Agriculture, forestry and fishing | C16: 3.5 | D16: 2901 | E16: 102 | F16: 5.2 | G16: 1054 | H16: 55 | I16: 4.2 | J16: 6216 | K16: 260 | L16: .. | M16: .. | N16: .. | O16: חקלאות, ייעור ודיג | P16: 04-01 | Q16: A | R16: .. | S16: .. | T16: .. | U16: 4.1 | V16: 3557 | W16: 147 | X16: 6.1 | Y16: 264 | Z16: 16 | AA16: חקלאות, ייעור ודיג | AB16: 04-01 | AC16: A
A17: 05-34 | B17: Manufacturing, mining and quarrying | C17: 5 | D17: 6026 | E17: 304 | F17: 6.7 | G17: 3060 | H17: 205 | I17: 6.6 | J17: 4372 | K17: 287 | L17: 5.8 | M17: 1657 | N17: 96 | O17: תעשייה, כרייה וחציבה | P17: 34-05 | Q17: B-C | R17: 6.8 | S17: 725 | T17: 49 | U17: 6.8 | V17: 2459 | W17: 167 | X17: 4.8 | Y17: 5797 | Z17: 277 | AA17: תעשייה, כרייה וחציבה | AB17: 34-05 | AC17: B-C
A18: 35-39 | B18: Electricity and water supply, | O18: אספקת חשמל ומים, | P18: 39-35 | Q18: D-E | AA18: אספקת חשמל ומים, | AB18: 39-35 | AC18: D-E
B19: sewerage and waste management | C19: 9.6 | D19: 397 | E19: 38 | F19: 5.8 | G19: 172 | H19: 10 | I19: 7.1 | J19: 397 | K19: 28 | L19: .. | M19: .. | N19: .. | O19: שירותי ביוב וטיפול בפסולת | R19: .. | S19: .. | T19: .. | U19: 7.4 | V19: 243 | W19: 18 | X19: 9.1 | Y19: 197 | Z19: 18 | AA19: שירותי ביוב וטיפול בפסולת
A20: 41-43 | B20: Construction | C20: 9.3 | D20: 17026 | E20: 1589 | F20: 11.4 | G20: 7981 | H20: 907 | I20: 12.8 | J20: 14448 | K20: 1849 | L20: 14 | M20: 5264 | N20: 739 | O20: בינוי | P20: 43-41 | Q20: F | R20: 10.4 | S20: 1819 | T20: 189 | U20: 12.9 | V20: 8046 | W20: 1040 | X20: 8 | Y20: 9446 | Z20: 751 | AA20: בינוי | AB20: 43-41 | AC20: F
A21: 45-47 | B21: Wholesale and retail trade | O21: מסחר סיטוני וקמעוני | P21: 47-45 | Q21: G | AA21: מסחר סיטוני וקמעוני | AB21: 47-45 | AC21: G
B22: and repair of motor vehicles | C22: 8.5 | D22: 24964 | E22: 2124 | F22: 9.3 | G22: 11467 | H22: 1064 | I22: 10 | J22: 16224 | K22: 1626 | L22: 9 | M22: 8113 | N22: 733 | O22: ותיקון כלי רכב מנועיים | R22: 9.3 | S22: 2099 | T22: 195 | U22: 10.5 | V22: 9680 | W22: 1015 | X22: 7.4 | Y22: 22928 | Z22: 1707 | AA22: ותיקון כלי רכב מנועיים
A23: 49-53 | B23: Transportation, storage, | O23: שירותי תחבורה, אחסנה, | P23: 53-49 | Q23: H | AA23: שירותי תחבורה, אחסנה, | AB23: 53-49 | AC23: H
B24: postal and courier activities | C24: 8.8 | D24: 10641 | E24: 932 | F24: 9.9 | G24: 3660 | H24: 363 | I24: 9.8 | J24: 5461 | K24: 535 | L24: 10.1 | M24: 4607 | N24: 464 | O24: דואר ובלדרות | R24: 9.3 | S24: 937 | T24: 87 | U24: 9.9 | V24: 5799 | W24: 577 | X24: 6.8 | Y24: 7613 | Z24: 514 | AA24: דואר ובלדרות
A25: 55-56 | B25: Accommodation and food service activities | C25: 13.6 | D25: 5620 | E25: 765 | F25: 15.5 | G25: 2929 | H25: 455 | I25: 12.7 | J25: 4890 | K25: 619 | L25: 12.5 | M25: 2239 | N25: 280 | O25: שירותי אירוח ואוכל | P25: 56-55 | Q25: I | R25: 15.2 | S25: 506 | T25: 77 | U25: 14.7 | V25: 3011 | W25: 444 | X25: 12.5 | Y25: 5894 | Z25: 739 | AA25: שירותי אירוח ואוכל | AB25: 56-55 | AC25: I
A26: 58-63 | B26: Information and communications | C26: 11.3 | D26: 7193 | E26: 813 | F26: 10.8 | G26: 1851 | H26: 200 | I26: 9.1 | J26: 1235 | K26: 112 | L26: 11.3 | M26: 1603 | N26: 181 | O26: מידע ותקשורת | P26: 63-58 | Q26: J | R26: 14.4 | S26: 679 | T26: 98 | U26: 11.7 | V26: 965 | W26: 113 | X26: 10.8 | Y26: 9231 | Z26: 997 | AA26: מידע ותקשורת | AB26: 63-58 | AC26: J
A27: 64-66 | B27: Financial and insurance activities | C27: 8.2 | D27: 4388 | E27: 359 | F27: 7 | G27: 1625 | H27: 113 | I27: 6.7 | J27: 1289 | K27: 87 | L27: 7.4 | M27: 989 | N27: 73 | O27: שירותים פיננסיים ושירותי ביטוח | P27: 66-64 | Q27: K | R27: 8.4 | S27: 296 | T27: 25 | U27: 7.1 | V27: 854 | W27: 61 | X27: 7.4 | Y27: 5405 | Z27: 402 | AA27: שירותים פיננסיים ושירותי ביטוח | AB27: 66-64 | AC27: K
A28: 68 | B28: Real estate activities | C28: 9.9 | D28: 9910 | E28: 979 | F28: 9.8 | G28: 3635 | H28: 355 | I28: 10.7 | J28: 2971 | K28: 318 | L28: 9.7 | M28: 3046 | N28: 296 | O28: פעילויות בנדל"ן | P28: 68 | Q28: L | R28: 12.7 | S28: 644 | T28: 82 | U28: 11.2 | V28: 3287 | W28: 367 | X28: 7.6 | Y28: 13219 | Z28: 1011 | AA28: פעילויות בנדל"ן | AB28: 68 | AC28: L
A29: 69-75 | B29: Professional, scientific | O29: שירותים מקצועיים, | P29: 75-69 | Q29: M | AA29: שירותים מקצועיים, | AB29: 75-69 | AC29: M
B30: and technical activities | C30: 9.2 | D30: 33469 | E30: 3079 | F30: 8 | G30: 12441 | H30: 995 | I30: 9.1 | J30: 10759 | K30: 981 | L30: 8.3 | M30: 8563 | N30: 713 | O30: מדעיים וטכניים | R30: 10 | S30: 3096 | T30: 311 | U30: 10.5 | V30: 7365 | W30: 775 | X30: 8.2 | Y30: 37411 | Z30: 3083 | AA30: מדעיים וטכניים
A31: 77-82 | B31: Administrative | O31: שירותי ניהול | P31: 82-77 | Q31: N | AA31: שירותי ניהול | AB31: 82-77 | AC31: N
B32: and support service activities | C32: 10.2 | D32: 6215 | E32: 636 | F32: 10.4 | G32: 2313 | H32: 241 | I32: 10.6 | J32: 2479 | K32: 264 | L32: 9.3 | M32: 1877 | N32: 174 | O32: ותמיכה | R32: 8.7 | S32: 747 | T32: 65 | U32: 12.3 | V32: 2090 | W32: 257 | X32: 8 | Y32: 5013 | Z32: 400 | AA32: ותמיכה
A33: 85 | B33: Education | C33: 7.3 | D33: 5947 | E33: 436 | F33: 7.2 | G33: 2265 | H33: 162 | I33: 9.1 | J33: 2437 | K33: 222 | L33: 8.1 | M33: 2570 | N33: 208 | O33: חינוך | P33: 85 | Q33: P | R33: 7.6 | S33: 932 | T33: 71 | U33: 7.2 | V33: 1722 | W33: 124 | X33: 7.2 | Y33: 4055 | Z33: 291 | AA33: חינוך | AB33: 85 | AC33: P
A34: 86-88 | B34: Human health and social work activities | C34: 6.7 | D34: 12762 | E34: 859 | F34: 7.5 | G34: 5767 | H34: 430 | I34: 9.6 | J34: 5518 | K34: 532 | L34: 8 | M34: 4972 | N34: 397 | O34: שירותי בריאות, רווחה וסעד | P34: 88-86 | Q34: Q | R34: 11.1 | S34: 1453 | T34: 162 | U34: 7.7 | V34: 3879 | W34: 299 | X34: 6.3 | Y34: 10691 | Z34: 676 | AA34: שירותי בריאות, רווחה וסעד | AB34: 88-86 | AC34: Q
A35: 90-93 | B35: Arts, entertainment and recreation | C35: 7.4 | D35: 5463 | E35: 404 | F35: 9.4 | G35: 1868 | H35: 175 | I35: 9.9 | J35: 1951 | K35: 193 | L35: 8.7 | M35: 1468 | N35: 127 | O35: אמנות, בידור ופנאי | P35: 93-90 | Q35: R | R35: 11.2 | S35: 636 | T35: 71 | U35: 9.7 | V35: 1678 | W35: 163 | X35: 5.9 | Y35: 7897 | Z35: 464 | AA35: אמנות, בידור ופנאי | AB35: 93-90 | AC35: R
A36: 94-96 | B36: Other service activities | C36: 7.6 | D36: 6777 | E36: 517 | F36: 8.6 | G36: 2681 | H36: 231 | I36: 8.7 | J36: 2648 | K36: 231 | L36: 8 | M36: 2409 | N36: 192 | O36: שירותים אחרים | P36: 96-94 | Q36: S | R36: 10.6 | S36: 789 | T36: 84 | U36: 9.1 | V36: 2573 | W36: 234 | X36: 7.3 | Y36: 6163 | Z36: 450 | AA36: שירותים אחרים | AB36: 96-94 | AC36: S
A38: (1) Businesses classified in industries 83-84 (Local, public and defence administration and | AC38: (1) מאוכלוסיית העסקים הפעילים הוסרו עסקים המסווגים בענפים הכלכליים הבאים: 84-83 (מינהל מקומי,
A39: social security), 97-98 (Households as employers), and 99 (Extraterritorial organizations and | AC39: ציבורי וביטחון וביטוח לאומי), 98-97 (משקי בית כמעסיקים) ו-99 (ארגונים וגופים חוץ-מדינתיים),
A40: bodies), were not included in the business birth or death population, in accordance with Eurostat | AC40: ענפים אלה לא נכללו בחישוב לידות עסקים ועסקים שלא שרדו, בהתאם להגדרות ה-Eurostat
A41: and OECD definitions. Therefore, they were also deducted from the active businesses population. | AC41: וה-OECD.
A42: (2) Israeli localities. | AC42: (2) יישובים ישראליים.
A45: מחוז | B45: מס' עסקים שנולדו
A46: המרכז
A47: חיפה
A48: הצפון
A49: ירושלים
A50: איו"ש
A51: הדרום
A52: תל אביב

Sheet 2019 לידות
P1: לוח 5.- לידות עסקים, לפי מחוז וענף כלכלי (סיווג 2011) | Q1: TABLE 5.- (Cont'd) | AD1: לוח 5.- (המשך)
G2: 2019 | W2: 2019
C3: ה מ ר כ ז | F3: ח י פ ה | I3: ה צ פ ו ן | K3: י ר ו ש ל י ם | S3: אזור יהודה והשומרון (1) | V3: ה ד ר ו ם | Y3: ת ל א ב י ב
C4: C e n t r a l | F4: H a i f a | I4: N o r t h e r n | K4: J e r u s a l e m | S4: Judea and Samaria Area (1) | V4: S o u t h e r n | Y4: T e l A v i v
B5: אחוז | C5: עסקים | D5: לידות | E5: אחוז | F5: עסקים | G5: לידות | H5: אחוז | I5: עסקים | J5: לידות | K5: אחוז | L5: עסקים | M5: לידות | S5: אחוז | T5: עסקים | U5: לידות | V5: אחוז | W5: עסקים | X5: לידות | Y5: אחוז | Z5: עסקים | AA5: לידות
B6: לידות | C6: פעילים (1) | D6: עסקים | E6: לידות | F6: פעילים (1) | G6: עסקים | H6: לידות | I6: פעילים (1) | J6: עסקים | K6: לידות | L6: פעילים (1) | M6: עסקים | S6: לידות | T6: פעילים (1) | U6: עסקים | V6: לידות | W6: פעילים (1) | X6: עסקים | Y6: לידות | Z6: פעילים (1) | AA6: עסקים
A7: Industry | B7: מסך עסקים | E7: מסך עסקים | H7: מסך עסקים | K7: מסך עסקים | N7: ענף כלכלי | O7: ענף | P7: סדר | Q7: Divi- | R7: Industry | S7: מסך עסקים | V7: מסך עסקים | Y7: מסך עסקים | AB7: ענף כלכלי | AC7: ענף | AD7: סדר
B8: פעילים (1) | E8: פעילים (1) | H8: פעילים (1) | K8: פעילים (1) | O8: ראשי | P8: Cate- | Q8: sion | S8: פעילים (1) | V8: פעילים (1) | Y8: פעילים (1) | AC8: ראשי | AD8: Cate-
AD9: gory
B10: Percentage | E10: Percentage | H10: Percentage | K10: Percentage | P10: gory | S10: Percentage | V10: Percentage | Y10: Percentage
B11: of births | E11: of births | H11: of births | K11: of births | S11: of births | V11: of births | Y11: of births
B12: of total | E12: of total | H12: of total | K12: of total | S12: of total | V12: of total | Y12: of total
B13: active | C13: Active | E13: active | F13: Active | H13: active | I13: Active | K13: active | L13: Active | S13: active | T13: Active | V13: active | W13: Active | Y13: active | Z13: Active
B14: businesses | C14: businesses | D14: Business | E14: businesses | F14: businesses | G14: Business | H14: businesses | I14: businesses | J14: Business | K14: businesses | L14: businesses | M14: Business | S14: businesses | T14: businesses | U14: Business | V14: businesses | W14: businesses | X14: Business | Y14: businesses | Z14: businesses | AA14: Business
B15: (1) | C15: (1) | D15: births | E15: (1) | F15: (1) | G15: births | H15: (1) | I15: (1) | J15: births | K15: (1) | L15: (1) | M15: births | S15: (1) | T15: (1) | U15: births | V15: (1) | W15: (1) | X15: births | Y15: (1) | Z15: (1) | AA15: births
A16: Total | B16: 8.1 | C16: 168443 | D16: 13599 | E16: 8.5 | F16: 67766 | G16: 5768 | H16: 9.3 | I16: 88540 | J16: 8217 | K16: 9.2 | L16: 53355 | M16: 4934 | N16: סך הכל | R16: Total | S16: 9.4 | T16: 17511 | U16: 1640 | V16: 9.7 | W16: 61043 | X16: 5905 | Y16: 7.2 | Z16: 156367 | AA16: 11281 | AB16: סך הכל
A17: Agriculture, forestry and fishing | B17: 4.1 | C17: 2870 | D17: 118 | E17: 5.1 | F17: 1027 | G17: 52 | H17: 4.3 | I17: 6284 | J17: 273 | K17: 3 | L17: 363 | M17: 11 | N17: חקלאות, ייעור ודיג | O17: 04-01 | P17: A | Q17: 01-04 | R17: Agriculture, forestry and fishing | S17: 7.8 | T17: 578 | U17: 45 | V17: 4.4 | W17: 3659 | X17: 162 | Y17: 5.2 | Z17: 270 | AA17: 14 | AB17: חקלאות, ייעור ודיג | AC17: 04-01 | AD17: A
A18: Manufacturing, mining and quarrying | B18: 3.4 | C18: 5816 | D18: 197 | E18: 4.5 | F18: 2921 | G18: 131 | H18: 5.8 | I18: 4368 | J18: 252 | K18: 5.5 | L18: 1604 | M18: 88 | N18: תעשייה, כרייה וחציבה | O18: 34-05 | P18: B-C | Q18: 05-34 | R18: Manufacturing, mining and quarrying | S18: 5.9 | T18: 730 | U18: 43 | V18: 5.2 | W18: 2444 | X18: 127 | Y18: 3.4 | Z18: 5405 | AA18: 184 | AB18: תעשייה, כרייה וחציבה | AC18: 34-05 | AD18: B-C
A19: Electricity and water supply, | N19: אספקת חשמל ומים, | O19: 39-35 | P19: D-E | Q19: 35-39 | R19: Electricity and water supply, | AB19: אספקת חשמל ומים, | AC19: 39-35 | AD19: D-E
A20: sewerage and waste management | B20: 8.3 | C20: 408 | D20: 34 | E20: 9.8 | F20: 183 | G20: 18 | H20: 8.6 | I20: 418 | J20: 36 | K20: .. | L20: 61 | M20: .. | N20: שירותי ביוב וטיפול בפסולת | R20: sewerage and waste management | S20: .. | T20: 60 | U20: .. | V20: 8.5 | W20: 246 | X20: 21 | Y20: 7.9 | Z20: 216 | AA20: 17 | AB20: שירותי ביוב וטיפול בפסולת
A21: Construction | B21: 8.1 | C21: 17975 | D21: 1463 | E21: 9.4 | F21: 8489 | G21: 796 | H21: 12 | I21: 15924 | J21: 1906 | K21: 12.1 | L21: 5813 | M21: 706 | N21: בינוי | O21: 43-41 | P21: F | Q21: 41-43 | R21: Construction | S21: 8.3 | T21: 1973 | U21: 164 | V21: 11.4 | W21: 8813 | X21: 1009 | Y21: 7.1 | Z21: 9707 | AA21: 688 | AB21: בינוי | AC21: 43-41 | AD21: F
A22: Wholesale and retail trade | N22: מסחר סיטוני וקמעוני | O22: 47-45 | P22: G | Q22: 45-47 | R22: Wholesale and retail trade | AB22: מסחר סיטוני וקמעוני | AC22: 47-45 | AD22: G
A23: and repair of motor vehicles | B23: 7.8 | C23: 25037 | D23: 1942 | E23: 8.9 | F23: 11372 | G23: 1009 | H23: 9.4 | I23: 16595 | J23: 1558 | K23: 9.4 | L23: 8352 | M23: 788 | N23: ותיקון כלי רכב מנועיים | R23: and repair of motor vehicles | S23: 9.8 | T23: 2189 | U23: 214 | V23: 9.4 | W23: 9794 | X23: 922 | Y23: 6.6 | Z23: 22279 | AA23: 1471 | AB23: ותיקון כלי רכב מנועיים
A24: Transportation, storage, | N24: שירותי תחבורה, אחסנה, | O24: 53-49 | P24: H | Q24: 49-53 | R24: Transportation, storage, | AB24: שירותי תחבורה, אחסנה, | AC24: 53-49 | AD24: H
A25: postal and courier activities | B25: 9.8 | C25: 11370 | D25: 1117 | E25: 8.9 | F25: 3820 | G25: 341 | H25: 9.3 | I25: 5785 | J25: 536 | K25: 10.7 | L25: 4942 | M25: 531 | N25: דואר ובלדרות | R25: postal and courier activities | S25: 8.5 | T25: 977 | U25: 83 | V25: 9.6 | W25: 6128 | X25: 590 | Y25: 7.5 | Z25: 7755 | AA25: 579 | AB25: דואר ובלדרות
A26: Accommodation and food service activities | B26: 13.3 | C26: 5729 | D26: 760 | E26: 14.6 | F26: 3033 | G26: 443 | H26: 11.7 | I26: 5005 | J26: 584 | K26: 12.7 | L26: 2384 | M26: 303 | N26: שירותי אירוח ואוכל | O26: 56-55 | P26: I | Q26: 55-56 | R26: Accommodation and food service activities | S26: 13.2 | T26: 546 | U26: 72 | V26: 15.6 | W26: 3180 | X26: 495 | Y26: 12.2 | Z26: 5972 | AA26: 729 | AB26: שירותי אירוח ואוכל | AC26: 56-55 | AD26: I
A27: Information and communications | B27: 9.6 | C27: 7635 | D27: 732 | E27: 10.1 | F27: 1966 | G27: 198 | H27: 10.4 | I27: 1275 | J27: 132 | K27: 10.1 | L27: 1686 | M27: 171 | N27: מידע ותקשורת | O27: 63-58 | P27: J | Q27: 58-63 | R27: Information and communications | S27: 9.2 | T27: 740 | U27: 68 | V27: 9.6 | W27: 1046 | X27: 100 | Y27: 9.6 | Z27: 9716 | AA27: 934 | AB27: מידע ותקשורת | AC27: 63-58 | AD27: J
A28: Financial and insurance activities | B28: 7.9 | C28: 4775 | D28: 379 | E28: 5.7 | F28: 1717 | G28: 98 | H28: 6.8 | I28: 1373 | J28: 94 | K28: .. | L28: 1004 | M28: .. | N28: שירותים פיננסיים ושירותי ביטוח | O28: 66-64 | P28: K | Q28: 64-66 | R28: Financial and insurance activities | S28: .. | T28: 332 | U28: .. | V28: 7.5 | W28: 930 | X28: 70 | Y28: 6.3 | Z28: 5641 | AA28: 356 | AB28: שירותים פיננסיים ושירותי ביטוח | AC28: 66-64 | AD28: K
A29: Real estate activities | B29: 8.7 | C29: 10689 | D29: 932 | E29: 9.1 | F29: 3891 | G29: 356 | H29: 7.6 | I29: 3191 | J29: 243 | K29: 9.2 | L29: 3353 | M29: 310 | N29: פעילויות בנדל"ן | O29: 68 | P29: L | Q29: 68 | R29: Real estate activities | S29: 10.8 | T29: 744 | U29: 80 | V29: 11.6 | W29: 3578 | X29: 415 | Y29: 6.6 | Z29: 13763 | AA29: 913 | AB29: פעילויות בנדל"ן | AC29: 68 | AD29: L
A30: Professional, scientific | N30: שירותים מקצועיים, | O30: 75-69 | P30: M | Q30: 69-75 | R30: Professional, scientific | AB30: שירותים מקצועיים, | AC30: 75-69 | AD30: M
A31: and technical activities | B31: 8.7 | C31: 36020 | D31: 3147 | E31: 8.3 | F31: 13276 | G31: 1100 | H31: 9.3 | I31: 11815 | J31: 1102 | K31: 8.1 | L31: 9242 | M31: 749 | N31: מדעיים וטכניים | R31: and technical activities | S31: 10 | T31: 3475 | U31: 348 | V31: 9.9 | W31: 8201 | X31: 811 | Y31: 7.8 | Z31: 39659 | AA31: 3097 | AB31: מדעיים וטכניים
A32: Administrative | N32: שירותי ניהול | O32: 82-77 | P32: N | Q32: 77-82 | R32: Administrative | AB32: שירותי ניהול | AC32: 82-77 | AD32: N
A33: and support service activities | B33: 9.3 | C33: 6715 | D33: 622 | E33: 10.4 | F33: 2458 | G33: 256 | H33: 10.9 | I33: 2733 | J33: 298 | K33: 9.8 | L33: 2129 | M33: 209 | N33: ותמיכה | R33: and support service activities | S33: 11.3 | T33: 866 | U33: 98 | V33: 12 | W33: 2239 | X33: 268 | Y33: 7.5 | Z33: 5157 | AA33: 386 | AB33: ותמיכה
A34: Education | B34: 6.3 | C34: 6422 | D34: 406 | E34: 7.1 | F34: 2510 | G34: 178 | H34: 8.7 | I34: 2650 | J34: 230 | K34: 8.2 | L34: 2854 | M34: 234 | N34: חינוך | O34: 85 | P34: P | Q34: 85 | R34: Education | S34: 8.4 | T34: 1036 | U34: 87 | V34: 8.1 | W34: 1928 | X34: 156 | Y34: 6.5 | Z34: 4382 | AA34: 285 | AB34: חינוך | AC34: 85 | AD34: P
A35: Human health and social work activities | B35: 5.8 | C35: 13616 | D35: 795 | E35: 6.8 | F35: 6154 | G35: 420 | H35: 8.3 | I35: 6116 | J35: 510 | K35: 7.5 | L35: 5308 | M35: 399 | N35: שירותי בריאות ושירותי רווחה וסעד | O35: 88-86 | P35: Q | Q35: 86-88 | R35: Human health and social work activities | S35: 9.4 | T35: 1591 | U35: 150 | V35: 7.7 | W35: 4147 | X35: 321 | Y35: 5.9 | Z35: 11465 | AA35: 682 | AB35: שירותי בריאות ושירותי רווחה וסעד | AC35: 88-86 | AD35: Q
A36: Arts, entertainment and recreation | B36: 7 | C36: 5939 | D36: 416 | E36: 7.5 | F36: 2052 | G36: 153 | H36: 7.9 | I36: 2116 | J36: 168 | K36: 8.3 | L36: 1624 | M36: 135 | N36: אמנות, בידור ופנאי | O36: 93-90 | P36: R | Q36: 90-93 | R36: Arts, entertainment and recreation | S36: 7.5 | T36: 721 | U36: 54 | V36: 10.3 | W36: 1838 | X36: 189 | Y36: 5.5 | Z36: 8377 | AA36: 464 | AB36: אמנות, בידור ופנאי | AC36: 93-90 | AD36: R
A37: Other service activities | B37: 7.3 | C37: 7427 | D37: 539 | E37: 7.6 | F37: 2897 | G37: 219 | H37: 10.2 | I37: 2892 | J37: 295 | K37: 8.9 | L37: 2636 | M37: 235 | N37: שירותים אחרים | O37: 96-94 | P37: S | Q37: 94-96 | R37: Other service activities | S37: 10.4 | T37: 953 | U37: 99 | V37: 8.7 | W37: 2872 | X37: 249 | Y37: 7.3 | Z37: 6603 | AA37: 482 | AB37: שירותים אחרים | AC37: 96-94 | AD37: S
A38: (1) Businesses classified in industries 83-84 (Local, public and defence administration and
A39: social security), 97-98 (Households as employers), and 99 (Extraterritorial organizations and | AD39: (1) מאוכלוסיית העסקים הפעילים הוסרו עסקים המסווגים בענפים הכלכליים הבאים: 83-84 (מינהל מקומי,
A40: bodies), were not included in the business birth or death population, in accordance with Eurostat | AD40: ציבורי וביטחון וביטוח לאומי), 97-98 (משקי בית כמעסיקים) ו-99 (ארגונים וגופים חוץ-מדינתיים),
A41: and OECD definitions. Therefore, they were also deducted from the active businesses population. | AD41: ענפים אלה לא נכללו בחישוב לידות עסקים ועסקים שלא שרדו, בהתאם להגדרות ה-Eurostat
A42: (2) Israeli localities. | AD42: וה-OECD.
AD43: (2) יישובים ישראליים.
A45: מחוז | B45: מס' עסקים פעילים | C45: מס' עסקים שנולדו
A46: המרכז
A47: חיפה
A48: הצפון
A49: ירושלים
A50: איו"ש
A51: הדרום
A52: תל אביב

Sheet 2018-2019
A1: לוח 3. פתיחות וסגירות עסקים בשנים 2018 ו-2019 לפי ענף כלכלי (הסיווג האחיד 2011) מתוך מרשם העסקים
J2: TABLE 3. OPENING AND CLOSURES OF BUSINESSES IN 2018, 2019 ACCORDING TO THE BUSINESS REGISTER,
A5: סדר | B5: ענף ראשי | D5: 2018 | E5: 2007 | G5: 2019 | H5: 2007
D6: פתיחות opening | E6: סגירות closures | F6: תוספת עסקים business supplemental | G6: פתיחות opening | H6: סגירות closures | I6: תוספת עסקים business supplemental
A7: כלל ענפי הכלכלה | D7: 57251 | E7: 43651 | F7: 13600 | G7: 58957 | H7: 44951 | I7: 14006 | J7: TOTAL ECONOMIC ACTIVITIES
A8: A | B8: 01-04 | C8: חקלאות, ייעור ודיג | D8: 757 | E8: 690 | F8: 67 | G8: 778 | H8: 740 | I8: 38 | J8: Agriculture, forestry and fishing
A9: B,C | B9: 05-34 | C9: תעשייה; כרייה וחציבה (1) | D9: 1390 | E9: 1566 | F9: -176 | G9: 1145 | H9: 1487 | I9: -342 | J9: Manufacturing; mining and quarrying (1)
A10: D,E | B10: 35-39 | C10: אספקת חשמל ומים, שירותי ביוב וטיפול בפסולת | D10: 126 | E10: 93 | F10: 33 | G10: 170 | H10: 108 | I10: 62 | J10: Electricity and water supply, sewerage and waste management
A11: F | B11: 41-43 | C11: בינוי | D11: 7825 | E11: 5678 | F11: 2147 | G11: 7697 | H11: 6054 | I11: 1643 | J11: Construction
A12: G | B12: 45-47 | C12: מסחר סיטוני וקמעוני ותיקון כלי רכב מנועיים | D12: 8824 | E12: 8522 | F12: 302 | G12: 8822 | H12: 8611 | I12: 211 | J12: Wholesale and retail trade and repair of motor vehicles
B13: 45 | C13: מסחר סיטוני וקמעוני בכלי רכב מנועיים ותיקונם | D13: 996 | E13: 852 | F13: 144 | G13: 1145 | H13: 887 | I13: 258 | J13: Wholesale and retail trade and repair of motor vehicles
B14: 46 | C14: מסחר סיטוני, פרט לכלי רכב מנועיים | D14: 2036 | E14: 2123 | F14: -87 | G14: 2001 | H14: 2158 | I14: -157 | J14: Wholesale trade, except motor vehicles
B15: 47 | C15: מכירה קמעונית, פרט לכלי רכב מנועיים | D15: 5792 | E15: 5547 | F15: 245 | G15: 5676 | H15: 5566 | I15: 110 | J15: Retail trade, except motor vehicles
A16: H | B16: 49-53 | C16: שירותי תחבורה, אחסנה, דואר ובלדרות | D16: 3541 | E16: 2842 | F16: 699 | G16: 3998 | H16: 3024 | I16: 974 | J16: Transportation, storage, postal and courier activities
B17: 53 | C17: שירותי דואר ובלדרות | D17: 305 | E17: 233 | F17: 72 | G17: 400 | H17: 291 | I17: 109 | J17: Postal and courier acitivities
A18: I | B18: 55-56 | C18: שירותי אירוח ואוכל | D18: 3507 | E18: 3215 | F18: 292 | G18: 3665 | H18: 3223 | I18: 442 | J18: Accommodation and food service activities
A19: J | B19: 58-63 | C19: מידע ותקשורת | D19: 2970 | E19: 2244 | F19: 726 | G19: 2778 | H19: 2258 | I19: 520 | J19: Information and communications
B20: 61-63 | C20: שירותי מידע ותקשורת, תכנות וייעוץ בתחום המחשבים ושירותים אחרים | D20: 2619 | E20: 2005 | F20: 614 | G20: 2448 | H20: 2007 | I20: 441 | J20: Telecommunications, computer programming and consultancy and related activities, information service activities
A21: K | B21: 64-66 | C21: שירותים פיננסיים ושירותי ביטוח (2) | D21: 1112 | E21: 720 | F21: 392 | G21: 1142 | H21: 709 | I21: 433 | J21: (2) Financial and insurance activities
A22: L | B22: 68 | C22: פעילויות בנדל"ן | D22: 3596 | E22: 2363 | F22: 1233 | G22: 3476 | H22: 2320 | I22: 1156 | J22: Real estate activities
A23: M | B23: 69-75 | C23: שירותים מקצועיים, מדעיים וטכניים | D23: 11384 | E23: 7550 | F23: 3834 | G23: 12255 | H23: 8103 | I23: 4152 | J23: Professional, scientific and technical activities
A24: N | B24: 77-82 | C24: שירותי ניהול ותמיכה | D24: 2384 | E24: 1828 | F24: 556 | G24: 2554 | H24: 1806 | I24: 748 | J24: Administrative and support service activities
A25: P | B25: 85 | C25: חינוך | D25: 1733 | E25: 1224 | F25: 509 | G25: 1876 | H25: 1213 | I25: 663 | J25: Education
A26: Q | B26: 86-88 | C26: שירותי בריאות ושירותי רווחה וסעד | D26: 3563 | E26: 2103 | F26: 1460 | G26: 3677 | H26: 2238 | I26: 1439 | J26: Human health and social work activities
A27: R | B27: 90-93 | C27: אמנות, בידור ופנאי | D27: 2228 | E27: 1490 | F27: 738 | G27: 2417 | H27: 1496 | I27: 921 | J27: Arts, entertainment and recreation
A28: S | B28: 94-96 | C28: שירותים אחרים (3) | D28: 2311 | E28: 1523 | F28: 788 | G28: 2507 | H28: 1561 | I28: 946 | J28: Other service activities (3)
A29: 1. קודם: תעשייה. | J29: 1. Formerly: Manufacturing
A30: 2. לא כולל בנקים וחברות ביטוח. | J30: 2. Excl. banks and insurance companies.
A31: 3. לא כולל שירותים קהילתיים, מתנ"סים ושירותי דת. | J31: 3. Excl. community institutions, community centers and religious services
A32: R = נתונים מתוקנים | J32: R = Revised data

Sheet ריכוז נתונים
A1: 2015 | Q1: שם הרשות | R1: מחוז
A2: מחוז | B2: מס' עסקים פעילים | C2: מס' עסקים שנולדו | D2: מס' עסקים שלא שרדו | E2: תוספת במספר העסקים | F2: אובדן הכנסות ארנונה מעסקים | K2: 48338 | P2: אבו גוש | Q2: אבו גוש | R2: ירושלים | U2: =P2=Q2 -> TRUE
A3: המרכז | B3: ='2015 פעילים'!F14+'2015 פעילים'!D14 -> 148938 | C3: ='2015'!F16 -> 12996 | D3: ='2015'!E16 -> 10032 | E3: =C3-D3 -> 2964 | F3: =SUMIFS('נתוני רשויות 2015'!$F$2:$F$260,'נתוני רשויות 2015'!$E$2:$E$260,'ריכוז נתונים'!$A3) -> 290940.25 | G3: =D3/B3 -> 0.067356887 | K3: =K2/0.091 -> 531186.81 | P3: אבו סנאן | Q3: אבו סנאן | R3: הצפון | U3: =P3=Q3 -> TRUE
A4: חיפה | B4: ='2015 פעילים'!H14+'2015 פעילים'!J14 -> 60813 | C4: ='2015'!J16 -> 5573 | D4: ='2015'!I16 -> 4426 | E4: =C4-D4 -> 1147 | F4: =SUMIFS('נתוני רשויות 2015'!$F$2:$F$260,'נתוני רשויות 2015'!$E$2:$E$260,'ריכוז נתונים'!$A4) -> -20982.656 | G4: =D4/B4 -> 0.072780491 | K4: =B10-K3 -> 16402.187 | P4: אבן יהודה | Q4: אבן יהודה | R4: המרכז | U4: =P4=Q4 -> TRUE
A5: הצפון | B5: ='2015 פעילים'!N14+'2015 פעילים'!L14 -> 77822 | C5: ='2015'!N16 -> 7660 | D5: ='2015'!M16 -> 5653 | E5: =C5-D5 -> 2007 | F5: =SUMIFS('נתוני רשויות 2015'!$F$2:$F$260,'נתוני רשויות 2015'!$E$2:$E$260,'ריכוז נתונים'!$A5) -> 105780.94 | G5: =D5/B5 -> 0.072640127 | P5: אום אל-פחם | Q5: אום אל-פחם | R5: חיפה | U5: =P5=Q5 -> TRUE
A6: ירושלים | B6: ='2015 פעילים'!P14+'2015 פעילים'!R14 -> 47063 | C6: ='2015'!R16 -> 4258 | D6: ='2015'!Q16 -> 3320 | E6: =C6-D6 -> 938 | F6: =SUMIFS('נתוני רשויות 2015'!$F$2:$F$260,'נתוני רשויות 2015'!$E$2:$E$260,'ריכוז נתונים'!$A6) -> 194664.23 | G6: =D6/B6 -> 0.070543739 | P6: אופקים | Q6: אופקים | R6: הדרום | U6: =P6=Q6 -> TRUE
A7: אזור יהודה והשומרון | B7: ='2015 פעילים'!W14+'2015 פעילים'!Y14 -> 14339 | C7: ='2015'!X16 -> 1426 | D7: ='2015'!W16 -> 947 | E7: =C7-D7 -> 479 | F7: =SUMIFS('נתוני רשויות 2015'!$F$2:$F$260,'נתוני רשויות 2015'!$E$2:$E$260,'ריכוז נתונים'!$A7) -> 26678.539 | G7: =D7/B7 -> 0.066043657 | P7: אור יהודה | Q7: אור יהודה | R7: תל אביב | U7: =P7=Q7 -> TRUE
A8: הדרום | B8: ='2015 פעילים'!AA14+'2015 פעילים'!AC14 -> 53261 | C8: ='2015'!AB16 -> 5490 | D8: ='2015'!AA16 -> 4088 | E8: =C8-D8 -> 1402 | F8: =SUMIFS('נתוני רשויות 2015'!$F$2:$F$260,'נתוני רשויות 2015'!$E$2:$E$260,'ריכוז נתונים'!$A8) -> 175711.65 | G8: =D8/B8 -> 0.076754098 | P8: אור עקיבא | Q8: אור עקיבא | R8: חיפה | U8: =P8=Q8 -> TRUE
A9: תל אביב | B9: ='2015 פעילים'!AE14+'2015 פעילים'!AG14 -> 145353 | C9: ='2015'!AF16 -> 11181 | D9: ='2015'!AE16 -> 9181 | E9: =C9-D9 -> 2000 | F9: =SUMIFS('נתוני רשויות 2015'!$F$2:$F$260,'נתוני רשויות 2015'!$E$2:$E$260,'ריכוז נתונים'!$A9) -> 200950.39 | G9: =D9/B9 -> 0.063163471 | P9: אורנית | Q9: אורנית | R9: אזור יהודה והשומרון | U9: =P9=Q9 -> TRUE
A10: סה"כ | B10: =SUM(B3:B9) -> 547589 | C10: =SUM(C3:C9) -> 48584 | D10: =C10-K4 -> 32181.813 | E10: =SUM(E3:E9) -> 10937 | F10: =SUM(F3:F9)+F11 -> 1288394.5 | G10: =D10/B10 -> 0.058770014 | I10: =1000*F10/D10 -> 40034.863 | P10: אזור | Q10: אזור | R10: תל אביב | U10: =P10=Q10 -> TRUE
E11: מחיקת חובות | F11: 314651.13 | P11: אילת | Q11: אילת | R11: הדרום | U11: =P11=Q11 -> TRUE
A12: 2016 | P12: אכסאל | Q12: אכסאל | R12: הצפון | U12: =P12=Q12 -> TRUE
A13: מחוז | B13: מס' עסקים פעילים | C13: מס' עסקים שנולדו | D13: מס' עסקים שלא שרדו | E13: תוספת במספר העסקים | F13: אובדן הכנסות ארנונה מעסקים | P13: אל-בטוף | Q13: אל-בטוף | R13: הצפון | U13: =P13=Q13 -> TRUE
A14: המרכז | B14: ='2016 פעילים'!F14+'2016 פעילים'!D14 -> 154381 | C14: ='2016 לידות'!E16 -> 14006 | D14: =C14-E14 -> 8563 | E14: =B14-B3 -> 5443 | F14: =SUMIFS('נתוני רשויות 2016'!$F$2:$F$260,'נתוני רשויות 2016'!$E$2:$E$260,'ריכוז נתונים'!$A14) -> 339284.66 | G14: =D14/B14 -> 0.05546667 | P14: אל קסום | Q14: אל קסום | R14: הדרום | U14: =P14=Q14 -> TRUE
A15: חיפה | B15: ='2016 פעילים'!H14+'2016 פעילים'!J14 -> 62850 | C15: ='2016 לידות'!H16 -> 5899 | D15: =C15-E15 -> 3862 | E15: =B15-B4 -> 2037 | F15: =SUMIFS('נתוני רשויות 2016'!$F$2:$F$260,'נתוני רשויות 2016'!$E$2:$E$260,'ריכוז נתונים'!$A15) -> 295190.52 | G15: =D15/B15 -> 0.061447892 | P15: אלונה | Q15: אלונה | R15: חיפה | U15: =P15=Q15 -> TRUE
A16: הצפון | B16: ='2016 פעילים'!N14+'2016 פעילים'!L14 -> 80856 | C16: ='2016 לידות'!K16 -> 8115 | D16: =C16-E16 -> 5081 | E16: =B16-B5 -> 3034 | F16: =SUMIFS('נתוני רשויות 2016'!$F$2:$F$260,'נתוני רשויות 2016'!$E$2:$E$260,'ריכוז נתונים'!$A16) -> 128329.94 | G16: =D16/B16 -> 0.062840111 | P16: אליכין | Q16: אליכין | R16: המרכז | U16: =P16=Q16 -> TRUE
A17: ירושלים | B17: ='2016 פעילים'!P14+'2016 פעילים'!R14 -> 48288 | C17: ='2016 לידות'!N16 -> 4346 | D17: =C17-E17 -> 3121 | E17: =B17-B6 -> 1225 | F17: =SUMIFS('נתוני רשויות 2016'!$F$2:$F$260,'נתוני רשויות 2016'!$E$2:$E$260,'ריכוז נתונים'!$A17) -> 227767.94 | G17: =D17/B17 -> 0.064633035 | P17: אלעד | Q17: אלעד | R17: המרכז | U17: =P17=Q17 -> TRUE
A18: אזור יהודה והשומרון | B18: ='2016 פעילים'!W14+'2016 פעילים'!Y14 -> 15181 | C18: ='2016 לידות'!T16 -> 1558 | D18: =C18-E18 -> 716 | E18: =B18-B7 -> 842 | F18: =SUMIFS('נתוני רשויות 2016'!$F$2:$F$260,'נתוני רשויות 2016'!$E$2:$E$260,'ריכוז נתונים'!$A18) -> 28420.363 | G18: =D18/B18 -> 0.047164218 | P18: אלפי מנשה | Q18: אלפי מנשה | R18: אזור יהודה והשומרון | U18: =P18=Q18 -> TRUE
A19: הדרום | B19: ='2016 פעילים'!AA14+'2016 פעילים'!AC14 -> 55462 | C19: ='2016 לידות'!W16 -> 5800 | D19: =C19-E19 -> 3599 | E19: =B19-B8 -> 2201 | F19: =SUMIFS('נתוני רשויות 2016'!$F$2:$F$260,'נתוני רשויות 2016'!$E$2:$E$260,'ריכוז נתונים'!$A19) -> 139983.47 | G19: =D19/B19 -> 0.064891277 | P19: אלקנה | Q19: אלקנה | R19: אזור יהודה והשומרון | U19: =P19=Q19 -> TRUE
A20: תל אביב | B20: ='2016 פעילים'!AE14+'2016 פעילים'!AG14 -> 148497 | C20: ='2016 לידות'!Z16 -> 11709 | D20: =C20-E20 -> 8565 | E20: =B20-B9 -> 3144 | F20: =SUMIFS('נתוני רשויות 2016'!$F$2:$F$260,'נתוני רשויות 2016'!$E$2:$E$260,'ריכוז נתונים'!$A20) -> 16585.555 | G20: =D20/B20 -> 0.057677933 | P20: אעבלין | Q20: אעבלין | R20: הצפון | U20: =P20=Q20 -> TRUE
A21: סה"כ | B21: =SUM(B14:B20) -> 565515 | C21: =SUM(C14:C20) -> 51433 | D21: =SUM(D14:D20) -> 33507 | E21: =SUM(E14:E20) -> 17926 | F21: =SUM(F14:F20)+F22 -> 1770300.4 | G21: =D21/B21 -> 0.059250418 | I21: =1000*F21/D21 -> 52833.75 | P21: אפרתה | Q21: אפרת | R21: אזור יהודה והשומרון | U21: =P21=Q21 -> FALSE
E22: מחיקת חובות | F22: 594738 | P22: אריאל | Q22: אריאל | R22: אזור יהודה והשומרון | U22: =P22=Q22 -> TRUE
A23: 2017 | P23: אשדוד | Q23: אשדוד | R23: הדרום | U23: =P23=Q23 -> TRUE
A24: מחוז | B24: מס' עסקים פעילים | C24: מס' עסקים שנולדו | D24: מס' עסקים שלא שרדו | E24: תוספת במספר העסקים | F24: אובדן הכנסות ארנונה מעסקים | P24: אשכול | Q24: אשכול | R24: הדרום | U24: =P24=Q24 -> TRUE
A25: המרכז | B25: ='2017 פעילים'!F14+'2017 פעילים'!D14 -> 159929 | C25: ='2017 לידות'!E15 -> 13936 | D25: =C25-E25 -> 8388 | E25: =B25-B14 -> 5548 | F25: =SUMIFS('נתוני רשויות 2017'!$J$2:$J$260,'נתוני רשויות 2017'!$I$2:$I$260,'ריכוז נתונים'!$A25) -> 377413.14 | G25: =D25/B25 -> 0.052448274 | P25: אשקלון | Q25: אשקלון | R25: הדרום | U25: =P25=Q25 -> TRUE
A26: חיפה | B26: ='2017 פעילים'!H14+'2017 פעילים'!J14 -> 64838 | C26: ='2017 לידות'!H15 -> 5961 | D26: =C26-E26 -> 3973 | E26: =B26-B15 -> 1988 | F26: =SUMIFS('נתוני רשויות 2017'!$J$2:$J$260,'נתוני רשויות 2017'!$I$2:$I$260,'ריכוז נתונים'!$A26) -> 215910.08 | G26: =D26/B26 -> 0.061275795 | P26: באקה אל גרבייה | Q26: באקה אל-גרביה | R26: חיפה | U26: =P26=Q26 -> FALSE
A27: הצפון | B27: ='2017 פעילים'!N14+'2017 פעילים'!L14 -> 83565 | C27: ='2017 לידות'!K15 -> 8144 | D27: =C27-E27 -> 5435 | E27: =B27-B16 -> 2709 | F27: =SUMIFS('נתוני רשויות 2017'!$J$2:$J$260,'נתוני רשויות 2017'!$I$2:$I$260,'ריכוז נתונים'!$A27) -> 157146.54 | G27: =D27/B27 -> 0.065039191 | P27: באר טוביה | Q27: באר טוביה | R27: הדרום | U27: =P27=Q27 -> TRUE
A28: ירושלים | B28: ='2017 פעילים'!P14+'2017 פעילים'!R14 -> 49944 | C28: ='2017 לידות'!N15 -> 4696 | D28: =C28-E28 -> 3040 | E28: =B28-B17 -> 1656 | F28: =SUMIFS('נתוני רשויות 2017'!$J$2:$J$260,'נתוני רשויות 2017'!$I$2:$I$260,'ריכוז נתונים'!$A28) -> 396913.27 | G28: =D28/B28 -> 0.060868172 | P28: באר יעקב | Q28: באר יעקב | R28: המרכז | U28: =P28=Q28 -> TRUE
A29: אזור יהודה והשומרון | B29: ='2017 פעילים'!W14+'2017 פעילים'!Y14 -> 16067 | C29: ='2017 לידות'!T15 -> 1600 | D29: =C29-E29 -> 714 | E29: =B29-B18 -> 886 | F29: =SUMIFS('נתוני רשויות 2017'!$J$2:$J$260,'נתוני רשויות 2017'!$I$2:$I$260,'ריכוז נתונים'!$A29) -> 48971.605 | G29: =D29/B29 -> 0.044438912 | P29: באר שבע | Q29: באר שבע | R29: הדרום | U29: =P29=Q29 -> TRUE
A30: הדרום | B30: ='2017 פעילים'!AA14+'2017 פעילים'!AC14 -> 57329 | C30: ='2017 לידות'!W15 -> 5801 | D30: =C30-E30 -> 3934 | E30: =B30-B19 -> 1867 | F30: =SUMIFS('נתוני רשויות 2017'!$J$2:$J$260,'נתוני רשויות 2017'!$I$2:$I$260,'ריכוז נתונים'!$A30) -> 243658.4 | G30: =D30/B30 -> 0.068621466 | P30: בוסתאן אל-מרג' | Q30: בוסתן אל-מרג' | R30: הצפון | U30: =P30=Q30 -> FALSE
A31: תל אביב | B31: ='2017 פעילים'!AE14+'2017 פעילים'!AG14 -> 151310 | C31: ='2017 לידות'!Z15 -> 11796 | D31: =C31-E31 -> 8983 | E31: =B31-B20 -> 2813 | F31: =SUMIFS('נתוני רשויות 2017'!$J$2:$J$260,'נתוני רשויות 2017'!$I$2:$I$260,'ריכוז נתונים'!$A31) -> 454047.99 | G31: =D31/B31 -> 0.059368185 | P31: בועיינה-נוג'ידאת | Q31: בועיינה-נוג'ידאת | R31: הצפון | U31: =P31=Q31 -> TRUE
A32: סה"כ | B32: =SUM(B25:B31) -> 582982 | C32: =SUM(C25:C31) -> 51934 | D32: =SUM(D25:D31) -> 34467 | E32: =SUM(E25:E31) -> 17467 | F32: =SUM(F25:F31) -> 1894061 | G32: =D32/B32 -> 0.059121894 | I32: =1000*F32/D32 -> 54952.884 | P32: בוקעאתא | Q32: בוקעאתא | R32: הצפון | U32: =P32=Q32 -> TRUE
P33: ביר אל-מכסור | Q33: ביר אל-מכסור | R33: הצפון | U33: =P33=Q33 -> TRUE
A34: 2018 | P34: בית אל | Q34: בית אל | R34: אזור יהודה והשומרון | U34: =P34=Q34 -> TRUE
A35: מחוז | B35: מס' עסקים פעילים | C35: מס' עסקים שנולדו | D35: מס' עסקים שלא שרדו | E35: תוספת במספר העסקים | F35: אובדן הכנסות ארנונה מעסקים | P35: בית אריה | Q35: בית אריה | R35: אזור יהודה והשומרון | U35: =P35=Q35 -> TRUE
A36: המרכז | F36: =SUMIFS('נתוני רשויות 2018'!$J$2:$J$260,'נתוני רשויות 2018'!$I$2:$I$260,'ריכוז נתונים'!$A36) -> 372840.87 | P36: בית ג'ן | Q36: בית ג'ן | R36: הצפון | U36: =P36=Q36 -> TRUE
A37: חיפה | F37: =SUMIFS('נתוני רשויות 2018'!$J$2:$J$260,'נתוני רשויות 2018'!$I$2:$I$260,'ריכוז נתונים'!$A37) -> 280540.67 | P37: בית דגן | Q37: בית דגן | R37: המרכז | U37: =P37=Q37 -> TRUE
A38: הצפון | F38: =SUMIFS('נתוני רשויות 2018'!$J$2:$J$260,'נתוני רשויות 2018'!$I$2:$I$260,'ריכוז נתונים'!$A38) -> 192623.89 | P38: בית שאן | Q38: בית שאן | R38: הצפון | U38: =P38=Q38 -> TRUE
A39: ירושלים | F39: =SUMIFS('נתוני רשויות 2018'!$J$2:$J$260,'נתוני רשויות 2018'!$I$2:$I$260,'ריכוז נתונים'!$A39) -> 256161.22 | P39: בית שמש | Q39: בית שמש | R39: ירושלים | U39: =P39=Q39 -> TRUE
A40: אזור יהודה והשומרון | F40: =SUMIFS('נתוני רשויות 2018'!$J$2:$J$260,'נתוני רשויות 2018'!$I$2:$I$260,'ריכוז נתונים'!$A40) -> 34902.929 | P40: ביתר עילית | Q40: ביתר עילית | R40: אזור יהודה והשומרון | U40: =P40=Q40 -> TRUE
A41: הדרום | F41: =SUMIFS('נתוני רשויות 2018'!$J$2:$J$260,'נתוני רשויות 2018'!$I$2:$I$260,'ריכוז נתונים'!$A41) -> 229935.09 | P41: בני ברק | Q41: בני ברק | R41: תל אביב | U41: =P41=Q41 -> TRUE
A42: תל אביב | F42: =SUMIFS('נתוני רשויות 2018'!$J$2:$J$260,'נתוני רשויות 2018'!$I$2:$I$260,'ריכוז נתונים'!$A42) -> 512192.9 | P42: בני עי"ש | Q42: בני עי"ש | R42: המרכז | U42: =P42=Q42 -> TRUE
A43: סה"כ | B43: =C43/0.085 -> 601588.24 | C43: 51135 | D43: =C43-E43 -> 32528.765 | E43: =B43-B32 -> 18606.235 | F43: =SUM(F36:F42) -> 1879197.6 | G43: =D44/B44 -> 0.073168483 | I43: =1000*F43/D44 -> 43050.504 | P43: בני שמעון | Q43: בני שמעון | R43: הדרום | U43: =P43=Q43 -> TRUE
B44: =B32+E44 -> 596582 | C44: ='2018-2019'!D7 -> 57251 | D44: ='2018-2019'!E7 -> 43651 | E44: ='2018-2019'!F7 -> 13600 | P44: בנימינה-גבעת עדה | Q44: בנימינה-גבעת עדה* | R44: חיפה | U44: =P44=Q44 -> FALSE
A45: 2019 | P45: בסמ"ה | Q45: בסמ"ה | R45: חיפה | U45: =P45=Q45 -> TRUE
A46: מחוז | B46: מס' עסקים פעילים | C46: מס' עסקים שנולדו | D46: מס' עסקים שלא שרדו | E46: תוספת במספר העסקים | P46: בסמת טבעון | Q46: בסמת טבעון | R46: הצפון | U46: =P46=Q46 -> TRUE
A47: המרכז | B47: ='2019 לידות'!C16 -> 168443 | C47: ='2019 לידות'!D16 -> 13599 | G47: =D47/B47 -> 0 | P47: בענה | Q47: בענה | R47: הצפון | U47: =P47=Q47 -> TRUE
A48: חיפה | B48: ='2019 לידות'!F16 -> 67766 | C48: ='2019 לידות'!G16 -> 5768 | G48: =D48/B48 -> 0 | P48: ברנר | Q48: ברנר | R48: המרכז | U48: =P48=Q48 -> TRUE
A49: הצפון | B49: ='2019 לידות'!I16 -> 88540 | C49: ='2019 לידות'!J16 -> 8217 | G49: =D49/B49 -> 0 | P49: בת ים | Q49: בת ים | R49: תל אביב | U49: =P49=Q49 -> TRUE
A50: ירושלים | B50: ='2019 לידות'!L16 -> 53355 | C50: ='2019 לידות'!M16 -> 4934 | G50: =D50/B50 -> 0 | P50: ג'דיידה-מכר | Q50: ג'דיידה-מכר | R50: הצפון | U50: =P50=Q50 -> TRUE
A51: איו"ש | B51: ='2019 לידות'!T16 -> 17511 | C51: ='2019 לידות'!U16 -> 1640 | G51: =D51/B51 -> 0 | P51: ג'ולס | Q51: ג'ולס | R51: הצפון | U51: =P51=Q51 -> TRUE
A52: הדרום | B52: ='2019 לידות'!W16 -> 61043 | C52: ='2019 לידות'!X16 -> 5905 | G52: =D52/B52 -> 0 | P52: ג'לג'וליה | Q52: ג'לג'וליה | R52: המרכז | U52: =P52=Q52 -> TRUE
A53: תל אביב | B53: ='2019 לידות'!Z16 -> 156367 | C53: ='2019 לידות'!AA16 -> 11281 | G53: =D53/B53 -> 0 | P53: ג'סר א-זרקא | Q53: ג'סר א-זרקא | R53: חיפה | U53: =P53=Q53 -> TRUE
A54: סה"כ | B54: =SUM(B47:B53) -> 613025 | C54: =SUM(C47:C53) -> 51344 | D54: =C54-E54 -> 39907.235 | E54: =B54-B43 -> 11436.765 | G54: =D54/B54 -> 0.065098871 | P54: ג'ש (גוש חלב) | Q54: ג'ש (גוש חלב) | R54: הצפון | U54: =P54=Q54 -> TRUE
C55: ='2018-2019'!G7 -> 58957 | D55: ='2018-2019'!H7 -> 44951 | E55: ='2018-2019'!I7 -> 14006 | P55: ג'ת | Q55: ג'ת | R55: חיפה | U55: =P55=Q55 -> TRUE
P56: גבעת זאב | Q56: גבעת זאב | R56: אזור יהודה והשומרון | U56: =P56=Q56 -> TRUE
P57: גבעת שמואל | Q57: גבעת שמואל | R57: המרכז | U57: =P57=Q57 -> TRUE
A58: שנה | B58: מספר עסקים שנסגרו | C58: אובדן הכנסות ארנונה מעסקים שנה (פיגור בתשלום שנתי) | D58: לוג מספר עסקים שנסגרו | E58: לוג אובדן הכנסות ארנונה מעסקים שנה (פיגור בתשלום שנתי) | P58: גבעתיים | Q58: גבעתיים | R58: תל אביב | U58: =P58=Q58 -> TRUE
A59: 2015 | B59: =D10 -> 32181.813 | C59: =F10 -> 1288394.5 | D59: =LOG(B59) -> 4.5076105 | E59: =LOG(C59) -> 6.1100489 | P59: גדרה | Q59: גדרה | R59: המרכז | U59: =P59=Q59 -> TRUE
A60: 2016 | B60: =D21 -> 33507 | C60: =F21 -> 1770300.4 | D60: =LOG(B60) -> 4.5251355 | E60: =LOG(C60) -> 6.248047 | P60: גדרות | Q60: גדרות | R60: המרכז | U60: =P60=Q60 -> TRUE
A61: 2017 | B61: =D32 -> 34467 | C61: =F32 -> 1894061 | D61: =LOG(B61) -> 4.5374035 | E61: =LOG(C61) -> 6.277394 | P61: גולן | Q61: גולן | R61: הצפון | U61: =P61=Q61 -> TRUE
A62: 2018 | B62: =D43 -> 32528.765 | C62: =F43 -> 1879197.6 | D62: =LOG(B62) -> 4.5122676 | E62: =LOG(C62) -> 6.2739724 | P62: גוש עציון | Q62: גוש עציון | R62: אזור יהודה והשומרון | U62: =P62=Q62 -> TRUE
A63: 2019 | B63: =D54 -> 39907.235 | C63: =2200000 -> 2200000 | D63: =LOG(B63) -> 4.6010516 | E63: =LOG(C63) -> 6.3424227 | P63: גזר | Q63: גזר | R63: המרכז | U63: =P63=Q63 -> TRUE
P64: גן יבנה | Q64: גן יבנה | R64: המרכז | U64: =P64=Q64 -> TRUE
B65: =B54-B21 -> 47510 | P65: גן רוה | Q65: גן רווה | R65: המרכז | U65: =P65=Q65 -> FALSE
P66: גני תקווה | Q66: גני תקווה | R66: המרכז | U66: =P66=Q66 -> TRUE
P67: דאלית אל-כרמל | Q67: דאלית אל-כרמל | R67: חיפה | U67: =P67=Q67 -> TRUE
P68: דבוריה | Q68: דבורייה | R68: הצפון | U68: =P68=Q68 -> FALSE
A69: SUMMARY OUTPUT | P69: דייר אל-אסד | Q69: דייר אל-אסד | R69: הצפון | U69: =P69=Q69 -> TRUE
P70: דייר חנא | Q70: דייר חנא | R70: הצפון | U70: =P70=Q70 -> TRUE
A71: Regression Statistics | P71: דימונה | Q71: דימונה | R71: הדרום | U71: =P71=Q71 -> TRUE
A72: Multiple R | B72: 0.73002759 | P72: דרום השרון | Q72: דרום השרון | R72: המרכז | U72: =P72=Q72 -> TRUE
A73: R Square | B73: 0.53294028 | P73: הגלבוע | Q73: הגלבוע | R73: הצפון | U73: =P73=Q73 -> TRUE
A74: Adjusted R Square | B74: 0.37725371 | P74: הגליל העליון | Q74: הגליל העליון | R74: הצפון | U74: =P74=Q74 -> TRUE
A75: Standard Error | B75: 0.06771986 | P75: הגליל התחתון | Q75: הגליל התחתון | R75: הצפון | U75: =P75=Q75 -> TRUE
A76: Observations | B76: 5 | P76: הוד השרון | Q76: הוד השרון | R76: המרכז | U76: =P76=Q76 -> TRUE
P77: הערבה התיכונה | Q77: הערבה התיכונה | R77: הדרום | U77: =P77=Q77 -> TRUE
A78: ANOVA | P78: הר אדר | Q78: הר אדר | R78: אזור יהודה והשומרון | U78: =P78=Q78 -> TRUE
B79: df | C79: SS | D79: MS | E79: F | F79: Significance F | P79: הר חברון | Q79: הר חברון | R79: אזור יהודה והשומרון | U79: =P79=Q79 -> TRUE
A80: Regression | B80: 1 | C80: 0.015698548 | D80: 0.015698548 | E80: 3.4231615 | F80: 0.161396 | P80: הרצליה | Q80: הרצלייה | R80: תל אביב | U80: =P80=Q80 -> FALSE
A81: Residual | B81: 3 | C81: 0.013757938 | D81: 0.0045859794 | P81: זבולון | Q81: זבולון | R81: חיפה | U81: =P81=Q81 -> TRUE
A82: Total | B82: 4 | C82: 0.029456486 | P82: זכרון יעקב | Q82: זכרון יעקב | R82: חיפה | U82: =P82=Q82 -> TRUE
P83: זמר | Q83: זמר | R83: המרכז | U83: =P83=Q83 -> TRUE
B84: Coefficients | C84: Standard Error | D84: t Stat | E84: P-value | F84: Lower 95% | G84: Upper 95% | H84: Lower 95.0% | I84: Upper 95.0% | P84: זרזיר | Q84: זרזיר | R84: הצפון | U84: =P84=Q84 -> TRUE
A85: Intercept | B85: -1.2663344 | C85: 4.0628075 | D85: -0.31168949 | E85: 0.77568214 | F85: -14.196001 | G85: 11.663332 | H85: -14.196001 | I85: 11.663332 | P85: חבל אילות | Q85: חבל אילות | R85: הדרום | U85: =P85=Q85 -> TRUE
A86: לוג מספר עסקים שנסגרו | B86: 1.6568699 | C86: 0.89551882 | D86: 1.8501788 | E86: 0.161396 | F86: -1.1930706 | G86: 4.5068105 | H86: -1.1930706 | I86: 4.5068105 | P86: חבל יבנה | Q86: חבל יבנה | R86: המרכז | U86: =P86=Q86 -> TRUE
P87: חבל מודיעין | Q87: חבל מודיעין | R87: המרכז | U87: =P87=Q87 -> TRUE
P88: חדרה | Q88: חדרה | R88: חיפה | U88: =P88=Q88 -> TRUE
P89: חולון | Q89: חולון | R89: תל אביב | U89: =P89=Q89 -> TRUE
P90: חוף אשקלון | Q90: חוף אשקלון | R90: הדרום | U90: =P90=Q90 -> TRUE
P91: חוף הכרמל | Q91: חוף הכרמל | R91: חיפה | U91: =P91=Q91 -> TRUE
P92: חוף השרון | Q92: חוף השרון | R92: המרכז | U92: =P92=Q92 -> TRUE
P93: חורה | Q93: חורה | R93: הדרום | U93: =P93=Q93 -> TRUE
P94: חורפיש | Q94: חורפיש | R94: הצפון | U94: =P94=Q94 -> TRUE
P95: חיפה | Q95: חיפה | R95: חיפה | U95: =P95=Q95 -> TRUE
P96: חצור הגלילית | Q96: חצור הגלילית | R96: הצפון | U96: =P96=Q96 -> TRUE
P97: חריש | Q97: חריש | R97: חיפה | U97: =P97=Q97 -> TRUE
P98: קציר-חריש | Q98: חריש | R98: חיפה | U98: =P99=Q99 -> TRUE
P99: טבריה | Q99: טבריה | R99: הצפון | U99: =P100=Q100 -> FALSE
P100: טובא-זנגריה | Q100: טובא-זנגרייה | R100: הצפון | U100: =P101=Q101 -> TRUE
...

Sheet נתוני רשויות 2015
A1: שם הרשות | B1: חיוב בשנת החשבון | C1: סה"כ פטורים, שחרורים והנחות | D1: גביה השנה (קרן + ריבית) | E1: מחוז | F1: לא נגבה
A2: אבו גוש | B2: 1767.8131 | C2: 329 | D2: 1224 | E2: =VLOOKUP($A2,מחוזות,3,FALSE()) -> ירושלים | F2: 214.81308
A3: אבו סנאן | B3: 2326.008 | C3: 0 | D3: 1225 | E3: =VLOOKUP($A3,מחוזות,3,FALSE()) -> הצפון | F3: 1101.008
A4: אבן יהודה | B4: 14087.2 | C4: 421 | D4: 10952 | E4: =VLOOKUP($A4,מחוזות,3,FALSE()) -> המרכז | F4: 2714.2
A5: אום אל-פחם | B5: 12084 | C5: 490 | D5: 10099 | E5: =VLOOKUP($A5,מחוזות,3,FALSE()) -> חיפה | F5: 1495
A6: אופקים | B6: 16057 | C6: 0 | D6: 0 | E6: =VLOOKUP($A6,מחוזות,3,FALSE()) -> הדרום | F6: 16057
A7: אור יהודה | B7: 79895.27 | C7: 18884 | D7: 58121 | E7: =VLOOKUP($A7,מחוזות,3,FALSE()) -> תל אביב | F7: 2890.27
A8: אור עקיבא | B8: 33020 | C8: 244 | D8: 24160 | E8: =VLOOKUP($A8,מחוזות,3,FALSE()) -> חיפה | F8: 8616
A9: אורנית | B9: 1565.345 | C9: 276 | D9: 930 | E9: =VLOOKUP($A9,מחוזות,3,FALSE()) -> אזור יהודה והשומרון | F9: 359.345
A10: אזור | B10: 21818 | C10: 691 | D10: 17579 | E10: =VLOOKUP($A10,מחוזות,3,FALSE()) -> תל אביב | F10: 3548
A11: אילת | B11: 214763 | C11: 15455 | D11: 188681 | E11: =VLOOKUP($A11,מחוזות,3,FALSE()) -> הדרום | F11: 10627
A12: אכסאל | B12: 3435.74 | C12: 329 | D12: 1691 | E12: =VLOOKUP($A12,מחוזות,3,FALSE()) -> הצפון | F12: 1415.74
A13: אל-בטוף | B13: -12 | C13: 45 | D13: 182 | E13: =VLOOKUP($A13,מחוזות,3,FALSE()) -> הצפון | F13: -239
... A143: מגדל העמק | B143: 51562 | C143: 1407 | D143: 46203 | E143: =VLOOKUP($A143,מחוזות,3,FALSE()) -> הצפון | F143: 3952
A144: מגדל תפן | B144: 9886.725 | C144: 485 | D144: 8912 | E144: הצפון | F144: 489.725
A145: מגידו | B145: 17584.166 | C145: 317 | D145: 16253 | E145: =VLOOKUP($A145,מחוזות,3,FALSE()) -> הצפון | F145: 1014.166
A146: מגילות ים המלח | B146: 4083.21 | C146: 0 | D146: 4045 | E146: =VLOOKUP($A146,מחוזות,3,FALSE()) -> אזור יהודה והשומרון | F146: 38.21
A147: מודיעין-מכבים-רעות | B147: 80382 | C147: 5702 | D147: 71904 | E147: =VLOOKUP($A147,מחוזות,3,FALSE()) -> המרכז | F147: 2776
A148: מודיעין עילית | B148: 6964 | C148: 156 | D148: 5063 | E148: =VLOOKUP($A148,מחוזות,3,FALSE()) -> אזור יהודה והשומרון | F148: 1745
A149: מזכרת בתיה | B149: 6189 | C149: 1044 | D149: 5352 | E149: =VLOOKUP($A149,מחוזות,3,FALSE()) -> המרכז | F149: -207
A150: מזרעה | B150: 1438.184 | C150: 73 | D150: 1141 | E150: =VLOOKUP($A150,מחוזות,3,FALSE()) -> הצפון | F150: 224.184
A151: מטה אשר | B151: 40624.075 | C151: 9800 | D151: 40188 | E151: =VLOOKUP($A151,מחוזות,3,FALSE()) -> הצפון | F151: -9363.9255
A152: מטה בנימין | B152: 16532 | C152: 270 | D152: 14525 | E152: =VLOOKUP($A152,מחוזות,3,FALSE()) -> אזור יהודה והשומרון | F152: 1737
A153: מטה יהודה | B153: 51750.824 | C153: 2588 | D153: 46081 | E153: =VLOOKUP($A153,מחוזות,3,FALSE()) -> ירושלים | F153: 3081.8238
A154: מטולה | B154: 2318.197 | C154: 31 | D154: 1876 | E154: =VLOOKUP($A154,מחוזות,3,FALSE()) -> הצפון | F154: 411.197
A155: מיתר | B155: 2151 | C155: 1629 | D155: 1607 | E155: =VLOOKUP($A155,מחוזות,3,FALSE()) -> הדרום | F155: -1085
A156: מנשה | B156: 44628.182 | C156: 9987 | D156: 30015 | E156: =VLOOKUP($A156,מחוזות,3,FALSE()) -> חיפה | F156: 4626.182
... A232: רמת השרון | B232: 91229 | C232: 701 | D232: 83258 | E232: =VLOOKUP($A232,מחוזות,3,FALSE()) -> תל אביב | F232: 7270
A233: רמת חובב | B233: 30244.525 | C233: 2.798 | D233: 27621.936 | E233: הדרום | F233: 2619.791
A234: רמת ישי | B234: 6238 | C234: 3398 | D234: 5298 | E234: =VLOOKUP($A234,מחוזות,3,FALSE()) -> הצפון | F234: -2458
A235: רמת נגב | B235: 45104.064 | C235: 114.1 | D235: 44162 | E235: =VLOOKUP($A235,מחוזות,3,FALSE()) -> הדרום | F235: 827.96407
A236: רעננה | B236: 145096.94 | C236: 13528 | D236: 124639 | E236: =VLOOKUP($A236,מחוזות,3,FALSE()) -> המרכז | F236: 6929.94
A237: שבלי-אום אל ג'נם | B237: 260.89 | C237: 1 | D237: 188 | E237: =VLOOKUP($A237,מחוזות,3,FALSE()) -> הצפון | F237: 71.89
A238: שגב-שלום | B238: 2796 | C238: 160 | D238: 1906 | E238: =VLOOKUP($A238,מחוזות,3,FALSE()) -> הדרום | F238: 730
A239: שדות נגב | B239: 14862.573 | C239: 782 | D239: 13284 | E239: =VLOOKUP($A239,מחוזות,3,FALSE()) -> הדרום | F239: 796.573
A240: שדרות | B240: 39621.331 | C240: 16382 | D240: 16812 | E240: =VLOOKUP($A240,מחוזות,3,FALSE()) -> הדרום | F240: 6427.3308
A241: שוהם | B241: 15323 | C241: 402 | D241: 13861 | E241: =VLOOKUP($A241,מחוזות,3,FALSE()) -> המרכז | F241: 1060
A242: שומרון | B242: 33841 | C242: 727 | D242: 26092 | E242: =VLOOKUP($A242,מחוזות,3,FALSE()) -> אזור יהודה והשומרון | F242: 7022
A243: שלומי | B243: 12381.457 | C243: 1315 | D243: 10370 | E243: =VLOOKUP($A243,מחוזות,3,FALSE()) -> הצפון | F243: 696.457
A244: שעב | B244: 789.529 | C244: 7 | D244: 971 | E244: =VLOOKUP($A244,מחוזות,3,FALSE()) -> הצפון | F244: -188.471
A245: שער הנגב | B245: 17441 | C245: 5568 | D245: 13801 | E245: =VLOOKUP($A245,מחוזות,3,FALSE()) -> הדרום | F245: -1928
... A251: תמר | B251: 96324 | C251: 2043 | D251: 97513 | E251: =VLOOKUP($A251,מחוזות,3,FALSE()) -> הדרום | F251: -3232
B252: =SUM(B2:B251) -> 14152870 | C252: =SUM(C2:C251) -> 1771542.3 | D252: =SUM(D2:D251) -> 11407585 | F252: =SUM(F2:F251) -> 973743.34

Sheet נתוני רשויות 2016
A1: שם הרשות | B1: חיוב בשנת החשבון | C1: סה"כ פטורים | D1: גביה השנה (קרן + ריבית) | E1: מחוז | F1: סכום שלא נגבה
A2: אבו גוש | B2: 2022 | C2: 386 | D2: 1037 | E2: =VLOOKUP($A2,מחוזות,3,FALSE) -> ירושלים | F2: 599
A3: אבו סנאן | B3: 1955.2698 | C3: 41 | D3: 1366 | E3: =VLOOKUP($A3,מחוזות,3,FALSE) -> הצפון | F3: 548.2698
A4: אבן יהודה | B4: 12332.129 | C4: 313 | D4: 11558 | E4: =VLOOKUP($A4,מחוזות,3,FALSE) -> המרכז | F4: 461.129
A5: אום אל-פחם | B5: 14129 | C5: 453 | D5: 10025 | E5: =VLOOKUP($A5,מחוזות,3,FALSE) -> חיפה | F5: 3651
A6: אופקים | B6: 15780 | C6: 0 | D6: 0 | E6: =VLOOKUP($A6,מחוזות,3,FALSE) -> הדרום | F6: 15780
A7: אור יהודה | B7: 83811 | C7: 15376 | D7: 57470 | E7: =VLOOKUP($A7,מחוזות,3,FALSE) -> תל אביב | F7: 10965
A8: אור עקיבא | B8: 31059 | C8: 387 | D8: 23893 | E8: =VLOOKUP($A8,מחוזות,3,FALSE) -> חיפה | F8: 6779
A9: אורנית | B9: 1400 | C9: 280 | D9: 928 | E9: =VLOOKUP($A9,מחוזות,3,FALSE) -> אזור יהודה והשומרון | F9: 192
A10: אזור | B10: 20834 | C10: 858 | D10: 18824 | E10: =VLOOKUP($A10,מחוזות,3,FALSE) -> תל אביב | F10: 1152
A11: אילת | B11: 219248 | C11: 15982 | D11: 189481 | E11: =VLOOKUP($A11,מחוזות,3,FALSE) -> הדרום | F11: 13785
A12: אכסאל | B12: 3744 | C12: 194 | D12: 2011 | E12: =VLOOKUP($A12,מחוזות,3,FALSE) -> הצפון | F12: 1539
A13: אל-בטוף | B13: 364 | C13: 0 | D13: 256 | E13: =VLOOKUP($A13,מחוזות,3,FALSE) -> הצפון | F13: 108
... A257: תמר | B257: 120951.3 | C257: 1898 | D257: 117840 | E257: =VLOOKUP($A257,מחוזות,3,FALSE) -> הדרום | F257: 1213.3
A258: סה"כ | B258: =SUM(B2:B257) -> 15532635 | C258: =SUM(C2:C257) -> 2071570.8 | D258: =SUM(D2:D257) -> 12282793 | F258: =SUM(F2:F257) -> 1178271.4
F259: =SUBTOTAL(9,F2:F258) -> 2356542.8

Sheet נתוני רשויות 2017
A1: שם הרשות | B1: חיוב בשנת החשבון | C1: ביטולי חיוב שנה שוטפת | D1: הנחות מימון | E1: הנחות על פי דין | F1: הנחות על פי ועדה | G1: מחיקת חובות / חובות אבודים | H1: גביה השנה (קרן + ריבית) | I1: מחוז | J1: לא נגבה
A2: אבו גוש | B2: 2055.4878 | C2: 362 | D2: 0 | E2: 67 | F2: 33 | G2: 0 | H2: 1092 | I2: =VLOOKUP($A2,מחוזות,3,FALSE()) -> ירושלים | J2: =B2-SUM(C2:H2)+G2 -> 501.48779
A3: אבו סנאן | B3: 2512.65 | C3: 0 | D3: 0 | E3: 60 | F3: 0 | G3: 0 | H3: 1298 | I3: =VLOOKUP($A3,מחוזות,3,FALSE()) -> הצפון | J3: =B3-SUM(C3:H3)+G3 -> 1154.65
A4: אבן יהודה | B4: 14791.101 | C4: 0 | D4: 0 | E4: 254 | F4: 0 | G4: 0 | H4: 12285 | I4: =VLOOKUP($A4,מחוזות,3,FALSE()) -> המרכז | J4: =B4-SUM(C4:H4)+G4 -> 2252.101
A5: אום אל-פחם | B5: 13101.042 | C5: 0 | D5: 0 | E5: 277 | F5: 0 | G5: 0 | H5: 11232 | I5: =VLOOKUP($A5,מחוזות,3,FALSE()) -> חיפה | J5: =B5-SUM(C5:H5)+G5 -> 1592.042
A6: אופקים | B6: 16273.836 | C6: 0 | D6: 0 | E6: 0 | F6: 0 | G6: 0 | H6: 0 | I6: =VLOOKUP($A6,מחוזות,3,FALSE()) -> הדרום | J6: =B6-SUM(C6:H6)+G6 -> 16273.836
A7: אור יהודה | B7: 84126 | C7: 2200 | D7: 0 | E7: 3272 | F7: 852 | G7: 13264 | H7: 62336 | I7: =VLOOKUP($A7,מחוזות,3,FALSE()) -> תל אביב | J7: =B7-SUM(C7:H7)+G7 -> 15466
A8: אור עקיבא | B8: 32522 | C8: 0 | D8: 0 | E8: 424 | F8: 0 | G8: 0 | H8: 25018 | I8: =VLOOKUP($A8,מחוזות,3,FALSE()) -> חיפה | J8: =B8-SUM(C8:H8)+G8 -> 7080
A9: אורנית | B9: 2601 | C9: 279 | D9: 0 | E9: 0 | F9: 0 | G9: 0 | H9: 1048 | I9: =VLOOKUP($A9,מחוזות,3,FALSE()) -> אזור יהודה והשומרון | J9: =B9-SUM(C9:H9)+G9 -> 1274
A10: אזור | B10: 24526 | C10: 2113 | D10: 0 | E10: 25 | F10: 0 | G10: 91 | H10: 19710 | I10: =VLOOKUP($A10,מחוזות,3,FALSE()) -> תל אביב | J10: =B10-SUM(C10:H10)+G10 -> 2678
A11: אילת | B11: 243448 | C11: 19218 | D11: 12 | E11: 457 | F11: 966 | G11: 0 | H11: 208723 | I11: =VLOOKUP($A11,מחוזות,3,FALSE()) -> הדרום | J11: =B11-SUM(C11:H11)+G11 -> 14072
A12: אכסאל | B12: 4893 | C12: 0 | D12: 0 | E12: 214 | F12: 0 | G12: 0 | H12: 2223 | I12: =VLOOKUP($A12,מחוזות,3,FALSE()) -> הצפון | J12: =B12-SUM(C12:H12)+G12 -> 2456
A13: אל-בטוף | B13: 360 | C13: 0 | D13: 0 | E13: 79 | F13: 0 | G13: 0 | H13: 179 | I13: =VLOOKUP($A13,מחוזות,3,FALSE()) -> הצפון | J13: =B13-SUM(C13:H13)+G13 -> 102
... A145: מגדל העמק | B145: 54020 | C145: 1866 | D145: 0 | E145: 0 | F145: 373 | G145: 0 | H145: 49208 | I145: =VLOOKUP($A145,מחוזות,3,FALSE()) -> הצפון | J145: =B145-SUM(C145:H145)+G145 -> 2573
A146: מגדל תפן | B146: 10726.556 | C146: 415 | D146: 0 | E146: 55 | F146: 0 | G146: 0 | H146: 9899 | I146: הצפון | J146: =B146-SUM(C146:H146)+G146 -> 357.556
A147: מגידו | B147: 20111.294 | C147: 0 | D147: 0 | E147: 43 | F147: 0 | G147: 0 | H147: 18583 | I147: =VLOOKUP($A147,מחוזות,3,FALSE()) -> הצפון | J147: =B147-SUM(C147:H147)+G147 -> 1485.294
A148: מגילות ים המלח | B148: 4736.9 | C148: 0 | D148: 0 | E148: 6 | F148: 0 | G148: 0 | H148: 3913 | I148: =VLOOKUP($A148,מחוזות,3,FALSE()) -> אזור יהודה והשומרון | J148: =B148-SUM(C148:H148)+G148 -> 817.9
A149: מודיעין-מכבים-רעות | B149: 96636 | C149: 7080 | D149: 0 | E149: 3 | F149: 0 | G149: 0 | H149: 84727 | I149: =VLOOKUP($A149,מחוזות,3,FALSE()) -> המרכז | J149: =B149-SUM(C149:H149)+G149 -> 4826
A150: מודיעין עילית | B150: 6867 | C150: 0 | D150: 0 | E150: 0 | F150: 0 | G150: 0 | H150: 5867 | I150: =VLOOKUP($A150,מחוזות,3,FALSE()) -> אזור יהודה והשומרון | J150: =B150-SUM(C150:H150)+G150 -> 1000
A151: מזכרת בתיה | B151: 8022.871 | C151: 0 | D151: 2220 | E151: 0 | F151: 0 | G151: 0 | H151: 6071 | I151: =VLOOKUP($A151,מחוזות,3,FALSE()) -> המרכז | J151: =B151-SUM(C151:H151)+G151 -> -268.129
A152: מזרעה | B152: 1621.396 | C152: 0 | D152: 0 | E152: 49 | F152: 0 | G152: 0 | H152: 1295 | I152: =VLOOKUP($A152,מחוזות,3,FALSE()) -> הצפון | J152: =B152-SUM(C152:H152)+G152 -> 277.396
A153: מטה אשר | B153: 54615 | C153: 76 | D153: 0 | E153: 262 | F153: 25 | G153: 122 | H153: 50264 | I153: =VLOOKUP($A153,מחוזות,3,FALSE()) -> הצפון | J153: =B153-SUM(C153:H153)+G153 -> 3988
A154: מטה בנימין | B154: 17071 | C154: 0 | D154: 12 | E154: 441 | F154: 112 | G154: 0 | H154: 15049 | I154: =VLOOKUP($A154,מחוזות,3,FALSE()) -> אזור יהודה והשומרון | J154: =B154-SUM(C154:H154)+G154 -> 1457
A155: מטה יהודה | B155: 182658.46 | C155: 1094 | D155: 0 | E155: 0 | F155: 2448 | G155: 0 | H155: 66890 | I155: =VLOOKUP($A155,מחוזות,3,FALSE()) -> ירושלים | J155: =B155-SUM(C155:H155)+G155 -> 112226.46
A156: מטולה | B156: 2296.577 | C156: 0 | D156: 0 | E156: 14 | F156: 0 | G156: 0 | H156: 2147 | I156: =VLOOKUP($A156,מחוזות,3,FALSE()) -> הצפון | J156: =B156-SUM(C156:H156)+G156 -> 135.577
A157: מיתר | B157: 2066.288 | C157: 0 | D157: 0 | E157: 0 | F157: 0 | G157: 0 | H157: 2226 | I157: =VLOOKUP($A157,מחוזות,3,FALSE()) -> הדרום | J157: =B157-SUM(C157:H157)+G157 -> -159.712
A158: מנשה | B158: 36287 | C158: 12135 | D158: 0 | E158: 136 | F158: 25 | G158: 0 | H158: 26562 | I158: =VLOOKUP($A158,מחוזות,3,FALSE()) -> חיפה | J158: =B158-SUM(C158:H158)+G158 -> -2571
... A236: רמת השרון | B236: 88101 | C236: 0 | D236: 0 | E236: 881 | F236: 0 | G236: 0 | H236: 83420 | I236: =VLOOKUP($A236,מחוזות,3,FALSE()) -> תל אביב | J236: =B236-SUM(C236:H236)+G236 -> 3800
A237: רמת חובב | B237: 32527.885 | C237: 0 | D237: 0 | E237: 2.895 | F237: 0 | G237: 0 | H237: 29712.687 | I237: הדרום | J237: =B237-SUM(C237:H237)+G237 -> 2812.3031
A238: רמת ישי | B238: 0 | C238: 0 | D238: 0 | E238: 0 | F238: 0 | G238: 0 | H238: 0 | I238: =VLOOKUP($A238,מחוזות,3,FALSE()) -> הצפון | J238: =B238-SUM(C238:H238)+G238 -> 0
A239: רמת נגב | B239: 43588.909 | C239: 5515 | D239: 0 | E239: 381 | F239: 0 | G239: 0 | H239: 39171 | I239: =VLOOKUP($A239,מחוזות,3,FALSE()) -> הדרום | J239: =B239-SUM(C239:H239)+G239 -> -1478.091
A240: רעננה | B240: 158302.3 | C240: 5942 | D240: 3 | E240: 8576 | F240: 0 | G240: 2870 | H240: 135056 | I240: =VLOOKUP($A240,מחוזות,3,FALSE()) -> המרכז | J240: =B240-SUM(C240:H240)+G240 -> 8725.3
A241: שבלי-אום אל ג'נם | B241: 270 | C241: 0 | D241: 0 | E241: 8 | F241: 0 | G241: 0 | H241: 184 | I241: =VLOOKUP($A241,מחוזות,3,FALSE()) -> הצפון | J241: =B241-SUM(C241:H241)+G241 -> 78
A242: שגב-שלום | B242: 6665 | C242: 38 | D242: 0 | E242: 1 | F242: 0 | G242: 33 | H242: 3612 | I242: =VLOOKUP($A242,מחוזות,3,FALSE()) -> הדרום | J242: =B242-SUM(C242:H242)+G242 -> 3014
A243: שדות נגב | B243: 16001.91 | C243: 731 | D243: 0 | E243: 1129 | F243: 0 | G243: 114 | H243: 13866 | I243: =VLOOKUP($A243,מחוזות,3,FALSE()) -> הדרום | J243: =B243-SUM(C243:H243)+G243 -> 275.91
A244: שדרות | B244: 48937.835 | C244: 1262 | D244: 0 | E244: 15514 | F244: 0 | G244: 0 | H244: 22746 | I244: =VLOOKUP($A244,מחוזות,3,FALSE()) -> הדרום | J244: =B244-SUM(C244:H244)+G244 -> 9415.8351
A245: שוהם | B245: 24930 | C245: 0 | D245: 0 | E245: 3166 | F245: 0 | G245: 0 | H245: 21014 | I245: =VLOOKUP($A245,מחוזות,3,FALSE()) -> המרכז | J245: =B245-SUM(C245:H245)+G245 -> 750
A246: שומרון | B246: 35979.91 | C246: 0 | D246: 0 | E246: 719 | F246: 0 | G246: 0 | H246: 29628 | I246: =VLOOKUP($A246,מחוזות,3,FALSE()) -> אזור יהודה והשומרון | J246: =B246-SUM(C246:H246)+G246 -> 5632.9096
A247: שלומי | B247: 0 | C247: 0 | D247: 0 | E247: 0 | F247: 0 | G247: 0 | H247: 0 | I247: =VLOOKUP($A247,מחוזות,3,FALSE()) -> הצפון | J247: =B247-SUM(C247:H247)+G247 -> 0
A248: שעב | B248: 1284.239 | C248: 22 | D248: 0 | E248: 0 | F248: 3 | G248: 0 | H248: 610 | I248: =VLOOKUP($A248,מחוזות,3,FALSE()) -> הצפון | J248: =B248-SUM(C248:H248)+G248 -> 649.239
A249: שפיר | B249: 7084 | C249: 82 | D249: 24 | E249: 99 | F249: 381 | G249: 0 | H249: 7069 | I249: =VLOOKUP($A249,מחוזות,3,FALSE()) -> הדרום | J249: =B249-SUM(C249:H249)+G249 -> -571
... A254: תמר | B254: 132708.26 | C254: 1433 | D254: 530 | E254: 0 | F254: 0 | G254: 0 | H254: 121976 | I254: =VLOOKUP($A254,מחוזות,3,FALSE()) -> הדרום | J254: =B254-SUM(C254:H254)+G254 -> 8769.26
B255: =SUM(B2:B254) -> 16119336 | C255: =SUM(C2:C254) -> 919118.78 | D255: =SUM(D2:D254) -> 12224.261 | E255: =SUM(E2:E254) -> 648375.91 | F255: =SUM(F2:F254) -> 100774 | G255: =SUM(G2:G254) -> 326590.22 | H255: =SUM(H2:H254) -> 12544782 | J255: =SUM(J2:J254) -> 1894061

Sheet נתוני רשויות 2018
A1: שם הרשות | B1: חיוב בשנת החשבון | C1: הנחות מימון | D1: הנחות על פי דין | E1: הנחות על פי ועדה | F1: מחיקת חובות / חובות אבודים | G1: פטורים שנה שוטפת | H1: גביה השנה (קרן + ריבית) | I1: מחוז | J1: לא נגבה
A2: אבו גוש | B2: 1910.716 | C2: 0 | D2: 14 | E2: 0 | F2: 0 | G2: 356 | H2: 1155 | I2: =VLOOKUP($A2,מחוזות,3,FALSE()) -> ירושלים | J2: =B2-SUM(C2:H2) -> 385.716
A3: אבו סנאן | B3: 1934.263 | C3: 0 | D3: 54 | E3: 0 | F3: 0 | G3: 0 | H3: 1315 | I3: =VLOOKUP($A3,מחוזות,3,FALSE()) -> הצפון | J3: =B3-SUM(C3:H3) -> 565.263
A4: אבן יהודה | B4: 15982 | C4: 0 | D4: 7 | E4: 0 | F4: 678 | G4: 0 | H4: 11413 | I4: =VLOOKUP($A4,מחוזות,3,FALSE()) -> המרכז | J4: =B4-SUM(C4:H4) -> 3884
A5: אום אל-פחם | B5: 15107.028 | C5: 0 | D5: 662 | E5: 0 | F5: 0 | G5: 0 | H5: 12578 | I5: =VLOOKUP($A5,מחוזות,3,FALSE()) -> חיפה | J5: =B5-SUM(C5:H5) -> 1867.028
A6: אופקים | B6: 18223.421 | C6: 0 | D6: 657 | E6: 0 | F6: 0 | G6: 959 | H6: 14010 | I6: =VLOOKUP($A6,מחוזות,3,FALSE()) -> הדרום | J6: =B6-SUM(C6:H6) -> 2597.4213
A7: אור יהודה | B7: 101515.87 | C7: 0 | D7: 2414 | E7: 0 | F7: 6401 | G7: 2471 | H7: 65799 | I7: =VLOOKUP($A7,מחוזות,3,FALSE()) -> תל אביב | J7: =B7-SUM(C7:H7) -> 24430.87
A8: אור עקיבא | B8: 31779 | C8: 0 | D8: 541 | E8: 0 | F8: 0 | G8: 0 | H8: 25148 | I8: =VLOOKUP($A8,מחוזות,3,FALSE()) -> חיפה | J8: =B8-SUM(C8:H8) -> 6090
A9: אורנית | B9: 2243 | C9: 0 | D9: 0 | E9: 0 | F9: 0 | G9: 249 | H9: 968 | I9: =VLOOKUP($A9,מחוזות,3,FALSE()) -> אזור יהודה והשומרון | J9: =B9-SUM(C9:H9) -> 1026
A10: אזור | B10: 27856 | C10: 2 | D10: 25 | E10: 0 | F10: 0 | G10: 226 | H10: 22894 | I10: =VLOOKUP($A10,מחוזות,3,FALSE()) -> תל אביב | J10: =B10-SUM(C10:H10) -> 4709
A11: אילת | B11: 257639 | C11: 13 | D11: 888 | E11: 0 | F11: 0 | G11: 20687 | H11: 215713 | I11: =VLOOKUP($A11,מחוזות,3,FALSE()) -> הדרום | J11: =B11-SUM(C11:H11) -> 20338
A12: אכסאל | B12: 5302 | C12: 0 | D12: 126 | E12: 0 | F12: 0 | G12: 0 | H12: 2629 | I12: =VLOOKUP($A12,מחוזות,3,FALSE()) -> הצפון | J12: =B12-SUM(C12:H12) -> 2547
A13: אל-בטוף | B13: 306 | C13: 0 | D13: 224 | E13: 0 | F13: 0 | G13: 0 | H13: 209 | I13: =VLOOKUP($A13,מחוזות,3,FALSE()) -> הצפון | J13: =B13-SUM(C13:H13) -> -127
... A212: קלנסווה | B212: 6719 | C212: 66 | D212: 59 | E212: 0 | F212: 0 | G212: 193 | H212: 1637 | I212: =VLOOKUP($A212,מחוזות,3,FALSE()) -> המרכז | J212: =B212-SUM(C212:H212) -> 4764
A213: קצרין | B213: 8548.778 | C213: 0 | D213: 921 | E213: 0 | F213: 0 | G213: 0 | H213: 7207 | I213: =VLOOKUP($A213,מחוזות,3,FALSE()) -> הצפון | J213: =B213-SUM(C213:H213)+F213 -> 420.778
A214: קרית אונו | B214: 47744 | C214: 0 | D214: 22 | E214: 0 | F214: 0 | G214: 15582 | H214: 27683 | I214: =VLOOKUP($A214,מחוזות,3,FALSE()) -> תל אביב | J214: =B214-SUM(C214:H214)+F214 -> 4457
A215: קרית ארבע | B215: 2685 | C215: 9 | D215: 20 | E215: 0 | F215: 0 | G215: 266 | H215: 1998 | I215: =VLOOKUP($A215,מחוזות,3,FALSE()) -> אזור יהודה והשומרון | J215: =B215-SUM(C215:H215)+F215 -> 392
A216: קרית אתא | B216: 96837.065 | C216: 0 | D216: 4257 | E216: 0 | F216: 29512 | G216: 2290 | H216: 71473 | I216: =VLOOKUP($A216,מחוזות,3,FALSE()) -> חיפה | J216: =B216-SUM(C216:H216)+F216 -> 18817.065
A217: קרית ביאליק | B217: 67488 | C217: 0 | D217: 2146 | E217: 0 | F217: 0 | G217: 0 | H217: 60457 | I217: =VLOOKUP($A217,מחוזות,3,FALSE()) -> חיפה | J217: =B217-SUM(C217:H217)+F217 -> 4885
A218: קרית גת | B218: 171004 | C218: 0 | D218: 178 | E218: 0 | F218: 0 | G218: 1861 | H218: 156056 | I218: =VLOOKUP($A218,מחוזות,3,FALSE()) -> הדרום | J218: =B218-SUM(C218:H218)+F218 -> 12909
A219: קרית טבעון | B219: 28020 | C219: 0 | D219: 107 | E219: 0 | F219: 0 | G219: 1210 | H219: 25881 | I219: =VLOOKUP($A219,מחוזות,3,FALSE()) -> חיפה | J219: =B219-SUM(C219:H219)+F219 -> 822
A220: קרית ים | B220: 27763.549 | C220: 0 | D220: 1098 | E220: 0 | F220: 0 | G220: 0 | H220: 12072 | I220: =VLOOKUP($A220,מחוזות,3,FALSE()) -> חיפה | J220: =B220-SUM(C220:H220)+F220 -> 14593.549
A221: קרית יערים | B221: 821 | C221: 0 | D221: 36 | E221: 0 | F221: 0 | G221: 0 | H221: 287 | I221: =VLOOKUP($A221,מחוזות,3,FALSE()) -> ירושלים | J221: =B221-SUM(C221:H221)+F221 -> 498
A222: קרית מוצקין | B222: 22546.92 | C222: 42 | D222: 1756 | E222: 0 | F222: 196 | G222: 434 | H222: 18235 | I222: =VLOOKUP($A222,מחוזות,3,FALSE()) -> חיפה | J222: =B222-SUM(C222:H222)+F222 -> 2079.92
A223: קרית מלאכי | B223: 45994.79 | C223: 8 | D223: 559 | E223: 0 | F223: 10312 | G223: 5831 | H223: 35693 | I223: =VLOOKUP($A223,מחוזות,3,FALSE()) -> הדרום | J223: =B223-SUM(C223:H223)+F223 -> 3903.79
A224: קרית עקרון | B224: 31525 | C224: 0 | D224: 11 | E224: 0 | F224: 902 | G224: 461 | H224: 29571 | I224: =VLOOKUP($A224,מחוזות,3,FALSE()) -> המרכז | J224: =B224-SUM(C224:H224)+F224 -> 1482
... A256: תמר | B256: 135210 | C256: 0 | D256: 543 | E256: 0 | F256: 0 | G256: 1156 | H256: 122746 | I256: =VLOOKUP($A256,מחוזות,3,FALSE()) -> הדרום | J256: =B256-SUM(C256:H256)+F256 -> 10765
B257: =SUM(B2:B256) -> 17015615 | C257: =SUM(C2:C256) -> 5154.0713 | D257: =SUM(D2:D256) -> 785481.63 | E257: =SUM(E2:E256) -> 0 | F257: =SUM(F2:F256) -> 474191 | G257: =SUM(G2:G256) -> 997497.09 | H257: =SUM(H2:H256) -> 13071915 | J257: =SUM(J2:J256) -> 1879197.6
