Workbook
Name Chapter: [1]Template!$A$1:$O$688
Name EXMAX0105PRED: #REF!
Name EXMIN0105PRED: #REF!

Sheet כפר סבא
A1: סמל צורת יישוב | B1: סמל יישוב | C1: שם יישוב | D1: אזור סטטיסטי | E1: אוכלוסייה בסוף 2018 | F1: גיל | AJ1: חלק יחסי מאוכלוסיית הא"ס | AX1: הוצאה לאוכלוסייה ייעודית
F2: 4-0 | G2: 9-5 | H2: 14-10 | I2: 19-15 | J2: 24-20 | K2: 29-25 | L2: 34-30 | M2: 39-35 | N2: 44-40 | O2: 49-45 | P2: 54-50 | Q2: 59-55 | R2: 64-60 | S2: 69-65 | T2: 74-70 | U2: +75 | V2: חלק יחסי מכפר סבא | W2: תושבים | X2: ילדים מתחת לגיל 3 | Y2: גן | Z2: יסודי | AA2: חטיבה | AB2: תיכון | AC2: בוגרים | AD2: גיל שלישי | AE2: ילדים | AF2: נוער | AG2: החלק היחסי של האוכלוסיה בגיל השלישי | AH2: צפיפות (תושבים לקמ"ר) | AI2: שם השכונה | AJ2: ילדים מתחת לגיל 3 | AK2: גן | AL2: יסודי | AM2: חטיבה | AN2: תיכון | AO2: בוגרים | AP2: גיל שלישי | AQ2: ילדים | AR2: נוער | AS2: גיל ממוצע | AX2: תושבים | AY2: גן | AZ2: יסודי | BA2: חטיבה | BB2: תיכון | BC2: בוגרים | BD2: גיל שלישי | BE2: ילדים | BF2: נוער | BG2: הנחות | BH2: עלות כוללת | BJ2: עלות לתושב ביחס לממוצע העירוני | BL2: תשלום ארנונה ממוצע לתושב | BM2: גרעון לתושב | BO2: תשלום ארנונה ממוצע ליח"ד
A3: 140 | B3: 6900 | C3: כפר סבא | D3: סה"כ | E3: 100764 | F3: 8484 | G3: 8576 | H3: 7116 | I3: 5920 | J3: 5136 | K3: 4833 | L3: 5690 | M3: 7290 | N3: 7971 | O3: 6395 | P3: 4776 | Q3: 4637 | R3: 5241 | S3: 6300 | T3: 5142 | U3: 7255 | V3: =W3/$E$3 -> 1 | W3: =E3 -> 100764 | X3: =ROUNDUP(F3*3/5,0) -> 5091 | Y3: =ROUNDUP(F3*2/5+G3*0.25,0) -> 5538 | Z3: =ROUNDUP(G3*0.75+H3*2/5,0) -> 9279 | AA3: =ROUNDUP(H3*3/5,0) -> 4270 | AB3: =ROUNDUP(I3*0.25,0) -> 1480 | AC3: =E3-AD3-AB3-AA3-Z3-Y3-X3 -> 56409 | AD3: =S3+T3+U3 -> 18697 | AE3: =SUM(X3:AB3) -> 25658 | AF3: =AB3+AA3 -> 5750 | AG3: =AD3/$AD$3 -> 1 | AJ3: =X3/$W3 -> 0.050523997 | AK3: =Y3/$W3 -> 0.054960105 | AL3: =Z3/$W3 -> 0.092086459 | AM3: =AA3/$W3 -> 0.042376245 | AN3: =AB3/$W3 -> 0.014687785 | AO3: =AC3/$W3 -> 0.55981303 | AP3: =AD3/$W3 -> 0.18555238 | AQ3: =AE3/$W3 -> 0.25463459 | AR3: =AF3/$W3 -> 0.057064031 | AS3: =SUMPRODUCT($F3:$U3,$F$31:$U$31)/E3 -> 38.051765 | AW3: =D3 -> סה"כ | AX3: =VLOOKUP(AX$2,'עלויות שירותים במימון ארנונה'!$I$23:$J$33,2,FALSE)*'כפר סבא'!W3 -> 2.9019597e+08 | AY3: =VLOOKUP(AY$2,'עלויות שירותים במימון ארנונה'!$I$23:$J$33,2,FALSE)*'כפר סבא'!Y3 -> 33032934 | AZ3: =VLOOKUP(AZ$2,'עלויות שירותים במימון ארנונה'!$I$23:$J$33,2,FALSE)*'כפר סבא'!Z3 -> 40313699 | BA3: =VLOOKUP(BA$2,'עלויות שירותים במימון ארנונה'!$I$23:$J$33,2,FALSE)*'כפר סבא'!AA3 -> 13428316 | BB3: =VLOOKUP(BB$2,'עלויות שירותים במימון ארנונה'!$I$23:$J$33,2,FALSE)*'כפר סבא'!AB3 -> 5182450.7 | BC3: =VLOOKUP(BC$2,'עלויות שירותים במימון ארנונה'!$I$23:$J$33,2,FALSE)*'כפר סבא'!AC3 -> 962256.96 | BD3: =VLOOKUP(BD$2,'עלויות שירותים במימון ארנונה'!$I$23:$J$33,2,FALSE)*'כפר סבא'!AD3 -> 2973006.5 | BE3: =VLOOKUP(BE$2,'עלויות שירותים במימון ארנונה'!$I$23:$J$33,2,FALSE)*'כפר סבא'!AE3 -> 2729751.8 | BF3: =VLOOKUP(BF$2,'עלויות שירותים במימון ארנונה'!$I$23:$J$33,2,FALSE)*'כפר סבא'!AF3 -> 4979052.4 | BG3: ='עלויות שירותים במימון ארנונה'!$K$21*'כפר סבא'!W3 -> 49355112 | BH3: =SUM(AX3:BG3) -> 4.4315255e+08 | BI3: =BH3/W3 -> 4397.9253 | BJ3: =BH3/W3/($BH$3/$W$3) -> 1 | BK3: כל העיר | BL3: ='נתונים דירות ומבנים בכפר סבא'!T13 -> 1873.0598 | BM3: =BL3-BI3 -> -2524.8655 | BO3: ='נתונים דירות ומבנים בכפר סבא'!T11 -> 5572.2299 | BP3: =E3/BQ3 -> 2.9984709 | BQ3: =SUM(K3:U3)/1.95 -> 33605.128
A4: 140 | B4: 6900 | C4: כפר סבא | D4: 0011 | E4: 3288 | F4: 197 | G4: 175 | H4: 229 | I4: 241 | J4: 256 | K4: 252 | L4: 196 | M4: 159 | N4: 194 | O4: 254 | P4: 212 | Q4: 201 | R4: 212 | S4: 200 | T4: 123 | U4: 186 | V4: =W4/$E$3 -> 0.032630701 | W4: =E4 -> 3288 | X4: =ROUNDUP(F4*3/5,0) -> 119 | Y4: =ROUNDUP(F4*2/5+G4*0.25,0) -> 123 | Z4: =ROUNDUP(G4*0.75+H4*2/5,0) -> 223 | AA4: =ROUNDUP(H4*3/5,0) -> 138 | AB4: =ROUNDUP(I4*0.25,0) -> 61 | AC4: =E4-AD4-AB4-AA4-Z4-Y4-X4 -> 2115 | AD4: =S4+T4+U4 -> 509 | AE4: =SUM(X4:AB4) -> 664 | AF4: =AB4+AA4 -> 199 | AG4: =AD4/$AD$3 -> 0.027223619 | AH4: =$E4/VLOOKUP($D4*1,'כפר סבא מסכם'!$P$31:$W$55,8,FALSE) -> 3012.6222 | AI4: =VLOOKUP($D4,'כפר סבא מסכם'!$E$29:$F$54,2,FALSE) -> קפלן, בית ונוף, הדרים | AJ4: =X4/$W4 -> 0.036192214 | AK4: =Y4/$W4 -> 0.037408759 | AL4: =Z4/$W4 -> 0.067822384 | AM4: =AA4/$W4 -> 0.041970803 | AN4: =AB4/$W4 -> 0.018552311 | AO4: =AC4/$W4 -> 0.64324818 | AP4: =AD4/$W4 -> 0.15480535 | AQ4: =AE4/$W4 -> 0.20194647 | AR4: =AF4/$W4 -> 0.060523114 | AS4: =SUMPRODUCT($F4:$U4,$F$31:$U$31)/E4 -> 38.520985 | AT4: =(AS4-$AS$3)/$AS$32 -> 0.12900763 | AU4: רגיל | AW4: =D4 -> 0011 | AX4: =VLOOKUP(AX$2,'עלויות שירותים במימון ארנונה'!$I$23:$J$33,2,FALSE)*'כפר סבא'!W4 -> 9469298 | AY4: =VLOOKUP(AY$2,'עלויות שירותים במימון ארנונה'!$I$23:$J$33,2,FALSE)*'כפר סבא'!Y4 -> 733667.55 | AZ4: =VLOOKUP(AZ$2,'עלויות שירותים במימון ארנונה'!$I$23:$J$33,2,FALSE)*'כפר סבא'!Z4 -> 968849.53 | BA4: =VLOOKUP(BA$2,'עלויות שירותים במימון ארנונה'!$I$23:$J$33,2,FALSE)*'כפר סבא'!AA4 -> 433983.04 | BB4: =VLOOKUP(BB$2,'עלויות שירותים במימון ארנונה'!$I$23:$J$33,2,FALSE)*'כפר סבא'!AB4 -> 213601.01 | BC4: =VLOOKUP(BC$2,'עלויות שירותים במימון ארנונה'!$I$23:$J$33,2,FALSE)*'כפר סבא'!AC4 -> 36078.879 | BD4: =VLOOKUP(BD$2,'עלויות שירותים במימון ארנונה'!$I$23:$J$33,2,FALSE)*'כפר סבא'!AD4 -> 80935.995 | BE4: =VLOOKUP(BE$2,'עלויות שירותים במימון ארנונה'!$I$23:$J$33,2,FALSE)*'כפר סבא'!AE4 -> 70642.888 | BF4: =VLOOKUP(BF$2,'עלויות שירותים במימון ארנונה'!$I$23:$J$33,2,FALSE)*'כפר סבא'!AF4 -> 172318.51 | BG4: =VLOOKUP($AW4,'כפר סבא מסכם'!$E$29:$M$54,9,FALSE) -> 1684816.8 | BH4: =SUM(AX4:BG4) -> 13864192 | BI4: =BH4/W4 -> 4216.6035 | BJ4: =BH4/W4/($BH$3/$W$3) -> 0.95877105 | BK4: =VLOOKUP($AW4,'כפר סבא מסכם'!$E$29:$F$54,2,) -> קפלן, בית ונוף, הדרים | BL4: =BO4/BP4 -> 2964.2111 | BM4: =BL4-BI4 -> -1252.3924 | BO4: =VLOOKUP($BK4,'נתונים דירות ומבנים בכפר סבא'!$B$39:$E$64,4,FALSE) -> 8682.2 | BP4: =E4/BQ4 -> 2.9290087 | BQ4: =SUM(K4:U4)/1.95 -> 1122.5641
A5: 140 | B5: 6900 | C5: כפר סבא | D5: 0012 | E5: 4929 | F5: 395 | G5: 346 | H5: 312 | I5: 296 | J5: 333 | K5: 326 | L5: 327 | M5: 309 | N5: 292 | O5: 278 | P5: 308 | Q5: 309 | R5: 298 | S5: 280 | T5: 198 | U5: 323 | V5: =W5/$E$3 -> 0.04891628 | W5: =E5 -> 4929 | X5: =ROUNDUP(F5*3/5,0) -> 237 | Y5: =ROUNDUP(F5*2/5+G5*0.25,0) -> 245 | Z5: =ROUNDUP(G5*0.75+H5*2/5,0) -> 385 | AA5: =ROUNDUP(H5*3/5,0) -> 188 | AB5: =ROUNDUP(I5*0.25,0) -> 74 | AC5: =E5-AD5-AB5-AA5-Z5-Y5-X5 -> 2999 | AD5: =S5+T5+U5 -> 801 | AE5: =SUM(X5:AB5) -> 1129 | AF5: =AB5+AA5 -> 262 | AG5: =AD5/$AD$3 -> 0.042841098 | AH5: =$E5/VLOOKUP($D5*1,'כפר סבא מסכם'!$P$31:$W$55,8,FALSE) -> 2473.0555 | AI5: =VLOOKUP($D5,'כפר סבא מסכם'!$E$29:$F$54,2,FALSE) -> גבעת אשכול, יוספטל | AJ5: =X5/$W5 -> 0.048082775 | AK5: =Y5/$W5 -> 0.049705823 | AL5: =Z5/$W5 -> 0.07810915 | AM5: =AA5/$W5 -> 0.038141611 | AN5: =AB5/$W5 -> 0.015013187 | AO5: =AC5/$W5 -> 0.60843985 | AP5: =AD5/$W5 -> 0.16250761 | AQ5: =AE5/$W5 -> 0.22905255 | AR5: =AF5/$W5 -> 0.053154798 | AS5: =SUMPRODUCT($F5:$U5,$F$31:$U$31)/E5 -> 38.074254 | AT5: =(AS5-$AS$3)/$AS$32 -> 0.0061833731 | AU5: רגיל | AW5: =D5 -> 0012 | AX5: =VLOOKUP(AX$2,'עלויות שירותים במימון ארנונה'!$I$23:$J$33,2,FALSE)*'כפר סבא'!W5 -> 14195307 | AY5: =VLOOKUP(AY$2,'עלויות שירותים במימון ארנונה'!$I$23:$J$33,2,FALSE)*'כפר סבא'!Y5 -> 1461370.3 | AZ5: =VLOOKUP(AZ$2,'עלויות שירותים במימון ארנונה'!$I$23:$J$33,2,FALSE)*'כפר סבא'!Z5 -> 1672677.4 | BA5: =VLOOKUP(BA$2,'עלויות שירותים במימון ארנונה'!$I$23:$J$33,2,FALSE)*'כפר סבא'!AA5 -> 591223.27 | BB5: =VLOOKUP(BB$2,'עלויות שירותים במימון ארנונה'!$I$23:$J$33,2,FALSE)*'כפר סבא'!AB5 -> 259122.54 | BC5: =VLOOKUP(BC$2,'עלויות שירותים במימון ארנונה'!$I$23:$J$33,2,FALSE)*'כפר סבא'!AC5 -> 51158.656 | BD5: =VLOOKUP(BD$2,'עלויות שירותים במימון ארנונה'!$I$23:$J$33,2,FALSE)*'כפר סבא'!AD5 -> 127366.86 | BE5: =VLOOKUP(BE$2,'עלויות שירותים במימון ארנונה'!$I$23:$J$33,2,FALSE)*'כפר סבא'!AE5 -> 120114.19 | BF5: =VLOOKUP(BF$2,'עלויות שירותים במימון ארנונה'!$I$23:$J$33,2,FALSE)*'כפר סבא'!AF5 -> 226871.6 | BG5: =VLOOKUP($AW5,'כפר סבא מסכם'!$E$29:$M$54,9,FALSE) -> 3035191.1 | BH5: =SUM(AX5:BG5) -> 21740403 | BI5: =BH5/W5 -> 4410.7127 | BJ5: =BH5/W5/($BH$3/$W$3) -> 1.0029076 | BK5: =VLOOKUP($AW5,'כפר סבא מסכם'!$E$29:$F$54,2,) -> גבעת אשכול, יוספטל | BL5: =BO5/BP5 -> 2558.5753 | BM5: =BL5-BI5 -> -1852.1374 | BO5: =VLOOKUP($BK5,'נתונים דירות ומבנים בכפר סבא'!$B$39:$E$64,4,FALSE) -> 7571.39 | BP5: =E5/BQ5 -> 2.9592211 | BQ5: =SUM(K5:U5)/1.95 -> 1665.641
A6: 140 | B6: 6900 | C6: כפר סבא | D6: 0013 | E6: 5292 | F6: 431 | G6: 580 | H6: 622 | I6: 521 | J6: 270 | K6: 171 | L6: 236 | M6: 384 | N6: 536 | O6: 521 | P6: 275 | Q6: 204 | R6: 148 | S6: 152 | T6: 129 | U6: 111 | V6: =W6/$E$3 -> 0.052518757 | W6: =E6 -> 5292 | X6: =ROUNDUP(F6*3/5,0) -> 259 | Y6: =ROUNDUP(F6*2/5+G6*0.25,0) -> 318 | Z6: =ROUNDUP(G6*0.75+H6*2/5,0) -> 684 | AA6: =ROUNDUP(H6*3/5,0) -> 374 | AB6: =ROUNDUP(I6*0.25,0) -> 131 | AC6: =E6-AD6-AB6-AA6-Z6-Y6-X6 -> 3134 | AD6: =S6+T6+U6 -> 392 | AE6: =SUM(X6:AB6) -> 1766 | AF6: =AB6+AA6 -> 505 | AG6: =AD6/$AD$3 -> 0.02096593 | AH6: =$E6/VLOOKUP($D6*1,'כפר סבא מסכם'!$P$31:$W$55,8,FALSE) -> 12519.073 | AI6: =VLOOKUP($D6,'כפר סבא מסכם'!$E$29:$F$54,2,FALSE) -> הדרים | AJ6: =X6/$W6 -> 0.048941799 | AK6: =Y6/$W6 -> 0.060090703 | AL6: =Z6/$W6 -> 0.1292517 | AM6: =AA6/$W6 -> 0.070672714 | AN6: =AB6/$W6 -> 0.024754346 | AO6: =AC6/$W6 -> 0.59221466 | AP6: =AD6/$W6 -> 0.074074074 | AQ6: =AE6/$W6 -> 0.33371126 | AR6: =AF6/$W6 -> 0.09542706 | AS6: =SUMPRODUCT($F6:$U6,$F$31:$U$31)/E6 -> 31.137377 | AT6: =(AS6-$AS$3)/$AS$32 -> -1.9010422 | AU6: צעירה מאד | AW6: =D6 -> 0013 | AX6: =VLOOKUP(AX$2,'עלויות שירותים במימון ארנונה'!$I$23:$J$33,2,FALSE)*'כפר סבא'!W6 -> 15240731 | AY6: =VLOOKUP(AY$2,'עלויות שירותים במימון ארנונה'!$I$23:$J$33,2,FALSE)*'כפר סבא'!Y6 -> 1896799 | AZ6: =VLOOKUP(AZ$2,'עלויות שירותים במימון ארנונה'!$I$23:$J$33,2,FALSE)*'כפר סבא'!Z6 -> 2971717.8 | BA6: =VLOOKUP(BA$2,'עלויות שירותים במימון ארנונה'!$I$23:$J$33,2,FALSE)*'כפר סבא'!AA6 -> 1176156.9 | BB6: =VLOOKUP(BB$2,'עלויות שירותים במימון ארנונה'!$I$23:$J$33,2,FALSE)*'כפר סבא'!AB6 -> 458716.92 | BC6: =VLOOKUP(BC$2,'עלויות שירותים במימון ארנונה'!$I$23:$J$33,2,FALSE)*'כפר סבא'!AC6 -> 53461.563 | BD6: =VLOOKUP(BD$2,'עלויות שירותים במימון ארנונה'!$I$23:$J$33,2,FALSE)*'כפר סבא'!AD6 -> 62331.847 | BE6: =VLOOKUP(BE$2,'עלויות שירותים במימון ארנונה'!$I$23:$J$33,2,FALSE)*'כפר סבא'!AE6 -> 187884.55 | BF6: =VLOOKUP(BF$2,'עלויות שירותים במימון ארנונה'!$I$23:$J$33,2,FALSE)*'כפר סבא'!AF6 -> 437290.69 | BG6: =VLOOKUP($AW6,'כפר סבא מסכם'!$E$29:$M$54,9,FALSE) -> 2133108.3 | BH6: =SUM(AX6:BG6) -> 24618199 | BI6: =BH6/W6 -> 4651.9651 | BJ6: =BH6/W6/($BH$3/$W$3) -> 1.0577635 | BK6: =VLOOKUP($AW6,'כפר סבא מסכם'!$E$29:$F$54,2,) -> הדרים | BL6: =BO6/BP6 -> 2103.5307 | BM6: =BL6-BI6 -> -2548.4343 | BO6: =VLOOKUP($BK6,'נתונים דירות ומבנים בכפר סבא'!$B$39:$E$64,4,FALSE) -> 7571.39 | BP6: =E6/BQ6 -> 3.5993722 | BQ6: =SUM(K6:U6)/1.95 -> 1470.2564
A7: 140 | B7: 6900 | C7: כפר סבא | D7: 0014 | E7: 10 | BQ7: =SUM(K7:U7)/1.95 -> 0
A8: 140 | B8: 6900 | C8: כפר סבא | D8: 0015 | E8: 4476 | F8: 469 | G8: 608 | H8: 442 | I8: 218 | J8: 127 | K8: 95 | L8: 208 | M8: 430 | N8: 526 | O8: 303 | P8: 146 | Q8: 91 | R8: 102 | S8: 100 | T8: 93 | U8: 518 | V8: =W8/$E$3 -> 0.044420626 | W8: =E8 -> 4476 | X8: =ROUNDUP(F8*3/5,0) -> 282 | Y8: =ROUNDUP(F8*2/5+G8*0.25,0) -> 340 | Z8: =ROUNDUP(G8*0.75+H8*2/5,0) -> 633 | AA8: =ROUNDUP(H8*3/5,0) -> 266 | AB8: =ROUNDUP(I8*0.25,0) -> 55 | AC8: =E8-AD8-AB8-AA8-Z8-Y8-X8 -> 2189 | AD8: =S8+T8+U8 -> 711 | AE8: =SUM(X8:AB8) -> 1576 | AF8: =AB8+AA8 -> 321 | AG8: =AD8/$AD$3 -> 0.038027491 | AH8: =$E8/VLOOKUP($D8*1,'כפר סבא מסכם'!$P$31:$W$55,8,FALSE) -> 2797.1871 | AI8: =VLOOKUP($D8,'כפר סבא מסכם'!$E$29:$F$54,2,FALSE) -> גני השרון, כפר סבא הצעירה | AJ8: =X8/$W8 -> 0.063002681 | AK8: =Y8/$W8 -> 0.075960679 | AL8: =Z8/$W8 -> 0.14142091 | AM8: =AA8/$W8 -> 0.059428061 | AN8: =AB8/$W8 -> 0.012287757 | AO8: =AC8/$W8 -> 0.48905273 | AP8: =AD8/$W8 -> 0.15884718 | AQ8: =AE8/$W8 -> 0.35210009 | AR8: =AF8/$W8 -> 0.071715818 | AS8: =SUMPRODUCT($F8:$U8,$F$31:$U$31)/E8 -> 34.500447 | AT8: =(AS8-$AS$3)/$AS$32 -> -0.97639956 | AU8: צעירה | AW8: =D8 -> 0015 | AX8: =VLOOKUP(AX$2,'עלויות שירותים במימון ארנונה'!$I$23:$J$33,2,FALSE)*'כפר סבא'!W8 -> 12890687 | AY8: =VLOOKUP(AY$2,'עלויות שירותים במימון ארנונה'!$I$23:$J$33,2,FALSE)*'כפר סבא'!Y8 -> 2028024.1 | AZ8: =VLOOKUP(AZ$2,'עלויות שירותים במימון ארנונה'!$I$23:$J$33,2,FALSE)*'כפר סבא'!Z8 -> 2750142.4 | BA8: =VLOOKUP(BA$2,'עלויות שירותים במימון ארנונה'!$I$23:$J$33,2,FALSE)*'כפר סבא'!AA8 -> 836518.02 | BB8: =VLOOKUP(BB$2,'עלויות שירותים במימון ארנונה'!$I$23:$J$33,2,FALSE)*'כפר סבא'!AB8 -> 192591.07 | BC8: =VLOOKUP(BC$2,'עלויות שירותים במימון ארנונה'!$I$23:$J$33,2,FALSE)*'כפר סבא'!AC8 -> 37341.213 | BD8: =VLOOKUP(BD$2,'עלויות שירותים במימון ארנונה'!$I$23:$J$33,2,FALSE)*'כפר סבא'!AD8 -> 113055.98 | BE8: =VLOOKUP(BE$2,'עלויות שירותים במימון ארנונה'!$I$23:$J$33,2,FALSE)*'כפר סבא'!AE8 -> 167670.47 | BF8: =VLOOKUP(BF$2,'עלויות שירותים במימון ארנונה'!$I$23:$J$33,2,FALSE)*'כפר סבא'!AF8 -> 277961.01 | BG8: =VLOOKUP($AW8,'כפר סבא מסכם'!$E$29:$M$54,9,FALSE) -> 1841373.3 | BH8: =SUM(AX8:BG8) -> 21135364 | BI8: =BH8/W8 -> 4721.9313 | BJ8: =BH8/W8/($BH$3/$W$3) -> 1.0736725 | BK8: =VLOOKUP($AW8,'כפר סבא מסכם'!$E$29:$F$54,2,) -> גני השרון, כפר סבא הצעירה | BL8: =BO8/BP8 -> 1783.5748 | BM8: =BL8-BI8 -> -2938.3565 | BO8: =VLOOKUP($BK8,'נתונים דירות ומבנים בכפר סבא'!$B$39:$E$64,4,FALSE) -> 5959.953 | BP8: =E8/BQ8 -> 3.3415773 | BQ8: =SUM(K8:U8)/1.95 -> 1339.4872
A9: 140 | B9: 6900 | C9: כפר סבא | D9: 0016 | E9: 1688 | F9: 97 | G9: 125 | H9: 145 | I9: 113 | J9: 140 | K9: 109 | L9: 82 | M9: 74 | N9: 127 | O9: 115 | P9: 112 | Q9: 107 | R9: 138 | S9: 90 | T9: 64 | U9: 48 | V9: =W9/$E$3 -> 0.016752015 | W9: =E9 -> 1688 | X9: =ROUNDUP(F9*3/5,0) -> 59 | Y9: =ROUNDUP(F9*2/5+G9*0.25,0) -> 71 | Z9: =ROUNDUP(G9*0.75+H9*2/5,0) -> 152 | AA9: =ROUNDUP(H9*3/5,0) -> 87 | AB9: =ROUNDUP(I9*0.25,0) -> 29 | AC9: =E9-AD9-AB9-AA9-Z9-Y9-X9 -> 1088 | AD9: =S9+T9+U9 -> 202 | AE9: =SUM(X9:AB9) -> 398 | AF9: =AB9+AA9 -> 116 | AG9: =AD9/$AD$3 -> 0.010803872 | AH9: =$E9/VLOOKUP($D9*1,'כפר סבא מסכם'!$P$31:$W$55,8,FALSE) -> 6847.5091 | AI9: =VLOOKUP($D9,'כפר סבא מסכם'!$E$29:$F$54,2,FALSE) -> צפון | AJ9: =X9/$W9 -> 0.034952607 | AK9: =Y9/$W9 -> 0.042061611 | AL9: =Z9/$W9 -> 0.090047393 | AM9: =AA9/$W9 -> 0.051540284 | AN9: =AB9/$W9 -> 0.017180095 | AO9: =AC9/$W9 -> 0.64454976 | AP9: =AD9/$W9 -> 0.11966825 | AQ9: =AE9/$W9 -> 0.23578199 | AR9: =AF9/$W9 -> 0.068720379 | AS9: =SUMPRODUCT($F9:$U9,$F$31:$U$31)/E9 -> 36.760664 | AT9: =(AS9-$AS$3)/$AS$32 -> -0.35497541 | AU9: רגיל | AW9: =D9 -> 0016 | AX9: =VLOOKUP(AX$2,'עלויות שירותים במימון ארנונה'!$I$23:$J$33,2,FALSE)*'כפר סבא'!W9 -> 4861367.1 | AY9: =VLOOKUP(AY$2,'עלויות שירותים במימון ארנונה'!$I$23:$J$33,2,FALSE)*'כפר סבא'!Y9 -> 423499.15 | AZ9: =VLOOKUP(AZ$2,'עלויות שירותים במימון ארנונה'!$I$23:$J$33,2,FALSE)*'כפר סבא'!Z9 -> 660381.74 | BA9: =VLOOKUP(BA$2,'עלויות שירותים במימון ארנונה'!$I$23:$J$33,2,FALSE)*'כפר סבא'!AA9 -> 273598 | BB9: =VLOOKUP(BB$2,'עלויות שירותים במימון ארנונה'!$I$23:$J$33,2,FALSE)*'כפר סבא'!AB9 -> 101548.02 | BC9: =VLOOKUP(BC$2,'עלויות שירותים במימון ארנונה'!$I$23:$J$33,2,FALSE)*'כפר סבא'!AC9 -> 18559.726 | BD9: =VLOOKUP(BD$2,'עלויות שירותים במימון ארנונה'!$I$23:$J$33,2,FALSE)*'כפר סבא'!AD9 -> 32119.982 | BE9: =VLOOKUP(BE$2,'עלויות שירותים במימון ארנונה'!$I$23:$J$33,2,FALSE)*'כפר סבא'!AE9 -> 42343.177 | BF9: =VLOOKUP(BF$2,'עלויות שירותים במימון ארנונה'!$I$23:$J$33,2,FALSE)*'כפר סבא'!AF9 -> 100446.97 | BG9: =VLOOKUP($AW9,'כפר סבא מסכם'!$E$29:$M$54,9,FALSE) -> 779442.41 | BH9: =SUM(AX9:BG9) -> 7293306.3 | BI9: =BH9/W9 -> 4320.6791 | BJ9: =BH9/W9/($BH$3/$W$3) -> 0.98243575 | BK9: =VLOOKUP($AW9,'כפר סבא מסכם'!$E$29:$F$54,2,) -> צפון | BL9: =BO9/BP9 -> 2100.0655 | BM9: =BL9-BI9 -> -2220.6135 | BO9: =VLOOKUP($BK9,'נתונים דירות ומבנים בכפר סבא'!$B$39:$E$64,4,FALSE) -> 6484.5926 | BP9: =E9/BQ9 -> 3.0878049 | BQ9: =SUM(K9:U9)/1.95 -> 546.66667
A10: 140 | B10: 6900 | C10: כפר סבא | D10: 0021 | E10: 10638 | F10: 1604 | G10: 1474 | H10: 742 | I10: 408 | J10: 314 | K10: 385 | L10: 653 | M10: 1250 | N10: 1104 | O10: 610 | P10: 316 | Q10: 336 | R10: 378 | S10: 402 | T10: 305 | U10: 359 | V10: =W10/$E$3 -> 0.10557342 | W10: =E10 -> 10638 | X10: =ROUNDUP(F10*3/5,0) -> 963 | Y10: =ROUNDUP(F10*2/5+G10*0.25,0) -> 1011 | Z10: =ROUNDUP(G10*0.75+H10*2/5,0) -> 1403 | AA10: =ROUNDUP(H10*3/5,0) -> 446 | AB10: =ROUNDUP(I10*0.25,0) -> 102 | AC10: =E10-AD10-AB10-AA10-Z10-Y10-X10 -> 5647 | AD10: =S10+T10+U10 -> 1066 | AE10: =SUM(X10:AB10) -> 3925 | AF10: =AB10+AA10 -> 548 | AG10: =AD10/$AD$3 -> 0.057014494 | AH10: =$E10/VLOOKUP($D10*1,'כפר סבא מסכם'!$P$31:$W$55,8,FALSE) -> 7331.7835 | AI10: =VLOOKUP($D10,'כפר סבא מסכם'!$E$29:$F$54,2,FALSE) -> השכונה הירוקה, שיכון עליה, שבזי | AJ10: =X10/$W10 -> 0.090524535 | AK10: =Y10/$W10 -> 0.095036661 | AL10: =Z10/$W10 -> 0.13188569 | AM10: =AA10/$W10 -> 0.041925174 | AN10: =AB10/$W10 -> 0.0095882685 | AO10: =AC10/$W10 -> 0.53083286 | AP10: =AD10/$W10 -> 0.10020681 | AQ10: =AE10/$W10 -> 0.36896033 | AR10: =AF10/$W10 -> 0.051513442 | AS10: =SUMPRODUCT($F10:$U10,$F$31:$U$31)/E10 -> 30.848656 | AT10: =(AS10-$AS$3)/$AS$32 -> -1.9804233 | AU10: צעירה מאד | AW10: =D10 -> 0021 | AX10: =VLOOKUP(AX$2,'עלויות שירותים במימון ארנונה'!$I$23:$J$33,2,FALSE)*'כפר סבא'!W10 -> 30636981 | AY10: =VLOOKUP(AY$2,'עלויות שירותים במימון ארנונה'!$I$23:$J$33,2,FALSE)*'כפר סבא'!Y10 -> 6030389.4 | AZ10: =VLOOKUP(AZ$2,'עלויות שירותים במימון ארנונה'!$I$23:$J$33,2,FALSE)*'כפר סבא'!Z10 -> 6095497.3 | BA10: =VLOOKUP(BA$2,'עלויות שירותים במימון ארנונה'!$I$23:$J$33,2,FALSE)*'כפר סבא'!AA10 -> 1402582.9 | BB10: =VLOOKUP(BB$2,'עלויות שירותים במימון ארנונה'!$I$23:$J$33,2,FALSE)*'כפר סבא'!AB10 -> 357168.9 | BC10: =VLOOKUP(BC$2,'עלויות שירותים במימון ארנונה'!$I$23:$J$33,2,FALSE)*'כפר סבא'!AC10 -> 96329.753 | BD10: =VLOOKUP(BD$2,'עלויות שירותים במימון ארנונה'!$I$23:$J$33,2,FALSE)*'כפר סבא'!AD10 -> 169504.46 | BE10: =VLOOKUP(BE$2,'עלויות שירותים במימון ארנונה'!$I$23:$J$33,2,FALSE)*'כפר סבא'!AE10 -> 417580.32 | BF10: =VLOOKUP(BF$2,'עלויות שירותים במימון ארנונה'!$I$23:$J$33,2,FALSE)*'כפר סבא'!AF10 -> 474525.34 | BG10: =VLOOKUP($AW10,'כפר סבא מסכם'!$E$29:$M$54,9,FALSE) -> 4310685.2 | BH10: =SUM(AX10:BG10) -> 49991244 | BI10: =BH10/W10 -> 4699.3085 | BJ10: =BH10/W10/($BH$3/$W$3) -> 1.0685285 | BK10: =VLOOKUP($AW10,'כפר סבא מסכם'!$E$29:$F$54,2,) -> השכונה הירוקה, שיכון עליה, שבזי | BL10: =BO10/BP10 -> 2594.1714 | BM10: =BL10-BI10 -> -2105.1372 | BO10: =VLOOKUP($BK10,'נתונים דירות ומבנים בכפר סבא'!$B$39:$E$64,4,FALSE) -> 8824.8196 | BP10: =E10/BQ10 -> 3.4017875 | BQ10: =SUM(K10:U10)/1.95 -> 3127.1795
A11: 140 | B11: 6900 | C11: כפר סבא | D11: 0022 | E11: 12767 | F11: 1310 | G11: 1549 | H11: 1127 | I11: 711 | J11: 514 | K11: 444 | L11: 633 | M11: 1028 | N11: 1332 | O11: 907 | P11: 535 | Q11: 437 | R11: 461 | S11: 597 | T11: 502 | U11: 679 | V11: =W11/$E$3 -> 0.126702 | W11: =E11 -> 12767 | X11: =ROUNDUP(F11*3/5,0) -> 786 | Y11: =ROUNDUP(F11*2/5+G11*0.25,0) -> 912 | Z11: =ROUNDUP(G11*0.75+H11*2/5,0) -> 1613 | AA11: =ROUNDUP(H11*3/5,0) -> 677 | AB11: =ROUNDUP(I11*0.25,0) -> 178 | AC11: =E11-AD11-AB11-AA11-Z11-Y11-X11 -> 6823 | AD11: =S11+T11+U11 -> 1778 | AE11: =SUM(X11:AB11) -> 4166 | AF11: =AB11+AA11 -> 855 | AG11: =AD11/$AD$3 -> 0.09509547 | AH11: =$E11/VLOOKUP($D11*1,'כפר סבא מסכם'!$P$31:$W$55,8,FALSE) -> 9205.8735 | AI11: =VLOOKUP($D11,'כפר סבא מסכם'!$E$29:$F$54,2,FALSE) -> הזמר העברי, סביוני הכפר, סירקין, ותיקים | AJ11: =X11/$W11 -> 0.061564972 | AK11: =Y11/$W11 -> 0.071434166 | AL11: =Z11/$W11 -> 0.12634135 | AM11: =AA11/$W11 -> 0.053027336 | AN11: =AB11/$W11 -> 0.013942195 | AO11: =AC11/$W11 -> 0.53442469 | AP11: =AD11/$W11 -> 0.13926529 | AQ11: =AE11/$W11 -> 0.32631002 | AR11: =AF11/$W11 -> 0.066969531 | AS11: =SUMPRODUCT($F11:$U11,$F$31:$U$31)/E11 -> 34.021775 | AT11: =(AS11-$AS$3)/$AS$32 -> -1.1080057 | AU11: צעירה | AW11: =D11 -> 0022 | AX11: =VLOOKUP(AX$2,'עלויות שירותים במימון ארנונה'!$I$23:$J$33,2,FALSE)*'כפר סבא'!W11 -> 36768409 | AY11: =VLOOKUP(AY$2,'עלויות שירותים במימון ארנונה'!$I$23:$J$33,2,FALSE)*'כפר סבא'!Y11 -> 5439876.5 | AZ11: =VLOOKUP(AZ$2,'עלויות שירותים במימון ארנונה'!$I$23:$J$33,2,FALSE)*'כפר סבא'!Z11 -> 7007866.8 | BA11: =VLOOKUP(BA$2,'עלויות שירותים במימון ארנונה'!$I$23:$J$33,2,FALSE)*'כפר סבא'!AA11 -> 2129032.7 | BB11: =VLOOKUP(BB$2,'עלויות שירותים במימון ארנונה'!$I$23:$J$33,2,FALSE)*'כפר סבא'!AB11 -> 623294.75 | BC11: =VLOOKUP(BC$2,'עלויות שירותים במימון ארנונה'!$I$23:$J$33,2,FALSE)*'כפר סבא'!AC11 -> 116390.63 | BD11: =VLOOKUP(BD$2,'עלויות שירותים במימון ארנונה'!$I$23:$J$33,2,FALSE)*'כפר סבא'!AD11 -> 282719.45 | BE11: =VLOOKUP(BE$2,'עלויות שירותים במימון ארנונה'!$I$23:$J$33,2,FALSE)*'כפר סבא'!AE11 -> 443220.29 | BF11: =VLOOKUP(BF$2,'עלויות שירותים במימון ארנונה'!$I$23:$J$33,2,FALSE)*'כפר סבא'!AF11 -> 740363.44 | BG11: =VLOOKUP($AW11,'כפר סבא מסכם'!$E$29:$M$54,9,FALSE) -> 4718869 | BH11: =SUM(AX11:BG11) -> 58270042 | BI11: =BH11/W11 -> 4564.1139 | BJ11: =BH11/W11/($BH$3/$W$3) -> 1.037788 | BK11: =VLOOKUP($AW11,'כפר סבא מסכם'!$E$29:$F$54,2,) -> הזמר העברי, סביוני הכפר, סירקין, ותיקים | BL11: =BO11/BP11 -> 3272.4632 | BM11: =BL11-BI11 -> -1291.6507 | BO11: =VLOOKUP($BK11,'נתונים דירות ומבנים בכפר סבא'!$B$39:$E$64,4,FALSE) -> 10783.6 | BP11: =E11/BQ11 -> 3.2952548 | BQ11: =SUM(K11:U11)/1.95 -> 3874.359
A12: 140 | B12: 6900 | C12: כפר סבא | D12: 0031 | E12: 2752 | F12: 186 | G12: 165 | H12: 171 | I12: 165 | J12: 163 | K12: 140 | L12: 138 | M12: 160 | N12: 220 | O12: 165 | P12: 134 | Q12: 144 | R12: 187 | S12: 208 | T12: 211 | U12: 195 | V12: =W12/$E$3 -> 0.027311341 | W12: =E12 -> 2752 | X12: =ROUNDUP(F12*3/5,0) -> 112 | Y12: =ROUNDUP(F12*2/5+G12*0.25,0) -> 116 | Z12: =ROUNDUP(G12*0.75+H12*2/5,0) -> 193 | AA12: =ROUNDUP(H12*3/5,0) -> 103 | AB12: =ROUNDUP(I12*0.25,0) -> 42 | AC12: =E12-AD12-AB12-AA12-Z12-Y12-X12 -> 1572 | AD12: =S12+T12+U12 -> 614 | AE12: =SUM(X12:AB12) -> 566 | AF12: =AB12+AA12 -> 145 | AG12: =AD12/$AD$3 -> 0.032839493 | AH12: =$E12/VLOOKUP($D12*1,'כפר סבא מסכם'!$P$31:$W$55,8,FALSE) -> 10631.804 | AI12: =VLOOKUP($D12,'כפר סבא מסכם'!$E$29:$F$54,2,FALSE) -> מעוז | AJ12: =X12/$W12 -> 0.040697674 | AK12: =Y12/$W12 -> 0.042151163 | AL12: =Z12/$W12 -> 0.070130814 | AM12: =AA12/$W12 -> 0.037427326 | AN12: =AB12/$W12 -> 0.015261628 | AO12: =AC12/$W12 -> 0.57122093 | AP12: =AD12/$W12 -> 0.22311047 | AQ12: =AE12/$W12 -> 0.2056686 | AR12: =AF12/$W12 -> 0.052688953 | AS12: =SUMPRODUCT($F12:$U12,$F$31:$U$31)/E12 -> 41.188227 | AT12: =(AS12-$AS$3)/$AS$32 -> 0.86233917 | AU12: מבוגרת | AW12: =D12 -> 0031 | AX12: =VLOOKUP(AX$2,'עלויות שירותים במימון ארנונה'!$I$23:$J$33,2,FALSE)*'כפר סבא'!W12 -> 7925641.2 | AY12: =VLOOKUP(AY$2,'עלויות שירותים במימון ארנונה'!$I$23:$J$33,2,FALSE)*'כפר סבא'!Y12 -> 691914.11 | AZ12: =VLOOKUP(AZ$2,'עלויות שירותים במימון ארנונה'!$I$23:$J$33,2,FALSE)*'כפר סבא'!Z12 -> 838511.03 | BA12: =VLOOKUP(BA$2,'עלויות שירותים במימון ארנונה'!$I$23:$J$33,2,FALSE)*'כפר סבא'!AA12 -> 323914.87 | BB12: =VLOOKUP(BB$2,'עלויות שירותים במימון ארנונה'!$I$23:$J$33,2,FALSE)*'כפר סבא'!AB12 -> 147069.55 | BC12: =VLOOKUP(BC$2,'עלויות שירותים במימון ארנונה'!$I$23:$J$33,2,FALSE)*'כפר סבא'!AC12 -> 26816.074 | BD12: =VLOOKUP(BD$2,'עלויות שירותים במימון ארנונה'!$I$23:$J$33,2,FALSE)*'כפר סבא'!AD12 -> 97632.025 | BE12: =VLOOKUP(BE$2,'עלויות שירותים במימון ארנונה'!$I$23:$J$33,2,FALSE)*'כפר סבא'!AE12 -> 60216.679 | BF12: =VLOOKUP(BF$2,'עלויות שירותים במימון ארנונה'!$I$23:$J$33,2,FALSE)*'כפר סבא'!AF12 -> 125558.71 | BG12: =VLOOKUP($AW12,'כפר סבא מסכם'!$E$29:$M$54,9,FALSE) -> 1424714.7 | BH12: =SUM(AX12:BG12) -> 11661989 | BI12: =BH12/W12 -> 4237.6413 | BJ12: =BH12/W12/($BH$3/$W$3) -> 0.96355463 | BK12: =VLOOKUP($AW12,'כפר סבא מסכם'!$E$29:$F$54,2,) -> מעוז | BL12: =BO12/BP12 -> 2433.5135 | BM12: =BL12-BI12 -> -1804.1278 | BO12: =VLOOKUP($BK12,'נתונים דירות ומבנים בכפר סבא'!$B$39:$E$64,4,FALSE) -> 6866.0392 | BP12: =E12/BQ12 -> 2.8214511 | BQ12: =SUM(K12:U12)/1.95 -> 975.38462
A13: 140 | B13: 6900 | C13: כפר סבא | D13: 0032 | E13: 2626 | F13: 141 | G13: 115 | H13: 160 | I13: 183 | J13: 167 | K13: 143 | L13: 122 | M13: 149 | N13: 180 | O13: 177 | P13: 126 | Q13: 141 | R13: 170 | S13: 215 | T13: 202 | U13: 236 | V13: =W13/$E$3 -> 0.026060895 | W13: =E13 -> 2626 | X13: =ROUNDUP(F13*3/5,0) -> 85 | Y13: =ROUNDUP(F13*2/5+G13*0.25,0) -> 86 | Z13: =ROUNDUP(G13*0.75+H13*2/5,0) -> 151 | AA13: =ROUNDUP(H13*3/5,0) -> 96 | AB13: =ROUNDUP(I13*0.25,0) -> 46 | AC13: =E13-AD13-AB13-AA13-Z13-Y13-X13 -> 1509 | AD13: =S13+T13+U13 -> 653 | AE13: =SUM(X13:AB13) -> 464 | AF13: =AB13+AA13 -> 142 | AG13: =AD13/$AD$3 -> 0.034925389 | AH13: =$E13/VLOOKUP($D13*1,'כפר סבא מסכם'!$P$31:$W$55,8,FALSE) -> 5556.7429 | AI13: =VLOOKUP($D13,'כפר סבא מסכם'!$E$29:$F$54,2,FALSE) -> מעוז, אליעזר, שיכוני מזרחי | AJ13: =X13/$W13 -> 0.032368621 | AK13: =Y13/$W13 -> 0.032749429 | AL13: =Z13/$W13 -> 0.057501904 | AM13: =AA13/$W13 -> 0.036557502 | AN13: =AB13/$W13 -> 0.017517136 | AO13: =AC13/$W13 -> 0.57463823 | AP13: =AD13/$W13 -> 0.24866717 | AQ13: =AE13/$W13 -> 0.17669459 | AR13: =AF13/$W13 -> 0.054074638 | AS13: =SUMPRODUCT($F13:$U13,$F$31:$U$31)/E13 -> 42.938309 | AT13: =(AS13-$AS$3)/$AS$32 -> 1.343507 | AU13: מבוגרת מאד | AW13: =D13 -> 0032 | AX13: =VLOOKUP(AX$2,'עלויות שירותים במימון ארנונה'!$I$23:$J$33,2,FALSE)*'כפר סבא'!W13 -> 7562766.6 | AY13: =VLOOKUP(AY$2,'עלויות שירותים במימון ארנונה'!$I$23:$J$33,2,FALSE)*'כפר סבא'!Y13 -> 512970.81 | AZ13: =VLOOKUP(AZ$2,'עלויות שירותים במימון ארנונה'!$I$23:$J$33,2,FALSE)*'כפר סבא'!Z13 -> 656037.13 | BA13: =VLOOKUP(BA$2,'עלויות שירותים במימון ארנונה'!$I$23:$J$33,2,FALSE)*'כפר סבא'!AA13 -> 301901.24 | BB13: =VLOOKUP(BB$2,'עלויות שירותים במימון ארנונה'!$I$23:$J$33,2,FALSE)*'כפר סבא'!AB13 -> 161076.17 | BC13: =VLOOKUP(BC$2,'עלויות שירותים במימון ארנונה'!$I$23:$J$33,2,FALSE)*'כפר סבא'!AC13 -> 25741.384 | BD13: =VLOOKUP(BD$2,'עלויות שירותים במימון ארנונה'!$I$23:$J$33,2,FALSE)*'כפר סבא'!AD13 -> 103833.41 | BE13: =VLOOKUP(BE$2,'עלויות שירותים במימון ארנונה'!$I$23:$J$33,2,FALSE)*'כפר סבא'!AE13 -> 49364.91 | BF13: =VLOOKUP(BF$2,'עלויות שירותים במימון ארנונה'!$I$23:$J$33,2,FALSE)*'כפר סבא'!AF13 -> 122960.95 | BG13: =VLOOKUP($AW13,'כפר סבא מסכם'!$E$29:$M$54,9,FALSE) -> 1395781.6 | BH13: =SUM(AX13:BG13) -> 10892434 | BI13: =BH13/W13 -> 4147.9186 | BJ13: =BH13/W13/($BH$3/$W$3) -> 0.94315349 | BK13: =VLOOKUP($AW13,'כפר סבא מסכם'!$E$29:$F$54,2,) -> מעוז, אליעזר, שיכוני מזרחי | BL13: =BO13/BP13 -> 2495.3032 | BM13: =BL13-BI13 -> -1652.6154 | BO13: =VLOOKUP($BK13,'נתונים דירות ומבנים בכפר סבא'!$B$39:$E$64,4,FALSE) -> 6866.0392 | BP13: =E13/BQ13 -> 2.7515852 | BQ13: =SUM(K13:U13)/1.95 -> 954.35897
A14: 140 | B14: 6900 | C14: כפר סבא | D14: 0033 | E14: 2557 | F14: 175 | G14: 185 | H14: 137 | I14: 145 | J14: 150 | K14: 147 | L14: 133 | M14: 162 | N14: 173 | O14: 144 | P14: 129 | Q14: 134 | R14: 157 | S14: 198 | T14: 182 | U14: 208 | V14: =W14/$E$3 -> 0.025376126 | W14: =E14 -> 2557 | X14: =ROUNDUP(F14*3/5,0) -> 105 | Y14: =ROUNDUP(F14*2/5+G14*0.25,0) -> 117 | Z14: =ROUNDUP(G14*0.75+H14*2/5,0) -> 194 | AA14: =ROUNDUP(H14*3/5,0) -> 83 | AB14: =ROUNDUP(I14*0.25,0) -> 37 | AC14: =E14-AD14-AB14-AA14-Z14-Y14-X14 -> 1433 | AD14: =S14+T14+U14 -> 588 | AE14: =SUM(X14:AB14) -> 536 | AF14: =AB14+AA14 -> 120 | AG14: =AD14/$AD$3 -> 0.031448896 | AH14: =$E14/VLOOKUP($D14*1,'כפר סבא מסכם'!$P$31:$W$55,8,FALSE) -> 8633.73 | AI14: =VLOOKUP($D14,'כפר סבא מסכם'!$E$29:$F$54,2,FALSE) -> למפרט, פועלים ב', קרית ספיר | AJ14: =X14/$W14 -> 0.041063747 | AK14: =Y14/$W14 -> 0.045756746 | AL14: =Z14/$W14 -> 0.07587016 | AM14: =AA14/$W14 -> 0.032459914 | AN14: =AB14/$W14 -> 0.014470082 | AO14: =AC14/$W14 -> 0.56042237 | AP14: =AD14/$W14 -> 0.22995698 | AQ14: =AE14/$W14 -> 0.20962065 | AR14: =AF14/$W14 -> 0.046929996 | AS14: =SUMPRODUCT($F14:$U14,$F$31:$U$31)/E14 -> 41.140399 | AT14: =(AS14-$AS$3)/$AS$32 -> 0.84918938 | AU14: מבוגרת | AW14: =D14 -> 0033 | AX14: =VLOOKUP(AX$2,'עלויות שירותים במימון ארנונה'!$I$23:$J$33,2,FALSE)*'כפר סבא'!W14 -> 7364049.6 | AY14: =VLOOKUP(AY$2,'עלויות שירותים במימון ארנונה'!$I$23:$J$33,2,FALSE)*'כפר סבא'!Y14 -> 697878.89 | AZ14: =VLOOKUP(AZ$2,'עלויות שירותים במימון ארנונה'!$I$23:$J$33,2,FALSE)*'כפר סבא'!Z14 -> 842855.65 | BA14: =VLOOKUP(BA$2,'עלויות שירותים במימון ארנונה'!$I$23:$J$33,2,FALSE)*'כפר סבא'!AA14 -> 261018.78 | BB14: =VLOOKUP(BB$2,'עלויות שירותים במימון ארנונה'!$I$23:$J$33,2,FALSE)*'כפר סבא'!AB14 -> 129561.27 | BC14: =VLOOKUP(BC$2,'עלויות שירותים במימון ארנונה'!$I$23:$J$33,2,FALSE)*'כפר סבא'!AC14 -> 24444.933 | BD14: =VLOOKUP(BD$2,'עלויות שירותים במימון ארנונה'!$I$23:$J$33,2,FALSE)*'כפר סבא'!AD14 -> 93497.77 | BE14: =VLOOKUP(BE$2,'עלויות שירותים במימון ארנונה'!$I$23:$J$33,2,FALSE)*'כפר סבא'!AE14 -> 57024.982 | BF14: =VLOOKUP(BF$2,'עלויות שירותים במימון ארנונה'!$I$23:$J$33,2,FALSE)*'כפר סבא'!AF14 -> 103910.66 | BG14: =VLOOKUP($AW14,'כפר סבא מסכם'!$E$29:$M$54,9,FALSE) -> 1333231.2 | BH14: =SUM(AX14:BG14) -> 10907474 | BI14: =BH14/W14 -> 4265.7308 | BJ14: =BH14/W14/($BH$3/$W$3) -> 0.96994163 | BK14: =VLOOKUP($AW14,'כפר סבא מסכם'!$E$29:$F$54,2,) -> למפרט, פועלים ב', קרית ספיר | BL14: =BO14/BP14 -> 2162.8429 | BM14: =BL14-BI14 -> -2102.888 | BO14: =VLOOKUP($BK14,'נתונים דירות ומבנים בכפר סבא'!$B$39:$E$64,4,FALSE) -> 6103.146 | BP14: =E14/BQ14 -> 2.8218166 | BQ14: =SUM(K14:U14)/1.95 -> 906.15385
A15: 140 | B15: 6900 | C15: כפר סבא | D15: 0034 | E15: 3602 | F15: 290 | G15: 270 | H15: 240 | I15: 180 | J15: 174 | K15: 160 | L15: 248 | M15: 256 | N15: 263 | O15: 219 | P15: 166 | Q15: 185 | R15: 189 | S15: 265 | T15: 219 | U15: 279 | V15: =W15/$E$3 -> 0.035746894 | W15: =E15 -> 3602 | X15: =ROUNDUP(F15*3/5,0) -> 174 | Y15: =ROUNDUP(F15*2/5+G15*0.25,0) -> 184 | Z15: =ROUNDUP(G15*0.75+H15*2/5,0) -> 299 | AA15: =ROUNDUP(H15*3/5,0) -> 144 | AB15: =ROUNDUP(I15*0.25,0) -> 45 | AC15: =E15-AD15-AB15-AA15-Z15-Y15-X15 -> 1993 | AD15: =S15+T15+U15 -> 763 | AE15: =SUM(X15:AB15) -> 846 | AF15: =AB15+AA15 -> 189 | AG15: =AD15/$AD$3 -> 0.040808686 | AH15: =$E15/VLOOKUP($D15*1,'כפר סבא מסכם'!$P$31:$W$55,8,FALSE) -> 9909.8703 | AI15: =VLOOKUP($D15,'כפר סבא מסכם'!$E$29:$F$54,2,FALSE) -> הפרחים, דגניה | AJ15: =X15/$W15 -> 0.048306496 | AK15: =Y15/$W15 -> 0.051082732 | AL15: =Z15/$W15 -> 0.083009439 | AM15: =AA15/$W15 -> 0.03997779 | AN15: =AB15/$W15 -> 0.012493059 | AO15: =AC15/$W15 -> 0.55330372 | AP15: =AD15/$W15 -> 0.21182676 | AQ15: =AE15/$W15 -> 0.23486952 | AR15: =AF15/$W15 -> 0.05247085 | AS15: =SUMPRODUCT($F15:$U15,$F$31:$U$31)/E15 -> 39.747363 | AT15: =(AS15-$AS$3)/$AS$32 -> 0.46618786 | AU15: רגיל | AW15: =D15 -> 0034 | AX15: =VLOOKUP(AX$2,'עלויות שירותים במימון ארנונה'!$I$23:$J$33,2,FALSE)*'כפר סבא'!W15 -> 10373604 | AY15: =VLOOKUP(AY$2,'עלויות שירותים במימון ארנונה'!$I$23:$J$33,2,FALSE)*'כפר סבא'!Y15 -> 1097518.9 | AZ15: =VLOOKUP(AZ$2,'עלויות שירותים במימון ארנונה'!$I$23:$J$33,2,FALSE)*'כפר סבא'!Z15 -> 1299040.4 | BA15: =VLOOKUP(BA$2,'עלויות שירותים במימון ארנונה'!$I$23:$J$33,2,FALSE)*'כפר סבא'!AA15 -> 452851.86 | BB15: =VLOOKUP(BB$2,'עלויות שירותים במימון ארנונה'!$I$23:$J$33,2,FALSE)*'כפר סבא'!AB15 -> 157574.52 | BC15: =VLOOKUP(BC$2,'עלויות שירותים במימון ארנונה'!$I$23:$J$33,2,FALSE)*'כפר סבא'!AC15 -> 33997.733 | BD15: =VLOOKUP(BD$2,'עלויות שירותים במימון ארנונה'!$I$23:$J$33,2,FALSE)*'כפר סבא'!AD15 -> 121324.49 | BE15: =VLOOKUP(BE$2,'עלויות שירותים במימון ארנונה'!$I$23:$J$33,2,FALSE)*'כפר סבא'!AE15 -> 90005.848 | BF15: =VLOOKUP(BF$2,'עלויות שירותים במימון ארנונה'!$I$23:$J$33,2,FALSE)*'כפר סבא'!AF15 -> 163659.29 | BG15: =VLOOKUP($AW15,'כפר סבא מסכם'!$E$29:$M$54,9,FALSE) -> 1842778.8 | BH15: =SUM(AX15:BG15) -> 15632356 | BI15: =BH15/W15 -> 4339.9101 | BJ15: =BH15/W15/($BH$3/$W$3) -> 0.98680851 | BK15: =VLOOKUP($AW15,'כפר סבא מסכם'!$E$29:$F$54,2,) -> הפרחים, דגניה | BL15: =BO15/BP15 -> 1531.2397 | BM15: =BL15-BI15 -> -2808.6704 | BO15: =VLOOKUP($BK15,'נתונים דירות ומבנים בכפר סבא'!$B$39:$E$64,4,FALSE) -> 4391.7005 | BP15: =E15/BQ15 -> 2.8680686 | BQ15: =SUM(K15:U15)/1.95 -> 1255.8974
A16: 140 | B16: 6900 | C16: כפר סבא | D16: 0035 | E16: 2105 | F16: 122 | G16: 131 | H16: 137 | I16: 171 | J16: 104 | K16: 124 | L16: 138 | M16: 137 | N16: 132 | O16: 101 | P16: 94 | Q16: 90 | R16: 128 | S16: 162 | T16: 159 | U16: 174 | V16: =W16/$E$3 -> 0.020890397 | W16: =E16 -> 2105 | X16: =ROUNDUP(F16*3/5,0) -> 74 | Y16: =ROUNDUP(F16*2/5+G16*0.25,0) -> 82 | Z16: =ROUNDUP(G16*0.75+H16*2/5,0) -> 154 | AA16: =ROUNDUP(H16*3/5,0) -> 83 | AB16: =ROUNDUP(I16*0.25,0) -> 43 | AC16: =E16-AD16-AB16-AA16-Z16-Y16-X16 -> 1174 | AD16: =S16+T16+U16 -> 495 | AE16: =SUM(X16:AB16) -> 436 | AF16: =AB16+AA16 -> 126 | AG16: =AD16/$AD$3 -> 0.026474836 | AH16: =$E16/VLOOKUP($D16*1,'כפר סבא מסכם'!$P$31:$W$55,8,FALSE) -> 11711.752 | AI16: =VLOOKUP($D16,'כפר סבא מסכם'!$E$29:$F$54,2,FALSE) -> מרכז, ארלוזורוב | AJ16: =X16/$W16 -> 0.035154394 | AK16: =Y16/$W16 -> 0.038954869 | AL16: =Z16/$W16 -> 0.073159145 | AM16: =AA16/$W16 -> 0.039429929 | AN16: =AB16/$W16 -> 0.020427553 | AO16: =AC16/$W16 -> 0.55771971 | AP16: =AD16/$W16 -> 0.23515439 | AQ16: =AE16/$W16 -> 0.20712589 | AR16: =AF16/$W16 -> 0.059857482 | AS16: =SUMPRODUCT($F16:$U16,$F$31:$U$31)/E16 -> 40.828504 | AT16: =(AS16-$AS$3)/$AS$32 -> 0.76343685 | AU16: מבוגרת | AW16: =D16 -> 0035 | AX16: =VLOOKUP(AX$2,'עלויות שירותים במימון ארנונה'!$I$23:$J$33,2,FALSE)*'כפר סבא'!W16 -> 6062309.1 | AY16: =VLOOKUP(AY$2,'עלויות שירותים במימון ארנונה'!$I$23:$J$33,2,FALSE)*'כפר סבא'!Y16 -> 489111.7 | AZ16: =VLOOKUP(AZ$2,'עלויות שירותים במימון ארנונה'!$I$23:$J$33,2,FALSE)*'כפר סבא'!Z16 -> 669070.98 | BA16: =VLOOKUP(BA$2,'עלויות שירותים במימון ארנונה'!$I$23:$J$33,2,FALSE)*'כפר סבא'!AA16 -> 261018.78 | BB16: =VLOOKUP(BB$2,'עלויות שירותים במימון ארנונה'!$I$23:$J$33,2,FALSE)*'כפר סבא'!AB16 -> 150571.2 | BC16: =VLOOKUP(BC$2,'עלויות שירותים במימון ארנונה'!$I$23:$J$33,2,FALSE)*'כפר סבא'!AC16 -> 20026.763 | BD16: =VLOOKUP(BD$2,'עלויות שירותים במימון ארנונה'!$I$23:$J$33,2,FALSE)*'כפר סבא'!AD16 -> 78709.857 | BE16: =VLOOKUP(BE$2,'עלויות שירותים במימון ארנונה'!$I$23:$J$33,2,FALSE)*'כפר סבא'!AE16 -> 46385.993 | BF16: =VLOOKUP(BF$2,'עלויות שירותים במימון ארנונה'!$I$23:$J$33,2,FALSE)*'כפר סבא'!AF16 -> 109106.19 | BG16: =VLOOKUP($AW16,'כפר סבא מסכם'!$E$29:$M$54,9,FALSE) -> 1103473.6 | BH16: =SUM(AX16:BG16) -> 8989784.2 | BI16: =BH16/W16 -> 4270.6813 | BJ16: =BH16/W16/($BH$3/$W$3) -> 0.97106727 | BK16: =VLOOKUP($AW16,'כפר סבא מסכם'!$E$29:$F$54,2,) -> מרכז, ארלוזורוב | BL16: =BO16/BP16 -> 2139.5766 | BM16: =BL16-BI16 -> -2131.1047 | BO16: =VLOOKUP($BK16,'נתונים דירות ומבנים בכפר סבא'!$B$39:$E$64,4,FALSE) -> 6103.146 | BP16: =E16/BQ16 -> 2.8525017 | BQ16: =SUM(K16:U16)/1.95 -> 737.94872
A17: 140 | B17: 6900 | C17: כפר סבא | D17: 0036 | E17: 3355 | F17: 261 | G17: 195 | H17: 150 | I17: 152 | J17: 154 | K17: 171 | L17: 258 | M17: 226 | N17: 211 | O17: 181 | P17: 137 | Q17: 167 | R17: 231 | S17: 255 | T17: 226 | U17: 381 | V17: =W17/$E$3 -> 0.033295621 | W17: =E17 -> 3355 | X17: =ROUNDUP(F17*3/5,0) -> 157 | Y17: =ROUNDUP(F17*2/5+G17*0.25,0) -> 154 | Z17: =ROUNDUP(G17*0.75+H17*2/5,0) -> 207 | AA17: =ROUNDUP(H17*3/5,0) -> 90 | AB17: =ROUNDUP(I17*0.25,0) -> 38 | AC17: =E17-AD17-AB17-AA17-Z17-Y17-X17 -> 1847 | AD17: =S17+T17+U17 -> 862 | AE17: =SUM(X17:AB17) -> 646 | AF17: =AB17+AA17 -> 128 | AG17: =AD17/$AD$3 -> 0.046103653 | AH17: =$E17/VLOOKUP($D17*1,'כפר סבא מסכם'!$P$31:$W$55,8,FALSE) -> 22795.372 | AI17: =VLOOKUP($D17,'כפר סבא מסכם'!$E$29:$F$54,2,FALSE) -> מרכז | AJ17: =X17/$W17 -> 0.046795827 | AK17: =Y17/$W17 -> 0.045901639 | AL17: =Z17/$W17 -> 0.061698957 | AM17: =AA17/$W17 -> 0.026825633 | AN17: =AB17/$W17 -> 0.011326379 | AO17: =AC17/$W17 -> 0.55052161 | AP17: =AD17/$W17 -> 0.25692996 | AQ17: =AE17/$W17 -> 0.19254844 | AR17: =AF17/$W17 -> 0.038152012 | AS17: =SUMPRODUCT($F17:$U17,$F$31:$U$31)/E17 -> 43.060805 | AT17: =(AS17-$AS$3)/$AS$32 -> 1.3771859 | AU17: מבוגרת מאד | AW17: =D17 -> 0036 | AX17: =VLOOKUP(AX$2,'עלויות שירותים במימון ארנונה'!$I$23:$J$33,2,FALSE)*'כפר סבא'!W17 -> 9662255.1 | AY17: =VLOOKUP(AY$2,'עלויות שירותים במימון ארנונה'!$I$23:$J$33,2,FALSE)*'כפר סבא'!Y17 -> 918575.63 | AZ17: =VLOOKUP(AZ$2,'עלויות שירותים במימון ארנונה'!$I$23:$J$33,2,FALSE)*'כפר סבא'!Z17 -> 899335.66 | BA17: =VLOOKUP(BA$2,'עלויות שירותים במימון ארנונה'!$I$23:$J$33,2,FALSE)*'כפר סבא'!AA17 -> 283032.41 | BB17: =VLOOKUP(BB$2,'עלויות שירותים במימון ארנונה'!$I$23:$J$33,2,FALSE)*'כפר סבא'!AB17 -> 133062.92 | BC17: =VLOOKUP(BC$2,'עלויות שירותים במימון ארנונה'!$I$23:$J$33,2,FALSE)*'כפר סבא'!AC17 -> 31507.181 | BD17: =VLOOKUP(BD$2,'עלויות שירותים במימון ארנונה'!$I$23:$J$33,2,FALSE)*'כפר סבא'!AD17 -> 137066.46 | BE17: =VLOOKUP(BE$2,'עלויות שירותים במימון ארנונה'!$I$23:$J$33,2,FALSE)*'כפר סבא'!AE17 -> 68727.87 | BF17: =VLOOKUP(BF$2,'עלויות שירותים במימון ארנונה'!$I$23:$J$33,2,FALSE)*'כפר סבא'!AF17 -> 110838.04 | BG17: =VLOOKUP($AW17,'כפר סבא מסכם'!$E$29:$M$54,9,FALSE) -> 1798255.7 | BH17: =SUM(AX17:BG17) -> 14042657 | BI17: =BH17/W17 -> 4185.5908 | BJ17: =BH17/W17/($BH$3/$W$3) -> 0.95171938 | BK17: =VLOOKUP($AW17,'כפר סבא מסכם'!$E$29:$F$54,2,) -> מרכז | BL17: =BO17/BP17 -> 2279.9631 | BM17: =BL17-BI17 -> -1905.6276 | BO17: =VLOOKUP($BK17,'נתונים דירות ומבנים בכפר סבא'!$B$39:$E$64,4,FALSE) -> 6103.146 | BP17: =E17/BQ17 -> 2.6768617 | BQ17: =SUM(K17:U17)/1.95 -> 1253.3333
A18: 140 | B18: 6900 | C18: כפר סבא | D18: 0037 | E18: 3271 | F18: 246 | G18: 227 | H18: 192 | I18: 154 | J18: 146 | K18: 169 | L18: 206 | M18: 225 | N18: 225 | O18: 211 | P18: 144 | Q18: 147 | R18: 183 | S18: 276 | T18: 224 | U18: 294 | V18: =W18/$E$3 -> 0.03246199 | W18: =E18 -> 3271 | X18: =ROUNDUP(F18*3/5,0) -> 148 | Y18: =ROUNDUP(F18*2/5+G18*0.25,0) -> 156 | Z18: =ROUNDUP(G18*0.75+H18*2/5,0) -> 248 | AA18: =ROUNDUP(H18*3/5,0) -> 116 | AB18: =ROUNDUP(I18*0.25,0) -> 39 | AC18: =E18-AD18-AB18-AA18-Z18-Y18-X18 -> 1770 | AD18: =S18+T18+U18 -> 794 | AE18: =SUM(X18:AB18) -> 707 | AF18: =AB18+AA18 -> 155 | AG18: =AD18/$AD$3 -> 0.042466706 | AH18: =$E18/VLOOKUP($D18*1,'כפר סבא מסכם'!$P$31:$W$55,8,FALSE) -> 19483.575 | AI18: =VLOOKUP($D18,'כפר סבא מסכם'!$E$29:$F$54,2,FALSE) -> עובד בן ציון, פועלים א' | AJ18: =X18/$W18 -> 0.045246102 | AK18: =Y18/$W18 -> 0.047691837 | AL18: =Z18/$W18 -> 0.075817793 | AM18: =AA18/$W18 -> 0.035463161 | AN18: =AB18/$W18 -> 0.011922959 | AO18: =AC18/$W18 -> 0.54111892 | AP18: =AD18/$W18 -> 0.24273922 | AQ18: =AE18/$W18 -> 0.21614185 | AR18: =AF18/$W18 -> 0.04738612 | AS18: =SUMPRODUCT($F18:$U18,$F$31:$U$31)/E18 -> 41.437787 | AT18: =(AS18-$AS$3)/$AS$32 -> 0.93095318 | AU18: מבוגרת | AW18: =D18 -> 0037 | AX18: =VLOOKUP(AX$2,'עלויות שירותים במימון ארנונה'!$I$23:$J$33,2,FALSE)*'כפר סבא'!W18 -> 9420338.7 | AY18: =VLOOKUP(AY$2,'עלויות שירותים במימון ארנונה'!$I$23:$J$33,2,FALSE)*'כפר סבא'!Y18 -> 930505.18 | AZ18: =VLOOKUP(AZ$2,'עלויות שירותים במימון ארנונה'!$I$23:$J$33,2,FALSE)*'כפר סבא'!Z18 -> 1077465 | BA18: =VLOOKUP(BA$2,'עלויות שירותים במימון ארנונה'!$I$23:$J$33,2,FALSE)*'כפר סבא'!AA18 -> 364797.33 | BB18: =VLOOKUP(BB$2,'עלויות שירותים במימון ארנונה'!$I$23:$J$33,2,FALSE)*'כפר סבא'!AB18 -> 136564.58 | BC18: =VLOOKUP(BC$2,'עלויות שירותים במימון ארנונה'!$I$23:$J$33,2,FALSE)*'כפר סבא'!AC18 -> 30193.671 | BD18: =VLOOKUP(BD$2,'עלויות שירותים במימון ארנונה'!$I$23:$J$33,2,FALSE)*'כפר סבא'!AD18 -> 126253.79 | BE18: =VLOOKUP(BE$2,'עלויות שירותים במימון ארנונה'!$I$23:$J$33,2,FALSE)*'כפר סבא'!AE18 -> 75217.653 | BF18: =VLOOKUP(BF$2,'עלויות שירותים במימון ארנונה'!$I$23:$J$33,2,FALSE)*'כפר סבא'!AF18 -> 134217.93 | BG18: =VLOOKUP($AW18,'כפר סבא מסכם'!$E$29:$M$54,9,FALSE) -> 1728127.3 | BH18: =SUM(AX18:BG18) -> 14023681 | BI18: =BH18/W18 -> 4287.2764 | BJ18: =BH18/W18/($BH$3/$W$3) -> 0.97484066 | BK18: =VLOOKUP($AW18,'כפר סבא מסכם'!$E$29:$F$54,2,) -> עובד בן ציון, פועלים א' | BL18: =BO18/BP18 -> 2204.5557 | BM18: =BL18-BI18 -> -2082.7207 | BO18: =VLOOKUP($BK18,'נתונים דירות ומבנים בכפר סבא'!$B$39:$E$64,4,FALSE) -> 6103.146 | BP18: =E18/BQ18 -> 2.7684245 | BQ18: =SUM(K18:U18)/1.95 -> 1181.5385
A19: 140 | B19: 6900 | C19: כפר סבא | D19: 0041 | E19: 3531 | F19: 287 | G19: 241 | H19: 211 | I19: 172 | J19: 180 | K19: 178 | L19: 204 | M19: 254 | N19: 259 | O19: 195 | P19: 188 | Q19: 160 | R19: 206 | S19: 264 | T19: 240 | U19: 294 | V19: =W19/$E$3 -> 0.035042277 | W19: =E19 -> 3531 | X19: =ROUNDUP(F19*3/5,0) -> 173 | Y19: =ROUNDUP(F19*2/5+G19*0.25,0) -> 176 | Z19: =ROUNDUP(G19*0.75+H19*2/5,0) -> 266 | AA19: =ROUNDUP(H19*3/5,0) -> 127 | AB19: =ROUNDUP(I19*0.25,0) -> 43 | AC19: =E19-AD19-AB19-AA19-Z19-Y19-X19 -> 1948 | AD19: =S19+T19+U19 -> 798 | AE19: =SUM(X19:AB19) -> 785 | AF19: =AB19+AA19 -> 170 | AG19: =AD19/$AD$3 -> 0.042680644 | AH19: =$E19/VLOOKUP($D19*1,'כפר סבא מסכם'!$P$31:$W$55,8,FALSE) -> 20695.961 | AI19: =VLOOKUP($D19,'כפר סבא מסכם'!$E$29:$F$54,2,FALSE) -> פועלים ד', מרכז, פועלים א' | AJ19: =X19/$W19 -> 0.048994619 | AK19: =Y19/$W19 -> 0.049844237 | AL19: =Z19/$W19 -> 0.075332767 | AM19: =AA19/$W19 -> 0.035967148 | AN19: =AB19/$W19 -> 0.012177853 | AO19: =AC19/$W19 -> 0.55168508 | AP19: =AD19/$W19 -> 0.2259983 | AQ19: =AE19/$W19 -> 0.22231662 | AR19: =AF19/$W19 -> 0.048145001 | AS19: =SUMPRODUCT($F19:$U19,$F$31:$U$31)/E19 -> 40.718493 | AT19: =(AS19-$AS$3)/$AS$32 -> 0.73319063 | AU19: מבוגרת | AW19: =D19 -> 0041 | AX19: =VLOOKUP(AX$2,'עלויות שירותים במימון ארנונה'!$I$23:$J$33,2,FALSE)*'כפר סבא'!W19 -> 10169128 | AY19: =VLOOKUP(AY$2,'עלויות שירותים במימון ארנונה'!$I$23:$J$33,2,FALSE)*'כפר סבא'!Y19 -> 1049800.7 | AZ19: =VLOOKUP(AZ$2,'עלויות שירותים במימון ארנונה'!$I$23:$J$33,2,FALSE)*'כפר סבא'!Z19 -> 1155668.1 | BA19: =VLOOKUP(BA$2,'עלויות שירותים במימון ארנונה'!$I$23:$J$33,2,FALSE)*'כפר סבא'!AA19 -> 399390.18 | BB19: =VLOOKUP(BB$2,'עלויות שירותים במימון ארנונה'!$I$23:$J$33,2,FALSE)*'כפר סבא'!AB19 -> 150571.2 | BC19: =VLOOKUP(BC$2,'עלויות שירותים במימון ארנונה'!$I$23:$J$33,2,FALSE)*'כפר סבא'!AC19 -> 33230.097 | BD19: =VLOOKUP(BD$2,'עלויות שירותים במימון ארנונה'!$I$23:$J$33,2,FALSE)*'כפר סבא'!AD19 -> 126889.83 | BE19: =VLOOKUP(BE$2,'עלויות שירותים במימון ארנונה'!$I$23:$J$33,2,FALSE)*'כפר סבא'!AE19 -> 83516.065 | BF19: =VLOOKUP(BF$2,'עלויות שירותים במימון ארנונה'!$I$23:$J$33,2,FALSE)*'כפר סבא'!AF19 -> 147206.77 | BG19: =VLOOKUP($AW19,'כפר סבא מסכם'!$E$29:$M$54,9,FALSE) -> 1833519.2 | BH19: =SUM(AX19:BG19) -> 15148920 | BI19: =BH19/W19 -> 4290.2633 | BJ19: =BH19/W19/($BH$3/$W$3) -> 0.97551981 | BK19: =VLOOKUP($AW19,'כפר סבא מסכם'!$E$29:$F$54,2,) -> פועלים ד', מרכז, פועלים א' | BL19: =BO19/BP19 -> 2164.5473 | BM19: =BL19-BI19 -> -2125.7159 | BO19: =VLOOKUP($BK19,'נתונים דירות ומבנים בכפר סבא'!$B$39:$E$64,4,FALSE) -> 6103.146 | BP19: =E19/BQ19 -> 2.8195946 | BQ19: =SUM(K19:U19)/1.95 -> 1252.3077
... A23: 140 | B23: 6900 | C23: כפר סבא | D23: 0045 | E23: 2748 | F23: 233 | G23: 241 | H23: 195 | I23: 189 | J23: 154 | K23: 135 | L23: 156 | M23: 217 | N23: 205 | O23: 181 | P23: 148 | Q23: 132 | R23: 139 | S23: 176 | T23: 117 | U23: 131 | V23: =W23/$E$3 -> 0.027271645 | W23: =E23 -> 2748 | X23: =ROUNDUP(F23*3/5,0) -> 140 | Y23: =ROUNDUP(F23*2/5+G23*0.25,0) -> 154 | Z23: =ROUNDUP(G23*0.75+H23*2/5,0) -> 259 | AA23: =ROUNDUP(H23*3/5,0) -> 117 | AB23: =ROUNDUP(I23*0.25,0) -> 48 | AC23: =E23-AD23-AB23-AA23-Z23-Y23-X23 -> 1606 | AD23: =S23+T23+U23 -> 424 | AE23: =SUM(X23:AB23) -> 718 | AF23: =AB23+AA23 -> 165 | AG23: =AD23/$AD$3 -> 0.022677435 | AH23: =$E23/VLOOKUP($D23*1,'כפר סבא מסכם'!$P$31:$W$55,8,FALSE) -> 5600.9963 | AI23: =VLOOKUP($D23,'כפר סבא מסכם'!$E$29:$F$54,2,FALSE) -> חלוצים, גאולים, ראשונים | AJ23: =X23/$W23 -> 0.050946143 | AK23: =Y23/$W23 -> 0.056040757 | AL23: =Z23/$W23 -> 0.094250364 | AM23: =AA23/$W23 -> 0.042576419 | AN23: =AB23/$W23 -> 0.017467249 | AO23: =AC23/$W23 -> 0.58442504 | AP23: =AD23/$W23 -> 0.15429403 | AQ23: =AE23/$W23 -> 0.26128093 | AR23: =AF23/$W23 -> 0.060043668 | AS23: =SUMPRODUCT($F23:$U23,$F$31:$U$31)/E23 -> 36.403566 | AT23: =(AS23-$AS$3)/$AS$32 -> -0.45315577 | AU23: רגיל | AW23: =D23 -> 0045 | AX23: =VLOOKUP(AX$2,'עלויות שירותים במימון ארנונה'!$I$23:$J$33,2,FALSE)*'כפר סבא'!W23 -> 7914121.3 | AY23: =VLOOKUP(AY$2,'עלויות שירותים במימון ארנונה'!$I$23:$J$33,2,FALSE)*'כפר סבא'!Y23 -> 918575.63 | AZ23: =VLOOKUP(AZ$2,'עלויות שירותים במימון ארנונה'!$I$23:$J$33,2,FALSE)*'כפר סבא'!Z23 -> 1125255.7 | BA23: =VLOOKUP(BA$2,'עלויות שירותים במימון ארנונה'!$I$23:$J$33,2,FALSE)*'כפר סבא'!AA23 -> 367942.14 | BB23: =VLOOKUP(BB$2,'עלויות שירותים במימון ארנונה'!$I$23:$J$33,2,FALSE)*'כפר סבא'!AB23 -> 168079.48 | BC23: =VLOOKUP(BC$2,'עלויות שירותים במימון ארנונה'!$I$23:$J$33,2,FALSE)*'כפר סבא'!AC23 -> 27396.066 | BD23: =VLOOKUP(BD$2,'עלויות שירותים במימון ארנונה'!$I$23:$J$33,2,FALSE)*'כפר סבא'!AD23 -> 67420.161 | BE23: =VLOOKUP(BE$2,'עלויות שירותים במימון ארנונה'!$I$23:$J$33,2,FALSE)*'כפר סבא'!AE23 -> 76387.942 | BF23: =VLOOKUP(BF$2,'עלויות שירותים במימון ארנונה'!$I$23:$J$33,2,FALSE)*'כפר סבא'!AF23 -> 142877.16 | BG23: =VLOOKUP($AW23,'כפר סבא מסכם'!$E$29:$M$54,9,FALSE) -> 1320365.3 | BH23: =SUM(AX23:BG23) -> 12128421 | BI23: =BH23/W23 -> 4413.5447 | BJ23: =BH23/W23/($BH$3/$W$3) -> 1.0035515 | BK23: =VLOOKUP($AW23,'כפר סבא מסכם'!$E$29:$F$54,2,) -> חלוצים, גאולים, ראשונים | BL23: =BO23/BP23 -> 2566.5029 | BM23: =BL23-BI23 -> -1847.0418 | BO23: =VLOOKUP($BK23,'נתונים דירות ומבנים בכפר סבא'!$B$39:$E$64,4,FALSE) -> 7917.5951 | BP23: =E23/BQ23 -> 3.0849741 | BQ23: =SUM(K23:U23)/1.95 -> 890.76923
A24: 140 | B24: 6900 | C24: כפר סבא | D24: 0051 | E24: 4601 | F24: 310 | G24: 329 | H24: 289 | I24: 221 | J24: 240 | K24: 228 | L24: 277 | M24: 293 | N24: 310 | O24: 283 | P24: 187 | Q24: 243 | R24: 297 | S24: 417 | T24: 321 | U24: 355 | V24: =W24/$E$3 -> 0.045661149 | W24: =E24 -> 4601 | X24: =ROUNDUP(F24*3/5,0) -> 186 | Y24: =ROUNDUP(F24*2/5+G24*0.25,0) -> 207 | Z24: =ROUNDUP(G24*0.75+H24*2/5,0) -> 363 | AA24: =ROUNDUP(H24*3/5,0) -> 174 | AB24: =ROUNDUP(I24*0.25,0) -> 56 | AC24: =E24-AD24-AB24-AA24-Z24-Y24-X24 -> 2522 | AD24: =S24+T24+U24 -> 1093 | AE24: =SUM(X24:AB24) -> 986 | AF24: =AB24+AA24 -> 230 | AG24: =AD24/$AD$3 -> 0.058458576 | AH24: =$E24/VLOOKUP($D24*1,'כפר סבא מסכם'!$P$31:$W$55,8,FALSE) -> 18979.066 | AI24: =VLOOKUP($D24,'כפר סבא מסכם'!$E$29:$F$54,2,FALSE) -> מרכז | AJ24: =X24/$W24 -> 0.040425994 | AK24: =Y24/$W24 -> 0.04499022 | AL24: =Z24/$W24 -> 0.078895892 | AM24: =AA24/$W24 -> 0.037817866 | AN24: =AB24/$W24 -> 0.012171267 | AO24: =AC24/$W24 -> 0.54814171 | AP24: =AD24/$W24 -> 0.23755705 | AQ24: =AE24/$W24 -> 0.21430124 | AR24: =AF24/$W24 -> 0.049989133 | AS24: =SUMPRODUCT($F24:$U24,$F$31:$U$31)/E24 -> 41.387742 | AT24: =(AS24-$AS$3)/$AS$32 -> 0.91719385 | AU24: מבוגרת | AW24: =D24 -> 0051 | AX24: =VLOOKUP(AX$2,'עלויות שירותים במימון ארנונה'!$I$23:$J$33,2,FALSE)*'כפר סבא'!W24 -> 13250681 | AY24: =VLOOKUP(AY$2,'עלויות שירותים במימון ארנונה'!$I$23:$J$33,2,FALSE)*'כפר סבא'!Y24 -> 1234708.8 | AZ24: =VLOOKUP(AZ$2,'עלויות שירותים במימון ארנונה'!$I$23:$J$33,2,FALSE)*'כפר סבא'!Z24 -> 1577095.9 | BA24: =VLOOKUP(BA$2,'עלויות שירותים במימון ארנונה'!$I$23:$J$33,2,FALSE)*'כפר סבא'!AA24 -> 547196 | BB24: =VLOOKUP(BB$2,'עלויות שירותים במימון ארנונה'!$I$23:$J$33,2,FALSE)*'כפר סבא'!AB24 -> 196092.73 | BC24: =VLOOKUP(BC$2,'עלויות שירותים במימון ארנונה'!$I$23:$J$33,2,FALSE)*'כפר סבא'!AC24 -> 43021.717 | BD24: =VLOOKUP(BD$2,'עלויות שירותים במימון ארנונה'!$I$23:$J$33,2,FALSE)*'כפר סבא'!AD24 -> 173797.73 | BE24: =VLOOKUP(BE$2,'עלויות שירותים במימון ארנונה'!$I$23:$J$33,2,FALSE)*'כפר סבא'!AE24 -> 104900.43 | BF24: =VLOOKUP(BF$2,'עלויות שירותים במימון ארנונה'!$I$23:$J$33,2,FALSE)*'כפר סבא'!AF24 -> 199162.1 | BG24: =VLOOKUP($AW24,'כפר סבא מסכם'!$E$29:$M$54,9,FALSE) -> 2417894.4 | BH24: =SUM(AX24:BG24) -> 19744551 | BI24: =BH24/W24 -> 4291.3608 | BJ24: =BH24/W24/($BH$3/$W$3) -> 0.97576937 | BK24: =VLOOKUP($AW24,'כפר סבא מסכם'!$E$29:$F$54,2,) -> מרכז | BL24: =BO24/BP24 -> 1571.7598 | BM24: =BL24-BI24 -> -2719.601 | BO24: ='נתונים דירות ומבנים בכפר סבא'!E59 -> 4391.7005 | BP24: =E24/BQ24 -> 2.7941296 | BQ24: =SUM(K24:U24)/1.95 -> 1646.6667
A25: 140 | B25: 6900 | C25: כפר סבא | D25: 0052 | E25: 3154 | F25: 186 | G25: 192 | H25: 142 | I25: 152 | J25: 189 | K25: 195 | L25: 196 | M25: 204 | N25: 175 | O25: 164 | P25: 154 | Q25: 159 | R25: 195 | S25: 328 | T25: 218 | U25: 305 | V25: =W25/$E$3 -> 0.031300861 | W25: =E25 -> 3154 | X25: =ROUNDUP(F25*3/5,0) -> 112 | Y25: =ROUNDUP(F25*2/5+G25*0.25,0) -> 123 | Z25: =ROUNDUP(G25*0.75+H25*2/5,0) -> 201 | AA25: =ROUNDUP(H25*3/5,0) -> 86 | AB25: =ROUNDUP(I25*0.25,0) -> 38 | AC25: =E25-AD25-AB25-AA25-Z25-Y25-X25 -> 1743 | AD25: =S25+T25+U25 -> 851 | AE25: =SUM(X25:AB25) -> 560 | AF25: =AB25+AA25 -> 124 | AG25: =AD25/$AD$3 -> 0.045515323 | AH25: =$E25/VLOOKUP($D25*1,'כפר סבא מסכם'!$P$31:$W$55,8,FALSE) -> 19001.832 | AI25: =VLOOKUP($D25,'כפר סבא מסכם'!$E$29:$F$54,2,FALSE) -> קרית ספיר | AJ25: =X25/$W25 -> 0.035510463 | AK25: =Y25/$W25 -> 0.038998098 | AL25: =Z25/$W25 -> 0.063728599 | AM25: =AA25/$W25 -> 0.027266963 | AN25: =AB25/$W25 -> 0.012048193 | AO25: =AC25/$W25 -> 0.55263158 | AP25: =AD25/$W25 -> 0.26981611 | AQ25: =AE25/$W25 -> 0.17755231 | AR25: =AF25/$W25 -> 0.039315155 | AS25: =SUMPRODUCT($F25:$U25,$F$31:$U$31)/E25 -> 43.322448 | AT25: =(AS25-$AS$3)/$AS$32 -> 1.449122 | AU25: מבוגרת מאד | AW25: =D25 -> 0052 | AX25: =VLOOKUP(AX$2,'עלויות שירותים במימון ארנונה'!$I$23:$J$33,2,FALSE)*'כפר סבא'!W25 -> 9083383.8 | AY25: =VLOOKUP(AY$2,'עלויות שירותים במימון ארנונה'!$I$23:$J$33,2,FALSE)*'כפר סבא'!Y25 -> 733667.55 | AZ25: =VLOOKUP(AZ$2,'עלויות שירותים במימון ארנונה'!$I$23:$J$33,2,FALSE)*'כפר סבא'!Z25 -> 873267.96 | BA25: =VLOOKUP(BA$2,'עלויות שירותים במימון ארנונה'!$I$23:$J$33,2,FALSE)*'כפר סבא'!AA25 -> 270453.2 | BB25: =VLOOKUP(BB$2,'עלויות שירותים במימון ארנונה'!$I$23:$J$33,2,FALSE)*'כפר סבא'!AB25 -> 133062.92 | BC25: =VLOOKUP(BC$2,'עלויות שירותים במימון ארנונה'!$I$23:$J$33,2,FALSE)*'כפר סבא'!AC25 -> 29733.09 | BD25: =VLOOKUP(BD$2,'עלויות שירותים במימון ארנונה'!$I$23:$J$33,2,FALSE)*'כפר סבא'!AD25 -> 135317.35 | BE25: =VLOOKUP(BE$2,'עלויות שירותים במימון ארנונה'!$I$23:$J$33,2,FALSE)*'כפר סבא'!AE25 -> 59578.339 | BF25: =VLOOKUP(BF$2,'עלויות שירותים במימון ארנונה'!$I$23:$J$33,2,FALSE)*'כפר סבא'!AF25 -> 107374.35 | BG25: =VLOOKUP($AW25,'כפר סבא מסכם'!$E$29:$M$54,9,FALSE) -> 1712502.9 | BH25: =SUM(AX25:BG25) -> 13138341 | BI25: =BH25/W25 -> 4165.6124 | BJ25: =BH25/W25/($BH$3/$W$3) -> 0.9471767 | BK25: =VLOOKUP($AW25,'כפר סבא מסכם'!$E$29:$F$54,2,) -> קרית ספיר | BL25: =BO25/BP25 -> 2559.8472 | BM25: =BL25-BI25 -> -1605.7652 | BO25: =VLOOKUP($BK25,'נתונים דירות ומבנים בכפר סבא'!$B$39:$E$64,4,FALSE) -> 6866.0392 | BP25: =E25/BQ25 -> 2.6822067 | BQ25: =SUM(K25:U25)/1.95 -> 1175.8974
A26: 140 | B26: 6900 | C26: כפר סבא | D26: 0053 | E26: 3300 | F26: 200 | G26: 185 | H26: 179 | I26: 185 | J26: 194 | K26: 194 | L26: 195 | M26: 186 | N26: 182 | O26: 200 | P26: 187 | Q26: 206 | R26: 214 | S26: 286 | T26: 227 | U26: 281 | V26: =W26/$E$3 -> 0.032749792 | W26: =E26 -> 3300 | X26: =ROUNDUP(F26*3/5,0) -> 120 | Y26: =ROUNDUP(F26*2/5+G26*0.25,0) -> 127 | Z26: =ROUNDUP(G26*0.75+H26*2/5,0) -> 211 | AA26: =ROUNDUP(H26*3/5,0) -> 108 | AB26: =ROUNDUP(I26*0.25,0) -> 47 | AC26: =E26-AD26-AB26-AA26-Z26-Y26-X26 -> 1893 | AD26: =S26+T26+U26 -> 794 | AE26: =SUM(X26:AB26) -> 613 | AF26: =AB26+AA26 -> 155 | AG26: =AD26/$AD$3 -> 0.042466706 | AH26: =$E26/VLOOKUP($D26*1,'כפר סבא מסכם'!$P$31:$W$55,8,FALSE) -> 9090.4082 | AI26: =VLOOKUP($D26,'כפר סבא מסכם'!$E$29:$F$54,2,FALSE) -> שיכוני מזרחי | AJ26: =X26/$W26 -> 0.036363636 | AK26: =Y26/$W26 -> 0.038484848 | AL26: =Z26/$W26 -> 0.063939394 | AM26: =AA26/$W26 -> 0.032727273 | AN26: =AB26/$W26 -> 0.014242424 | AO26: =AC26/$W26 -> 0.57363636 | AP26: =AD26/$W26 -> 0.24060606 | AQ26: =AE26/$W26 -> 0.18575758 | AR26: =AF26/$W26 -> 0.046969697 | AS26: =SUMPRODUCT($F26:$U26,$F$31:$U$31)/E26 -> 42.552424 | AT26: =(AS26-$AS$3)/$AS$32 -> 1.2374117 | AU26: מבוגרת מאד | AW26: =D26 -> 0053 | AX26: =VLOOKUP(AX$2,'עלויות שירותים במימון ארנונה'!$I$23:$J$33,2,FALSE)*'כפר סבא'!W26 -> 9503857.5 | AY26: =VLOOKUP(AY$2,'עלויות שירותים במימון ארנונה'!$I$23:$J$33,2,FALSE)*'כפר סבא'!Y26 -> 757526.66 | AZ26: =VLOOKUP(AZ$2,'עלויות שירותים במימון ארנונה'!$I$23:$J$33,2,FALSE)*'כפר סבא'!Z26 -> 916714.13 | BA26: =VLOOKUP(BA$2,'עלויות שירותים במימון ארנונה'!$I$23:$J$33,2,FALSE)*'כפר סבא'!AA26 -> 339638.9 | BB26: =VLOOKUP(BB$2,'עלויות שירותים במימון ארנונה'!$I$23:$J$33,2,FALSE)*'כפר סבא'!AB26 -> 164577.83 | BC26: =VLOOKUP(BC$2,'עלויות שירותים במימון ארנונה'!$I$23:$J$33,2,FALSE)*'כפר סבא'!AC26 -> 32291.876 | BD26: =VLOOKUP(BD$2,'עלויות שירותים במימון ארנונה'!$I$23:$J$33,2,FALSE)*'כפר סבא'!AD26 -> 126253.79 | BE26: =VLOOKUP(BE$2,'עלויות שירותים במימון ארנונה'!$I$23:$J$33,2,FALSE)*'כפר סבא'!AE26 -> 65217.004 | BF26: =VLOOKUP(BF$2,'עלויות שירותים במימון ארנונה'!$I$23:$J$33,2,FALSE)*'כפר סבא'!AF26 -> 134217.93 | BG26: =VLOOKUP($AW26,'כפר סבא מסכם'!$E$29:$M$54,9,FALSE) -> 1739641.3 | BH26: =SUM(AX26:BG26) -> 13779937 | BI26: =BH26/W26 -> 4175.7384 | BJ26: =BH26/W26/($BH$3/$W$3) -> 0.94947916 | BK26: =VLOOKUP($AW26,'כפר סבא מסכם'!$E$29:$F$54,2,) -> שיכוני מזרחי | BL26: =BO26/BP26 -> 3428.9314 | BM26: =BL26-BI26 -> -746.80703 | BO26: =VLOOKUP($BK26,'נתונים דירות ומבנים בכפר סבא'!$B$39:$E$64,4,FALSE) -> 9357.58 | BP26: =E26/BQ26 -> 2.7290076 | BQ26: =SUM(K26:U26)/1.95 -> 1209.2308
A27: 140 | B27: 6900 | C27: כפר סבא | D27: 0054 | E27: 3349 | F27: 260 | G27: 231 | H27: 222 | I27: 184 | J27: 221 | K27: 200 | L27: 230 | M27: 202 | N27: 241 | O27: 191 | P27: 192 | Q27: 164 | R27: 199 | S27: 244 | T27: 177 | U27: 192 | V27: =W27/$E$3 -> 0.033236076 | W27: =E27 -> 3349 | X27: =ROUNDUP(F27*3/5,0) -> 156 | Y27: =ROUNDUP(F27*2/5+G27*0.25,0) -> 162 | Z27: =ROUNDUP(G27*0.75+H27*2/5,0) -> 263 | AA27: =ROUNDUP(H27*3/5,0) -> 134 | AB27: =ROUNDUP(I27*0.25,0) -> 46 | AC27: =E27-AD27-AB27-AA27-Z27-Y27-X27 -> 1975 | AD27: =S27+T27+U27 -> 613 | AE27: =SUM(X27:AB27) -> 761 | AF27: =AB27+AA27 -> 180 | AG27: =AD27/$AD$3 -> 0.032786008 | AH27: =$E27/VLOOKUP($D27*1,'כפר סבא מסכם'!$P$31:$W$55,8,FALSE) -> 11839.779 | AI27: =VLOOKUP($D27,'כפר סבא מסכם'!$E$29:$F$54,2,FALSE) -> דובדבן הכפר, מוצקין, כיסופים | AJ27: =X27/$W27 -> 0.046581069 | AK27: =Y27/$W27 -> 0.048372649 | AL27: =Z27/$W27 -> 0.078530905 | AM27: =AA27/$W27 -> 0.040011944 | AN27: =AB27/$W27 -> 0.013735443 | AO27: =AC27/$W27 -> 0.58972828 | AP27: =AD27/$W27 -> 0.18303971 | AQ27: =AE27/$W27 -> 0.22723201 | AR27: =AF27/$W27 -> 0.053747387 | AS27: =SUMPRODUCT($F27:$U27,$F$31:$U$31)/E27 -> 38.543446 | AT27: =(AS27-$AS$3)/$AS$32 -> 0.13518289 | AU27: רגיל | AW27: =D27 -> 0054 | AX27: =VLOOKUP(AX$2,'עלויות שירותים במימון ארנונה'!$I$23:$J$33,2,FALSE)*'כפר סבא'!W27 -> 9644975.4 | AY27: =VLOOKUP(AY$2,'עלויות שירותים במימון ארנונה'!$I$23:$J$33,2,FALSE)*'כפר סבא'!Y27 -> 966293.84 | AZ27: =VLOOKUP(AZ$2,'עלויות שירותים במימון ארנונה'!$I$23:$J$33,2,FALSE)*'כפר סבא'!Z27 -> 1142634.2 | BA27: =VLOOKUP(BA$2,'עלויות שירותים במימון ארנונה'!$I$23:$J$33,2,FALSE)*'כפר סבא'!AA27 -> 421403.82 | BB27: =VLOOKUP(BB$2,'עלויות שירותים במימון ארנונה'!$I$23:$J$33,2,FALSE)*'כפר סבא'!AB27 -> 161076.17 | BC27: =VLOOKUP(BC$2,'עלויות שירותים במימון ארנונה'!$I$23:$J$33,2,FALSE)*'כפר סבא'!AC27 -> 33690.679 | BD27: =VLOOKUP(BD$2,'עלויות שירותים במימון ארנונה'!$I$23:$J$33,2,FALSE)*'כפר סבא'!AD27 -> 97473.015 | BE27: =VLOOKUP(BE$2,'עלויות שירותים במימון ארנונה'!$I$23:$J$33,2,FALSE)*'כפר סבא'!AE27 -> 80962.708 | BF27: =VLOOKUP(BF$2,'עלויות שירותים במימון ארנונה'!$I$23:$J$33,2,FALSE)*'כפר סבא'!AF27 -> 155865.99 | BG27: =VLOOKUP($AW27,'כפר סבא מסכם'!$E$29:$M$54,9,FALSE) -> 1723795.9 | BH27: =SUM(AX27:BG27) -> 14428172 | BI27: =BH27/W27 -> 4308.2029 | BJ27: =BH27/W27/($BH$3/$W$3) -> 0.97959893 | BK27: =VLOOKUP($AW27,'כפר סבא מסכם'!$E$29:$F$54,2,) -> דובדבן הכפר, מוצקין, כיסופים | BL27: =BO27/BP27 -> 1362.2769 | BM27: =BL27-BI27 -> -2945.9261 | BO27: =VLOOKUP($BK27,'נתונים דירות ומבנים בכפר סבא'!$B$39:$E$64,4,FALSE) -> 3985.85 | BP27: =E27/BQ27 -> 2.9258737 | BQ27: =SUM(K27:U27)/1.95 -> 1144.6154
A28: 140 | B28: 6900 | C28: כפר סבא | D28: 0055 | E28: 3235 | F28: 224 | G28: 243 | H28: 267 | I28: 223 | J28: 172 | K28: 160 | L28: 175 | M28: 214 | N28: 241 | O28: 175 | P28: 151 | Q28: 150 | R28: 196 | S28: 229 | T28: 202 | U28: 213 | V28: =W28/$E$3 -> 0.03210472 | W28: =E28 -> 3235 | X28: =ROUNDUP(F28*3/5,0) -> 135 | Y28: =ROUNDUP(F28*2/5+G28*0.25,0) -> 151 | Z28: =ROUNDUP(G28*0.75+H28*2/5,0) -> 290 | AA28: =ROUNDUP(H28*3/5,0) -> 161 | AB28: =ROUNDUP(I28*0.25,0) -> 56 | AC28: =E28-AD28-AB28-AA28-Z28-Y28-X28 -> 1798 | AD28: =S28+T28+U28 -> 644 | AE28: =SUM(X28:AB28) -> 793 | AF28: =AB28+AA28 -> 217 | AG28: =AD28/$AD$3 -> 0.034444028 | AH28: =$E28/VLOOKUP($D28*1,'כפר סבא מסכם'!$P$31:$W$55,8,FALSE) -> 14041.347 | AI28: =VLOOKUP($D28,'כפר סבא מסכם'!$E$29:$F$54,2,FALSE) -> מזרחי א', מרכז | AJ28: =X28/$W28 -> 0.041731066 | AK28: =Y28/$W28 -> 0.046676971 | AL28: =Z28/$W28 -> 0.089644513 | AM28: =AA28/$W28 -> 0.049768161 | AN28: =AB28/$W28 -> 0.017310665 | AO28: =AC28/$W28 -> 0.55579598 | AP28: =AD28/$W28 -> 0.19907264 | AQ28: =AE28/$W28 -> 0.24513138 | AR28: =AF28/$W28 -> 0.067078825 | AS28: =SUMPRODUCT($F28:$U28,$F$31:$U$31)/E28 -> 38.781144 | AT28: =(AS28-$AS$3)/$AS$32 -> 0.20053558 | AU28: רגיל | AW28: =D28 -> 0055 | AX28: =VLOOKUP(AX$2,'עלויות שירותים במימון ארנונה'!$I$23:$J$33,2,FALSE)*'כפר סבא'!W28 -> 9316660.3 | AY28: =VLOOKUP(AY$2,'עלויות שירותים במימון ארנונה'!$I$23:$J$33,2,FALSE)*'כפר סבא'!Y28 -> 900681.3 | AZ28: =VLOOKUP(AZ$2,'עלויות שירותים במימון ארנונה'!$I$23:$J$33,2,FALSE)*'כפר סבא'!Z28 -> 1259938.9 | BA28: =VLOOKUP(BA$2,'עלויות שירותים במימון ארנונה'!$I$23:$J$33,2,FALSE)*'כפר סבא'!AA28 -> 506313.54 | BB28: =VLOOKUP(BB$2,'עלויות שירותים במימון ארנונה'!$I$23:$J$33,2,FALSE)*'כפר סבא'!AB28 -> 196092.73 | BC28: =VLOOKUP(BC$2,'עלויות שירותים במימון ארנונה'!$I$23:$J$33,2,FALSE)*'כפר סבא'!AC28 -> 30671.311 | BD28: =VLOOKUP(BD$2,'עלויות שירותים במימון ארנונה'!$I$23:$J$33,2,FALSE)*'כפר סבא'!AD28 -> 102402.32 | BE28: =VLOOKUP(BE$2,'עלויות שירותים במימון ארנונה'!$I$23:$J$33,2,FALSE)*'כפר סבא'!AE28 -> 84367.184 | BF28: =VLOOKUP(BF$2,'עלויות שירותים במימון ארנונה'!$I$23:$J$33,2,FALSE)*'כפר סבא'!AF28 -> 187905.11 | BG28: =VLOOKUP($AW28,'כפר סבא מסכם'!$E$29:$M$54,9,FALSE) -> 1336991.2 | BH28: =SUM(AX28:BG28) -> 13922024 | BI28: =BH28/W28 -> 4303.5623 | BJ28: =BH28/W28/($BH$3/$W$3) -> 0.97854373 | BK28: =VLOOKUP($AW28,'כפר סבא מסכם'!$E$29:$F$54,2,) -> מזרחי א', מרכז | BL28: =BO28/BP28 -> 1330.6702 | BM28: =BL28-BI28 -> -2972.8921 | BO28: =VLOOKUP($BK28,'נתונים דירות ומבנים בכפר סבא'!$B$39:$E$64,4,FALSE) -> 3985.85 | BP28: =E28/BQ28 -> 2.9953704 | BQ28: =SUM(K28:U28)/1.95 -> 1080
A29: 140 | B29: 6900 | C29: כפר סבא | D29: 0056 | E29: 3463 | F29: 174 | G29: 193 | H29: 250 | I29: 283 | J29: 301 | K29: 227 | L29: 116 | M29: 135 | N29: 176 | O29: 258 | P29: 242 | Q29: 227 | R29: 204 | S29: 192 | T29: 190 | U29: 294 | V29: =W29/$E$3 -> 0.034367433 | W29: =E29 -> 3463 | X29: =ROUNDUP(F29*3/5,0) -> 105 | Y29: =ROUNDUP(F29*2/5+G29*0.25,0) -> 118 | Z29: =ROUNDUP(G29*0.75+H29*2/5,0) -> 245 | AA29: =ROUNDUP(H29*3/5,0) -> 150 | AB29: =ROUNDUP(I29*0.25,0) -> 71 | AC29: =E29-AD29-AB29-AA29-Z29-Y29-X29 -> 2098 | AD29: =S29+T29+U29 -> 676 | AE29: =SUM(X29:AB29) -> 689 | AF29: =AB29+AA29 -> 221 | AG29: =AD29/$AD$3 -> 0.036155533 | AH29: =$E29/VLOOKUP($D29*1,'כפר סבא מסכם'!$P$31:$W$55,8,FALSE) -> 5862.8933 | AI29: =VLOOKUP($D29,'כפר סבא מסכם'!$E$29:$F$54,2,FALSE) -> הפארק, אלי כהן | AJ29: =X29/$W29 -> 0.030320531 | AK29: =Y29/$W29 -> 0.034074502 | AL29: =Z29/$W29 -> 0.070747906 | AM29: =AA29/$W29 -> 0.043315045 | AN29: =AB29/$W29 -> 0.020502455 | AO29: =AC29/$W29 -> 0.60583309 | AP29: =AD29/$W29 -> 0.19520647 | AQ29: =AE29/$W29 -> 0.19896044 | AR29: =AF29/$W29 -> 0.063817499 | AS29: =SUMPRODUCT($F29:$U29,$F$31:$U$31)/E29 -> 40.36298 | AT29: =(AS29-$AS$3)/$AS$32 -> 0.63544578 | AU29: מבוגרת | AW29: =D29 -> 0056 | AX29: =VLOOKUP(AX$2,'עלויות שירותים במימון ארנונה'!$I$23:$J$33,2,FALSE)*'כפר סבא'!W29 -> 9973290.5 | AY29: =VLOOKUP(AY$2,'עלויות שירותים במימון ארנונה'!$I$23:$J$33,2,FALSE)*'כפר סבא'!Y29 -> 703843.66 | AZ29: =VLOOKUP(AZ$2,'עלויות שירותים במימון ארנונה'!$I$23:$J$33,2,FALSE)*'כפר סבא'!Z29 -> 1064431.1 | BA29: =VLOOKUP(BA$2,'עלויות שירותים במימון ארנונה'!$I$23:$J$33,2,FALSE)*'כפר סבא'!AA29 -> 471720.69 | BB29: =VLOOKUP(BB$2,'עלויות שירותים במימון ארנונה'!$I$23:$J$33,2,FALSE)*'כפר סבא'!AB29 -> 248617.57 | BC29: =VLOOKUP(BC$2,'עלויות שירותים במימון ארנונה'!$I$23:$J$33,2,FALSE)*'כפר סבא'!AC29 -> 35788.883 | BD29: =VLOOKUP(BD$2,'עלויות שירותים במימון ארנונה'!$I$23:$J$33,2,FALSE)*'כפר סבא'!AD29 -> 107490.63 | BE29: =VLOOKUP(BE$2,'עלויות שירותים במימון ארנונה'!$I$23:$J$33,2,FALSE)*'כפר סבא'!AE29 -> 73302.635 | BF29: =VLOOKUP(BF$2,'עלויות שירותים במימון ארנונה'!$I$23:$J$33,2,FALSE)*'כפר סבא'!AF29 -> 191368.8 | BG29: =VLOOKUP($AW29,'כפר סבא מסכם'!$E$29:$M$54,9,FALSE) -> 1740537.4 | BH29: =SUM(AX29:BG29) -> 14610392 | BI29: =BH29/W29 -> 4218.9985 | BJ29: =BH29/W29/($BH$3/$W$3) -> 0.95931563 | BK29: =VLOOKUP($AW29,'כפר סבא מסכם'!$E$29:$F$54,2,) -> הפארק, אלי כהן | BL29: =BO29/BP29 -> 3610.5821 | BM29: =BL29-BI29 -> -608.41638 | BO29: =VLOOKUP($BK29,'נתונים דירות ומבנים בכפר סבא'!$B$39:$E$64,4,FALSE) -> 10783.6 | BP29: =E29/BQ29 -> 2.9866652 | BQ29: =SUM(K29:U29)/1.95 -> 1159.4872
F31: 3 | G31: 7 | H31: 12 | I31: 17 | J31: 22 | K31: 27 | L31: 32 | M31: 37 | N31: 42 | O31: 47 | P31: 52 | Q31: 57 | R31: 62 | S31: 67 | T31: 72 | U31: 83 | AS31: =AVERAGE(AS4:AS29) -> 39.324273
AS32: =STDEV(AS4:AS29) -> 3.6371562
F35: 4-0 | V35: 14-10
F37: Regression Statistics | V37: Regression Statistics
F38: Multiple R | G38: 0.9983837 | V38: Multiple R | W38: 0.99573185
F39: R Square | G39: 0.99677001 | V39: R Square | W39: 0.99148192
F40: Adjusted R Square | G40: 0.99547802 | V40: Adjusted R Square | W40: 0.98722288
F41: Standard Error | G41: 25.075161 | V41: Standard Error | W41: 26.491654
F42: Observations | G42: 22 | V42: Observations | W42: 22
F44: ANOVA | V44: ANOVA
G45: df | H45: SS | I45: MS | J45: F | K45: Significance F | W45: df | X45: SS | Y45: MS | Z45: F | AA45: Significance F
F46: Regression | G46: 6 | H46: 2910533.8 | I46: 485088.97 | J46: 771.49647 | K46: 8.3683779e-18 | V46: Regression | W46: 7 | X46: 1143639.8 | Y46: 163377.11 | Z46: 232.79468 | AA46: 2.160728e-13
F47: Residual | G47: 15 | H47: 9431.4554 | I47: 628.76369 | V47: Residual | W47: 14 | X47: 9825.3084 | Y47: 701.80774
F48: Total | G48: 21 | H48: 2919965.3 | V48: Total | W48: 21 | X48: 1153465.1
G50: Coefficients | H50: Standard Error | I50: t Stat | J50: P-value | K50: Lower 95% | L50: Upper 95% | M50: Lower 95.0% | N50: Upper 95.0% | W50: Coefficients | X50: Standard Error | Y50: t Stat | Z50: P-value | AA50: Lower 95% | AB50: Upper 95% | AC50: Lower 95.0% | AD50: Upper 95.0%
F51: Intercept | G51: -68.370893 | H51: 17.877609 | I51: -3.8243869 | J51: 0.0016584671 | K51: -106.47611 | L51: -30.265672 | M51: -106.47611 | N51: -30.265672 | V51: Intercept | W51: 4.7794612 | X51: 17.37086 | Y51: 0.27514246 | Z51: 0.78722578 | AA51: -32.477328 | AB51: 42.03625 | AC51: -32.477328 | AD51: 42.03625
F52: 24-20 | G52: 0.91475959 | H52: 0.39272357 | I52: 2.3292709 | J52: 0.034228497 | K52: 0.077689113 | L52: 1.7518301 | M52: 0.077689113 | N52: 1.7518301 | V52: 29-25 | W52: -0.18276938 | X52: 0.42732446 | Y52: -0.42770634 | Z52: 0.67537079 | AA52: -1.0992892 | AB52: 0.73375044 | AC52: -1.0992892 | AD52: 0.73375044
F53: 29-25 | G53: -0.58064568 | H53: 0.45633832 | I53: -1.2724017 | J53: 0.22260144 | K53: -1.5533078 | L53: 0.39201643 | M53: -1.5533078 | N53: 0.39201643 | V53: 34-30 | W53: -0.1562701 | X53: 0.21529743 | Y53: -0.72583358 | Z53: 0.47989972 | AA53: -0.61803717 | AB53: 0.30549696 | AC53: -0.61803717 | AD53: 0.30549696
F54: 34-30 | G54: 0.10731232 | H54: 0.22416487 | I54: 0.47872052 | J54: 0.63904078 | K54: -0.3704838 | L54: 0.58510845 | M54: -0.3704838 | N54: 0.58510845 | V54: 39-35 | W54: -0.19182301 | X54: 0.17437378 | Y54: -1.100068 | Z54: 0.28985889 | AA54: -0.56581757 | AB54: 0.18217155 | AC54: -0.56581757 | AD54: 0.18217155
F55: 39-35 | G55: 1.3860591 | H55: 0.15120447 | I55: 9.1667869 | J55: 1.5498947e-07 | K55: 1.0637744 | L55: 1.7083438 | M55: 1.0637744 | N55: 1.7083438 | V55: 44-40 | W55: 0.76376829 | X55: 0.28595424 | Y55: 2.6709459 | Z55: 0.0182661 | AA55: 0.15045745 | AB55: 1.3770791 | AC55: 0.15045745 | AD55: 1.3770791
F56: 44-40 | G56: 0.07061273 | H56: 0.22870999 | I56: 0.30874354 | J56: 0.76176321 | K56: -0.41687106 | L56: 0.55809652 | M56: -0.41687106 | N56: 0.55809652 | V56: 49-45 | W56: 0.25408497 | X56: 0.3644173 | Y56: 0.69723631 | Z56: 0.49707086 | AA56: -0.52751239 | AB56: 1.0356823 | AC56: -0.52751239 | AD56: 1.0356823
F57: 49-45 | G57: -0.47015 | H57: 0.31476236 | I57: -1.4936665 | J57: 0.1559985 | K57: -1.1410501 | L57: 0.20075008 | M57: -1.1410501 | N57: 0.20075008 | V57: 54-50 | W57: 0.47080999 | X57: 0.39730956 | Y57: 1.1849954 | Z57: 0.25574539 | AA57: -0.38133427 | AB57: 1.3229543 | AC57: -0.38133427 | AD57: 1.3229543
V58: 59-55 | W58: 0.015697839 | X58: 0.43652196 | Y58: 0.035961167 | Z58: 0.97182105 | AA58: -0.92054865 | AB58: 0.95194433 | AC58: -0.92054865 | AD58: 0.95194433
F60: 9-5 | V60: 19-15
F62: Regression Statistics | V62: Regression Statistics
F63: Multiple R | G63: 0.99801157 | V63: Multiple R | W63: 0.96461599
F64: R Square | G64: 0.99602709 | V64: R Square | W64: 0.930484
F65: Adjusted R Square | G65: 0.99443792 | V65: Adjusted R Square | W65: 0.89572601
F66: Standard Error | G66: 29.250198 | V66: Standard Error | W66: 43.898718
F67: Observations | G67: 22 | V67: Observations | W67: 22
F69: ANOVA | V69: ANOVA
G70: df | H70: SS | I70: MS | J70: F | K70: Significance F | W70: df | X70: SS | Y70: MS | Z70: F | AA70: Significance F
F71: Regression | G71: 6 | H71: 3217445.2 | I71: 536240.86 | J71: 626.76147 | K71: 3.9480164e-17 | V71: Regression | W71: 7 | X71: 361123.59 | Y71: 51589.084 | Z71: 26.770356 | AA71: 4.5377653e-07
F72: Residual | G72: 15 | H72: 12833.611 | I72: 855.57407 | V72: Residual | W72: 14 | X72: 26979.364 | Y72: 1927.0974
F73: Total | G73: 21 | H73: 3230278.8 | V73: Total | W73: 21 | X73: 388102.95
G75: Coefficients | H75: Standard Error | I75: t Stat | J75: P-value | K75: Lower 95% | L75: Upper 95% | M75: Lower 95.0% | N75: Upper 95.0% | W75: Coefficients | X75: Standard Error | Y75: t Stat | Z75: P-value | AA75: Lower 95% | AB75: Upper 95% | AC75: Lower 95.0% | AD75: Upper 95.0%
F76: Intercept | G76: -54.373315 | H76: 20.854247 | I76: -2.6073018 | J76: 0.01980889 | K76: -98.82309 | L76: -9.9235397 | M76: -98.82309 | N76: -9.9235397 | V76: Intercept | W76: -6.5778975 | X76: 28.784857 | Y76: -0.22851938 | Z76: 0.82254671 | AA76: -68.315275 | AB76: 55.15948 | AC76: -68.315275 | AD76: 55.15948
F77: 24-20 | G77: 0.91673726 | H77: 0.4581124 | I77: 2.0011186 | J77: 0.063812668 | K77: -0.059706205 | L77: 1.8931807 | M77: -0.059706205 | N77: 1.8931807 | V77: 29-25 | W77: -0.49471981 | X77: 0.70810965 | Y77: -0.6986486 | Z77: 0.4962144 | AA77: -2.013464 | AB77: 1.0240243 | AC77: -2.013464 | AD77: 1.0240243
F78: 29-25 | G78: -0.98243681 | H78: 0.53231907 | I78: -1.8455788 | J78: 0.084784642 | K78: -2.117048 | L78: 0.15217443 | M78: -2.117048 | N78: 0.15217443 | V78: 34-30 | W78: -0.28773673 | X78: 0.35676447 | Y78: -0.80651733 | Z78: 0.43343226 | AA78: -1.0529204 | AB78: 0.47744696 | AC78: -1.0529204 | AD78: 0.47744696
F79: 34-30 | G79: -0.13502376 | H79: 0.26148853 | I79: -0.5163659 | J79: 0.61312708 | K79: -0.69237337 | L79: 0.42232585 | M79: -0.69237337 | N79: 0.42232585 | V79: 39-35 | W79: -0.065029261 | X79: 0.28895082 | Y79: -0.22505304 | Z79: 0.82518983 | AA79: -0.68476714 | AB79: 0.55470861 | AC79: -0.68476714 | AD79: 0.55470861
F80: 39-35 | G80: 0.84012018 | H80: 0.17638015 | I80: 4.7631221 | J80: 0.00025144838 | K80: 0.46417479 | L80: 1.2160656 | M80: 0.46417479 | N80: 1.2160656 | V80: 44-40 | W80: 0.47988624 | X80: 0.47384826 | Y80: 1.0127424 | Z80: 0.32836707 | AA80: -0.5364172 | AB80: 1.4961897 | AC80: -0.5364172 | AD80: 1.4961897
F81: 44-40 | G81: 0.63170791 | H81: 0.2667904 | I81: 2.367806 | J81: 0.031758513 | K81: 0.063057621 | L81: 1.2003582 | M81: 0.063057621 | N81: 1.2003582 | V81: 49-45 | W81: -0.583706 | X81: 0.60386761 | Y81: -0.96661253 | Z81: 0.35014001 | AA81: -1.8788732 | AB81: 0.71146122 | AC81: -1.8788732 | AD81: 0.71146122
F82: 49-45 | G82: -0.068894657 | H82: 0.36717058 | I82: -0.18763665 | J82: 0.85367611 | K82: -0.85150021 | L82: 0.7137109 | M82: -0.85150021 | N82: 0.7137109 | V82: 54-50 | W82: 1.2157487 | X82: 0.65837264 | Y82: 1.8465966 | Z82: 0.086050335 | AA82: -0.1963202 | AB82: 2.6278175 | AC82: -0.1963202 | AD82: 2.6278175
V83: 59-55 | W83: 0.97131193 | X83: 0.72335061 | Y83: 1.3427955 | Z83: 0.20070505 | AA83: -0.58012083 | AB83: 2.5227447 | AC83: -0.58012083 | AD83: 2.5227447
F86: 9-5
F88: Regression Statistics
F89: Multiple R | G89: 0.99667985
F90: R Square | G90: 0.99337072
F91: Adjusted R Square | G91: 0.9926729
F92: Standard Error | G92: 33.571934
F93: Observations | G93: 22
F95: ANOVA
G96: df | H96: SS | I96: MS | J96: F | K96: Significance F
F97: Regression | G97: 2 | H97: 3208864.4 | I97: 1604432.2 | J97: 1423.5366 | K97: 2.0133995e-21
F98: Residual | G98: 19 | H98: 21414.42 | I98: 1127.0747
F99: Total | G99: 21 | H99: 3230278.8
G101: Coefficients | H101: Standard Error | I101: t Stat | J101: P-value | K101: Lower 95% | L101: Upper 95% | M101: Lower 95.0% | N101: Upper 95.0%
F102: Intercept | G102: -66.377458 | H102: 10.447252 | I102: -6.3535808 | J102: 4.2730312e-06 | K102: -88.243807 | L102: -44.511109 | M102: -88.243807 | N102: -44.511109
F103: 39-35 | G103: 0.46082779 | H103: 0.10228992 | I103: 4.5051143 | J103: 0.00024235564 | K103: 0.24673252 | L103: 0.67492306 | M103: 0.24673252 | N103: 0.67492306
F104: 44-40 | G104: 0.85900087 | H104: 0.095657047 | I104: 8.9800062 | J104: 2.8910462e-08 | K104: 0.65878837 | L104: 1.0592134 | M104: 0.65878837 | N104: 1.0592134

Sheet כפר סבא מסכם
B1: הנחות לאזרחים ותיקים לפי אזורים, מס' נכסים וגודל דירות
B2: סוג נכס
B3: אזור 1 | E3: אזור 2 | G3: אזור 3
A4: סה"כ | B4: 6050 | E4: 501 | G4: 77
A5: גודל הנכס/קוד נכס | B5: 100 | C5: 111 | D5: 115 | E5: 112 | F5: 116 | G5: 113 | H5: 117 | I5: מספר נכסים
A6: 0-75 | B6: 20 | C6: 410 | D6: 5 | E6: 228 | F6: 11 | G6: 0 | H6: 0 | I6: 674
A7: 76-110 | B7: 135 | C7: 962 | D7: 39 | E7: 95 | F7: 28 | G7: 26 | H7: 2 | I7: 1287
A8: 111-150 | B8: 645 | C8: 1974 | D8: 289 | E8: 25 | F8: 54 | G8: 9 | H8: 19 | I8: 3015
A9: 150+ | B9: 747 | C9: 190 | D9: 634 | E9: 9 | F9: 51 | G9: 0 | H9: 21 | I9: 1652
A10: סה"כ | B10: 1547 | C10: 3536 | D10: 967 | E10: 357 | F10: 144 | G10: 35 | H10: 42 | I10: 6628
A12: פוטנציאל "שלם" | B12: =B9+B8 -> 1392 | C12: =C9+C8 -> 2164 | D12: =D9+D8 -> 923 | G12: =G9+G8 -> 9 | H12: =H9+H8 -> 40 | I12: =SUM(B12:H12) -> 4528
A13: פוטנציאל "חלק" | B13: =B7 -> 135 | C13: =C7 -> 962 | D13: =D7 -> 39 | E13: =E9+E8 -> 34 | F13: =F9+F8 -> 105 | G13: =G7 -> 26 | H13: =H7 -> 2 | I13: =SUM(B13:H13) -> 1303
A15: פוטנציאל | B15: =B12+0.3*B13 -> 1432.5 | C15: =C12+0.3*C13 -> 2452.6 | D15: =D12+0.3*D13 -> 934.7 | E15: =E12+0.3*E13 -> 10.2 | F15: =F12+0.3*F13 -> 31.5 | G15: =G12+0.3*G13 -> 16.8 | H15: =H12+0.3*H13 -> 40.6 | I15: =SUM(B15:H15) -> 4918.9
A17: שווי ההנחה
A18: 65 | B18: =25%*38.08*65*B6 -> 12376 | C18: =25%*38.08*65*C6 -> 253708 | D18: =25%*42.45*65*D6 -> 3449.0625 | E18: =25%*37.75*65*E6 -> 139863.75 | F18: =25%*37.75*65*F6 -> 6747.8125 | G18: =25%*38.08*65*G6 -> 0 | H18: =25%*38.08*65*H6 -> 0
A19: 90 | B19: =25%*41.78*$A19*B7 -> 126906.75 | C19: =25%*41.78*$A19*C7 -> 904328.1 | D19: =25%*46.35*$A19*D7 -> 40672.125 | E19: =25%*37.75*65*E7 -> 58276.562 | F19: =25%*37.75*65*F7 -> 17176.25 | G19: =25%*39.04*$A19*G7 -> 22838.4 | H19: =25%*39.16*$A19*H7 -> 1762.2
A20: 100 | B20: =25%*54.4*$A20*B8 -> 877200 | C20: =25%*54.4*$A20*C8 -> 2684640 | D20: =25%*59.58*$A20*D8 -> 430465.5 | E20: =25%*44.51*65*E8 -> 18082.188 | F20: =25%*48.08*65*F8 -> 42190.2 | G20: =25%*46.7*65*G8 -> 6829.875 | H20: =25%*50.5*65*H8 -> 15591.875
A21: 100 | B21: =25%*54.4*$A21*B9 -> 1015920 | C21: =25%*54.4*$A21*C9 -> 258400 | D21: =25%*59.58*$A21*D9 -> 944343 | E21: =25%*44.51*65*E9 -> 6509.5875 | F21: =25%*48.08*65*F9 -> 39846.3 | G21: =25%*46.7*65*G9 -> 0 | H21: =25%*50.5*65*H9 -> 17233.125
A22: אזור ארנונה
A23: 1 | B23: =SUM(B18:D21) -> 7552408.5 | C23: =SUMIFS($L$29:$L$54,$I$29:$I$54,1) -> 0.74685778 | H23: 6 | I23: =I24+0.25 -> 1.4661152
A24: 2 | B24: =SUM(E18:F21) -> 328692.65 | C24: =SUMIFS($L$29:$L$54,$I$29:$I$54,2) -> 0.21527518 | H24: 7 | I24: =I25+0.25 -> 1.2161152
A25: 3 | B25: =SUM(G18:H21) -> 64255.475 | C25: =SUMIFS($L$29:$L$54,$I$29:$I$54,3) -> 0.038027491 | H25: 8 | I25: 0.96611515
B26: =D26-B23-B24-B25 -> 41409755 | C26: =C23+C24+C25 -> 1.0001605 | D26: ='כפר סבא'!BG3 -> 49355112 | H26: 9 | I26: =I25-0.25 -> 0.71611515
A28: שכונה | B28: א"ס | C28: אזור ארנונה | E28: א"ס | F28: שם השכונה | G28: דירוג סוציואקונומי 2015 | H28: הנחות שאינן לגיל השלישי | I28: אזור ארנונה | J28: הנחות לגיל השלישי | K28: חלק יחסי מאוכלוסיית כפר סבא | L28: חלק יחסי באוכלוסיית הגיל השלישי | M28: סה"כ הנחות
A29: גני השרון | B29: 15 | C29: 3 | E29: 0011 | F29: קפלן, בית ונוף, הדרים | G29: 7 | H29: =K29*$B$26*VLOOKUP($G29,$H$23:$I$26,2,FALSE) -> 1643250.5 | I29: 2 | J29: =(L29/VLOOKUP($I29,$A$23:$C$25,3,FALSE))*VLOOKUP($I29,$A$23:$C$25,2,FALSE) -> 41566.35 | K29: =VLOOKUP($E29,'כפר סבא'!$D$4:$V$29,19,FALSE) -> 0.032630701 | L29: =VLOOKUP($E29,'כפר סבא'!$D$4:$AG$30,30,FALSE) -> 0.027223619 | M29: =J29+H29 -> 1684816.8 | N29: סמל יישוב | O29: שם יישוב | P29: סמל אזור סטטיסטי | Q29: אוכלוסייה* | R29: ערך מדד** | S29: דירוג (מ-1 עד 1624) | T29: אשכול*** (מ-1 עד 10) | U29: NAME OF LOCALITY
A30: הדרים | B30: 13, 11, 12 | C30: 3 | E30: 0012 | F30: גבעת אשכול, יוספטל | G30: 6 | H30: =K30*$B$26*VLOOKUP($G30,$H$23:$I$26,2,FALSE) -> 2969779.2 | I30: 2 | J30: =(L30/VLOOKUP($I30,$A$23:$C$25,3,FALSE))*VLOOKUP($I30,$A$23:$C$25,2,FALSE) -> 65411.879 | K30: =VLOOKUP($E30,'כפר סבא'!$D$4:$V$29,19,FALSE) -> 0.04891628 | L30: =VLOOKUP($E30,'כפר סבא'!$D$4:$AG$30,30,FALSE) -> 0.042841098 | M30: =J30+H30 -> 3035191.1 | N30: CODE OF LOCALITY | P30: CODE OF STATISTICAL AREA | Q30: POPULATION* | R30: INDEX VALUE** | S30: RANK (1 to 1624) | T30: CLUSTER*** (1 to 10) | V30: שטח א"ס (מ"ר) | W30: שטח א"ס (קמ"ר)
A31: קפלן | B31: 11 | C31: 2 | E31: 0013 | F31: הדרים | G31: 8 | H31: =K31*$B$26*VLOOKUP($G31,$H$23:$I$26,2,FALSE) -> 2101096.5 | I31: 2 | J31: =(L31/VLOOKUP($I31,$A$23:$C$25,3,FALSE))*VLOOKUP($I31,$A$23:$C$25,2,FALSE) -> 32011.806 | K31: =VLOOKUP($E31,'כפר סבא'!$D$4:$V$29,19,FALSE) -> 0.052518757 | L31: =VLOOKUP($E31,'כפר סבא'!$D$4:$AG$30,30,FALSE) -> 0.02096593 | M31: =J31+H31 -> 2133108.3 | N31: 6900 | O31: כפר סבא | P31: 11 | Q31: 3332.8581 | R31: 0.69467773 | S31: 1057 | T31: 7 | U31: KEFAR SAVA | V31: 1091408 | W31: =V31/1000000 -> 1.091408
A32: גבעת אשכול | B32: 12 | C32: 2 | E32: 0014 | N32: 6900 | O32: כפר סבא | P32: 12 | Q32: 4892.5798 | R32: 0.17906985 | S32: 746 | T32: 6 | U32: KEFAR SAVA | V32: 1993081 | W32: =V32/1000000 -> 1.993081
A33: יוספטל | B33: 12 | C33: 2 | E33: 0015 | F33: גני השרון, כפר סבא הצעירה | G33: 8 | H33: =K33*$B$26*VLOOKUP($G33,$H$23:$I$26,2,FALSE) -> 1777117.9 | I33: 3 | J33: =(L33/VLOOKUP($I33,$A$23:$C$25,3,FALSE))*VLOOKUP($I33,$A$23:$C$25,2,FALSE) -> 64255.475 | K33: =VLOOKUP($E33,'כפר סבא'!$D$4:$V$29,19,FALSE) -> 0.044420626 | L33: =VLOOKUP($E33,'כפר סבא'!$D$4:$AG$30,30,FALSE) -> 0.038027491 | M33: =J33+H33 -> 1841373.3 | N33: 6900 | O33: כפר סבא | P33: 13 | Q33: 5339.9511 | R33: 1.3692308 | S33: 1387 | T33: 8 | U33: KEFAR SAVA | V33: 422715 | W33: =V33/1000000 -> 0.422715
A34: שיכון עליה | B34: 21 | C34: 2 | E34: 0016 | F34: צפון | G34: 8 | H34: =K34*$B$26*VLOOKUP($G34,$H$23:$I$26,2,FALSE) -> 670191.01 | I34: 1 | J34: =(L34/VLOOKUP($I34,$A$23:$C$25,3,FALSE))*VLOOKUP($I34,$A$23:$C$25,2,FALSE) -> 109251.4 | K34: =VLOOKUP($E34,'כפר סבא'!$D$4:$V$29,19,FALSE) -> 0.016752015 | L34: =VLOOKUP($E34,'כפר סבא'!$D$4:$AG$30,30,FALSE) -> 0.010803872 | M34: =J34+H34 -> 779442.41 | N34: 6900 | O34: כפר סבא | P34: 15 | Q34: 4165.7672 | R34: 1.4597549 | S34: 1424 | T34: 8 | U34: KEFAR SAVA | V34: 1600179 | W34: =V34/1000000 -> 1.600179
A35: שבזי | B35: 21 | C35: 2 | E35: 0021 | F35: השכונה הירוקה, שיכון עליה, שבזי | G35: 8 | H35: =K35*$B$26*VLOOKUP($G35,$H$23:$I$26,2,FALSE) -> 4223632.7 | I35: 2 | J35: =(L35/VLOOKUP($I35,$A$23:$C$25,3,FALSE))*VLOOKUP($I35,$A$23:$C$25,2,FALSE) -> 87052.513 | K35: =VLOOKUP($E35,'כפר סבא'!$D$4:$V$29,19,FALSE) -> 0.10557342 | L35: =VLOOKUP($E35,'כפר סבא'!$D$4:$AG$30,30,FALSE) -> 0.057014494 | M35: =J35+H35 -> 4310685.2 | N35: 6900 | O35: כפר סבא | P35: 16 | Q35: 1742.1894 | R35: 1.4454691 | S35: 1417 | T35: 8 | U35: KEFAR SAVA | V35: 246513 | W35: =V35/1000000 -> 0.246513
A36: דגניה | B36: 34 | C36: 2 | E36: 0022 | F36: הזמר העברי, סביוני הכפר, סירקין, ותיקים | G36: 9 | H36: =K36*$B$26*VLOOKUP($G36,$H$23:$I$26,2,FALSE) -> 3757240.4 | I36: 1 | J36: =(L36/VLOOKUP($I36,$A$23:$C$25,3,FALSE))*VLOOKUP($I36,$A$23:$C$25,2,FALSE) -> 961628.64 | K36: =VLOOKUP($E36,'כפר סבא'!$D$4:$V$29,19,FALSE) -> 0.126702 | L36: =VLOOKUP($E36,'כפר סבא'!$D$4:$AG$30,30,FALSE) -> 0.09509547 | M36: =J36+H36 -> 4718869 | N36: 6900 | O36: כפר סבא | P36: 21 | Q36: 8514.4779 | R36: 1.3586423 | S36: 1382 | T36: 8 | U36: KEFAR SAVA | V36: 1450943 | W36: =V36/1000000 -> 1.450943
A37: תקומה | B37: 44 | C37: 2 | E37: 0031 | F37: מעוז | G37: 8 | H37: =K37*$B$26*VLOOKUP($G37,$H$23:$I$26,2,FALSE) -> 1092633.7 | I37: 1 | J37: =(L37/VLOOKUP($I37,$A$23:$C$25,3,FALSE))*VLOOKUP($I37,$A$23:$C$25,2,FALSE) -> 332080.98 | K37: =VLOOKUP($E37,'כפר סבא'!$D$4:$V$29,19,FALSE) -> 0.027311341 | L37: =VLOOKUP($E37,'כפר סבא'!$D$4:$AG$30,30,FALSE) -> 0.032839493 | M37: =J37+H37 -> 1424714.7 | N37: 6900 | O37: כפר סבא | P37: 22 | Q37: 11390.947 | R37: 1.6517029 | S37: 1493 | T37: 9 | U37: KEFAR SAVA | V37: 1386832 | W37: =V37/1000000 -> 1.386832
A38: גאולים | B38: 45 | C38: 2 | E38: 0032 | F38: מעוז, אליעזר, שיכוני מזרחי | G38: 8 | H38: =K38*$B$26*VLOOKUP($G38,$H$23:$I$26,2,FALSE) -> 1042607.6 | I38: 1 | J38: =(L38/VLOOKUP($I38,$A$23:$C$25,3,FALSE))*VLOOKUP($I38,$A$23:$C$25,2,FALSE) -> 353174.07 | K38: =VLOOKUP($E38,'כפר סבא'!$D$4:$V$29,19,FALSE) -> 0.026060895 | L38: =VLOOKUP($E38,'כפר סבא'!$D$4:$AG$30,30,FALSE) -> 0.034925389 | M38: =J38+H38 -> 1395781.6 | N38: 6900 | O38: כפר סבא | P38: 31 | Q38: 2766.8401 | R38: 1.5002706 | S38: 1444 | T38: 8 | U38: KEFAR SAVA | V38: 258846 | W38: =V38/1000000 -> 0.258846
A39: מזרחי א | B39: 55 | C39: 2 | E39: 0033 | F39: למפרט, פועלים ב', קרית ספיר | G39: 8 | H39: =K39*$B$26*VLOOKUP($G39,$H$23:$I$26,2,FALSE) -> 1015212.3 | I39: 1 | J39: =(L39/VLOOKUP($I39,$A$23:$C$25,3,FALSE))*VLOOKUP($I39,$A$23:$C$25,2,FALSE) -> 318018.92 | K39: =VLOOKUP($E39,'כפר סבא'!$D$4:$V$29,19,FALSE) -> 0.025376126 | L39: =VLOOKUP($E39,'כפר סבא'!$D$4:$AG$30,30,FALSE) -> 0.031448896 | M39: =J39+H39 -> 1333231.2 | N39: 6900 | O39: כפר סבא | P39: 32 | Q39: 2581.9365 | R39: 1.4686563 | S39: 1431 | T39: 8 | U39: KEFAR SAVA | V39: 472579 | W39: =V39/1000000 -> 0.472579
A40: אלי כהן | B40: 56 | C40: 2 | E40: 0034 | F40: הפרחים, דגניה | G40: 8 | H40: =K40*$B$26*VLOOKUP($G40,$H$23:$I$26,2,FALSE) -> 1430111.4 | I40: 1 | J40: =(L40/VLOOKUP($I40,$A$23:$C$25,3,FALSE))*VLOOKUP($I40,$A$23:$C$25,2,FALSE) -> 412667.41 | K40: =VLOOKUP($E40,'כפר סבא'!$D$4:$V$29,19,FALSE) -> 0.035746894 | L40: =VLOOKUP($E40,'כפר סבא'!$D$4:$AG$30,30,FALSE) -> 0.040808686 | M40: =J40+H40 -> 1842778.8 | N40: 6900 | O40: כפר סבא | P40: 33 | Q40: 2508.7184 | R40: 1.3814728 | S40: 1391 | T40: 8 | U40: KEFAR SAVA | V40: 296164 | W40: =V40/1000000 -> 0.296164
A41: שיכוני מזרחי | B41: 32, 53 | C41: 2 | E41: 0035 | F41: מרכז, ארלוזורוב | G41: 8 | H41: =K41*$B$26*VLOOKUP($G41,$H$23:$I$26,2,FALSE) -> 835753.6 | I41: 1 | J41: =(L41/VLOOKUP($I41,$A$23:$C$25,3,FALSE))*VLOOKUP($I41,$A$23:$C$25,2,FALSE) -> 267720.01 | K41: =VLOOKUP($E41,'כפר סבא'!$D$4:$V$29,19,FALSE) -> 0.020890397 | L41: =VLOOKUP($E41,'כפר סבא'!$D$4:$AG$30,30,FALSE) -> 0.026474836 | M41: =J41+H41 -> 1103473.6 | N41: 6900 | O41: כפר סבא | P41: 34 | Q41: 3483.0338 | R41: 1.43415 | S41: 1414 | T41: 8 | U41: KEFAR SAVA | V41: 363476 | W41: =V41/1000000 -> 0.363476
A42: בית ונוף | B42: 11 | C42: 1 | E42: 0036 | F42: מרכז | G42: 8 | H42: =K42*$B$26*VLOOKUP($G42,$H$23:$I$26,2,FALSE) -> 1332044.3 | I42: 1 | J42: =(L42/VLOOKUP($I42,$A$23:$C$25,3,FALSE))*VLOOKUP($I42,$A$23:$C$25,2,FALSE) -> 466211.41 | K42: =VLOOKUP($E42,'כפר סבא'!$D$4:$V$29,19,FALSE) -> 0.033295621 | L42: =VLOOKUP($E42,'כפר סבא'!$D$4:$AG$30,30,FALSE) -> 0.046103653 | M42: =J42+H42 -> 1798255.7 | N42: 6900 | O42: כפר סבא | P42: 35 | Q42: 2165.6386 | R42: 1.0544827 | S42: 1241 | T42: 8 | U42: KEFAR SAVA | V42: 179734 | W42: =V42/1000000 -> 0.179734
A43: כפר סבא הצעירה | B43: 15 | C43: 1 | E43: 0037 | F43: עובד בן ציון, פועלים א' | G43: 8 | H43: =K43*$B$26*VLOOKUP($G43,$H$23:$I$26,2,FALSE) -> 1298693.6 | I43: 1 | J43: =(L43/VLOOKUP($I43,$A$23:$C$25,3,FALSE))*VLOOKUP($I43,$A$23:$C$25,2,FALSE) -> 429433.71 | K43: =VLOOKUP($E43,'כפר סבא'!$D$4:$V$29,19,FALSE) -> 0.03246199 | L43: =VLOOKUP($E43,'כפר סבא'!$D$4:$AG$30,30,FALSE) -> 0.042466706 | M43: =J43+H43 -> 1728127.3 | N43: 6900 | O43: כפר סבא | P43: 36 | Q43: 3342.0572 | R43: 1.0307014 | S43: 1231 | T43: 8 | U43: KEFAR SAVA | V43: 147179 | W43: =V43/1000000 -> 0.147179
A44: השכונה הירוקה | B44: 21 | C44: 1 | E44: 0041 | F44: פועלים ד', מרכז, פועלים א' | G44: 8 | H44: =K44*$B$26*VLOOKUP($G44,$H$23:$I$26,2,FALSE) -> 1401922.1 | I44: 1 | J44: =(L44/VLOOKUP($I44,$A$23:$C$25,3,FALSE))*VLOOKUP($I44,$A$23:$C$25,2,FALSE) -> 431597.11 | K44: =VLOOKUP($E44,'כפר סבא'!$D$4:$V$29,19,FALSE) -> 0.035042277 | L44: =VLOOKUP($E44,'כפר סבא'!$D$4:$AG$30,30,FALSE) -> 0.042680644 | M44: =J44+H44 -> 1833519.2 | N44: 6900 | O44: כפר סבא | P44: 37 | Q44: 3340.5913 | R44: 1.2903273 | S44: 1351 | T44: 8 | U44: KEFAR SAVA | V44: 167885 | W44: =V44/1000000 -> 0.167885
A45: הזמר העברי | B45: 22 | C45: 1 | E45: 0042 | F45: מרכז, ארלוזורוב | G45: 8 | H45: =K45*$B$26*VLOOKUP($G45,$H$23:$I$26,2,FALSE) -> 917542.31 | I45: 1 | J45: =(L45/VLOOKUP($I45,$A$23:$C$25,3,FALSE))*VLOOKUP($I45,$A$23:$C$25,2,FALSE) -> 278536.98 | K45: =VLOOKUP($E45,'כפר סבא'!$D$4:$V$29,19,FALSE) -> 0.022934778 | L45: =VLOOKUP($E45,'כפר סבא'!$D$4:$AG$30,30,FALSE) -> 0.027544526 | M45: =J45+H45 -> 1196079.3 | N45: 6900 | O45: כפר סבא | P45: 41 | Q45: 3502.2378 | R45: 1.2727833 | S45: 1340 | T45: 8 | U45: KEFAR SAVA | V45: 170613 | W45: =V45/1000000 -> 0.170613
A46: סביוני הכפר | B46: 22 | C46: 1 | E46: 0043 | F46: ארלוזורוב | G46: 8 | H46: =K46*$B$26*VLOOKUP($G46,$H$23:$I$26,2,FALSE) -> 1083501.9 | I46: 1 | J46: =(L46/VLOOKUP($I46,$A$23:$C$25,3,FALSE))*VLOOKUP($I46,$A$23:$C$25,2,FALSE) -> 352633.23 | K46: =VLOOKUP($E46,'כפר סבא'!$D$4:$V$29,19,FALSE) -> 0.027083085 | L46: =VLOOKUP($E46,'כפר סבא'!$D$4:$AG$30,30,FALSE) -> 0.034871905 | M46: =J46+H46 -> 1436135.2 | N46: 6900 | O46: כפר סבא | P46: 42 | Q46: 2302.6995 | R46: 1.343023 | S46: 1377 | T46: 8 | U46: KEFAR SAVA | V46: 151803 | W46: =V46/1000000 -> 0.151803
A47: סירקין | B47: 22 | C47: 1 | E47: 0044 | F47: תקומה, ראשונים | G47: 6 | H47: =K47*$B$26*VLOOKUP($G47,$H$23:$I$26,2,FALSE) -> 3004122.4 | I47: 1 | J47: =(L47/VLOOKUP($I47,$A$23:$C$25,3,FALSE))*VLOOKUP($I47,$A$23:$C$25,2,FALSE) -> 763678.09 | K47: =VLOOKUP($E47,'כפר סבא'!$D$4:$V$29,19,FALSE) -> 0.049481958 | L47: =VLOOKUP($E47,'כפר סבא'!$D$4:$AG$30,30,FALSE) -> 0.075520137 | M47: =J47+H47 -> 3767800.4 | N47: 6900 | O47: כפר סבא | P47: 43 | Q47: 2752.8453 | R47: 1.1454429 | S47: 1284 | T47: 8 | U47: KEFAR SAVA | V47: 145577 | W47: =V47/1000000 -> 0.145577
A48: ותיקים | B48: 22 | C48: 1 | E48: 0045 | F48: חלוצים, גאולים, ראשונים | G48: 8 | H48: =K48*$B$26*VLOOKUP($G48,$H$23:$I$26,2,FALSE) -> 1091045.6 | I48: 1 | J48: =(L48/VLOOKUP($I48,$A$23:$C$25,3,FALSE))*VLOOKUP($I48,$A$23:$C$25,2,FALSE) -> 229319.77 | K48: =VLOOKUP($E48,'כפר סבא'!$D$4:$V$29,19,FALSE) -> 0.027271645 | L48: =VLOOKUP($E48,'כפר סבא'!$D$4:$AG$30,30,FALSE) -> 0.022677435 | M48: =J48+H48 -> 1320365.3 | N48: 6900 | O48: כפר סבא | P48: 44 | Q48: 4870.1145 | R48: 0.47470516 | S48: 938 | T48: 6 | U48: KEFAR SAVA | V48: 339239 | W48: =V48/1000000 -> 0.339239
A49: אליעזר | B49: 32 | C49: 1 | E49: 0051 | F49: מרכז | G49: 8 | H49: =K49*$B$26*VLOOKUP($G49,$H$23:$I$26,2,FALSE) -> 1826746.9 | I49: 1 | J49: =(L49/VLOOKUP($I49,$A$23:$C$25,3,FALSE))*VLOOKUP($I49,$A$23:$C$25,2,FALSE) -> 591147.42 | K49: =VLOOKUP($E49,'כפר סבא'!$D$4:$V$29,19,FALSE) -> 0.045661149 | L49: =VLOOKUP($E49,'כפר סבא'!$D$4:$AG$30,30,FALSE) -> 0.058458576 | M49: =J49+H49 -> 2417894.4 | N49: 6900 | O49: כפר סבא | P49: 45 | Q49: 2672.7553 | R49: 1.3182722 | S49: 1365 | T49: 8 | U49: KEFAR SAVA | V49: 490627 | W49: =V49/1000000 -> 0.490627
A50: למפרט | B50: 33 | C50: 1 | E50: 0052 | F50: קרית ספיר | G50: 8 | H50: =K50*$B$26*VLOOKUP($G50,$H$23:$I$26,2,FALSE) -> 1252240.8 | I50: 1 | J50: =(L50/VLOOKUP($I50,$A$23:$C$25,3,FALSE))*VLOOKUP($I50,$A$23:$C$25,2,FALSE) -> 460262.08 | K50: =VLOOKUP($E50,'כפר סבא'!$D$4:$V$29,19,FALSE) -> 0.031300861 | L50: =VLOOKUP($E50,'כפר סבא'!$D$4:$AG$30,30,FALSE) -> 0.045515323 | M50: =J50+H50 -> 1712502.9 | N50: 6900 | O50: כפר סבא | P50: 51 | Q50: 4603.9764 | R50: 0.9670937 | S50: 1195 | T50: 8 | U50: KEFAR SAVA | V50: 242425 | W50: =V50/1000000 -> 0.242425
A51: פועלים ב | B51: 33 | C51: 1 | E51: 0053 | F51: שיכוני מזרחי | G51: 8 | H51: =K51*$B$26*VLOOKUP($G51,$H$23:$I$26,2,FALSE) -> 1310207.5 | I51: 1 | J51: =(L51/VLOOKUP($I51,$A$23:$C$25,3,FALSE))*VLOOKUP($I51,$A$23:$C$25,2,FALSE) -> 429433.71 | K51: =VLOOKUP($E51,'כפר סבא'!$D$4:$V$29,19,FALSE) -> 0.032749792 | L51: =VLOOKUP($E51,'כפר סבא'!$D$4:$AG$30,30,FALSE) -> 0.042466706 | M51: =J51+H51 -> 1739641.3 | N51: 6900 | O51: כפר סבא | P51: 52 | Q51: 3099.033 | R51: 0.98281178 | S51: 1203 | T51: 8 | U51: KEFAR SAVA | V51: 165984 | W51: =V51/1000000 -> 0.165984
A52: הפרחים | B52: 34 | C52: 1 | E52: 0054 | F52: דובדבן הכפר, מוצקין, כיסופים | G52: 7 | H52: =K52*$B$26*VLOOKUP($G52,$H$23:$I$26,2,FALSE) -> 1673736.6 | I52: 2 | J52: =(L52/VLOOKUP($I52,$A$23:$C$25,3,FALSE))*VLOOKUP($I52,$A$23:$C$25,2,FALSE) -> 50059.278 | K52: =VLOOKUP($E52,'כפר סבא'!$D$4:$V$29,19,FALSE) -> 0.033236076 | L52: =VLOOKUP($E52,'כפר סבא'!$D$4:$AG$30,30,FALSE) -> 0.032786008 | M52: =J52+H52 -> 1723795.9 | N52: 6900 | O52: כפר סבא | P52: 53 | Q52: 3379.8118 | R52: 1.437329 | S52: 1416 | T52: 8 | U52: KEFAR SAVA | V52: 363020 | W52: =V52/1000000 -> 0.36302
A53: עובד בן ציון | B53: 37 | C53: 1 | E53: 0055 | F53: מזרחי א', מרכז | G53: 8 | H53: =K53*$B$26*VLOOKUP($G53,$H$23:$I$26,2,FALSE) -> 1284400.4 | I53: 2 | J53: =(L53/VLOOKUP($I53,$A$23:$C$25,3,FALSE))*VLOOKUP($I53,$A$23:$C$25,2,FALSE) -> 52590.824 | K53: =VLOOKUP($E53,'כפר סבא'!$D$4:$V$29,19,FALSE) -> 0.03210472 | L53: =VLOOKUP($E53,'כפר סבא'!$D$4:$AG$30,30,FALSE) -> 0.034444028 | M53: =J53+H53 -> 1336991.2 | N53: 6900 | O53: כפר סבא | P53: 54 | Q53: 3258.7775 | R53: 0.95938501 | S53: 1190 | T53: 7 | U53: KEFAR SAVA | V53: 282860 | W53: =V53/1000000 -> 0.28286
A54: פועלים ד' | B54: 41 | C54: 1 | E54: 0056 | F54: הפארק, אלי כהן | G54: 8 | H54: =K54*$B$26*VLOOKUP($G54,$H$23:$I$26,2,FALSE) -> 1374923.9 | I54: 1 | J54: =(L54/VLOOKUP($I54,$A$23:$C$25,3,FALSE))*VLOOKUP($I54,$A$23:$C$25,2,FALSE) -> 365613.59 | K54: =VLOOKUP($E54,'כפר סבא'!$D$4:$V$29,19,FALSE) -> 0.034367433 | L54: =VLOOKUP($E54,'כפר סבא'!$D$4:$AG$30,30,FALSE) -> 0.036155533 | M54: =J54+H54 -> 1740537.4 | N54: 6900 | O54: כפר סבא | P54: 55 | Q54: 3208.823 | R54: 1.0356703 | S54: 1235 | T54: 8 | U54: KEFAR SAVA | V54: 230391 | W54: =V54/1000000 -> 0.230391
A55: חלוצים | B55: 45 | C55: 1 | N55: 6900 | O55: כפר סבא | P55: 56 | Q55: 3287.2842 | R55: 1.0634039 | S55: 1247 | T55: 8 | U55: KEFAR SAVA | V55: 590664 | W55: =V55/1000000 -> 0.590664
A56: מוצקין | B56: 54 | C56: 1 | H56: =SUM(H29:H55) -> 41409755
A57: דודבן הכפר | B57: 54 | C57: 1 | H57: =H56-B26 -> 0
A58: כיסופים | B58: 54 | C58: 1
A59: הפארק | B59: 56 | C59: 1
A60: מעוז | B60: 32, 31 | C60: 1
A61: קריית ספיר | B61: 33,52 | C61: 1
A62: ארלוזורוב | B62: 35, 42, 43 | C62: 1
A63: מרכז | B63: 35,36,41,42,43, 51,,54, 55 | C63: 1
A64: פועלים א | B64: 37, 41 | C64: 1
A65: ראשונים | B65: 44, 45 | C65: 1
A66: צפון | B66: 16 | C66: 1

Sheet נתונים דירות ומבנים בכפר סבא
A1: שם הישוב | B1: קוד מעמד מוניציפלי | C1: סמל ישוב | D1: סך דירות למגורים 2012 | E1: סך דירות למגורים 2013 | F1: סך דירות למגורים 2014 | G1: סך דירות למגורים 2015 | H1: סך דירות למגורים 2016 | I1: סך דירות למגורים 2017 | J1: סך דירות למגורים 2018 | K1: סך דירות למגורים 2019 | L1: הערות
A2: כפר סבא | B2: 0 | C2: 6900 | D2: 28575 | E2: 29872 | F2: 30995 | G2: 32297 | H2: 32737 | I2: 33001 | J2: 33555 | K2: 33871 | R2: גודל חציוני (מ"ר) | S2: 130
R3: גודל ממוצע (מ"ר) | S3: 137
A4: התפלגות מבנים לפי מספר דירות ביישובים המונים יותר מ-100,000 תושבים, 2019 | R4: גודל שטחי שירות בבניין מסוג א | S4: 0.1
A5: שם הישוב | B5: סמל הישוב | C5: מספר מבנים | D5: מבנים שבהם 2-1 דירות | F5: מבנים שבהם 5-3 דירות | H5: מבנים שבהם 10-6 דירות | J5: מבנים שבהם 20-11 דירות | L5: מבנים שבהם 50-21 דירות | N5: מבנים שבהם 51 דירות ומעלה | R5: גודל שטחי שירות בבניין אא | S5: 0.05
D6: מספר | E6: אחוז | F6: מספר | G6: אחוז | H6: מספר | I6: אחוז | J6: מספר | K6: אחוז | L6: מספר | M6: אחוז | N6: מספר | O6: אחוז
A7: כפר סבא | B7: 6900 | C7: 4218 | D7: 2222 | E7: =D7/C7*100 -> 52.678995 | F7: 521 | G7: =F7/C7*100 -> 12.351826 | H7: 491 | I7: =H7/C7*100 -> 11.640588 | J7: 553 | K7: =J7/C7*100 -> 13.110479 | L7: 397 | M7: =L7/C7*100 -> 9.4120436 | N7: 32 | O7: =N7/C7*100 -> 0.75865339 | R7: הכנסות ארנונה 2018 | T7: 358986
A8: קומות | H8: 3 | J8: =J9/4 -> 3.5 | L8: =L9/4 -> 9 | N8: =N9/4 -> 14 | R8: הכנסות ארנונה למגורים 2018 | T8: 188737
A9: מס' יחידות דיור לבניין | D9: 1.5 | F9: 4 | H9: 9 | J9: 14 | L9: 36 | N9: 56 | R9: מס' יח"ד | T9: =K2 -> 33871
A10: סה"כ דירות לפי סוג בניין | D10: =D7*D9 -> 3333 | E10: =D10/$P$10 -> 0.099013725 | F10: =F7*F9 -> 2084 | G10: =F10/$P$10 -> 0.061909572 | H10: =H7*H9 -> 4419 | I10: =H10/$P$10 -> 0.13127562 | J10: =J7*J9 -> 7742 | K10: =J10/$P$10 -> 0.22999228 | L10: =L7*L9 -> 14292 | M10: =L10/$P$10 -> 0.4245737 | N10: =N7*N9 -> 1792 | O10: =N10/$P$10 -> 0.053235102 | P10: =D10+N10+L10+J10+H10+F10 -> 33662 | R10: הכנסה ליח"ד | T10: =1000*T7/T9 -> 10598.624
A11: גודל ממוצע של דירה לפי בניין (במונחי ברוטו ברוטו) | D11: 200 | F11: 170 | H11: 110 | J11: 120 | L11: 135 | M11: 0 | N11: 140 | R11: הכנסה ליח"ד מארנונה למגורים | T11: =1000*T8/T9 -> 5572.2299
A12: סה"כ שטח | D12: =D11*D10 -> 666600 | F12: =F11*F10 -> 354280 | H12: =H11*H10 -> 486090 | J12: =J11*J10 -> 929040 | L12: =L11*L10 -> 1929420 | N12: =N11*N10 -> 250880 | P12: =SUM(D12:O12) -> 4616310 | R12: הכנסה לתושב | T12: =1000*T7/'כפר סבא'!$E$3 -> 3562.6414 | U12: =T10/T12 -> 2.9749343
R13: הכנסה לתושב מארנונה למגורים | T13: =1000*T8/'כפר סבא'!$E$3 -> 1873.0598
P14: =P12/P10 -> 137.13713
A15: הכנסה ממוצעת ליח"ד
A16: אזור 1 א | H16: =40.16*(H$11-H$11*$S$4)+H$11*$S$4*35.83 -> 4369.97 | J16: =52.28*(J$11-J$11*$S$4)+J$11*$S$4*35.83 -> 6076.2 | L16: =52.28*(L$11-L$11*$S$4)+L$11*$S$4*35.83 -> 6835.725 | N16: =52.28*(N$11-N$11*$S$4)+N$11*$S$4*35.83 -> 7088.9
A17: אזור 2 א | H17: =36.28*(H$11-H$11*$S$4)+H$11*$S$4*35.83 -> 3985.85 | J17: =42.78*(J$11-J$11*$S$4)+J$11*$S$4*35.83 -> 5050.2 | L17: =42.78*(L$11-L$11*$S$4)+L$11*$S$4*35.83 -> 5681.475 | N17: =42.78*(N$11-N$11*$S$4)+N$11*$S$4*35.83 -> 5891.9
A18: אזור 3 א | H18: =37.52*(H$11-H$11*$S$4)+H$11*$S$4*35.83 -> 4108.61 | J18: =44.89*(J$11-J$11*$S$4)+J$11*$S$4*35.83 -> 5278.08 | L18: =44.89*(L$11-L$11*$S$4)+L$11*$S$4*35.83 -> 5937.84 | N18: =44.89*(N$11-N$11*$S$4)+N$11*$S$4*35.83 -> 6157.76
A19: אזור 1 אא | D19: =57.27*140+48.15*(D$11-140-D$11*$S$5)+D$11*$S$5*35.83 -> 10783.6 | F19: =57.27*140+48.15*(F$11-140-F$11*$S$5)+F$11*$S$5*35.83 -> 9357.58 | H19: =44.55*(H$11-H$11*$S$4)+H$11*$S$4*35.83 -> 4804.58 | J19: =57.27*(J$11-J$11*$S$4)+J$11*$S$4*35.83 -> 6615.12 | L19: =57.27*(L$11-L$11*$S$4)+L$11*$S$4*35.83 -> 7442.01 | N19: =57.27*(N$11-N$11*$S$4)+N$11*$S$4*35.83 -> 7717.64
A20: אזור 2 אא | D20: =46.21*140+37.09*(D$11-140-D$11*$S$5)+D$11*$S$5*35.83 -> 8682.2 | F20: =46.21*140+37.09*(F$11-140-F$11*$S$5)+F$11*$S$5*35.83 -> 7571.39 | H20: =36.28*(H$11-H$11*$S$4)+H$11*$S$4*35.83 -> 3985.85 | J20: =46.21*(J$11-J$11*$S$4)+J$11*$S$4*35.83 -> 5420.64 | L20: =46.21*(L$11-L$11*$S$4)+L$11*$S$4*35.83 -> 6098.22 | N20: =46.21*(N$11-N$11*$S$4)+N$11*$S$4*35.83 -> 6324.08
A21: אזור 3 אא | D21: =48.53*140+38.95*(D$11-140-D$11*$S$5)+D$11*$S$5*35.83 -> 9100 | F21: =48.53*140+38.95*(F$11-140-F$11*$S$5)+F$11*$S$5*35.83 -> 7936.18 | H21: =37.64*(H$11-H$11*$S$4)+H$11*$S$4*35.83 -> 4120.49 | J21: =48.53*(J$11-J$11*$S$4)+J$11*$S$4*35.83 -> 5671.2 | L21: =48.53*(L$11-L$11*$S$4)+L$11*$S$4*35.83 -> 6380.1 | N21: =48.53*(N$11-N$11*$S$4)+N$11*$S$4*35.83 -> 6616.4
D23: =1-D24 -> 0 | F23: =1-F24 -> 0 | H23: =1-H24 -> 0.95 | J23: =1-J24 -> 0.85714286 | L23: =1-L24 -> 0.86111111 | N23: =1-N24 -> 0.85714286 | O23: תעריפים לשנת 2018
A24: אחוז דירות מסוג א | D24: 1 | F24: 1 | H24: 0.05 | J24: =2*J7/J10 -> 0.14285714 | L24: =5*L7/L10 -> 0.13888889 | N24: =8/N9 -> 0.14285714
A25: אחוז דירות מסוג אא
D26: A | F26: B | H26: C | J26: D | L26: E | N26: F
A27: אזור 1 | D27: =D19 -> 10783.6 | F27: =F19 -> 9357.58 | H27: =H16*$H$23+H19*$H$24 -> 4391.7005 | J27: =J16*$H$23+J19*$H$24 -> 6103.146 | L27: =L16*$H$23+L19*$H$24 -> 6866.0392 | N27: =N16*$H$23+N19*$H$24 -> 7120.337
A28: אזור 2 | D28: =D20 -> 8682.2 | F28: =F20 -> 7571.39 | H28: =H17*$H$23+H20*$H$24 -> 3985.85 | J28: =J17*$H$23+J20*$H$24 -> 5068.722 | L28: =L17*$H$23+L20*$H$24 -> 5702.3122 | N28: =N17*$H$23+N20*$H$24 -> 5913.509
A29: אזור 3 | D29: =D21 -> 9100 | F29: =F21 -> 7936.18 | H29: =H18*$H$23+H21*$H$24 -> 4109.204 | J29: =J18*$H$23+J21*$H$24 -> 5297.736 | L29: =L18*$H$23+L21*$H$24 -> 5959.953 | N29: =N18*$H$23+N21*$H$24 -> 6180.692
A32: אזור 1 | D32: =D27/$T$11 -> 1.9352396 | F32: =F27/$T$11 -> 1.6793241 | H32: =H27/$T$11 -> 0.78814057 | J32: =J27/$T$11 -> 1.0952789 | L32: =L27/$T$11 -> 1.2321888 | N32: =N27/$T$11 -> 1.2778254
A33: אזור 2 | D33: =D28/$T$11 -> 1.5581195 | F33: =F28/$T$11 -> 1.358772 | H33: =H28/$T$11 -> 0.71530609 | J33: =J28/$T$11 -> 0.90963978 | L33: =L28/$T$11 -> 1.0233448 | N33: =N28/$T$11 -> 1.0612464
A34: אזור 3 | D34: =D29/$T$11 -> 1.6330984 | F34: =F29/$T$11 -> 1.4242377 | H34: =H29/$T$11 -> 0.73744337 | J34: =J29/$T$11 -> 0.95073894 | L34: =L29/$T$11 -> 1.0695813 | N34: =N29/$T$11 -> 1.1091954
A38: א"ס | B38: שם השכונה | C38: אזור ארנונה | D38: בניה טיפוסית
A39: 0011 | B39: קפלן, בית ונוף, הדרים | C39: 2 | D39: A | E39: =D28 -> 8682.2
A40: 0012 | B40: גבעת אשכול, יוספטל | C40: 2 | D40: B | E40: =F28 -> 7571.39 | H40: סוג מבנה | I40: מאפיין | J40: ארונה אופיינית למ"ר
A41: 0013 | B41: הדרים | C41: 2 | D41: B | E41: =F28 -> 7571.39 | H41: A | I41: מבנים שבהם 2-1 דירות | J41: =D27/D11 -> 53.918
A42: 0014 | H42: B | I42: מבנים שבהם 5-3 דירות | J42: =F27/F11 -> 55.044588
A43: 0015 | B43: גני השרון, כפר סבא הצעירה | C43: 3 | D43: E | E43: =L29 -> 5959.953 | H43: C | I43: מבנים שבהם 10-6 דירות | J43: =H27/H11 -> 39.92455
A44: 0016 | B44: צפון | C44: 1 | D44: D/E | E44: =AVERAGE(J27,L27) -> 6484.5926 | H44: D | I44: מבנים שבהם 20-11 דירות | J44: =J27/J11 -> 50.85955
A45: 0021 | B45: השכונה הירוקה, שיכון עליה, שבזי | C45: 2 | D45: E/A | E45: =AVERAGE(L27,D27) -> 8824.8196 | H45: E | I45: מבנים שבהם 50-21 דירות | J45: =L27/L11 -> 50.85955
A46: 0022 | B46: הזמר העברי, סביוני הכפר, סירקין, ותיקים | C46: 1 | D46: A | E46: =D27 -> 10783.6 | H46: F | I46: מבנים שבהם 51 דירות ומעלה | J46: =N27/N11 -> 50.85955
A47: 0031 | B47: מעוז | C47: 1 | D47: E | E47: =L27 -> 6866.0392
A48: 0032 | B48: מעוז, אליעזר, שיכוני מזרחי | C48: 1 | D48: E | E48: =L27 -> 6866.0392
A49: 0033 | B49: למפרט, פועלים ב', קרית ספיר | C49: 1 | D49: D | E49: =J27 -> 6103.146
A50: 0034 | B50: הפרחים, דגניה | C50: 1 | D50: C | E50: =H27 -> 4391.7005
A51: 0035 | B51: מרכז, ארלוזורוב | C51: 1 | D51: D | E51: =J27 -> 6103.146
A52: 0036 | B52: מרכז | C52: 1 | D52: D | E52: =J27 -> 6103.146
A53: 0037 | B53: עובד בן ציון, פועלים א' | C53: 1 | D53: D | E53: =J27 -> 6103.146
A54: 0041 | B54: פועלים ד', מרכז, פועלים א' | C54: 1 | D54: D | E54: =J27 -> 6103.146
A55: 0042 | B55: מרכז, ארלוזורוב | C55: 1 | D55: D | E55: =J27 -> 6103.146
A56: 0043 | B56: ארלוזורוב | C56: 1 | D56: D | E56: =J27 -> 6103.146
A57: 0044 | B57: תקומה, ראשונים | C57: 1 | D57: A/D/E | E57: =AVERAGE(D27,J27,L27) -> 7917.5951
A58: 0045 | B58: חלוצים, גאולים, ראשונים | C58: 1 | D58: A/D/E | E58: =AVERAGE(D27,J27,L27) -> 7917.5951
A59: 0051 | B59: מרכז | C59: 1 | D59: C | E59: =H27 -> 4391.7005
A60: 0052 | B60: קרית ספיר | C60: 1 | D60: E | E60: =L27 -> 6866.0392
A61: 0053 | B61: שיכוני מזרחי | C61: 1 | D61: B | E61: =F27 -> 9357.58
A62: 0054 | B62: דובדבן הכפר, מוצקין, כיסופים | C62: 2 | D62: C | E62: =H28 -> 3985.85
A63: 0055 | B63: מזרחי א', מרכז | C63: 2 | D63: C | E63: =H28 -> 3985.85
A64: 0056 | B64: הפארק, אלי כהן | C64: 1 | D64: A | E64: =D27 -> 10783.6

Sheet עלויות שירותים במימון ארנונה
D1: הוצאה לא ייעודית לאוכלוסיית יעד | E1: אוכלוסיית היעד
A2: 2 | B2: שירותים מקומיים | D2: 1128.7598 | E2: תושבים | F2: 100764 | I2: תושבים | J2: שירותים מקומיים | K2: =D2 -> 1128.7598
A3: 21 | B3: תברואה | D3: 605.98367 | E3: תושבים | F3: 100764 | I3: גן | J3: חינוך קדם יסודי | K3: =D33 -> 5964.7768
A4: 212 | B4: שירותי ניקיון | D4: 549.02588 | E4: תושבים | F4: 100764 | I4: יסודי | J4: חינוך יסודי | K4: =D34 -> 4344.6167
A5: 213 | B5: פיקוח תברואי | D5: 1.3594698 | E5: תושבים | F5: 100764 | I5: חטיבה | J5: חטיבת הביניים | K5: 3144.8046
A6: 214 | B6: שרות וטרינרי | D6: -5.4478753 | E6: תושבים | F6: 100764 | I6: תיכון | J6: על יסודיים | K6: 3501.6559
A7: 215 | B7: תברואה מונעת | D7: 18.792671 | E7: תושבים | F7: 100764 | I7: בוגרים | J7: בוגרים | K7: 17.058571
A8: 22 | B8: שמירה וביטחון | D8: 48.401124 | E8: תושבים | F8: 100764 | I8: גיל שלישי | J8: רוווחה קשישים | K8: =D70 -> 405.8631
A9: 222 | B9: שמירה ביטחונית | D9: 66.753966 | E9: תושבים | F9: 100764 | I9: ילדים | J9: רווחה כלל הילדים | K9: =D69 -> 106.38989
A10: 226 | B10: מל״ח ופס"ח | D10: 0.49980508 | E10: תושבים | F10: 100764 | I10: נוער | J10: תרבות נוער | K10: =D57 -> 865.92215
A11: 23 | B11: תכנון ובנין עיר | D11: 62.84549 | E11: תושבים | F11: 100764 | I11: רווחה | J11: רווחה נכים אחר | K11: =D71 -> 1418.5275
A12: 231 | B12: משרד מהנדס הרשות | D12: 43.822909 | E12: תושבים | F12: 100764 | I12: רווחה | J12: רווחה נכים פיזית | K12: =D72 -> 2593.1604
A13: 232 | B13: תכנון עיר | D13: 26.279751 | E13: תושבים | F13: 100764 | I13: תושבים | J13: תרבות, למעט תרבות נוער | K13: =SUM(D50:D56,D58) -> 267.64562
A14: 233 | B14: רישוי ופיקוח על הבניה | D14: -7.2571697 | E14: תושבים | F14: 100764 | I14: תושבים | J14: הנהלה כללית, מפעלים והוצאות בלתי צפויות | K14: =D96+D114+D138+D140 -> 396.30544
A15: 234 | B15: רישוי עסקים | D15: 0 | E15: תושבים | F15: 100764 | I15: עולים | J15: כלל ההוצאות על עולים | K15: =D75+D85 -> 501.0101
A16: 24 | B16: נכסים ציבוריים | D16: 339.56757 | E16: תושבים | F16: 100764 | I16: תושבים | J16: רווחה | K16: =D67+D68+D73+D74 -> 205.15999 | N16: אחוז גילאי 65 ומעלה באוכלוסייה בסוף השנה | O16: אחוז גילאי 17-0 באוכלוסייה בסוף השנה | P16: אחוז גילאי 75 ומעלה באוכלוסייה בסוף השנה
A17: 241 | B17: מינהל נכסים ציבוריים | D17: 0 | E17: תושבים | F17: 100764 | I17: תושבים | J17: דת | K17: =D76 -> 35.836024 | N17: 17.929008 | O17: 27.689201 | P17: 7.0242605
A18: 242 | B18: דרכים ומדרכות | D18: 45.352313 | E18: תושבים | F18: 100764 | I18: תושבים | J18: בריאות | K18: =D59 -> 1.7193295
A19: 243 | B19: תאורת רחובות | D19: 67.643619 | E19: תושבים | F19: 100764 | I19: תושבים | J19: איכות הסביבה | K19: =D87 -> 6.8573256
A20: 244 | B20: בטיחות בדרכים | D20: 24.710363 | E20: תושבים | F20: 100764 | I20: תושבים | J20: פנסיה | K20: =D139 -> 347.86433
A21: 246 | B21: גנים ונטיעות | D21: 194.46416 | E21: תושבים | F21: 100764 | I21: תושבים | J21: הנחות בארנונה | K21: =D141 -> 489.80897
A22: 247 | B22: חופים, בריכות ומרחצאות | D22: 0 | E22: תושבים | F22: 100764
A23: 25 | B23: חגיגות מבצעים ואירועים | D23: 37.075541 | E23: תושבים | F23: 100764 | I23: גיל שלישי | J23: =SUMIFS($K$2:$K$21,$I$2:$I$21,$I23)*P17/N17 -> 159.00981
A24: 26 | B24: שירותים עירוניים שונים | D24: 45.662192 | E24: תושבים | F24: 100764 | I24: גן | J24: =SUMIFS($K$2:$K$21,$I$2:$I$21,$I24) -> 5964.7768
A25: 269 | B25: הכנסות שונות | D25: -29.548476 | E25: תושבים | F25: 100764 | I25: חטיבה | J25: =SUMIFS($K$2:$K$21,$I$2:$I$21,$I25) -> 3144.8046
A26: 27 | B26: פיתוח כלכלי | D26: 0 | E26: תושבים | F26: 100764 | I26: ילדים | J26: =SUMIFS($K$2:$K$21,$I$2:$I$21,$I26) -> 106.38989
A27: 271 | B27: עידוד קייט ותיירות | D27: 0 | E27: תושבים | F27: 100764 | I27: יסודי | J27: =SUMIFS($K$2:$K$21,$I$2:$I$21,$I27) -> 4344.6167
A28: 273 | B28: חברות עירוניות | D28: 0 | E28: תושבים | F28: 100764 | I28: נוער | J28: =SUMIFS($K$2:$K$21,$I$2:$I$21,$I28) -> 865.92215
A29: 28 | B29: פיקוח עירוני | D29: -11.595478 | E29: תושבים | F29: 100764 | I29: עולים | J29: =SUMIFS($K$2:$K$21,$I$2:$I$21,$I29) -> 501.0101
A30: 29 | B30: שירותים חקלאיים | D30: 0.81968032 | E30: תושבים | F30: 100764 | I30: רווחה | J30: =SUMIFS($K$2:$K$21,$I$2:$I$21,$I30) -> 4011.6879
A31: כללי סינון | I31: תושבים | J31: =SUMIFS($K$2:$K$21,$I$2:$I$21,$I31) -> 2879.9568
D32: 473.89969 | E32: תלמידים | I32: בוגרים | J32: =SUMIFS($K$2:$K$21,$I$2:$I$21,$I32) -> 17.058571
D33: 5964.7768 | E33: קדם יסודי | F33: ילדים בגנ"י ויסודי | I33: תיכון | J33: =SUMIFS($K$2:$K$21,$I$2:$I$21,$I33) -> 3501.6559
D34: 4344.6167 | E34: יסודי | F34: ילדים בגנ"י ויסודי
D35: 5138.7794 | E35: על יסודיים
A36: שירותים ממלכתיים | D36: 17.058571 | E36: בוגרים
A38: 3 | B38: שירותים ממלכתיים | D38: 1885.6746 | E38: תושבים | F38: 100764
A39: 31 | B39: חינוך | D39: 6081.7298 | E39: תלמידים | F39: 20050
A40: 311 | B40: מינהל החינוך | D40: 451.99591 | E40: תלמידים | F40: 20050
A41: 312 | B41: חינוך קדם יסודי | D41: 5132.8656 | E41: קדם יסודי | F41: 4693
A42: 313 | B42: חינוך יסודי | D42: 2512.7722 | E42: יסודי | F42: 8972
A43: 314 | B43: חטיבות ביניים | D43: 3144.8046 | E43: חטיבת הביניים | F43: 3411
A44: 315 | B44: חינוך על יסודי | D44: 3501.6559 | E44: על יסודיים | F44: 6385
A45: 316 | B45: חינוך גבוה | D45: 0 | E45: בוגרים | F45: 72814
A46: 317 | B46: שירותים נוספים לבתי״ס וגנ״י | D46: 2293.1283 | E46: ילדים בגנ"י ויסודי | F46: 13665
A47: 318 | B47: חינוך מבוגרים | D47: 17.058571 | E47: בוגרים | F47: 72814
A48: 319 | B48: שירותי חינוך מיוחדים | D48: 2726.1146 | E48: תלמידים חרדים מתוך כלל התלמידים החרדים ברשות | F48: 252
A49: 32 | B49: תרבות | D49: 359.33986 | E49: תושבים | F49: 100764
... A69: 343 | B69: שירותים לילד ולנוער | D69: 106.38989 | E69: כלל הילדים | F69: 27950
A70: 344 | B70: שירותים לזקן | D70: 405.8631 | E70: קשישים | F70: #N/A
A71: 345 | B71: שירותים למש"ה | D71: 1418.5275 | E71: נכים אחר | F71: 4716
A72: 346 | B72: שירותי שיקום | D72: 2593.1604 | E72: נכים פיזית | F72: 831
A73: 347 | B73: שירותי תיקון | D73: 4.9980508 | E73: תושבים | F73: 100764
A74: 348 | B74: עבודה קהילתית | D74: 20.022191 | E74: תושבים | F74: 100764
A75: 349 | B75: שירותים לעולים | D75: 217.67677 | E75: עולים | F75: 1970
A76: 35 | B76: דת | D76: 35.836024 | E76: תושבים | F76: 100764
A77: 351 | B77: שירותים דתיים יהודיים | D77: 35.836024 | E77: תושבים | F77: 100764
A78: 352 | B78: שירותי דת לקראים | D78: 0 | E78: תושבים | F78: 100764
A79: 353 | B79: שירותי דת למוסלמים | D79: 0 | E79: תושבים | F79: 100764
A80: 354 | B80: שירותי דת לעדות נוצריות | D80: 0 | E80: תושבים | F80: 100764
A81: 355 | B81: שירותי דת לדרוזים | D81: 0 | E81: תושבים | F81: 100764
A82: 356 | B82: שירותי דת יהודיים כלליים | D82: 0 | E82: תושבים | F82: 100764
... A88: 379 | B88: שירותים שונים לאיכות הסביבה | D88: 0 | E88: תושבים | F88: 100764
A89: כללי סינון
A94: הנהלה, כלליות, מפעלים ובלתי רגילים
B96: הנהלה כללית | D96: 616.59953 | E96: תושבים
B97: מינהל כללי | D97: 212.25722 | E97: תושבים
B98: הנהלה ורשות | D98: 45.492258 | E98: תושבים
B99: מבקר הרשות | D99: 10.895751 | E99: תושבים
B100: מזכירות | D100: 103.85949 | E100: תושבים
B101: הסברה ויחסי ציבור | D101: 17.893022 | E101: תושבים
B102: מנגנון | D102: 0 | E102: תושבים
B103: או״ש והדרכה | D103: 7.0672438 | E103: תושבים
B104: שרות משפטי | D104: 19.552375 | E104: תושבים
B105: תכנון ומחקר | D105: 0 | E105: תושבים
B106: בחירות ברשויות המקומיות | D106: 7.4970761 | E106: תושבים
B107: מינהל כספי | D107: 172.48273 | E107: תושבים
... B113: פירעון מלוות | D113: 213.31681 | E113: תושבים
A114: 4 | B114: מפעלים | D114: -137.87623 | E114: תושבים
A115: 41 | B115: מים | D115: 35.985965 | E115: תושבים
A116: 42 | B116: בתי מטבחיים | D116: 15.993762 | E116: תושבים
A117: 43 | B117: נכסים | D117: -30.078269 | E117: תושבים
A118: 431 | B118: מינהל הנכסים | D118: 5.5278441 | E118: תושבים
A119: 432 | B119: דירות | D119: 1.4994152 | E119: תושבים
A120: 433 | B120: משרדים ועסקים | D120: -22.351283 | E120: תושבים
A121: 434 | B121: מבני מלאכה ותעשיה | D121: -23.990644 | E121: תושבים
A122: 435 | B122: קרקעות | D122: 1.0495907 | E122: תושבים
A123: 436 | B123: אכסניות נוער | D123: 0 | E123: תושבים
A124: 437 | B124: שווקים | D124: 0 | E124: תושבים
A125: 438 | B125: משרדי הרשות | D125: 0 | E125: תושבים
... A141: 599 | B141: הנחות ממיסים לפי חוק או תקנות | D141: 489.80897 | E141: תושבים

Sheet report_רוזטות מבנים (1)
A1: שכבה: רוזטות מבנים | B1: סינון: לפי מפה נוכחית
A2: OBJECTID | B2: אות בית | C2: כניסות | D2: מספר בית | E2: מספר דירות | F2: מספר עסקים | G2: סוג מבנה | H2: קוד רחוב | I2: קומות | J2: שם רחוב | K2: תיאור מבנה | L2: א"ס | P2: שם יישוב | Q2: סמל יישוב | R2: אזור סטטיסטי 2008 | S2: שמות שכונות מרכזיות | T2: שמות רחובות מרכזיים | AA2: אז"ר | AB2: 16 | AC2: =MATCH($AA2,$AE$2:$AE$425,0) -> 16 | AE2: אביבים | AF2: =MATCH($AE2,$AA$2:$AA$126,0) -> #N/A
A3: 3842 | C3: 1 | D3: 18 | E3: 1 | F3: 0 | G3: 0 | H3: 109 | I3: 1 | J3: הל"ה | L3: =VLOOKUP($J3,$AA$3:$AB$127,2,FALSE) -> 45 | P3: כפר סבא | Q3: 6900 | R3: 11 | S3: בית ונוף, קפלן | T3: דניאל | U3: המלכים | V3: הנביאים | W3: ישעיהו | X3: תרי עשר | AA3: אז"ר | AB3: 32 | AC3: =MATCH($AA3,$AE$2:$AE$425,0) -> 16 | AE3: אביגיל | AF3: =MATCH($AE3,$AA$2:$AA$126,0) -> #N/A
A4: 3913 | C4: 1 | D4: 14 | E4: 1 | F4: 0 | G4: 0 | H4: 101 | I4: 1 | J4: אבן גבירול | L4: =VLOOKUP($J4,$AA$3:$AB$127,2,FALSE) -> #N/A | P4: כפר סבא | Q4: 6900 | R4: 12 | S4: גבעת אשכול, הדרים, יוספטל | T4: חטיבת אלכסנדרוני | U4: השקמה | V4: דוד המלך | W4: אשכול לוי | X4: האילנות | AA4: אז"ר | AB4: 54 | AC4: =MATCH($AA4,$AE$2:$AE$425,0) -> 16 | AE4: אבידן דוד | AF4: =MATCH($AE4,$AA$2:$AA$126,0) -> #N/A
A5: 593 | C5: 2 | D5: 3 | E5: 16 | F5: 0 | G5: 0 | H5: 545 | I5: 7 | J5: הרקפת | L5: =VLOOKUP($J5,$AA$3:$AB$127,2,FALSE) -> #N/A | P5: כפר סבא | Q5: 6900 | R5: 13 | S5: נווה הדרים | T5: דרך המוביל | U5: דרך הפועל | V5: עמק דותן | W5: עמק החולה | X5: בקעת בית נטופה | AA5: אז"ר | AB5: 56 | AC5: =MATCH($AA5,$AE$2:$AE$425,0) -> 16 | AE5: אבן גבירול | AF5: =MATCH($AE5,$AA$2:$AA$126,0) -> #N/A
A6: 2253 | C6: 1 | D6: 21 | E6: 8 | F6: 0 | G6: 0 | H6: 503 | I6: 5 | J6: אוסטשינסקי | L6: =VLOOKUP($J6,$AA$3:$AB$127,2,FALSE) -> #N/A | P6: כפר סבא | Q6: 6900 | R6: 14 | S6: אזור המלאכה, אזור תעשייה | T6: דרך הפועל | U6: יוחנן הסנדלר | V6: השקמה | W6: בן יהודה | X6: התע"ש | AA6: אלקלעי | AB6: 45 | AC6: =MATCH($AA6,$AE$2:$AE$425,0) -> 27 | AE6: אבן עזרא | AF6: =MATCH($AE6,$AA$2:$AA$126,0) -> #N/A
A7: 2917 | C7: 1 | D7: 19 | E7: 7 | F7: 0 | G7: 0 | H7: 387 | I7: 3 | J7: הבנים | L7: =VLOOKUP($J7,$AA$3:$AB$127,2,FALSE) -> 43 | P7: כפר סבא | Q7: 6900 | R7: 15 | S7: גני השרון | T7: בן יהודה | U7: דוכיפת | V7: זמיר | W7: עפרוני | X7: פשוש | AA7: ארבל | AB7: 52 | AC7: =MATCH($AA7,$AE$2:$AE$425,0) -> 36 | AE7: אבן שפרוט | AF7: =MATCH($AE7,$AA$2:$AA$126,0) -> #N/A
A8: 4506 | B8: A | C8: 1 | D8: 26 | E8: 1 | F8: 0 | G8: 0 | H8: 112 | I8: 2 | J8: השופטים | L8: =VLOOKUP($J8,$AA$3:$AB$127,2,FALSE) -> #N/A | P8: כפר סבא | Q8: 6900 | R8: 16 | S8: גני השרון, כפר סבא הצעירה, קפלן | T8: החי"ש | U8: בר אילן | V8: בן יהודה | W8: אז"ר | X8: תל חי | AA8: ארלוזורוב | AB8: 37 | AC8: =MATCH($AA8,$AE$2:$AE$425,0) -> 39 | AE8: אברבנאל | AF8: =MATCH($AE8,$AA$2:$AA$126,0) -> #N/A
A9: 5834 | C9: 2 | D9: 2 | E9: 2 | F9: 0 | G9: 0 | H9: 221 | I9: 2 | J9: מיכל | L9: =VLOOKUP($J9,$AA$3:$AB$127,2,FALSE) -> #N/A | P9: כפר סבא | Q9: 6900 | R9: 21 | S9: אזור מלאכה, שיכון עלייה | T9: בורוכוב | U9: טשרניחובסקי | V9: קפלנסקי | W9: רמז דוד | X9: שד' בגין מנחם | AA9: ארלוזורוב | AB9: 41 | AC9: =MATCH($AA9,$AE$2:$AE$425,0) -> 39 | AE9: אברוצקי | AF9: =MATCH($AE9,$AA$2:$AA$126,0) -> #N/A
A10: 261 | C10: 2 | D10: 19 | E10: 2 | F10: 0 | G10: 0 | H10: 448 | I10: 1 | J10: שיפר | L10: =VLOOKUP($J10,$AA$3:$AB$127,2,FALSE) -> #N/A | P10: כפר סבא | Q10: 6900 | R10: 22 | S10: בי"ח מאיר, סביוני הכפר, שיכון ותיקים | T10: סירני | U10: שיבת ציון | V10: סנה משה | W10: טשרניחובסקי | X10: רייק חביבה | AA10: אשכול לוי | AB10: 12 | AC10: =MATCH($AA10,$AE$2:$AE$425,0) -> 41 | AE10: אגרון | AF10: =MATCH($AE10,$AA$2:$AA$126,0) -> 101
A11: 1589 | C11: 1 | D11: 7 | E11: 2 | F11: 0 | G11: 0 | H11: 403 | I11: 1 | J11: בלבן | L11: =VLOOKUP($J11,$AA$3:$AB$127,2,FALSE) -> #N/A | P11: כפר סבא | Q11: 6900 | R11: 31 | S11: מעוז | T11: לובטקין צביה | U11: חצרות הדר | V11: המעפילים | W11: טשרניחובסקי | X11: כצנלסון ברל | AA11: ביאליק | AB11: 42 | AC11: =MATCH($AA11,$AE$2:$AE$425,0) -> 45 | AE11: אדם יקותיאל | AF11: =MATCH($AE11,$AA$2:$AA$126,0) -> #N/A
A12: 3510 | C12: 3 | D12: 5 | E12: 4 | F12: 0 | G12: 0 | H12: 375 | I12: 2 | J12: הרב אסף שמחה | L12: =VLOOKUP($J12,$AA$3:$AB$127,2,FALSE) -> #N/A | P12: כפר סבא | Q12: 6900 | R12: 32 | S12: אליעזר | T12: כצנלסון ברל | U12: טשרניחובסקי | V12: אז"ר | W12: ז'בוטינסקי | X12: בן יהודה | AA12: בן גוריון | AB12: 37 | AC12: =MATCH($AA12,$AE$2:$AE$425,0) -> 53 | AE12: אהבה | AF12: =MATCH($AE12,$AA$2:$AA$126,0) -> #N/A
A13: 4838 | C13: 2 | D13: 16 | E13: 2 | F13: 0 | G13: 0 | H13: 411 | I13: 2 | J13: הגנה | L13: =VLOOKUP($J13,$AA$3:$AB$127,2,FALSE) -> #N/A | P13: כפר סבא | Q13: 6900 | R13: 33 | S13: קרית ספיר | T13: כצנלסון ברל | U13: גולומב | V13: המעפילים | W13: ויצמן | X13: טשרניחובסקי | AA13: בן גוריון | AB13: 41 | AC13: =MATCH($AA13,$AE$2:$AE$425,0) -> 53 | AE13: אהרונוביץ | AF13: =MATCH($AE13,$AA$2:$AA$126,0) -> #N/A
A14: 925 | C14: 2 | D14: 12 | E14: 2 | F14: 0 | G14: 0 | H14: 430 | I14: 1 | J14: סירקין | L14: =VLOOKUP($J14,$AA$3:$AB$127,2,FALSE) -> #N/A | P14: כפר סבא | Q14: 6900 | R14: 34 | S14: דגניה | T14: ששת הימים | U14: יסמין | V14: טשרניחובסקי | W14: דרך השרון | X14: הכלנית | AA14: בן גוריון | AB14: 42 | AC14: =MATCH($AA14,$AE$2:$AE$425,0) -> 53 | AE14: אוסטרובסקי | AF14: =MATCH($AE14,$AA$2:$AA$126,0) -> #N/A
A15: 1921 | C15: 2 | D15: 31 | E15: 2 | F15: 0 | G15: 0 | H15: 339 | I15: 2 | J15: כהן | L15: =VLOOKUP($J15,$AA$3:$AB$127,2,FALSE) -> #N/A | P15: כפר סבא | Q15: 6900 | R15: 35 | S15: אין שם שכונה באזור סטטיסטי זה | T15: אגרון | U15: ששת הימים | V15: ויצמן | W15: גורדון | X15: מעלה האורנים | AA15: בן יהודה | AB15: 16 | AC15: =MATCH($AA15,$AE$2:$AE$425,0) -> 54 | AE15: אוסטשינסקי | AF15: =MATCH($AE15,$AA$2:$AA$126,0) -> #N/A
A16: 2585 | C16: 1 | D16: 8 | E16: 1 | F16: 0 | G16: 0 | H16: 349 | I16: 1 | J16: הרב עמיאל | L16: =VLOOKUP($J16,$AA$3:$AB$127,2,FALSE) -> #N/A | AA16: בן יהודה | AB16: 32 | AC16: =MATCH($AA16,$AE$2:$AE$425,0) -> 54 | AE16: אורט | AF16: =MATCH($AE16,$AA$2:$AA$126,0) -> #N/A
A17: 4174 | C17: 2 | D17: 13 | E17: 2 | F17: 0 | G17: 0 | H17: 291 | I17: 2 | J17: חגי | L17: =VLOOKUP($J17,$AA$3:$AB$127,2,FALSE) -> #N/A | AA17: בקעת בית נטופה | AB17: 13 | AC17: =MATCH($AA17,$AE$2:$AE$425,0) -> 57 | AE17: אז"ר | AF17: =MATCH($AE17,$AA$2:$AA$126,0) -> 1
A18: 1257 | C18: 1 | D18: 20 | E18: 7 | F18: 0 | G18: 0 | H18: 501 | I18: 5 | J18: אגרון | L18: =VLOOKUP($J18,$AA$3:$AB$127,2,FALSE) -> 35 | AA18: בר אילן | AB18: 16 | AC18: =MATCH($AA18,$AE$2:$AE$425,0) -> 63 | AE18: אח"י אילת | AF18: =MATCH($AE18,$AA$2:$AA$126,0) -> #N/A
A19: 3581 | C19: 1 | D19: 7 | E19: 1 | F19: 0 | G19: 0 | H19: 157 | I19: 2 | J19: ערבה | L19: =VLOOKUP($J19,$AA$3:$AB$127,2,FALSE) -> #N/A | AA19: בר אילן | AB19: 53 | AC19: =MATCH($AA19,$AE$2:$AE$425,0) -> 63 | AE19: אח"י דקר | AF19: =MATCH($AE19,$AA$2:$AA$126,0) -> #N/A
A20: 3249 | C20: 1 | D20: 6 | E20: 32 | F20: 0 | G20: 0 | H20: 396 | I20: 9 | J20: המפלס | L20: =VLOOKUP($J20,$AA$3:$AB$127,2,FALSE) -> #N/A | AA20: גבורות | AB20: 44 | AC20: =MATCH($AA20,$AE$2:$AE$425,0) -> 73 | AE20: אחד העם | AF20: =MATCH($AE20,$AA$2:$AA$126,0) -> #N/A
A21: 5502 | C21: 2 | D21: 3 | E21: 2 | F21: 0 | G21: 0 | H21: 389 | I21: 2 | J21: העצמאות | L21: =VLOOKUP($J21,$AA$3:$AB$127,2,FALSE) -> #N/A | AA21: גולומב | AB21: 33 | AC21: =MATCH($AA21,$AE$2:$AE$425,0) -> 82 | AE21: איינשטיין | AF21: =MATCH($AE21,$AA$2:$AA$126,0) -> 102
A22: 6166 | C22: 2 | D22: 4 | E22: 24 | F22: 0 | G22: 0 | H22: 241 | I22: 6 | J22: בקעת הירח | L22: =VLOOKUP($J22,$AA$3:$AB$127,2,FALSE) -> #N/A | AA22: גורדון | AB22: 35 | AC22: =MATCH($AA22,$AE$2:$AE$425,0) -> 83 | AE22: אימבר | AF22: =MATCH($AE22,$AA$2:$AA$126,0) -> #N/A
A23: 3178 | C23: 1 | D23: 10 | E23: 4 | F23: 0 | G23: 0 | H23: 335 | I23: 2 | J23: יבנה | L23: =VLOOKUP($J23,$AA$3:$AB$127,2,FALSE) -> #N/A | AA23: דוד המלך | AB23: 12 | AC23: =MATCH($AA23,$AE$2:$AE$425,0) -> 91 | AE23: אירוס | AF23: =MATCH($AE23,$AA$2:$AA$126,0) -> #N/A
A24: 3865 | C24: 1 | D24: 3 | E24: 1 | F24: 0 | G24: 0 | H24: 103 | I24: 2 | J24: אבן שפרוט | L24: =VLOOKUP($J24,$AA$3:$AB$127,2,FALSE) -> #N/A | AA24: דוכיפת | AB24: 15 | AC24: =MATCH($AA24,$AE$2:$AE$425,0) -> #N/A | AE24: אלחריזי | AF24: =MATCH($AE24,$AA$2:$AA$126,0) -> #N/A
A25: 2230 | C25: 1 | D25: 15 | E25: 7 | F25: 0 | G25: 0 | H25: 502 | I25: 5 | J25: אהרונוביץ | L25: =VLOOKUP($J25,$AA$3:$AB$127,2,FALSE) -> #N/A | AA25: דקל | AB25: 51 | AC25: =MATCH($AA25,$AE$2:$AE$425,0) -> 98 | AE25: אליהו התשבי | AF25: =MATCH($AE25,$AA$2:$AA$126,0) -> #N/A
A26: 570 | C26: 1 | D26: 14 | E26: 15 | F26: 0 | G26: 0 | H26: 544 | I26: 7 | J26: חבצלת השרון | L26: =VLOOKUP($J26,$AA$3:$AB$127,2,FALSE) -> #N/A | AA26: דרך הפועל | AB26: 13 | AC26: =MATCH($AA26,$AE$2:$AE$425,0) -> #N/A | AE26: אלישבע | AF26: =MATCH($AE26,$AA$2:$AA$126,0) -> #N/A
A27: 4861 | C27: 1 | D27: 15 | E27: 4 | F27: 0 | G27: 0 | H27: 801 | I27: 3 | J27: גיל | L27: =VLOOKUP($J27,$AA$3:$AB$127,2,FALSE) -> #N/A | AA27: השרון | AB27: 34 | AC27: =MATCH($AA27,$AE$2:$AE$425,0) -> 203 | AE27: אלישע | AF27: =MATCH($AE27,$AA$2:$AA$126,0) -> #N/A
... A30: 5857 | C30: 2 | D30: 10 | E30: 2 | F30: 0 | G30: 0 | H30: 124 | I30: 2 | J30: אליהו התשבי | L30: =VLOOKUP($J30,$AA$3:$AB$127,2,FALSE) -> #N/A | AA30: האתרוג | AB30: 51 | AC30: =MATCH($AA30,$AE$2:$AE$425,0) -> 107 | AE30: אמנון ותמר | AF30: =MATCH($AE30,$AA$2:$AA$126,0) -> #N/A
A31: 6404 | B31: א | C31: 1 | D31: 3 | E31: 1 | F31: 0 | G31: 0 | H31: 448 | I31: 1 | J31: שיפר | L31: =VLOOKUP($J31,$AA$3:$AB$127,2,FALSE) -> #N/A | AA31: הבנים | AB31: 43 | AC31: =MATCH($AA31,$AE$2:$AE$425,0) -> 108 | AE31: אנגל | AF31: =MATCH($AE31,$AA$2:$AA$126,0) -> #N/A
A32: 238 | C32: 1 | D32: 1 | E32: 1 | F32: 0 | G32: 0 | H32: 447 | I32: 1 | J32: שילר | L32: =VLOOKUP($J32,$AA$3:$AB$127,2,FALSE) -> #N/A | AA32: הגליל | AB32: 51 | AC32: =MATCH($AA32,$AE$2:$AE$425,0) -> 111 | AE32: אנה פרנק | AF32: =MATCH($AE32,$AA$2:$AA$126,0) -> #N/A
A33: 6189 | C33: 2 | D33: 6 | E33: 2 | F33: 0 | G33: 0 | H33: 247 | I33: 2 | J33: בקעת זוהר | L33: =VLOOKUP($J33,$AA$3:$AB$127,2,FALSE) -> #N/A | AA33: הגליל | AB33: 55 | AC33: =MATCH($AA33,$AE$2:$AE$425,0) -> 111 | AE33: אנוש | AF33: =MATCH($AE33,$AA$2:$AA$126,0) -> #N/A
A34: 355 | C34: 1 | D34: 19 | E34: 1 | F34: 0 | G34: 0 | H34: 436 | I34: 2 | J34: קיבוץ גלויות | L34: =VLOOKUP($J34,$AA$3:$AB$127,2,FALSE) -> #N/A | AA34: הכלנית | AB34: 34 | AC34: =MATCH($AA34,$AE$2:$AE$425,0) -> 134 | AE34: אנילביץ | AF34: =MATCH($AE34,$AA$2:$AA$126,0) -> #N/A
A35: 902 | C35: 1 | D35: 9 | E35: 10 | F35: 0 | G35: 0 | H35: 475 | I35: 5 | J35: מענית | L35: =VLOOKUP($J35,$AA$3:$AB$127,2,FALSE) -> #N/A | AA35: הכרמל | AB35: 52 | AC35: =MATCH($AA35,$AE$2:$AE$425,0) -> 137 | AE35: אנצו סירני | AF35: =MATCH($AE35,$AA$2:$AA$126,0) -> #N/A
A36: 4197 | C36: 1 | D36: 4 | E36: 1 | F36: 0 | G36: 0 | H36: 107 | I36: 1 | J36: דניאל | L36: =VLOOKUP($J36,$AA$3:$AB$127,2,FALSE) -> 11 | AA36: הכרמל | AB36: 55 | AC36: =MATCH($AA36,$AE$2:$AE$425,0) -> 137 | AE36: אצ"ג | AF36: =MATCH($AE36,$AA$2:$AA$126,0) -> #N/A
A37: 4529 | C37: 3 | D37: 2 | E37: 12 | F37: 3 | G37: 0 | H37: 137 | I37: 4 | J37: מצדה | L37: =VLOOKUP($J37,$AA$3:$AB$127,2,FALSE) -> #N/A | AA37: המחתרות | AB37: 54 | AC37: =MATCH($AA37,$AE$2:$AE$425,0) -> 143 | AE37: ארבל | AF37: =MATCH($AE37,$AA$2:$AA$126,0) -> 6
A38: 687 | C38: 1 | D38: 8 | E38: 1 | F38: 0 | G38: 0 | H38: 402 | I38: 1 | J38: בורוכוב | L38: =VLOOKUP($J38,$AA$3:$AB$127,2,FALSE) -> 21 | AA38: המיסדים | AB38: 51 | AC38: =MATCH($AA38,$AE$2:$AE$425,0) -> 144 | AE38: ארגוב סשה | AF38: =MATCH($AE38,$AA$2:$AA$126,0) -> #N/A
A39: 1234 | C39: 1 | D39: 26 | E39: 8 | F39: 0 | G39: 0 | H39: 318 | I39: 5 | J39: הוז דב | L39: =VLOOKUP($J39,$AA$3:$AB$127,2,FALSE) -> #N/A | AA39: המיסדים | AB39: 52 | AC39: =MATCH($AA39,$AE$2:$AE$425,0) -> 144 | AE39: ארזים | AF39: =MATCH($AE39,$AA$2:$AA$126,0) -> #N/A
A40: 3226 | B40: A | C40: 1 | D40: 16 | E40: 1 | F40: 0 | G40: 0 | H40: 350 | I40: 1 | J40: עציון | L40: =VLOOKUP($J40,$AA$3:$AB$127,2,FALSE) -> #N/A | AA40: המלכים | AB40: 11 | AC40: =MATCH($AA40,$AE$2:$AE$425,0) -> 146 | AE40: ארלוזורוב | AF40: =MATCH($AE40,$AA$2:$AA$126,0) -> 7
A41: 23 | B41: A | C41: 1 | D41: 26 | E41: 1 | F41: 0 | G41: 0 | H41: 446 | I41: 2 | J41: שיבת ציון | L41: =VLOOKUP($J41,$AA$3:$AB$127,2,FALSE) -> 22 | AA41: המעפילים | AB41: 31 | AC41: =MATCH($AA41,$AE$2:$AE$425,0) -> 148 | AE41: אש שלום | AF41: =MATCH($AE41,$AA$2:$AA$126,0) -> #N/A
A42: 1898 | C42: 2 | D42: 22 | E42: 2 | F42: 0 | G42: 0 | H42: 702 | I42: 2 | J42: לובטקין צביה | L42: =VLOOKUP($J42,$AA$3:$AB$127,2,FALSE) -> 31 | AA42: המעפילים | AB42: 33 | AC42: =MATCH($AA42,$AE$2:$AE$425,0) -> 148 | AE42: אשכול לוי | AF42: =MATCH($AE42,$AA$2:$AA$126,0) -> 9
A43: 2562 | C43: 1 | D43: 2 | E43: 1 | F43: 0 | G43: 0 | H43: 605 | I43: 2 | J43: תאשור | L43: =VLOOKUP($J43,$AA$3:$AB$127,2,FALSE) -> #N/A | AA43: הנביאים | AB43: 11 | AC43: =MATCH($AA43,$AE$2:$AE$425,0) -> 151 | AE43: בוסל | AF43: =MATCH($AE43,$AA$2:$AA$126,0) -> #N/A
A44: 1374 | C44: 1 | D44: 9 | E44: 12 | F44: 0 | G44: 0 | H44: 502 | I44: 5 | J44: אהרונוביץ | L44: =VLOOKUP($J44,$AA$3:$AB$127,2,FALSE) -> #N/A | AA44: הר מירון | AB44: 56 | AC44: =MATCH($AA44,$AE$2:$AE$425,0) -> 178 | AE44: בורוכוב | AF44: =MATCH($AE44,$AA$2:$AA$126,0) -> 103
A45: 2207 | C45: 1 | D45: 48 | E45: 12 | F45: 0 | G45: 0 | H45: 507 | I45: 4 | J45: ארלוזורוב | L45: =VLOOKUP($J45,$AA$3:$AB$127,2,FALSE) -> 37 | AA45: הר תבור | AB45: 56 | AC45: =MATCH($AA45,$AE$2:$AE$425,0) -> 185 | AE45: בז | AF45: =MATCH($AE45,$AA$2:$AA$126,0) -> #N/A
A46: 3464 | C46: 1 | D46: 10 | E46: 2 | F46: 0 | G46: 0 | H46: 535 | I46: 1 | J46: רופין | L46: =VLOOKUP($J46,$AA$3:$AB$127,2,FALSE) -> 45 | AA46: הראשונים | AB46: 45 | AC46: =MATCH($AA46,$AE$2:$AE$425,0) -> 186 | AE46: ביאליק | AF46: =MATCH($AE46,$AA$2:$AA$126,0) -> 10
A47: 2136 | C47: 2 | D47: 10 | E47: 2 | F47: 0 | G47: 0 | H47: 506 | I47: 1 | J47: אנה פרנק | L47: =VLOOKUP($J47,$AA$3:$AB$127,2,FALSE) -> #N/A | AA47: הרצל | AB47: 43 | AC47: =MATCH($AA47,$AE$2:$AE$425,0) -> 193 | AE47: ביל"ו | AF47: =MATCH($AE47,$AA$2:$AA$126,0) -> #N/A
A48: 3796 | C48: 5 | D48: 10 | E48: 0 | F48: 17 | G48: 0 | H48: 205 | I48: 2 | J48: התע"ש | L48: =VLOOKUP($J48,$AA$3:$AB$127,2,FALSE) -> #N/A | AA48: השחר | AB48: 53 | AC48: =MATCH($AA48,$AE$2:$AE$425,0) -> 198 | AE48: בילינסון | AF48: =MATCH($AE48,$AA$2:$AA$126,0) -> #N/A
A49: 1472 | C49: 1 | D49: 3 | E49: 1 | F49: 0 | G49: 0 | H49: 364 | I49: 1 | J49: שלום עליכם | L49: =VLOOKUP($J49,$AA$3:$AB$127,2,FALSE) -> #N/A | P49: כפר סבא | Q49: 6900 | R49: 36 | S49: אין שם שכונה באזור סטטיסטי זה | T49: החרמון | U49: התחיה | V49: ויצמן | W49: סוקולוב | X49: מפאי | AA49: השקמה | AB49: 12 | AC49: =MATCH($AA49,$AE$2:$AE$425,0) -> 202 | AE49: בית הבד | AF49: =MATCH($AE49,$AA$2:$AA$126,0) -> #N/A
A50: 4128 | C50: 2 | D50: 11 | E50: 2 | F50: 0 | G50: 0 | H50: 118 | I50: 1 | J50: ישעיהו | L50: =VLOOKUP($J50,$AA$3:$AB$127,2,FALSE) -> 11 | P50: כפר סבא | Q50: 6900 | R50: 37 | S50: אין שם שכונה באזור סטטיסטי זה | T50: איינשטיין | U50: ארלוזורוב | V50: בן גוריון | W50: סוקולוב | X50: טרומן | AA50: התותחנים | AB50: 56 | AC50: =MATCH($AA50,$AE$2:$AE$425,0) -> 205 | AE50: בלבן | AF50: =MATCH($AE50,$AA$2:$AA$126,0) -> #N/A
A51: 1543 | C51: 1 | D51: 2 | E51: 1 | F51: 0 | G51: 0 | H51: 421 | I51: 1 | J51: כנפי נשרים | L51: =VLOOKUP($J51,$AA$3:$AB$127,2,FALSE) -> #N/A | P51: כפר סבא | Q51: 6900 | R51: 41 | S51: אין שם שכונה באזור סטטיסטי זה | T51: נחשון | U51: טרומפלדור | V51: בן גוריון | W51: ארלוזורוב | X51: ויצמן | AA51: התחיה | AB51: 36 | AC51: =MATCH($AA51,$AE$2:$AE$425,0) -> 206 | AE51: בלום ליאון | AF51: =MATCH($AE51,$AA$2:$AA$126,0) -> #N/A
A52: 215 | C52: 1 | D52: 10 | E52: 2 | F52: 0 | G52: 0 | H52: 409 | I52: 1 | J52: גולדשטין | L52: =VLOOKUP($J52,$AA$3:$AB$127,2,FALSE) -> #N/A | P52: כפר סבא | Q52: 6900 | R52: 42 | S52: אין שם שכונה באזור סטטיסטי זה | T52: הרצל | U52: עמרמי | V52: ביאליק | W52: שרת משה | X52: בן גוריון | AA52: ויצמן | AB52: 33 | AC52: =MATCH($AA52,$AE$2:$AE$425,0) -> 215 | AE52: בלפור | AF52: =MATCH($AE52,$AA$2:$AA$126,0) -> #N/A
A53: 2468 | C53: 1 | D53: 10 | E53: 1 | F53: 0 | G53: 0 | H53: 329 | I53: 2 | J53: התנאים | L53: =VLOOKUP($J53,$AA$3:$AB$127,2,FALSE) -> #N/A | P53: כפר סבא | Q53: 6900 | R53: 43 | S53: אין שם שכונה באזור סטטיסטי זה | T53: בן גוריון | U53: תל חי | V53: קרן אברהם | W53: הרצל | X53: הבנים | AA53: ויצמן | AB53: 35 | AC53: =MATCH($AA53,$AE$2:$AE$425,0) -> 215 | AE53: בן אב"י איתמר | AF53: =MATCH($AE53,$AA$2:$AA$126,0) -> #N/A
A54: 3132 | C54: 1 | D54: 67 | E54: 6 | F54: 0 | G54: 0 | H54: 302 | I54: 5 | J54: אז"ר | L54: =VLOOKUP($J54,$AA$3:$AB$127,2,FALSE) -> 32 | P54: כפר סבא | Q54: 6900 | R54: 44 | S54: תקומה | T54: רופין | U54: שועלי שמשון | V54: ויצמן | W54: נורדאו | X54: גבורות | AA54: ויצמן | AB54: 36 | AC54: =MATCH($AA54,$AE$2:$AE$425,0) -> 215 | AE54: בן גוריון | AF54: =MATCH($AE54,$AA$2:$AA$126,0) -> 11
A55: 4792 | C55: 1 | D55: 1 | E55: 12 | F55: 0 | G55: 0 | H55: 660 | I55: 7 | J55: וילנסקי משה | L55: =VLOOKUP($J55,$AA$3:$AB$127,2,FALSE) -> #N/A | P55: כפר סבא | Q55: 6900 | R55: 45 | S55: גאולים | T55: הל"ה | U55: רופין | V55: אלקלעי | W55: הראשונים | X55: נורדאו | AA55: ויצמן | AB55: 41 | AC55: =MATCH($AA55,$AE$2:$AE$425,0) -> 215 | AE55: בן יהודה | AF55: =MATCH($AE55,$AA$2:$AA$126,0) -> 14
A56: 879 | C56: 1 | D56: 3 | E56: 1 | F56: 0 | G56: 0 | H56: 465 | I56: 2 | J56: רזיאל דוד | L56: =VLOOKUP($J56,$AA$3:$AB$127,2,FALSE) -> #N/A | P56: כפר סבא | Q56: 6900 | R56: 51 | S56: תחנה מרכזית | T56: תל חי | U56: הגליל | V56: דקל | W56: האתרוג | X56: המיסדים | AA56: ויצמן | AB56: 44 | AC56: =MATCH($AA56,$AE$2:$AE$425,0) -> 215 | AE56: בני ברית | AF56: =MATCH($AE56,$AA$2:$AA$126,0) -> #N/A
A57: 5788 | C57: 2 | D57: 7 | E57: 35 | F57: 0 | G57: 0 | H57: 485 | I57: 8 | J57: זמיר | L57: =VLOOKUP($J57,$AA$3:$AB$127,2,FALSE) -> 15 | P57: כפר סבא | Q57: 6900 | R57: 52 | S57: אין שם שכונה באזור סטטיסטי זה | T57: רוטשילד | U57: האלה | V57: ארבל | W57: הכרמל | X57: המיסדים | AA57: ז'בוטינסקי | AB57: 32 | AC57: =MATCH($AA57,$AE$2:$AE$425,0) -> 217 | AE57: בקעת באר שבע | AF57: =MATCH($AE57,$AA$2:$AA$126,0) -> #N/A
A58: 710 | C58: 1 | D58: 10 | E58: 1 | F58: 0 | G58: 0 | H58: 422 | I58: 1 | J58: לופבן | L58: =VLOOKUP($J58,$AA$3:$AB$127,2,FALSE) -> #N/A | AA58: ז'בוטינסקי | AB58: 53 | AC58: =MATCH($AA58,$AE$2:$AE$425,0) -> 217 | AE58: בקעת בית נטופה | AF58: =MATCH($AE58,$AA$2:$AA$126,0) -> 16
A59: 46 | B59: A | C59: 1 | D59: 26 | E59: 1 | F59: 0 | G59: 0 | H59: 440 | I59: 1 | J59: רייק חביבה | L59: =VLOOKUP($J59,$AA$3:$AB$127,2,FALSE) -> 22 | AA59: זמיר | AB59: 15 | AC59: =MATCH($AA59,$AE$2:$AE$425,0) -> 223 | AE59: בקעת הירח | AF59: =MATCH($AE59,$AA$2:$AA$126,0) -> #N/A
A60: 1042 | C60: 1 | D60: 3 | E60: 0 | F60: 1 | G60: 0 | H60: 352 | I60: 1 | J60: פיארברג | L60: =VLOOKUP($J60,$AA$3:$AB$127,2,FALSE) -> #N/A | AA60: חצרות הדר | AB60: 31 | AC60: =MATCH($AA60,$AE$2:$AE$425,0) -> 242 | AE60: בקעת זוהר | AF60: =MATCH($AE60,$AA$2:$AA$126,0) -> #N/A
A61: 1875 | C61: 2 | D61: 6 | E61: 2 | F61: 0 | G61: 0 | H61: 293 | I61: 2 | J61: שיזף | L61: =VLOOKUP($J61,$AA$3:$AB$127,2,FALSE) -> #N/A | AA61: טירת צבי | AB61: 54 | AC61: =MATCH($AA61,$AE$2:$AE$425,0) -> 245 | AE61: בקעת יריחו | AF61: =MATCH($AE61,$AA$2:$AA$126,0) -> #N/A
A62: 2539 | C62: 1 | D62: 23 | E62: 1 | F62: 0 | G62: 0 | H62: 354 | I62: 2 | J62: פנקס | L62: =VLOOKUP($J62,$AA$3:$AB$127,2,FALSE) -> #N/A | AA62: טרומן | AB62: 37 | AC62: =MATCH($AA62,$AE$2:$AE$425,0) -> 246 | AE62: בקעת סיירים | AF62: =MATCH($AE62,$AA$2:$AA$126,0) -> #N/A
A63: 4460 | C63: 2 | D63: 21 | E63: 2 | F63: 0 | G63: 0 | H63: 151 | I63: 1 | J63: האילנות | L63: =VLOOKUP($J63,$AA$3:$AB$127,2,FALSE) -> 12 | AA63: טרומפלדור | AB63: 41 | AC63: =MATCH($AA63,$AE$2:$AE$425,0) -> 247 | AE63: בקעת רמון | AF63: =MATCH($AE63,$AA$2:$AA$126,0) -> #N/A
A64: 1804 | C64: 1 | D64: 24 | E64: 1 | F64: 0 | G64: 0 | H64: 302 | I64: 1 | J64: אז"ר | L64: =VLOOKUP($J64,$AA$3:$AB$127,2,FALSE) -> 32 | AA64: טשרניחובסקי | AB64: 21 | AC64: =MATCH($AA64,$AE$2:$AE$425,0) -> 248 | AE64: בר אילן | AF64: =MATCH($AE64,$AA$2:$AA$126,0) -> 17
A65: 547 | C65: 1 | D65: 15 | E65: 1 | F65: 0 | G65: 0 | H65: 529 | I65: 1 | J65: גלר זאב | L65: =VLOOKUP($J65,$AA$3:$AB$127,2,FALSE) -> #N/A | AA65: טשרניחובסקי | AB65: 22 | AC65: =MATCH($AA65,$AE$2:$AE$425,0) -> 248 | AE65: ברדיצ'ב אבא | AF65: =MATCH($AE65,$AA$2:$AA$126,0) -> #N/A
A66: 2800 | B66: A | C66: 1 | D66: 64 | E66: 22 | F66: 0 | G66: 0 | H66: 520 | I66: 7 | J66: הרצל | L66: =VLOOKUP($J66,$AA$3:$AB$127,2,FALSE) -> 43 | AA66: טשרניחובסקי | AB66: 31 | AC66: =MATCH($AA66,$AE$2:$AE$425,0) -> 248 | AE66: ברוש | AF66: =MATCH($AE66,$AA$2:$AA$126,0) -> #N/A
A67: 5456 | C67: 2 | D67: 4 | E67: 2 | F67: 0 | G67: 0 | H67: 582 | I67: 2 | J67: הלימון | L67: =VLOOKUP($J67,$AA$3:$AB$127,2,FALSE) -> #N/A | AA67: טשרניחובסקי | AB67: 32 | AC67: =MATCH($AA67,$AE$2:$AE$425,0) -> 248 | AE67: ברנר | AF67: =MATCH($AE67,$AA$2:$AA$126,0) -> #N/A
A68: 378 | C68: 2 | D68: 5 | E68: 2 | F68: 0 | G68: 0 | H68: 523 | I68: 1 | J68: ויצמן | L68: =VLOOKUP($J68,$AA$3:$AB$127,2,FALSE) -> 33 | AA68: טשרניחובסקי | AB68: 33 | AC68: =MATCH($AA68,$AE$2:$AE$425,0) -> 248 | AE68: ברק | AF68: =MATCH($AE68,$AA$2:$AA$126,0) -> #N/A
A69: 1211 | C69: 1 | D69: 10 | E69: 1 | F69: 0 | G69: 0 | H69: 313 | I69: 2 | J69: גולומב | L69: =VLOOKUP($J69,$AA$3:$AB$127,2,FALSE) -> 33 | AA69: טשרניחובסקי | AB69: 34 | AC69: =MATCH($AA69,$AE$2:$AE$425,0) -> 248 | AE69: ברקן | AF69: =MATCH($AE69,$AA$2:$AA$126,0) -> #N/A
A70: 6120 | C70: 2 | D70: 8 | E70: 15 | F70: 0 | G70: 0 | H70: 234 | I70: 6 | J70: עמק איילון | L70: =VLOOKUP($J70,$AA$3:$AB$127,2,FALSE) -> #N/A | AA70: יסמין | AB70: 34 | AC70: =MATCH($AA70,$AE$2:$AE$425,0) -> #N/A | AE70: בת יפתח | AF70: =MATCH($AE70,$AA$2:$AA$126,0) -> #N/A
A71: 1397 | C71: 1 | D71: 4 | E71: 1 | F71: 0 | G71: 0 | H71: 537 | I71: 1 | J71: שמעוני | L71: =VLOOKUP($J71,$AA$3:$AB$127,2,FALSE) -> #N/A | AA71: ישעיהו | AB71: 11 | AC71: =MATCH($AA71,$AE$2:$AE$425,0) -> 268 | AE71: בת שבע | AF71: =MATCH($AE71,$AA$2:$AA$126,0) -> #N/A
A72: 2159 | C72: 1 | D72: 23 | E72: 0 | F72: 1 | G72: 0 | H72: 522 | I72: 1 | J72: בן גוריון | L72: =VLOOKUP($J72,$AA$3:$AB$127,2,FALSE) -> 37 | AA72: כצנלסון ברל | AB72: 31 | AC72: =MATCH($AA72,$AE$2:$AE$425,0) -> 274 | AE72: גאולה | AF72: =MATCH($AE72,$AA$2:$AA$126,0) -> #N/A
A73: 3487 | C73: 1 | D73: 10 | E73: 6 | F73: 0 | G73: 0 | H73: 566 | I73: 3 | J73: התפוז | L73: =VLOOKUP($J73,$AA$3:$AB$127,2,FALSE) -> #N/A | AA73: מעלה האורנים | AB73: 35 | AC73: =MATCH($AA73,$AE$2:$AE$425,0) -> #N/A | AE73: גאולים-שדרות | AF73: =MATCH($AE73,$AA$2:$AA$126,0) -> #N/A
A74: 2061 | C74: 2 | D74: 89 | E74: 2 | F74: 3 | G74: 0 | H74: 523 | I74: 3 | J74: ויצמן | L74: =VLOOKUP($J74,$AA$3:$AB$127,2,FALSE) -> 33 | AA74: מפאי | AB74: 36 | AC74: =MATCH($AA74,$AE$2:$AE$425,0) -> #N/A | AE74: גבורות | AF74: =MATCH($AE74,$AA$2:$AA$126,0) -> 19
A75: 2823 | C75: 1 | D75: 7 | E75: 9 | F75: 0 | G75: 0 | H75: 591 | I75: 6 | J75: האלה | L75: =VLOOKUP($J75,$AA$3:$AB$127,2,FALSE) -> 52 | AA75: נורדאו | AB75: 44 | AC75: =MATCH($AA75,$AE$2:$AE$425,0) -> 301 | AE75: גבורי ישראל | AF75: =MATCH($AE75,$AA$2:$AA$126,0) -> #N/A
A76: 524 | C76: 1 | D76: 1 | E76: 1 | F76: 0 | G76: 0 | H76: 417 | I76: 1 | J76: הפורצים | L76: =VLOOKUP($J76,$AA$3:$AB$127,2,FALSE) -> #N/A | AA76: נורדאו | AB76: 45 | AC76: =MATCH($AA76,$AE$2:$AE$425,0) -> 301 | AE76: גבעתי | AF76: =MATCH($AE76,$AA$2:$AA$126,0) -> #N/A
A77: 3819 | C77: 1 | D77: 9 | E77: 1 | F77: 0 | G77: 0 | H77: 125 | I77: 1 | J77: שד"ל | L77: =VLOOKUP($J77,$AA$3:$AB$127,2,FALSE) -> #N/A | AA77: סוקולוב | AB77: 36 | AC77: =MATCH($AA77,$AE$2:$AE$425,0) -> 319 | AE77: גד הנביא | AF77: =MATCH($AE77,$AA$2:$AA$126,0) -> #N/A
A78: 4483 | C78: 2 | D78: 6 | E78: 2 | F78: 0 | G78: 0 | H78: 127 | I78: 1 | J78: תרי עשר | L78: =VLOOKUP($J78,$AA$3:$AB$127,2,FALSE) -> 11 | AA78: סוקולוב | AB78: 37 | AC78: =MATCH($AA78,$AE$2:$AE$425,0) -> 319 | AE78: גדעון | AF78: =MATCH($AE78,$AA$2:$AA$126,0) -> #N/A
... A82: 4151 | C82: 1 | D82: 26 | E82: 2 | F82: 0 | G82: 0 | H82: 118 | I82: 1 | J82: ישעיהו | L82: =VLOOKUP($J82,$AA$3:$AB$127,2,FALSE) -> 11 | AA82: עמרמי | AB82: 42 | AC82: =MATCH($AA82,$AE$2:$AE$425,0) -> 343 | AE82: גולדשטין | AF82: =MATCH($AE82,$AA$2:$AA$126,0) -> #N/A
A83: 6475 | B83: א | C83: 1 | D83: 5 | E83: 1 | F83: 0 | G83: 0 | H83: 116 | I83: 1 | J83: יל"ג | L83: =VLOOKUP($J83,$AA$3:$AB$127,2,FALSE) -> #N/A | AA83: עפרוני | AB83: 15 | AC83: =MATCH($AA83,$AE$2:$AE$425,0) -> 344 | AE83: גולומב | AF83: =MATCH($AE83,$AA$2:$AA$126,0) -> 20
A84: 3155 | C84: 2 | D84: 10 | E84: 2 | F84: 0 | G84: 0 | H84: 651 | I84: 2 | J84: נחל קנה | L84: =VLOOKUP($J84,$AA$3:$AB$127,2,FALSE) -> #N/A | AA84: פשוש | AB84: 15 | AC84: =MATCH($AA84,$AE$2:$AE$425,0) -> 356 | AE84: גורדון | AF84: =MATCH($AE84,$AA$2:$AA$126,0) -> 21
A85: 4815 | C85: 2 | D85: 6 | E85: 18 | F85: 0 | G85: 0 | H85: 454 | I85: 8 | J85: שמחה הולצברג | L85: =VLOOKUP($J85,$AA$3:$AB$127,2,FALSE) -> #N/A | AA85: קפלנסקי | AB85: 21 | AC85: =MATCH($AA85,$AE$2:$AE$425,0) -> 370 | AE85: גיל | AF85: =MATCH($AE85,$AA$2:$AA$126,0) -> #N/A
A86: 2491 | C86: 2 | D86: 34 | E86: 2 | F86: 0 | G86: 0 | H86: 327 | I86: 3 | J86: השחר | L86: =VLOOKUP($J86,$AA$3:$AB$127,2,FALSE) -> 53 | AA86: קרן אברהם | AB86: 43 | AC86: =MATCH($AA86,$AE$2:$AE$425,0) -> 371 | AE86: גיסות השריון | AF86: =MATCH($AE86,$AA$2:$AA$126,0) -> #N/A
A87: 5811 | C87: 2 | D87: 1 | E87: 2 | F87: 0 | G87: 0 | H87: 119 | I87: 2 | J87: מיכה | L87: =VLOOKUP($J87,$AA$3:$AB$127,2,FALSE) -> #N/A | AA87: קרן היסוד | AB87: 55 | AC87: =MATCH($AA87,$AE$2:$AE$425,0) -> 372 | AE87: גלבוע | AF87: =MATCH($AE87,$AA$2:$AA$126,0) -> #N/A
A88: 856 | C88: 1 | D88: 5 | E88: 7 | F88: 0 | G88: 0 | H88: 473 | I88: 4 | J88: מורן | L88: =VLOOKUP($J88,$AA$3:$AB$127,2,FALSE) -> #N/A | P88: כפר סבא | Q88: 6900 | R88: 53 | S88: משכנות | T88: השלום | U88: בר אילן | V88: רש"י | W88: השחר | X88: ז'בוטינסקי | AA88: רופין | AB88: 45 | AC88: =MATCH($AA88,$AE$2:$AE$425,0) -> 376 | AE88: גלעד | AF88: =MATCH($AE88,$AA$2:$AA$126,0) -> #N/A
A89: 1729 | C89: 1 | D89: 1 | E89: 1 | F89: 0 | G89: 0 | H89: 302 | I89: 1 | J89: אז"ר | L89: =VLOOKUP($J89,$AA$3:$AB$127,2,FALSE) -> 32 | P89: כפר סבא | Q89: 6900 | R89: 54 | S89: כיסופים, מוצקין | T89: הגליל | U89: אז"ר | V89: תל חי | W89: המחתרות | X89: טירת צבי | AA89: רייק חביבה | AB89: 22 | AC89: =MATCH($AA89,$AE$2:$AE$425,0) -> 382 | AE89: גלר זאב | AF89: =MATCH($AE89,$AA$2:$AA$126,0) -> #N/A
A90: 401 | C90: 1 | D90: 4 | E90: 1 | F90: 0 | G90: 0 | H90: 313 | I90: 1 | J90: גולומב | L90: =VLOOKUP($J90,$AA$3:$AB$127,2,FALSE) -> 33 | P90: כפר סבא | Q90: 6900 | R90: 55 | S90: חצרות הדר (מערב) | T90: שח"ל | U90: קרן היסוד | V90: הגליל | W90: הכרמל | X90: תל חי | AA90: רמז דוד | AB90: 21 | AC90: =MATCH($AA90,$AE$2:$AE$425,0) -> 385 | AE90: גרץ | AF90: =MATCH($AE90,$AA$2:$AA$126,0) -> #N/A
A91: 1188 | C91: 1 | D91: 20 | E91: 16 | F91: 0 | G91: 0 | H91: 319 | I91: 7 | J91: החי"ל | L91: =VLOOKUP($J91,$AA$3:$AB$127,2,FALSE) -> #N/A | P91: כפר סבא | Q91: 6900 | R91: 56 | S91: אלי כהן, חצרות הדר (מזרח) | T91: דיין משה | U91: הר מירון | V91: התותחנים | W91: אז"ר | X91: הר תבור | AA91: רש"י | AB91: 53 | AC91: =MATCH($AA91,$AE$2:$AE$425,0) -> 388 | AE91: דבורה הנביאה | AF91: =MATCH($AE91,$AA$2:$AA$126,0) -> #N/A
A92: 5479 | C92: 2 | D92: 38 | E92: 2 | F92: 0 | G92: 0 | H92: 852 | I92: 2 | J92: דיין משה | L92: =VLOOKUP($J92,$AA$3:$AB$127,2,FALSE) -> 56 | AA92: שד' בגין מנחם | AB92: 21 | AC92: =MATCH($AA92,$AE$2:$AE$425,0) -> #N/A | AE92: דוד המלך | AF92: =MATCH($AE92,$AA$2:$AA$126,0) -> 22
A93: 6143 | C93: 2 | D93: 5 | E93: 2 | F93: 0 | G93: 0 | H93: 249 | I93: 2 | J93: בקעת יריחו | L93: =VLOOKUP($J93,$AA$3:$AB$127,2,FALSE) -> #N/A | AA93: שועלי שמשון | AB93: 44 | AC93: =MATCH($AA93,$AE$2:$AE$425,0) -> 397 | AE93: דודאים | AF93: =MATCH($AE93,$AA$2:$AA$126,0) -> #N/A
A94: 69 | C94: 1 | D94: 31 | E94: 1 | F94: 0 | G94: 0 | H94: 440 | I94: 2 | J94: רייק חביבה | L94: =VLOOKUP($J94,$AA$3:$AB$127,2,FALSE) -> 22 | AA94: שיבת ציון | AB94: 22 | AC94: =MATCH($AA94,$AE$2:$AE$425,0) -> 402 | AE94: דיין משה | AF94: =MATCH($AE94,$AA$2:$AA$126,0) -> 106
A95: 1065 | C95: 2 | D95: 11 | E95: 2 | F95: 0 | G95: 0 | H95: 702 | I95: 2 | J95: לובטקין צביה | L95: =VLOOKUP($J95,$AA$3:$AB$127,2,FALSE) -> 31 | AA95: שרת משה | AB95: 42 | AC95: =MATCH($AA95,$AE$2:$AE$425,0) -> 416 | AE95: דינור | AF95: =MATCH($AE95,$AA$2:$AA$126,0) -> #N/A
A96: 3009 | C96: 2 | D96: 1 | E96: 30 | F96: 0 | G96: 0 | H96: 374 | I96: 5 | J96: תל חי | L96: =VLOOKUP($J96,$AA$3:$AB$127,2,FALSE) -> 16 | AA96: ששת הימים | AB96: 35 | AC96: =MATCH($AA96,$AE$2:$AE$425,0) -> 417 | AE96: דליה | AF96: =MATCH($AE96,$AA$2:$AA$126,0) -> #N/A
A97: 5078 | C97: 2 | D97: 5 | E97: 26 | F97: 0 | G97: 0 | H97: 169 | I97: 6 | J97: הסובלנות | L97: =VLOOKUP($J97,$AA$3:$AB$127,2,FALSE) -> #N/A | AA97: תל חי | AB97: 16 | AC97: =MATCH($AA97,$AE$2:$AE$425,0) -> 423 | AE97: דמארי שושנה | AF97: =MATCH($AE97,$AA$2:$AA$126,0) -> #N/A
A98: 3673 | C98: 1 | D98: 11 | E98: 6 | F98: 0 | G98: 0 | H98: 550 | I98: 3 | J98: יציאת אירופה | L98: =VLOOKUP($J98,$AA$3:$AB$127,2,FALSE) -> #N/A | AA98: תל חי | AB98: 43 | AC98: =MATCH($AA98,$AE$2:$AE$425,0) -> 423 | AE98: דניאל | AF98: =MATCH($AE98,$AA$2:$AA$126,0) -> 107
A99: 1420 | C99: 1 | D99: 31 | E99: 0 | F99: 1 | G99: 0 | H99: 512 | I99: 1 | J99: גאולה | L99: =VLOOKUP($J99,$AA$3:$AB$127,2,FALSE) -> #N/A | AA99: תל חי | AB99: 54 | AC99: =MATCH($AA99,$AE$2:$AE$425,0) -> 423 | AE99: דקל | AF99: =MATCH($AE99,$AA$2:$AA$126,0) -> 24
A100: 2084 | C100: 1 | D100: 10 | E100: 17 | F100: 4 | G100: 0 | H100: 531 | I100: 7 | J100: נחשון | L100: =VLOOKUP($J100,$AA$3:$AB$127,2,FALSE) -> 41 | AA100: תל חי | AB100: 55 | AC100: =MATCH($AA100,$AE$2:$AE$425,0) -> 423 | AE100: האגוז | AF100: =MATCH($AE100,$AA$2:$AA$126,0) -> #N/A
A101: 6335 | B101: ב | C101: 1 | D101: 48 | E101: 1 | F101: 0 | G101: 0 | H101: 438 | I101: 1 | J101: קפלנסקי | L101: =VLOOKUP($J101,$AA$3:$AB$127,2,FALSE) -> 21 | AA101: תרי עשר | AB101: 11 | AC101: =MATCH($AA101,$AE$2:$AE$425,0) -> 424 | AE101: האחדות | AF101: =MATCH($AE101,$AA$2:$AA$126,0) -> #N/A
A102: 4414 | C102: 1 | D102: 17 | E102: 1 | F102: 0 | G102: 0 | H102: 113 | I102: 2 | J102: יואל | L102: =VLOOKUP($J102,$AA$3:$AB$127,2,FALSE) -> #N/A | AA102: אגרון | AB102: 35 | AC102: =MATCH($AA102,$AE$2:$AE$425,0) -> 9 | AE102: האילנות | AF102: =MATCH($AE102,$AA$2:$AA$126,0) -> 27
A103: 1758 | C103: 1 | D103: 27 | E103: 1 | F103: 0 | G103: 0 | H103: 467 | I103: 1 | J103: שטרן יאיר | L103: =VLOOKUP($J103,$AA$3:$AB$127,2,FALSE) -> #N/A | AA103: איינשטיין | AB103: 37 | AC103: =MATCH($AA103,$AE$2:$AE$425,0) -> 20 | AE103: האלה | AF103: =MATCH($AE103,$AA$2:$AA$126,0) -> 28
A104: 756 | C104: 1 | D104: 21 | E104: 1 | F104: 0 | G104: 0 | H104: 418 | I104: 2 | J104: ויתקין | L104: =VLOOKUP($J104,$AA$3:$AB$127,2,FALSE) -> #N/A | AA104: בורוכוב | AB104: 21 | AC104: =MATCH($AA104,$AE$2:$AE$425,0) -> 43 | AE104: האמוראים | AF104: =MATCH($AE104,$AA$2:$AA$126,0) -> #N/A
A105: 2345 | C105: 1 | D105: 10 | E105: 1 | F105: 0 | G105: 0 | H105: 364 | I105: 1 | J105: שלום עליכם | L105: =VLOOKUP($J105,$AA$3:$AB$127,2,FALSE) -> #N/A | AA105: בן גוריון | AB105: 43 | AC105: =MATCH($AA105,$AE$2:$AE$425,0) -> 53 | AE105: האקליפטוס | AF105: =MATCH($AE105,$AA$2:$AA$126,0) -> #N/A
...
