Workbook
Name Chapter: [1]Template!$A$1:$O$688
Name EXMAX0105PRED: #REF!
Name EXMIN0105PRED: #REF!

Sheet כפר סבא
A1: סמל צורת יישוב | B1: סמל יישוב | C1: שם יישוב | D1: אזור סטטיסטי | E1: אוכלוסייה בסוף 2018 | F1: גיל | AJ1: חלק יחסי מאוכלוסיית הא"ס | AX1: הוצאה לאוכלוסייה ייעודית
F2: 4-0 | G2: 9-5 | H2: 14-10 | I2: 19-15 | J2: 24-20 | K2: 29-25 | L2: 34-30 | M2: 39-35 | N2: 44-40 | O2: 49-45 | P2: 54-50 | Q2: 59-55 | R2: 64-60 | S2: 69-65 | T2: 74-70 | U2: +75 | V2: חלק יחסי מכפר סבא | W2: תושבים | X2: ילדים מתחת לגיל 3 | Y2: גן | Z2: יסודי | AA2: חטיבה | AB2: תיכון | AC2: בוגרים | AD2: גיל שלישי | AE2: ילדים | AF2: נוער | AG2: החלק היחסי של האוכלוסיה בגיל השלישי | AH2: צפיפות (תושבים לקמ"ר) | AI2: שם השכונה | AJ2: ילדים מתחת לגיל 3 | AK2: גן | AL2: יסודי | AM2: חטיבה | AN2: תיכון | AO2: בוגרים | AP2: גיל שלישי | AQ2: ילדים | AR2: נוער | AS2: גיל ממוצע | AX2: תושבים | AY2: גן | AZ2: יסודי | BA2: חטיבה | BB2: תיכון | BC2: בוגרים | BD2: גיל שלישי | BE2: ילדים | BF2: נוער | BG2: הנחות | BH2: עלות כוללת | BJ2: עלות לתושב ביחס לממוצע העירוני | BL2: תשלום ארנונה ממוצע לתושב | BM2: גרעון לתושב | BO2: תשלום ארנונה ממוצע ליח"ד
A3: 140 | B3: 6900 | C3: כפר סבא | D3: סה"כ | E3: 100764 | F3: 8484 | G3: 8576 | H3: 7116 | I3: 5920 | J3: 5136 | K3: 4833 | L3: 5690 | M3: 7290 | N3: 7971 | O3: 6395 | P3: 4776 | Q3: 4637 | R3: 5241 | S3: 6300 | T3: 5142 | U3: 7255 | V3: =W3/$E$3 -> 1 | W3: =E3 -> 100764 | X3: =ROUNDUP(F3*3/5,0) -> 5091 | Y3: =ROUNDUP(F3*2/5+G3*0.25,0) -> 5538 | Z3: =ROUNDUP(G3*0.75+H3*2/5,0) -> 9279 | AA3: =ROUNDUP(H3*3/5,0) -> 4270 | AB3: =ROUNDUP(I3*0.25,0) -> 1480 | AC3: =E3-AD3-AB3-AA3-Z3-Y3-X3 -> 56409 | AD3: =S3+T3+U3 -> 18697 | AE3: =SUM(X3:AB3) -> 25658 | AF3: =AB3+AA3 -> 5750 | AG3: =AD3/$AD$3 -> 1 | AJ3: =X3/$W3 -> 0.050523997 | AK3: =Y3/$W3 -> 0.054960105 | AL3: =Z3/$W3 -> 0.092086459 | AM3: =AA3/$W3 -> 0.042376245 | AN3: =AB3/$W3 -> 0.014687785 | AO3: =AC3/$W3 -> 0.55981303 | AP3: =AD3/$W3 -> 0.18555238 | AQ3: =AE3/$W3 -> 0.25463459 | AR3: =AF3/$W3 -> 0.057064031 | AS3: =SUMPRODUCT($F3:$U3,$F$31:$U$31)/E3 -> 38.051765 | AW3: =D3 -> סה"כ | AX3: =VLOOKUP(AX$2,'עלויות שירותים במימון ארנונה'!$I$23:$J$33,2,FALSE)*'כפר סבא'!W3 -> 2.9019597e+08 | AY3: =VLOOKUP(AY$2,'עלויות שירותים במימון ארנונה'!$I$23:$J$33,2,FALSE)*'כפר סבא'!Y3 -> 33032934 | AZ3: =VLOOKUP(AZ$2,'עלויות שירותים במימון ארנונה'!$I$23:$J$33,2,FALSE)*'כפר סבא'!Z3 -> 40313699 | BA3: =VLOOKUP(BA$2,'עלויות שירותים במימון ארנונה'!$I$23:$J$33,2,FALSE)*'כפר סבא'!AA3 -> 13428316 | BB3: =VLOOKUP(BB$2,'עלויות שירותים במימון ארנונה'!$I$23:$J$33,2,FALSE)*'כפר סבא'!AB3 -> 5182450.7 | BC3: =VLOOKUP(BC$2,'עלויות שירותים במימון ארנונה'!$I$23:$J$33,2,FALSE)*'כפר סבא'!AC3 -> 962256.96 | BD3: =VLOOKUP(BD$2,'עלויות שירותים במימון ארנונה'!$I$23:$J$33,2,FALSE)*'כפר סבא'!AD3 -> 2973006.5 | BE3: =VLOOKUP(BE$2,'עלויות שירותים במימון ארנונה'!$I$23:$J$33,2,FALSE)*'כפר סבא'!AE3 -> 2729751.8 | BF3: =VLOOKUP(BF$2,'עלויות שירותים במימון ארנונה'!$I$23:$J$33,2,FALSE)*'כפר סבא'!AF3 -> 4979052.4 | BG3: ='עלויות שירותים במימון ארנונה'!$K$21*'כפר סבא'!W3 -> 49355112 | BH3: =SUM(AX3:BG3) -> 4.4315255e+08 | BI3: =BH3/W3 -> 4397.9253 | BJ3: =BH3/W3/($BH$3/$W$3) -> 1 | BK3: כל העיר | BL3: ='נתונים דירות ומבנים בכפר סבא'!T13 -> 1873.0598 | BM3: =BL3-BI3 -> -2524.8655 | BO3: ='נתונים דירות ומבנים בכפר סבא'!T11 -> 5572.2299 | BP3: =E3/BQ3 -> 2.9984709 | BQ3: =SUM(K3:U3)/1.95 -> 33605.128
A4: 140 | B4: 6900 | C4: כפר סבא | D4: 0011 | E4: 3288 | F4: 197 | G4: 175 | H4: 229 | I4: 241 | J4: 256 | K4: 252 | L4: 196 | M4: 159 | N4: 194 | O4: 254 | P4: 212 | Q4: 201 | R4: 212 | S4: 200 | T4: 123 | U4: 186 | V4: =W4/$E$3 -> 0.032630701 | W4: =E4 -> 3288 | X4: =ROUNDUP(F4*3/5,0) -> 119 | Y4: =ROUNDUP(F4*2/5+G4*0.25,0) -> 123 | Z4: =ROUNDUP(G4*0.75+H4*2/5,0) -> 223 | AA4: =ROUNDUP(H4*3/5,0) -> 138 | AB4: =ROUNDUP(I4*0.25,0) -> 61 | AC4: =E4-AD4-AB4-AA4-Z4-Y4-X4 -> 2115 | AD4: =S4+T4+U4 -> 509 | AE4: =SUM(X4:AB4) -> 664 | AF4: =AB4+AA4 -> 199 | AG4: =AD4/$AD$3 -> 0.027223619 | AH4: =$E4/VLOOKUP($D4*1,'כפר סבא מסכם'!$P$31:$W$55,8,FALSE) -> 3012.6222 | AI4: =VLOOKUP($D4,'כפר סבא מסכם'!$E$29:$F$54,2,FALSE) -> קפלן, בית ונוף, הדרים | AJ4: =X4/$W4 -> 0.036192214 | AK4: =Y4/$W4 -> 0.037408759 | AL4: =Z4/$W4 -> 0.067822384 | AM4: =AA4/$W4 -> 0.041970803 | AN4: =AB4/$W4 -> 0.018552311 | AO4: =AC4/$W4 -> 0.64324818 | AP4: =AD4/$W4 -> 0.15480535 | AQ4: =AE4/$W4 -> 0.20194647 | AR4: =AF4/$W4 -> 0.060523114 | AS4: =SUMPRODUCT($F4:$U4,$F$31:$U$31)/E4 -> 38.520985 | AT4: =(AS4-$AS$3)/$AS$32 -> 0.12900763 | AU4: רגיל | AW4: =D4 -> 0011 | AX4: =VLOOKUP(AX$2,'עלויות שירותים במימון ארנונה'!$I$23:$J$33,2,FALSE)*'כפר סבא'!W4 -> 9469298 | AY4: =VLOOKUP(AY$2,'עלויות שירותים במימון ארנונה'!$I$23:$J$33,2,FALSE)*'כפר סבא'!Y4 -> 733667.55 | AZ4: =VLOOKUP(AZ$2,'עלויות שירותים במימון ארנונה'!$I$23:$J$33,2,FALSE)*'כפר סבא'!Z4 -> 968849.53 | BA4: =VLOOKUP(BA$2,'עלויות שירותים במימון ארנונה'!$I$23:$J$33,2,FALSE)*'כפר סבא'!AA4 -> 433983.04 | BB4: =VLOOKUP(BB$2,'עלויות שירותים במימון ארנונה'!$I$23:$J$33,2,FALSE)*'כפר סבא'!AB4 -> 213601.01 | BC4: =VLOOKUP(BC$2,'עלויות שירותים במימון ארנונה'!$I$23:$J$33,2,FALSE)*'כפר סבא'!AC4 -> 36078.879 | BD4: =VLOOKUP(BD$2,'עלויות שירותים במימון ארנונה'!$I$23:$J$33,2,FALSE)*'כפר סבא'!AD4 -> 80935.995 | BE4: =VLOOKUP(BE$2,'עלויות שירותים במימון ארנונה'!$I$23:$J$33,2,FALSE)*'כפר סבא'!AE4 -> 70642.888 | BF4: =VLOOKUP(BF$2,'עלויות שירותים במימון ארנונה'!$I$23:$J$33,2,FALSE)*'כפר סבא'!AF4 -> 172318.51 | BG4: =VLOOKUP($AW4,'כפר סבא מסכם'!$E$29:$M$54,9,FALSE) -> 1684816.8 | BH4: =SUM(AX4:BG4) -> 13864192 | BI4: =BH4/W4 -> 4216.6035 | BJ4: =BH4/W4/($BH$3/$W$3) -> 0.95877105 | BK4: =VLOOKUP($AW4,'כפר סבא מסכם'!$E$29:$F$54,2,) -> קפלן, בית ונוף, הדרים | BL4: =BO4/BP4 -> 2964.2111 | BM4: =BL4-BI4 -> -1252.3924 | BO4: =VLOOKUP($BK4,'נתונים דירות ומבנים בכפר סבא'!$B$39:$E$64,4,FALSE) -> 8682.2 | BP4: =E4/BQ4 -> 2.9290087 | BQ4: =SUM(K4:U4)/1.95 -> 1122.5641
A5: 140 | B5: 6900 | C5: כפר סבא | D5: 0012 | E5: 4929 | F5: 395 | G5: 346 | H5: 312 | I5: 296 | J5: 333 | K5: 326 | L5: 327 | M5: 309 | N5: 292 | O5: 278 | P5: 308 | Q5: 309 | R5: 298 | S5: 280 | T5: 198 | U5: 323 | V5: =W5/$E$3 -> 0.04891628 | W5: =E5 -> 4929 | X5: =ROUNDUP(F5*3/5,0) -> 237 | Y5: =ROUNDUP(F5*2/5+G5*0.25,0) -> 245 | Z5: =ROUNDUP(G5*0.75+H5*2/5,0) -> 385 | AA5: =ROUNDUP(H5*3/5,0) -> 188 | AB5: =ROUNDUP(I5*0.25,0) -> 74 | AC5: =E5-AD5-AB5-AA5-Z5-Y5-X5 -> 2999 | AD5: =S5+T5+U5 -> 801 | AE5: =SUM(X5:AB5) -> 1129 | AF5: =AB5+AA5 -> 262 | AG5: =AD5/$AD$3 -> 0.042841098 | AH5: =$E5/VLOOKUP($D5*1,'כפר סבא מסכם'!$P$31:$W$55,8,FALSE) -> 2473.0555 | AI5: =VLOOKUP($D5,'כפר סבא מסכם'!$E$29:$F$54,2,FALSE) -> גבעת אשכול, יוספטל | AJ5: =X5/$W5 -> 0.048082775 | AK5: =Y5/$W5 -> 0.049705823 | AL5: =Z5/$W5 -> 0.07810915 | AM5: =AA5/$W5 -> 0.038141611 | AN5: =AB5/$W5 -> 0.015013187 | AO5: =AC5/$W5 -> 0.60843985 | AP5: =AD5/$W5 -> 0.16250761 | AQ5: =AE5/$W5 -> 0.22905255 | AR5: =AF5/$W5 -> 0.053154798 | AS5: =SUMPRODUCT($F5:$U5,$F$31:$U$31)/E5 -> 38.074254 | AT5: =(AS5-$AS$3)/$AS$32 -> 0.0061833731 | AU5: רגיל | AW5: =D5 -> 0012 | AX5: =VLOOKUP(AX$2,'עלויות שירותים במימון ארנונה'!$I$23:$J$33,2,FALSE)*'כפר סבא'!W5 -> 14195307 | AY5: =VLOOKUP(AY$2,'עלויות שירותים במימון ארנונה'!$I$23:$J$33,2,FALSE)*'כפר סבא'!Y5 -> 1461370.3 | AZ5: =VLOOKUP(AZ$2,'עלויות שירותים במימון ארנונה'!$I$23:$J$33,2,FALSE)*'כפר סבא'!Z5 -> 1672677.4 | BA5: =VLOOKUP(BA$2,'עלויות שירותים במימון ארנונה'!$I$23:$J$33,2,FALSE)*'כפר סבא'!AA5 -> 591223.27 | BB5: =VLOOKUP(BB$2,'עלויות שירותים במימון ארנונה'!$I$23:$J$33,2,FALSE)*'כפר סבא'!AB5 -> 259122.54 | BC5: =VLOOKUP(BC$2,'עלויות שירותים במימון ארנונה'!$I$23:$J$33,2,FALSE)*'כפר סבא'!AC5 -> 51158.656 | BD5: =VLOOKUP(BD$2,'עלויות שירותים במימון ארנונה'!$I$23:$J$33,2,FALSE)*'כפר סבא'!AD5 -> 127366.86 | BE5: =VLOOKUP(BE$2,'עלויות שירותים במימון ארנונה'!$I$23:$J$33,2,FALSE)*'כפר סבא'!AE5 -> 120114.19 | BF5: =VLOOKUP(BF$2,'עלויות שירותים במימון ארנונה'!$I$23:$J$33,2,FALSE)*'כפר סבא'!AF5 -> 226871.6 | BG5: =VLOOKUP($AW5,'כפר סבא מסכם'!$E$29:$M$54,9,FALSE) -> 3035191.1 | BH5: =SUM(AX5:BG5) -> 21740403 | BI5: =BH5/W5 -> 4410.7127 | BJ5: =BH5/W5/($BH$3/$W$3) -> 1.0029076 | BK5: =VLOOKUP($AW5,'כפר סבא מסכם'!$E$29:$F$54,2,) -> גבעת אשכול, יוספטל | BL5: =BO5/BP5 -> 2558.5753 | BM5: =BL5-BI5 -> -1852.1374 | BO5: =VLOOKUP($BK5,'נתונים דירות ומבנים בכפר סבא'!$B$39:$E$64,4,FALSE) -> 7571.39 | BP5: =E5/BQ5 -> 2.9592211 | BQ5: =SUM(K5:U5)/1.95 -> 1665.641
A6: 140 | B6: 6900 | C6: כפר סבא | D6: 0013 | E6: 5292 | F6: 431 | G6: 580 | H6: 622 | I6: 521 | J6: 270 | K6: 171 | L6: 236 | M6: 384 | N6: 536 | O6: 521 | P6: 275 | Q6: 204 | R6: 148 | S6: 152 | T6: 129 | U6: 111 | V6: =W6/$E$3 -> 0.052518757 | W6: =E6 -> 5292 | X6: =ROUNDUP(F6*3/5,0) -> 259 | Y6: =ROUNDUP(F6*2/5+G6*0.25,0) -> 318 | Z6: =ROUNDUP(G6*0.75+H6*2/5,0) -> 684 | AA6: =ROUNDUP(H6*3/5,0) -> 374 | AB6: =ROUNDUP(I6*0.25,0) -> 131 | AC6: =E6-AD6-AB6-AA6-Z6-Y6-X6 -> 3134 | AD6: =S6+T6+U6 -> 392 | AE6: =SUM(X6:AB6) -> 1766 | AF6: =AB6+AA6 -> 505 | AG6: =AD6/$AD$3 -> 0.02096593 | AH6: =$E6/VLOOKUP($D6*1,'כפר סבא מסכם'!$P$31:$W$55,8,FALSE) -> 12519.073 | AI6: =VLOOKUP($D6,'כפר סבא מסכם'!$E$29:$F$54,2,FALSE) -> הדרים | AJ6: =X6/$W6 -> 0.048941799 | AK6: =Y6/$W6 -> 0.060090703 | AL6: =Z6/$W6 -> 0.1292517 | AM6: =AA6/$W6 -> 0.070672714 | AN6: =AB6/$W6 -> 0.024754346 | AO6: =AC6/$W6 -> 0.59221466 | AP6: =AD6/$W6 -> 0.074074074 | AQ6: =AE6/$W6 -> 0.33371126 | AR6: =AF6/$W6 -> 0.09542706 | AS6: =SUMPRODUCT($F6:$U6,$F$31:$U$31)/E6 -> 31.137377 | AT6: =(AS6-$AS$3)/$AS$32 -> -1.9010422 | AU6: צעירה מאד | AW6: =D6 -> 0013 | AX6: =VLOOKUP(AX$2,'עלויות שירותים במימון ארנונה'!$I$23:$J$33,2,FALSE)*'כפר סבא'!W6 -> 15240731 | AY6: =VLOOKUP(AY$2,'עלויות שירותים במימון ארנונה'!$I$23:$J$33,2,FALSE)*'כפר סבא'!Y6 -> 1896799 | AZ6: =VLOOKUP(AZ$2,'עלויות שירותים במימון ארנונה'!$I$23:$J$33,2,FALSE)*'כפר סבא'!Z6 -> 2971717.8 | BA6: =VLOOKUP(BA$2,'עלויות שירותים במימון ארנונה'!$I$23:$J$33,2,FALSE)*'כפר סבא'!AA6 -> 1176156.9 | BB6: =VLOOKUP(BB$2,'עלויות שירותים במימון ארנונה'!$I$23:$J$33,2,FALSE)*'כפר סבא'!AB6 -> 458716.92 | BC6: =VLOOKUP(BC$2,'עלויות שירותים במימון ארנונה'!$I$23:$J$33,2,FALSE)*'כפר סבא'!AC6 -> 53461.563 | BD6: =VLOOKUP(BD$2,'עלויות שירותים במימון ארנונה'!$I$23:$J$33,2,FALSE)*'כפר סבא'!AD6 -> 62331.847 | BE6: =VLOOKUP(BE$2,'עלויות שירותים במימון ארנונה'!$I$23:$J$33,2,FALSE)*'כפר סבא'!AE6 -> 187884.55 | BF6: =VLOOKUP(BF$2,'עלויות שירותים במימון ארנונה'!$I$23:$J$33,2,FALSE)*'כפר סבא'!AF6 -> 437290.69 | BG6: =VLOOKUP($AW6,'כפר סבא מסכם'!$E$29:$M$54,9,FALSE) -> 2133108.3 | BH6: =SUM(AX6:BG6) -> 24618199 | BI6: =BH6/W6 -> 4651.9651 | BJ6: =BH6/W6/($BH$3/$W$3) -> 1.0577635 | BK6: =VLOOKUP($AW6,'כפר סבא מסכם'!$E$29:$F$54,2,) -> הדרים | BL6: =BO6/BP6 -> 2103.5307 | BM6: =BL6-BI6 -> -2548.4343 | BO6: =VLOOKUP($BK6,'נתונים דירות ומבנים בכפר סבא'!$B$39:$E$64,4,FALSE) -> 7571.39 | BP6: =E6/BQ6 -> 3.5993722 | BQ6: =SUM(K6:U6)/1.95 -> 1470.2564
A7: 140 | B7: 6900 | C7: כפר סבא | D7: 0014 | E7: 10 | BQ7: =SUM(K7:U7)/1.95 -> 0
A8: 140 | B8: 6900 | C8: כפר סבא | D8: 0015 | E8: 4476 | F8: 469 | G8: 608 | H8: 442 | I8: 218 | J8: 127 | K8: 95 | L8: 208 | M8: 430 | N8: 526 | O8: 303 | P8: 146 | Q8: 91 | R8: 102 | S8: 100 | T8: 93 | U8: 518 | V8: =W8/$E$3 -> 0.044420626 | W8: =E8 -> 4476 | X8: =ROUNDUP(F8*3/5,0) -> 282 | Y8: =ROUNDUP(F8*2/5+G8*0.25,0) -> 340 | Z8: =ROUNDUP(G8*0.75+H8*2/5,0) -> 633 | AA8: =ROUNDUP(H8*3/5,0) -> 266 | AB8: =ROUNDUP(I8*0.25,0) -> 55 | AC8: =E8-AD8-AB8-AA8-Z8-Y8-X8 -> 2189 | AD8: =S8+T8+U8 -> 711 | AE8: =SUM(X8:AB8) -> 1576 | AF8: =AB8+AA8 -> 321 | AG8: =AD8/$AD$3 -> 0.038027491 | AH8: =$E8/VLOOKUP($D8*1,'כפר סבא מסכם'!$P$31:$W$55,8,FALSE) -> 2797.1871 | AI8: =VLOOKUP($D8,'כפר סבא מסכם'!$E$29:$F$54,2,FALSE) -> גני השרון, כפר סבא הצעירה | AJ8: =X8/$W8 -> 0.063002681 | AK8: =Y8/$W8 -> 0.075960679 | AL8: =Z8/$W8 -> 0.14142091 | AM8: =AA8/$W8 -> 0.059428061 | AN8: =AB8/$W8 -> 0.012287757 | AO8: =AC8/$W8 -> 0.48905273 | AP8: =AD8/$W8 -> 0.15884718 | AQ8: =AE8/$W8 -> 0.35210009 | AR8: =AF8/$W8 -> 0.071715818 | AS8: =SUMPRODUCT($F8:$U8,$F$31:$U$31)/E8 -> 34.500447 | AT8: =(AS8-$AS$3)/$AS$32 -> -0.97639956 | AU8: צעירה | AW8: =D8 -> 0015 | AX8: =VLOOKUP(AX$2,'עלויות שירותים במימון ארנונה'!$I$23:$J$33,2,FALSE)*'כפר סבא'!W8 -> 12890687 | AY8: =VLOOKUP(AY$2,'עלויות שירותים במימון ארנונה'!$I$23:$J$33,2,FALSE)*'כפר סבא'!Y8 -> 2028024.1 | AZ8: =VLOOKUP(AZ$2,'עלויות שירותים במימון ארנונה'!$I$23:$J$33,2,FALSE)*'כפר סבא'!Z8 -> 2750142.4 | BA8: =VLOOKUP(BA$2,'עלויות שירותים במימון ארנונה'!$I$23:$J$33,2,FALSE)*'כפר סבא'!AA8 -> 836518.02 | BB8: =VLOOKUP(BB$2,'עלויות שירותים במימון ארנונה'!$I$23:$J$33,2,FALSE)*'כפר סבא'!AB8 -> 192591.07 | BC8: =VLOOKUP(BC$2,'עלויות שירותים במימון ארנונה'!$I$23:$J$33,2,FALSE)*'כפר סבא'!AC8 -> 37341.213 | BD8: =VLOOKUP(BD$2,'עלויות שירותים במימון ארנונה'!$I$23:$J$33,2,FALSE)*'כפר סבא'!AD8 -> 113055.98 | BE8: =VLOOKUP(BE$2,'עלויות שירותים במימון ארנונה'!$I$23:$J$33,2,FALSE)*'כפר סבא'!AE8 -> 167670.47 | BF8: =VLOOKUP(BF$2,'עלויות שירותים במימון ארנונה'!$I$23:$J$33,2,FALSE)*'כפר סבא'!AF8 -> 277961.01 | BG8: =VLOOKUP($AW8,'כפר סבא מסכם'!$E$29:$M$54,9,FALSE) -> 1841373.3 | BH8: =SUM(AX8:BG8) -> 21135364 | BI8: =BH8/W8 -> 4721.9313 | BJ8: =BH8/W8/($BH$3/$W$3) -> 1.0736725 | BK8: =VLOOKUP($AW8,'כפר סבא מסכם'!$E$29:$F$54,2,) -> גני השרון, כפר סבא הצעירה | BL8: =BO8/BP8 -> 1783.5748 | BM8: =BL8-BI8 -> -2938.3565 | BO8: =VLOOKUP($BK8,'נתונים דירות ומבנים בכפר סבא'!$B$39:$E$64,4,FALSE) -> 5959.953 | BP8: =E8/BQ8 -> 3.3415773 | BQ8: =SUM(K8:U8)/1.95 -> 1339.4872
A9: 140 | B9: 6900 | C9: כפר סבא | D9: 0016 | E9: 1688 | F9: 97 | G9: 125 | H9: 145 | I9: 113 | J9: 140 | K9: 109 | L9: 82 | M9: 74 | N9: 127 | O9: 115 | P9: 112 | Q9: 107 | R9: 138 | S9: 90 | T9: 64 | U9: 48 | V9: =W9/$E$3 -> 0.016752015 | W9: =E9 -> 1688 | X9: =ROUNDUP(F9*3/5,0) -> 59 | Y9: =ROUNDUP(F9*2/5+G9*0.25,0) -> 71 | Z9: =ROUNDUP(G9*0.75+H9*2/5,0) -> 152 | AA9: =ROUNDUP(H9*3/5,0) -> 87 | AB9: =ROUNDUP(I9*0.25,0) -> 29 | AC9: =E9-AD9-AB9-AA9-Z9-Y9-X9 -> 1088 | AD9: =S9+T9+U9 -> 202 | AE9: =SUM(X9:AB9) -> 398 | AF9: =AB9+AA9 -> 116 | AG9: =AD9/$AD$3 -> 0.010803872 | AH9: =$E9/VLOOKUP($D9*1,'כפר סבא מסכם'!$P$31:$W$55,8,FALSE) -> 6847.5091 | AI9: =VLOOKUP($D9,'כפר סבא מסכם'!$E$29:$F$54,2,FALSE) -> צפון | AJ9: =X9/$W9 -> 0.034952607 | AK9: =Y9/$W9 -> 0.042061611 | AL9: =Z9/$W9 -> 0.090047393 | AM9: =AA9/$W9 -> 0.051540284 | AN9: =AB9/$W9 -> 0.017180095 | AO9: =AC9/$W9 -> 0.64454976 | AP9: =AD9/$W9 -> 0.11966825 | AQ9: =AE9/$W9 -> 0.23578199 | AR9: =AF9/$W9 -> 0.068720379 | AS9: =SUMPRODUCT($F9:$U9,$F$31:$U$31)/E9 -> 36.760664 | AT9: =(AS9-$AS$3)/$AS$32 -> -0.35497541 | AU9: רגיל | AW9: =D9 -> 0016 | AX9: =VLOOKUP(AX$2,'עלויות שירותים במימון ארנונה'!$I$23:$J$33,2,FALSE)*'כפר סבא'!W9 -> 4861367.1 | AY9: =VLOOKUP(AY$2,'עלויות שירותים במימון ארנונה'!$I$23:$J$33,2,FALSE)*'כפר סבא'!Y9 -> 423499.15 | AZ9: =VLOOKUP(AZ$2,'עלויות שירותים במימון ארנונה'!$I$23:$J$33,2,FALSE)*'כפר סבא'!Z9 -> 660381.74 | BA9: =VLOOKUP(BA$2,'עלויות שירותים במימון ארנונה'!$I$23:$J$33,2,FALSE)*'כפר סבא'!AA9 -> 273598 | BB9: =VLOOKUP(BB$2,'עלויות שירותים במימון ארנונה'!$I$23:$J$33,2,FALSE)*'כפר סבא'!AB9 -> 101548.02 | BC9: =VLOOKUP(BC$2,'עלויות שירותים במימון ארנונה'!$I$23:$J$33,2,FALSE)*'כפר סבא'!AC9 -> 18559.726 | BD9: =VLOOKUP(BD$2,'עלויות שירותים במימון ארנונה'!$I$23:$J$33,2,FALSE)*'כפר סבא'!AD9 -> 32119.982 | BE9: =VLOOKUP(BE$2,'עלויות שירותים במימון ארנונה'!$I$23:$J$33,2,FALSE)*'כפר סבא'!AE9 -> 42343.177 | BF9: =VLOOKUP(BF$2,'עלויות שירותים במימון ארנונה'!$I$23:$J$33,2,FALSE)*'כפר סבא'!AF9 -> 100446.97 | BG9: =VLOOKUP($AW9,'כפר סבא מסכם'!$E$29:$M$54,9,FALSE) -> 779442.41 | BH9: =SUM(AX9:BG9) -> 7293306.3 | BI9: =BH9/W9 -> 4320.6791 | BJ9: =BH9/W9/($BH$3/$W$3) -> 0.98243575 | BK9: =VLOOKUP($AW9,'כפר סבא מסכם'!$E$29:$F$54,2,) -> צפון | BL9: =BO9/BP9 -> 2100.0655 | BM9: =BL9-BI9 -> -2220.6135 | BO9: =VLOOKUP($BK9,'נתונים דירות ומבנים בכפר סבא'!$B$39:$E$64,4,FALSE) -> 6484.5926 | BP9: =E9/BQ9 -> 3.0878049 | BQ9: =SUM(K9:U9)/1.95 -> 546.66667
A10: 140 | B10: 6900 | C10: כפר סבא | D10: 0021 | E10: 10638 | F10: 1604 | G10: 1474 | H10: 742 | I10: 408 | J10: 314 | K10: 385 | L10: 653 | M10: 1250 | N10: 1104 | O10: 610 | P10: 316 | Q10: 336 | R10: 378 | S10: 402 | T10: 305 | U10: 359 | V10: =W10/$E$3 -> 0.10557342 | W10: =E10 -> 10638 | X10: =ROUNDUP(F10*3/5,0) -> 963 | Y10: =ROUNDUP(F10*2/5+G10*0.25,0) -> 1011 | Z10: =ROUNDUP(G10*0.75+H10*2/5,0) -> 1403 | AA10: =ROUNDUP(H10*3/5,0) -> 446 | AB10: =ROUNDUP(I10*0.25,0) -> 102 | AC10: =E10-AD10-AB10-AA10-Z10-Y10-X10 -> 5647 | AD10: =S10+T10+U10 -> 1066 | AE10: =SUM(X10:AB10) -> 3925 | AF10: =AB10+AA10 -> 548 | AG10: =AD10/$AD$3 -> 0.057014494 | AH10: =$E10/VLOOKUP($D10*1,'כפר סבא מסכם'!$P$31:$W$55,8,FALSE) -> 7331.7835 | AI10: =VLOOKUP($D10,'כפר סבא מסכם'!$E$29:$F$54,2,FALSE) -> השכונה הירוקה, שיכון עליה, שבזי | AJ10: =X10/$W10 -> 0.090524535 | AK10: =Y10/$W10 -> 0.095036661 | AL10: =Z10/$W10 -> 0.13188569 | AM10: =AA10/$W10 -> 0.041925174 | AN10: =AB10/$W10 -> 0.0095882685 | AO10: =AC10/$W10 -> 0.53083286 | AP10: =AD10/$W10 -> 0.10020681 | AQ10: =AE10/$W10 -> 0.36896033 | AR10: =AF10/$W10 -> 0.051513442 | AS10: =SUMPRODUCT($F10:$U10,$F$31:$U$31)/E10 -> 30.848656 | AT10: =(AS10-$AS$3)/$AS$32 -> -1.9804233 | AU10: צעירה מאד | AW10: =D10 -> 0021 | AX10: =VLOOKUP(AX$2,'עלויות שירותים במימון ארנונה'!$I$23:$J$33,2,FALSE)*'כפר סבא'!W10 -> 30636981 | AY10: =VLOOKUP(AY$2,'עלויות שירותים במימון ארנונה'!$I$23:$J$33,2,FALSE)*'כפר סבא'!Y10 -> 6030389.4 | AZ10: =VLOOKUP(AZ$2,'עלויות שירותים במימון ארנונה'!$I$23:$J$33,2,FALSE)*'כפר סבא'!Z10 -> 6095497.3 | BA10: =VLOOKUP(BA$2,'עלויות שירותים במימון ארנונה'!$I$23:$J$33,2,FALSE)*'כפר סבא'!AA10 -> 1402582.9 | BB10: =VLOOKUP(BB$2,'עלויות שירותים במימון ארנונה'!$I$23:$J$33,2,FALSE)*'כפר סבא'!AB10 -> 357168.9 | BC10: =VLOOKUP(BC$2,'עלויות שירותים במימון ארנונה'!$I$23:$J$33,2,FALSE)*'כפר סבא'!AC10 -> 96329.753 | BD10: =VLOOKUP(BD$2,'עלויות שירותים במימון ארנונה'!$I$23:$J$33,2,FALSE)*'כפר סבא'!AD10 -> 169504.46 | BE10: =VLOOKUP(BE$2,'עלויות שירותים במימון ארנונה'!$I$23:$J$33,2,FALSE)*'כפר סבא'!AE10 -> 417580.32 | BF10: =VLOOKUP(BF$2,'עלויות שירותים במימון ארנונה'!$I$23:$J$33,2,FALSE)*'כפר סבא'!AF10 -> 474525.34 | BG10: =VLOOKUP($AW10,'כפר סבא מסכם'!$E$29:$M$54,9,FALSE) -> 4310685.2 | BH10: =SUM(AX10:BG10) -> 49991244 | BI10: =BH10/W10 -> 4699.3085 | BJ10: =BH10/W10/($BH$3/$W$3) -> 1.0685285 | BK10: =VLOOKUP($AW10,'כפר סבא מסכם'!$E$29:$F$54,2,) -> השכונה הירוקה, שיכון עליה, שבזי | BL10: =BO10/BP10 -> 2594.1714 | BM10: =BL10-BI10 -> -2105.1372 | BO10: =VLOOKUP($BK10,'נתונים דירות ומבנים בכפר סבא'!$B$39:$E$64,4,FALSE) -> 8824.8196 | BP10: =E10/BQ10 -> 3.4017875 | BQ10: =SUM(K10:U10)/1.95 -> 3127.1795
A11: 140 | B11: 6900 | C11: כפר סבא | D11: 0022 | E11: 12767 | F11: 1310 | G11: 1549 | H11: 1127 | I11: 711 | J11: 514 | K11: 444 | L11: 633 | M11: 1028 | N11: 1332 | O11: 907 | P11: 535 | Q11: 437 | R11: 461 | S11: 597 | T11: 502 | U11: 679 | V11: =W11/$E$3 -> 0.126702 | W11: =E11 -> 12767 | X11: =ROUNDUP(F11*3/5,0) -> 786 | Y11: =ROUNDUP(F11*2/5+G11*0.25,0) -> 912 | Z11: =ROUNDUP(G11*0.75+H11*2/5,0) -> 1613 | AA11: =ROUNDUP(H11*3/5,0) -> 677 | AB11: =ROUNDUP(I11*0.25,0) -> 178 | AC11: =E11-AD11-AB11-AA11-Z11-Y11-X11 -> 6823 | AD11: =S11+T11+U11 -> 1778 | AE11: =SUM(X11:AB11) -> 4166 | AF11: =AB11+AA11 -> 855 | AG11: =AD11/$AD$3 -> 0.09509547 | AH11: =$E11/VLOOKUP($D11*1,'כפר סבא מסכם'!$P$31:$W$55,8,FALSE) -> 9205.8735 | AI11: =VLOOKUP($D11,'כפר סבא מסכם'!$E$29:$F$54,2,FALSE) -> הזמר העברי, סביוני הכפר, סירקין, ותיקים | AJ11: =X11/$W11 -> 0.061564972 | AK11: =Y11/$W11 -> 0.071434166 | AL11: =Z11/$W11 -> 0.12634135 | AM11: =AA11/$W11 -> 0.053027336 | AN11: =AB11/$W11 -> 0.013942195 | AO11: =AC11/$W11 -> 0.53442469 | AP11: =AD11/$W11 -> 0.13926529 | AQ11: =AE11/$W11 -> 0.32631002 | AR11: =AF11/$W11 -> 0.066969531 | AS11: =SUMPRODUCT($F11:$U11,$F$31:$U$31)/E11 -> 34.021775 | AT11: =(AS11-$AS$3)/$AS$32 -> -1.1080057 | AU11: צעירה | AW11: =D11 -> 0022 | AX11: =VLOOKUP(AX$2,'עלויות שירותים במימון ארנונה'!$I$23:$J$33,2,FALSE)*'כפר סבא'!W11 -> 36768409 | AY11: =VLOOKUP(AY$2,'עלויות שירותים במימון ארנונה'!$I$23:$J$33,2,FALSE)*'כפר סבא'!Y11 -> 5439876.5 | AZ11: =VLOOKUP(AZ$2,'עלויות שירותים במימון ארנונה'!$I$23:$J$33,2,FALSE)*'כפר סבא'!Z11 -> 7007866.8 | BA11: =VLOOKUP(BA$2,'עלויות שירותים במימון ארנונה'!$I$23:$J$33,2,FALSE)*'כפר סבא'!AA11 -> 2129032.7 | BB11: =VLOOKUP(BB$2,'עלויות שירותים במימון ארנונה'!$I$23:$J$33,2,FALSE)*'כפר סבא'!AB11 -> 623294.75 | BC11: =VLOOKUP(BC$2,'עלויות שירותים במימון ארנונה'!$I$23:$J$33,2,FALSE)*'כפר סבא'!AC11 -> 116390.63 | BD11: =VLOOKUP(BD$2,'עלויות שירותים במימון ארנונה'!$I$23:$J$33,2,FALSE)*'כפר סבא'!AD11 -> 282719.45 | BE11: =VLOOKUP(BE$2,'עלויות שירותים במימון ארנונה'!$I$23:$J$33,2,FALSE)*'כפר סבא'!AE11 -> 443220.29 | BF11: =VLOOKUP(BF$2,'עלויות שירותים במימון ארנונה'!$I$23:$J$33,2,FALSE)*'כפר סבא'!AF11 -> 740363.44 | BG11: =VLOOKUP($AW11,'כפר סבא מסכם'!$E$29:$M$54,9,FALSE) -> 4718869 | BH11: =SUM(AX11:BG11) -> 58270042 | BI11: =BH11/W11 -> 4564.1139 | BJ11: =BH11/W11/($BH$3/$W$3) -> 1.037788 | BK11: =VLOOKUP($AW11,'כפר סבא מסכם'!$E$29:$F$54,2,) -> הזמר העברי, סביוני הכפר, סירקין, ותיקים | BL11: =BO11/BP11 -> 3272.4632 | BM11: =BL11-BI11 -> -1291.6507 | BO11: =VLOOKUP($BK11,'נתונים דירות ומבנים בכפר סבא'!$B$39:$E$64,4,FALSE) -> 10783.6 | BP11: =E11/BQ11 -> 3.2952548 | BQ11: =SUM(K11:U11)/1.95 -> 3874.359
A12: 140 | B12: 6900 | C12: כפר סבא | D12: 0031 | E12: 2752 | F12: 186 | G12: 165 | H12: 171 | I12: 165 | J12: 163 | K12: 140 | L12: 138 | M12: 160 | N12: 220 | O12: 165 | P12: 134 | Q12: 144 | R12: 187 | S12: 208 | T12: 211 | U12: 195 | V12: =W12/$E$3 -> 0.027311341 | W12: =E12 -> 2752 | X12: =ROUNDUP(F12*3/5,0) -> 112 | Y12: =ROUNDUP(F12*2/5+G12*0.25,0) -> 116 | Z12: =ROUNDUP(G12*0.75+H12*2/5,0) -> 193 | AA12: =ROUNDUP(H12*3/5,0) -> 103 | AB12: =ROUNDUP(I12*0.25,0) -> 42 | AC12: =E12-AD12-AB12-AA12-Z12-Y12-X12 -> 1572 | AD12: =S12+T12+U12 -> 614 | AE12: =SUM(X12:AB12) -> 566 | AF12: =AB12+AA12 -> 145 | AG12: =AD12/$AD$3 -> 0.032839493 | AH12: =$E12/VLOOKUP($D12*1,'כפר סבא מסכם'!$P$31:$W$55,8,FALSE) -> 10631.804 | AI12: =VLOOKUP($D12,'כפר סבא מסכם'!$E$29:$F$54,2,FALSE) -> מעוז | AJ12: =X12/$W12 -> 0.040697674 | AK12: =Y12/$W12 -> 0.042151163 | AL12: =Z12/$W12 -> 0.070130814 | AM12: =AA12/$W12 -> 0.037427326 | AN12: =AB12/$W12 -> 0.015261628 | AO12: =AC12/$W12 -> 0.57122093 | AP12: =AD12/$W12 -> 0.22311047 | AQ12: =AE12/$W12 -> 0.2056686 | AR12: =AF12/$W12 -> 0.052688953 | AS12: =SUMPRODUCT($F12:$U12,$F$31:$U$31)/E12 -> 41.188227 | AT12: =(AS12-$AS$3)/$AS$32 -> 0.86233917 | AU12: מבוגרת | AW12: =D12 -> 0031 | AX12: =VLOOKUP(AX$2,'עלויות שירותים במימון ארנונה'!$I$23:$J$33,2,FALSE)*'כפר סבא'!W12 -> 7925641.2 | AY12: =VLOOKUP(AY$2,'עלויות שירותים במימון ארנונה'!$I$23:$J$33,2,FALSE)*'כפר סבא'!Y12 -> 691914.11 | AZ12: =VLOOKUP(AZ$2,'עלויות שירותים במימון ארנונה'!$I$23:$J$33,2,FALSE)*'כפר סבא'!Z12 -> 838511.03 | BA12: =VLOOKUP(BA$2,'עלויות שירותים במימון ארנונה'!$I$23:$J$33,2,FALSE)*'כפר סבא'!AA12 -> 323914.87 | BB12: =VLOOKUP(BB$2,'עלויות שירותים במימון ארנונה'!$I$23:$J$33,2,FALSE)*'כפר סבא'!AB12 -> 147069.55 | BC12: =VLOOKUP(BC$2,'עלויות שירותים במימון ארנונה'!$I$23:$J$33,2,FALSE)*'כפר סבא'!AC12 -> 26816.074 | BD12: =VLOOKUP(BD$2,'עלויות שירותים במימון ארנונה'!$I$23:$J$33,2,FALSE)*'כפר סבא'!AD12 -> 97632.025 | BE12: =VLOOKUP(BE$2,'עלויות שירותים במימון ארנונה'!$I$23:$J$33,2,FALSE)*'כפר סבא'!AE12 -> 60216.679 | BF12: =VLOOKUP(BF$2,'עלויות שירותים במימון ארנונה'!$I$23:$J$33,2,FALSE)*'כפר סבא'!AF12 -> 125558.71 | BG12: =VLOOKUP($AW12,'כפר סבא מסכם'!$E$29:$M$54,9,FALSE) -> 1424714.7 | BH12: =SUM(AX12:BG12) -> 11661989 | BI12: =BH12/W12 -> 4237.6413 | BJ12: =BH12/W12/($BH$3/$W$3) -> 0.96355463 | BK12: =VLOOKUP($AW12,'כפר סבא מסכם'!$E$29:$F$54,2,) -> מעוז | BL12: =BO12/BP12 -> 2433.5135 | BM12: =BL12-BI12 -> -1804.1278 | BO12: =VLOOKUP($BK12,'נתונים דירות ומבנים בכפר סבא'!$B$39:$E$64,4,FALSE) -> 6866.0392 | BP12: =E12/BQ12 -> 2.8214511 | BQ12: =SUM(K12:U12)/1.95 -> 975.38462
A13: 140 | B13: 6900 | C13: כפר סבא | D13: 0032 | E13: 2626 | F13: 141 | G13: 115 | H13: 160 | I13: 183 | J13: 167 | K13: 143 | L13: 122 | M13: 149 | N13: 180 | O13: 177 | P13: 126 | Q13: 141 | R13: 170 | S13: 215 | T13: 202 | U13: 236 | V13: =W13/$E$3 -> 0.026060895 | W13: =E13 -> 2626 | X13: =ROUNDUP(F13*3/5,0) -> 85 | Y13: =ROUNDUP(F13*2/5+G13*0.25,0) -> 86 | Z13: =ROUNDUP(G13*0.75+H13*2/5,0) -> 151 | AA13: =ROUNDUP(H13*3/5,0) -> 96 | AB13: =ROUNDUP(I13*0.25,0) -> 46 | AC13: =E13-AD13-AB13-AA13-Z13-Y13-X13 -> 1509 | AD13: =S13+T13+U13 -> 653 | AE13: =SUM(X13:AB13) -> 464 | AF13: =AB13+AA13 -> 142 | AG13: =AD13/$AD$3 -> 0.034925389 | AH13: =$E13/VLOOKUP($D13*1,'כפר סבא מסכם'!$P$31:$W$55,8,FALSE) -> 5556.7429 | AI13: =VLOOKUP($D13,'כפר סבא מסכם'!$E$29:$F$54,2,FALSE) -> מעוז, אליעזר, שיכוני מזרחי | AJ13: =X13/$W13 -> 0.032368621 | AK13: =Y13/$W13 -> 0.032749429 | AL13: =Z13/$W13 -> 0.057501904 | AM13: =AA13/$W13 -> 0.036557502 | AN13: =AB13/$W13 -> 0.017517136 | AO13: =AC13/$W13 -> 0.57463823 | AP13: =AD13/$W13 -> 0.24866717 | AQ13: =AE13/$W13 -> 0.17669459 | AR13: =AF13/$W13 -> 0.054074638 | AS13: =SUMPRODUCT($F13:$U13,$F$31:$U$31)/E13 -> 42.938309 | AT13: =(AS13-$AS$3)/$AS$32 -> 1.343507 | AU13: מבוגרת מאד | AW13: =D13 -> 0032 | AX13: =VLOOKUP(AX$2,'עלויות שירותים במימון ארנונה'!$I$23:$J$33,2,FALSE)*'כפר סבא'!W13 -> 7562766.6 | AY13: =VLOOKUP(AY$2,'עלויות שירותים במימון ארנונה'!$I$23:$J$33,2,FALSE)*'כפר סבא'!Y13 -> 512970.81 | AZ13: =VLOOKUP(AZ$2,'עלויות שירותים במימון ארנונה'!$I$23:$J$33,2,FALSE)*'כפר סבא'!Z13 -> 656037.13 | BA13: =VLOOKUP(BA$2,'עלויות שירותים במימון ארנונה'!$I$23:$J$33,2,FALSE)*'כפר סבא'!AA13 -> 301901.24 | BB13: =VLOOKUP(BB$2,'עלויות שירותים במימון ארנונה'!$I$23:$J$33,2,FALSE)*'כפר סבא'!AB13 -> 161076.17 | BC13: =VLOOKUP(BC$2,'עלויות שירותים במימון ארנונה'!$I$23:$J$33,2,FALSE)*'כפר סבא'!AC13 -> 25741.384 | BD13: =VLOOKUP(BD$2,'עלויות שירותים במימון ארנונה'!$I$23:$J$33,2,FALSE)*'כפר סבא'!AD13 -> 103833.41 | BE13: =VLOOKUP(BE$2,'עלויות שירותים במימון ארנונה'!$I$23:$J$33,2,FALSE)*'כפר סבא'!AE13 -> 49364.91 | BF13: =VLOOKUP(BF$2,'עלויות שירותים במימון ארנונה'!$I$23:$J$33,2,FALSE)*'כפר סבא'!AF13 -> 122960.95 | BG13: =VLOOKUP($AW13,'כפר סבא מסכם'!$E$29:$M$54,9,FALSE) -> 1395781.6 | BH13: =SUM(AX13:BG13) -> 10892434 | BI13: =BH13/W13 -> 4147.9186 | BJ13: =BH13/W13/($BH$3/$W$3) -> 0.94315349 | BK13: =VLOOKUP($AW13,'כפר סבא מסכם'!$E$29:$F$54,2,) -> מעוז, אליעזר, שיכוני מזרחי | BL13: =BO13/BP13 -> 2495.3032 | BM13: =BL13-BI13 -> -1652.6154 | BO13: =VLOOKUP($BK13,'נתונים דירות ומבנים בכפר סבא'!$B$39:$E$64,4,FALSE) -> 6866.0392 | BP13: =E13/BQ13 -> 2.7515852 | BQ13: =SUM(K13:U13)/1.95 -> 954.35897
A14: 140 | B14: 6900 | C14: כפר סבא | D14: 0033 | E14: 2557 | F14: 175 | G14: 185 | H14: 137 | I14: 145 | J14: 150 | K14: 147 | L14: 133 | M14: 162 | N14: 173 | O14: 144 | P14: 129 | Q14: 134 | R14: 157 | S14: 198 | T14: 182 | U14: 208 | V14: =W14/$E$3 -> 0.025376126 | W14: =E14 -> 2557 | X14: =ROUNDUP(F14*3/5,0) -> 105 | Y14: =ROUNDUP(F14*2/5+G14*0.25,0) -> 117 | Z14: =ROUNDUP(G14*0.75+H14*2/5,0) -> 194 | AA14: =ROUNDUP(H14*3/5,0) -> 83 | AB14: =ROUNDUP(I14*0.25,0) -> 37 | AC14: =E14-AD14-AB14-AA14-Z14-Y14-X14 -> 1433 | AD14: =S14+T14+U14 -> 588 | AE14: =SUM(X14:AB14) -> 536 | AF14: =AB14+AA14 -> 120 | AG14: =AD14/$AD$3 -> 0.031448896 | AH14: =$E14/VLOOKUP($D14*1,'כפר סבא מסכם'!$P$31:$W$55,8,FALSE) -> 8633.73 | AI14: =VLOOKUP($D14,'כפר סבא מסכם'!$E$29:$F$54,2,FALSE) -> למפרט, פועלים ב', קרית ספיר | AJ14: =X14/$W14 -> 0.041063747 | AK14: =Y14/$W14 -> 0.045756746 | AL14: =Z14/$W14 -> 0.07587016 | AM14: =AA14/$W14 -> 0.032459914 | AN14: =AB14/$W14 -> 0.014470082 | AO14: =AC14/$W14 -> 0.56042237 | AP14: =AD14/$W14 -> 0.22995698 | AQ14: =AE14/$W14 -> 0.20962065 | AR14: =AF14/$W14 -> 0.046929996 | AS14: =SUMPRODUCT($F14:$U14,$F$31:$U$31)/E14 -> 41.140399 | AT14: =(AS14-$AS$3)/$AS$32 -> 0.84918938 | AU14: מבוגרת | AW14: =D14 -> 0033 | AX14: =VLOOKUP(AX$2,'עלויות שירותים במימון ארנונה'!$I$23:$J$33,2,FALSE)*'כפר סבא'!W14 -> 7364049.6 | AY14: =VLOOKUP(AY$2,'עלויות שירותים במימון ארנונה'!$I$23:$J$33,2,FALSE)*'כפר סבא'!Y14 -> 697878.89 | AZ14: =VLOOKUP(AZ$2,'עלויות שירותים במימון ארנונה'!$I$23:$J$33,2,FALSE)*'כפר סבא'!Z14 -> 842855.65 | BA14: =VLOOKUP(BA$2,'עלויות שירותים במימון ארנונה'!$I$23:$J$33,2,FALSE)*'כפר סבא'!AA14 -> 261018.78 | BB14: =VLOOKUP(BB$2,'עלויות שירותים במימון ארנונה'!$I$23:$J$33,2,FALSE)*'כפר סבא'!AB14 -> 129561.27 | BC14: =VLOOKUP(BC$2,'עלויות שירותים במימון ארנונה'!$I$23:$J$33,2,FALSE)*'כפר סבא'!AC14 -> 24444.933 | BD14: =VLOOKUP(BD$2,'עלויות שירותים במימון ארנונה'!$I$23:$J$33,2,FALSE)*'כפר סבא'!AD14 -> 93497.77 | BE14: =VLOOKUP(BE$2,'עלויות שירותים במימון ארנונה'!$I$23:$J$33,2,FALSE)*'כפר סבא'!AE14 -> 57024.982 | BF14: =VLOOKUP(BF$2,'עלויות שירותים במימון ארנונה'!$I$23:$J$33,2,FALSE)*'כפר סבא'!AF14 -> 103910.66 | BG14: =VLOOKUP($AW14,'כפר סבא מסכם'!$E$29:$M$54,9,FALSE) -> 1333231.2 | BH14: =SUM(AX14:BG14) -> 10907474 | BI14: =BH14/W14 -> 4265.7308 | BJ14: =BH14/W14/($BH$3/$W$3) -> 0.96994163 | BK14: =VLOOKUP($AW14,'כפר סבא מסכם'!$E$29:$F$54,2,) -> למפרט, פועלים ב', קרית ספיר | BL14: =BO14/BP14 -> 2162.8429 | BM14: =BL14-BI14 -> -2102.888 | BO14: =VLOOKUP($BK14,'נתונים דירות ומבנים בכפר סבא'!$B$39:$E$64,4,FALSE) -> 6103.146 | BP14: =E14/BQ14 -> 2.8218166 | BQ14: =SUM(K14:U14)/1.95 -> 906.15385
A15: 140 | B15: 6900 | C15: כפר סבא | D15: 0034 | E15: 3602 | F15: 290 | G15: 270 | H15: 240 | I15: 180 | J15: 174 | K15: 160 | L15: 248 | M15: 256 | N15: 263 | O15: 219 | P15: 166 | Q15: 185 | R15: 189 | S15: 265 | T15: 219 | U15: 279 | V15: =W15/$E$3 -> 0.035746894 | W15: =E15 -> 3602 | X15: =ROUNDUP(F15*3/5,0) -> 174 | Y15: =ROUNDUP(F15*2/5+G15*0.25,0) -> 184 | Z15: =ROUNDUP(G15*0.75+H15*2/5,0) -> 299 | AA15: =ROUNDUP(H15*3/5,0) -> 144 | AB15: =ROUNDUP(I15*0.25,0) -> 45 | AC15: =E15-AD15-AB15-AA15-Z15-Y15-X15 -> 1993 | AD15: =S15+T15+U15 -> 763 | AE15: =SUM(X15:AB15) -> 846 | AF15: =AB15+AA15 -> 189 | AG15: =AD15/$AD$3 -> 0.040808686 | AH15: =$E15/VLOOKUP($D15*1,'כפר סבא מסכם'!$P$31:$W$55,8,FALSE) -> 9909.8703 | AI15: =VLOOKUP($D15,'כפר סבא מסכם'!$E$29:$F$54,2,FALSE) -> הפרחים, דגניה | AJ15: =X15/$W15 -> 0.048306496 | AK15: =Y15/$W15 -> 0.051082732 | AL15: =Z15/$W15 -> 0.083009439 | AM15: =AA15/$W15 -> 0.03997779 | AN15: =AB15/$W15 -> 0.012493059 | AO15: =AC15/$W15 -> 0.55330372 | AP15: =AD15/$W15 -> 0.21182676 | AQ15: =AE15/$W15 -> 0.23486952 | AR15: =AF15/$W15 -> 0.05247085 | AS15: =SUMPRODUCT($F15:$U15,$F$31:$U$31)/E15 -> 39.747363 | AT15: =(AS15-$AS$3)/$AS$32 -> 0.46618786 | AU15: רגיל | AW15: =D15 -> 0034 | AX15: =VLOOKUP(AX$2,'עלויות שירותים במימון ארנונה'!$I$23:$J$33,2,FALSE)*'כפר סבא'!W15 -> 10373604 | AY15: =VLOOKUP(AY$2,'עלויות שירותים במימון ארנונה'!$I$23:$J$33,2,FALSE)*'כפר סבא'!Y15 -> 1097518.9 | AZ15: =VLOOKUP(AZ$2,'עלויות שירותים במימון ארנונה'!$I$23:$J$33,2,FALSE)*'כפר סבא'!Z15 -> 1299040.4 | BA15: =VLOOKUP(BA$2,'עלויות שירותים במימון ארנונה'!$I$23:$J$33,2,FALSE)*'כפר סבא'!AA15 -> 452851.86 | BB15: =VLOOKUP(BB$2,'עלויות שירותים במימון ארנונה'!$I$23:$J$33,2,FALSE)*'כפר סבא'!AB15 -> 157574.52 | BC15: =VLOOKUP(BC$2,'עלויות שירותים במימון ארנונה'!$I$23:$J$33,2,FALSE)*'כפר סבא'!AC15 -> 33997.733 | BD15: =VLOOKUP(BD$2,'עלויות שירותים במימון ארנונה'!$I$23:$J$33,2,FALSE)*'כפר סבא'!AD15 -> 121324.49 | BE15: =VLOOKUP(BE$2,'עלויות שירותים במימון ארנונה'!$I$23:$J$33,2,FALSE)*'כפר סבא'!AE15 -> 90005.848 | BF15: =VLOOKUP(BF$2,'עלויות שירותים במימון ארנונה'!$I$23:$J$33,2,FALSE)*'כפר סבא'!AF15 -> 163659.29 | BG15: =VLOOKUP($AW15,'כפר סבא מסכם'!$E$29:$M$54,9,FALSE) -> 1842778.8 | BH15: =SUM(AX15:BG15) -> 15632356 | BI15: =BH15/W15 -> 4339.9101 | BJ15: =BH15/W15/($BH$3/$W$3) -> 0.98680851 | BK15: =VLOOKUP($AW15,'כפר סבא מסכם'!$E$29:$F$54,2,) -> הפרחים, דגניה | BL15: =BO15/BP15 -> 1531.2397 | BM15: =BL15-BI15 -> -2808.6704 | BO15: =VLOOKUP($BK15,'נתונים דירות ומבנים בכפר סבא'!$B$39:$E$64,4,FALSE) -> 4391.7005 | BP15: =E15/BQ15 -> 2.8680686 | BQ15: =SUM(K15:U15)/1.95 -> 1255.8974
A16: 140 | B16: 6900 | C16: כפר סבא | D16: 0035 | E16: 2105 | F16: 122 | G16: 131 | H16: 137 | I16: 171 | J16: 104 | K16: 124 | L16: 138 | M16: 137 | N16: 132 | O16: 101 | P16: 94 | Q16: 90 | R16: 128 | S16: 162 | T16: 159 | U16: 174 | V16: =W16/$E$3 -> 0.020890397 | W16: =E16 -> 2105 | X16: =ROUNDUP(F16*3/5,0) -> 74 | Y16: =ROUNDUP(F16*2/5+G16*0.25,0) -> 82 | Z16: =ROUNDUP(G16*0.75+H16*2/5,0) -> 154 | AA16: =ROUNDUP(H16*3/5,0) -> 83 | AB16: =ROUNDUP(I16*0.25,0) -> 43 | AC16: =E16-AD16-AB16-AA16-Z16-Y16-X16 -> 1174 | AD16: =S16+T16+U16 -> 495 | AE16: =SUM(X16:AB16) -> 436 | AF16: =AB16+AA16 -> 126 | AG16: =AD16/$AD$3 -> 0.026474836 | AH16: =$E16/VLOOKUP($D16*1,'כפר סבא מסכם'!$P$31:$W$55,8,FALSE) -> 11711.752 | AI16: =VLOOKUP($D16,'כפר סבא מסכם'!$E$29:$F$54,2,FALSE) -> מרכז, ארלוזורוב | AJ16: =X16/$W16 -> 0.035154394 | AK16: =Y16/$W16 -> 0.038954869 | AL16: =Z16/$W16 -> 0.073159145 | AM16: =AA16/$W16 -> 0.039429929 | AN16: =AB16/$W16 -> 0.020427553 | AO16: =AC16/$W16 -> 0.55771971 | AP16: =AD16/$W16 -> 0.23515439 | AQ16: =AE16/$W16 -> 0.20712589 | AR16: =AF16/$W16 -> 0.059857482 | AS16: =SUMPRODUCT($F16:$U16,$F$31:$U$31)/E16 -> 40.828504 | AT16: =(AS16-$AS$3)/$AS$32 -> 0.76343685 | AU16: מבוגרת | AW16: =D16 -> 0035 | AX16: =VLOOKUP(AX$2,'עלויות שירותים במימון ארנונה'!$I$23:$J$33,2,FALSE)*'כפר סבא'!W16 -> 6062309.1 | AY16: =VLOOKUP(AY$2,'עלויות שירותים במימון ארנונה'!$I$23:$J$33,2,FALSE)*'כפר סבא'!Y16 -> 489111.7 | AZ16: =VLOOKUP(AZ$2,'עלויות שירותים במימון ארנונה'!$I$23:$J$33,2,FALSE)*'כפר סבא'!Z16 -> 669070.98 | BA16: =VLOOKUP(BA$2,'עלויות שירותים במימון ארנונה'!$I$23:$J$33,2,FALSE)*'כפר סבא'!AA16 -> 261018.78 | BB16: =VLOOKUP(BB$2,'עלויות שירותים במימון ארנונה'!$I$23:$J$33,2,FALSE)*'כפר סבא'!AB16 -> 150571.2 | BC16: =VLOOKUP(BC$2,'עלויות שירותים במימון ארנונה'!$I$23:$J$33,2,FALSE)*'כפר סבא'!AC16 -> 20026.763 | BD16: =VLOOKUP(BD$2,'עלויות שירותים במימון ארנונה'!$I$23:$J$33,2,FALSE)*'כפר סבא'!AD16 -> 78709.857 | BE16: =VLOOKUP(BE$2,'עלויות שירותים במימון ארנונה'!$I$23:$J$33,2,FALSE)*'כפר סבא'!AE16 -> 46385.993 | BF16: =VLOOKUP(BF$2,'עלויות שירותים במימון ארנונה'!$I$23:$J$33,2,FALSE)*'כפר סבא'!AF16 -> 109106.19 | BG16: =VLOOKUP($AW16,'כפר סבא מסכם'!$E$29:$M$54,9,FALSE) -> 1103473.6 | BH16: =SUM(AX16:BG16) -> 8989784.2 | BI16: =BH16/W16 -> 4270.6813 | BJ16: =BH16/W16/($BH$3/$W$3) -> 0.97106727 | BK16: =VLOOKUP($AW16,'כפר סבא מסכם'!$E$29:$F$54,2,) -> מרכז, ארלוזורוב | BL16: =BO16/BP16 -> 2139.5766 | BM16: =BL16-BI16 -> -2131.1047 | BO16: =VLOOKUP($BK16,'נתונים דירות ומבנים בכפר סבא'!$B$39:$E$64,4,FALSE) -> 6103.146 | BP16: =E16/BQ16 -> 2.8525017 | BQ16: =SUM(K16:U16)/1.95 -> 737.94872
A17: 140 | B17: 6900 | C17: כפר סבא | D17: 0036 | E17: 3355 | F17: 261 | G17: 195 | H17: 150 | I17: 152 | J17: 154 | K17: 171 | L17: 258 | M17: 226 | N17: 211 | O17: 181 | P17: 137 | Q17: 167 | R17: 231 | S17: 255 | T17: 226 | U17: 381 | V17: =W17/$E$3 -> 0.033295621 | W17: =E17 -> 3355 | X17: =ROUNDUP(F17*3/5,0) -> 157 | Y17: =ROUNDUP(F17*2/5+G17*0.25,0) -> 154 | Z17: =ROUNDUP(G17*0.75+H17*2/5,0) -> 207 | AA17: =ROUNDUP(H17*3/5,0) -> 90 | AB17: =ROUNDUP(I17*0.25,0) -> 38 | AC17: =E17-AD17-AB17-AA17-Z17-Y17-X17 -> 1847 | AD17: =S17+T17+U17 -> 862 | AE17: =SUM(X17:AB17) -> 646 | AF17: =AB17+AA17 -> 128 | AG17: =AD17/$AD$3 -> 0.046103653 | AH17: =$E17/VLOOKUP($D17*1,'כפר סבא מסכם'!$P$31:$W$55,8,FALSE) -> 22795.372 | AI17: =VLOOKUP($D17,'כפר סבא מסכם'!$E$29:$F$54,2,FALSE) -> מרכז | AJ17: =X17/$W17 -> 0.046795827 | AK17: =Y17/$W17 -> 0.045901639 | AL17: =Z17/$W17 -> 0.061698957 | AM17: =AA17/$W17 -> 0.026825633 | AN17: =AB17/$W17 -> 0.011326379 | AO17: =AC17/$W17 -> 0.55052161 | AP17: =AD17/$W17 -> 0.25692996 | AQ17: =AE17/$W17 -> 0.19254844 | AR17: =AF17/$W17 -> 0.038152012 | AS17: =SUMPRODUCT($F17:$U17,$F$31:$U$31)/E17 -> 43.060805 | AT17: =(AS17-$AS$3)/$AS$32 -> 1.3771859 | AU17: מבוגרת מאד | AW17: =D17 -> 0036 | AX17: =VLOOKUP(AX$2,'עלויות שירותים במימון ארנונה'!$I$23:$J$33,2,FALSE)*'כפר סבא'!W17 -> 9662255.1 | AY17: =VLOOKUP(AY$2,'עלויות שירותים במימון ארנונה'!$I$23:$J$33,2,FALSE)*'כפר סבא'!Y17 -> 918575.63 | AZ17: =VLOOKUP(AZ$2,'עלויות שירותים במימון ארנונה'!$I$23:$J$33,2,FALSE)*'כפר סבא'!Z17 -> 899335.66 | BA17: =VLOOKUP(BA$2,'עלויות שירותים במימון ארנונה'!$I$23:$J$33,2,FALSE)*'כפר סבא'!AA17 -> 283032.41 | BB17: =VLOOKUP(BB$2,'עלויות שירותים במימון ארנונה'!$I$23:$J$33,2,FALSE)*'כפר סבא'!AB17 -> 133062.92 | BC17: =VLOOKUP(BC$2,'עלויות שירותים במימון ארנונה'!$I$23:$J$33,2,FALSE)*'כפר סבא'!AC17 -> 31507.181 | BD17: =VLOOKUP(BD$2,'עלויות שירותים במימון ארנונה'!$I$23:$J$33,2,FALSE)*'כפר סבא'!AD17 -> 137066.46 | BE17: =VLOOKUP(BE$2,'עלויות שירותים במימון ארנונה'!$I$23:$J$33,2,FALSE)*'כפר סבא'!AE17 -> 68727.87 | BF17: =VLOOKUP(BF$2,'עלויות שירותים במימון ארנונה'!$I$23:$J$33,2,FALSE)*'כפר סבא'!AF17 -> 110838.04 | BG17: =VLOOKUP($AW17,'כפר סבא מסכם'!$E$29:$M$54,9,FALSE) -> 1798255.7 | BH17: =SUM(AX17:BG17) -> 14042657 | BI17: =BH17/W17 -> 4185.5908 | BJ17: =BH17/W17/($BH$3/$W$3) -> 0.95171938 | BK17: =VLOOKUP($AW17,'כפר סבא מסכם'!$E$29:$F$54,2,) -> מרכז | BL17: =BO17/BP17 -> 2279.9631 | BM17: =BL17-BI17 -> -1905.6276 | BO17: =VLOOKUP($BK17,'נתונים דירות ומבנים בכפר סבא'!$B$39:$E$64,4,FALSE) -> 6103.146 | BP17: =E17/BQ17 -> 2.6768617 | BQ17: =SUM(K17:U17)/1.95 -> 1253.3333
A18: 140 | B18: 6900 | C18: כפר סבא | D18: 0037 | E18: 3271 | F18: 246 | G18: 227 | H18: 192 | I18: 154 | J18: 146 | K18: 169 | L18: 206 | M18: 225 | N18: 225 | O18: 211 | P18: 144 | Q18: 147 | R18: 183 | S18: 276 | T18: 224 | U18: 294 | V18: =W18/$E$3 -> 0.03246199 | W18: =E18 -> 3271 | X18: =ROUNDUP(F18*3/5,0) -> 148 | Y18: =ROUNDUP(F18*2/5+G18*0.25,0) -> 156 | Z18: =ROUNDUP(G18*0.75+H18*2/5,0) -> 248 | AA18: =ROUNDUP(H18*3/5,0) -> 116 | AB18: =ROUNDUP(I18*0.25,0) -> 39 | AC18: =E18-AD18-AB18-AA18-Z18-Y18-X18 -> 1770 | AD18: =S18+T18+U18 -> 794 | AE18: =SUM(X18:AB18) -> 707 | AF18: =AB18+AA18 -> 155 | AG18: =AD18/$AD$3 -> 0.042466706 | AH18: =$E18/VLOOKUP($D18*1,'כפר סבא מסכם'!$P$31:$W$55,8,FALSE) -> 19483.575 | AI18: =VLOOKUP($D18,'כפר סבא מסכם'!$E$29:$F$54,2,FALSE) -> עובד בן ציון, פועלים א' | AJ18: =X18/$W18 -> 0.045246102 | AK18: =Y18/$W18 -> 0.047691837 | AL18: =Z18/$W18 -> 0.075817793 | AM18: =AA18/$W18 -> 0.035463161 | AN18: =AB18/$W18 -> 0.011922959 | AO18: =AC18/$W18 -> 0.54111892 | AP18: =AD18/$W18 -> 0.24273922 | AQ18: =AE18/$W18 -> 0.21614185 | AR18: =AF18/$W18 -> 0.04738612 | AS18: =SUMPRODUCT($F18:$U18,$F$31:$U$31)/E18 -> 41.437787 | AT18: =(AS18-$AS$3)/$AS$32 -> 0.93095318 | AU18: מבוגרת | AW18: =D18 -> 0037 | AX18: =VLOOKUP(AX$2,'עלויות שירותים במימון ארנונה'!$I$23:$J$33,2,FALSE)*'כפר סבא'!W18 -> 9420338.7 | AY18: =VLOOKUP(AY$2,'עלויות שירותים במימון ארנונה'!$I$23:$J$33,2,FALSE)*'כפר סבא'!Y18 -> 930505.18 | AZ18: =VLOOKUP(AZ$2,'עלויות שירותים במימון ארנונה'!$I$23:$J$33,2,FALSE)*'כפר סבא'!Z18 -> 1077465 | BA18: =VLOOKUP(BA$2,'עלויות שירותים במימון ארנונה'!$I$23:$J$33,2,FALSE)*'כפר סבא'!AA18 -> 364797.33 | BB18: =VLOOKUP(BB$2,'עלויות שירותים במימון ארנונה'!$I$23:$J$33,2,FALSE)*'כפר סבא'!AB18 -> 136564.58 | BC18: =VLOOKUP(BC$2,'עלויות שירותים במימון ארנונה'!$I$23:$J$33,2,FALSE)*'כפר סבא'!AC18 -> 30193.671 | BD18: =VLOOKUP(BD$2,'עלויות שירותים במימון ארנונה'!$I$23:$J$33,2,FALSE)*'כפר סבא'!AD18 -> 126253.79 | BE18: =VLOOKUP(BE$2,'עלויות שירותים במימון ארנונה'!$I$23:$J$33,2,FALSE)*'כפר סבא'!AE18 -> 75217.653 | BF18: =VLOOKUP(BF$2,'עלויות שירותים במימון ארנונה'!$I$23:$J$33,2,FALSE)*'כפר סבא'!AF18 -> 134217.93 | BG18: =VLOOKUP($AW18,'כפר סבא מסכם'!$E$29:$M$54,9,FALSE) -> 1728127.3 | BH18: =SUM(AX18:BG18) -> 14023681 | BI18: =BH18/W18 -> 4287.2764 | BJ18: =BH18/W18/($BH$3/$W$3) -> 0.97484066 | BK18: =VLOOKUP($AW18,'כפר סבא מסכם'!$E$29:$F$54,2,) -> עובד בן ציון, פועלים א' | BL18: =BO18/BP18 -> 2204.5557 | BM18: =BL18-BI18 -> -2082.7207 | BO18: =VLOOKUP($BK18,'נתונים דירות ומבנים בכפר סבא'!$B$39:$E$64,4,FALSE) -> 6103.146 | BP18: =E18/BQ18 -> 2.7684245 | BQ18: =SUM(K18:U18)/1.95 -> 1181.5385
A19: 140 | B19: 6900 | C19: כפר סבא | D19: 0041 | E19: 3531 | F19: 287 | G19: 241 | H19: 211 | I19: 172 | J19: 180 | K19: 178 | L19: 204 | M19: 254 | N19: 259 | O19: 195 | P19: 188 | Q19: 160 | R19: 206 | S19: 264 | T19: 240 | U19: 294 | V19: =W19/$E$3 -> 0.035042277 | W19: =E19 -> 3531 | X19: =ROUNDUP(F19*3/5,0) -> 173 | Y19: =ROUNDUP(F19*2/5+G19*0.25,0) -> 176 | Z19: =ROUNDUP(G19*0.75+H19*2/5,0) -> 266 | AA19: =ROUNDUP(H19*3/5,0) -> 127 | AB19: =ROUNDUP(I19*0.25,0) -> 43 | AC19: =E19-AD19-AB19-AA19-Z19-Y19-X19 -> 1948 | AD19: =S19+T19+U19 -> 798 | AE19: =SUM(X19:AB19) -> 785 | AF19: =AB19+AA19 -> 170 | AG19: =AD19/$AD$3 -> 0.042680644 | AH19: =$E19/VLOOKUP($D19*1,'כפר סבא מסכם'!$P$31:$W$55,8,FALSE) -> 20695.961 | AI19: =VLOOKUP($D19,'כפר סבא מסכם'!$E$29:$F$54,2,FALSE) -> פועלים ד', מרכז, פועלים א' | AJ19: =X19/$W19 -> 0.048994619 | AK19: =Y19/$W19 -> 0.049844237 | AL19: =Z19/$W19 -> 0.075332767 | AM19: =AA19/$W19 -> 0.035967148 | AN19: =AB19/$W19 -> 0.012177853 | AO19: =AC19/$W19 -> 0.55168508 | AP19: =AD19/$W19 -> 0.2259983 | AQ19: =AE19/$W19 -> 0.22231662 | AR19: =AF19/$W19 -> 0.048145001 | AS19: =SUMPRODUCT($F19:$U19,$F$31:$U$31)/E19 -> 40.718493 | AT19: =(AS19-$AS$3)/$AS$32 -> 0.73319063 | AU19: מבוגרת | AW19: =D19 -> 0041 | AX19: =VLOOKUP(AX$2,'עלויות שירותים במימון ארנונה'!$I$23:$J$33,2,FALSE)*'כפר סבא'!W19 -> 10169128 | AY19: =VLOOKUP(AY$2,'עלויות שירותים במימון ארנונה'!$I$23:$J$33,2,FALSE)*'כפר סבא'!Y19 -> 1049800.7 | AZ19: =VLOOKUP(AZ$2,'עלויות שירותים במימון ארנונה'!$I$23:$J$33,2,FALSE)*'כפר סבא'!Z19 -> 1155668.1 | BA19: =VLOOKUP(BA$2,'עלויות שירותים במימון ארנונה'!$I$23:$J$33,2,FALSE)*'כפר סבא'!AA19 -> 399390.18 | BB19: =VLOOKUP(BB$2,'עלויות שירותים במימון ארנונה'!$I$23:$J$33,2,FALSE)*'כפר סבא'!AB19 -> 150571.2 | BC19: =VLOOKUP(BC$2,'עלויות שירותים במימון ארנונה'!$I$23:$J$33,2,FALSE)*'כפר סבא'!AC19 -> 33230.097 | BD19: =VLOOKUP(BD$2,'עלויות שירותים במימון ארנונה'!$I$23:$J$33,2,FALSE)*'כפר סבא'!AD19 -> 126889.83 | BE19: =VLOOKUP(BE$2,'עלויות שירותים במימון ארנונה'!$I$23:$J$33,2,FALSE)*'כפר סבא'!AE19 -> 83516.065 | BF19: =VLOOKUP(BF$2,'עלויות שירותים במימון ארנונה'!$I$23:$J$33,2,FALSE)*'כפר סבא'!AF19 -> 147206.77 | BG19: =VLOOKUP($AW19,'כפר סבא מסכם'!$E$29:$M$54,9,FALSE) -> 1833519.2 | BH19: =SUM(AX19:BG19) -> 15148920 | BI19: =BH19/W19 -> 4290.2633 | BJ19: =BH19/W19/($BH$3/$W$3) -> 0.97551981 | BK19: =VLOOKUP($AW19,'כפר סבא מסכם'!$E$29:$F$54,2,) -> פועלים ד', מרכז, פועלים א' | BL19: =BO19/BP19 -> 2164.5473 | BM19: =BL19-BI19 -> -2125.7159 | BO19: =VLOOKUP($BK19,'נתונים דירות ומבנים בכפר סבא'!$B$39:$E$64,4,FALSE) -> 6103.146 | BP19: =E19/BQ19 -> 2.8195946 | BQ19: =SUM(K19:U19)/1.95 -> 1252.3077
... A23: 140 | B23: 6900 | C23: כפר סבא | D23: 0045 | E23: 2748 | F23: 233 | G23: 241 | H23: 195 | I23: 189 | J23: 154 | K23: 135 | L23: 156 | M23: 217 | N23: 205 | O23: 181 | P23: 148 | Q23: 132 | R23: 139 | S23: 176 | T23: 117 | U23: 131 | V23: =W23/$E$3 -> 0.027271645 | W23: =E23 -> 2748 | X23: =ROUNDUP(F23*3/5,0) -> 140 | Y23: =ROUNDUP(F23*2/5+G23*0.25,0) -> 154 | Z23: =ROUNDUP(G23*0.75+H23*2/5,0) -> 259 | AA23: =ROUNDUP(H23*3/5,0) -> 117 | AB23: =ROUNDUP(I23*0.25,0) -> 48 | AC23: =E23-AD23-AB23-AA23-Z23-Y23-X23 -> 1606 | AD23: =S23+T23+U23 -> 424 | AE23: =SUM(X23:AB23) -> 718 | AF23: =AB23+AA23 -> 165 | AG23: =AD23/$AD$3 -> 0.022677435 | AH23: =$E23/VLOOKUP($D23*1,'כפר סבא מסכם'!$P$31:$W$55,8,FALSE) -> 5600.9963 | AI23: =VLOOKUP($D23,'כפר סבא מסכם'!$E$29:$F$54,2,FALSE) -> חלוצים, גאולים, ראשונים | AJ23: =X23/$W23 -> 0.050946143 | AK23: =Y23/$W23 -> 0.056040757 | AL23: =Z23/$W23 -> 0.094250364 | AM23: =AA23/$W23 -> 0.042576419 | AN23: =AB23/$W23 -> 0.017467249 | AO23: =AC23/$W23 -> 0.58442504 | AP23: =AD23/$W23 -> 0.15429403 | AQ23: =AE23/$W23 -> 0.26128093 | AR23: =AF23/$W23 -> 0.060043668 | AS23: =SUMPRODUCT($F23:$U23,$F$31:$U$31)/E23 -> 36.403566 | AT23: =(AS23-$AS$3)/$AS$32 -> -0.45315577 | AU23: רגיל | AW23: =D23 -> 0045 | AX23: =VLOOKUP(AX$2,'עלויות שירותים במימון ארנונה'!$I$23:$J$33,2,FALSE)*'כפר סבא'!W23 -> 7914121.3 | AY23: =VLOOKUP(AY$2,'עלויות שירותים במימון ארנונה'!$I$23:$J$33,2,FALSE)*'כפר סבא'!Y23 -> 918575.63 | AZ23: =VLOOKUP(AZ$2,'עלויות שירותים במימון ארנונה'!$I$23:$J$33,2,FALSE)*'כפר סבא'!Z23 -> 1125255.7 | BA23: =VLOOKUP(BA$2,'עלויות שירותים במימון ארנונה'!$I$23:$J$33,2,FALSE)*'כפר סבא'!AA23 -> 367942.14 | BB23: =VLOOKUP(BB$2,'עלויות שירותים במימון ארנונה'!$I$23:$J$33,2,FALSE)*'כפר סבא'!AB23 -> 168079.48 | BC23: =VLOOKUP(BC$2,'עלויות שירותים במימון ארנונה'!$I$23:$J$33,2,FALSE)*'כפר סבא'!AC23 -> 27396.066 | BD23: =VLOOKUP(BD$2,'עלויות שירותים במימון ארנונה'!$I$23:$J$33,2,FALSE)*'כפר סבא'!AD23 -> 67420.161 | BE23: =VLOOKUP(BE$2,'עלויות שירותים במימון ארנונה'!$I$23:$J$33,2,FALSE)*'כפר סבא'!AE23 -> 76387.942 | BF23: =VLOOKUP(BF$2,'עלויות שירותים במימון ארנונה'!$I$23:$J$33,2,FALSE)*'כפר סבא'!AF23 -> 142877.16 | BG23: =VLOOKUP($AW23,'כפר סבא מסכם'!$E$29:$M$54,9,FALSE) -> 1320365.3 | BH23: =SUM(AX23:BG23) -> 12128421 | BI23: =BH23/W23 -> 4413.5447 | BJ23: =BH23/W23/($BH$3/$W$3) -> 1.0035515 | BK23: =VLOOKUP($AW23,'כפר סבא מסכם'!$E$29:$F$54,2,) -> חלוצים, גאולים, ראשונים | BL23: =BO23/BP23 -> 2566.5029 | BM23: =BL23-BI23 -> -1847.0418 | BO23: =VLOOKUP($BK23,'נתונים דירות ומבנים בכפר סבא'!$B$39:$E$64,4,FALSE) -> 7917.5951 | BP23: =E23/BQ23 -> 3.0849741 | BQ23: =SUM(K23:U23)/1.95 -> 890.76923
A24: 140 | B24: 6900 | C24: כפר סבא | D24: 0051 | E24: 4601 | F24: 310 | G24: 329 | H24: 289 | I24: 221 | J24: 240 | K24: 228 | L24: 277 | M24: 293 | N24: 310 | O24: 283 | P24: 187 | Q24: 243 | R24: 297 | S24: 417 | T24: 321 | U24: 355 | V24: =W24/$E$3 -> 0.045661149 | W24: =E24 -> 4601 | X24: =ROUNDUP(F24*3/5,0) -> 186 | Y24: =ROUNDUP(F24*2/5+G24*0.25,0) -> 207 | Z24: =ROUNDUP(G24*0.75+H24*2/5,0) -> 363 | AA24: =ROUNDUP(H24*3/5,0) -> 174 | AB24: =ROUNDUP(I24*0.25,0) -> 56 | AC24: =E24-AD24-AB24-AA24-Z24-Y24-X24 -> 2522 | AD24: =S24+T24+U24 -> 1093 | AE24: =SUM(X24:AB24) -> 986 | AF24: =AB24+AA24 -> 230 | AG24: =AD24/$AD$3 -> 0.058458576 | AH24: =$E24/VLOOKUP($D24*1,'כפר סבא מסכם'!$P$31:$W$55,8,FALSE) -> 18979.066 | AI24: =VLOOKUP($D24,'כפר סבא מסכם'!$E$29:$F$54,2,FALSE) -> מרכז | AJ24: =X24/$W24 -> 0.040425994 | AK24: =Y24/$W24 -> 0.04499022 | AL24: =Z24/$W24 -> 0.078895892 | AM24: =AA24/$W24 -> 0.037817866 | AN24: =AB24/$W24 -> 0.012171267 | AO24: =AC24/$W24 -> 0.54814171 | AP24: =AD24/$W24 -> 0.23755705 | AQ24: =AE24/$W24 -> 0.21430124 | AR24: =AF24/$W24 -> 0.049989133 | AS24: =SUMPRODUCT($F24:$U24,$F$31:$U$31)/E24 -> 41.387742 | AT24: =(AS24-$AS$3)/$AS$32 -> 0.91719385 | AU24: מבוגרת | AW24: =D24 -> 0051 | AX24: =VLOOKUP(AX$2,'עלויות שירותים במימון ארנונה'!$I$23:$J$33,2,FALSE)*'כפר סבא'!W24 -> 13250681 | AY24: =VLOOKUP(AY$2,'עלויות שירותים במימון ארנונה'!$I$23:$J$33,2,FALSE)*'כפר סבא'!Y24 -> 1234708.8 | AZ24: =VLOOKUP(AZ$2,'עלויות שירותים במימון ארנונה'!$I$23:$J$33,2,FALSE)*'כפר סבא'!Z24 -> 1577095.9 | BA24: =VLOOKUP(BA$2,'עלויות שירותים במימון ארנונה'!$I$23:$J$33,2,FALSE)*'כפר סבא'!AA24 -> 547196 | BB24: =VLOOKUP(BB$2,'עלויות שירותים במימון ארנונה'!$I$23:$J$33,2,FALSE)*'כפר סבא'!AB24 -> 196092.73 | BC24: =VLOOKUP(BC$2,'עלויות שירותים במימון ארנונה'!$I$23:$J$33,2,FALSE)*'כפר סבא'!AC24 -> 43021.717 | BD24: =VLOOKUP(BD$2,'עלויות שירותים במימון ארנונה'!$I$23:$J$33,2,FALSE)*'כפר סבא'!AD24 -> 173797.73 | BE24: =VLOOKUP(BE$2,'עלויות שירותים במימון ארנונה'!$I$23:$J$33,2,FALSE)*'כפר סבא'!AE24 -> 104900.43 | BF24: =VLOOKUP(BF$2,'עלויות שירותים במימון ארנונה'!$I$23:$J$33,2,FALSE)*'כפר סבא'!AF24 -> 199162.1 | BG24: =VLOOKUP($AW24,'כפר סבא מסכם'!$E$29:$M$54,9,FALSE) -> 2417894.4 | BH24: =SUM(AX24:BG24) -> 19744551 | BI24: =BH24/W24 -> 4291.3608 | BJ24: =BH24/W24/($BH$3/$W$3) -> 0.97576937 | BK24: =VLOOKUP($AW24,'כפר סבא מסכם'!$E$29:$F$54,2,) -> מרכז | BL24: =BO24/BP24 -> 1571.7598 | BM24: =BL24-BI24 -> -2719.601 | BO24: ='נתונים דירות ומבנים בכפר סבא'!E59 -> 4391.7005 | BP24: =E24/BQ24 -> 2.7941296 | BQ24: =SUM(K24:U24)/1.95 -> 1646.6667
A25: 140 | B25: 6900 | C25: כפר סבא | D25: 0052 | E25: 3154 | F25: 186 | G25: 192 | H25: 142 | I25: 152 | J25: 189 | K25: 195 | L25: 196 | M25: 204 | N25: 175 | O25: 164 | P25: 154 | Q25: 159 | R25: 195 | S25: 328 | T25: 218 | U25: 305 | V25: =W25/$E$3 -> 0.031300861 | W25: =E25 -> 3154 | X25: =ROUNDUP(F25*3/5,0) -> 112 | Y25: =ROUNDUP(F25*2/5+G25*0.25,0) -> 123 | Z25: =ROUNDUP(G25*0.75+H25*2/5,0) -> 201 | AA25: =ROUNDUP(H25*3/5,0) -> 86 | AB25: =ROUNDUP(I25*0.25,0) -> 38 | AC25: =E25-AD25-AB25-AA25-Z25-Y25-X25 -> 1743 | AD25: =S25+T25+U25 -> 851 | AE25: =SUM(X25:AB25) -> 560 | AF25: =AB25+AA25 -> 124 | AG25: =AD25/$AD$3 -> 0.045515323 | AH25: =$E25/VLOOKUP($D25*1,'כפר סבא מסכם'!$P$31:$W$55,8,FALSE) -> 19001.832 | AI25: =VLOOKUP($D25,'כפר סבא מסכם'!$E$29:$F$54,2,FALSE) -> קרית ספיר | AJ25: =X25/$W25 -> 0.035510463 | AK25: =Y25/$W25 -> 0.038998098 | AL25: =Z25/$W25 -> 0.063728599 | AM25: =AA25/$W25 -> 0.027266963 | AN25: =AB25/$W25 -> 0.012048193 | AO25: =AC25/$W25 -> 0.55263158 | AP25: =AD25/$W25 -> 0.26981611 | AQ25: =AE25/$W25 -> 0.17755231 | AR25: =AF25/$W25 -> 0.039315155 | AS25: =SUMPRODUCT($F25:$U25,$F$31:$U$31)/E25 -> 43.322448 | AT25: =(AS25-$AS$3)/$AS$32 -> 1.449122 | AU25: מבוגרת מאד | AW25: =D25 -> 0052 | AX25: =VLOOKUP(AX$2,'עלויות שירותים במימון ארנונה'!$I$23:$J$33,2,FALSE)*'כפר סבא'!W25 -> 9083383.8 | AY25: =VLOOKUP(AY$2,'עלויות שירותים במימון ארנונה'!$I$23:$J$33,2,FALSE)*'כפר סבא'!Y25 -> 733667.55 | AZ25: =VLOOKUP(AZ$2,'עלויות שירותים במימון ארנונה'!$I$23:$J$33,2,FALSE)*'כפר סבא'!Z25 -> 873267.96 | BA25: =VLOOKUP(BA$2,'עלויות שירותים במימון ארנונה'!$I$23:$J$33,2,FALSE)*'כפר סבא'!AA25 -> 270453.2 | BB25: =VLOOKUP(BB$2,'עלויות שירותים במימון ארנונה'!$I$23:$J$33,2,FALSE)*'כפר סבא'!AB25 -> 133062.92 | BC25: =VLOOKUP(BC$2,'עלויות שירותים במימון ארנונה'!$I$23:$J$33,2,FALSE)*'כפר סבא'!AC25 -> 29733.09 | BD25: =VLOOKUP(BD$2,'עלויות שירותים במימון ארנונה'!$I$23:$J$33,2,FALSE)*'כפר סבא'!AD25 -> 135317.35 | BE25: =VLOOKUP(BE$2,'עלויות שירותים במימון ארנונה'!$I$23:$J$33,2,FALSE)*'כפר סבא'!AE25 -> 59578.339 | BF25: =VLOOKUP(BF$2,'עלויות שירותים במימון ארנונה'!$I$23:$J$33,2,FALSE)*'כפר סבא'!AF25 -> 107374.35 | BG25: =VLOOKUP($AW25,'כפר סבא מסכם'!$E$29:$M$54,9,FALSE) -> 1712502.9 | BH25: =SUM(AX25:BG25) -> 13138341 | BI25: =BH25/W25 -> 4165.6124 | BJ25: =BH25/W25/($BH$3/$W$3) -> 0.9471767 | BK25: =VLOOKUP($AW25,'כפר סבא מסכם'!$E$29:$F$54,2,) -> קרית ספיר | BL25: =BO25/BP25 -> 2559.8472 | BM25: =BL25-BI25 -> -1605.7652 | BO25: =VLOOKUP($BK25,'נתונים דירות ומבנים בכפר סבא'!$B$39:$E$64,4,FALSE) -> 6866.0392 | BP25: =E25/BQ25 -> 2.6822067 | BQ25: =SUM(K25:U25)/1.95 -> 1175.8974
A26: 140 | B26: 6900 | C26: כפר סבא | D26: 0053 | E26: 3300 | F26: 200 | G26: 185 | H26: 179 | I26: 185 | J26: 194 | K26: 194 | L26: 195 | M26: 186 | N26: 182 | O26: 200 | P26: 187 | Q26: 206 | R26: 214 | S26: 286 | T26: 227 | U26: 281 | V26: =W26/$E$3 -> 0.032749792 | W26: =E26 -> 3300 | X26: =ROUNDUP(F26*3/5,0) -> 120 | Y26: =ROUNDUP(F26*2/5+G26*0.25,0) -> 127 | Z26: =ROUNDUP(G26*0.75+H26*2/5,0) -> 211 | AA26: =ROUNDUP(H26*3/5,0) -> 108 | AB26: =ROUNDUP(I26*0.25,0) -> 47 | AC26: =E26-AD26-AB26-AA26-Z26-Y26-X26 -> 1893 | AD26: =S26+T26+U26 -> 794 | AE26: =SUM(X26:AB26) -> 613 | AF26: =AB26+AA26 -> 155 | AG26: =AD26/$AD$3 -> 0.042466706 | AH26: =$E26/VLOOKUP($D26*1,'כפר סבא מסכם'!$P$31:$W$55,8,FALSE) -> 9090.4082 | AI26: =VLOOKUP($D26,'כפר סבא מסכם'!$E$29:$F$54,2,FALSE) -> שיכוני מזרחי | AJ26: =X26/$W26 -> 0.036363636 | AK26: =Y26/$W26 -> 0.038484848 | AL26: =Z26/$W26 -> 0.063939394 | AM26: =AA26/$W26 -> 0.032727273 | AN26: =AB26/$W26 -> 0.014242424 | AO26: =AC26/$W26 -> 0.57363636 | AP26: =AD26/$W26 -> 0.24060606 | AQ26: =AE26/$W26 -> 0.18575758 | AR26: =AF26/$W26 -> 0.046969697 | AS26: =SUMPRODUCT($F26:$U26,$F$31:$U$31)/E26 -> 42.552424 | AT26: =(AS26-$AS$3)/$AS$32 -> 1.2374117 | AU26: מבוגרת מאד | AW26: =D26 -> 0053 | AX26: =VLOOKUP(AX$2,'עלויות שירותים במימון ארנונה'!$I$23:$J$33,2,FALSE)*'כפר סבא'!W26 -> 9503857.5 | AY26: =VLOOKUP(AY$2,'עלויות שירותים במימון ארנונה'!$I$23:$J$33,2,FALSE)*'כפר סבא'!Y26 -> 757526.66 | AZ26: =VLOOKUP(AZ$2,'עלויות שירותים במימון ארנונה'!$I$23:$J$33,2,FALSE)*'כפר סבא'!Z26 -> 916714.13 | BA26: =VLOOKUP(BA$2,'עלויות שירותים במימון ארנונה'!$I$23:$J$33,2,FALSE)*'כפר סבא'!AA26 -> 339638.9 | BB26: =VLOOKUP(BB$2,'עלויות שירותים במימון ארנונה'!$I$23:$J$33,2,FALSE)*'כפר סבא'!AB26 -> 164577.83 | BC26: =VLOOKUP(BC$2,'עלויות שירותים במימון ארנונה'!$I$23:$J$33,2,FALSE)*'כפר סבא'!AC26 -> 32291.876 | BD26: =VLOOKUP(BD$2,'עלויות שירותים במימון ארנונה'!$I$23:$J$33,2,FALSE)*'כפר סבא'!AD26 -> 126253.79 | BE26: =VLOOKUP(BE$2,'עלויות שירותים במימון ארנונה'!$I$23:$J$33,2,FALSE)*'כפר סבא'!AE26 -> 65217.004 | BF26: =VLOOKUP(BF$2,'עלויות שירותים במימון ארנונה'!$I$23:$J$33,2,FALSE)*'כפר סבא'!AF26 -> 134217.93 | BG26: =VLOOKUP($AW26,'כפר סבא מסכם'!$E$29:$M$54,9,FALSE) -> 1739641.3 | BH26: =SUM(AX26:BG26) -> 13779937 | BI26: =BH26/W26 -> 4175.7384 | BJ26: =BH26/W26/($BH$3/$W$3) -> 0.94947916 | BK26: =VLOOKUP($AW26,'כפר סבא מסכם'!$E$29:$F$54,2,) -> שיכוני מזרחי | BL26: =BO26/BP26 -> 3428.9314 | BM26: =BL26-BI26 -> -746.80703 | BO26: =VLOOKUP($BK26,'נתונים דירות ומבנים בכפר סבא'!$B$39:$E$64,4,FALSE) -> 9357.58 | BP26: =E26/BQ26 -> 2.7290076 | BQ26: =SUM(K26:U26)/1.95 -> 1209.2308
A27: 140 | B27: 6900 | C27: כפר סבא | D27: 0054 | E27: 3349 | F27: 260 | G27: 231 | H27: 222 | I27: 184 | J27: 221 | K27: 200 | L27: 230 | M27: 202 | N27: 241 | O27: 191 | P27: 192 | Q27: 164 | R27: 199 | S27: 244 | T27: 177 | U27: 192 | V27: =W27/$E$3 -> 0.033236076 | W27: =E27 -> 3349 | X27: =ROUNDUP(F27*3/5,0) -> 156 | Y27: =ROUNDUP(F27*2/5+G27*0.25,0) -> 162 | Z27: =ROUNDUP(G27*0.75+H27*2/5,0) -> 263 | AA27: =ROUNDUP(H27*3/5,0) -> 134 | AB27: =ROUNDUP(I27*0.25,0) -> 46 | AC27: =E27-AD27-AB27-AA27-Z27-Y27-X27 -> 1975 | AD27: =S27+T27+U27 -> 613 | AE27: =SUM(X27:AB27) -> 761 | AF27: =AB27+AA27 -> 180 | AG27: =AD27/$AD$3 -> 0.032786008 | AH27: =$E27/VLOOKUP($D27*1,'כפר סבא מסכם'!$P$31:$W$55,8,FALSE) -> 11839.779 | AI27: =VLOOKUP($D27,'כפר סבא מסכם'!$E$29:$F$54,2,FALSE) -> דובדבן הכפר, מוצקין, כיסופים | AJ27: =X27/$W27 -> 0.046581069 | AK27: =Y27/$W27 -> 0.048372649 | AL27: =Z27/$W27 -> 0.078530905 | AM27: =AA27/$W27 -> 0.040011944 | AN27: =AB27/$W27 -> 0.013735443 | AO27: =AC27/$W27 -> 0.58972828 | AP27: =AD27/$W27 -> 0.18303971 | AQ27: =AE27/$W27 -> 0.22723201 | AR27: =AF27/$W27 -> 0.053747387 | AS27: =SUMPRODUCT($F27:$U27,$F$31:$U$31)/E27 -> 38.543446 | AT27: =(AS27-$AS$3)/$AS$32 -> 0.13518289 | AU27: רגיל | AW27: =D27 -> 0054 | AX27: =VLOOKUP(AX$2,'עלויות שירותים במימון ארנונה'!$I$23:$J$33,2,FALSE)*'כפר סבא'!W27 -> 9644975.4 | AY27: =VLOOKUP(AY$2,'עלויות שירותים במימון ארנונה'!$I$23:$J$33,2,FALSE)*'כפר סבא'!Y27 -> 966293.84 | AZ27: =VLOOKUP(AZ$2,'עלויות שירותים במימון ארנונה'!$I$23:$J$33,2,FALSE)*'כפר סבא'!Z27 -> 1142634.2 | BA27: =VLOOKUP(BA$2,'עלויות שירותים במימון ארנונה'!$I$23:$J$33,2,FALSE)*'כפר סבא'!AA27 -> 421403.82 | BB27: =VLOOKUP(BB$2,'עלויות שירותים במימון ארנונה'!$I$23:$J$33,2,FALSE)*'כפר סבא'!AB27 -> 161076.17 | BC27: =VLOOKUP(BC$2,'עלויות שירותים במימון ארנונה'!$I$23:$J$33,2,FALSE)*'כפר סבא'!AC27 -> 33690.679 | BD27: =VLOOKUP(BD$2,'עלויות שירותים במימון ארנונה'!$I$23:$J$33,2,FALSE)*'כפר סבא'!AD27 -> 97473.015 | BE27: =VLOOKUP(BE$2,'עלויות שירותים במימון ארנונה'!$I$23:$J$33,2,FALSE)*'כפר סבא'!AE27 -> 80962.708 | BF27: =VLOOKUP(BF$2,'עלויות שירותים במימון ארנונה'!$I$23:$J$33,2,FALSE)*'כפר סבא'!AF27 -> 155865.99 | BG27: =VLOOKUP($AW27,'כפר סבא מסכם'!$E$29:$M$54,9,FALSE) -> 1723795.9 | BH27: =SUM(AX27:BG27) -> 14428172 | BI27: =BH27/W27 -> 4308.2029 | BJ27: =BH27/W27/($BH$3/$W$3) -> 0.97959893 | BK27: =VLOOKUP($AW27,'כפר סבא מסכם'!$E$29:$F$54,2,) -> דובדבן הכפר, מוצקין, כיסופים | BL27: =BO27/BP27 -> 1362.2769 | BM27: =BL27-BI27 -> -2945.9261 | BO27: =VLOOKUP($BK27,'נתונים דירות ומבנים בכפר סבא'!$B$39:$E$64,4,FALSE) -> 3985.85 | BP27: =E27/BQ27 -> 2.9258737 | BQ27: =SUM(K27:U27)/1.95 -> 1144.6154
A28: 140 | B28: 6900 | C28: כפר סבא | D28: 0055 | E28: 3235 | F28: 224 | G28: 243 | H28: 267 | I28: 223 | J28: 172 | K28: 160 | L28: 175 | M28: 214 | N28: 241 | O28: 175 | P28: 151 | Q28: 150 | R28: 196 | S28: 229 | T28: 202 | U28: 213 | V28: =W28/$E$3 -> 0.03210472 | W28: =E28 -> 3235 | X28: =ROUNDUP(F28*3/5,0) -> 135 | Y28: =ROUNDUP(F28*2/5+G28*0.25,0) -> 151 | Z28: =ROUNDUP(G28*0.75+H28*2/5,0) -> 290 | AA28: =ROUNDUP(H28*3/5,0) -> 161 | AB28: =ROUNDUP(I28*0.25,0) -> 56 | AC28: =E28-AD28-AB28-AA28-Z28-Y28-X28 -> 1798 | AD28: =S28+T28+U28 -> 644 | AE28: =SUM(X28:AB28) -> 793 | AF28: =AB28+AA28 -> 217 | AG28: =AD28/$AD$3 -> 0.034444028 | AH28: =$E28/VLOOKUP($D28*1,'כפר סבא מסכם'!$P$31:$W$55,8,FALSE) -> 14041.347 | AI28: =VLOOKUP($D28,'כפר סבא מסכם'!$E$29:$F$54,2,FALSE) -> מזרחי א', מרכז | AJ28: =X28/$W28 -> 0.041731066 | AK28: =Y28/$W28 -> 0.046676971 | AL28: =Z28/$W28 -> 0.089644513 | AM28: =AA28/$W28 -> 0.049768161 | AN28: =AB28/$W28 -> 0.017310665 | AO28: =AC28/$W28 -> 0.55579598 | AP28: =AD28/$W28 -> 0.19907264 | AQ28: =AE28/$W28 -> 0.24513138 | AR28: =AF28/$W28 -> 0.067078825 | AS28: =SUMPRODUCT($F28:$U28,$F$31:$U$31)/E28 -> 38.781144 | AT28: =(AS28-$AS$3)/$AS$32 -> 0.20053558 | AU28: רגיל | AW28: =D28 -> 0055 | AX28: =VLOOKUP(AX$2,'עלויות שירותים במימון ארנונה'!$I$23:$J$33,2,FALSE)*'כפר סבא'!W28 -> 9316660.3 | AY28: =VLOOKUP(AY$2,'עלויות שירותים במימון ארנונה'!$I$23:$J$33,2,FALSE)*'כפר סבא'!Y28 -> 900681.3 | AZ28: =VLOOKUP(AZ$2,'עלויות שירותים במימון ארנונה'!$I$23:$J$33,2,FALSE)*'כפר סבא'!Z28 -> 1259938.9 | BA28: =VLOOKUP(BA$2,'עלויות שירותים במימון ארנונה'!$I$23:$J$33,2,FALSE)*'כפר סבא'!AA28 -> 506313.54 | BB28: =VLOOKUP(BB$2,'עלויות שירותים במימון ארנונה'!$I$23:$J$33,2,FALSE)*'כפר סבא'!AB28 -> 196092.73 | BC28: =VLOOKUP(BC$2,'עלויות שירותים במימון ארנונה'!$I$23:$J$33,2,FALSE)*'כפר סבא'!AC28 -> 30671.311 | BD28: =VLOOKUP(BD$2,'עלויות שירותים במימון ארנונה'!$I$23:$J$33,2,FALSE)*'כפר סבא'!AD28 -> 102402.32 | BE28: =VLOOKUP(BE$2,'עלויות שירותים במימון ארנונה'!$I$23:$J$33,2,FALSE)*'כפר סבא'!AE28 -> 84367.184 | BF28: =VLOOKUP(BF$2,'עלויות שירותים במימון ארנונה'!$I$23:$J$33,2,FALSE)*'כפר סבא'!AF28 -> 187905.11 | BG28: =VLOOKUP($AW28,'כפר סבא מסכם'!$E$29:$M$54,9,FALSE) -> 1336991.2 | BH28: =SUM(AX28:BG28) -> 13922024 | BI28: =BH28/W28 -> 4303.5623 | BJ28: =BH28/W28/($BH$3/$W$3) -> 0.97854373 | BK28: =VLOOKUP($AW28,'כפר סבא מסכם'!$E$29:$F$54,2,) -> מזרחי א', מרכז | BL28: =BO28/BP28 -> 1330.6702 | BM28: =BL28-BI28 -> -2972.8921 | BO28: =VLOOKUP($BK28,'נתונים דירות ומבנים בכפר סבא'!$B$39:$E$64,4,FALSE) -> 3985.85 | BP28: =E28/BQ28 -> 2.9953704 | BQ28: =SUM(K28:U28)/1.95 -> 1080
